{"text_format":"1","workbook":"xlsx","n_sheets":26,"sheets":["CMFs","Helper","Traffic","Versioning","Constraints","Roadside","Construction","Definitions","Start Here","Reporting_0","Reporting","Configuration 1","Configuration 2","Configuration 3","Configuration 4","Configuration 5","Configuration 6","Configuration 7","Configuration 8","Configuration 9","Configuration 10","Configuration 11","Configuration 12","Configuration 13","Configuration 14","Configuration 15"],"not_rendered":{"charts":15,"images":16,"macros":0,"external_links":4,"defined_names":81,"comments":1,"pivot_tables":0},"unopened":[],"bounds":{"document_bytes":16777216,"sheet_cells":100000,"rows_first":2000,"rows_last":500,"rows_between":2000,"halvings":0,"cell_chars":16384,"cell_head_chars":4096},"cells_cut":0,"cells_raw":0,"read":"whole","date_system":"1900"}

{"sheet":"CMFs","index":0,"n_rows":21,"n_cols":13,"rows_kept":21,"cut":false,"hidden":true,"merged":[]}
[]
[]
[]
[]
[]
[]
[]
[]
[]
[]
[]
[]
[]
[]
[]
[]
[null,null,"518 (Install Continuous Turn Lane)","Introduce TWLTL (two-way left turn lanes)",null,0.71,"All","All","583, 1285, 2337, 2338, 2339, 2340, 2341, 2352, 2354, 2356, 2358","This is a TTI Meta-Analysis Result."]
[]
[]
[]
[null,null,null,"Provide Passing or Climbing Lane in One Direction",null,0.75,"All","All",null,"Rural Two-Lane; Texas Report",null,null,"Roadway Safety Design Workbook (pg 3-25)"]

{"sheet":"Helper","index":1,"n_rows":17,"n_cols":10,"rows_kept":17,"cut":false,"hidden":true,"merged":[]}
[null,"SkidNums",null,"Passing_Lane_Type","PassLNCMF",null,null,"HCurveChange",null,"VCurveChange"]
[null,"Hot Mix – 37",null,"No Passing Lane",1,null,null,"Yes.",null,"Yes."]
[null,"Seal Coat – 54",null,"Passing or Climbing Lane in One Direction",0.75,"See CMF Tab",null,"No, I will change the L/R.",null,"No, I will change the G/L."]
[null,"No Change",null,"Super 2",0.65,"See Park et al. 2012"]
[]
[]
[]
[]
[]
[]
[null,null,"ModView"]
[null,null,"Existing"]
[null,null,"Standard"]
[null,null,"Design 1"]
[null,null,"Design 2"]
[null,null,"HolderNone"]
[null,null,"Optimal"]

{"sheet":"Traffic","index":2,"n_rows":72,"n_cols":11,"rows_kept":72,"cut":false,"hidden":true,"merged":[]}
[]
["Category","No.","Name of Countermeasure","Workcode Number (Name)","Countermeasure Name","Recommended CMF","Target Crash Type","Crash Severity","Note","CMFClearinghouse ID","Study"]
["Signs",1,"Hazard Warning (Crash Warning Sign)","101 (Install Warning/Guide Signs)","Install changeable crash ahead warning signs",0.56000000000000005,"All","ABC","in Urban area. (Meta-Ana. Method)",75,"Handbook of Road Safety Measures"]
[null,2,"Curve Warning","123 (Install Advance Curve Warning Signals – Existing Warning Signs)","Advance static curve warning signs",0.7,"All","ABC","Not specified (Meta-Ana. Method)",71,"Handbook of Road Safety Measures"]
[null,3,"Chevrons","137 (Install Chevrons on Curve)"]
[null,null,null,null,"Install chevron signs on horizontal curves",0.96,"Non-intersection","All","Rural Two-Lane",2436,"Safety Evaluation of Improved Curve Delineation"]
[null,null,null,null,"Install chevron signs on horizontal curves",0.94,"Head on,Non-intersection,Run off road,Sideswipe","All","Rural Two-Lane",2437,"Safety Evaluation of Improved Curve Delineation"]
[null,null,null,null,"Install chevron signs on horizontal curves",0.84,"Non-intersection","KABC","Rural Two-Lane",2438,"Safety Evaluation of Improved Curve Delineation"]
[null,null,null,null,"Install chevron signs on horizontal curves",0.75,"Nighttime,Non-intersection","All","Rural Two-Lane",2439,"Safety Evaluation of Improved Curve Delineation"]
[null,null,null,null,"Install chevron signs on horizontal curves",0.78,"Head on,Nighttime,Non-intersection,Run off road,Sideswipe","All","Rural Two-Lane",2440,"Safety Evaluation of Improved Curve Delineation"]
[null,4,"Delineators","113 (Install Delineators)"]
[null,null,null,null,"Install post-mounted delineators",0.85,"Run off road","All","Rural Two-Lane (Regression Model Method)",9727,"Estimating Crash Modification Factors for Lane Departure Countermeasures in Kansas"]
[null,null,null,null,"Install post-mounted delineators",0.9,"Run off road","KABC","Rural Two-Lane (Regression Model Method)",9728,"Estimating Crash Modification Factors for Lane Departure Countermeasures in Kansas"]
[null,5,"Multiple Curve Treatment Combination","123 (Install Advance Curve Warning Signals – Existing Warning Signs)\n125 (Install Advance Curve Warning Signals and Signs)\n136 (Install LED Flashing Chevrons on Curve)\n137 (Install Chevrons on Curve)","Install chevron signs, curve warning signs, and sequential flashing beacons",0.52,"Run off road","All","Freeway",1919,"Safety Evaluation of Curve Delineation Improvements An Empirical Bayes Observational Before-After Study"]
["Markings",6,"Centerline Marking","404 (Install Centerline Striping)"]
[null,null,null,null,"Place centerline markings",0.99,"All","ABC","Rural Two-Lane (Meta-Ana. Method)",87,"Handbook of Road Safety Measures"]
[null,null,null,null,"Place centerline markings",1.01,"All","PDO","Rural Two-Lane (Meta-Ana. Method)",88,"Handbook of Road Safety Measures"]
[null,7,"Edgeline Marking","402 (Install Edge Marking)","Install edgeline pavement markings on narrow, rural, two-lane roads",0.85,"All","All","Rural Two-Lane",5646,"Investigating Safety Impact of Edge Line on Narrow Rural 2-lane Highways by Empirical Bayes Method"]
[null,8,"Profile Pavement Markings (Both CL&EL)","543 (Profile Centerline Markings)\n533 (Profile Edgeline Markings)"]
[null,null,null,null,"Install alternative audible lane departure warning treatments",0.79,"Head on,Run off road,Sideswipe","All","Rural Two-Lane Texas",9716,"Safety Evaluation of Alternative Audible Lane Departure Warning Treatments in Reducing Traffic Crashes: an Empirical Bayes Observational Before-After Study"]
[null,null,null,null,"Install alternative audible lane departure warning treatments",0.68,"Head on,Run off road,Sideswipe","KABC","Rural Two-Lane Texas",9717,"Safety Evaluation of Alternative Audible Lane Departure Warning Treatments in Reducing Traffic Crashes: an Empirical Bayes Observational Before-After Study"]
[null,9,"Raised Pavement Markers  (Both CL&EL)","544 (Raised Centerline Rumble Strips)\n534 (Raised Edgeline Rumble Strips)"]
[null,null,null,null,"Install snowplowable, permanent raised pavement markers",1.1299999999999999,"Nighttime","All","Rural Four-Lane (AADT < 20,000)",109,"NCHRP Report 518: Safety Evaluation of Permanent Raised Pavement Markers"]
[null,null,null,null,"Install snowplowable, permanent raised pavement markers",0.94,"Nighttime","All","Rural Four-Lane (20,000 < AADT < 60,000)",110,"NCHRP Report 518: Safety Evaluation of Permanent Raised Pavement Markers"]
[null,null,null,null,"Install snowplowable, permanent raised pavement markers",0.67,"Nighttime","All","Rural Four-Lane (AADT > 60,000)",111,"NCHRP Report 518: Safety Evaluation of Permanent Raised Pavement Markers"]
["Tactile (Rumble Strips)",10,"Edgeline Rumble Strips","532 (Milled Edgeline Rumble Strips)"]
[null,null,null,null,"Shoulder rumble strips",0.83,"Run off road","All","Rural Two-Lane","3442, 3443, 3444, 3445, 3582, 3583, 3584, 3585, 3603, 3604, 3605, 3606, 7744","This is a TTI Meta-Analysis Result."]
[null,null,null,null,"Shoulder rumble strips",0.64,"Run off road","KABC","Rural Two-Lane","3454, 3455, 3456, 3457, 7745","This is a TTI Meta-Analysis Result."]
[null,11,"Centerline Rumble Strips","542 (Milled Centerline Rumble Strips)","Install centerline rumble strips",0.80800000000000005,"Run off road","All","Rural Two-Lane",5400,"Study of KDOT Policy on Lane and Shoulder Minimum Width for Application of Centerline Rumble Strips"]
[null,null,null,null,"Install centerline rumble strips",0.86,null,"All",null,null,"CMF 124 from Crash Reduction Following Installation of Centerline Rumble Strips on Rural Two-Lane Roads, Persaud (HSM)"]
[null,12,"Install CL and EL Rumble Strips",null,"Install centerline and shoulder rumble strips",0.6,"Head on","All","Rural Two-Lane","6853, 6940, 6950, 6971","This is a TTI Meta-Analysis Result."]
["Access Management",13,"Driveway Density","NA","Reduce driveway density by 1 per mile, base 3 driveways per mi.",0.98,"All","All","Rural Two-Lane",2248,"Potential Driveway Density Accident Modification Factors for Rural Highways Using Texas Data"]
[]
[]
[]
[]
[]
[]
[null,16,"Delineations, Signs for Accesses (No CMFs found)"]
["Lighting",17,"Lighting at General / Normal Segment","305 (Safety Lighting)"]
[null,null,null,null,"Install lighting",0.63,"All","KABC","Both Rural&Urban, all roadway",7774,"Validation and Application of Highway Safety Manual (Part D) in Florida"]
[null,null,null,null,"Install lighting",0.84,"All","PDO","Both Rural&Urban, all roadway",7775,"Validation and Application of Highway Safety Manual (Part D) in Florida"]
[null,null,null,null,"Install lighting",0.68,"All","All","Both Rural&Urban, all roadway",7776,"Validation and Application of Highway Safety Manual (Part D) in Florida"]
[null,null,null,null,"Install lighting",0.67,"Rear end","All","Both Rural&Urban, all roadway",7777,"Validation and Application of Highway Safety Manual (Part D) in Florida"]
[null,null,null,null,"Install lighting",0.64,"Angle","All","Both Rural&Urban, all roadway",7778,"Validation and Application of Highway Safety Manual (Part D) in Florida"]
[null,null,null,null,"Install lighting",0.72,"Single vehicle","All","Both Rural&Urban, all roadway",7779,"Validation and Application of Highway Safety Manual (Part D) in Florida"]
[null,null,null,null,"Install lighting",0.72,"Other","All","Both Rural&Urban, all roadway",7780,"Validation and Application of Highway Safety Manual (Part D) in Florida"]
["Pavement Friction",18,"Skid Number","303 (Resurfacing)"]
[null,null,null,null,"Increase Skid Number by 1 unit, base 40",0.99099999999999999,"All","All","Rural Two-Lane  Curve Texas",null,"TTI Report FHWA/TX-18/0-6932-R1"]
[null,null,null,null,"Increase Skid Number by 1 unit, base 40",0.96299999999999997,"Wet-weather","All","Rural Two-Lane  Curve Texas",null,"TTI Report FHWA/TX-18/0-6932-R1"]
[null,null,null,null,"Increase Skid Number by 1 unit, base 40",0.99,"Run off road","All","Rural Two-Lane  Curve Texas",null,"TTI Report FHWA/TX-18/0-6932-R1"]
[null,null,null,null,"Increase Skid Number by 1 unit, base 40",0.96299999999999997,"Wet-weather Run off Road","All","Rural Two-Lane  Curve Texas",null,"TTI Report FHWA/TX-18/0-6932-R1"]
[]
[null,null,null,null,"FROM ELVIK ET AL"]
[null,null,null,null,"Install lighting",0.72,"Nighttime","ABC",null,191,"Elvik et al."]
[null,null,null,null,"Install lighting",0.83,"Nighttime","O",null,192,"Elvik et al."]
[null,null,null,null,"Install lighting",0.31,"All","K",null,193,"Elvik et al."]
[]
[]
[]
[null,null,null,null,"From MUTCD"]
[]
[null,null,null,null,"Table 2C-5. Horizontal Alignment Sign Selection"]
[null,null,null,null,"Type of","Difference Between Speed Limit and Advisory Speed"]
[null,null,null,null,"Horizontal"]
[null,null,null,null,"Alignment Sign","5 mph","10 mph","15 mph","20 mph","25 mph or more"]
[null,null,null,null,"Turn (W1-1), Curve (W1-2), Reverse Turn (W1-3), Reverse Curve (W1-4), Winding Road (W1-5), and Combination Horizontal Alignment/Intersection (W1-10) (see Section 2C.07 to determine which sign to use)","Recommended","Required","Required","Required","Required"]
[null,null,null,null,"Advisory Speed Plaque (W13-1P)","Recommended","Required","Required","Required","Required"]
[null,null,null,null,"Chevrons (W1-8) and/or One Direction Large Arrow (W1-6)","Optional","Recommended","Required","Required","Required"]
[null,null,null,null,"Exit Speed (W13-2) and Ramp Speed (W13-3) on exit ramp","Optional","Optional","Recommended","Required","Required"]
[null,null,null,null,"Note: Required means that the sign and/or plaque shall be used, recommended means that the sign and/or plaque should be used, and optional means that the sign and/or plaque may be used."]
[null,null,null,null,"See Section 2C.06 for roadways with less than 1,000 AADT."]

{"sheet":"Versioning","index":3,"n_rows":11,"n_cols":5,"rows_kept":11,"cut":false,"hidden":true,"merged":[]}
[]
[null,"Version","Release","Comments","Updated by"]
[null,2.1,"2020-01-01",null,"RA"]
[null,2.2000000000000002,"2020-07-01","Fixed a bug on the calculation of  the effect of vertical grade (cell D129 in configuration sheets)","RA"]
[null,2.2999999999999998,"2020-07-01","1. Expanded the range of values for lane width (C3:E4 in Construction Tab).  2. Space for optional notes added to the right of the vortex.","RA"]
[null,2.2999999999999998,"2020-08-07","Split the cells for notes in two. Updated all the configuration tabs","RA"]
[null,2.4,"2020-12-21","Created new tab \"Reporting\" that should display the results plus additional areas to indicate various project-level assessments. Updated the title of \"PRIMARY CONSTRAINTS\" in all the tabs","RA"]
[null,2.4500000000000002,"2020-12-22","Enhancements to the new Reporting form (check boxes and others)","RA"]
[null,"V3.1","2022-02-01","Major improvements & updates made in 2021, mainly inlcude: horizontal and vertical curves; interface, missing warning message; vortex; etc.","LW"]
[null,"V3.2","2022-07-13","Minor corrections.","LW"]
[null,"V3.3","2024-04-16","Fixed plot missing a feature; Update Reporting per TxDOT request.","LW"]

{"sheet":"Constraints","index":4,"n_rows":234,"n_cols":31,"rows_kept":234,"cut":false,"hidden":true,"merged":[[14,2,15,2],[14,3,15,3],[14,5,15,5],[14,7,15,7]]}
[]
[null,null,"Total ROW"]
[null,null,"Total Pavement W"]
[]
[]
[]
[]
[]
[]
[]
[]
[]
[null,null,null,null,null,null,null,null,null,null,null,null,null,null,"CRIS 2017"]
[null,null,"BMT Rural-Two Lane Collision Type Distribution",null,null,null,null,null,null,null,null,null,null,null,"N_2017","HARM_EVNT_DESC","Percent"]
[null,null,"Collision Type","Total Crash","Total","KA Crash","KA","FI Crash","FI",null,null,null,null,null,8620,"ANIMAL                                                                ",{"$f":"O15/$O$25","v":0.12695887828443503},null,null,7.4411443557768839E-3]
[null,null,null,null,"Percent",null,"Percent",null,"Percent",null,null,null,null,null,21547,"FIXED OBJECT                                                          ",0.31735301048662662,null,null,0.68154427822111563]
[null,null,"SVROR",3448,{"$f":"D17/$D$24","v":0.52794365334558258},293,{"$f":"F17/$F$24","v":0.50779896013864823},1467,{"$f":"H17/$H$24","v":0.56993006993006989},null,null,null,null,null,23945,"MOTOR VEHICLE IN TRANSPORT                                            ",0.35267173323907153,null,null,9.6262271159458738E-3]
[null,null,"RE",873,0.13367018833256775,46,7.9722703639514725E-2,316,0.12276612276612277,null,null,null,null,null,1282,"OTHER NON COLLISION                                                   ",1.8881819252975138E-2,null,0.28893797069208321,9.5840689225870968E-2]
[null,null,"LT",489,7.4873679375287092E-2,46,7.9722703639514725E-2,216,8.3916083916083919E-2,null,null,null,null,null,1081,"OTHER OBJECT                                                          ",1.5921409214092141E-2,null,null,0.18751148029471193]
[null,null,"HO",378,5.7877813504823149E-2,109,0.18890814558058924,243,9.4405594405594401E-2,null,null,null,null,null,10392,"OVERTURNED                                                            ",0.15305761753269706,null,null,1.180748311121089E-2]
[null,null,"SSS",126,1.9292604501607719E-2,7,1.2131715771230503E-2,29,1.1266511266511266E-2,null,null,null,null,null,631,"PARKED CAR                                                            ",9.2936255449511014E-3,null,null,5.5858011715002962E-3]
[null,null,"ANG",109,1.6689634052978103E-2,10,1.7331022530329289E-2,45,1.7482517482517484E-2,null,null,null,null,null,76,"PEDALCYCLIST                                                          ",1.1193590196771532E-3,null,null,6.4289650386758373E-4]
[null,null,"Ped/Bicycle, Animal, Overturn, Others",1108,0.16965242688715357,66,0.11438474870017332,258,0.10023310023310024,null,null,null,null,null,298,"PEDESTRIAN                                                            ",4.3890656297867325E-3]
[null,null,"Grand Total",6531,{"$f":"SUM(E17:E23)","v":0.99999999999999989},577,{"$f":"SUM(G17:G23)","v":1},2574,{"$f":"SUM(I17:I23)","v":1},null,null,null,null,null,24,"RR TRAIN                                                              ",3.5348179568752211E-4]
[null,null,null,null,null,null,null,null,null,null,null,null,null,null,67896,null,{"$f":"SUM(Q15:Q24)","v":1}]
[]
[]
[]
[null,null,"2 Lane Rural On System"]
[null,null,"Row Labels","Total Crash","Total Percent","KA Crash","KA Percent","FI Crash","FI Percent"]
[null,null,"Angle Crash",5659,8.362765815957085E-2,544,8.0532938564026643E-2,2504,9.0721350675700155E-2]
[null,null,"Head-on Crash",3963,5.8564482998123217E-2,1156,0.17113249444855663,2349,8.5105612115503063E-2]
[null,null,"Left Turn Crash",8772,0.12963099794588365,758,0.11221317542561066,3586,0.12992282888301149]
[null,null,"Other",2839,4.1954218327446835E-2,108,1.5988156920799409E-2,653,2.3658563095540017E-2]
[null,null,"Rear End Crash",11339,0.16756565044555113,631,9.341228719467061E-2,4234,0.15340023912177095]
[null,null,"SVROR",35097,0.51865699212342431,3558,0.52672094744633602,14275,0.51719140610847436]
[null,null,"Grand Total",67669,1,6755,1,27601,1]
[]
[]
[]
[]
[]
[]
[]
[]
[]
[]
[]
[]
[]
[]
[]
[]
[]
[]
[]
[]
[]
[]
[]
[]
[]
[]
[]
[]
[]
[]
[]
[]
[]
[]
[]
[]
[]
[]
[]
[]
[]
[]
[]
[]
[]
[]
[]
[]
[]
[]
[]
[]
[]
[]
[]
[]
[]
[]
[]
[]
[]
[]
[]
[]
[]
[]
[]
[]
[]
[]
[]
[]
[]
[]
[]
[]
[]
[]
[]
[]
[]
[]
[]
[]
[]
[]
[]
[]
[]
[]
[]
[]
[]
[]
[]
[]
[]
[]
[]
[]
[]
[]
[]
[]
[]
[]
[]
[]
[]
[]
[]
[]
[]
[]
[]
[]
[]
[]
[]
[]
[]
[]
[]
[]
[]
[]
[]
[]
[]
[]
[]
[]
[]
[]
[]
[]
[null,null,null,null,null,null,null,null,null,null,null,null,null,null,null,"Emax=6%"]
[]
[null,null,null,null,null,null,null,null,null,null,null,null,null,null,null,"super",15,20,25,30,35,40,45,50,55,60,65,70,75,80]
[null,null,null,null,null,null,null,null,null,null,null,null,null,null,null,2,614,1120,1630,2240,2950,3770,4680,5700,6820,8060,9130,10300,11500,12900,2]
[null,null,null,null,null,null,null,null,null,null,null,null,null,null,null,2.2000000000000002,543,991,1450,2000,2630,3370,4190,5100,6110,7230,8200,9240,10400,11600,2.2000000000000002]
[null,null,null,null,null,null,null,null,null,null,null,null,null,null,null,2.4,482,884,1300,1790,2360,3030,3770,4600,5520,6540,7430,8380,9420,10600,2.4]
[null,null,null,null,null,null,null,null,null,null,null,null,null,null,null,2.6,430,791,1170,1610,2130,2740,3420,4170,5020,5950,6770,7660,8620,9670,2.6]
[null,null,null,null,null,null,null,null,null,null,null,null,null,null,null,2.8,384,709,1050,1460,1930,2490,3110,3800,4580,5440,6200,7030,7930,8910,2.8]
[null,null,null,null,null,null,null,null,null,null,null,null,null,null,null,3,341,635,944,1320,1760,2270,2840,3480,4200,4990,5710,6490,7330,8260,3]
[null,null,null,null,null,null,null,null,null,null,null,null,null,null,null,3.2,300,566,850,1200,1600,2080,2600,3200,3860,4600,5280,6010,6810,7680,3.2]
[null,null,null,null,null,null,null,null,null,null,null,null,null,null,null,3.4,256,498,761,1080,1460,1900,2390,2940,3560,4250,4890,5580,6340,7180,3.4]
[null,null,null,null,null,null,null,null,null,null,null,null,null,null,null,3.6,209,422,673,972,1320,1740,2190,2710,3290,3940,4540,5210,5930,6720,3.6]
[null,null,null,null,null,null,null,null,null,null,null,null,null,null,null,3.8,176,358,583,864,1190,1590,2010,2490,3040,3650,4230,4860,5560,6320,3.8]
[null,null,null,null,null,null,null,null,null,null,null,null,null,null,null,4,151,309,511,766,1070,1440,1840,2300,2810,3390,3950,4550,5220,5950,4]
[null,null,null,null,null,null,null,null,null,null,null,null,null,null,null,4.2,131,270,452,684,960,1310,1680,2110,2590,3140,3680,4270,4910,5620,4.2]
[null,null,null,null,null,null,null,null,null,null,null,null,null,null,null,4.4000000000000004,116,238,402,615,868,1190,1540,1940,2400,2920,3440,4010,4630,5320,4.4000000000000004]
[null,null,null,null,null,null,null,null,null,null,null,null,null,null,null,4.5999999999999996,102,212,360,555,788,1090,1410,1780,2210,2710,3220,3770,4380,5040,4.5999999999999996]
[null,null,null,null,null,null,null,null,null,null,null,null,null,null,null,4.8,91,189,324,502,718,995,1300,1640,2050,2510,3000,3550,4140,4790,4.8]
[null,null,null,null,null,null,null,null,null,null,null,null,null,null,null,5,82,169,292,456,654,911,1190,1510,1890,2330,2800,3330,3910,4550,5]
[null,null,null,null,null,null,null,null,null,null,null,null,null,null,null,5.2,73,152,264,413,595,833,1090,1390,1750,2160,2610,3120,3690,4320,5.2]
[null,null,null,null,null,null,null,null,null,null,null,null,null,null,null,5.4,65,136,237,373,540,759,995,1280,1610,1990,2420,2910,3460,4090,5.4]
[null,null,null,null,null,null,null,null,null,null,null,null,null,null,null,5.6,58,121,212,335,487,687,903,1160,1470,1830,2230,2700,3230,3840,5.6]
[null,null,null,null,null,null,null,null,null,null,null,null,null,null,null,5.8,51,106,186,296,431,611,806,1040,1320,1650,2020,2460,2970,3560,5.8]
[null,null,null,null,null,null,null,null,null,null,null,null,null,null,null,6,39,81,144,231,340,485,643,833,1060,1330,1660,2040,2500,3050,6]
[]
[]
[]
[null,null,null,null,null,null,null,null,null,null,null,null,null,null,null,"Emax=8%"]
[null,null,null,null,null,null,null,null,null,null,null,null,null,null,null,null,"speed"]
[null,null,null,null,null,null,null,null,null,null,null,null,null,null,null,"super",15,20,25,30,35,40,45,50,55,60,65,70,75,80]
[null,null,null,null,null,null,null,null,null,null,null,null,null,null,null,2,676,1190,1720,2370,3120,3970,4930,5990,7150,8440,9510,10700,12000,13300,2]
[null,null,null,null,null,null,null,null,null,null,null,null,null,null,null,2.2000000000000002,605,1070,1550,2130,2800,3570,4440,5400,6450,7620,8600,9660,10800,12000,2.2000000000000002]
[null,null,null,null,null,null,null,null,null,null,null,null,null,null,null,2.4,546,959,1400,1930,2540,3240,4030,4910,5870,6930,7830,8810,9850,11000,2.4]
[null,null,null,null,null,null,null,null,null,null,null,null,null,null,null,2.6,496,872,1280,1760,2320,2960,3690,4490,5370,6350,7180,8090,9050,10100,2.6]
[null,null,null,null,null,null,null,null,null,null,null,null,null,null,null,2.8,453,796,1170,1610,2130,2720,3390,4130,4950,5850,6630,7470,8370,9340,2.8]
[null,null,null,null,null,null,null,null,null,null,null,null,null,null,null,3,415,730,1070,1480,1960,2510,3130,3820,4580,5420,6140,6930,7780,8700,3]
[null,null,null,null,null,null,null,null,null,null,null,null,null,null,null,3.2,382,672,985,1370,1820,2330,2900,3550,4250,5040,5720,6460,7260,8130,3.2]
[null,null,null,null,null,null,null,null,null,null,null,null,null,null,null,3.4,352,620,911,1270,1690,2170,2700,3300,3970,4700,5350,6050,6800,7620,3.4]
[null,null,null,null,null,null,null,null,null,null,null,null,null,null,null,3.6,324,572,845,1180,1570,2020,2520,3090,3710,4400,5010,5680,6400,7180,3.6]
[null,null,null,null,null,null,null,null,null,null,null,null,null,null,null,3.8,300,530,784,1100,1470,1890,2360,2890,3480,4140,4710,5350,6030,6780,3.8]
[null,null,null,null,null,null,null,null,null,null,null,null,null,null,null,4,277,490,729,1030,1370,1770,2220,2720,3270,3890,4450,5050,5710,6420,4]
[null,null,null,null,null,null,null,null,null,null,null,null,null,null,null,4.2,255,453,678,955,1280,1660,2080,2560,3080,3670,4200,4780,5410,6090,4.2]
[null,null,null,null,null,null,null,null,null,null,null,null,null,null,null,4.4000000000000004,235,418,630,893,1200,1560,1960,2410,2910,3470,3980,4540,5140,5800,4.4000000000000004]
[null,null,null,null,null,null,null,null,null,null,null,null,null,null,null,4.5999999999999996,215,384,585,834,1130,1470,1850,2280,2750,3290,3770,4310,4890,5530,4.5999999999999996]
[null,null,null,null,null,null,null,null,null,null,null,null,null,null,null,4.8,193,349,542,779,1060,1390,1750,2160,2610,3120,3590,4100,4670,5280,4.8]
[null,null,null,null,null,null,null,null,null,null,null,null,null,null,null,5,172,314,499,727,991,1310,1650,2040,2470,2960,3410,3910,4460,5050,5]
[null,null,null,null,null,null,null,null,null,null,null,null,null,null,null,5.2,154,284,457,676,929,1230,1560,1930,2350,2820,3250,3740,4260,4840,5.2]
[null,null,null,null,null,null,null,null,null,null,null,null,null,null,null,5.4,139,258,420,627,870,1160,1480,1830,2230,2680,3110,3570,4090,4640,5.4]
[null,null,null,null,null,null,null,null,null,null,null,null,null,null,null,5.6,126,236,387,582,813,1090,1390,1740,2120,2550,2970,3420,3920,4460,5.6]
[null,null,null,null,null,null,null,null,null,null,null,null,null,null,null,5.8,115,216,358,542,761,1030,1320,1650,2010,2430,2840,3280,3760,4290,5.8]
[null,null,null,null,null,null,null,null,null,null,null,null,null,null,null,6,105,199,332,506,713,965,1250,1560,1920,2320,2710,3150,3620,4140,6]
[null,null,null,null,null,null,null,null,null,null,null,null,null,null,null,6.2,97,184,308,472,669,909,1180,1480,1820,2210,2600,3020,3480,3990,6.2]
[null,null,null,null,null,null,null,null,null,null,null,null,null,null,null,6.4,89,170,287,442,628,857,1110,1400,1730,2110,2490,2910,3360,3850,6.4]
[null,null,null,null,null,null,null,null,null,null,null,null,null,null,null,6.6,82,157,267,413,590,808,1050,1330,1650,2010,2380,2790,3240,3720,6.6]
[null,null,null,null,null,null,null,null,null,null,null,null,null,null,null,6.8,76,146,248,386,553,761,990,1260,1560,1910,2280,2690,3120,3600,6.8]
[null,null,null,null,null,null,null,null,null,null,null,null,null,null,null,7,70,135,231,360,518,716,933,1190,1480,1820,2180,2580,3010,3480,7]
[null,null,null,null,null,null,null,null,null,null,null,null,null,null,null,7.2,64,125,214,336,485,672,878,1120,1400,1720,2070,2470,2900,3370,7.2]
[null,null,null,null,null,null,null,null,null,null,null,null,null,null,null,7.4,59,115,198,312,451,628,822,1060,1320,1630,1970,2350,2780,3250,7.4]
[null,null,null,null,null,null,null,null,null,null,null,null,null,null,null,7.6,54,105,182,287,417,583,765,980,1230,1530,1850,2230,2650,3120,7.6]
[null,null,null,null,null,null,null,null,null,null,null,null,null,null,null,7.8,48,94,164,261,380,533,701,901,1140,1410,1720,2090,2500,2970,7.8]
[null,null,null,null,null,null,null,null,null,null,null,null,null,null,null,8,38,76,134,214,314,444,587,758,960,1200,1480,1810,2210,2670,8]

{"sheet":"Roadside","index":5,"n_rows":45,"n_cols":12,"rows_kept":45,"cut":false,"hidden":true,"merged":[]}
["No.","Name of Countermeasure","Workcode Number (Name)","Preventable Crash Type","Workcode CMF","Recommended CMF","Target Crash Type","Crash Severity","Countermeasure Name","Note","CMFClearinghouse ID","Study"]
[1,"Relocate Utility Pole","209 (Safety Treat Fixed Objects)","ROR, Hit Objects (pole, barrier, etc.)\n(Roadway Related = 2, 3 or 4) OR (Object Struck = 20–26, 29–36, 40–42,\n56–58, 60, 62, or 63)",0.5]
[null,null,null,null,null,0.9134743339009529,"Fixed object","All","Offset increase by 1 ft. base = 15.8 ft","Rural 2L and Muti-L, undivided (Regression)",5240,"Evaluating safety risk of locating above ground utility structures in the highway right-of-way"]
[null,null,null,null,null,"0.66 * D^0.1162","Fixed object","All","D: Density of utility pole. base = 38/mi (Range 0.3 - 185)","Rural 2L and Muti-L, undivided (Regression)",5241,"Evaluating safety risk of locating above ground utility structures in the highway right-of-way"]
[2,"Remove or Shield Tree or Fixed Objects","209 (Safety Treat Fixed Objects)","ROR, Hit Objects (pole, barrier, etc.)\n(Roadway Related = 2, 3 or 4) OR (Object Struck = 20–26, 29–36, 40–42,\n56–58, 60, 62, or 63)",0.5]
[null,null,null,null,null,0.62,"All","All","Remove or relocate fixed objects outside of clear zone","Both Rural&Urban, Roadway type not specified",1024,"Development of Crash Reduction Factors"]
[null,null,null,null,null,0.62,"All","KABC","Remove or relocate fixed objects outside of clear zone","Both Rural&Urban, Roadway type not specified",1044,"Development of Crash Reduction Factors"]
[null,null,null,null,null,2.4E-2,"Fixed object","All","Remove or relocate fixed objects outside of clear zone","Condition/Roadway type not specified",2724,"Support for the Elimination of Roadside Hazards"]
[4,"Lateral Clearance",null,null,null,0.68,"SVROR","AKBC","Increase lateral clearance from 10 to 40 feet","Rural Two-Lane Texas",4127,"Investigating the Effect of Roadside Features on Single-Vehicle Roadway Departure Crashes on Rural Two-Lane Roads"]
[null,"For tangents",null,null,null,0.68,"SVROR","AKBC","Increase lateral clearance by a delta value","Rural Two-Lane Texas",4127,"Robert's review of the report extracted the beta. Sept 2019"]
[null,"For Curves",null,null,null,0.49,"SVROR","AKBC","Increase lateral clearance by a delta value","Rural Two-Lane Texas",4128,"Robert's review of the report extracted the beta. Sept 2019"]
[5,"Flattening Sideslopes","204 (Flatten Side Slope)","Median Related\n(Roadway Related = 3)",0.54]
[null,null,null,null,null,0.1,"SVROR","KABC","Improve sideslope rating from 5 to 1","Rural Two-Lane Texas",4129,"Investigating the Effect of Roadside Features on Single-Vehicle Roadway Departure Crashes on Rural Two-Lane Roads"]
[null,null,null,null,null,0.82,"Run off road","All","Flatten sideslope from 1V:3H to 1V:4H","Rural Two-Lane",28,"Measuring the Goodness of Fit of Accident Prediction Models"]
[null,null,null,"Elvik et al.",null,0.57999999999999996,"All","ABC","Flatten sideslope from 1V:3H to 1V:4H",null,26]
[null,null,null,"Elvik et al.",null,0.78,"All","ABC","Flatten sideslope from 1V:4H to 1V:6H",null,29]
[6,"Install Median Barrier","201 (Install Median Barrier)","HO\nVehicle Movements/Manner of Collision = 30",0.45]
[null,null,null,null,null,0.56000000000000005,"Head on","All","Install cable median barrier","Condition/Roadway type not specified",9395,"Crash Modification Factors for Median Cable Barriers in Tennessee"]
[null,null,null,null,null,0.27,"Sideswipe","All","Install cable median barrier","Condition/Roadway type not specified",9396,"Crash Modification Factors for Median Cable Barriers in Tennessee"]
[null,null,null,null,null,0.5,"Head on,Sideswipe","All","Install cable median barrier","Condition/Roadway type not specified",9397,"Crash Modification Factors for Median Cable Barriers in Tennessee"]
[7,"Install Roadside Barrier","NA","NA","NA"]
[null,null,null,null,null,0.49,"Run off road","KABC","Install roadside barrier","Rural Two-Lane",6402,"Analyzing road design risk factors for run-off-road crashes in the Netherlands with crash prediction models"]
[7,"Install Safety Edge","NA","All","NA",0.89200000000000002,null,"KAB","Install Safety Edge",null,9205]
[null,null,null,"ROR, Hit Objects (pole, barrier, etc.)\n(Roadway Related = 2, 3 or 4) OR (Object Struck = 20–26, 29–36, 40–42,\n56–58, 60, 62, or 63)",null,0.79,"Run off road","All","Install Safety Edge","Rural Two-Lane",9211,"Study Title: Development Of Crash Modification Factors For The Application Of The Safetyedge Treatment On Two-Lane Rural Roads. Donnell et al. March 2017"]
[null,"Roadside Object",null,"SVROR reduced severity",null,0.55000000000000004,null,null,null,null,"37 and 38","Elviks"]
[]
[]
[]
[null,null,null,"Daniello and Garber, Fatality risk in motorcycle collisions with roadside objects in the US. AAP 2011"]
[]
[null,null,null,"P(fatal w guardrail)/P(fatal w ground)",16.7]
[null,null,null,"P(fatal w tree or pole)/P(fatal w ground)",9.5]
[]
[]
[null,"From Robert W."]
[null,"The CMFs for increasing clearance’s are:"]
[]
[null,"0.68 for tangents"]
[null,"0.49 for curves"]
[]
[null,"For guardrail, the CMF is"]
[]
[null,"0.84 for KA",null,null,null,0.84,"Effect on KA crashes, to be applied for credit on Guardrail application"]
[]
[null,"I know this would be mixing applications, but it seems reasonable to say that you get that credit in the safety score for reducing severity.  And at least we have some reason to do so."]

{"sheet":"Construction","index":6,"n_rows":191,"n_cols":34,"rows_kept":191,"cut":false,"hidden":true,"merged":[]}
["Lane Width",null,null,"HSM",null,null,null,null,null,null,"For validation of curve signing",null,"Yes or No","(Cell range named \"Responses\")"]
[null,null,"LW","CMF","CRF",null,null,null,null,null,null,null,"Yes"]
[null,null,9,1.5,{"$f":"100*(1-D3)","v":-50},null,null,null,null,null,null,null,"No"]
[null,null,9.5,{"$f":"EXP(AVERAGE(LN(D3),LN(D5)))","v":1.3964240043768941},-39.642400437689403]
[null,null,10,1.3,-30.000000000000004]
[null,null,10.5,{"$f":"EXP(AVERAGE(LN(D5),LN(D7)))","v":1.1683321445547923},-16.833214455479229,null,null,null,null,null,null,null,null,null,null,null,null,null,null,null,null,null,null,null,null,null,null,null,null,"Xsect","Blank",null,null,"For validation"]
[null,null,11,1.05,-5.0000000000000044,null,null,"Meta Parameters","Total Score",null,null,null,"Lane","Shld",null,"Super",null,"Emax6","Emax8",null,"AADT",null,"View2",null,"Sslope",null,"PrType",null,null,"Configuration 1","--",{"$f":"AD7","v":"Configuration 1"},{"$f":"IFERROR(RIGHT('Start Here'!H81,2)+0,0)","v":1},{"$f":"\"Construction!$AF$7:$AF$\"&Construction!$AG$23+7","v":"Construction!$AF$7:$AF$8"}]
[null,null,11.5,{"$f":"EXP(AVERAGE(LN(D7),LN(D9)))","v":1.0246950765959599},-2.4695076595959931,null,null,"Geometry",40,null,null,null,9,0,null,6,null,2,2,null,"< 400 vpd",null,"Existing",null,"1V:1H",null,"3R",null,null,"Configuration 2",null,{"$f":"AD8","v":"Configuration 2"},{"$f":"IFERROR(RIGHT('Start Here'!H82,2)+0,0)","v":1}]
[null,null,12,1,0,null,null,"Traffic Control",20,null,null,null,9.5,1,null,8,null,2.2000000000000002,2.2000000000000002,null,"400 to 2,000 vpd",null,"Standard",null,"1V:2H",null,"4R",null,null,"Configuration 3",null,"Configuration 3",{"$f":"IFERROR(RIGHT('Start Here'!H83,2)+0,0)","v":1}]
[null,null,null,null,null,null,null,"Roadside",40,null,null,null,10,2,null,null,null,2.4,2.4,null,"2,001 to 8,000 vpd",null,"Design 1",null,"1V:3H",null,null,null,null,"Configuration 4",null,"Configuration 4",{"$f":"IFERROR(RIGHT('Start Here'!H84,2)+0,0)","v":1}]
["Shoulder Width",null,null,null,null,null,null,"Total:",{"$f":"SUM(I8:I10)","v":100},null,null,null,10.5,3,null,null,null,2.6,2.6,null,"> 8,000 vpd",null,"Design 2",null,"1V:4H",null,null,null,null,"Configuration 5",null,"Configuration 5",{"$f":"IFERROR(RIGHT('Start Here'!H85,2)+0,0)","v":1}]
[null,null,"SW","CMF","CRF",null,null,null,null,null,null,null,11,4,null,null,null,2.8,2.8,null,null,null,"Optimal",null,"1V:5H",null,null,null,null,"Configuration 6",null,"Configuration 6",{"$f":"IFERROR(RIGHT('Start Here'!H86,2)+0,0)","v":1}]
[null,null,0,1.29,{"$f":"100*(1-D13)","v":-29.000000000000004},null,null,null,null,null,null,null,11.5,5,null,null,null,3,3,null,null,null,null,null,"1V:6H",null,null,null,null,"Configuration 7",null,"Configuration 7",{"$f":"IFERROR(RIGHT('Start Here'!H87,2)+0,0)","v":1}]
[null,null,1,1.23,-23,null,null,null,null,null,null,null,12,6,null,null,null,3.2,3.2,null,null,null,null,null,"1V:7H",null,null,null,null,"Configuration 8",null,"Configuration 8",{"$f":"IFERROR(RIGHT('Start Here'!H88,2)+0,0)","v":1}]
[null,null,2,1.17,-16.999999999999993,null,null,null,null,null,null,null,null,7,null,null,null,3.4,3.4,null,null,null,null,null,"1V:8H",null,null,null,null,"Configuration 9",null,"Configuration 9",{"$f":"IFERROR(RIGHT('Start Here'!H89,2)+0,0)","v":1}]
[null,null,3,1.1299999999999999,-12.999999999999989,null,null,null,null,null,null,null,null,8,null,null,null,3.6,3.6,null,"SLimit",null,null,null,"1V:9H",null,null,null,null,"Configuration 10",null,"Configuration 10",{"$f":"IFERROR(RIGHT('Start Here'!H90,2)+0,0)","v":1}]
[null,null,4,1.0900000000000001,-9.0000000000000071,null,null,null,null,null,null,null,null,9,null,null,null,3.8,3.8,null,20,null,null,null,"1V:10H",null,null,null,null,"Configuration 11",null,"Configuration 11",{"$f":"IFERROR(RIGHT('Start Here'!H91,2)+0,0)","v":1}]
[null,null,5,1.04,-4.0000000000000036,null,null,null,null,null,null,null,null,10,null,null,null,4,4,null,25,null,null,null,"1V:11H",null,null,null,null,"Configuration 12",null,"Configuration 12",{"$f":"IFERROR(RIGHT('Start Here'!H92,2)+0,0)","v":1}]
[null,null,6,1,0,null,null,null,null,null,null,null,null,11,null,null,null,0.2,0.2,null,30,null,null,null,"1V:12H",null,null,null,null,"Configuration 13",null,"Configuration 13",{"$f":"IFERROR(RIGHT('Start Here'!H93,2)+0,0)","v":1}]
[null,null,7,0.96,4.0000000000000036,null,null,null,null,null,null,null,null,12,null,null,null,4.4000000000000004,4.4000000000000004,null,35,null,null,null,null,null,null,null,null,"Configuration 14",null,"Configuration 14",{"$f":"IFERROR(RIGHT('Start Here'!H94,2)+0,0)","v":1}]
[null,null,8,0.93,6.9999999999999947,null,null,null,null,null,null,null,null,null,null,null,null,4.5999999999999996,4.5999999999999996,null,40,null,null,null,null,null,null,null,null,"Configuration 15",null,"Configuration 15",{"$f":"IFERROR(RIGHT('Start Here'!H95,2)+0,0)","v":1}]
[null,null,9,0.91,8.9999999999999964,null,null,null,null,null,null,null,null,null,null,null,null,4.8,4.8,null,45,null,"Location"]
[null,null,10,0.9,9.9999999999999982,null,null,null,null,null,null,null,null,null,null,null,null,5,5,null,50,null,"Rural (no town)",null,null,null,null,null,null,null,null,"max",{"$f":"MAX(AG7:AG21)","v":1}]
[null,null,null,null,null,null,null,null,null,null,null,null,null,null,null,null,null,null,null,null,55]
[null,"HC","Table 2-3 TxDOT design Manual",null,null,null,"Table 2-4 TxDOT design Manual",null,null,null,null,null,null,null,null,null,null,null,null,null,60]
[null,null,null,null,null,null,null,null,null,null,null,null,null,null,null,null,null,null,null,null,65]
[null,"Emax 6",null,null,null,null,"Emax 8",null,null,null,null,null,null,null,null,null,null,null,null,null,70]
[null,"Des. Speed","usual min R","Abs min R",null,null,"Des. Speed","usual min R","Abs min R","emax = 8",null,null,null,null,null,null,null,null,null,null,75]
[null,45,810,643,null,null,45,740,587,null,null,null,null,null,null,null,null,null,null,null,80]
[null,50,1050,833,null,null,50,955,758]
[null,55,1635,1060,null,null,55,1480,960]
[null,60,2195,1330,null,null,60,1980,1200]
[null,65,2740,1660,null,null,65,2445,1480]
[null,70,3390,2040,null,null,70,3005,1810]
[null,75,3750,2500,null,null,75,3315,2210]
[null,80,4575,3050,null,null,80,4005,2670]
[]
[]
[]
[]
[]
[null,"OPTIMAL VALUES (Karen's)"]
[null,"Emax 6",null,null,null,null,"Emax 8"]
[null,"Des. Speed","R",null,null,null,"Des. Speed","R",null,"emax = 8"]
[null,45,{"$f":"C29*2","v":1620},null,null,null,45,1480]
[null,50,1800,null,null,null,50,1700]
[null,55,2200,null,null,null,55,2100]
[null,60,3300,null,null,null,60,3100]
[null,65,4200,null,null,null,65,4000]
[null,70,5600,null,null,null,70,5400]
[null,75,6200,null,null,null,75,6000]
[null,80,7000,null,null,null,80,6800]
[]
[]
[null,null,null,null,null,null,null,"Was D28, now H25","Was E28, now I25","Was F28, now J25",null,null,null,null,null,null,null,5.2,5.2,null,null,null,"Rural (small town)"]
["Combined Horizontal Curves and Straight Grades",null,null,null,null,null,null,null,null,null,null,null,null,null,null,null,null,5.4,5.4,null,null,null,"Urban to Rural Transition"]
["Safety Effects of Horizontal Curve and Grade Combinations on Rural Two-Lane Highways. Bauer and Harwood",null,null,null,null,null,null,"Grade","HC  Coeff.","Interaction Term",null,null,null,null,null,null,null,5.6,5.6,null,null,null,"Urban"]
[null,null,null,null,null,null,null,4.2000000000000003E-2,0.16,4.16,null,null,null,null,null,null,null,5.8,5.8]
["Equations below represent HC with straight tangent (sum for total crashes)",null,null,null,null,null,null,null,null,null,null,null,null,null,null,null,null,6,6]
[null,null,null,null,null,null,null,null,null,null,null,null,null,null,null,null,null,null,6.2,null,null,null,"Fixed"]
[null,null,null,null,null,null,null,null,null,null,null,null,null,null,null,null,null,null,6.4,null,null,null,"Guardrail"]
[null,null,null,null,null,null,null,null,null,null,null,null,null,null,null,null,null,null,6.6,null,null,null,"Other Fixed Object"]
[null,null,null,null,null,null,null,null,null,null,null,null,null,null,null,null,null,null,6.8,null,null,null,"None"]
[null,null,null,null,null,null,null,null,null,null,null,null,null,null,null,null,null,null,7]
[null,null,null,null,null,null,null,null,null,null,null,null,null,null,null,null,null,null,7.2]
[null,null,null,null,null,null,null,null,null,null,null,null,null,null,null,null,null,null,7.4]
[null,null,null,null,null,null,null,null,null,null,null,null,null,null,null,null,null,null,7.6]
[null,null,null,null,null,null,null,null,null,null,null,null,null,null,null,null,null,null,7.8]
[null,null,null,null,null,null,null,null,null,null,null,null,null,null,null,null,null,null,8]
[]
["Equations below represent HC and tangents with Type 1  crest -- so G1>G2 (sum for total crashes)"]
[3,"HA and VA: Crests Type I",null,"Interact"]
[null,null,null,{"$f":"(0.0088*EXP(-9.56)+0.0046*EXP(-8.46))/(EXP(-8.46)+EXP(-9.56))","v":5.648907556500507E-3}]
[]
[]
[]
[]
[]
[]
[]
[]
[]
[]
[]
[]
[]
[]
["Equations below represent HC and tangents with Type I sag vertical curve -- so G1<G2 (sum for total crashes)"]
[null,"HA and VA: Sags Type I",null,"K","Interact"]
[null,null,null,{"$f":"(10.51*EXP(-9.55)+8.62*EXP(-8.63))/(EXP(-8.63)+EXP(-9.55))","v":9.1585704202251268},{"$f":"(0.011*EXP(-9.55)+0.01*EXP(-8.63))/(EXP(-8.63)+EXP(-9.55))","v":1.0284957894299009E-2}]
[]
[]
[]
[]
[]
[]
[]
[]
[]
[]
[]
[null,"HA and VA: Crest Type II",null,"R effect"]
[null,null,null,{"$f":"(0.2*EXP(-9.52)+0.1*EXP(-8.38))/(EXP(-8.38)+EXP(-9.52))","v":0.12423203609962954}]
[]
[null,null,null,null,null,null,null,null,"OVERWROTE TO TYPE I BECAUSE OF INCONSISTENT RESULTS AND CAUTION OFFERRED BY THE RESEARCHERS"]
[]
[]
[]
[]
[]
[]
[]
[]
[]
[]
[]
[]
[]
[]
[]
[]
[]
[]
[]
[]
[]
[]
[null,"HA and VA: Sag Type II"]
[]
[]
[null,null,null,"ln R effect","weight","R effect","weight"]
[null,null,null,0.188,{"$f":"EXP(-9.42)/(EXP(-9.42)+EXP(-8.3))","v":0.24601128355105206},2.1999999999999999E-2,{"$f":"EXP(-8.3)/(EXP(-9.42)+EXP(-8.3))","v":0.75398871644894794}]
[]
[]
[]
[]
[]
[]
[]
[]
[]
[]
[]
[]
[]
[]
[]
[]
[]
[]
[]
[]
[]
[]
[]
["Table 2-6 and 2-7 of TxDOT Design Manual"]
["Minimum Design Controls for Vertical Curves (Standard)"]
[null,"Design Speed","Min Crest K","Min Sag K"]
[null,20,7,17]
[null,25,12,26]
[null,30,19,37]
[null,35,29,49]
[null,40,44,64]
[null,45,61,79]
[null,50,84,96]
[null,55,114,115]
[null,60,151,136]
[null,65,193,157]
[null,70,247,181]
[null,75,312,206]
[null,80,384,231]
[]
[]
[]
[]
["Table 2-6 and 2-7 of TxDOT Design Manual"]
["Design Controls for Vertical Curves (Optimal)"]
[null,"Design Speed","Min Crest K","Min Sag K"]
[null,20,10,10]
[null,25,20,40]
[null,30,40,70]
[null,35,60,100]
[null,40,90,130]
[null,45,120,160]
[null,50,170,190]
[null,55,230,230]
[null,60,300,270]
[null,65,390,310]
[null,70,490,360]
[null,75,620,410]
[null,80,760,460]

{"sheet":"Definitions","index":7,"n_rows":45,"n_cols":11,"rows_kept":45,"cut":false,"hidden":false,"merged":[[3,3,3,4]]}
[]
[]
[]
[null,null,null,"Rural Two-Lane Roadway Element Definitions"]
[null,null,null,"Geometric Design Elements","Definition","Notes"]
[null,null,null,"Lane Width (feet)","The nominal width of the lane."]
[null,null,null,"Shoulder Width (feet)","The average width of paved shoulders."]
[null,null,null,"If Horizontal Curve is Present"]
[null,null,null,"Horizontal Curve Data for Controlling Element:"]
[null,null,null,"  Radius (feet)","Radius of the controlling curve at the centerline."]
[null,null,null,"Length of Horizontal Curve (feet)","Length of curve along the centerline from point of curvature to point of tangency."]
[null,null,null,"If Vertical Curve is Present"]
[null,null,null,"Vertical Curve Data for Controlling Element:"]
[null,null,null,"  Approach (Entry) Grade, G1 (%)","grade of the approach vertical tangent."]
[null,null,null,"  Departure (Exit) Grade, G2 (%)","grade of the departure vertical tangent."]
[null,null,null,"  Length (feet)","distance between the point of vertical curvature and point of tangency (see Design Manual  Figure 2-4).  (see Design Manual  Figure 2-4, reproduced to the right)."]
[null,null,null,"  Calculated Rate of Change, K (ft/ft)","The length of curve divided by the algebraic difference in grades G1 and G2.",null,null,null,null,null,"Figure 2-4 from TxDOT Roadway Design Manual"]
[null,null,null,"  Calculated Sag or Crest?","Is the curve a vertical sag or crest curve."]
[null,null,null,"TWLTL (two-way left-turn lane)","Presence of two-way left-turn lane."]
[null,null,null,"Passing Lane Type","The type of passing lane: (1) None; (2) Passing or Climbing Lane in One Direction; or (3) Super 2."]
[]
[]
[]
[]
[]
[null,null,null,"Traffic Elements","Definition","Notes"]
[null,null,null,"Advance Static Curve Warning Signs","Are curve warning signs posted in compliance with MUTCD requirements on both approaches to all horizontal curves in the segment?"]
[null,null,null,"Chevron Signs on Horizontal Curves","Are chevron signs posted in compliance with MUTCD requirements on all horizontal curves in the segment?"]
[null,null,null,"Post-Mounted Delineators","Are post-mounted delineators placed in compliance with MUTCD spacing recommendations along all horizontal curves in the segment?"]
[null,null,null,"Edgeline Pavement Markings or Profile Markings","Are continuous edgeline rumble strips or profile markings present along both sides of the segment?"]
[null,null,null,"Shoulder Rumble Strips","Are rumble strips present on the shoulder?","* Only one of these treatments should be present at the site"]
[null,null,null,"Centerline Rumble Strips","Are continuous centerline rumble strips present along the entire segment?","* Only one of these treatments should be present at the site"]
[null,null,null,"Driveway Density (driveways per mile)","The number of driveways along both sides of the roadway divided by the segment length."]
[null,null,null,"Lighting","Is continuous roadway lighting provided along the entire length of the segment?"]
[null,null,null,"Pavement Friction (skid number)","What is the recorded skid number along the segment? (available in TxDOTs roadway inventory)"]
[]
[]
[]
[]
[null,null,null,"Roadside  Elements","Definition","Notes"]
[null,null,null,"Sideslope (Foreslope)","The ratio of horizontal distance for to 1 unit of vertical distance on the slope immediately adjacent to the travel lane or shouder. The smallest ratio of any foreslop in the segment is entered.  "]
[null,null,null,"Backslope","The ratio of horizontal distance for to 1 unit of vertical distance on the slope adjacent to the foreslope. The smallest ratio of any backslope in the segment is entered.  "]
[null,null,null,"SafetyEdge","Is a safety edge present along both pavement edgelines for the entire segment length.  "]
[null,null,null,"Lateral Clearance to obstruction (ft)","The distance from the edge of the travel lane to the nearest obstruction or guardrail.  Examples of obstructions are fixed objects such as trees, utility poles, non-breakawy luminaires, fences, culverts without forgiving features, piers, columns, and buildings or dropoffs and ditches with slopes greater than 1V:3H or the beginning of any backslope greater than 1V:3H."]
[null,null,null,"Obstruction Type","choose between 1) fixed objects drop offs or 2) guardrail."]

{"sheet":"Start Here","index":8,"n_rows":98,"n_cols":13,"rows_kept":98,"cut":false,"hidden":false,"merged":[[78,3,79,3],[11,9,11,10],[12,9,12,10],[78,1,79,1],[78,7,79,7],[78,8,78,12],[13,9,13,10],[14,9,15,10],[6,9,6,10],[7,9,7,10],[8,9,8,10],[10,9,10,10],[1,6,1,10],[2,6,2,10],[3,6,3,8],[3,9,3,10],[4,6,4,8],[4,9,4,10]]}
[]
[null,null,null,null,null,null,"Rural Two-Lane Road Segment -- Safety Score Input"]
[null,null,null,null,null,null,"INPUT INSTRUCTIONS"]
[null,null,null,null,null,null,"Blue Boxes -- Select from pulldown options",null,null,"Select from Pulldown"]
[null,null,null,null,null,null,"Yellow Boxes -- Type input information into box",null,null,"Type Input Value"]
[null,null,null,null,null,null,"General Information"]
[null,null,null,null,null,null,null,"Analyst:"]
[null,null,null,null,null,null,null,"Agency / Company / District:"]
[null,null,null,null,null,null,null,"Date:"]
[null,null,null,null,null,null,"Segment Limits (Limit up to 15 miles in length):"]
[null,null,null,null,null,null,null,"Road Name:"]
[null,null,null,null,null,null,null,"Category (4R, 3R) -- Future Enhancement"]
[null,null,null,null,null,null,null,"Segment Beginning Mile Point (BMP):"]
[null,null,null,null,null,null,null,"Segment Ending Mile Point (EMP):"]
[null,null,null,null,null,null,null,null,null,{"$f":"+J14-J13","v":0}]
[null,null,null,null,null,null,"Calculated Total Segment Length (miles):"]
[]
[]
[null,null,null,null,null,null,null,"Questions for Developing Worksheets"]
[]
[null,null,null,null,null,null,null,"Are controlling elements for Segment X the same as for Segment Y?"]
[null,null,null,null,null,null,null,"X","Y","Yes or No"]
[null,null,null,null,null,null,null,2,1,"Yes"]
[]
[null,null,null,null,null,null,null,3,1,"Yes"]
[null,null,null,null,null,null,null,3,2,"Yes"]
[]
[null,null,null,null,null,null,null,4,1,"Yes"]
[null,null,null,null,null,null,null,4,2,"Yes"]
[null,null,null,null,null,null,null,4,3,"Yes"]
[]
[null,null,null,null,null,null,null,5,1]
[null,null,null,null,null,null,null,5,2]
[null,null,null,null,null,null,null,5,3]
[null,null,null,null,null,null,null,5,4]
[]
[null,null,null,null,null,null,null,6,1]
[null,null,null,null,null,null,null,6,2]
[null,null,null,null,null,null,null,6,3]
[null,null,null,null,null,null,null,6,4]
[null,null,null,null,null,null,null,6,5]
[]
[null,null,null,null,null,null,null,7,1]
[null,null,null,null,null,null,null,7,2]
[null,null,null,null,null,null,null,7,3]
[null,null,null,null,null,null,null,7,4]
[null,null,null,null,null,null,null,7,5]
[null,null,null,null,null,null,null,7,6]
[]
[null,null,null,null,null,null,null,8,1]
[null,null,null,null,null,null,null,8,2]
[null,null,null,null,null,null,null,8,3]
[null,null,null,null,null,null,null,8,4]
[null,null,null,null,null,null,null,8,5]
[null,null,null,null,null,null,null,8,6]
[null,null,null,null,null,null,null,8,7]
[]
[null,null,null,null,null,null,null,9,1]
[null,null,null,null,null,null,null,9,2]
[null,null,null,null,null,null,null,9,3]
[null,null,null,null,null,null,null,9,4]
[null,null,null,null,null,null,null,9,5]
[null,null,null,null,null,null,null,9,6]
[null,null,null,null,null,null,null,9,7]
[null,null,null,null,null,null,null,9,8]
[]
[null,null,null,null,null,null,null,10,1]
[null,null,null,null,null,null,null,10,2]
[null,null,null,null,null,null,null,10,3]
[null,null,null,null,null,null,null,10,4]
[null,null,null,null,null,null,null,10,5]
[null,null,null,null,null,null,null,10,6]
[null,null,null,null,null,null,null,10,7]
[null,null,null,null,null,null,null,10,8]
[null,null,null,null,null,null,null,10,9]
[]
[]
[]
[null,"Segment Number",null,"Type","Boundary Conditions",null,null,"Applicable Worksheet (similar segment can use same worksheet)","Segment Safety Score"]
[null,null,null,null,"BMP","EMP","Length",null,"Existing","Standard","Design 1","Design 2","Optimal"]
[null,1,null,"R2LS",{"$f":"+$J$13","v":0},{"$f":"IF($J$15<=1,$J$14,($J$13+1))","v":0},{"$f":"IF($J$14-$J$13>1,1,F81-E81)","v":0},"Configuration 1",{"$f":"IF($E81=\" \",\" \",INDIRECT(\"'\" & $H81 & \"'!d46\"))","v":""},{"$f":"IF($E81=\" \",\" \",INDIRECT(\"'\" & $H81 & \"'!e46\"))","v":""},{"$f":"IF($E81=\" \",\" \",INDIRECT(\"'\" & $H81 & \"'!f46\"))","v":""},{"$f":"IF($E81=\" \",\" \",INDIRECT(\"'\" & $H81 & \"'!g46\"))","v":""},{"$f":"IF($E81=\" \",\" \",INDIRECT(\"'\" & $H81 & \"'!i46\"))","v":""}]
[null,{"$f":"IF($E82=\" \",\" \", 2)","v":" "},null,{"$f":"IF(E82=\" \",\"\",\"R2LS\")","v":""},{"$f":"IF($J$14-$J$13<=1,\" \",F81)","v":" "},{"$f":"IF($E82=\" \",\" \",IF($J$14<($F81+1),$J$14,($F81+1)))","v":" "},{"$f":"+IF(E82=\" \",\" \",IF($J$14<(F81+1),(F82-E82),1))","v":" "},"Configuration 1"," "," "," "," "," "]
[null,{"$f":"IF($E83=\" \",\" \", 3)","v":" "},null,{"$f":"IF(E83=\" \",\"\",\"R2LS\")","v":""},{"$f":"IF($J$14-$J$13<=2,\" \",F82)","v":" "},{"$f":"IF($E83=\" \",\" \",IF($J$14<($F82+1),$J$14,($F82+1)))","v":" "},{"$f":"+IF(E83=\" \",\" \",IF($J$14<(F82+1),(F83-E83),1))","v":" "},"Configuration 1"," "," "," "," "," "]
[null,{"$f":"IF($E84=\" \",\" \", 4)","v":" "},null,"",{"$f":"IF($J$14-$J$13<=3,\" \",F83)","v":" "},{"$f":"IF($E84=\" \",\" \",IF($J$14<($F83+1),$J$14,($F83+1)))","v":" "},{"$f":"+IF(E84=\" \",\" \",IF($J$14<(F83+1),(F84-E84),1))","v":" "},"Configuration 1"," "," "," "," "," "]
[null,{"$f":"IF($E85=\" \",\" \", 5)","v":" "},null,"",{"$f":"IF($J$14-$J$13<=4,\" \",F84)","v":" "},{"$f":"IF($E85=\" \",\" \",IF($J$14<($F84+1),$J$14,($F84+1)))","v":" "}," ","Configuration 1"," "," "," "," "," "]
[null,{"$f":"IF($E86=\" \",\" \", 6)","v":" "},null,"",{"$f":"IF($J$14-$J$13<=5,\" \",F85)","v":" "},{"$f":"IF($E86=\" \",\" \",IF($J$14<($F85+1),$J$14,($F85+1)))","v":" "}," ","Configuration 1"," "," "," "," "," "]
[null,{"$f":"IF($E87=\" \",\" \", 7)","v":" "},null,"",{"$f":"IF($J$14-$J$13<=6,\" \",F86)","v":" "},{"$f":"IF($E87=\" \",\" \",IF($J$14<($F86+1),$J$14,($F86+1)))","v":" "}," ","Configuration 1"," "," "," "," "," "]
[null,{"$f":"IF($E88=\" \",\" \", 8)","v":" "},null,"",{"$f":"IF($J$14-$J$13<=7,\" \",F87)","v":" "}," "," ","Configuration 1"," "," "," "," "," "]
[null,{"$f":"IF($E89=\" \",\" \", 9)","v":" "},null,"",{"$f":"IF($J$14-$J$13<=8,\" \",F88)","v":" "}," "," ","Configuration 1"," "," "," "," "," "]
[null,{"$f":"IF($E90=\" \",\" \", 10)","v":" "},null,"",{"$f":"IF($J$14-$J$13<=9,\" \",F89)","v":" "}," "," ","Configuration 1"," "," "," "," "," "]
[null,{"$f":"IF($E91=\" \",\" \", 11)","v":" "},null,"",{"$f":"IF($J$14-$J$13<=10,\" \",F90)","v":" "}," "," ","Configuration 1"," "," "," "," "," "]
[null,{"$f":"IF($E92=\" \",\" \",12)","v":" "},null,"",{"$f":"IF($J$14-$J$13<=11,\" \",F91)","v":" "}," "," ","Configuration 1"," "," "," "," "," "]
[null,{"$f":"IF($E93=\" \",\" \", 13)","v":" "},null,"",{"$f":"IF($J$14-$J$13<=12,\" \",F92)","v":" "}," "," ","Configuration 1"," "," "," "," "," "]
[null,{"$f":"IF($E94=\" \",\" \", 14)","v":" "},null,"",{"$f":"IF($J$14-$J$13<=13,\" \",F93)","v":" "}," "," ","Configuration 1"," "," "," "," "," "]
[null,{"$f":"IF($E95=\" \",\" \", 15)","v":" "},null,"",{"$f":"IF($J$14-$J$13<=14,\" \",F94)","v":" "}," "," ","Configuration 1",{"$f":"IF(OR($E95=\" \",$H95=\" \"),\" \",INDIRECT(\"'\" & $H95 & \"'!d46\"))","v":" "},{"$f":"IF(OR($E95=\" \",$H95=\" \"),\" \",INDIRECT(\"'\" & $H95 & \"'!d46\"))","v":" "},{"$f":"IF(OR($E95=\" \",$H95=\" \"),\" \",INDIRECT(\"'\" & $H95 & \"'!d46\"))","v":" "},{"$f":"IF(OR($E95=\" \",$H95=\" \"),\" \",INDIRECT(\"'\" & $H95 & \"'!d46\"))","v":" "},{"$f":"IF(OR($E95=\" \",$H95=\" \"),\" \",INDIRECT(\"'\" & $H95 & \"'!d46\"))","v":" "}]
[null,null,{"$f":"\"\"& CELL(\"filename\")","v":"C:\\Users\\l-wu\\Documents\\GitHub\\RW_Intersection_Excel_Tools0\\Documents\\[Rural TwoLane v3.3.xlsm]Reporting"},"R2LS",{"$f":"J13","v":0},{"$f":"J14","v":0},{"$f":"SUM(G81:G95)","v":0},"Weighted Total Score:",{"$f":"IF(ISERROR(I98), \"Check Conf.\",I98)","v":""},{"$f":"IF(ISERROR(J98), \"Check Conf.\",J98)","v":""},{"$f":"IF(ISERROR(K98), \"Check Conf.\",K98)","v":""},{"$f":"IF(ISERROR(L98), \"Check Conf.\",L98)","v":""},{"$f":"IF(ISERROR(M98), \"Check Conf.\",M98)","v":""}]
[]
[null,null,null,null,null,null,null,null,{"$f":"+IF($G$96>14,((SUM(I$81:I$94)+(I$95*$G$95))/$G$96),IF($G$96>13,(SUM(I$81:I$93)+(I$94*$G$94))/$G$96,IF($G$96>12,(SUM(I$81:I$92)+(I$93*$G$93))/$G$96,IF($G$96>11,(SUM(I$81:I$91)+(I$92*$G$92))/$G$96,IF($G$96>10,((SUM(I$81:I$90)+(I$91*$G$91))/$G$96),IF($G$96>9,((SUM(I$81:I$89)+(I$90*$G$90))/$G$96),IF($G$96>8,(SUM(I$81:I$88)+(I$89*$G$89))/$G$96,IF($G$96>7,(SUM(I$81:I$87)+(I$88*$G$88))/$G$96,IF($G$96>6,(SUM(I$81:I$86)+(I$87*$G$87))/$G$96,IF($G$96>5,(SUM(I$81:I$85)+(I$86*$G$86))/$G$96,IF($G$96>4,(SUM(I$81:I$84)+(I$85*$G$85))/$G$96,IF($G$96>3,(SUM(I$81:I$83)+(I$84*$G$84))/$G$96,IF($G$96>2,(SUM(I$81:I$82)+I$83*$G$83)/$G$96,IF($G$96>1,(I$81+I$82*$G$82)/$G$96,I$81))))))))))))))","v":""},{"$f":"+IF($G$96>14,((SUM(J$81:J$94)+(J$95*$G$95))/$G$96),IF($G$96>13,(SUM(J$81:J$93)+(J$94*$G$94))/$G$96,IF($G$96>12,(SUM(J$81:J$92)+(J$93*$G$93))/$G$96,IF($G$96>11,(SUM(J$81:J$91)+(J$92*$G$92))/$G$96,IF($G$96>10,((SUM(J$81:J$90)+(J$91*$G$91))/$G$96),IF($G$96>9,((SUM(J$81:J$89)+(J$90*$G$90))/$G$96),IF($G$96>8,(SUM(J$81:J$88)+(J$89*$G$89))/$G$96,IF($G$96>7,(SUM(J$81:J$87)+(J$88*$G$88))/$G$96,IF($G$96>6,(SUM(J$81:J$86)+(J$87*$G$87))/$G$96,IF($G$96>5,(SUM(J$81:J$85)+(J$86*$G$86))/$G$96,IF($G$96>4,(SUM(J$81:J$84)+(J$85*$G$85))/$G$96,IF($G$96>3,(SUM(J$81:J$83)+(J$84*$G$84))/$G$96,IF($G$96>2,(SUM(J$81:J$82)+J$83*$G$83)/$G$96,IF($G$96>1,(J$81+J$82*$G$82)/$G$96,J$81))))))))))))))","v":""},{"$f":"+IF($G$96>14,((SUM(K$81:K$94)+(K$95*$G$95))/$G$96),IF($G$96>13,(SUM(K$81:K$93)+(K$94*$G$94))/$G$96,IF($G$96>12,(SUM(K$81:K$92)+(K$93*$G$93))/$G$96,IF($G$96>11,(SUM(K$81:K$91)+(K$92*$G$92))/$G$96,IF($G$96>10,((SUM(K$81:K$90)+(K$91*$G$91))/$G$96),IF($G$96>9,((SUM(K$81:K$89)+(K$90*$G$90))/$G$96),IF($G$96>8,(SUM(K$81:K$88)+(K$89*$G$89))/$G$96,IF($G$96>7,(SUM(K$81:K$87)+(K$88*$G$88))/$G$96,IF($G$96>6,(SUM(K$81:K$86)+(K$87*$G$87))/$G$96,IF($G$96>5,(SUM(K$81:K$85)+(K$86*$G$86))/$G$96,IF($G$96>4,(SUM(K$81:K$84)+(K$85*$G$85))/$G$96,IF($G$96>3,(SUM(K$81:K$83)+(K$84*$G$84))/$G$96,IF($G$96>2,(SUM(K$81:K$82)+K$83*$G$83)/$G$96,IF($G$96>1,(K$81+K$82*$G$82)/$G$96,K$81))))))))))))))","v":""},{"$f":"+IF($G$96>14,((SUM(L$81:L$94)+(L$95*$G$95))/$G$96),IF($G$96>13,(SUM(L$81:L$93)+(L$94*$G$94))/$G$96,IF($G$96>12,(SUM(L$81:L$92)+(L$93*$G$93))/$G$96,IF($G$96>11,(SUM(L$81:L$91)+(L$92*$G$92))/$G$96,IF($G$96>10,((SUM(L$81:L$90)+(L$91*$G$91))/$G$96),IF($G$96>9,((SUM(L$81:L$89)+(L$90*$G$90))/$G$96),IF($G$96>8,(SUM(L$81:L$88)+(L$89*$G$89))/$G$96,IF($G$96>7,(SUM(L$81:L$87)+(L$88*$G$88))/$G$96,IF($G$96>6,(SUM(L$81:L$86)+(L$87*$G$87))/$G$96,IF($G$96>5,(SUM(L$81:L$85)+(L$86*$G$86))/$G$96,IF($G$96>4,(SUM(L$81:L$84)+(L$85*$G$85))/$G$96,IF($G$96>3,(SUM(L$81:L$83)+(L$84*$G$84))/$G$96,IF($G$96>2,(SUM(L$81:L$82)+L$83*$G$83)/$G$96,IF($G$96>1,(L$81+L$82*$G$82)/$G$96,L$81))))))))))))))","v":""},{"$f":"+IF($G$96>14,((SUM(M$81:M$94)+(M$95*$G$95))/$G$96),IF($G$96>13,(SUM(M$81:M$93)+(M$94*$G$94))/$G$96,IF($G$96>12,(SUM(M$81:M$92)+(M$93*$G$93))/$G$96,IF($G$96>11,(SUM(M$81:M$91)+(M$92*$G$92))/$G$96,IF($G$96>10,((SUM(M$81:M$90)+(M$91*$G$91))/$G$96),IF($G$96>9,((SUM(M$81:M$89)+(M$90*$G$90))/$G$96),IF($G$96>8,(SUM(M$81:M$88)+(M$89*$G$89))/$G$96,IF($G$96>7,(SUM(M$81:M$87)+(M$88*$G$88))/$G$96,IF($G$96>6,(SUM(M$81:M$86)+(M$87*$G$87))/$G$96,IF($G$96>5,(SUM(M$81:M$85)+(M$86*$G$86))/$G$96,IF($G$96>4,(SUM(M$81:M$84)+(M$85*$G$85))/$G$96,IF($G$96>3,(SUM(M$81:M$83)+(M$84*$G$84))/$G$96,IF($G$96>2,(SUM(M$81:M$82)+M$83*$G$83)/$G$96,IF($G$96>1,(M$81+M$82*$G$82)/$G$96,M$81))))))))))))))","v":""}]

{"sheet":"Reporting_0","index":9,"n_rows":105,"n_cols":24,"rows_kept":105,"cut":false,"hidden":true,"merged":[[15,6,16,7],[5,12,6,12],[5,13,6,13],[5,17,6,17],[5,18,5,22],[6,6,6,7],[7,6,7,7],[8,6,8,7],[10,6,10,7],[11,6,11,7],[13,6,13,7],[14,6,14,7],[27,0,28,7],[27,11,28,16],[27,18,28,25],[29,0,69,7],[29,11,69,16],[29,18,35,25],[42,18,43,25],[44,18,50,25],[58,18,59,25]]}
[]
[]
[]
[]
[]
[null,null,null,{"$f":"'Start Here'!G6","v":"General Information"},null,null,null,null,null,null,null,null,{"$f":"'Start Here'!$B$79","v":"Segment Number"},{"$f":"'Start Here'!D79","v":"Type"},{"$f":"'Start Here'!E79","v":"Boundary Conditions"},null,null,"Configuration",{"$f":"'Start Here'!I79","v":"Segment Safety Score"}]
[null,null,null,null,{"$f":"'Start Here'!H7","v":"Analyst:"},null,{"$f":"'Start Here'!J7","v":0},null,null,null,null,null,null,null,{"$f":"'Start Here'!E80","v":"BMP"},{"$f":"'Start Here'!F80","v":"EMP"},{"$f":"'Start Here'!G80","v":"Length"},null,{"$f":"'Start Here'!I80","v":"Existing"},{"$f":"'Start Here'!J80","v":"Standard"},{"$f":"'Start Here'!K80","v":"Design 1"},{"$f":"'Start Here'!L80","v":"Design 2"},{"$f":"'Start Here'!M80","v":"Optimal"}]
[null,null,null,null,{"$f":"'Start Here'!H8","v":"Agency / Company / District:"},null,{"$f":"'Start Here'!J8","v":0},null,null,null,null,null,{"$f":"'Start Here'!B81","v":1},{"$f":"'Start Here'!D81","v":"R2LS"},{"$f":"'Start Here'!E81","v":0},{"$f":"'Start Here'!F81","v":0},{"$f":"'Start Here'!G81","v":0},{"$f":"'Start Here'!H81","v":"Configuration 1"},{"$f":"'Start Here'!I81","v":""},{"$f":"'Start Here'!J81","v":""},{"$f":"'Start Here'!K81","v":""},{"$f":"'Start Here'!L81","v":""},{"$f":"'Start Here'!M81","v":""}]
[null,null,null,null,{"$f":"'Start Here'!H9","v":"Date:"},null,{"$f":"'Start Here'!J9","v":"00:00:00"},null,null,null,null,null,{"$f":"'Start Here'!B82","v":" "},{"$f":"'Start Here'!D82","v":""},{"$f":"'Start Here'!E82","v":" "},{"$f":"'Start Here'!F82","v":" "},{"$f":"'Start Here'!G82","v":" "},{"$f":"'Start Here'!H82","v":"Configuration 1"},{"$f":"'Start Here'!I82","v":" "},{"$f":"'Start Here'!J82","v":" "},{"$f":"'Start Here'!K82","v":" "},{"$f":"'Start Here'!L82","v":" "},{"$f":"'Start Here'!M82","v":" "}]
[null,null,null,{"$f":"'Start Here'!G10","v":"Segment Limits (Limit up to 15 miles in length):"},null,null,null,null,null,null,null,null,{"$f":"'Start Here'!B83","v":" "},{"$f":"'Start Here'!D83","v":""},{"$f":"'Start Here'!E83","v":" "},{"$f":"'Start Here'!F83","v":" "},{"$f":"'Start Here'!G83","v":" "},{"$f":"'Start Here'!H83","v":"Configuration 1"},{"$f":"'Start Here'!I83","v":" "},{"$f":"'Start Here'!J83","v":" "},{"$f":"'Start Here'!K83","v":" "},{"$f":"'Start Here'!L83","v":" "},{"$f":"'Start Here'!M83","v":" "}]
[null,null,null,null,{"$f":"'Start Here'!H11","v":"Road Name:"},null,{"$f":"'Start Here'!J11","v":0},null,null,null,null,null,{"$f":"'Start Here'!B84","v":" "},{"$f":"'Start Here'!D84","v":""},{"$f":"'Start Here'!E84","v":" "},{"$f":"'Start Here'!F84","v":" "},{"$f":"'Start Here'!G84","v":" "},{"$f":"'Start Here'!H84","v":"Configuration 1"},{"$f":"'Start Here'!I84","v":" "},{"$f":"'Start Here'!J84","v":" "},{"$f":"'Start Here'!K84","v":" "},{"$f":"'Start Here'!L84","v":" "},{"$f":"'Start Here'!M84","v":" "}]
[null,null,null,null,{"$f":"'Start Here'!H12","v":"Category (4R, 3R) -- Future Enhancement"},null,{"$f":"'Start Here'!J12","v":0},null,null,null,null,null,{"$f":"'Start Here'!B85","v":" "},{"$f":"'Start Here'!D85","v":""},{"$f":"'Start Here'!E85","v":" "},{"$f":"'Start Here'!F85","v":" "},{"$f":"'Start Here'!G85","v":" "},{"$f":"'Start Here'!H85","v":"Configuration 1"},{"$f":"'Start Here'!I85","v":" "},{"$f":"'Start Here'!J85","v":" "},{"$f":"'Start Here'!K85","v":" "},{"$f":"'Start Here'!L85","v":" "},{"$f":"'Start Here'!M85","v":" "}]
[null,null,null,null,null,null,null,null,null,null,null,null,{"$f":"'Start Here'!B86","v":" "},{"$f":"'Start Here'!D86","v":""},{"$f":"'Start Here'!E86","v":" "},{"$f":"'Start Here'!F86","v":" "},{"$f":"'Start Here'!G86","v":" "},{"$f":"'Start Here'!H86","v":"Configuration 1"},{"$f":"'Start Here'!I86","v":" "},{"$f":"'Start Here'!J86","v":" "},{"$f":"'Start Here'!K86","v":" "},{"$f":"'Start Here'!L86","v":" "},{"$f":"'Start Here'!M86","v":" "}]
[null,null,null,null,{"$f":"'Start Here'!H13","v":"Segment Beginning Mile Point (BMP):"},null,{"$f":"'Start Here'!J13","v":0},null,null,null,null,null,{"$f":"'Start Here'!B87","v":" "},{"$f":"'Start Here'!D87","v":""},{"$f":"'Start Here'!E87","v":" "},{"$f":"'Start Here'!F87","v":" "},{"$f":"'Start Here'!G87","v":" "},{"$f":"'Start Here'!H87","v":"Configuration 1"},{"$f":"'Start Here'!I87","v":" "},{"$f":"'Start Here'!J87","v":" "},{"$f":"'Start Here'!K87","v":" "},{"$f":"'Start Here'!L87","v":" "},{"$f":"'Start Here'!M87","v":" "}]
[null,null,null,null,{"$f":"'Start Here'!H14","v":"Segment Ending Mile Point (EMP):"},null,{"$f":"'Start Here'!J14","v":0},null,null,null,null,null,{"$f":"'Start Here'!B88","v":" "},{"$f":"'Start Here'!D88","v":""},{"$f":"'Start Here'!E88","v":" "},{"$f":"'Start Here'!F88","v":" "},{"$f":"'Start Here'!G88","v":" "},{"$f":"'Start Here'!H88","v":"Configuration 1"},{"$f":"'Start Here'!I88","v":" "},{"$f":"'Start Here'!J88","v":" "},{"$f":"'Start Here'!K88","v":" "},{"$f":"'Start Here'!L88","v":" "},{"$f":"'Start Here'!M88","v":" "}]
[null,null,null,null,null,null,{"$f":"'Start Here'!J15","v":0},null,null,null,null,null,{"$f":"'Start Here'!B89","v":" "},{"$f":"'Start Here'!D89","v":""},{"$f":"'Start Here'!E89","v":" "},{"$f":"'Start Here'!F89","v":" "},{"$f":"'Start Here'!G89","v":" "},{"$f":"'Start Here'!H89","v":"Configuration 1"},{"$f":"'Start Here'!I89","v":" "},{"$f":"'Start Here'!J89","v":" "},{"$f":"'Start Here'!K89","v":" "},{"$f":"'Start Here'!L89","v":" "},{"$f":"'Start Here'!M89","v":" "}]
[null,null,null,{"$f":"'Start Here'!G16","v":"Calculated Total Segment Length (miles):"},null,null,null,null,null,null,null,null,{"$f":"'Start Here'!B90","v":" "},{"$f":"'Start Here'!D90","v":""},{"$f":"'Start Here'!E90","v":" "},{"$f":"'Start Here'!F90","v":" "},{"$f":"'Start Here'!G90","v":" "},{"$f":"'Start Here'!H90","v":"Configuration 1"},{"$f":"'Start Here'!I90","v":" "},{"$f":"'Start Here'!J90","v":" "},{"$f":"'Start Here'!K90","v":" "},{"$f":"'Start Here'!L90","v":" "},{"$f":"'Start Here'!M90","v":" "}]
[null,null,null,null,null,null,null,null,null,null,null,null,{"$f":"'Start Here'!B91","v":" "},{"$f":"'Start Here'!D91","v":""},{"$f":"'Start Here'!E91","v":" "},{"$f":"'Start Here'!F91","v":" "},{"$f":"'Start Here'!G91","v":" "},{"$f":"'Start Here'!H91","v":"Configuration 1"},{"$f":"'Start Here'!I91","v":" "},{"$f":"'Start Here'!J91","v":" "},{"$f":"'Start Here'!K91","v":" "},{"$f":"'Start Here'!L91","v":" "},{"$f":"'Start Here'!M91","v":" "}]
[null,null,null,null,null,null,null,null,null,null,null,null,{"$f":"'Start Here'!B92","v":" "},{"$f":"'Start Here'!D92","v":""},{"$f":"'Start Here'!E92","v":" "},{"$f":"'Start Here'!F92","v":" "},{"$f":"'Start Here'!G92","v":" "},{"$f":"'Start Here'!H92","v":"Configuration 1"},{"$f":"'Start Here'!I92","v":" "},{"$f":"'Start Here'!J92","v":" "},{"$f":"'Start Here'!K92","v":" "},{"$f":"'Start Here'!L92","v":" "},{"$f":"'Start Here'!M92","v":" "}]
[null,null,null,null,"FUTURE FUNDED PROJECT",{"$f":"IF(H103,\"Yes\",\"No\")","v":"No"},null,null,null,null,null,null,{"$f":"'Start Here'!B93","v":" "},{"$f":"'Start Here'!D93","v":""},{"$f":"'Start Here'!E93","v":" "},{"$f":"'Start Here'!F93","v":" "},{"$f":"'Start Here'!G93","v":" "},{"$f":"'Start Here'!H93","v":"Configuration 1"},{"$f":"'Start Here'!I93","v":" "},{"$f":"'Start Here'!J93","v":" "},{"$f":"'Start Here'!K93","v":" "},{"$f":"'Start Here'!L93","v":" "},{"$f":"'Start Here'!M93","v":" "}]
[null,null,null,null,null,null,null,null,null,null,null,null,{"$f":"'Start Here'!B94","v":" "},{"$f":"'Start Here'!D94","v":""},{"$f":"'Start Here'!E94","v":" "},{"$f":"'Start Here'!F94","v":" "},{"$f":"'Start Here'!G94","v":" "},{"$f":"'Start Here'!H94","v":"Configuration 1"},{"$f":"'Start Here'!I94","v":" "},{"$f":"'Start Here'!J94","v":" "},{"$f":"'Start Here'!K94","v":" "},{"$f":"'Start Here'!L94","v":" "},{"$f":"'Start Here'!M94","v":" "}]
[null,null,null,null,"FUTURE UNFUNDED PROJECT IDENTIFIED",{"$f":"IF(H104,\"Yes\",\"No\")","v":"No"},null,null,null,null,null,null,{"$f":"'Start Here'!B95","v":" "},{"$f":"'Start Here'!D95","v":""},{"$f":"'Start Here'!E95","v":" "},{"$f":"'Start Here'!F95","v":" "},{"$f":"'Start Here'!G95","v":" "},{"$f":"'Start Here'!H95","v":"Configuration 1"},{"$f":"'Start Here'!I95","v":" "},{"$f":"'Start Here'!J95","v":" "},{"$f":"'Start Here'!K95","v":" "},{"$f":"'Start Here'!L95","v":" "},{"$f":"'Start Here'!M95","v":" "}]
[null,null,null,null,null,null,null,null,null,null,null,null,{"$f":"'Start Here'!$C$96","v":"C:\\Users\\l-wu\\Documents\\GitHub\\RW_Intersection_Excel_Tools0\\Documents\\[Rural TwoLane v3.3.xlsm]Reporting"},{"$f":"'Start Here'!D96","v":"R2LS"},{"$f":"'Start Here'!E96","v":0},{"$f":"'Start Here'!F96","v":0},{"$f":"'Start Here'!G96","v":0},{"$f":"'Start Here'!H96","v":"Weighted Total Score:"},{"$f":"'Start Here'!I96","v":""},{"$f":"'Start Here'!J96","v":""},{"$f":"'Start Here'!K96","v":""},{"$f":"'Start Here'!L96","v":""},{"$f":"'Start Here'!M96","v":""}]
[]
[]
[]
[]
["ELEMENTS INCREASING SAFETY",null,null,null,null,null,null,null,null,null,null,"COMMENTS ON PRIMARY CONSTRAINTS",null,null,null,null,null,null,"ESTIMATED ADDITIONAL COST TO ACHIEVE OPTIMAL"]
[]
[]
[]
[]
[]
[]
[]
[]
[]
[]
[]
[]
[]
[]
[null,null,null,null,null,null,null,null,null,null,null,null,null,null,null,null,null,null,"ESTIMATED ADDITIONAL TIME (mo). TO ACHIEVE OPTIMAL"]
[]
[]
[]
[]
[]
[]
[]
[]
[]
[]
[]
[]
[]
[]
[]
[null,null,null,null,null,null,null,null,null,null,null,null,null,null,null,null,null,null,"PRIMARY CONSTRAINTS TOWARD OPTIMAL SAFETY SCORE"]
[]
[null,null,null,null,null,null,null,null,null,null,null,null,null,null,null,null,null,null,null,"A. FUNDING ELEGIBILITY / SCOPE",null,null,{"$f":"IF(X100,\"Yes\",\"No\")","v":"No"}]
[null,null,null,null,null,null,null,null,null,null,null,null,null,null,null,null,null,null,null,"B. SCHEDULE / DELIVERY TIMEFRAME",null,null,{"$f":"IF(X101,\"Yes\",\"No\")","v":"No"}]
[null,null,null,null,null,null,null,null,null,null,null,null,null,null,null,null,null,null,null,"C. LOCAL ROW / UTILITIES",null,null,"No"]
[null,null,null,null,null,null,null,null,null,null,null,null,null,null,null,null,null,null,null,"D. ROW / UTILITIES",null,null,"No"]
[null,null,null,null,null,null,null,null,null,null,null,null,null,null,null,null,null,null,null,"E. ENVIRONMENTAL ISSUES",null,null,"No"]
[null,null,null,null,null,null,null,null,null,null,null,null,null,null,null,null,null,null,null,"F. RAILROAD IMPACT",null,null,"No"]
[]
[]
[]
[]
[]
[]
[]
[]
[]
[]
[]
[]
[]
[]
[]
[]
[]
[]
[]
[]
[]
[]
[]
[]
[]
[]
[]
[]
[]
[]
[]
[]
[]
[null,null,null,null,null,null,null,null,null,null,null,null,null,null,null,null,null,null,null,null,null,null,null,false]
[null,null,null,null,null,null,null,null,null,null,null,null,null,null,null,null,null,null,null,null,null,null,null,false]
[null,null,null,null,null,null,null,null,null,null,null,null,null,null,null,null,null,null,null,null,null,null,null,false]
[null,null,null,null,null,null,null,false,null,null,null,null,null,null,null,null,null,null,null,null,null,null,null,false]
[null,null,null,null,null,null,null,false,null,null,null,null,null,null,null,null,null,null,null,null,null,null,null,false]
[null,null,null,null,null,null,null,null,null,null,null,null,null,null,null,null,null,null,null,null,null,null,null,false]

{"sheet":"Reporting","index":10,"n_rows":100,"n_cols":16,"rows_kept":100,"cut":false,"hidden":false,"merged":[[46,1,46,2],[8,11,8,15],[38,1,38,2],[8,5,9,5],[8,6,9,6],[8,7,8,9],[8,10,9,10]]}
[]
[null,"Please complete all yellow fields"]
[null,"Grey fields are automatically populated"]
[]
[null,"CCSJ"]
[null,"DIST"]
[null,"Total Project Length"]
[]
[null,{"$f":"'Start Here'!G6","v":"General Information"},null,null,null,{"$f":"'Start Here'!$B$79","v":"Segment Number"},{"$f":"'Start Here'!D79","v":"Type"},{"$f":"'Start Here'!E79","v":"Boundary Conditions"},null,null,"Configuration",{"$f":"'Start Here'!I79","v":"Segment Safety Score"}]
[null,{"$f":"'Start Here'!H7","v":"Analyst:"},{"$f":"'Start Here'!J7","v":0},null,null,null,null,{"$f":"'Start Here'!E80","v":"BMP"},{"$f":"'Start Here'!F80","v":"EMP"},{"$f":"'Start Here'!G80","v":"Length"},null,{"$f":"'Start Here'!I80","v":"Existing"},{"$f":"'Start Here'!J80","v":"Standard"},{"$f":"'Start Here'!K80","v":"Design 1"},{"$f":"'Start Here'!L80","v":"Design 2"},{"$f":"'Start Here'!M80","v":"Optimal"}]
[null,{"$f":"'Start Here'!H8","v":"Agency / Company / District:"},{"$f":"'Start Here'!J8","v":0},null,null,{"$f":"'Start Here'!B81","v":1},{"$f":"'Start Here'!D81","v":"R2LS"},{"$f":"'Start Here'!E81","v":0},{"$f":"'Start Here'!F81","v":0},{"$f":"'Start Here'!G81","v":0},{"$f":"'Start Here'!H81","v":"Configuration 1"},{"$f":"'Start Here'!I81","v":""},{"$f":"'Start Here'!J81","v":""},{"$f":"'Start Here'!K81","v":""},{"$f":"'Start Here'!L81","v":""},{"$f":"'Start Here'!M81","v":""}]
[null,{"$f":"'Start Here'!H9","v":"Date:"},{"$f":"'Start Here'!J9","v":"00:00:00"},null,null,{"$f":"'Start Here'!B82","v":" "},{"$f":"'Start Here'!D82","v":""},{"$f":"'Start Here'!E82","v":" "},{"$f":"'Start Here'!F82","v":" "},{"$f":"'Start Here'!G82","v":" "},{"$f":"'Start Here'!H82","v":"Configuration 1"},{"$f":"'Start Here'!I82","v":" "},{"$f":"'Start Here'!J82","v":" "},{"$f":"'Start Here'!K82","v":" "},{"$f":"'Start Here'!L82","v":" "},{"$f":"'Start Here'!M82","v":" "}]
[null,{"$f":"'Start Here'!G10","v":"Segment Limits (Limit up to 15 miles in length):"},null,null,null,{"$f":"'Start Here'!B83","v":" "},{"$f":"'Start Here'!D83","v":""},{"$f":"'Start Here'!E83","v":" "},{"$f":"'Start Here'!F83","v":" "},{"$f":"'Start Here'!G83","v":" "},{"$f":"'Start Here'!H83","v":"Configuration 1"},{"$f":"'Start Here'!I83","v":" "},{"$f":"'Start Here'!J83","v":" "},{"$f":"'Start Here'!K83","v":" "},{"$f":"'Start Here'!L83","v":" "},{"$f":"'Start Here'!M83","v":" "}]
[null,{"$f":"'Start Here'!H11","v":"Road Name:"},{"$f":"'Start Here'!J11","v":0},null,null,{"$f":"'Start Here'!B84","v":" "},{"$f":"'Start Here'!D84","v":""},{"$f":"'Start Here'!E84","v":" "},{"$f":"'Start Here'!F84","v":" "},{"$f":"'Start Here'!G84","v":" "},{"$f":"'Start Here'!H84","v":"Configuration 1"},{"$f":"'Start Here'!I84","v":" "},{"$f":"'Start Here'!J84","v":" "},{"$f":"'Start Here'!K84","v":" "},{"$f":"'Start Here'!L84","v":" "},{"$f":"'Start Here'!M84","v":" "}]
[null,{"$f":"'Start Here'!H12","v":"Category (4R, 3R) -- Future Enhancement"},{"$f":"'Start Here'!J12","v":0},null,null,{"$f":"'Start Here'!B85","v":" "},{"$f":"'Start Here'!D85","v":""},{"$f":"'Start Here'!E85","v":" "},{"$f":"'Start Here'!F85","v":" "},{"$f":"'Start Here'!G85","v":" "},{"$f":"'Start Here'!H85","v":"Configuration 1"},{"$f":"'Start Here'!I85","v":" "},{"$f":"'Start Here'!J85","v":" "},{"$f":"'Start Here'!K85","v":" "},{"$f":"'Start Here'!L85","v":" "},{"$f":"'Start Here'!M85","v":" "}]
[null,{"$f":"'Start Here'!H13","v":"Segment Beginning Mile Point (BMP):"},{"$f":"'Start Here'!J13","v":0},null,null,{"$f":"'Start Here'!B86","v":" "},{"$f":"'Start Here'!D86","v":""},{"$f":"'Start Here'!E86","v":" "},{"$f":"'Start Here'!F86","v":" "},{"$f":"'Start Here'!G86","v":" "},{"$f":"'Start Here'!H86","v":"Configuration 1"},{"$f":"'Start Here'!I86","v":" "},{"$f":"'Start Here'!J86","v":" "},{"$f":"'Start Here'!K86","v":" "},{"$f":"'Start Here'!L86","v":" "},{"$f":"'Start Here'!M86","v":" "}]
[null,{"$f":"'Start Here'!H14","v":"Segment Ending Mile Point (EMP):"},{"$f":"'Start Here'!J14","v":0},null,null,{"$f":"'Start Here'!B87","v":" "},{"$f":"'Start Here'!D87","v":""},{"$f":"'Start Here'!E87","v":" "},{"$f":"'Start Here'!F87","v":" "},{"$f":"'Start Here'!G87","v":" "},{"$f":"'Start Here'!H87","v":"Configuration 1"},{"$f":"'Start Here'!I87","v":" "},{"$f":"'Start Here'!J87","v":" "},{"$f":"'Start Here'!K87","v":" "},{"$f":"'Start Here'!L87","v":" "},{"$f":"'Start Here'!M87","v":" "}]
[null,{"$f":"'Start Here'!G16","v":"Calculated Total Segment Length (miles):"},{"$f":"'Start Here'!J15","v":0},null,null,{"$f":"'Start Here'!B88","v":" "},{"$f":"'Start Here'!D88","v":""},{"$f":"'Start Here'!E88","v":" "},{"$f":"'Start Here'!F88","v":" "},{"$f":"'Start Here'!G88","v":" "},{"$f":"'Start Here'!H88","v":"Configuration 1"},{"$f":"'Start Here'!I88","v":" "},{"$f":"'Start Here'!J88","v":" "},{"$f":"'Start Here'!K88","v":" "},{"$f":"'Start Here'!L88","v":" "},{"$f":"'Start Here'!M88","v":" "}]
[null,null,null,null,null,{"$f":"'Start Here'!B89","v":" "},{"$f":"'Start Here'!D89","v":""},{"$f":"'Start Here'!E89","v":" "},{"$f":"'Start Here'!F89","v":" "},{"$f":"'Start Here'!G89","v":" "},{"$f":"'Start Here'!H89","v":"Configuration 1"},{"$f":"'Start Here'!I89","v":" "},{"$f":"'Start Here'!J89","v":" "},{"$f":"'Start Here'!K89","v":" "},{"$f":"'Start Here'!L89","v":" "},{"$f":"'Start Here'!M89","v":" "}]
[null,null,null,null,null,{"$f":"'Start Here'!B90","v":" "},{"$f":"'Start Here'!D90","v":""},{"$f":"'Start Here'!E90","v":" "},{"$f":"'Start Here'!F90","v":" "},{"$f":"'Start Here'!G90","v":" "},{"$f":"'Start Here'!H90","v":"Configuration 1"},{"$f":"'Start Here'!I90","v":" "},{"$f":"'Start Here'!J90","v":" "},{"$f":"'Start Here'!K90","v":" "},{"$f":"'Start Here'!L90","v":" "},{"$f":"'Start Here'!M90","v":" "}]
[null,null,null,null,null,{"$f":"'Start Here'!B91","v":" "},{"$f":"'Start Here'!D91","v":""},{"$f":"'Start Here'!E91","v":" "},{"$f":"'Start Here'!F91","v":" "},{"$f":"'Start Here'!G91","v":" "},{"$f":"'Start Here'!H91","v":"Configuration 1"},{"$f":"'Start Here'!I91","v":" "},{"$f":"'Start Here'!J91","v":" "},{"$f":"'Start Here'!K91","v":" "},{"$f":"'Start Here'!L91","v":" "},{"$f":"'Start Here'!M91","v":" "}]
[null,null,null,null,null,{"$f":"'Start Here'!B92","v":" "},{"$f":"'Start Here'!D92","v":""},{"$f":"'Start Here'!E92","v":" "},{"$f":"'Start Here'!F92","v":" "},{"$f":"'Start Here'!G92","v":" "},{"$f":"'Start Here'!H92","v":"Configuration 1"},{"$f":"'Start Here'!I92","v":" "},{"$f":"'Start Here'!J92","v":" "},{"$f":"'Start Here'!K92","v":" "},{"$f":"'Start Here'!L92","v":" "},{"$f":"'Start Here'!M92","v":" "}]
[null,null,null,null,null,{"$f":"'Start Here'!B93","v":" "},{"$f":"'Start Here'!D93","v":""},{"$f":"'Start Here'!E93","v":" "},{"$f":"'Start Here'!F93","v":" "},{"$f":"'Start Here'!G93","v":" "},{"$f":"'Start Here'!H93","v":"Configuration 1"},{"$f":"'Start Here'!I93","v":" "},{"$f":"'Start Here'!J93","v":" "},{"$f":"'Start Here'!K93","v":" "},{"$f":"'Start Here'!L93","v":" "},{"$f":"'Start Here'!M93","v":" "}]
[null,null,null,null,null,{"$f":"'Start Here'!B94","v":" "},{"$f":"'Start Here'!D94","v":""},{"$f":"'Start Here'!E94","v":" "},{"$f":"'Start Here'!F94","v":" "},{"$f":"'Start Here'!G94","v":" "},{"$f":"'Start Here'!H94","v":"Configuration 1"},{"$f":"'Start Here'!I94","v":" "},{"$f":"'Start Here'!J94","v":" "},{"$f":"'Start Here'!K94","v":" "},{"$f":"'Start Here'!L94","v":" "},{"$f":"'Start Here'!M94","v":" "}]
[null,null,null,null,null,{"$f":"'Start Here'!B95","v":" "},{"$f":"'Start Here'!D95","v":""},{"$f":"'Start Here'!E95","v":" "},{"$f":"'Start Here'!F95","v":" "},{"$f":"'Start Here'!G95","v":" "},{"$f":"'Start Here'!H95","v":"Configuration 1"},{"$f":"'Start Here'!I95","v":" "},{"$f":"'Start Here'!J95","v":" "},{"$f":"'Start Here'!K95","v":" "},{"$f":"'Start Here'!L95","v":" "},{"$f":"'Start Here'!M95","v":" "}]
[null,null,null,null,null,{"$f":"'Start Here'!$C$96","v":"C:\\Users\\l-wu\\Documents\\GitHub\\RW_Intersection_Excel_Tools0\\Documents\\[Rural TwoLane v3.3.xlsm]Reporting"},{"$f":"'Start Here'!D96","v":"R2LS"},{"$f":"'Start Here'!E96","v":0},{"$f":"'Start Here'!F96","v":0},{"$f":"'Start Here'!G96","v":0},{"$f":"'Start Here'!H96","v":"Weighted Total Score:"},{"$f":"'Start Here'!I96","v":""},{"$f":"'Start Here'!J96","v":""},{"$f":"'Start Here'!K96","v":""},{"$f":"'Start Here'!L96","v":""},{"$f":"'Start Here'!M96","v":""}]
[]
[null,"Selected Design","Design 1"]
[null,"Initial Score",{"$f":"L26","v":""}]
[null,"Final Score",{"$f":"IFERROR(HLOOKUP(C28,M10:P26,17,FALSE),\"\")","v":""}]
[null,"Safety Score Increase",{"$f":"IFERROR(C30-C29,\"\")","v":""}]
[]
[null,"ELEMENTS INCREASING SAFETY"]
[]
[]
[null,"KEY LEMENTS REQUIRED TO MATCH OPTIMAL SCORE"]
[]
[]
[null,"PRIMARY CONSTRAINTS TOWARD OPTIMAL SAFETY SCORE",null,null,"Options - Hide"]
[null,"A. FUNDING ELEGIBILITY / SCOPE",{"$f":"IF(I91,\"Yes\",\"No\")","v":"No"},null,"Yes","Check the boxes for Yes"]
[null,"B. SCHEDULE / DELIVERY TIMEFRAME",{"$f":"IF(I92,\"Yes\",\"No\")","v":"No"},null,"No"]
[null,"C. LOCAL ROW / UTILITIES","No"]
[null,"D. ROW / UTILITIES","No"]
[null,"E. ENVIRONMENTAL ISSUES","No"]
[null,"F. RAILROAD IMPACT","No"]
[]
[null,"PLANNED PROJECTS/PROGRAMS DEALING WITH KEY ELEMENTS TO MATCH OPTIMAL"]
[null,"FUTURE FUNDED PROJECT",{"$f":"IF(I98,\"Yes\",\"No\")","v":"No"}]
[null,"FUTURE UNFUNDED PROJECT IDENTIFIED",{"$f":"IF(I99,\"Yes\",\"No\")","v":"No"}]
[]
[null,"ESTIMATED ADDITIONAL COST TO ACHIEVE OPTIMAL"]
[]
[]
[null,"ESTIMATED ADDITIONAL TIME (mo). TO ACHIEVE OPTIMAL"]
[]
[]
[null,"COMMENTS ON PRIMARY CONSTRAINTS"]
[]
[]
[]
[]
[]
[]
[]
[]
[]
[]
[]
[]
[]
[]
[]
[]
[]
[]
[]
[]
[]
[]
[]
[]
[]
[]
[]
[]
[]
[]
[]
[]
[]
[null,null,null,null,null,null,null,null,false]
[null,null,null,null,null,null,null,null,false]
[null,null,null,null,null,null,null,null,false]
[null,null,null,null,null,null,null,null,false]
[null,null,null,null,null,null,null,null,false]
[null,null,null,null,null,null,null,null,false]
[]
[null,null,null,null,null,null,null,null,false]
[null,null,null,null,null,null,null,null,false]
[null,null,null,null,null,null,null,null,false]

{"sheet":"Configuration 1","index":11,"n_rows":439,"n_cols":113,"rows_kept":439,"cut":false,"hidden":false,"merged":[[76,22,76,23],[77,22,77,23],[78,16,78,21],[78,22,78,23],[45,12,45,19],[38,9,38,10],[17,2,18,8],[9,3,9,4],[10,3,10,4],[12,2,15,4],[12,5,12,6],[13,5,13,6],[14,5,14,6],[11,5,11,6],[2,1,2,4],[3,1,3,4],[4,1,4,2],[4,3,4,4],[86,1,86,2],[84,1,84,2],[85,1,85,2],[5,1,5,2],[5,3,5,4],[6,1,6,7],[7,1,7,4],[8,3,8,4],[8,5,8,6],[7,7,7,8],[9,5,9,6],[10,5,10,6],[95,10,95,12],[20,5,20,7],[1,21,1,37],[4,21,44,28],[4,30,44,37],[2,21,3,28],[2,30,3,37],[1,6,2,7],[3,6,4,7],[1,8,2,8],[3,8,4,8],[77,16,77,21],[74,16,74,23],[75,16,75,21],[75,22,75,23],[76,16,76,21]]}
[]
[null,null,null,null,null,null,"Preferred Schematic View to Display",null,"Standard",null,null,null,null,null,null,null,null,null,null,null,null,"NOTES: "]
[null,"CHARACTERISTICS TO CONSIDER FOR ANALYSIS",null,null,null,null,null,null,null,null,null,null,null,null,null,null,null,null,null,null,null,"ELEMENTS INCREASING SAFETY",null,null,null,null,null,null,null,null,"COMMENTS ON PRIMARY CONSTRAINTS"]
[null,"INPUT INSTRUCTIONS",null,null,null,null,"Relative to",null,"Existing"]
[null,"Blue Boxes -- Select from pulldown options",null,"Select from Pulldown"]
[null,"Yellow Boxes -- Type input information into box",null,"Type Input Value"]
[null," Rural Two-Lane Road Segment -- Safety Score Input",null,null,null,null,null,null,null,null,null,null,null,null,null,null,null,null,null,null,null,null,null,null,null,null,null,null,null,null,null,null,null,null,null,null,null,null,null,null,null,null,null,null,null,null,null,null,null,null,null,null,null,null,null,null,null,null,null,null,null,null,null,null,null,null,null,null,null,null,null,null,null,null,null,null,null,null,null,null,null,null,null,"Unadjusted Marginal Safety"]
[null,"General Information:",null,null,null,"General Site Features",null,{"$f":"I315 & \" Missing Features and Curves\"","v":"9 Missing Features and Curves"},null,null,null,null,null,null,null,null,null,null,null,null,null,null,null,null,null,null,null,null,null,null,null,null,null,null,null,null,null,null,null,null,null,null,null,null,null,null,null,null,null,null,null,null,null,null,null,null,null,null,null,null,null,null,null,null,null,null,null,null,null,null,null,null,null,null,null,null,null,null,null,null,null,null,null,{"$f":"I2&\" relative to \" &I4","v":"Standard relative to Existing"}]
[null,null,"Analyst:",{"$f":"+'Start Here'!J7","v":0},null,"Location "]
[null,null,"Agency or Company:",{"$f":"+'Start Here'!J8","v":0},null,"Design Speed (mph)"]
[null,null,"Date:",{"$f":"+'Start Here'!J9","v":"00:00:00"},null,"Posted Speed (mph)"]
[null,null,"Description:",null,null,"E max (%)"]
[null,null,null,null,null,"Design Year AADT (vehicles per day)"]
[null,null,null,null,null,"Dist. from Centerline to Left   ROW (feet)"]
[null,null,null,null,null,"Dist. from Centerline to Right ROW (feet)"]
[]
[null,"Warning:"]
[null,null,{"$f":"+IF(+I11>I10,\"Posted speed exceeds design speed. Optimal safety will only be achieved if design speed exceeds posted speed. The Safety Assessment Score is based on the higher of the two speed values.\",\"No warnings identified\")","v":"No warnings identified"}]
[null,null,null,null,null,null,null,null,null,null,null,null,null,null,null,{"$f":"\"Unadjusted Marginal Safety of elements in \"&I2&\" from Design Standards\"","v":"Unadjusted Marginal Safety of elements in Standard from Design Standards"},null,null,null,null,null,null,null,null,null,null,null,null,null,null,null,null,null,null,null,null,null,null,null,null,null,null,null,null,null,null,null,null,null,null,null,null,null,null,null,null,null,null,null,null,null,null,null,null,null,null,null,null,null,null,null,null,null,null,null,null,null,null,null,null,null,null,null,null,null,null,null,null,null,null,null,null,null,null,null,null,null,null,null,null,null,null,null,null,null,{"$f":"COUNTIF(DB23:DB41,DB20)","v":1}]
[null,null,null,null,null,null,null,null,null,null,null,null,null,null,null,null,null,null,null,null,null,null,null,null,null,null,null,null,null,null,null,null,null,null,null,null,null,null,null,null,null,null,null,null,null,null,null,null,null,null,null,null,null,null,null,null,null,null,null,null,null,null,null,null,null,null,null,null,null,null,null,null,null,null,null,null,null,null,null,null,null,null,null,null,null,null,null,null,null,null,null,null,null,null,null,null,null,null,null,null,null,null,null,null,null,{"$f":"VLOOKUP(0,CZ23:DB41,3,)","v":10.01}]
[null,null,null,"Fill all elements",null,"To enter notes, use boxes to the right of the vortex ",null,null,null,null," "]
[null,{"$f":"+Construction!$I$8&\"  Total Available Points\"","v":"40  Total Available Points"},null,{"$f":"D249 & \" Missing Elements\"","v":"18 Missing Elements"},null,{"$f":"F249 & \" Missing Elements\"","v":"18 Missing Elements"},{"$f":"G249 & \" Missing Elements\"","v":"18 Missing Elements"},null,null,null,null,null,null,null,null,null,null,null,null,null,null,null,null,null,null,null,null,null,null,null,null,null,null,null,null,null,null,null,null,null,null,null,null,null,null,null,null,null,null,null,null,null,null,null,null,null,null,null,null,null,null,null,null,null,null,null,null,null,null,null,null,null,null,null,null,null,null,null,null,null,null,null,null,null,null,null,null,null,null,null,null,null,null,null,null,null,null,null,null,null,null,"Ranked element","CRF","abs","Re-rank","Rank","Ranked CRF","Element","New Element","crf.abs","rank","Sorted Element","Sorted CRF"]
[null,"Geometric Design Elements",null,"Existing","Standard","Design 1","Design 2",{"$f":"\"Marginal Safety for \"&$I$2&\" (compared to \" & $I$4 & \")\"","v":"Marginal Safety for Standard (compared to Existing)"},"Optimal",null,null,null,null,null,null,null,null,null,null,null,null,null,null,null,null,null,null,null,null,null,null,null,null,null,null,null,null,null,null,null,null,null,null,null,null,null,null,null,null,null,null,null,null,null,null,null,null,null,null,null,null,null,null,null,null,null,null,null,null,null,null,null,null,null,null,null,null,null,null,null,null,null,null,null,null,null,null,null,null,null,null,null,null,null,null,null,null,null,null,null,null,{"$f":"IF(CY23=0,\"\",DB23&\". \"&DD23)","v":""},{"$f":"H24","v":0},{"$f":"ABS(CY23)","v":0},{"$f":"RANK(DB23,$DB$23:$DB$41,1)","v":10},{"$f":"_xlfn.RANK.EQ(CZ23,$CZ$23:$CZ$41)+DG23/100","v":10.01},{"$f":"CY23","v":0},{"$f":"IF(ROUND(DF23,2)=0,\"\",C24)","v":""},{"$f":"DD23","v":""},{"$f":"CZ23","v":0},1,{"$f":"IFERROR(IF(IFERROR(VLOOKUP(DG23,$DA$23:$DF$41,4,)&\", \"&CY23=0,\"\"),\"\",IFERROR(VLOOKUP(DG23,$DA$23:$DE$41,4,),\"\")),\"\")","v":"TWLTL (two-way left-turn lane)"},{"$f":"IFERROR(IF(IFERROR(VLOOKUP(DG23,$DA$23:$DF$41,3,)&\", \"&CY23=0,\"\"),\"\",IFERROR(VLOOKUP(DG23,$DA$23:$DE$41,3,),\"\")),\"\")","v":-0.40845070422535223}]
[null,null,"Lane Width (feet)",null,12,null,null,{"$f":"M100","v":0},12,null,null,null,null,null,null,null,null,null,null,null,null,null,null,null,null,null,null,null,null,null,null,null,null,null,null,null,null,null,null,null,null,null,null,null,null,null,null,null,null,null,null,null,null,null,null,null,null,null,null,null,null,null,null,null,null,null,null,null,null,null,null,null,null,null,null,null,null,null,null,null,null,null,null,null,null,null,null,null,null,null,null,null,null,null,null,null,null,null,null,null,null,"5.02. Shoulder Width (feet)",{"$f":"H25","v":0.15503875968992242},0.15503875968992242,{"$f":"RANK(DB24,$DB$23:$DB$41,1)","v":5},{"$f":"_xlfn.RANK.EQ(CZ24,$CZ$23:$CZ$41)+DG24/100","v":5.0199999999999996},{"$f":"CY24","v":0.15503875968992242},{"$f":"IF(ROUND(DF24,2)=0,\"\",C25)","v":"Shoulder Width (feet)"},{"$f":"DD24","v":"Shoulder Width (feet)"},0.15503875968992242,2,"Pavement Friction (skid number) ***",{"$f":"IFERROR(IF(IFERROR(VLOOKUP(DG24,$DA$23:$DF$41,3,)&\", \"&CY24=0,\"\"),\"\",IFERROR(VLOOKUP(DG24,$DA$23:$DE$41,3,),\"\")),\"\")","v":0.28430956017940245}]
[null,null,"Shoulder Width (feet)",null,{"$f":"IF('Start Here'!$J$12=\"4R\",8,4)","v":4},null,null,{"$f":"M101","v":0.15503875968992242},10,null,null,null,null,null,null,null,null,null,null,null,null,null,null,null,null,null,null,null,null,null,null,null,null,null,null,null,null,null,null,null,null,null,null,null,null,null,null,null,null,null,null,null,null,null,null,null,null,null,null,null,null,null,null,null,null,null,null,null,null,null,null,null,null,null,null,null,null,null,null,null,null,null,null,null,null,null,null,null,null,null,null,null,null,null,null,null,null,null,null,null,null,"",{"$f":"H29","v":0},0,11,10.029999999999999,0,{"$f":"IF(ROUND(DF25,2)=0,\"\",\"Hz and Vt Alignment\")","v":""},"",0,3,"Driveway Density (driveways per mile)",-0.22388114201141129]
[null,null,"Cross-slope or Superelevation (%)",null,{"$f":"IF($I$12=6,IFERROR(VLOOKUP(E29,$C$382:$D$402,2,TRUE),6),IFERROR(VLOOKUP(E29,$C$409:$D$439,2,TRUE),8))","v":8},null,null,null,{"$f":"I12","v":0},null,null,null,null,null,null,null,null,null,null,null,null,null,null,null,null,null,null,null,null,null,null,null,null,null,null,null,null,null,null,null,null,null,null,null,null,null,null,null,null,null,null,null,null,null,null,null,null,null,null,null,null,null,null,null,null,null,null,null,null,null,null,null,null,null,null,null,null,null,null,null,null,null,null,null,null,null,null,null,null,null,null,null,null,null,null,null,null,null,null,null,null,"1.04. TWLTL (two-way left-turn lane)",{"$f":"H43","v":-0.40845070422535223},0.40845070422535223,1,1.04,-0.40845070422535223,{"$f":"IF(ROUND(DF26,2)=0,\"\",C43)","v":"TWLTL (two-way left-turn lane)"},"TWLTL (two-way left-turn lane)",0.40845070422535223,4,"Centerline Rumble Strips",-0.16279069767441867]
["",null,"Horizontal Curve Present?","--","--","--","--",null,"--",null,null,null,null,null,null,null,null,null,null,null,null,null,null,null,null,null,null,null,null,null,null,null,null,null,null,null,null,null,null,null,null,null,null,null,null,null,null,null,null,null,null,null,null,null,null,null,null,null,null,null,null,null,null,null,null,null,null,null,null,null,null,null,null,null,null,null,null,null,null,null,null,null,null,null,null,null,null,null,null,null,null,null,null,null,null,null,null,null,null,null,null,"",{"$f":"H44","v":0},0,12,10.050000000000001,0,{"$f":"IF(ROUND(DF27,2)=0,\"\",C44)","v":""},"",0,5,"Shoulder Width (feet)",0.15503875968992242]
[null,null,"Horizontal Curve Data for Controlling Element:","--","--","--","--",null,"--",null,null,null,null,null,null,null,null,null,null,null,null,null,null,null,null,null,null,null,null,null,null,null,null,null,null,null,null,null,null,null,null,null,null,null,null,null,null,null,null,null,null,null,null,null,null,null,null,null,null,null,null,null,null,null,null,null,null,null,null,null,null,null,null,null,null,null,null,null,null,null,null,null,null,null,null,null,null,null,null,null,null,null,null,null,null,null,null,null,null,null,null,"",{"$f":"H52","v":0},0,13,10.06,0,{"$f":"IF(ROUND(DF28,2)=0,\"\",C52)","v":""},"",0,6,"Edgeline Pavement Markings or Profile Markings",0.13824118691351761]
[null,null,"  Radius (feet)",null,{"$f":"IF(MAX($I$10,$I$11)<45,590,IF($I$12=6,VLOOKUP(MAX($I$10,$I$11),Construction!$B$29:$D$36,2,TRUE),VLOOKUP(MAX($I$10,$I$11),Construction!$G$29:$I$36,2,TRUE)))","v":590},null,null,{"$f":"M140","v":0},{"$f":"IF(MAX($I$10,$I$11)<45,590,IF($I$12=6,VLOOKUP(MAX($I$10,$I$11),Construction!$B$45:$C$52,2,TRUE),VLOOKUP(MAX($I$10,$I$11),Construction!$G$45:$H$52,2,TRUE)))","v":590},null,null,null,null,null,null,null,null,null,null,null,null,null,null,null,null,null,null,null,null,null,null,null,null,null,null,null,null,null,null,null,null,null,null,null,null,null,null,null,null,null,null,null,null,null,null,null,null,null,null,null,null,null,null,null,null,null,null,null,null,null,null,null,null,null,null,null,null,null,null,null,null,null,null,null,null,null,null,null,null,null,null,null,null,null,null,null,null,null,null,null,null,"",0,0,14,10.07,0,"","",0,7,"Lateral Clearance to obstruction (ft)",9.0307162971216326E-2]
[null,null,"Length of Horizontal Curve (feet)",null,{"$f":"IF(D31=\"\", \"\", E29*E31/57.296)","v":""},null,null,null,{"$f":"I29*I31/57.296","v":3758.5520804244625},null,null,null,null,null,null,null,null,null,null,null,null,null,null,null,null,null,null,null,null,null,null,null,null,null,null,null,null,null,null,null,null,null,null,null,null,null,null,null,null,null,null,null,null,null,null,null,null,null,null,null,null,null,null,null,null,null,null,null,null,null,null,null,null,null,null,null,null,null,null,null,null,null,null,null,null,null,null,null,null,null,null,null,null,null,null,null,null,null,null,null,null,"",0,0,15,10.08,0,"","",0,8,"SafetyEdge",-2.8188991921691331E-2]
[null,null,"Calculated Deflection Angle ∆",{"$f":"IF(OR(ISBLANK(D29),ISBLANK(D30),$B$27=\"No\",ISBLANK($B$27)),\"\",ROUND(D30/D29*57.296,1))","v":""},{"$f":"IF(ISBLANK(D31), \"\",D31)","v":""},{"$f":"IF(OR(ISBLANK(F29),ISBLANK(F30),$B$27=\"No\",ISBLANK($B$27)),\"\",ROUND(F30/F29*57.296,1))","v":""},{"$f":"IF(OR(ISBLANK(G29),ISBLANK(G30),$B$27=\"No\",ISBLANK($B$27)),\"\",ROUND(G30/G29*57.296,1))","v":""},null,{"$f":"MIN(D31,IF(F33=INDEX(HCurveChange,1,0), F31, 365),IF(G33=INDEX(HCurveChange,1,0), G31, 365))","v":365},null,null,null,null,null,null,null,null,null,null,null,null,null,null,null,null,null,null,null,null,null,null,null,null,null,null,null,null,null,null,null,null,null,null,null,null,null,null,null,null,null,null,null,null,null,null,null,null,null,null,null,null,null,null,null,null,null,null,null,null,null,null,null,null,null,null,null,null,null,null,null,null,null,null,null,null,null,null,null,null,null,null,null,null,null,null,null,null,null,null,null,null,"6.09. Edgeline Pavement Markings or Profile Markings",0.13824118691351761,0.13824118691351761,6,6.09,0.13824118691351761,"Edgeline Pavement Markings or Profile Markings","Edgeline Pavement Markings or Profile Markings",0.13824118691351761,9,"Lighting",-2.3499081529478438E-2]
[null,null,null,null,null,"∆ has changed. \nAre you changing the ∆?","∆ has changed. \nAre you changing the ∆?",null,null,null,null,null,null,null,null,null,null,null,null,null,null,null,null,null,null,null,null,null,null,null,null,null,null,null,null,null,null,null,null,null,null,null,null,null,null,null,null,null,null,null,null,null,null,null,null,null,null,null,null,null,null,null,null,null,null,null,null,null,null,null,null,null,null,null,null,null,null,null,null,null,null,null,null,null,null,null,null,null,null,null,null,null,null,null,null,null,null,null,null,null,null,"",0,{"$f":"ABS(CY32)","v":0},16,10.1,0,"",{"$f":"DD32","v":""},0,10,"",0]
[null,null,null,null,null,null,null,null,null,null,null,null,null,null,null,null,null,null,null,null,null,null,null,null,null,null,null,null,null,null,null,null,null,null,null,null,null,null,null,null,null,null,null,null,null,null,null,null,null,null,null,null,null,null,null,null,null,null,null,null,null,null,null,null,null,null,null,null,null,null,null,null,null,null,null,null,null,null,null,null,null,null,null,null,null,null,null,null,null,null,null,null,null,null,null,null,null,null,null,null,null,"4.11. Centerline Rumble Strips",-0.16279069767441867,0.16279069767441867,4,4.1100000000000003,-0.16279069767441867,"Centerline Rumble Strips","Centerline Rumble Strips",0.16279069767441867,11,"",0]
[null,null,"Vertical Curve Present?","--","--","--","--",null,{"$f":"E34","v":"--"},null,null,null,null,null,null,null,null,null,null,null,null,null,null,null,null,null,null,null,null,null,null,null,null,null,null,null,null,null,null,null,null,null,null,null,null,null,null,null,null,null,null,null,null,null,null,null,null,null,null,null,null,null,null,null,null,null,null,null,null,null,null,null,null,null,null,null,null,null,null,null,null,null,null,null,null,null,null,null,null,null,null,null,null,null,null,null,null,null,null,null,null,"3.12. Driveway Density (driveways per mile)",-0.22388114201141129,0.22388114201141129,3,3.12,-0.22388114201141129,{"$f":"IF(DF34=0,\"\",C58)","v":"Driveway Density (driveways per mile)"},"Driveway Density (driveways per mile)",0.22388114201141129,12,"",0]
[null,null,"Vertical Curve Data for Controlling Element:","--","--","--","--",null,"--",null,null,null,null,null,null,null,null,null,null,null,null,null,null,null,null,null,null,null,null,null,null,null,null,null,null,null,null,null,null,null,null,null,null,null,null,null,null,null,null,null,null,null,null,null,null,null,null,null,null,null,null,null,null,null,null,null,null,null,null,null,null,null,null,null,null,null,null,null,null,null,null,null,null,null,null,null,null,null,null,null,null,null,null,null,null,null,null,null,null,null,null,"9.13. Lighting",-2.3499081529478438E-2,2.3499081529478438E-2,9,9.1300000000000008,-2.3499081529478438E-2,{"$f":"IF(DF35=0,\"\",C59)","v":"Lighting"},"Lighting",2.3499081529478438E-2,13,"",0]
[null,null,"  Approach (Entry) Grade, G1 (%)",null,{"$f":"IF(ISBLANK(D36),\"\", D36)","v":""},null,null,null,{"$f":"IF(B34=\"Yes\",I227,I237)","v":""},null,null,null,null,null,null,null,null,null,null,null,null,null,null,null,null,null,null,null,null,null,null,null,null,null,null,null,null,null,null,null,null,null,null,null,null,null,null,null,null,null,null,null,null,null,null,null,null,null,null,null,null,null,null,null,null,null,null,null,null,null,null,null,null,null,null,null,null,null,null,null,null,null,null,null,null,null,null,null,null,null,null,null,null,null,null,null,null,null,null,null,null,"2.14. Pavement Friction (skid number) ***",0.28430956017940245,0.28430956017940245,2,2.14,0.28430956017940245,{"$f":"IF(DF36=0,\"\",C60)","v":"Pavement Friction (skid number) ***"},"Pavement Friction (skid number) ***",0.28430956017940245,14,"",0]
[null,null,"  Departure (Exit) Grade, G2 (%)",null,{"$f":"IF(ISBLANK(D37),\"\", D37)","v":""},null,null,null,{"$f":"IF($B$34=\"Yes\",I228,\"\")","v":""},null,null,null,null,null,null,null,null,null,null,null,null,null,null,null,null,null,null,null,null,null,null,null,null,null,null,null,null,null,null,null,null,null,null,null,null,null,null,null,null,null,null,null,null,null,null,null,null,null,null,null,null,null,null,null,null,null,null,null,null,null,null,null,null,null,null,null,null,null,null,null,null,null,null,null,null,null,null,null,null,null,null,null,null,null,null,null,null,null,null,null,null,"",{"$f":"H72","v":0},0,17,10.15,0,{"$f":"IF(DF37=0,\"\",C72)","v":""},"",0,15,"",0]
[null,null,"  Length (feet)",null,{"$f":"IF(AND($B$34=\"Yes\", D39<>\"\"), ABS(E36-E37)*D39, \"\")","v":""},null,null,null,{"$f":"IF(AND($B$34=\"Yes\",I36<>\"\",I37<>\"\", NOT(ISBLANK($I$10)), NOT(ISBLANK($I$11))),ABS(I37-I36)*I39,\"\")","v":""},null,null,null,null,null,null,null,null,null,null,null,null,null,null,null,null,null,null,null,null,null,null,null,null,null,null,null,null,null,null,null,null,null,null,null,null,null,null,null,null,null,null,null,null,null,null,null,null,null,null,null,null,null,null,null,null,null,null,null,null,null,null,null,null,null,null,null,null,null,null,null,null,null,null,null,null,null,null,null,null,null,null,null,null,null,null,null,null,null,null,null,null,"",{"$f":"H73","v":0},{"$f":"ABS(CY38)","v":0},18,10.16,0,{"$f":"IF(DF38=0,\"\",C73)","v":""},"",0,16,"",0]
[null,null,"  Calculated Rate of Change, K (ft/ft)",{"$f":"IF(OR($B$34=\"No\",ISBLANK($B$34), ISBLANK(D36), ISBLANK(D37),ISBLANK(D38), D36=D37), \"\", ROUND(D38/(ABS(D37-D36)),1))","v":""},{"$f":"IF(AND($B$34=\"Yes\", NOT(ISBLANK($I$10)), NOT(ISBLANK($I$11)), D39<>\"\"), IF($E$42=\"Crest\",  VLOOKUP(MAX($I$10,$I$11),Construction!$B$159:$D$171,2,TRUE), VLOOKUP(MAX($I$10,$I$11),Construction!$B$159:$D$171,3,TRUE)), \"\")","v":""},{"$f":"IF(AND($B$34=\"Yes\", SUM(F263:F265)=0),ROUND(F38/(ABS(F37-F36)),1),\"\")","v":""},{"$f":"IF(AND($B$34=\"Yes\", SUM(G263:G265)=0),ROUND(G38/(ABS(G37-G36)),1),\"\")","v":""},null,{"$f":"IF(OR($B$34<>\"Yes\", ISBLANK($I$10), ISBLANK($I$11), $I$36=\"\", $I$37=\"\", $I$42=\"--\", ISBLANK($I$42)),\"\",IF($I$42=\"Crest\",VLOOKUP(MAX($I$10,$I$11),Construction!$B$179:$D$191,2,TRUE),VLOOKUP(MAX($I$10,$I$11),Construction!$B$179:$D$191,3,TRUE)))","v":""},null,null,null,null,null,null,null,null,null,null,null,null,null,null,null,null,null,null,null,null,null,null,null,null,null,null,null,null,null,null,null,null,null,null,null,null,null,null,null,null,null,null,null,null,null,null,null,null,null,null,null,null,null,null,null,null,null,null,null,null,null,null,null,null,null,null,null,null,null,null,null,null,null,null,null,null,null,null,null,null,null,null,null,null,null,null,null,null,null,null,null,null,"8.17. SafetyEdge",{"$f":"H74","v":-2.8188991921691331E-2},{"$f":"ABS(CY39)","v":2.8188991921691331E-2},8,8.17,-2.8188991921691331E-2,{"$f":"IF(DF39=0,\"\",C74)","v":"SafetyEdge"},"SafetyEdge",2.8188991921691331E-2,17,"",0]
[null,null,null,null,null,"Are you changing the geometry?","Are you changing the geometry?",null,null,null,null,null,null,null,null,null,null,null,null,null,null,null,null,null,null,null,null,null,null,null,null,null,null,null,null,null,null,null,null,null,null,null,null,null,null,null,null,null,null,null,null,null,null,null,null,null,null,null,null,null,null,null,null,null,null,null,null,null,null,null,null,null,null,null,null,null,null,null,null,null,null,null,null,null,null,null,null,null,null,null,null,null,null,null,null,null,null,null,null,null,null,"7.18. Lateral Clearance to obstruction (ft)",{"$f":"H75","v":9.0307162971216326E-2},{"$f":"ABS(CY40)","v":9.0307162971216326E-2},7,7.18,9.0307162971216326E-2,{"$f":"IF(DF40=0,\"\",C75)","v":"Lateral Clearance to obstruction (ft)"},"Lateral Clearance to obstruction (ft)",9.0307162971216326E-2,18,"",0]
[null,null,null,null,null,null,null,null,null,null,null,null,null,null,null,null,null,null,null,null,null,null,null,null,null,null,null,null,null,null,null,null,null,null,null,null,null,null,null,null,null,null,null,null,null,null,null,null,null,null,null,null,null,null,null,null,null,null,null,null,null,null,null,null,null,null,null,null,null,null,null,null,null,null,null,null,null,null,null,null,null,null,null,null,null,null,null,null,null,null,null,null,null,null,null,null,null,null,null,null,null,"",{"$f":"H76","v":0},{"$f":"ABS(CY41)","v":0},19,10.19,0,{"$f":"IF(DF41=0,\"\",C76)","v":""},"",0,19,"",0]
[null,null,"  Calculated Sag or Crest?",{"$f":"IF(AND($B$34=\"Yes\", SUM(D263:D265)=0),IF(D36>D37,\"Crest\",\"Sag\"),\"--\")","v":"--"},{"$f":"IF(AND($B$34=\"Yes\", SUM(D263:D265)=0),IF(E36>E37,\"Crest\",\"Sag\"),\"--\")","v":"--"},{"$f":"IF(AND($B$34=\"Yes\", SUM(F263:F265)=0),IF(F36>F37,\"Crest\",\"Sag\"),\"--\")","v":"--"},{"$f":"IF(AND($B$34=\"Yes\", SUM(G263:G265)=0),IF(G36>G37,\"Crest\",\"Sag\"),\"--\")","v":"--"},null,{"$f":"IF($B$34=\"Yes\",IF(I36>I37,\"Crest\",\"Sag\"),\"--\")","v":"--"}]
[null,null,"TWLTL (two-way left-turn lane)",null,"No",null,null,{"$f":"M108","v":-0.40845070422535223},{"$f":"IF(OR($D$43=\"Yes\", $F$43=\"Yes\",$G$43=\"Yes\"), \"Yes\", \"No\")","v":"No"}]
[null,null,"Passing Lane Type",null,"No Passing Lane",null,null,{"$f":"M109","v":0},"Super 2"]
[null,null,"Geometric Design Element (Partial Score)",{"$f":"IF(OR(SUM(D251:D253,D256:D257,D263:D265,D270:D271)>0, ISERR(D125)),\"\",D125)","v":""},{"$f":"IF(OR(SUM(E251:E253,E256:E257,E263:E265,E270:E271)>0, ISERR(E125)),\"\",E125)","v":""},"","",null,{"$f":"IF(OR(SUM(I251:I253,I256:I257,I263:I265,I270:I271)>0, ISERR(I125)),\"\",I125)","v":""}]
[null,null,"Total Safety Score",{"$f":"IF(OR(D$249>0, $I$315>0,ISERROR(D$201+D$171+D$125)),\"\",D$201+D$171+D$125)","v":""},{"$f":"IF(OR(E$249>0, $I$315>0,ISERROR(E$201+E$171+E$125)),\"\",E$201+E$171+E$125)","v":""},"","",null,"",null,null,null,"SCHEMATIC REPRESENTING INPUT DATA FOR ",null,null,null,null,null,null,null,{"$f":"IF($I$2=\"Existing\",\"EXISTING CONFIGURATION\",IF($I$2=\"Standard\",\"STANDARD OPTION\",IF($I$2=\"Design 1\",\"DESIGN 1 OPTION\",IF($I$2=\"Design 2\",\"DESIGN 2 OPTION\",\"OPTIMAL OPTION\"))))","v":"STANDARD OPTION"}]
[]
[null,null,null,null,null,null,null,null,null,null,null,"LT",null,null,null,null,null,null,null,null,null,null,null,null,null,null,"RT"]
[null,null,null,null,null,null,null,null,null,null,null,"R/W",null,null,null,null,null,null,null,null,null,null,null,null,null,null,"R/W"]
[null,{"$f":"+Construction!$I$9&\"  Total Available Points\"","v":"20  Total Available Points"}]
[null,"Traffic Elements",null,"Existing","Standard","Design 1","Design 2",{"$f":"$H$23","v":"Marginal Safety for Standard (compared to Existing)"},"Optimal",null,null,null,null,null,{"$f":"+$I$14","v":0},null,null,null,null,null,null,null,{"$f":"+$I$15","v":0}]
[null,null,"Advance Static Curve Warning Signs",null,"No",null,null,{"$f":"M145","v":0},"Yes"]
[null,null,"Chevron Signs on Horizontal Curves",null,"No",null,null,{"$f":"M146","v":0},"Yes",null,null,{"$f":"+O51-N53-Q53","v":-16},null,{"$f":"IF(+$I$2=\"Existing\",D25,IF($I$2=\"Standard\",E25,IF($I$2=\"Design 1\",F25,IF($I$2=\"Design 2\",G25,I25))))","v":4},null,null,{"$f":"IF(+$I$2=\"Existing\",D24,IF($I$2=\"Standard\",E24,IF($I$2=\"Design 1\",F24,IF($I$2=\"Design 2\",G24,I24))))","v":12},null,null,null,null,{"$f":"+Q53","v":12},null,null,{"$f":"+N53","v":4},{"$f":"+W51-V53-Y53","v":-16}]
[null,null,"Post-Mounted Delineators",null,"No",null,null,0,"Yes"]
[null,null,"Edgeline Pavement Markings or Profile Markings",null,"Yes",null,null,0.13824118691351761,"Yes"]
[null,null,"Shoulder Rumble Strips",null,"Yes",null,null,{"$f":"M150","v":0},"Yes"]
[null,null,"Centerline Rumble Strips",null,"No",null,null,{"$f":"M151","v":-0.16279069767441867},"Yes"]
[null,null,"Driveway Density (driveways per mile)",null,10,null,null,{"$f":"M152","v":-0.22388114201141129},0]
[null,null,"Lighting",null,"No",null,null,{"$f":"M153","v":-2.3499081529478438E-2},"Yes",null,null,null,null,null,null,null,null,null,"Tangent X-Section"]
[null,null,"Pavement Friction (skid number) ***",null,37,null,null,{"$f":"M154","v":0.28430956017940245},54]
[]
[null,null,"Traffic Control Element (Partial Score):",{"$f":"IF(ISERROR(D171), \"\", D171)","v":12},{"$f":"IF(ISERROR(E171), \"\", E171)","v":14},{"$f":"IF(ISERROR(F171), \"\", F171)","v":""},{"$f":"IF(ISERROR(G171), \"\", G171)","v":""},null,{"$f":"IF(ISERROR(I171), \"\", I171)","v":20}]
[null,null,"Total Safety Score",{"$f":"IF(OR(D$249>0, $I$315>0,ISERROR(D$201+D$171+D$125)),\"\",D$201+D$171+D$125)","v":""},{"$f":"IF(OR(E$249>0, $I$315>0,ISERROR(E$201+E$171+E$125)),\"\",E$201+E$171+E$125)","v":""},"","",null,""]
[]
[null,null,"*** Pavement friction/skid numbers will not be subject to open records requests ***",null,null,null,null,null,null,null," "]
[]
[]
[]
[null,null,null,null,null,null,null,null,null,null,null,null,null,null,null,null,null,null,"Curved X-Section"]
[null,{"$f":"+Construction!$I$10&\"  Total Available Points\"","v":"40  Total Available Points"}]
[null,"Roadside  Elements",null,"Existing","Standard","Design 1","Design 2",{"$f":"$H$23","v":"Marginal Safety for Standard (compared to Existing)"},"Optimal"]
[null,null,"Sideslope (Foreslope)",null,"1V:4H",null,null,{"$f":"M180","v":0},"1V:6H"]
[null,null,"Backslope",null,{"$f":"E72","v":"1V:4H"},null,null,{"$f":"M181","v":0},"1V:4H"]
[null,null,"SafetyEdge",null,"No",null,null,{"$f":"M182","v":-2.8188991921691331E-2},"Yes"]
[null,null,"Lateral Clearance to obstruction (ft)",null,30,null,null,{"$f":"M183","v":9.0307162971216326E-2},40,null,null,null,null,null,null,null,{"$f":"IF($I$2=\"Existing\",\"SCORE SUMMARY FOR EXISTING CONFIGURATION\", IF($I$2=\"Standard\",\"SCORE SUMMARY FOR STANDARD OPTION\",IF($I$2=\"Design 1\",\"SCORE SUMMARY FOR DESIGN 1 OPTION\",IF($I$2=\"Design 2\",\"SCORE SUMMARY FOR DESIGN 2 OPTION\", \"SCORE SUMMARY FOR OPTIMAL OPTION\"))))","v":"SCORE SUMMARY FOR STANDARD OPTION"}]
[null,null,"Obstruction Type",null,"Other Fixed Object",null,null,{"$f":"M184","v":0},"None",null,null,null,null,null,null,null,"GEOMETRIC DESIGN:",null,null,null,null,null,{"$f":"IF($I$2=\"Existing\",D45,IF($I$2=\"Standard\",E45,IF($I$2=\"Design 1\",F45,IF($I$2=\"Design 2\",G45,I45))))","v":""}]
[null,null,"Roadside Element (Partial Score):",{"$f":"IF(ISERR(D201),\"\",D201)","v":""},{"$f":"IF(ISERR(E201),\"\",E201)","v":27},{"$f":"IF(ISERR(F201),\"\",F201)","v":""},{"$f":"IF(ISERR(G201),\"\",G201)","v":""},null,{"$f":"IF(ISERR(I201),\"\",I201)","v":40},null,null,null,null,null,null,null,"TRAFFIC CONTROL:",null,null,null,null,null,{"$f":"IF($I$2=\"Existing\",D62,IF($I$2=\"Standard\",E62,IF($I$2=\"Design 1\",F62,IF($I$2=\"Design 2\",G62,I62))))","v":14}]
[null,null,"Total Safety Score",{"$f":"IF(OR(D$249>0, $I$315>0,ISERROR(D$201+D$171+D$125)),\"\",D$201+D$171+D$125)","v":""},{"$f":"IF(OR(E$249>0, $I$315>0,ISERROR(E$201+E$171+E$125)),\"\",E$201+E$171+E$125)","v":""},"","",null,"",null,null,null,null,null,null,null,"ROADSIDE:",null,null,null,null,null,{"$f":"IF($I$2=\"Existing\",D77,IF($I$2=\"Standard\",E77,IF($I$2=\"Design 1\",F77,IF($I$2=\"Design 2\",G77,I77))))","v":27}]
[null,null,null,null,null,null,null,null,null,null,null,null,null,null,null,null,"OVERALL SAFETY SCORE:",null,null,null,null,null,{"$f":"SUM(W76:X78)","v":41}]
[]
[]
[]
[null,"ADDITIONAL SIDESLOPE INFORMATION"]
[null,null,"Distance to Slope Toe from Shoulder (ft)",null,{"$f":"D84","v":0},{"$f":"E84","v":0},{"$f":"F84","v":0},null,{"$f":"G84","v":0}]
[null,"Minimum foreslope feasible within current ROW",null,null,{"$f":"IF(OR(ISBLANK($D$84), ISERROR(E206)), \"\", \"1V:\"&E206&\"H\")","v":""},{"$f":"IF(OR(ISBLANK($D$84), ISERROR(F206)), \"\", \"1V:\"&F206&\"H\")","v":""},{"$f":"IF(OR(ISBLANK($D$84), ISERROR(G206)), \"\", \"1V:\"&G206&\"H\")","v":""},null,{"$f":"IF(OR(ISBLANK($D$84), ISERROR(I206)), \"\", \"1V:\"&I206&\"H\")","v":""}]
[null,"Additional R/W needed on left side",null,null,{"$f":"IF(OR(ISBLANK($D$84), ISERROR(E210)),\"\", MAX(E210,E213))","v":""},{"$f":"IF(OR(ISBLANK($D$84), ISERROR(F210)), \"\", MAX(F210,F213))","v":""},{"$f":"IF(OR(ISBLANK($D$84), ISERROR(G210)),\"\", MAX(G210,G213))","v":""},null,{"$f":"IF(OR(ISBLANK($D$84), ISERROR(I210)),\"\", MAX(I210,I213))","v":""}]
[null,"Additional R/W needed on right side",null,null,{"$f":"IF(OR(ISBLANK($D$84), ISERROR(E211)), \"\", MAX(E211,E214))","v":""},{"$f":"IF(OR(ISBLANK($D$84), ISERROR(F211)), \"\", MAX(F211,F214))","v":""},{"$f":"IF(OR(ISBLANK($D$84), ISERROR(G211)),\"\", MAX(G211,G214))","v":""},null,{"$f":"IF(OR(ISBLANK($D$84), ISERROR(I211)),\"\", MAX(I211,I214))","v":""}]
[]
[]
[]
[]
[]
[]
[]
[null,null,null,null,null,null,null,null,null,{"$f":"1-I100/E100","v":0}]
[null,null,null,null,null,null,null,null,null,{"$f":"1-I101/E101","v":0.17431192660550465},"For Plot"]
[null,null,null,{"$f":"MAX(SUM(D103:D107)-5,$I$97)","v":{"$error":"#VALUE!"}},{"$f":"MAX(SUM(E103:E107)-5,$I$97)","v":{"$error":"#VALUE!"}},{"$f":"MAX(SUM(F103:F107)-5,$I$97)","v":{"$error":"#VALUE!"}},{"$f":"MAX(SUM(G103:G107)-5,$I$97)","v":{"$error":"#VALUE!"}},null,{"$f":"SUM(I103:I107)-5","v":{"$error":"#VALUE!"}},{"$f":"1-I102/E102","v":0},"relative to","Prefer"]
[null,null,null,null,null,null,null,null,null,{"$f":"1-I103/E103","v":{"$error":"#VALUE!"}},{"$f":"MATCH(K99,ModView,0)","v":1},{"$f":"MATCH(L99,ModView,0)","v":2}]
[null,"Geometric",null,null,null,null,null,null,null,null,{"$f":"I4","v":"Existing"},{"$f":"I2","v":"Standard"},"%"]
[null,null,"LW CMF",{"$f":"VLOOKUP(+D24,Construction!$C$3:$D$9,2)","v":{"$error":"#N/A"}},{"$f":"VLOOKUP(+E24,Construction!$C$3:$D$9,2)","v":1},{"$f":"VLOOKUP(+F24,Construction!$C$3:$D$9,2)","v":{"$error":"#N/A"}},{"$f":"VLOOKUP(+G24,Construction!$C$3:$D$9,2)","v":{"$error":"#N/A"}},{"$f":"H24","v":0},{"$f":"VLOOKUP(+I24,Construction!$C$3:$D$9,2)","v":1},null,{"$f":"INDEX($D100:$I100,K$98)","v":{"$error":"#N/A"}},{"$f":"INDEX($D100:$I100,L$98)","v":1},{"$f":"IF(ISERROR(1-L100/K100), 0, 1-L100/K100)","v":0}]
[null,null,"SW CMF",{"$f":"VLOOKUP(D25,Construction!$C$13:D23,2)","v":1.29},{"$f":"VLOOKUP(E25,Construction!$C$13:E23,2)","v":1.0900000000000001},{"$f":"VLOOKUP(F25,Construction!$C$13:F23,2)","v":1.29},{"$f":"VLOOKUP(G25,Construction!$C$13:G23,2)","v":1.29},{"$f":"IF($I$2=\"Existing\",(1-D101/E101),(IF($I$2=\"Design 1\",(1-F101/E101),(IF($I$2=\"Design 2\",(1-G101/E101),(IF($I$2=\"Optimal\",(1-I101/E101),0)))))))","v":0},{"$f":"VLOOKUP(I25,Construction!$C$13:I23,2)","v":0.9},null,{"$f":"INDEX($D101:$I101,K$98)","v":1.29},{"$f":"INDEX($D101:$I101,L$98)","v":1.0900000000000001},{"$f":"IF(ISERROR(1-L101/K101), 0, 1-L101/K101)","v":0.15503875968992242}]
[null,null,"Placeholder for super deficincy",1,1,1,1,0,1,null,{"$f":"INDEX($D102:$I102,K$98)","v":1},{"$f":"INDEX($D102:$I102,L$98)","v":1},0]
[null,null,"HC and Grade",{"$f":"D$134^D$127","v":1},{"$f":"E$134^E$127","v":{"$error":"#VALUE!"}},{"$f":"F$134^F$127","v":1},{"$f":"G$134^G$127","v":1},0,{"$f":"I$134^I$127","v":{"$error":"#VALUE!"}},null,{"$f":"INDEX($D103:$I103,K$98)","v":1},{"$f":"INDEX($D103:$I103,L$98)","v":{"$error":"#VALUE!"}},0]
[null,null,"HC and VC Crest type I",{"$f":"D$135^D$128","v":1},{"$f":"E$135^E$128","v":1},{"$f":"F$135^F$128","v":1},{"$f":"G$135^G$128","v":1},0,{"$f":"I$135^I$128","v":{"$error":"#VALUE!"}},null,{"$f":"INDEX($D104:$I104,K$98)","v":1},{"$f":"INDEX($D104:$I104,L$98)","v":1},0]
[null,null,"HC and VC Sag type I",{"$f":"D$136^D$129","v":1},{"$f":"E$136^E$129","v":1},{"$f":"F$136^F$129","v":1},{"$f":"G$136^G$129","v":1},0,{"$f":"I$136^I$129","v":{"$error":"#VALUE!"}},null,{"$f":"INDEX($D105:$I105,K$98)","v":1},{"$f":"INDEX($D105:$I105,L$98)","v":1},0]
[null,null,"HC and VC Crest type II",{"$f":"D$137^D$130","v":1},{"$f":"E$137^E$130","v":1},{"$f":"F$137^F$130","v":1},{"$f":"G$137^G$130","v":1},0,{"$f":"I$137^I$130","v":{"$error":"#VALUE!"}},{"$f":"1-I111/E111","v":{"$error":"#VALUE!"}},{"$f":"INDEX($D106:$I106,K$98)","v":1},{"$f":"INDEX($D106:$I106,L$98)","v":1},0]
[null,null,"HC and VC Sag type II",{"$f":"D$138^D$131","v":1},{"$f":"E$138^E$131","v":1},{"$f":"F$138^F$131","v":1},{"$f":"G$138^G$131","v":1},0,{"$f":"I$138^I$131","v":{"$error":"#VALUE!"}},{"$f":"1-I112/E112","v":{"$error":"#VALUE!"}},{"$f":"INDEX($D107:$I107,K$98)","v":1},{"$f":"INDEX($D107:$I107,L$98)","v":1},0]
[null,null,"Add TWLTL",{"$f":"IF(D$43=\"No\",1,CMFs!$F$17)","v":0.71},{"$f":"IF(E$43=\"No\",1,CMFs!$F$17)","v":1},{"$f":"IF(F$43=\"No\",1,CMFs!$F$17)","v":0.71},{"$f":"IF(G$43=\"No\",1,CMFs!$F$17)","v":0.71},0,{"$f":"IF(I$43=\"No\",1,CMFs!$F$17)","v":1},{"$f":"1-I113/E113","v":{"$error":"#VALUE!"}},{"$f":"INDEX($D108:$I108,K$98)","v":0.71},{"$f":"INDEX($D108:$I108,L$98)","v":1},-0.40845070422535223]
[null,null,"Passing Lane Type",{"$f":"IF(ISNUMBER(INDEX(PassLNCMF, MATCH(D44,Passing_Lane_Type,0))),INDEX(PassLNCMF, MATCH(D44,Passing_Lane_Type,0)),1)","v":1},{"$f":"IF(ISNUMBER(INDEX(PassLNCMF, MATCH(E44,Passing_Lane_Type,0))),INDEX(PassLNCMF, MATCH(E44,Passing_Lane_Type,0)),1)","v":1},{"$f":"IF(ISNUMBER(INDEX(PassLNCMF, MATCH(F44,Passing_Lane_Type,0))),INDEX(PassLNCMF, MATCH(F44,Passing_Lane_Type,0)),1)","v":1},{"$f":"IF(ISNUMBER(INDEX(PassLNCMF, MATCH(G44,Passing_Lane_Type,0))),INDEX(PassLNCMF, MATCH(G44,Passing_Lane_Type,0)),1)","v":1},0,{"$f":"IF(ISNUMBER(INDEX(PassLNCMF, MATCH(I44,Passing_Lane_Type,0))),INDEX(PassLNCMF, MATCH(I44,Passing_Lane_Type,0)),1)","v":0.65},{"$f":"1-I114/E114","v":{"$error":"#VALUE!"}},{"$f":"INDEX($D109:$I109,K$98)","v":1},{"$f":"INDEX($D109:$I109,L$98)","v":1},0]
[null,null,null,null,null,null,null,null,null,{"$f":"I115/E115","v":{"$error":"#VALUE!"}}]
[null,null,"COMBINED Calculated CMF",{"$f":"+D100*D101*D102*D103*D104*D105*D106*D107*D108*D109","v":{"$error":"#N/A"}},{"$f":"+E100*E101*E102*E103*E104*E105*E106*E107*E108*E109","v":{"$error":"#VALUE!"}},{"$f":"+F100*F101*F102*F103*F104*F105*F106*F107*F108*F109","v":{"$error":"#N/A"}},{"$f":"+G100*G101*G102*G103*G104*G105*G106*G107*G108*G109","v":{"$error":"#N/A"}},{"$f":"IF($I$2=\"Existing\",(D111),(IF($I$2=\"Design 1\",(F111),(IF($I$2=\"Design 2\",(G111),(IF($I$2=\"Optimal\",(I111),E111)))))))","v":{"$error":"#VALUE!"}},{"$f":"+I100*I101*I102*I103*I104*I105*I106*I107*I108*I109","v":{"$error":"#VALUE!"}},null,{"$f":"INDEX($D111:$I111,K$98)","v":{"$error":"#N/A"}},{"$f":"INDEX($D111:$I111,L$98)","v":{"$error":"#VALUE!"}},0]
[null,null,"Calculated Relative to Design Standards (Column E)",{"$f":"+D111/$E$111","v":{"$error":"#N/A"}},{"$error":"#VALUE!"},{"$error":"#N/A"},{"$error":"#N/A"},{"$error":"#VALUE!"},{"$error":"#VALUE!"},null,{"$f":"INDEX($D112:$I112,K$98)","v":{"$error":"#N/A"}},{"$f":"INDEX($D112:$I112,L$98)","v":{"$error":"#VALUE!"}},0]
[null,null,"P(Crash)",{"$f":"+D112/(D112+1)","v":{"$error":"#N/A"}},{"$error":"#VALUE!"},{"$error":"#N/A"},{"$error":"#N/A"},{"$error":"#VALUE!"},{"$error":"#VALUE!"},null,{"$f":"INDEX($D113:$I113,K$98)","v":{"$error":"#N/A"}},{"$f":"INDEX($D113:$I113,L$98)","v":{"$error":"#VALUE!"}},0]
[null,null,"Factor Change on S curve",{"$f":"+D113/$E$113","v":{"$error":"#N/A"}},{"$error":"#VALUE!"},{"$error":"#N/A"},{"$error":"#N/A"},{"$error":"#VALUE!"},{"$error":"#VALUE!"},null,{"$f":"INDEX($D114:$I114,K$98)","v":{"$error":"#N/A"}},{"$f":"INDEX($D114:$I114,L$98)","v":{"$error":"#VALUE!"}},0]
[null,null,"Adjust to Scale of 100",{"$f":"+$I$114/D114*100","v":{"$error":"#VALUE!"}},{"$error":"#VALUE!"},{"$error":"#VALUE!"},{"$error":"#VALUE!"},{"$error":"#VALUE!"},{"$error":"#VALUE!"}]
[null,null,"Unadjusted Combined Relative to Standard",{"$f":"+D111/$E$111","v":{"$error":"#N/A"}},{"$error":"#VALUE!"},{"$error":"#N/A"},{"$error":"#N/A"},{"$error":"#VALUE!"},{"$error":"#VALUE!"},null,{"$f":"INDEX($D116:$I116,K$98)","v":{"$error":"#N/A"}},{"$f":"INDEX($D116:$I116,L$98)","v":{"$error":"#VALUE!"}},0]
[null,null,null,null,null,null,null,null,null,{"$f":"I122/E122","v":{"$error":"#VALUE!"}}]
[null,null,"Adjusted for PA Basis",{"$f":"+D111*(1+1)/(1+D111*1)","v":{"$error":"#N/A"}},{"$error":"#VALUE!"},{"$error":"#N/A"},{"$error":"#N/A"},{"$f":"IF($I$2=\"Existing\",(D118),(IF($I$2=\"Design 1\",(F118),(IF($I$2=\"Design 2\",(G118),(IF($I$2=\"Optimal\",(I118),E118)))))))","v":{"$error":"#VALUE!"}},{"$error":"#VALUE!"},null,{"$f":"INDEX($D118:$I118,K$98)","v":{"$error":"#N/A"}},{"$f":"INDEX($D118:$I118,L$98)","v":{"$error":"#VALUE!"}},0]
[null,null,"Corrected by Odds Ratio",{"$f":"+D118/$E$118","v":{"$error":"#N/A"}},{"$error":"#VALUE!"},{"$error":"#N/A"},{"$error":"#N/A"},{"$f":"IF($I$2=\"Existing\",(D119),(IF($I$2=\"Design 1\",(F119),(IF($I$2=\"Design 2\",(G119),(IF($I$2=\"Optimal\",(I119),E119)))))))","v":{"$error":"#VALUE!"}},{"$error":"#VALUE!"},null,{"$f":"INDEX($D119:$I119,K$98)","v":{"$error":"#N/A"}},{"$f":"INDEX($D119:$I119,L$98)","v":{"$error":"#VALUE!"}},0]
[null,null,"Pinned s",{"$f":"(1/D119)^$D123","v":{"$error":"#N/A"}},{"$error":"#VALUE!"},{"$error":"#N/A"},{"$error":"#N/A"},{"$error":"#VALUE!"},{"$error":"#VALUE!"},{"$f":"I125/E125","v":{"$error":"#VALUE!"}},{"$f":"INDEX($D120:$I120,K$98)","v":{"$error":"#N/A"}},{"$f":"INDEX($D120:$I120,L$98)","v":{"$error":"#VALUE!"}},0]
[null,null,null,{"$f":"(D120+$F124-1)/(1+(D120+$F124-1))","v":{"$error":"#N/A"}},{"$error":"#VALUE!"},{"$error":"#N/A"},{"$error":"#N/A"},{"$error":"#VALUE!"},{"$error":"#VALUE!"},null,{"$f":"INDEX($D121:$I121,K$98)","v":{"$error":"#N/A"}},{"$f":"INDEX($D121:$I121,L$98)","v":{"$error":"#VALUE!"}},0]
[null,null,"Score Odds Ratio with Optimal (old)",{"$f":"MIN(ROUND($I$119/D119*Construction!$I$8,0),$I122)","v":{"$error":"#VALUE!"}},{"$f":"MIN(ROUND($I$119/E119*Construction!$I$8,0),$I122)","v":{"$error":"#VALUE!"}},{"$f":"MIN(ROUND($I$119/F119*Construction!$I$8,0),$I122)","v":{"$error":"#VALUE!"}},{"$f":"MIN(ROUND($I$119/G119*Construction!$I$8,0),$I122)","v":{"$error":"#VALUE!"}},{"$f":"IF($I$2=\"Existing\",(D122),(IF($I$2=\"Design 1\",(F122),(IF($I$2=\"Design 2\",(G122),(IF($I$2=\"Optimal\",(I122),E122)))))))","v":{"$error":"#VALUE!"}},{"$f":"ROUND($I$119/I119*Construction!$I$8,0)","v":{"$error":"#VALUE!"}}]
[null,null,"Logistic1",{"$f":"LN((D124/(1-D124))/(0.5/0.5))/LN($E119/I119)","v":{"$error":"#VALUE!"}}]
[null,null,"Logistic Param",0.999,null,{"$f":"0.7/0.3","v":2.3333333333333335}]
[null,null,"Score ",{"$f":"MIN(ROUND(D121*Construction!$I$8,0),$I122)","v":{"$error":"#N/A"}},{"$f":"MIN(ROUND(E121*Construction!$I$8,0),$I122)","v":{"$error":"#VALUE!"}},{"$f":"MIN(ROUND(F121*Construction!$I$8,0),$I122)","v":{"$error":"#N/A"}},{"$f":"MIN(ROUND(G121*Construction!$I$8,0),$I122)","v":{"$error":"#N/A"}},{"$f":"MIN(ROUND(H121*Construction!$I$8,0),$I122)","v":{"$error":"#VALUE!"}},{"$f":"MIN(ROUND(I121*Construction!$I$8,0),$I122)","v":{"$error":"#VALUE!"}}]
[]
[null,null,"HC and Grade",{"$f":"IF($B$135,0,1)","v":1},{"$f":"IF($B$135,0,1)","v":1},{"$f":"IF($B$135,0,1)","v":1},{"$f":"IF($B$135,0,1)","v":1},{"$f":"IF($I$2=\"Existing\",(D127),(IF($I$2=\"Design 1\",(F127),(IF($I$2=\"Design 2\",(G127),(IF($I$2=\"Optimal\",(I127),E127)))))))","v":1},{"$f":"IF($B$135,0,1)","v":1}]
[null,null,"HC and VC Crest type I",{"$f":"IF(AND($B$135=1,SIGN(D$36)=1,ABS(D$36)<=ABS(D$36-D$37),D$42=\"Crest\"),1,0)","v":0},{"$f":"IF(AND($B$135=1, SIGN(IF(ISNUMBER(E$36),E$36,0))=1,ABS(IF(ISNUMBER(E$36),E$36,0)) <= ABS(IF(ISNUMBER(E$36),E$36,0)-IF(ISNUMBER(E$37),E$37,0)),E$42=\"Crest\"),1,0)","v":0},{"$f":"IF(AND($B$135=1,SIGN(F$36)=1,ABS(F$36)<=ABS(F$36-F$37),F$42=\"Crest\"),1,0)","v":0},{"$f":"IF(AND($B$135=1,SIGN(G$36)=1,ABS(G$36)<=ABS(G$36-G$37),G$42=\"Crest\"),1,0)","v":0},{"$f":"IF($I$2=\"Existing\",(D128),(IF($I$2=\"Design 1\",(F128),(IF($I$2=\"Design 2\",(G128),(IF($I$2=\"Optimal\",(I128),E128)))))))","v":0},{"$f":"IF(AND($B$135=1,SIGN(I$36)=1,ABS(I$36)<=ABS(I$36-IF(ISNUMBER(I$37), I$37,0)),I$42=\"Crest\"),1,0)","v":{"$error":"#VALUE!"}}]
["HC?",null,"HC and VC Sag type I",{"$f":"IF(AND($B$135=1,SIGN(D$36)=1,ABS(D$36)<=ABS(D$36-D$37),D$42=\"Sag\"),1,0)","v":0},{"$f":"IF(AND($B$135=1, SIGN(IF(ISNUMBER(E$36),E$36,0))=1,ABS(IF(ISNUMBER(E$36),E$36,0)) <= ABS(IF(ISNUMBER(E$36),E$36,0)-IF(ISNUMBER(E$37),E$37,0)),E$42=\"Sag\"),1,0)","v":0},{"$f":"IF(AND($B$135=1,SIGN(F$36)=1,ABS(F$36)<=ABS(F$36-F$37),F$42=\"Sag\"),1,0)","v":0},{"$f":"IF(AND($B$135=1,SIGN(G$36)=1,ABS(G$36)<=ABS(G$36-G$37),G$42=\"Sag\"),1,0)","v":0},{"$f":"IF($I$2=\"Existing\",(D129),(IF($I$2=\"Design 1\",(F129),(IF($I$2=\"Design 2\",(G129),(IF($I$2=\"Optimal\",(I129),E129)))))))","v":0},{"$f":"IF(AND($B$135=1,SIGN(I$36)=1,ABS(I$36)<=ABS(I$36-IF(ISNUMBER(I$37), I$37,0)),I$42=\"Sag\"),1,0)","v":{"$error":"#VALUE!"}}]
["VC?",null,"HC and VC Crest type II",{"$f":"IF(AND($B$135=1,D$42=\"Crest\",D$128=0),1,0)","v":0},{"$f":"IF(AND($B$135=1,E$42=\"Crest\",E$128=0),1,0)","v":0},{"$f":"IF(AND($B$135=1,F$42=\"Crest\",F$128=0),1,0)","v":0},{"$f":"IF(AND($B$135=1,G$42=\"Crest\",G$128=0),1,0)","v":0},{"$f":"IF($I$2=\"Existing\",(D130),(IF($I$2=\"Design 1\",(F130),(IF($I$2=\"Design 2\",(G130),(IF($I$2=\"Optimal\",(I130),E130)))))))","v":0},{"$f":"IF(AND($B$135=1,I$42=\"Crest\",I$128=0),1,0)","v":{"$error":"#VALUE!"}}]
[null,null,"HC and VC Sag type II",{"$f":"IF(AND($B$135=1,D$42=\"Sag\",D$129=0),1,0)","v":0},{"$f":"IF(AND($B$135=1,E$42=\"Sag\",E$129=0),1,0)","v":0},{"$f":"IF(AND($B$135=1,F$42=\"Sag\",F$129=0),1,0)","v":0},{"$f":"IF(AND($B$135=1,G$42=\"Sag\",G$129=0),1,0)","v":0},{"$f":"IF($I$2=\"Existing\",(D131),(IF($I$2=\"Design 1\",(F131),(IF($I$2=\"Design 2\",(G131),(IF($I$2=\"Optimal\",(I131),E131)))))))","v":0},{"$f":"IF(AND($B$135=1,I$42=\"Sag\",I$129=0),1,0)","v":{"$error":"#VALUE!"}}]
[null,"Yes/No"]
[null,null,"HC and VC:",null,{"$f":"EXP(0.042*ABS(D$36)+$B$134*0.16*LN(2*5730/IF(ISNUMBER(E$29),E$29,1)))","v":1}]
[null,{"$f":"IF(B27=\"Yes\",1,0)","v":0},"HC and Grade",{"$f":"IF($B$135=0,EXP(0.042*ABS(D$36)+$B$134*0.16*LN(2*5730/D$141)+4.16*$B$134/D$141/IF(ISNUMBER(D$30),D$30,999999)),1)","v":1},{"$f":"IF($B$135=0,EXP(0.042*ABS(E$36)+$B$134*0.16*LN(2*5730/E$141)+4.16*$B$134/E$141/IF(ISNUMBER(E$30),E$30,999999)),1)","v":{"$error":"#VALUE!"}},1,1,{"$f":"IF($B$135=0,EXP(0.042*ABS(H$36)+$B$134*0.16*LN(2*5730/IF(ISNUMBER(H$29),H$29,1))+4.16*$B$134/IF(ISNUMBER(H$29),H$29,1)/IF(ISNUMBER(H$30),H$30,1)),1)","v":{"$error":"#DIV/0!"}},{"$error":"#VALUE!"},null,{"$f":"INDEX($D134:$I134,K$98)","v":1},{"$f":"INDEX($D134:$I134,L$98)","v":{"$error":"#VALUE!"}},0]
[null,{"$f":"IF(B34=\"Yes\",1,0)","v":0},"HC and VC Crest type I",{"$f":"IF($B$135=0,1,EXP(0.005648908*5730*ABS(+D$36-D$37)*$B$135/D$141*$B$134))","v":1},{"$f":"IF($B$135=0,1,EXP(0.005648908*5730*ABS(+E$36-E$37)*$B$135/E$141*$B$134))","v":1},1,1,{"$f":"IF($I$2=\"Existing\",(D135),(IF($I$2=\"Design 1\",(F135),(IF($I$2=\"Design 2\",(G135),(IF($I$2=\"Optimal\",(I135),E135)))))))","v":1},1,null,{"$f":"INDEX($D135:$I135,K$98)","v":1},{"$f":"INDEX($D135:$I135,L$98)","v":1},0]
[null,null,"HC and VC Sag type I",{"$f":"IF($B$135=0,1,EXP(9.15857042*$B$135/D$142+0.010284958*5730*$B$135*$B$134*ABS(+D$36-D$37)/D$141))","v":1},{"$f":"IF($B$135=0,1,EXP(9.15857042*$B$135/E$142+0.010284958*5730*$B$135*$B$134*ABS(+E$36-E$37)/E$141))","v":1},1,1,{"$f":"IF($I$2=\"Existing\",(D136),(IF($I$2=\"Design 1\",(F136),(IF($I$2=\"Design 2\",(G136),(IF($I$2=\"Optimal\",(I136),E136)))))))","v":1},1,null,{"$f":"INDEX($D136:$I136,K$98)","v":1},{"$f":"INDEX($D136:$I136,L$98)","v":1},0]
[null,null,"HC and VC Crest type II",{"$f":"IF($B$135=0,1,EXP(0.005648908*5730*ABS(+D$36-D$37)*$B$135/D$141*$B$134))","v":1},{"$f":"IF($B$135=0,1,EXP(0.005648908*5730*ABS(+E$36-E$37)*$B$135/E$141*$B$134))","v":1},1,1,{"$f":"IF($I$2=\"Existing\",(D137),(IF($I$2=\"Design 1\",(F137),(IF($I$2=\"Design 2\",(G137),(IF($I$2=\"Optimal\",(I137),E137)))))))","v":1},1,null,{"$f":"INDEX($D137:$I137,K$98)","v":1},{"$f":"INDEX($D137:$I137,L$98)","v":1},0]
[null,null,"HC and VC Sag type II",{"$f":"IF($B$135=0,1,(0.246011284*EXP(LN(0.188*2*5730/D$141)*$B$134)+0.7514288716*EXP(0.022*5730/D$141*ABS(D$36-D$37)*$B$135*$B$134)))","v":1},{"$f":"IF($B$135=0,1,(0.246011284*EXP(LN(0.188*2*5730/E$141)*$B$134)+0.7514288716*EXP(0.022*5730/E$141*ABS(E$36-E$37)*$B$135*$B$134)))","v":1},1,1,{"$f":"IF($I$2=\"Existing\",(D138),(IF($I$2=\"Design 1\",(F138),(IF($I$2=\"Design 2\",(G138),(IF($I$2=\"Optimal\",(I138),E138)))))))","v":1},1,null,{"$f":"INDEX($D138:$I138,K$98)","v":1},{"$f":"INDEX($D138:$I138,L$98)","v":1},0]
[]
[null,null,"Combined HZ and VT",{"$f":"MMULT(TRANSPOSE(D127:D131),D134:D138)","v":1},{"$f":"MMULT(TRANSPOSE(E127:E131),E134:E138)","v":{"$error":"#VALUE!"}},{"$f":"MMULT(TRANSPOSE(F127:F131),F134:F138)","v":1},{"$f":"MMULT(TRANSPOSE(G127:G131),G134:G138)","v":1},{"$f":"IF($I$2=\"Existing\",(D140),(IF($I$2=\"Design 1\",(F140),(IF($I$2=\"Design 2\",(G140),(IF($I$2=\"Optimal\",(I140),E140)))))))","v":{"$error":"#VALUE!"}},{"$f":"MMULT(TRANSPOSE(I127:I131),I134:I138)","v":{"$error":"#VALUE!"}},null,{"$f":"INDEX($D140:$I140,K$98)","v":1},{"$f":"INDEX($D140:$I140,L$98)","v":{"$error":"#VALUE!"}},{"$f":"IF(ISERROR(1-L140/K140), 0, 1-L140/K140)","v":0}]
[null,null,"effective R for calculation",{"$f":"IF(ISNUMBER(D29), D29, 99999999)","v":99999999},{"$f":"IF(ISNUMBER(E29), E29, 99999999)","v":590},99999999,99999999,null,590]
[null,null,"effective K for calculation",{"$f":"IF(ISNUMBER(D39), D39, 9999999)","v":9999999},{"$f":"IF(ISNUMBER(E39), E39, 9999999)","v":9999999},9999999,9999999,null,9999999]
[null,"Traffic"]
[null,null,null,"Existing","Standard","Design 1","Design 2"]
[null,null,"Advance static curve warning signs",{"$f":"IF(AND($B$27=\"Yes\",D$52=\"Yes\"),(Traffic!$F$4-1)*AVERAGE(Constraints!$F$37,Constraints!$H$37)/Constraints!$D$37+1,1)","v":1},{"$f":"IF(AND($B$27=\"Yes\",E$52=\"Yes\"),(Traffic!$F$4-1)*AVERAGE(Constraints!$F$37,Constraints!$H$37)/Constraints!$D$37+1,1)","v":1},{"$f":"IF(AND($B$27=\"Yes\",F$52=\"Yes\"),(Traffic!$F$4-1)*AVERAGE(Constraints!$F$37,Constraints!$H$37)/Constraints!$D$37+1,1)","v":1},{"$f":"IF(AND($B$27=\"Yes\",G$52=\"Yes\"),(Traffic!$F$4-1)*AVERAGE(Constraints!$F$37,Constraints!$H$37)/Constraints!$D$37+1,1)","v":1},{"$f":"IF($I$2=\"Existing\",(D145),(IF($I$2=\"Design 1\",(F145),(IF($I$2=\"Design 2\",(G145),(IF($I$2=\"Optimal\",(I145),E145)))))))","v":1},{"$f":"IF(AND($B$27=\"Yes\",I$52=\"Yes\"),(Traffic!$F$4-1)*AVERAGE(Constraints!$F$37,Constraints!$H$37)/Constraints!$D$37+1,1)","v":1},null,{"$f":"INDEX($D145:$I145,K$98)","v":1},{"$f":"INDEX($D145:$I145,L$98)","v":1},0]
[null,null,"Install chevron signs on horizontal curves",{"$f":"IF(D$53=\"No\",1,(IF(AND($B$27=\"Yes\",D$24<11.5),((Traffic!$F$6-1)*(Constraints!$E$35+Constraints!$E$31))+1,1)))","v":1},{"$f":"IF(E$53=\"No\",1,(IF(AND($B$27=\"Yes\",E$24<11.5),((Traffic!$F$6-1)*(Constraints!$E$35+Constraints!$E$31))+1,1)))","v":1},{"$f":"IF(F$53=\"No\",1,(IF(AND($B$27=\"Yes\",F$24<11.5),((Traffic!$F$6-1)*(Constraints!$E$35+Constraints!$E$31))+1,1)))","v":1},{"$f":"IF(G$53=\"No\",1,(IF(AND($B$27=\"Yes\",G$24<11.5),((Traffic!$F$6-1)*(Constraints!$E$35+Constraints!$E$31))+1,1)))","v":1},{"$f":"IF($I$2=\"Existing\",(D146),(IF($I$2=\"Design 1\",(F146),(IF($I$2=\"Design 2\",(G146),(IF($I$2=\"Optimal\",(I146),E146)))))))","v":1},{"$f":"IF(I$53=\"No\",1,(IF(AND($B$27=\"Yes\",I$24<11.5),((Traffic!$F$6-1)*(Constraints!$E$35+Constraints!$E$31))+1,1)))","v":1},null,{"$f":"INDEX($D146:$I146,K$98)","v":1},{"$f":"INDEX($D146:$I146,L$98)","v":1},0]
[null,null,"Install post-mounted delineators",{"$f":"IF(AND($B$27=\"Yes\",D$54=\"Yes\"),(Traffic!$F$12-1)*Constraints!$E$36+1,1)","v":1},{"$f":"IF(AND($B$27=\"Yes\",E$54=\"Yes\"),(Traffic!$F$12-1)*Constraints!$E$36+1,1)","v":1},{"$f":"IF(AND($B$27=\"Yes\",F$54=\"Yes\"),(Traffic!$F$12-1)*Constraints!$E$36+1,1)","v":1},{"$f":"IF(AND($B$27=\"Yes\",G$54=\"Yes\"),(Traffic!$F$12-1)*Constraints!$E$36+1,1)","v":1},{"$f":"IF($I$2=\"Existing\",(D147),(IF($I$2=\"Design 1\",(F147),(IF($I$2=\"Design 2\",(G147),(IF($I$2=\"Optimal\",(I147),E147)))))))","v":1},{"$f":"IF(AND($B$27=\"Yes\",I$54=\"Yes\"),(Traffic!$F$12-1)*Constraints!$E$36+1,1)","v":1},null,{"$f":"INDEX($D147:$I147,K$98)","v":1},{"$f":"INDEX($D147:$I147,L$98)","v":1},0]
[null,null,"Install edgeline  or Profile pavement markings ",{"$f":"IF(D$55=\"Yes\",Traffic!$F$18*0.5+((Traffic!$F$20*(Constraints!$H$36+Constraints!$H$32)+1*(Constraints!$H$37-(Constraints!$H$36+Constraints!$H$32)))/Constraints!$H$37)*0.5,1)","v":1},{"$f":"IF(E$55=\"Yes\",Traffic!$F$18*0.5+((Traffic!$F$20*(Constraints!$H$36+Constraints!$H$32)+1*(Constraints!$H$37-(Constraints!$H$36+Constraints!$H$32)))/Constraints!$H$37)*0.5,1)","v":0.86175881308648239},{"$f":"IF(F$55=\"Yes\",Traffic!$F$18*0.5+((Traffic!$F$20*(Constraints!$H$36+Constraints!$H$32)+1*(Constraints!$H$37-(Constraints!$H$36+Constraints!$H$32)))/Constraints!$H$37)*0.5,1)","v":1},{"$f":"IF(G$55=\"Yes\",Traffic!$F$18*0.5+((Traffic!$F$20*(Constraints!$H$36+Constraints!$H$32)+1*(Constraints!$H$37-(Constraints!$H$36+Constraints!$H$32)))/Constraints!$H$37)*0.5,1)","v":1},{"$f":"IF($I$2=\"Existing\",(D148),(IF($I$2=\"Design 1\",(F148),(IF($I$2=\"Design 2\",(G148),(IF($I$2=\"Optimal\",(I148),E148)))))))","v":0.86175881308648239},{"$f":"IF(I$55=\"Yes\",Traffic!$F$18*0.5+((Traffic!$F$20*(Constraints!$H$36+Constraints!$H$32)+1*(Constraints!$H$37-(Constraints!$H$36+Constraints!$H$32)))/Constraints!$H$37)*0.5,1)","v":0.86175881308648239},null,{"$f":"INDEX($D148:$I148,K$98)","v":1},{"$f":"INDEX($D148:$I148,L$98)","v":0.86175881308648239},0.13824118691351761]
[null,null,"Profiles",1,1,1,1,1,1,null,{"$f":"INDEX($D149:$I149,K$98)","v":1},{"$f":"INDEX($D149:$I149,L$98)","v":1},0]
[null,null,"Shoulder rumble strips",{"$f":"IF(D$56=\"No\",1,(Traffic!$F$27*(Constraints!$H$36+Constraints!$H$32)+1*(Constraints!$H$37-(Constraints!$H$36+Constraints!$H$32)))/Constraints!$H$37)","v":0.89760950690192376},{"$f":"IF(E$56=\"No\",1,(Traffic!$F$27*(Constraints!$H$36+Constraints!$H$32)+1*(Constraints!$H$37-(Constraints!$H$36+Constraints!$H$32)))/Constraints!$H$37)","v":0.89760950690192376},{"$f":"IF(F$56=\"No\",1,(Traffic!$F$27*(Constraints!$H$36+Constraints!$H$32)+1*(Constraints!$H$37-(Constraints!$H$36+Constraints!$H$32)))/Constraints!$H$37)","v":0.89760950690192376},{"$f":"IF(G$56=\"No\",1,(Traffic!$F$27*(Constraints!$H$36+Constraints!$H$32)+1*(Constraints!$H$37-(Constraints!$H$36+Constraints!$H$32)))/Constraints!$H$37)","v":0.89760950690192376},{"$f":"IF($I$2=\"Existing\",(D150),(IF($I$2=\"Design 1\",(F150),(IF($I$2=\"Design 2\",(G150),(IF($I$2=\"Optimal\",(I150),E150)))))))","v":0.89760950690192376},{"$f":"IF(I$56=\"No\",1,(Traffic!$F$27*(Constraints!$H$36+Constraints!$H$32)+1*(Constraints!$H$37-(Constraints!$H$36+Constraints!$H$32)))/Constraints!$H$37)","v":0.89760950690192376},null,{"$f":"INDEX($D150:$I150,K$98)","v":0.89760950690192376},{"$f":"INDEX($D150:$I150,L$98)","v":0.89760950690192376},0]
[null,null,"Install centerline rumble strips",{"$f":"IF(D$57=\"No\",1,Traffic!$F$30)","v":0.86},{"$f":"IF(E$57=\"No\",1,Traffic!$F$30)","v":1},{"$f":"IF(F$57=\"No\",1,Traffic!$F$30)","v":0.86},{"$f":"IF(G$57=\"No\",1,Traffic!$F$30)","v":0.86},{"$f":"IF($I$2=\"Existing\",(D151),(IF($I$2=\"Design 1\",(F151),(IF($I$2=\"Design 2\",(G151),(IF($I$2=\"Optimal\",(I151),E151)))))))","v":1},{"$f":"IF(I$57=\"No\",1,Traffic!$F$30)","v":0.86},null,{"$f":"INDEX($D151:$I151,K$98)","v":0.86},{"$f":"INDEX($D151:$I151,L$98)","v":1},-0.16279069767441867]
[null,null,"Driveway Density (driveways per mile)",{"$f":"EXP(-LN(Traffic!$F$32)*(D$58-$E$58))","v":0.81707280688754669},{"$f":"EXP(-LN(Traffic!$F$32)*(E$58-$E$58))","v":1},{"$f":"EXP(-LN(Traffic!$F$32)*(F$58-$E$58))","v":0.81707280688754669},{"$f":"EXP(-LN(Traffic!$F$32)*(G$58-$E$58))","v":0.81707280688754669},{"$f":"IF($I$2=\"Existing\",(D152),(IF($I$2=\"Design 1\",(F152),(IF($I$2=\"Design 2\",(G152),(IF($I$2=\"Optimal\",(I152),E152)))))))","v":1},{"$f":"EXP(-LN(Traffic!$F$32)*(I$58-$E$58))","v":0.81707280688754669},null,{"$f":"INDEX($D152:$I152,K$98)","v":0.81707280688754669},{"$f":"INDEX($D152:$I152,L$98)","v":1},-0.22388114201141129]
[null,null,"Install lighting",{"$f":"IF(D$59=\"No\",1,1-(((1-Traffic!$F$55*Constraints!$H$37-Constraints!$F$37/3)+((1-Traffic!$F$55*Constraints!$D$37-Constraints!$H$37)))*$S$19+((1-Traffic!$F$57)*Constraints!$F$37/3))/Constraints!$D$37)","v":0.977040446881142},{"$f":"IF(E$59=\"No\",1,1-(((1-Traffic!$F$55*Constraints!$H$37-Constraints!$F$37/3)+((1-Traffic!$F$55*Constraints!$D$37-Constraints!$H$37)))*$S$19+((1-Traffic!$F$57)*Constraints!$F$37/3))/Constraints!$D$37)","v":1},{"$f":"IF(F$59=\"No\",1,1-(((1-Traffic!$F$55*Constraints!$H$37-Constraints!$F$37/3)+((1-Traffic!$F$55*Constraints!$D$37-Constraints!$H$37)))*$S$19+((1-Traffic!$F$57)*Constraints!$F$37/3))/Constraints!$D$37)","v":0.977040446881142},{"$f":"IF(G$59=\"No\",1,1-(((1-Traffic!$F$55*Constraints!$H$37-Constraints!$F$37/3)+((1-Traffic!$F$55*Constraints!$D$37-Constraints!$H$37)))*$S$19+((1-Traffic!$F$57)*Constraints!$F$37/3))/Constraints!$D$37)","v":0.977040446881142},{"$f":"IF($I$2=\"Existing\",(D153),(IF($I$2=\"Design 1\",(F153),(IF($I$2=\"Design 2\",(G153),(IF($I$2=\"Optimal\",(I153),E153)))))))","v":1},{"$f":"IF(I$59=\"No\",1,1-(((1-Traffic!$F$55*Constraints!$H$37-Constraints!$F$37/3)+((1-Traffic!$F$55*Constraints!$D$37-Constraints!$H$37)))*$S$19+((1-Traffic!$F$57)*Constraints!$F$37/3))/Constraints!$D$37)","v":0.977040446881142},null,{"$f":"INDEX($D153:$I153,K$98)","v":0.977040446881142},{"$f":"INDEX($D153:$I153,L$98)","v":1},-2.3499081529478438E-2]
[null,null,"Pavement friction (skid number)",{"$f":"EXP(LN(Traffic!$F$49)*(D$60-$E$60))","v":1.3972521419325798},{"$f":"EXP(LN(Traffic!$F$49)*(E$60-$E$60))","v":1},{"$f":"IF(MATCH(F60,SkidNums,0)=3, $D154,EXP(LN(Traffic!$F$49)*(RIGHT(F$60,2)-$E$60)))","v":{"$error":"#N/A"}},{"$f":"IF(MATCH(G60,SkidNums,0)=3, $D154,EXP(LN(Traffic!$F$49)*(RIGHT(G$60,2)-$E$60)))","v":{"$error":"#N/A"}},{"$f":"IF($I$2=\"Existing\",(D154),(IF($I$2=\"Design 1\",(F154),(IF($I$2=\"Design 2\",(G154),(IF($I$2=\"Optimal\",(I154),E154)))))))","v":1},{"$f":"EXP(LN(Traffic!$F$49)*(I$60-$E$60))","v":0.85753553626991963},null,{"$f":"INDEX($D154:$I154,K$98)","v":1.3972521419325798},{"$f":"INDEX($D154:$I154,L$98)","v":1},0.28430956017940245]
[]
[]
[null,null,"COMBINED Calculated CMF",{"$f":"+D145*D146*D147*D148*D149*D150*D151*D152*D153*D154","v":0.86106111787419426},{"$f":"+E145*E146*E147*E148*E149*E150*E151*E152*E153*E154","v":0.7735229032829446},{"$f":"+F145*F146*F147*F148*F149*F150*F151*F152*F153*F154","v":{"$error":"#N/A"}},{"$f":"+G145*G146*G147*G148*G149*G150*G151*G152*G153*G154","v":{"$error":"#N/A"}},{"$f":"IF($I$2=\"Existing\",(D157),(IF($I$2=\"Design 1\",(F157),(IF($I$2=\"Design 2\",(G157),(IF($I$2=\"Optimal\",(I157),E157)))))))","v":0.7735229032829446},{"$f":"+I145*I146*I147*I148*I149*I150*I151*I152*I153*I154","v":0.45540422392050506},null,{"$f":"INDEX($D157:$I157,K$98)","v":0.86106111787419426},{"$f":"INDEX($D157:$I157,L$98)","v":0.7735229032829446},0.10166318368592209]
[null,null,"Calculated Relative to Design Standards (Column E)",{"$f":"+D157/$E$157","v":1.1131682258142903},{"$f":"+E157/$E$157","v":1},{"$f":"+F157/$E$157","v":{"$error":"#N/A"}},{"$f":"+G157/$E$157","v":{"$error":"#N/A"}},1,{"$f":"+I157/$E$157","v":0.58874045227064742},null,{"$f":"INDEX($D158:$I158,K$98)","v":1.1131682258142903},{"$f":"INDEX($D158:$I158,L$98)","v":1},0.1016631836859222]
[null,null,"P(Crash)",{"$f":"+D158/(D158+1)","v":0.52677690882151185},{"$f":"+E158/(E158+1)","v":0.5},{"$f":"+F158/(F158+1)","v":{"$error":"#N/A"}},{"$f":"+G158/(G158+1)","v":{"$error":"#N/A"}},0.5,{"$f":"+I158/(I158+1)","v":0.37057056829465901}]
[null,null,"Factor Change on S curve",{"$f":"+D159/$E$159","v":1.0535538176430237},{"$f":"+E159/$E$159","v":1},{"$f":"+F159/$E$159","v":{"$error":"#N/A"}},{"$f":"+G159/$E$159","v":{"$error":"#N/A"}},1,{"$f":"+I159/$E$159","v":0.74114113658931802}]
[null,null,"Adjust to Scale of 100",{"$f":"+$I$114/D160*100","v":{"$error":"#VALUE!"}},{"$f":"+$I$114/E160*100","v":{"$error":"#VALUE!"}},{"$f":"+$I$114/F160*100","v":{"$error":"#VALUE!"}},{"$f":"+$I$114/G160*100","v":{"$error":"#VALUE!"}},{"$error":"#VALUE!"},{"$f":"+$I$114/I160*100","v":{"$error":"#VALUE!"}}]
[null,null,"Unadjusted Combined Relative to Standard",{"$f":"+D157/$E$157","v":1.1131682258142903},{"$f":"+E157/$E$157","v":1},{"$f":"+F157/$E$157","v":{"$error":"#N/A"}},{"$f":"+G157/$E$157","v":{"$error":"#N/A"}},1,{"$f":"+I157/$E$157","v":0.58874045227064742}]
[null,null,null,null,null,null,null,0,null,{"$f":"I168/E168","v":1.4285714285714286}]
[null,null,"Adjusted for PA Basis",{"$f":"+D157*(1+1)/(1+D157*1)","v":0.92534426688549098},{"$f":"+E157*(1+1)/(1+E157*1)","v":0.8723010025425515},{"$f":"+F157*(1+1)/(1+F157*1)","v":{"$error":"#N/A"}},{"$f":"+G157*(1+1)/(1+G157*1)","v":{"$error":"#N/A"}},0.8723010025425515,{"$f":"+I157*(1+1)/(1+I157*1)","v":0.62581132641453641}]
[null,null,"Corrected by Odds Ratio",{"$f":"+D164/$E$164","v":1.0608084413388623},{"$f":"+E164/$E$164","v":1},{"$f":"+F164/$E$164","v":{"$error":"#N/A"}},{"$f":"+G164/$E$164","v":{"$error":"#N/A"}},1,{"$f":"+I164/$E$164","v":0.71742589380322175}]
[null,null,null,{"$f":"(1/D165)^$D169","v":0.29295399474123779},1,{"$error":"#N/A"},{"$error":"#N/A"},1,998.99999999999955,{"$f":"I171/E171","v":1.4285714285714286}]
[null,null,null,{"$f":"(D166+$F170-1)/(1+(D166+$F170-1))","v":0.61923435059440457},0.70000000000000007,{"$error":"#N/A"},{"$error":"#N/A"},0.70000000000000007,0.99900133155792281]
[null,null,"Score Odds Ratio with Optimal as 100 (old)",{"$f":"MIN(ROUND($I$165/D165*Construction!$I$9,0),$I168)","v":14},{"$f":"MIN(ROUND($I$165/E165*Construction!$I$9,0),$I168)","v":14},{"$f":"MIN(ROUND($I$165/F165*Construction!$I$9,0),$I168)","v":{"$error":"#N/A"}},{"$f":"MIN(ROUND($I$165/G165*Construction!$I$9,0),$I168)","v":{"$error":"#N/A"}},null,{"$f":"ROUND($I$165/I165*Construction!$I$9,0)","v":20}]
[null,null,"Logistic1",{"$f":"LN((D170/(1-D170))/(0.5/0.5))/LN($E165/I165)","v":20.798114554240879}]
[null,null,"Logistic Param",0.999,null,{"$f":"0.7/0.3","v":2.3333333333333335}]
[null,null,"Score ",{"$f":"MIN(ROUND(D167*Construction!$I$9,0),$I168)","v":12},{"$f":"MIN(ROUND(E167*Construction!$I$9,0),$I168)","v":14},{"$f":"MIN(ROUND(F167*Construction!$I$9,0),$I168)","v":{"$error":"#N/A"}},{"$f":"MIN(ROUND(G167*Construction!$I$9,0),$I168)","v":{"$error":"#N/A"}},null,{"$f":"MIN(ROUND(I167*Construction!$I$9,0),$I168)","v":20}]
[]
[]
[]
[]
[]
[]
[null,"Roadsde",null,"Existing","Standard","Design 1","Design 2"]
[null,null,null,{"$f":"MID(D72,FIND(\":\",D72,1)+1,FIND(\"H\",D72,1)-FIND(\":\",D72,1)-1)+0","v":{"$error":"#VALUE!"}},{"$f":"MID(E72,FIND(\":\",E72,1)+1,FIND(\"H\",E72,1)-FIND(\":\",E72,1)-1)+0","v":4},{"$f":"MID(F72,FIND(\":\",F72,1)+1,FIND(\"H\",F72,1)-FIND(\":\",F72,1)-1)+0","v":{"$error":"#VALUE!"}},{"$f":"MID(G72,FIND(\":\",G72,1)+1,FIND(\"H\",G72,1)-FIND(\":\",G72,1)-1)+0","v":{"$error":"#VALUE!"}},null,{"$f":"MID(I72,FIND(\":\",I72,1)+1,FIND(\"H\",I72,1)-FIND(\":\",I72,1)-1)+0","v":6},null,{"$f":"INDEX($D179:$I179,K$98)","v":{"$error":"#VALUE!"}},{"$f":"INDEX($D179:$I179,L$98)","v":4},{"$f":"IF(ISERROR(1-L179/K179), 0, 1-L179/K179)","v":0}]
[null,null,"Sideslope (Foreslope)",{"$f":"IF(D179<=3,1,IF(OR(D179=4,D179=5),(Roadside!$F$15-1)*Constraints!$H$37/Constraints!$D$37+1,(Roadside!$F$15*Roadside!$F$16-1)*Constraints!$H$37/Constraints!$D$37+1))","v":{"$error":"#VALUE!"}},{"$f":"IF(E179<=3,1,IF(OR(E179=4,E179=5),(Roadside!$F$15-1)*Constraints!$H$37/Constraints!$D$37+1,(Roadside!$F$15*Roadside!$F$16-1)*Constraints!$H$37/Constraints!$D$37+1))","v":0.8286893555394641},{"$f":"IF(F179<=3,1,IF(OR(F179=4,F179=5),(Roadside!$F$15-1)*Constraints!$H$37/Constraints!$D$37+1,(Roadside!$F$15*Roadside!$F$16-1)*Constraints!$H$37/Constraints!$D$37+1))","v":{"$error":"#VALUE!"}},{"$f":"IF(G179<=3,1,IF(OR(G179=4,G179=5),(Roadside!$F$15-1)*Constraints!$H$37/Constraints!$D$37+1,(Roadside!$F$15*Roadside!$F$16-1)*Constraints!$H$37/Constraints!$D$37+1))","v":{"$error":"#VALUE!"}},{"$f":"IF($I$2=\"Existing\",(D180),(IF($I$2=\"Design 1\",(F180),(IF($I$2=\"Design 2\",(G180),(IF($I$2=\"Optimal\",(I180),E180)))))))","v":0.8286893555394641},{"$f":"IF(I179<=3,1,IF(OR(I179=4,I179=5),(Roadside!$F$15-1)*Constraints!$H$37/Constraints!$D$37+1,(Roadside!$F$15*Roadside!$F$16-1)*Constraints!$H$37/Constraints!$D$37+1))","v":0.77664355022240605},null,{"$f":"INDEX($D180:$I180,K$98)","v":{"$error":"#VALUE!"}},{"$f":"INDEX($D180:$I180,L$98)","v":0.8286893555394641},0]
[null,null,"Backslope",1,1,1,1,{"$f":"IF($I$2=\"Existing\",(D181),(IF($I$2=\"Design 1\",(F181),(IF($I$2=\"Design 2\",(G181),(IF($I$2=\"Optimal\",(I181),E181)))))))","v":1},1,null,{"$f":"INDEX($D181:$I181,K$98)","v":1},{"$f":"INDEX($D181:$I181,L$98)","v":1},0]
[null,null,"SafetyEdge",{"$f":"IF(D$74=\"No\",1,(Roadside!$F$23-1)*AVERAGE(Constraints!$H$37,Constraints!$F$37)/Constraints!$D$37+1)","v":0.97258384193648495},{"$f":"IF(E$74=\"No\",1,(Roadside!$F$23-1)*AVERAGE(Constraints!$H$37,Constraints!$F$37)/Constraints!$D$37+1)","v":1},{"$f":"IF(F$74=\"No\",1,(Roadside!$F$23-1)*AVERAGE(Constraints!$H$37,Constraints!$F$37)/Constraints!$D$37+1)","v":0.97258384193648495},{"$f":"IF(G$74=\"No\",1,(Roadside!$F$23-1)*AVERAGE(Constraints!$H$37,Constraints!$F$37)/Constraints!$D$37+1)","v":0.97258384193648495},{"$f":"IF($I$2=\"Existing\",(D182),(IF($I$2=\"Design 1\",(F182),(IF($I$2=\"Design 2\",(G182),(IF($I$2=\"Optimal\",(I182),E182)))))))","v":1},{"$f":"IF(I$74=\"No\",1,(Roadside!$F$23-1)*AVERAGE(Constraints!$H$37,Constraints!$F$37)/Constraints!$D$37+1)","v":0.97258384193648495},null,{"$f":"INDEX($D182:$I182,K$98)","v":0.97258384193648495},{"$f":"INDEX($D182:$I182,L$98)","v":1},-2.8188991921691331E-2]
[null,null,"Lateral Clearance (ft)",{"$f":"IF($B$27=\"Yes\",((EXP(LN(Roadside!$F$11)*(IF(D$76=\"None\",40,D$75)-30)/30)-1))*Constraints!$H$36/Constraints!$D$37+1,((EXP(LN(Roadside!$F$10)*(IF(D$76=\"None\",40,D$75)-30)/30)-1))*Constraints!$H$36/Constraints!$D$37+1)","v":1.0992721491203288},{"$f":"IF($B$27=\"Yes\",((EXP(LN(Roadside!$F$11)*(IF(E$76=\"None\",40,E$75)-30)/30)-1))*Constraints!$H$36/Constraints!$D$37+1,((EXP(LN(Roadside!$F$10)*(IF(E$76=\"None\",40,E$75)-30)/30)-1))*Constraints!$H$36/Constraints!$D$37+1)","v":1},{"$f":"IF($B$27=\"Yes\",((EXP(LN(Roadside!$F$11)*(IF(F$76=\"None\",40,F$75)-30)/30)-1))*Constraints!$H$36/Constraints!$D$37+1,((EXP(LN(Roadside!$F$10)*(IF(F$76=\"None\",40,F$75)-30)/30)-1))*Constraints!$H$36/Constraints!$D$37+1)","v":1.0992721491203288},{"$f":"IF($B$27=\"Yes\",((EXP(LN(Roadside!$F$11)*(IF(G$76=\"None\",40,G$75)-30)/30)-1))*Constraints!$H$36/Constraints!$D$37+1,((EXP(LN(Roadside!$F$10)*(IF(G$76=\"None\",40,G$75)-30)/30)-1))*Constraints!$H$36/Constraints!$D$37+1)","v":1.0992721491203288},{"$f":"IF($I$2=\"Existing\",(D183),(IF($I$2=\"Design 1\",(F183),(IF($I$2=\"Design 2\",(G183),(IF($I$2=\"Optimal\",(I183),E183)))))))","v":1},{"$f":"IF($B$27=\"Yes\",((EXP(LN(Roadside!$F$11)*(IF(I$76=\"None\",40,I$75)-30)/30)-1))*Constraints!$H$36/Constraints!$D$37+1,((EXP(LN(Roadside!$F$10)*(IF(I$76=\"None\",40,I$75)-30)/30)-1))*Constraints!$H$36/Constraints!$D$37+1)","v":0.97455184373954995},null,{"$f":"INDEX($D183:$I183,K$98)","v":1.0992721491203288},{"$f":"INDEX($D183:$I183,L$98)","v":1},9.0307162971216326E-2]
[null,null,"Fixed Object Type",{"$f":"IF(D$76=\"Guardrail\",(Roadside!$F$25-1)*(($I$75-D$75)/$I$75)^2*Constraints!$H$36/Constraints!$D$37+1,1)","v":1},{"$f":"IF(E$76=\"Guardrail\",(Roadside!$F$25-1)*(($I$75-E$75)/$I$75)^2*Constraints!$H$36/Constraints!$D$37+1,1)","v":1},{"$f":"IF(F$76=\"Guardrail\",(Roadside!$F$25-1)*(($I$75-F$75)/$I$75)^2*Constraints!$H$36/Constraints!$D$37+1,1)","v":1},{"$f":"IF(G$76=\"Guardrail\",(Roadside!$F$25-1)*(($I$75-G$75)/$I$75)^2*Constraints!$H$36/Constraints!$D$37+1,1)","v":1},{"$f":"IF($I$2=\"Existing\",(D184),(IF($I$2=\"Design 1\",(F184),(IF($I$2=\"Design 2\",(G184),(IF($I$2=\"Optimal\",(I184),E184)))))))","v":1},{"$f":"IF(I$76=\"Guardrail\",(Roadside!$F$25-1)*(($I$75-I$75)/$I$75)^2*Constraints!$H$36/Constraints!$D$37+1,1)","v":1},null,{"$f":"INDEX($D184:$I184,K$98)","v":1},{"$f":"INDEX($D184:$I184,L$98)","v":1},0]
[]
[]
[null,null,"COMBINED Calculated CMF",{"$f":"+D180*D181*D182*D183*D184","v":{"$error":"#VALUE!"}},{"$f":"+E180*E181*E182*E183*E184","v":0.8286893555394641},{"$f":"+F180*F181*F182*F183*F184","v":{"$error":"#VALUE!"}},{"$f":"+G180*G181*G182*G183*G184","v":{"$error":"#VALUE!"}},{"$f":"IF($I$2=\"Existing\",(D187),(IF($I$2=\"Design 1\",(F187),(IF($I$2=\"Design 2\",(G187),(IF($I$2=\"Optimal\",(I187),E187)))))))","v":0.8286893555394641},{"$f":"+I180*I181*I182*I183*I184","v":0.73612867842813945}]
[null,null,"Calculated Relative to Design Standards (Column E)",{"$f":"+D187/$E$187","v":{"$error":"#VALUE!"}},{"$f":"+E187/$E$187","v":1},{"$f":"+F187/$E$187","v":{"$error":"#VALUE!"}},{"$f":"+G187/$E$187","v":{"$error":"#VALUE!"}},1,{"$f":"+I187/$E$187","v":0.88830473507039431}]
[null,null,"P(Crash)",{"$f":"+D188/(D188+1)","v":{"$error":"#VALUE!"}},{"$f":"+E188/(E188+1)","v":0.5},{"$f":"+F188/(F188+1)","v":{"$error":"#VALUE!"}},{"$f":"+G188/(G188+1)","v":{"$error":"#VALUE!"}},0.5,{"$f":"+I188/(I188+1)","v":0.47042445987261644}]
[null,null,"Factor Change on S curve",{"$f":"+D189/$E$189","v":{"$error":"#VALUE!"}},{"$f":"+E189/$E$189","v":1},{"$f":"+F189/$E$189","v":{"$error":"#VALUE!"}},{"$f":"+G189/$E$189","v":{"$error":"#VALUE!"}},1,{"$f":"+I189/$E$189","v":0.94084891974523288}]
[null,null,"Adjust to Scale of 100",{"$f":"+$I$114/D190*100","v":{"$error":"#VALUE!"}},{"$f":"+$I$114/E190*100","v":{"$error":"#VALUE!"}},{"$f":"+$I$114/F190*100","v":{"$error":"#VALUE!"}},{"$f":"+$I$114/G190*100","v":{"$error":"#VALUE!"}},{"$error":"#VALUE!"},{"$f":"+$I$114/I190*100","v":{"$error":"#VALUE!"}}]
[null,null,"Unadjusted Combined Relative to Standard",{"$f":"+D187/$E$187","v":{"$error":"#VALUE!"}},{"$f":"+E187/$E$187","v":1},{"$f":"+F187/$E$187","v":{"$error":"#VALUE!"}},{"$f":"+G187/$E$187","v":{"$error":"#VALUE!"}},1,{"$f":"+I187/$E$187","v":0.88830473507039431}]
[null,null,null,null,null,null,null,null,null,{"$f":"I198/E198","v":1.1111111111111112}]
[null,null,"Adjusted for PA Basis",{"$f":"+D187*(1+1)/(1+D187*1)","v":{"$error":"#VALUE!"}},{"$f":"+E187*(1+1)/(1+E187*1)","v":0.90632053282226321},{"$f":"+F187*(1+1)/(1+F187*1)","v":{"$error":"#VALUE!"}},{"$f":"+G187*(1+1)/(1+G187*1)","v":{"$error":"#VALUE!"}},{"$f":"IF($I$2=\"Existing\",(D194),(IF($I$2=\"Design 1\",(F194),(IF($I$2=\"Design 2\",(G194),(IF($I$2=\"Optimal\",(I194),E194)))))))","v":0.90632053282226321},{"$f":"+I187*(1+1)/(1+I187*1)","v":0.84801165671039724}]
[null,null,"Corrected by Odds Ratio",{"$f":"+D187/$E$187","v":{"$error":"#VALUE!"}},{"$f":"+E187/$E$187","v":1},{"$f":"+F187/$E$187","v":{"$error":"#VALUE!"}},{"$f":"+G187/$E$187","v":{"$error":"#VALUE!"}},{"$f":"IF($I$2=\"Existing\",(D195),(IF($I$2=\"Design 1\",(F195),(IF($I$2=\"Design 2\",(G195),(IF($I$2=\"Optimal\",(I195),E195)))))))","v":1},{"$f":"+I187/$E$187","v":0.88830473507039431}]
[null,null,null,{"$f":"(1/D195)^$D199","v":{"$error":"#VALUE!"}},1,{"$error":"#VALUE!"},{"$error":"#VALUE!"},1,998.99999999999955,{"$f":"I201/E201","v":1.4814814814814814}]
[null,null,null,{"$f":"(D196+$F200-1)/(1+(D196+$F200-1))","v":{"$error":"#VALUE!"}},0.66666666666666663,{"$error":"#VALUE!"},{"$error":"#VALUE!"},0.66666666666666663,0.99900099900099903]
[null,null,"Score Odds Ratio with Optimal as 100 (old)",{"$f":"MIN(ROUND($I$195/D195*Construction!$I$10,0),$I198)","v":{"$error":"#VALUE!"}},{"$f":"MIN(ROUND($I$195/E195*Construction!$I$10,0),$I198)","v":36},{"$f":"MIN(ROUND($I$195/F195*Construction!$I$10,0),$I198)","v":{"$error":"#VALUE!"}},{"$f":"MIN(ROUND($I$195/G195*Construction!$I$10,0),$I198)","v":{"$error":"#VALUE!"}},null,{"$f":"ROUND($I$195/I195*Construction!$I$10,0)","v":40}]
[null,null,"Logistic1",{"$f":"LN((D200/(1-D200))/(0.5/0.5))/LN($E195/I195)","v":58.314167600285003}]
[null,null,"Logistic Param",0.999,null,2]
[null,null,"Score ",{"$f":"MIN(ROUND(D197*Construction!$I$10,0),$I198)","v":{"$error":"#VALUE!"}},{"$f":"MIN(ROUND(E197*Construction!$I$10,0),$I198)","v":27},{"$f":"MIN(ROUND(F197*Construction!$I$10,0),$I198)","v":{"$error":"#VALUE!"}},{"$f":"MIN(ROUND(G197*Construction!$I$10,0),$I198)","v":{"$error":"#VALUE!"}},null,{"$f":"MIN(ROUND(I197*Construction!$I$10,0),$I198)","v":40}]
[]
[]
[]
[]
[null,null,{"$f":"D84/D179","v":{"$error":"#VALUE!"}},null,{"$f":"ROUNDUP((MIN($I$14,$I$15)-E24-E25)/$C$206,0)","v":{"$error":"#VALUE!"}},{"$f":"ROUNDUP((MIN($I$14,$I$15)-F24-F25)/$C$206,0)","v":{"$error":"#VALUE!"}},{"$f":"ROUNDUP((MIN($I$14,$I$15)-G24-G25)/$C$206,0)","v":{"$error":"#VALUE!"}},null,{"$f":"ROUNDUP((MIN($I$14,$I$15)-I24-I25)/$C$206,0)","v":{"$error":"#VALUE!"}}]
[]
[]
[null,null,"Distance to low point","Distance to low point",{"$f":"$C$206*E179","v":{"$error":"#VALUE!"}},{"$f":"$C$206*F179","v":{"$error":"#VALUE!"}},{"$f":"$C$206*G179","v":{"$error":"#VALUE!"}},null,{"$f":"$C$206*I179","v":{"$error":"#VALUE!"}}]
[null,null,null,"Additional ROW1 Needed for Foreslope",{"$f":"IF(E209>($I$14-E24-E25),E209-($I$14-E24-E25),0)","v":{"$error":"#VALUE!"}},{"$f":"IF(F209>($I$14-F24-F25),F209-($I$14-F24-F25),0)","v":{"$error":"#VALUE!"}},{"$f":"IF(G209>($I$14-G24-G25),G209-($I$14-G24-G25),0)","v":{"$error":"#VALUE!"}},null,{"$f":"IF(I209>($I$14-I24-I25),I209-($I$14-I24-I25),0)","v":{"$error":"#VALUE!"}}]
[null,null,null,"Additional ROW2 Needed for Foreslope",{"$f":"IF(E209>($I$15-E24-E25),E209-($I$15-E24-E25),0)","v":{"$error":"#VALUE!"}},{"$f":"IF(F209>($I$15-F24-F25),F209-($I$15-F24-F25),0)","v":{"$error":"#VALUE!"}},{"$f":"IF(G209>($I$15-G24-G25),G209-($I$15-G24-G25),0)","v":{"$error":"#VALUE!"}},null,{"$f":"IF(I209>($I$15-I24-I25),I209-($I$15-I24-I25),0)","v":{"$error":"#VALUE!"}}]
[]
[null,null,null,"Additional ROW1 Needed for Lateral Clearance",{"$f":"IF((CL248+E26)-$I$14<0,0,(CL248+E26)-$I$14)","v":8},{"$f":"IF((CM248+F26)-$I$14<0,0,(CM248+F26)-$I$14)","v":0},{"$f":"IF((CN248+G26)-$I$14<0,0,(CN248+G26)-$I$14)","v":0},null,{"$f":"IF((CP248+I26)-$I$14<0,0,(CP248+I26)-$I$14)","v":0}]
[null,null,null,"Additional ROW2 Needed for Lateral Clearance",{"$f":"IF((CL248+E26)-$I$15<0,0,(CL248+E26)-$I$15)","v":8},{"$f":"IF((CM248+F26)-$I$15<0,0,(CM248+F26)-$I$15)","v":0},{"$f":"IF((CN248+G26)-$I$15<0,0,(CN248+G26)-$I$15)","v":0},null,{"$f":"IF((CP248+I26)-$I$15<0,0,(CP248+I26)-$I$15)","v":0}]
[]
[]
[]
[]
[]
[]
[]
[]
[]
[]
[]
[null,null,"For Vertical Opt Use when Yes Vertical:"]
[null,null,"G1",{"$f":"D36","v":0},null,{"$f":"F36","v":0},{"$f":"G36","v":0},null,{"$f":"IF(ISERROR($E$234),\"\",INDEX(D227:G227,$E$234))","v":""}]
[null,null,"G2",{"$f":"D37","v":0},null,{"$f":"F37","v":0},{"$f":"G37","v":0},null,{"$f":"IF(ISERROR($E$234),\"\",INDEX(D228:G228,$E$234))","v":""}]
[null,null,"abs(G2-G1)",{"$f":"ABS(D36-D37)","v":0},null,{"$f":"ABS(F36-F37)","v":0},{"$f":"ABS(G36-G37)","v":0}]
[null,null,"Count in indicator (K no change; or K change but accept)",{"$f":"IF(D39<>\"\",1,\"\")","v":""},null,{"$f":"IF(OR(AND($B$34 = \"Yes\", $D$39 <> F39, F39 <>\"\", $D$39 <> \"\", F41=\"Yes.\"),AND($B$34 = \"Yes\", $D$39 = F39, F39 <>\"\", $D$39 <> \"\")), 1,\"\")","v":""},{"$f":"IF(OR(AND($B$34 = \"Yes\", $D$39 <> G39, G39 <>\"\", $D$39 <> \"\", G41=\"Yes.\"),AND($B$34 = \"Yes\", $D$39 = G39, G39 <>\"\", $D$39 <> \"\")), 1,\"\")","v":""}]
[]
[null,null,"Valid abs(G2-G1)",{"$f":"IF(ISERROR(D229*D230),\"\",D229*D230)","v":""},null,{"$f":"IF(ISERROR(F229*F230),\"\",F229*F230)","v":""},{"$f":"IF(ISERROR(G229*G230),\"\",G229*G230)","v":""}]
[null,null,"The min valid abs(G2-G1)",null,{"$f":"MIN(D232,F232,G232)","v":0}]
[null,null,"Index",null,{"$f":"MATCH(E233,D232:G232,0)","v":{"$error":"#N/A"}}]
[]
[null,null,"For Vertical Opt Use When No Vertical:"]
[null,null,"G1",{"$f":"IF(ISBLANK(D36), 999, D36)","v":999},null,{"$f":"IF(ISBLANK(F36), 999, F36)","v":999},{"$f":"IF(ISBLANK(G36), 999, G36)","v":999},null,{"$f":"IF(E242=999,\"\",E242)","v":""}]
[null,null,"Sign of G1",{"$f":"IF(D237>=0,1,-1)","v":1},null,{"$f":"IF(F237>=0,1,-1)","v":1},{"$f":"IF(G237>=0,1,-1)","v":1}]
[null,null,"Abs G1",{"$f":"ABS(D237)","v":999},null,{"$f":"ABS(F237)","v":999},{"$f":"ABS(G237)","v":999}]
[null,null,"Min Abs G1",null,{"$f":"MIN(D239:G239)","v":999}]
[null,null,"Which is the Best G1",null,{"$f":"MATCH(E240,D239:G239,0)","v":1}]
[null,null,"Best G1 Value",null,{"$f":"INDEX(D237:G237,1,E241)","v":999}]
[]
[]
[]
[]
[]
[]
[null,null,"Check if all cells filled",{"$f":"SUM(D251:D311)","v":18},{"$f":"SUM(E251:E311)","v":1},18,18,null,1]
[]
[null,null,{"$f":"C24","v":"Lane Width (feet)"},{"$f":"IF(ISBLANK(D24),1,0)","v":1},{"$f":"IF(ISBLANK(E24),1,0)","v":0},1,1,null,0]
[null,null,{"$f":"C25","v":"Shoulder Width (feet)"},{"$f":"IF(ISBLANK(D25),1,0)","v":1},{"$f":"IF(ISBLANK(E25),1,0)","v":0},1,1,null,0]
[null,null,"Cross-slope or Superelevation (%)",{"$f":"IF(ISBLANK(D26),1,0)","v":1},{"$f":"IF(ISBLANK(E26),1,0)","v":0},1,1,null,0]
[null,null,"Horizontal Curve Present?"]
[null,null,"Horizontal Curve Data for Controlling Element:"]
[null,null,"  Radius (feet)",{"$f":"IF(AND($B$27=\"Yes\", ISBLANK(D29)),1,0)","v":0},{"$f":"IF(AND($B$27=\"Yes\", ISBLANK(E29)),1,0)","v":0},0,0,null,0]
[null,null,"Length of Horizontal Curve (feet)",{"$f":"IF(AND($B$27=\"Yes\", ISBLANK(D30)),1,0)","v":0},{"$f":"IF(AND($B$27=\"Yes\", ISBLANK(E30)),1,0)","v":0},0,0,null,0]
[null,null,"Calculated Deflection Angle ∆"]
[]
[null,null,null,null,null,{"$f":"IF(AND($B$27 = \"Yes\", $D$31 <> F31, F31<>\"\",ISBLANK(F33)),1,0)","v":0},{"$f":"IF(AND($B$27 = \"Yes\", $D$31 <> G31, G31<>\"\",ISBLANK(G33)),1,0)","v":0}]
[null,null,"Vertical Curve Present?"]
[null,null,"Vertical Curve Data for Controlling Element:"]
[null,null,"  Approach (Entry) Grade, G1 (%)",{"$f":"IF(ISBLANK(D36),1,0)","v":1},{"$f":"IF(ISBLANK(E36),1,0)","v":0},1,1,null,0]
[null,null,"  Departure (Exit) Grade, G2 (%)",{"$f":"IF(AND($B$34=\"Yes\", ISBLANK(D37)),1,0)","v":0},{"$f":"IF(AND($B$34=\"Yes\", ISBLANK(E37)),1,0)","v":0},0,0,null,0]
[null,null,"  Length (feet)",{"$f":"IF(AND($B$34=\"Yes\", ISBLANK(D38)),1,0)","v":0},{"$f":"IF(AND($B$34=\"Yes\", ISBLANK(E38)),1,0)","v":0},0,0,null,0]
[null,null,"  Calculated Rate of Change, K (ft/ft)"]
[]
[]
[]
[null,null,"TWLTL (two-way left-turn lane)",{"$f":"IF(ISBLANK(D43),1,0)","v":1},{"$f":"IF(ISBLANK(E43),1,0)","v":0},1,1,null,0]
[null,null,"Passing Lane Type",{"$f":"IF(ISBLANK(D44),1,0)","v":1},{"$f":"IF(ISBLANK(E44),1,0)","v":0},1,1,null,0]
[]
[]
[]
[]
[]
[]
[]
[null,null,"Advance Static Curve Warning Signs",{"$f":"IF(AND($B$27=\"Yes\", ISBLANK(D52)),1,0)","v":0},{"$f":"IF(AND($B$27=\"Yes\", ISBLANK(E52)),1,0)","v":0},0,0,null,{"$f":"IF(ISBLANK(I52),1,0)","v":0}]
[null,null,"Chevron Signs on Horizontal Curves",{"$f":"IF(AND($B$27=\"Yes\", ISBLANK(D53)),1,0)","v":0},0,0,0,null,{"$f":"IF(ISBLANK(I53),1,0)","v":0}]
[null,null,"Post-Mounted Delineators",{"$f":"IF(AND($B$27=\"Yes\", ISBLANK(D54)),1,0)","v":0},0,0,0,null,0]
[null,null,"Edgeline Pavement Markings or Profile Markings",1,0,1,1,null,0]
[null,null,"Shoulder Rumble Strips",1,0,1,1,null,0]
[null,null,"Centerline Rumble Strips",1,0,1,1,null,0]
[null,null,"Driveway Density (driveways per mile)",1,0,1,1,null,0]
[null,null,"Lighting",1,0,1,1,null,0]
[null,null,"Pavement Friction (skid number) ***",1,0,1,1,null,0]
[]
[]
[]
[]
[]
[]
[]
[]
[]
[]
[]
[null,null,"Sideslope (Foreslope)",{"$f":"IF(ISBLANK(D72),1,0)","v":1},0,1,1,null,0]
[null,null,"Backslope",1,0,1,1,null,0]
[null,null,"SafetyEdge",1,0,1,1,null,0]
[null,null,"Lateral Clearance to obstruction (ft)",1,0,1,1,null,0]
[null,null,"Obstruction Type",1,0,1,1,null,0]
[]
[]
[]
[]
[]
[]
[]
[null,null,"Distance to Slope Toe from Shoulder (ft)",1,{"$f":"$D$311","v":1},{"$f":"$D$311","v":1},1,null,1]
[]
[]
[]
[null,null,null,null,null,null,null,null,{"$f":"SUM(I316:I324)","v":9}]
[null,null,null,null,null,null,null,{"$f":"F9","v":"Location "},{"$f":"IF(ISBLANK(I9),1,0)","v":1}]
[null,null,null,null,null,null,null,{"$f":"F10","v":"Design Speed (mph)"},{"$f":"IF(ISBLANK(I10),1,0)","v":1}]
[null,null,null,null,null,null,null,"Posted Speed (mph)",1]
[null,null,null,null,null,null,null,"E max (%)",1]
[null,null,null,null,null,null,null,"Design Year AADT (vehicles per day)",1]
[null,null,null,null,null,null,null,"Dist. from Centerline to Left   ROW (feet)",1]
[null,null,null,null,null,null,null,"Dist. from Centerline to Right ROW (feet)",1]
[null,null,null,null,null,null,null,"H Curve Indicator",{"$f":"IF(ISBLANK(B27),1,0)","v":1}]
[null,null,null,null,null,null,null,"V Curve Indicator",{"$f":"IF(ISBLANK(B34),1,0)","v":1}]
[]
[]
[]
[]
[]
[]
[]
[]
[]
[]
[]
[]
[]
[]
[]
[]
[]
[]
[]
[]
[]
[]
[]
[]
[]
[]
[]
[]
[]
[]
[]
[]
[]
[]
[]
[]
[]
[]
[]
[]
[]
[]
[]
[]
[]
[]
[]
[]
[]
[]
[]
[1]
[22]
[21]
[20,null,null,{"$f":"Constraints!P174","v":"Emax=6%"}]
[19]
[18,null,{"$f":"HLOOKUP($I$10,Constraints!$Q$176:AD197,A376,TRUE)","v":{"$error":"#N/A"}},{"$f":"Constraints!P176","v":"super"}]
[17,null,{"$f":"HLOOKUP($I$10,Constraints!$Q$176:AD198,A377,TRUE)","v":{"$error":"#N/A"}},{"$f":"Constraints!P197","v":6},1050]
[16,null,{"$f":"HLOOKUP($I$10,Constraints!$Q$176:AD199,A378,TRUE)","v":{"$error":"#N/A"}},{"$f":"Constraints!P196","v":5.8}]
[15,null,{"$f":"HLOOKUP($I$10,Constraints!$Q$176:AD200,A379,TRUE)","v":{"$error":"#N/A"}},{"$f":"Constraints!P195","v":5.6}]
[14,null,{"$f":"HLOOKUP($I$10,Constraints!$Q$176:AD201,A380,TRUE)","v":{"$error":"#N/A"}},{"$f":"Constraints!P194","v":5.4}]
[13,null,{"$f":"HLOOKUP($I$10,Constraints!$Q$176:AD202,A381,TRUE)","v":{"$error":"#N/A"}},{"$f":"Constraints!P193","v":5.2}]
[12,null,{"$f":"HLOOKUP($I$10,Constraints!$Q$176:AD203,A382,TRUE)","v":{"$error":"#N/A"}},{"$f":"Constraints!P192","v":5}]
[11,null,{"$f":"HLOOKUP($I$10,Constraints!$Q$176:AD204,A383,TRUE)","v":{"$error":"#N/A"}},{"$f":"Constraints!P191","v":4.8}]
[10,null,{"$f":"HLOOKUP($I$10,Constraints!$Q$176:AD205,A384,TRUE)","v":{"$error":"#N/A"}},{"$f":"Constraints!P190","v":4.5999999999999996}]
[9,null,{"$f":"HLOOKUP($I$10,Constraints!$Q$176:AD206,A385,TRUE)","v":{"$error":"#N/A"}},{"$f":"Constraints!P189","v":4.4000000000000004}]
[8,null,{"$f":"HLOOKUP($I$10,Constraints!$Q$176:AD207,A386,TRUE)","v":{"$error":"#N/A"}},{"$f":"Constraints!P188","v":4.2}]
[7,null,{"$f":"HLOOKUP($I$10,Constraints!$Q$176:AD208,A387,TRUE)","v":{"$error":"#N/A"}},{"$f":"Constraints!P187","v":4}]
[6,null,{"$f":"HLOOKUP($I$10,Constraints!$Q$176:AD209,A388,TRUE)","v":{"$error":"#N/A"}},{"$f":"Constraints!P186","v":3.8}]
[5,null,{"$f":"HLOOKUP($I$10,Constraints!$Q$176:AD210,A389,TRUE)","v":{"$error":"#N/A"}},{"$f":"Constraints!P185","v":3.6}]
[4,null,{"$f":"HLOOKUP($I$10,Constraints!$Q$176:AD211,A390,TRUE)","v":{"$error":"#N/A"}},{"$f":"Constraints!P184","v":3.4}]
[3,null,{"$f":"HLOOKUP($I$10,Constraints!$Q$176:AD212,A391,TRUE)","v":{"$error":"#N/A"}},{"$f":"Constraints!P183","v":3.2}]
[2,null,{"$f":"HLOOKUP($I$10,Constraints!$Q$176:AD213,A392,TRUE)","v":{"$error":"#N/A"}},{"$f":"Constraints!P182","v":3}]
[null,null,{"$f":"HLOOKUP($I$10,Constraints!$Q$176:AD214,A393,TRUE)","v":{"$error":"#N/A"}},{"$f":"Constraints!P181","v":2.8}]
[null,null,{"$f":"HLOOKUP($I$10,Constraints!$Q$176:AD215,A394,TRUE)","v":{"$error":"#N/A"}},{"$f":"Constraints!P180","v":2.6}]
[null,null,{"$f":"HLOOKUP($I$10,Constraints!$Q$176:AD216,A395,TRUE)","v":{"$error":"#N/A"}},{"$f":"Constraints!P179","v":2.4}]
[null,null,{"$f":"HLOOKUP($I$10,Constraints!$Q$176:AD217,A396,TRUE)","v":{"$error":"#N/A"}},{"$f":"Constraints!P178","v":2.2000000000000002}]
[null,null,{"$f":"HLOOKUP($I$10,Constraints!$Q$176:AD218,A397,TRUE)","v":{"$error":"#N/A"}},{"$f":"Constraints!P177","v":2}]
[1]
[32]
[31]
[30,null,null,{"$f":"Constraints!P201","v":"Emax=8%"}]
[29]
[28,null,{"$f":"HLOOKUP($I$10,Constraints!$Q$203:AD234,A403,TRUE)","v":{"$error":"#N/A"}},{"$f":"Constraints!P203","v":"super"}]
[27,null,{"$f":"HLOOKUP($I$10,Constraints!$Q$203:AD235,A404,TRUE)","v":{"$error":"#N/A"}},{"$f":"INDEX(Constraints!$P$203:$P$234,A404,)","v":8}]
[26,null,{"$f":"HLOOKUP($I$10,Constraints!$Q$203:AD236,A405,TRUE)","v":{"$error":"#N/A"}},{"$f":"INDEX(Constraints!$P$203:$P$234,A405,)","v":7.8}]
[25,null,{"$f":"HLOOKUP($I$10,Constraints!$Q$203:AD237,A406,TRUE)","v":{"$error":"#N/A"}},{"$f":"INDEX(Constraints!$P$203:$P$234,A406,)","v":7.6}]
[24,null,{"$f":"HLOOKUP($I$10,Constraints!$Q$203:AD238,A407,TRUE)","v":{"$error":"#N/A"}},{"$f":"INDEX(Constraints!$P$203:$P$234,A407,)","v":7.4}]
[23,null,{"$f":"HLOOKUP($I$10,Constraints!$Q$203:AD239,A408,TRUE)","v":{"$error":"#N/A"}},{"$f":"INDEX(Constraints!$P$203:$P$234,A408,)","v":7.2}]
[22,null,{"$f":"HLOOKUP($I$10,Constraints!$Q$203:AD240,A409,TRUE)","v":{"$error":"#N/A"}},{"$f":"INDEX(Constraints!$P$203:$P$234,A409,)","v":7}]
[21,null,{"$f":"HLOOKUP($I$10,Constraints!$Q$203:AD241,A410,TRUE)","v":{"$error":"#N/A"}},{"$f":"INDEX(Constraints!$P$203:$P$234,A410,)","v":6.8}]
[20,null,{"$f":"HLOOKUP($I$10,Constraints!$Q$203:AD242,A411,TRUE)","v":{"$error":"#N/A"}},{"$f":"INDEX(Constraints!$P$203:$P$234,A411,)","v":6.6}]
[19,null,{"$f":"HLOOKUP($I$10,Constraints!$Q$203:AD243,A412,TRUE)","v":{"$error":"#N/A"}},{"$f":"INDEX(Constraints!$P$203:$P$234,A412,)","v":6.4}]
[18,null,{"$f":"HLOOKUP($I$10,Constraints!$Q$203:AD244,A413,TRUE)","v":{"$error":"#N/A"}},{"$f":"INDEX(Constraints!$P$203:$P$234,A413,)","v":6.2}]
[17,null,{"$f":"HLOOKUP($I$10,Constraints!$Q$203:AD245,A414,TRUE)","v":{"$error":"#N/A"}},{"$f":"INDEX(Constraints!$P$203:$P$234,A414,)","v":6}]
[16,null,{"$f":"HLOOKUP($I$10,Constraints!$Q$203:AD246,A415,TRUE)","v":{"$error":"#N/A"}},{"$f":"INDEX(Constraints!$P$203:$P$234,A415,)","v":5.8}]
[15,null,{"$f":"HLOOKUP($I$10,Constraints!$Q$203:AD247,A416,TRUE)","v":{"$error":"#N/A"}},{"$f":"INDEX(Constraints!$P$203:$P$234,A416,)","v":5.6}]
[14,null,{"$f":"HLOOKUP($I$10,Constraints!$Q$203:AD248,A417,TRUE)","v":{"$error":"#N/A"}},{"$f":"INDEX(Constraints!$P$203:$P$234,A417,)","v":5.4}]
[13,null,{"$f":"HLOOKUP($I$10,Constraints!$Q$203:AD249,A418,TRUE)","v":{"$error":"#N/A"}},{"$f":"INDEX(Constraints!$P$203:$P$234,A418,)","v":5.2}]
[12,null,{"$f":"HLOOKUP($I$10,Constraints!$Q$203:AD250,A419,TRUE)","v":{"$error":"#N/A"}},{"$f":"INDEX(Constraints!$P$203:$P$234,A419,)","v":5}]
[11,null,{"$f":"HLOOKUP($I$10,Constraints!$Q$203:AD251,A420,TRUE)","v":{"$error":"#N/A"}},{"$f":"INDEX(Constraints!$P$203:$P$234,A420,)","v":4.8}]
[10,null,{"$f":"HLOOKUP($I$10,Constraints!$Q$203:AD252,A421,TRUE)","v":{"$error":"#N/A"}},{"$f":"INDEX(Constraints!$P$203:$P$234,A421,)","v":4.5999999999999996}]
[9,null,{"$f":"HLOOKUP($I$10,Constraints!$Q$203:AD253,A422,TRUE)","v":{"$error":"#N/A"}},{"$f":"INDEX(Constraints!$P$203:$P$234,A422,)","v":4.4000000000000004}]
[8,null,{"$f":"HLOOKUP($I$10,Constraints!$Q$203:AD254,A423,TRUE)","v":{"$error":"#N/A"}},{"$f":"INDEX(Constraints!$P$203:$P$234,A423,)","v":4.2}]
[7,null,{"$f":"HLOOKUP($I$10,Constraints!$Q$203:AD255,A424,TRUE)","v":{"$error":"#N/A"}},{"$f":"INDEX(Constraints!$P$203:$P$234,A424,)","v":4}]
[6,null,{"$f":"HLOOKUP($I$10,Constraints!$Q$203:AD256,A425,TRUE)","v":{"$error":"#N/A"}},{"$f":"INDEX(Constraints!$P$203:$P$234,A425,)","v":3.8}]
[5,null,{"$f":"HLOOKUP($I$10,Constraints!$Q$203:AD257,A426,TRUE)","v":{"$error":"#N/A"}},{"$f":"INDEX(Constraints!$P$203:$P$234,A426,)","v":3.6}]
[4,null,{"$f":"HLOOKUP($I$10,Constraints!$Q$203:AD258,A427,TRUE)","v":{"$error":"#N/A"}},{"$f":"INDEX(Constraints!$P$203:$P$234,A427,)","v":3.4}]
[3,null,{"$f":"HLOOKUP($I$10,Constraints!$Q$203:AD259,A428,TRUE)","v":{"$error":"#N/A"}},{"$f":"INDEX(Constraints!$P$203:$P$234,A428,)","v":3.2}]
[2,null,{"$f":"HLOOKUP($I$10,Constraints!$Q$203:AD260,A429,TRUE)","v":{"$error":"#N/A"}},{"$f":"INDEX(Constraints!$P$203:$P$234,A429,)","v":3}]
[null,null,{"$f":"HLOOKUP($I$10,Constraints!$Q$203:AD261,A430,TRUE)","v":{"$error":"#N/A"}},{"$f":"INDEX(Constraints!$P$203:$P$234,A430,)","v":2.8}]
[null,null,{"$f":"HLOOKUP($I$10,Constraints!$Q$203:AD262,A431,TRUE)","v":{"$error":"#N/A"}},{"$f":"INDEX(Constraints!$P$203:$P$234,A431,)","v":2.6}]
[null,null,{"$f":"HLOOKUP($I$10,Constraints!$Q$203:AD263,A432,TRUE)","v":{"$error":"#N/A"}},{"$f":"INDEX(Constraints!$P$203:$P$234,A432,)","v":2.4}]
[null,null,{"$f":"HLOOKUP($I$10,Constraints!$Q$203:AD264,A433,TRUE)","v":{"$error":"#N/A"}},{"$f":"INDEX(Constraints!$P$203:$P$234,A433,)","v":2.2000000000000002}]
[null,null,{"$f":"HLOOKUP($I$10,Constraints!$Q$203:AD265,A434,TRUE)","v":{"$error":"#N/A"}},{"$f":"INDEX(Constraints!$P$203:$P$234,A434,)","v":2}]

{"sheet":"Configuration 2","index":12,"n_rows":439,"n_cols":113,"rows_kept":439,"cut":false,"hidden":false,"merged":[[1,6,2,7],[1,8,2,8],[1,21,1,37],[2,1,2,4],[2,21,3,28],[2,30,3,37],[3,1,3,4],[3,6,4,7],[3,8,4,8],[4,1,4,2],[4,3,4,4],[4,21,44,28],[4,30,44,37],[5,1,5,2],[5,3,5,4],[6,1,6,7],[7,1,7,4],[7,7,7,8],[8,3,8,4],[8,5,8,6],[75,16,75,21],[75,22,75,23],[9,3,9,4],[9,5,9,6],[10,3,10,4],[10,5,10,6],[11,5,11,6],[12,2,15,4],[12,5,12,6],[13,5,13,6],[14,5,14,6],[17,2,18,8],[20,5,20,7],[38,9,38,10],[45,12,45,19],[74,16,74,23],[76,22,76,23],[77,16,77,21],[77,22,77,23],[78,16,78,21],[78,22,78,23],[84,1,84,2],[85,1,85,2],[86,1,86,2],[95,10,95,12],[76,16,76,21]]}
[]
[null,null,null,null,null,null,"Preferred Schematic View to Display",null,"Standard",null,null,null,null,null,null,null,null,null,null,null,null,"NOTES: "]
[null,"CHARACTERISTICS TO CONSIDER FOR ANALYSIS",null,null,null,null,null,null,null,null,null,null,null,null,null,null,null,null,null,null,null,"ELEMENTS INCREASING SAFETY",null,null,null,null,null,null,null,null,"COMMENTS ON PRIMARY CONSTRAINTS"]
[null,"INPUT INSTRUCTIONS",null,null,null,null,"Relative to",null,"Existing"]
[null,"Blue Boxes -- Select from pulldown options",null,"Select from Pulldown"]
[null,"Yellow Boxes -- Type input information into box",null,"Type Input Value"]
[null," Rural Two-Lane Road Segment -- Safety Score Input",null,null,null,null,null,null,null,null,null,null,null,null,null,null,null,null,null,null,null,null,null,null,null,null,null,null,null,null,null,null,null,null,null,null,null,null,null,null,null,null,null,null,null,null,null,null,null,null,null,null,null,null,null,null,null,null,null,null,null,null,null,null,null,null,null,null,null,null,null,null,null,null,null,null,null,null,null,null,null,null,null,"Unadjusted Marginal Safety"]
[null,"General Information:",null,null,null,"General Site Features",null,{"$f":"I315 & \" Missing Features and Curves\"","v":"9 Missing Features and Curves"},null,null,null,null,null,null,null,null,null,null,null,null,null,null,null,null,null,null,null,null,null,null,null,null,null,null,null,null,null,null,null,null,null,null,null,null,null,null,null,null,null,null,null,null,null,null,null,null,null,null,null,null,null,null,null,null,null,null,null,null,null,null,null,null,null,null,null,null,null,null,null,null,null,null,null,{"$f":"I2&\" relative to \" &I4","v":"Standard relative to Existing"}]
[null,null,"Analyst:",{"$f":"+'Start Here'!J7","v":0},null,"Location "]
[null,null,"Agency or Company:",{"$f":"+'Start Here'!J8","v":0},null,"Design Speed (mph)"]
[null,null,"Date:",{"$f":"+'Start Here'!J9","v":"00:00:00"},null,"Posted Speed (mph)"]
[null,null,"Description:",null,null,"E max (%)"]
[null,null,null,null,null,"Design Year AADT (vehicles per day)"]
[null,null,null,null,null,"Dist. from Centerline to Left   ROW (feet)"]
[null,null,null,null,null,"Dist. from Centerline to Right ROW (feet)"]
[]
[null,"Warning:"]
[null,null,{"$f":"+IF(+I11>I10,\"Posted speed exceeds design speed. Optimal safety will only be achieved if design speed exceeds posted speed. The Safety Assessment Score is based on the higher of the two speed values.\",\"No warnings identified\")","v":"No warnings identified"}]
[null,null,null,null,null,null,null,null,null,null,null,null,null,null,null,{"$f":"\"Unadjusted Marginal Safety of elements in \"&I2&\" from Design Standards\"","v":"Unadjusted Marginal Safety of elements in Standard from Design Standards"},null,null,null,null,null,null,null,null,null,null,null,null,null,null,null,null,null,null,null,null,null,null,null,null,null,null,null,null,null,null,null,null,null,null,null,null,null,null,null,null,null,null,null,null,null,null,null,null,null,null,null,null,null,null,null,null,null,null,null,null,null,null,null,null,null,null,null,null,null,null,null,null,null,null,null,null,null,null,null,null,null,null,null,null,null,null,null,null,null,{"$f":"COUNTIF(DB23:DB41,DB20)","v":1}]
[null,null,null,null,null,null,null,null,null,null,null,null,null,null,null,null,null,null,null,null,null,null,null,null,null,null,null,null,null,null,null,null,null,null,null,null,null,null,null,null,null,null,null,null,null,null,null,null,null,null,null,null,null,null,null,null,null,null,null,null,null,null,null,null,null,null,null,null,null,null,null,null,null,null,null,null,null,null,null,null,null,null,null,null,null,null,null,null,null,null,null,null,null,null,null,null,null,null,null,null,null,null,null,null,null,{"$f":"VLOOKUP(0,CZ23:DB41,3,)","v":10.01}]
[null,null,null,"Fill all elements",null,"To enter notes, use boxes to the right of the vortex ",null,null,null,null," "]
[null,{"$f":"+Construction!$I$8&\"  Total Available Points\"","v":"40  Total Available Points"},null,{"$f":"D249 & \" Missing Elements\"","v":"18 Missing Elements"},null,{"$f":"F249 & \" Missing Elements\"","v":"18 Missing Elements"},{"$f":"G249 & \" Missing Elements\"","v":"18 Missing Elements"},null,null,null,null,null,null,null,null,null,null,null,null,null,null,null,null,null,null,null,null,null,null,null,null,null,null,null,null,null,null,null,null,null,null,null,null,null,null,null,null,null,null,null,null,null,null,null,null,null,null,null,null,null,null,null,null,null,null,null,null,null,null,null,null,null,null,null,null,null,null,null,null,null,null,null,null,null,null,null,null,null,null,null,null,null,null,null,null,null,null,null,null,null,null,"Ranked element","CRF","abs","Re-rank","Rank","Ranked CRF","Element","New Element","crf.abs","rank","Sorted Element","Sorted CRF"]
[null,"Geometric Design Elements",null,"Existing","Standard","Design 1","Design 2",{"$f":"\"Marginal Safety for \"&$I$2&\" (compared to \" & $I$4 & \")\"","v":"Marginal Safety for Standard (compared to Existing)"},"Optimal",null,null,null,null,null,null,null,null,null,null,null,null,null,null,null,null,null,null,null,null,null,null,null,null,null,null,null,null,null,null,null,null,null,null,null,null,null,null,null,null,null,null,null,null,null,null,null,null,null,null,null,null,null,null,null,null,null,null,null,null,null,null,null,null,null,null,null,null,null,null,null,null,null,null,null,null,null,null,null,null,null,null,null,null,null,null,null,null,null,null,null,null,{"$f":"IF(CY23=0,\"\",DB23&\". \"&DD23)","v":""},{"$f":"H24","v":0},{"$f":"ABS(CY23)","v":0},{"$f":"RANK(DB23,$DB$23:$DB$41,1)","v":10},{"$f":"_xlfn.RANK.EQ(CZ23,$CZ$23:$CZ$41)+DG23/100","v":10.01},{"$f":"CY23","v":0},{"$f":"IF(ROUND(DF23,2)=0,\"\",C24)","v":""},{"$f":"DD23","v":""},{"$f":"CZ23","v":0},1,{"$f":"IFERROR(IF(IFERROR(VLOOKUP(DG23,$DA$23:$DF$41,4,)&\", \"&CY23=0,\"\"),\"\",IFERROR(VLOOKUP(DG23,$DA$23:$DE$41,4,),\"\")),\"\")","v":"TWLTL (two-way left-turn lane)"},{"$f":"IFERROR(IF(IFERROR(VLOOKUP(DG23,$DA$23:$DF$41,3,)&\", \"&CY23=0,\"\"),\"\",IFERROR(VLOOKUP(DG23,$DA$23:$DE$41,3,),\"\")),\"\")","v":-0.40845070422535223}]
[null,null,"Lane Width (feet)",null,12,null,null,{"$f":"M100","v":0},12,null,null,null,null,null,null,null,null,null,null,null,null,null,null,null,null,null,null,null,null,null,null,null,null,null,null,null,null,null,null,null,null,null,null,null,null,null,null,null,null,null,null,null,null,null,null,null,null,null,null,null,null,null,null,null,null,null,null,null,null,null,null,null,null,null,null,null,null,null,null,null,null,null,null,null,null,null,null,null,null,null,null,null,null,null,null,null,null,null,null,null,null,"5.02. Shoulder Width (feet)",{"$f":"H25","v":0.15503875968992242},0.15503875968992242,{"$f":"RANK(DB24,$DB$23:$DB$41,1)","v":5},{"$f":"_xlfn.RANK.EQ(CZ24,$CZ$23:$CZ$41)+DG24/100","v":5.0199999999999996},{"$f":"CY24","v":0.15503875968992242},{"$f":"IF(ROUND(DF24,2)=0,\"\",C25)","v":"Shoulder Width (feet)"},{"$f":"DD24","v":"Shoulder Width (feet)"},0.15503875968992242,2,"Pavement Friction (skid number) ***",{"$f":"IFERROR(IF(IFERROR(VLOOKUP(DG24,$DA$23:$DF$41,3,)&\", \"&CY24=0,\"\"),\"\",IFERROR(VLOOKUP(DG24,$DA$23:$DE$41,3,),\"\")),\"\")","v":0.28430956017940245}]
[null,null,"Shoulder Width (feet)",null,{"$f":"IF('Start Here'!$J$12=\"4R\",8,4)","v":4},null,null,{"$f":"M101","v":0.15503875968992242},10,null,null,null,null,null,null,null,null,null,null,null,null,null,null,null,null,null,null,null,null,null,null,null,null,null,null,null,null,null,null,null,null,null,null,null,null,null,null,null,null,null,null,null,null,null,null,null,null,null,null,null,null,null,null,null,null,null,null,null,null,null,null,null,null,null,null,null,null,null,null,null,null,null,null,null,null,null,null,null,null,null,null,null,null,null,null,null,null,null,null,null,null,"",{"$f":"H29","v":0},0,11,10.029999999999999,0,{"$f":"IF(ROUND(DF25,2)=0,\"\",\"Hz and Vt Alignment\")","v":""},"",0,3,"Driveway Density (driveways per mile)",-0.22388114201141129]
[null,null,"Cross-slope or Superelevation (%)",null,{"$f":"IF($I$12=6,IFERROR(VLOOKUP(E29,$C$382:$D$402,2,TRUE),6),IFERROR(VLOOKUP(E29,$C$409:$D$439,2,TRUE),8))","v":8},null,null,null,{"$f":"I12","v":0},null,null,null,null,null,null,null,null,null,null,null,null,null,null,null,null,null,null,null,null,null,null,null,null,null,null,null,null,null,null,null,null,null,null,null,null,null,null,null,null,null,null,null,null,null,null,null,null,null,null,null,null,null,null,null,null,null,null,null,null,null,null,null,null,null,null,null,null,null,null,null,null,null,null,null,null,null,null,null,null,null,null,null,null,null,null,null,null,null,null,null,null,"1.04. TWLTL (two-way left-turn lane)",{"$f":"H43","v":-0.40845070422535223},0.40845070422535223,1,1.04,-0.40845070422535223,{"$f":"IF(ROUND(DF26,2)=0,\"\",C43)","v":"TWLTL (two-way left-turn lane)"},"TWLTL (two-way left-turn lane)",0.40845070422535223,4,"Centerline Rumble Strips",-0.16279069767441867]
["",null,"Horizontal Curve Present?","--","--","--","--",null,"--",null,null,null,null,null,null,null,null,null,null,null,null,null,null,null,null,null,null,null,null,null,null,null,null,null,null,null,null,null,null,null,null,null,null,null,null,null,null,null,null,null,null,null,null,null,null,null,null,null,null,null,null,null,null,null,null,null,null,null,null,null,null,null,null,null,null,null,null,null,null,null,null,null,null,null,null,null,null,null,null,null,null,null,null,null,null,null,null,null,null,null,null,"",{"$f":"H44","v":0},0,12,10.050000000000001,0,{"$f":"IF(ROUND(DF27,2)=0,\"\",C44)","v":""},"",0,5,"Shoulder Width (feet)",0.15503875968992242]
[null,null,"Horizontal Curve Data for Controlling Element:","--","--","--","--",null,"--",null,null,null,null,null,null,null,null,null,null,null,null,null,null,null,null,null,null,null,null,null,null,null,null,null,null,null,null,null,null,null,null,null,null,null,null,null,null,null,null,null,null,null,null,null,null,null,null,null,null,null,null,null,null,null,null,null,null,null,null,null,null,null,null,null,null,null,null,null,null,null,null,null,null,null,null,null,null,null,null,null,null,null,null,null,null,null,null,null,null,null,null,"",{"$f":"H52","v":0},0,13,10.06,0,{"$f":"IF(ROUND(DF28,2)=0,\"\",C52)","v":""},"",0,6,"Edgeline Pavement Markings or Profile Markings",0.13824118691351761]
[null,null,"  Radius (feet)",null,{"$f":"IF(MAX($I$10,$I$11)<45,590,IF($I$12=6,VLOOKUP(MAX($I$10,$I$11),Construction!$B$29:$D$36,2,TRUE),VLOOKUP(MAX($I$10,$I$11),Construction!$G$29:$I$36,2,TRUE)))","v":590},null,null,{"$f":"M140","v":0},{"$f":"IF(MAX($I$10,$I$11)<45,590,IF($I$12=6,VLOOKUP(MAX($I$10,$I$11),Construction!$B$45:$C$52,2,TRUE),VLOOKUP(MAX($I$10,$I$11),Construction!$G$45:$H$52,2,TRUE)))","v":590},null,null,null,null,null,null,null,null,null,null,null,null,null,null,null,null,null,null,null,null,null,null,null,null,null,null,null,null,null,null,null,null,null,null,null,null,null,null,null,null,null,null,null,null,null,null,null,null,null,null,null,null,null,null,null,null,null,null,null,null,null,null,null,null,null,null,null,null,null,null,null,null,null,null,null,null,null,null,null,null,null,null,null,null,null,null,null,null,null,null,null,null,"",0,0,14,10.07,0,"","",0,7,"Lateral Clearance to obstruction (ft)",9.0307162971216326E-2]
[null,null,"Length of Horizontal Curve (feet)",null,{"$f":"IF(D31=\"\", \"\", E29*E31/57.296)","v":""},null,null,null,{"$f":"I29*I31/57.296","v":3758.5520804244625},null,null,null,null,null,null,null,null,null,null,null,null,null,null,null,null,null,null,null,null,null,null,null,null,null,null,null,null,null,null,null,null,null,null,null,null,null,null,null,null,null,null,null,null,null,null,null,null,null,null,null,null,null,null,null,null,null,null,null,null,null,null,null,null,null,null,null,null,null,null,null,null,null,null,null,null,null,null,null,null,null,null,null,null,null,null,null,null,null,null,null,null,"",0,0,15,10.08,0,"","",0,8,"SafetyEdge",-2.8188991921691331E-2]
[null,null,"Calculated Deflection Angle ∆",{"$f":"IF(OR(ISBLANK(D29),ISBLANK(D30),$B$27=\"No\",ISBLANK($B$27)),\"\",ROUND(D30/D29*57.296,1))","v":""},{"$f":"IF(ISBLANK(D31), \"\",D31)","v":""},{"$f":"IF(OR(ISBLANK(F29),ISBLANK(F30),$B$27=\"No\",ISBLANK($B$27)),\"\",ROUND(F30/F29*57.296,1))","v":""},{"$f":"IF(OR(ISBLANK(G29),ISBLANK(G30),$B$27=\"No\",ISBLANK($B$27)),\"\",ROUND(G30/G29*57.296,1))","v":""},null,{"$f":"MIN(D31,IF(F33=INDEX(HCurveChange,1,0), F31, 365),IF(G33=INDEX(HCurveChange,1,0), G31, 365))","v":365},null,null,null,null,null,null,null,null,null,null,null,null,null,null,null,null,null,null,null,null,null,null,null,null,null,null,null,null,null,null,null,null,null,null,null,null,null,null,null,null,null,null,null,null,null,null,null,null,null,null,null,null,null,null,null,null,null,null,null,null,null,null,null,null,null,null,null,null,null,null,null,null,null,null,null,null,null,null,null,null,null,null,null,null,null,null,null,null,null,null,null,null,"6.09. Edgeline Pavement Markings or Profile Markings",0.13824118691351761,0.13824118691351761,6,6.09,0.13824118691351761,"Edgeline Pavement Markings or Profile Markings","Edgeline Pavement Markings or Profile Markings",0.13824118691351761,9,"Lighting",-2.3499081529478438E-2]
[null,null,null,null,null,"∆ has changed. \nAre you changing the ∆?","∆ has changed. \nAre you changing the ∆?",null,null,null,null,null,null,null,null,null,null,null,null,null,null,null,null,null,null,null,null,null,null,null,null,null,null,null,null,null,null,null,null,null,null,null,null,null,null,null,null,null,null,null,null,null,null,null,null,null,null,null,null,null,null,null,null,null,null,null,null,null,null,null,null,null,null,null,null,null,null,null,null,null,null,null,null,null,null,null,null,null,null,null,null,null,null,null,null,null,null,null,null,null,null,"",0,0,16,10.1,0,"","",0,10,"",0]
[null,null,null,null,null,null,null,null,null,null,null,null,null,null,null,null,null,null,null,null,null,null,null,null,null,null,null,null,null,null,null,null,null,null,null,null,null,null,null,null,null,null,null,null,null,null,null,null,null,null,null,null,null,null,null,null,null,null,null,null,null,null,null,null,null,null,null,null,null,null,null,null,null,null,null,null,null,null,null,null,null,null,null,null,null,null,null,null,null,null,null,null,null,null,null,null,null,null,null,null,null,"4.11. Centerline Rumble Strips",-0.16279069767441867,0.16279069767441867,4,4.1100000000000003,-0.16279069767441867,"Centerline Rumble Strips","Centerline Rumble Strips",0.16279069767441867,11,"",0]
[null,null,"Vertical Curve Present?","--","--","--","--",null,{"$f":"E34","v":"--"},null,null,null,null,null,null,null,null,null,null,null,null,null,null,null,null,null,null,null,null,null,null,null,null,null,null,null,null,null,null,null,null,null,null,null,null,null,null,null,null,null,null,null,null,null,null,null,null,null,null,null,null,null,null,null,null,null,null,null,null,null,null,null,null,null,null,null,null,null,null,null,null,null,null,null,null,null,null,null,null,null,null,null,null,null,null,null,null,null,null,null,null,"3.12. Driveway Density (driveways per mile)",-0.22388114201141129,0.22388114201141129,3,3.12,-0.22388114201141129,{"$f":"IF(DF34=0,\"\",C58)","v":"Driveway Density (driveways per mile)"},"Driveway Density (driveways per mile)",0.22388114201141129,12,"",0]
[null,null,"Vertical Curve Data for Controlling Element:","--","--","--","--",null,"--",null,null,null,null,null,null,null,null,null,null,null,null,null,null,null,null,null,null,null,null,null,null,null,null,null,null,null,null,null,null,null,null,null,null,null,null,null,null,null,null,null,null,null,null,null,null,null,null,null,null,null,null,null,null,null,null,null,null,null,null,null,null,null,null,null,null,null,null,null,null,null,null,null,null,null,null,null,null,null,null,null,null,null,null,null,null,null,null,null,null,null,null,"9.13. Lighting",-2.3499081529478438E-2,2.3499081529478438E-2,9,9.1300000000000008,-2.3499081529478438E-2,{"$f":"IF(DF35=0,\"\",C59)","v":"Lighting"},"Lighting",2.3499081529478438E-2,13,"",0]
[null,null,"  Approach (Entry) Grade, G1 (%)",null,{"$f":"IF(ISBLANK(D36),\"\", D36)","v":""},null,null,null,{"$f":"IF(B34=\"Yes\",I227,I237)","v":""},null,null,null,null,null,null,null,null,null,null,null,null,null,null,null,null,null,null,null,null,null,null,null,null,null,null,null,null,null,null,null,null,null,null,null,null,null,null,null,null,null,null,null,null,null,null,null,null,null,null,null,null,null,null,null,null,null,null,null,null,null,null,null,null,null,null,null,null,null,null,null,null,null,null,null,null,null,null,null,null,null,null,null,null,null,null,null,null,null,null,null,null,"2.14. Pavement Friction (skid number) ***",0.28430956017940245,0.28430956017940245,2,2.14,0.28430956017940245,{"$f":"IF(DF36=0,\"\",C60)","v":"Pavement Friction (skid number) ***"},"Pavement Friction (skid number) ***",0.28430956017940245,14,"",0]
[null,null,"  Departure (Exit) Grade, G2 (%)",null,{"$f":"IF(ISBLANK(D37),\"\", D37)","v":""},null,null,null,{"$f":"IF($B$34=\"Yes\",I228,\"\")","v":""},null,null,null,null,null,null,null,null,null,null,null,null,null,null,null,null,null,null,null,null,null,null,null,null,null,null,null,null,null,null,null,null,null,null,null,null,null,null,null,null,null,null,null,null,null,null,null,null,null,null,null,null,null,null,null,null,null,null,null,null,null,null,null,null,null,null,null,null,null,null,null,null,null,null,null,null,null,null,null,null,null,null,null,null,null,null,null,null,null,null,null,null,"",{"$f":"H72","v":0},0,17,10.15,0,{"$f":"IF(DF37=0,\"\",C72)","v":""},"",0,15,"",0]
[null,null,"  Length (feet)",null,{"$f":"IF(AND($B$34=\"Yes\", D39<>\"\"), ABS(E36-E37)*D39, \"\")","v":""},null,null,null,{"$f":"IF(AND($B$34=\"Yes\",I36<>\"\",I37<>\"\", NOT(ISBLANK($I$10)), NOT(ISBLANK($I$11))),ABS(I37-I36)*I39,\"\")","v":""},null,null,null,null,null,null,null,null,null,null,null,null,null,null,null,null,null,null,null,null,null,null,null,null,null,null,null,null,null,null,null,null,null,null,null,null,null,null,null,null,null,null,null,null,null,null,null,null,null,null,null,null,null,null,null,null,null,null,null,null,null,null,null,null,null,null,null,null,null,null,null,null,null,null,null,null,null,null,null,null,null,null,null,null,null,null,null,null,null,null,null,null,"",{"$f":"H73","v":0},{"$f":"ABS(CY38)","v":0},18,10.16,0,{"$f":"IF(DF38=0,\"\",C73)","v":""},"",0,16,"",0]
[null,null,"  Calculated Rate of Change, K (ft/ft)",{"$f":"IF(OR($B$34=\"No\",ISBLANK($B$34), ISBLANK(D36), ISBLANK(D37),ISBLANK(D38), D36=D37), \"\", ROUND(D38/(ABS(D37-D36)),1))","v":""},{"$f":"IF(AND($B$34=\"Yes\", NOT(ISBLANK($I$10)), NOT(ISBLANK($I$11)), D39<>\"\"), IF($E$42=\"Crest\",  VLOOKUP(MAX($I$10,$I$11),Construction!$B$159:$D$171,2,TRUE), VLOOKUP(MAX($I$10,$I$11),Construction!$B$159:$D$171,3,TRUE)), \"\")","v":""},{"$f":"IF(AND($B$34=\"Yes\", SUM(F263:F265)=0),ROUND(F38/(ABS(F37-F36)),1),\"\")","v":""},{"$f":"IF(AND($B$34=\"Yes\", SUM(G263:G265)=0),ROUND(G38/(ABS(G37-G36)),1),\"\")","v":""},null,{"$f":"IF(OR($B$34<>\"Yes\", ISBLANK($I$10), ISBLANK($I$11), $I$36=\"\", $I$37=\"\", $I$42=\"--\", ISBLANK($I$42)),\"\",IF($I$42=\"Crest\",VLOOKUP(MAX($I$10,$I$11),Construction!$B$179:$D$191,2,TRUE),VLOOKUP(MAX($I$10,$I$11),Construction!$B$179:$D$191,3,TRUE)))","v":""},null,null,null,null,null,null,null,null,null,null,null,null,null,null,null,null,null,null,null,null,null,null,null,null,null,null,null,null,null,null,null,null,null,null,null,null,null,null,null,null,null,null,null,null,null,null,null,null,null,null,null,null,null,null,null,null,null,null,null,null,null,null,null,null,null,null,null,null,null,null,null,null,null,null,null,null,null,null,null,null,null,null,null,null,null,null,null,null,null,null,null,null,"8.17. SafetyEdge",{"$f":"H74","v":-2.8188991921691331E-2},{"$f":"ABS(CY39)","v":2.8188991921691331E-2},8,8.17,-2.8188991921691331E-2,{"$f":"IF(DF39=0,\"\",C74)","v":"SafetyEdge"},"SafetyEdge",2.8188991921691331E-2,17,"",0]
[null,null,null,null,null,"Are you changing the geometry?","Are you changing the geometry?",null,null,null,null,null,null,null,null,null,null,null,null,null,null,null,null,null,null,null,null,null,null,null,null,null,null,null,null,null,null,null,null,null,null,null,null,null,null,null,null,null,null,null,null,null,null,null,null,null,null,null,null,null,null,null,null,null,null,null,null,null,null,null,null,null,null,null,null,null,null,null,null,null,null,null,null,null,null,null,null,null,null,null,null,null,null,null,null,null,null,null,null,null,null,"7.18. Lateral Clearance to obstruction (ft)",{"$f":"H75","v":9.0307162971216326E-2},{"$f":"ABS(CY40)","v":9.0307162971216326E-2},7,7.18,9.0307162971216326E-2,{"$f":"IF(DF40=0,\"\",C75)","v":"Lateral Clearance to obstruction (ft)"},"Lateral Clearance to obstruction (ft)",9.0307162971216326E-2,18,"",0]
[null,null,null,null,null,null,null,null,null,null,null,null,null,null,null,null,null,null,null,null,null,null,null,null,null,null,null,null,null,null,null,null,null,null,null,null,null,null,null,null,null,null,null,null,null,null,null,null,null,null,null,null,null,null,null,null,null,null,null,null,null,null,null,null,null,null,null,null,null,null,null,null,null,null,null,null,null,null,null,null,null,null,null,null,null,null,null,null,null,null,null,null,null,null,null,null,null,null,null,null,null,"",{"$f":"H76","v":0},{"$f":"ABS(CY41)","v":0},19,10.19,0,{"$f":"IF(DF41=0,\"\",C76)","v":""},"",0,19,"",0]
[null,null,"  Calculated Sag or Crest?",{"$f":"IF(AND($B$34=\"Yes\", SUM(D263:D265)=0),IF(D36>D37,\"Crest\",\"Sag\"),\"--\")","v":"--"},{"$f":"IF(AND($B$34=\"Yes\", SUM(D263:D265)=0),IF(E36>E37,\"Crest\",\"Sag\"),\"--\")","v":"--"},{"$f":"IF(AND($B$34=\"Yes\", SUM(F263:F265)=0),IF(F36>F37,\"Crest\",\"Sag\"),\"--\")","v":"--"},{"$f":"IF(AND($B$34=\"Yes\", SUM(G263:G265)=0),IF(G36>G37,\"Crest\",\"Sag\"),\"--\")","v":"--"},null,{"$f":"IF($B$34=\"Yes\",IF(I36>I37,\"Crest\",\"Sag\"),\"--\")","v":"--"}]
[null,null,"TWLTL (two-way left-turn lane)",null,"No",null,null,{"$f":"M108","v":-0.40845070422535223},{"$f":"IF(OR($D$43=\"Yes\", $F$43=\"Yes\",$G$43=\"Yes\"), \"Yes\", \"No\")","v":"No"}]
[null,null,"Passing Lane Type",null,"No Passing Lane",null,null,{"$f":"M109","v":0},"Super 2"]
[null,null,"Geometric Design Element (Partial Score)",{"$f":"IF(OR(SUM(D251:D253,D256:D257,D263:D265,D270:D271)>0, ISERR(D125)),\"\",D125)","v":""},{"$f":"IF(OR(SUM(E251:E253,E256:E257,E263:E265,E270:E271)>0, ISERR(E125)),\"\",E125)","v":""},"","",null,{"$f":"IF(OR(SUM(I251:I253,I256:I257,I263:I265,I270:I271)>0, ISERR(I125)),\"\",I125)","v":""}]
[null,null,"Total Safety Score",{"$f":"IF(OR(D$249>0, $I$315>0,ISERROR(D$201+D$171+D$125)),\"\",D$201+D$171+D$125)","v":""},{"$f":"IF(OR(E$249>0, $I$315>0,ISERROR(E$201+E$171+E$125)),\"\",E$201+E$171+E$125)","v":""},"","",null,"",null,null,null,"SCHEMATIC REPRESENTING INPUT DATA FOR ",null,null,null,null,null,null,null,{"$f":"IF($I$2=\"Existing\",\"EXISTING CONFIGURATION\",IF($I$2=\"Standard\",\"STANDARD OPTION\",IF($I$2=\"Design 1\",\"DESIGN 1 OPTION\",IF($I$2=\"Design 2\",\"DESIGN 2 OPTION\",\"OPTIMAL OPTION\"))))","v":"STANDARD OPTION"}]
[]
[null,null,null,null,null,null,null,null,null,null,null,"LT",null,null,null,null,null,null,null,null,null,null,null,null,null,null,"RT"]
[null,null,null,null,null,null,null,null,null,null,null,"R/W",null,null,null,null,null,null,null,null,null,null,null,null,null,null,"R/W"]
[null,{"$f":"+Construction!$I$9&\"  Total Available Points\"","v":"20  Total Available Points"}]
[null,"Traffic Elements",null,"Existing","Standard","Design 1","Design 2",{"$f":"$H$23","v":"Marginal Safety for Standard (compared to Existing)"},"Optimal",null,null,null,null,null,{"$f":"+$I$14","v":0},null,null,null,null,null,null,null,{"$f":"+$I$15","v":0}]
[null,null,"Advance Static Curve Warning Signs",null,"No",null,null,{"$f":"M145","v":0},"Yes"]
[null,null,"Chevron Signs on Horizontal Curves",null,"No",null,null,{"$f":"M146","v":0},"Yes",null,null,{"$f":"+O51-N53-Q53","v":-16},null,{"$f":"IF(+$I$2=\"Existing\",D25,IF($I$2=\"Standard\",E25,IF($I$2=\"Design 1\",F25,IF($I$2=\"Design 2\",G25,I25))))","v":4},null,null,{"$f":"IF(+$I$2=\"Existing\",D24,IF($I$2=\"Standard\",E24,IF($I$2=\"Design 1\",F24,IF($I$2=\"Design 2\",G24,I24))))","v":12},null,null,null,null,{"$f":"+Q53","v":12},null,null,{"$f":"+N53","v":4},{"$f":"+W51-V53-Y53","v":-16}]
[null,null,"Post-Mounted Delineators",null,"No",null,null,0,"Yes"]
[null,null,"Edgeline Pavement Markings or Profile Markings",null,"Yes",null,null,0.13824118691351761,"Yes"]
[null,null,"Shoulder Rumble Strips",null,"Yes",null,null,{"$f":"M150","v":0},"Yes"]
[null,null,"Centerline Rumble Strips",null,"No",null,null,{"$f":"M151","v":-0.16279069767441867},"Yes"]
[null,null,"Driveway Density (driveways per mile)",null,10,null,null,{"$f":"M152","v":-0.22388114201141129},0]
[null,null,"Lighting",null,"No",null,null,{"$f":"M153","v":-2.3499081529478438E-2},"Yes",null,null,null,null,null,null,null,null,null,"Tangent X-Section"]
[null,null,"Pavement Friction (skid number) ***",null,37,null,null,{"$f":"M154","v":0.28430956017940245},54]
[]
[null,null,"Traffic Control Element (Partial Score):",{"$f":"IF(ISERROR(D171), \"\", D171)","v":12},{"$f":"IF(ISERROR(E171), \"\", E171)","v":14},{"$f":"IF(ISERROR(F171), \"\", F171)","v":""},{"$f":"IF(ISERROR(G171), \"\", G171)","v":""},null,{"$f":"IF(ISERROR(I171), \"\", I171)","v":20}]
[null,null,"Total Safety Score",{"$f":"IF(OR(D$249>0, $I$315>0,ISERROR(D$201+D$171+D$125)),\"\",D$201+D$171+D$125)","v":""},{"$f":"IF(OR(E$249>0, $I$315>0,ISERROR(E$201+E$171+E$125)),\"\",E$201+E$171+E$125)","v":""},"","",null,""]
[]
[null,null,"*** Pavement friction/skid numbers will not be subject to open records requests ***",null,null,null,null,null,null,null," "]
[]
[]
[]
[null,null,null,null,null,null,null,null,null,null,null,null,null,null,null,null,null,null,"Curved X-Section"]
[null,{"$f":"+Construction!$I$10&\"  Total Available Points\"","v":"40  Total Available Points"}]
[null,"Roadside  Elements",null,"Existing","Standard","Design 1","Design 2",{"$f":"$H$23","v":"Marginal Safety for Standard (compared to Existing)"},"Optimal"]
[null,null,"Sideslope (Foreslope)",null,"1V:4H",null,null,{"$f":"M180","v":0},"1V:6H"]
[null,null,"Backslope",null,{"$f":"E72","v":"1V:4H"},null,null,{"$f":"M181","v":0},"1V:4H"]
[null,null,"SafetyEdge",null,"No",null,null,{"$f":"M182","v":-2.8188991921691331E-2},"Yes"]
[null,null,"Lateral Clearance to obstruction (ft)",null,30,null,null,{"$f":"M183","v":9.0307162971216326E-2},40,null,null,null,null,null,null,null,{"$f":"IF($I$2=\"Existing\",\"SCORE SUMMARY FOR EXISTING CONFIGURATION\", IF($I$2=\"Standard\",\"SCORE SUMMARY FOR STANDARD OPTION\",IF($I$2=\"Design 1\",\"SCORE SUMMARY FOR DESIGN 1 OPTION\",IF($I$2=\"Design 2\",\"SCORE SUMMARY FOR DESIGN 2 OPTION\", \"SCORE SUMMARY FOR OPTIMAL OPTION\"))))","v":"SCORE SUMMARY FOR STANDARD OPTION"}]
[null,null,"Obstruction Type",null,"Other Fixed Object",null,null,{"$f":"M184","v":0},"None",null,null,null,null,null,null,null,"GEOMETRIC DESIGN:",null,null,null,null,null,{"$f":"IF($I$2=\"Existing\",D45,IF($I$2=\"Standard\",E45,IF($I$2=\"Design 1\",F45,IF($I$2=\"Design 2\",G45,I45))))","v":""}]
[null,null,"Roadside Element (Partial Score):",{"$f":"IF(ISERR(D201),\"\",D201)","v":""},{"$f":"IF(ISERR(E201),\"\",E201)","v":27},{"$f":"IF(ISERR(F201),\"\",F201)","v":""},{"$f":"IF(ISERR(G201),\"\",G201)","v":""},null,{"$f":"IF(ISERR(I201),\"\",I201)","v":40},null,null,null,null,null,null,null,"TRAFFIC CONTROL:",null,null,null,null,null,{"$f":"IF($I$2=\"Existing\",D62,IF($I$2=\"Standard\",E62,IF($I$2=\"Design 1\",F62,IF($I$2=\"Design 2\",G62,I62))))","v":14}]
[null,null,"Total Safety Score",{"$f":"IF(OR(D$249>0, $I$315>0,ISERROR(D$201+D$171+D$125)),\"\",D$201+D$171+D$125)","v":""},{"$f":"IF(OR(E$249>0, $I$315>0,ISERROR(E$201+E$171+E$125)),\"\",E$201+E$171+E$125)","v":""},"","",null,"",null,null,null,null,null,null,null,"ROADSIDE:",null,null,null,null,null,{"$f":"IF($I$2=\"Existing\",D77,IF($I$2=\"Standard\",E77,IF($I$2=\"Design 1\",F77,IF($I$2=\"Design 2\",G77,I77))))","v":27}]
[null,null,null,null,null,null,null,null,null,null,null,null,null,null,null,null,"OVERALL SAFETY SCORE:",null,null,null,null,null,{"$f":"SUM(W76:X78)","v":41}]
[]
[]
[]
[null,"ADDITIONAL SIDESLOPE INFORMATION"]
[null,null,"Distance to Slope Toe from Shoulder (ft)",null,{"$f":"D84","v":0},{"$f":"E84","v":0},{"$f":"F84","v":0},null,{"$f":"G84","v":0}]
[null,"Minimum foreslope feasible within current ROW",null,null,{"$f":"IF(OR(ISBLANK($D$84), ISERROR(E206)), \"\", \"1V:\"&E206&\"H\")","v":""},{"$f":"IF(OR(ISBLANK($D$84), ISERROR(F206)), \"\", \"1V:\"&F206&\"H\")","v":""},{"$f":"IF(OR(ISBLANK($D$84), ISERROR(G206)), \"\", \"1V:\"&G206&\"H\")","v":""},null,{"$f":"IF(OR(ISBLANK($D$84), ISERROR(I206)), \"\", \"1V:\"&I206&\"H\")","v":""}]
[null,"Additional R/W needed on left side",null,null,{"$f":"IF(OR(ISBLANK($D$84), ISERROR(E210)),\"\", MAX(E210,E213))","v":""},{"$f":"IF(OR(ISBLANK($D$84), ISERROR(F210)), \"\", MAX(F210,F213))","v":""},{"$f":"IF(OR(ISBLANK($D$84), ISERROR(G210)),\"\", MAX(G210,G213))","v":""},null,{"$f":"IF(OR(ISBLANK($D$84), ISERROR(I210)),\"\", MAX(I210,I213))","v":""}]
[null,"Additional R/W needed on right side",null,null,{"$f":"IF(OR(ISBLANK($D$84), ISERROR(E211)), \"\", MAX(E211,E214))","v":""},{"$f":"IF(OR(ISBLANK($D$84), ISERROR(F211)), \"\", MAX(F211,F214))","v":""},{"$f":"IF(OR(ISBLANK($D$84), ISERROR(G211)),\"\", MAX(G211,G214))","v":""},null,{"$f":"IF(OR(ISBLANK($D$84), ISERROR(I211)),\"\", MAX(I211,I214))","v":""}]
[]
[]
[]
[]
[]
[]
[]
[null,null,null,null,null,null,null,null,null,{"$f":"1-I100/E100","v":0}]
[null,null,null,null,null,null,null,null,null,{"$f":"1-I101/E101","v":0.17431192660550465},"For Plot"]
[null,null,null,{"$f":"MAX(SUM(D103:D107)-5,$I$97)","v":{"$error":"#VALUE!"}},{"$f":"MAX(SUM(E103:E107)-5,$I$97)","v":{"$error":"#VALUE!"}},{"$f":"MAX(SUM(F103:F107)-5,$I$97)","v":{"$error":"#VALUE!"}},{"$f":"MAX(SUM(G103:G107)-5,$I$97)","v":{"$error":"#VALUE!"}},null,{"$f":"SUM(I103:I107)-5","v":{"$error":"#VALUE!"}},{"$f":"1-I102/E102","v":0},"relative to","Prefer"]
[null,null,null,null,null,null,null,null,null,{"$f":"1-I103/E103","v":{"$error":"#VALUE!"}},{"$f":"MATCH(K99,ModView,0)","v":1},{"$f":"MATCH(L99,ModView,0)","v":2}]
[null,"Geometric",null,null,null,null,null,null,null,null,{"$f":"I4","v":"Existing"},{"$f":"I2","v":"Standard"},"%"]
[null,null,"LW CMF",{"$f":"VLOOKUP(+D24,Construction!$C$3:$D$9,2)","v":{"$error":"#N/A"}},{"$f":"VLOOKUP(+E24,Construction!$C$3:$D$9,2)","v":1},{"$f":"VLOOKUP(+F24,Construction!$C$3:$D$9,2)","v":{"$error":"#N/A"}},{"$f":"VLOOKUP(+G24,Construction!$C$3:$D$9,2)","v":{"$error":"#N/A"}},{"$f":"H24","v":0},{"$f":"VLOOKUP(+I24,Construction!$C$3:$D$9,2)","v":1},null,{"$f":"INDEX($D100:$I100,K$98)","v":{"$error":"#N/A"}},{"$f":"INDEX($D100:$I100,L$98)","v":1},{"$f":"IF(ISERROR(1-L100/K100), 0, 1-L100/K100)","v":0}]
[null,null,"SW CMF",{"$f":"VLOOKUP(D25,Construction!$C$13:D23,2)","v":1.29},{"$f":"VLOOKUP(E25,Construction!$C$13:E23,2)","v":1.0900000000000001},{"$f":"VLOOKUP(F25,Construction!$C$13:F23,2)","v":1.29},{"$f":"VLOOKUP(G25,Construction!$C$13:G23,2)","v":1.29},{"$f":"IF($I$2=\"Existing\",(1-D101/E101),(IF($I$2=\"Design 1\",(1-F101/E101),(IF($I$2=\"Design 2\",(1-G101/E101),(IF($I$2=\"Optimal\",(1-I101/E101),0)))))))","v":0},{"$f":"VLOOKUP(I25,Construction!$C$13:I23,2)","v":0.9},null,{"$f":"INDEX($D101:$I101,K$98)","v":1.29},{"$f":"INDEX($D101:$I101,L$98)","v":1.0900000000000001},{"$f":"IF(ISERROR(1-L101/K101), 0, 1-L101/K101)","v":0.15503875968992242}]
[null,null,"Placeholder for super deficincy",1,1,1,1,0,1,null,{"$f":"INDEX($D102:$I102,K$98)","v":1},{"$f":"INDEX($D102:$I102,L$98)","v":1},0]
[null,null,"HC and Grade",{"$f":"D$134^D$127","v":1},{"$f":"E$134^E$127","v":{"$error":"#VALUE!"}},{"$f":"F$134^F$127","v":1},{"$f":"G$134^G$127","v":1},0,{"$f":"I$134^I$127","v":{"$error":"#VALUE!"}},null,{"$f":"INDEX($D103:$I103,K$98)","v":1},{"$f":"INDEX($D103:$I103,L$98)","v":{"$error":"#VALUE!"}},0]
[null,null,"HC and VC Crest type I",{"$f":"D$135^D$128","v":1},{"$f":"E$135^E$128","v":1},{"$f":"F$135^F$128","v":1},{"$f":"G$135^G$128","v":1},0,{"$f":"I$135^I$128","v":{"$error":"#VALUE!"}},null,{"$f":"INDEX($D104:$I104,K$98)","v":1},{"$f":"INDEX($D104:$I104,L$98)","v":1},0]
[null,null,"HC and VC Sag type I",{"$f":"D$136^D$129","v":1},{"$f":"E$136^E$129","v":1},{"$f":"F$136^F$129","v":1},{"$f":"G$136^G$129","v":1},0,{"$f":"I$136^I$129","v":{"$error":"#VALUE!"}},null,{"$f":"INDEX($D105:$I105,K$98)","v":1},{"$f":"INDEX($D105:$I105,L$98)","v":1},0]
[null,null,"HC and VC Crest type II",{"$f":"D$137^D$130","v":1},{"$f":"E$137^E$130","v":1},{"$f":"F$137^F$130","v":1},{"$f":"G$137^G$130","v":1},0,{"$f":"I$137^I$130","v":{"$error":"#VALUE!"}},{"$f":"1-I111/E111","v":{"$error":"#VALUE!"}},{"$f":"INDEX($D106:$I106,K$98)","v":1},{"$f":"INDEX($D106:$I106,L$98)","v":1},0]
[null,null,"HC and VC Sag type II",{"$f":"D$138^D$131","v":1},{"$f":"E$138^E$131","v":1},{"$f":"F$138^F$131","v":1},{"$f":"G$138^G$131","v":1},0,{"$f":"I$138^I$131","v":{"$error":"#VALUE!"}},{"$f":"1-I112/E112","v":{"$error":"#VALUE!"}},{"$f":"INDEX($D107:$I107,K$98)","v":1},{"$f":"INDEX($D107:$I107,L$98)","v":1},0]
[null,null,"Add TWLTL",{"$f":"IF(D$43=\"No\",1,CMFs!$F$17)","v":0.71},{"$f":"IF(E$43=\"No\",1,CMFs!$F$17)","v":1},{"$f":"IF(F$43=\"No\",1,CMFs!$F$17)","v":0.71},{"$f":"IF(G$43=\"No\",1,CMFs!$F$17)","v":0.71},0,{"$f":"IF(I$43=\"No\",1,CMFs!$F$17)","v":1},{"$f":"1-I113/E113","v":{"$error":"#VALUE!"}},{"$f":"INDEX($D108:$I108,K$98)","v":0.71},{"$f":"INDEX($D108:$I108,L$98)","v":1},-0.40845070422535223]
[null,null,"Passing Lane Type",{"$f":"IF(ISNUMBER(INDEX(PassLNCMF, MATCH(D44,Passing_Lane_Type,0))),INDEX(PassLNCMF, MATCH(D44,Passing_Lane_Type,0)),1)","v":1},{"$f":"IF(ISNUMBER(INDEX(PassLNCMF, MATCH(E44,Passing_Lane_Type,0))),INDEX(PassLNCMF, MATCH(E44,Passing_Lane_Type,0)),1)","v":1},{"$f":"IF(ISNUMBER(INDEX(PassLNCMF, MATCH(F44,Passing_Lane_Type,0))),INDEX(PassLNCMF, MATCH(F44,Passing_Lane_Type,0)),1)","v":1},{"$f":"IF(ISNUMBER(INDEX(PassLNCMF, MATCH(G44,Passing_Lane_Type,0))),INDEX(PassLNCMF, MATCH(G44,Passing_Lane_Type,0)),1)","v":1},0,{"$f":"IF(ISNUMBER(INDEX(PassLNCMF, MATCH(I44,Passing_Lane_Type,0))),INDEX(PassLNCMF, MATCH(I44,Passing_Lane_Type,0)),1)","v":0.65},{"$f":"1-I114/E114","v":{"$error":"#VALUE!"}},{"$f":"INDEX($D109:$I109,K$98)","v":1},{"$f":"INDEX($D109:$I109,L$98)","v":1},0]
[null,null,null,null,null,null,null,null,null,{"$f":"I115/E115","v":{"$error":"#VALUE!"}}]
[null,null,"COMBINED Calculated CMF",{"$f":"+D100*D101*D102*D103*D104*D105*D106*D107*D108*D109","v":{"$error":"#N/A"}},{"$f":"+E100*E101*E102*E103*E104*E105*E106*E107*E108*E109","v":{"$error":"#VALUE!"}},{"$f":"+F100*F101*F102*F103*F104*F105*F106*F107*F108*F109","v":{"$error":"#N/A"}},{"$f":"+G100*G101*G102*G103*G104*G105*G106*G107*G108*G109","v":{"$error":"#N/A"}},{"$f":"IF($I$2=\"Existing\",(D111),(IF($I$2=\"Design 1\",(F111),(IF($I$2=\"Design 2\",(G111),(IF($I$2=\"Optimal\",(I111),E111)))))))","v":{"$error":"#VALUE!"}},{"$f":"+I100*I101*I102*I103*I104*I105*I106*I107*I108*I109","v":{"$error":"#VALUE!"}},null,{"$f":"INDEX($D111:$I111,K$98)","v":{"$error":"#N/A"}},{"$f":"INDEX($D111:$I111,L$98)","v":{"$error":"#VALUE!"}},{"$f":"IF(ISERROR(1-L111/K111), 0, 1-L111/K111)","v":0}]
[null,null,"Calculated Relative to Design Standards (Column E)",{"$f":"+D111/$E$111","v":{"$error":"#N/A"}},{"$error":"#VALUE!"},{"$error":"#N/A"},{"$error":"#N/A"},{"$error":"#VALUE!"},{"$error":"#VALUE!"},null,{"$f":"INDEX($D112:$I112,K$98)","v":{"$error":"#N/A"}},{"$f":"INDEX($D112:$I112,L$98)","v":{"$error":"#VALUE!"}},0]
[null,null,"P(Crash)",{"$f":"+D112/(D112+1)","v":{"$error":"#N/A"}},{"$error":"#VALUE!"},{"$error":"#N/A"},{"$error":"#N/A"},{"$error":"#VALUE!"},{"$error":"#VALUE!"},null,{"$f":"INDEX($D113:$I113,K$98)","v":{"$error":"#N/A"}},{"$f":"INDEX($D113:$I113,L$98)","v":{"$error":"#VALUE!"}},0]
[null,null,"Factor Change on S curve",{"$f":"+D113/$E$113","v":{"$error":"#N/A"}},{"$error":"#VALUE!"},{"$error":"#N/A"},{"$error":"#N/A"},{"$error":"#VALUE!"},{"$error":"#VALUE!"},null,{"$f":"INDEX($D114:$I114,K$98)","v":{"$error":"#N/A"}},{"$f":"INDEX($D114:$I114,L$98)","v":{"$error":"#VALUE!"}},0]
[null,null,"Adjust to Scale of 100",{"$f":"+$I$114/D114*100","v":{"$error":"#VALUE!"}},{"$error":"#VALUE!"},{"$error":"#VALUE!"},{"$error":"#VALUE!"},{"$error":"#VALUE!"},{"$error":"#VALUE!"}]
[null,null,"Unadjusted Combined Relative to Standard",{"$f":"+D111/$E$111","v":{"$error":"#N/A"}},{"$error":"#VALUE!"},{"$error":"#N/A"},{"$error":"#N/A"},{"$error":"#VALUE!"},{"$error":"#VALUE!"},null,{"$f":"INDEX($D116:$I116,K$98)","v":{"$error":"#N/A"}},{"$f":"INDEX($D116:$I116,L$98)","v":{"$error":"#VALUE!"}},{"$f":"IF(ISERROR(1-L116/K116), 0, 1-L116/K116)","v":0}]
[null,null,null,null,null,null,null,null,null,{"$f":"I122/E122","v":{"$error":"#VALUE!"}}]
[null,null,"Adjusted for PA Basis",{"$f":"+D111*(1+1)/(1+D111*1)","v":{"$error":"#N/A"}},{"$error":"#VALUE!"},{"$error":"#N/A"},{"$error":"#N/A"},{"$f":"IF($I$2=\"Existing\",(D118),(IF($I$2=\"Design 1\",(F118),(IF($I$2=\"Design 2\",(G118),(IF($I$2=\"Optimal\",(I118),E118)))))))","v":{"$error":"#VALUE!"}},{"$error":"#VALUE!"},null,{"$f":"INDEX($D118:$I118,K$98)","v":{"$error":"#N/A"}},{"$f":"INDEX($D118:$I118,L$98)","v":{"$error":"#VALUE!"}},{"$f":"IF(ISERROR(1-L118/K118), 0, 1-L118/K118)","v":0}]
[null,null,"Corrected by Odds Ratio",{"$f":"+D118/$E$118","v":{"$error":"#N/A"}},{"$error":"#VALUE!"},{"$error":"#N/A"},{"$error":"#N/A"},{"$f":"IF($I$2=\"Existing\",(D119),(IF($I$2=\"Design 1\",(F119),(IF($I$2=\"Design 2\",(G119),(IF($I$2=\"Optimal\",(I119),E119)))))))","v":{"$error":"#VALUE!"}},{"$error":"#VALUE!"},null,{"$f":"INDEX($D119:$I119,K$98)","v":{"$error":"#N/A"}},{"$f":"INDEX($D119:$I119,L$98)","v":{"$error":"#VALUE!"}},0]
[null,null,"Pinned s",{"$f":"(1/D119)^$D123","v":{"$error":"#N/A"}},{"$error":"#VALUE!"},{"$error":"#N/A"},{"$error":"#N/A"},{"$error":"#VALUE!"},{"$error":"#VALUE!"},{"$f":"I125/E125","v":{"$error":"#VALUE!"}},{"$f":"INDEX($D120:$I120,K$98)","v":{"$error":"#N/A"}},{"$f":"INDEX($D120:$I120,L$98)","v":{"$error":"#VALUE!"}},0]
[null,null,null,{"$f":"(D120+$F124-1)/(1+(D120+$F124-1))","v":{"$error":"#N/A"}},{"$error":"#VALUE!"},{"$error":"#N/A"},{"$error":"#N/A"},{"$error":"#VALUE!"},{"$error":"#VALUE!"},null,{"$f":"INDEX($D121:$I121,K$98)","v":{"$error":"#N/A"}},{"$f":"INDEX($D121:$I121,L$98)","v":{"$error":"#VALUE!"}},0]
[null,null,"Score Odds Ratio with Optimal (old)",{"$f":"MIN(ROUND($I$119/D119*Construction!$I$8,0),$I122)","v":{"$error":"#VALUE!"}},{"$f":"MIN(ROUND($I$119/E119*Construction!$I$8,0),$I122)","v":{"$error":"#VALUE!"}},{"$f":"MIN(ROUND($I$119/F119*Construction!$I$8,0),$I122)","v":{"$error":"#VALUE!"}},{"$f":"MIN(ROUND($I$119/G119*Construction!$I$8,0),$I122)","v":{"$error":"#VALUE!"}},{"$f":"IF($I$2=\"Existing\",(D122),(IF($I$2=\"Design 1\",(F122),(IF($I$2=\"Design 2\",(G122),(IF($I$2=\"Optimal\",(I122),E122)))))))","v":{"$error":"#VALUE!"}},{"$f":"ROUND($I$119/I119*Construction!$I$8,0)","v":{"$error":"#VALUE!"}}]
[null,null,"Logistic1",{"$f":"LN((D124/(1-D124))/(0.5/0.5))/LN($E119/I119)","v":{"$error":"#VALUE!"}}]
[null,null,"Logistic Param",0.999,null,{"$f":"0.7/0.3","v":2.3333333333333335}]
[null,null,"Score ",{"$f":"MIN(ROUND(D121*Construction!$I$8,0),$I122)","v":{"$error":"#N/A"}},{"$f":"MIN(ROUND(E121*Construction!$I$8,0),$I122)","v":{"$error":"#VALUE!"}},{"$f":"MIN(ROUND(F121*Construction!$I$8,0),$I122)","v":{"$error":"#N/A"}},{"$f":"MIN(ROUND(G121*Construction!$I$8,0),$I122)","v":{"$error":"#N/A"}},{"$f":"MIN(ROUND(H121*Construction!$I$8,0),$I122)","v":{"$error":"#VALUE!"}},{"$f":"MIN(ROUND(I121*Construction!$I$8,0),$I122)","v":{"$error":"#VALUE!"}}]
[]
[null,null,"HC and Grade",{"$f":"IF($B$135,0,1)","v":1},{"$f":"IF($B$135,0,1)","v":1},{"$f":"IF($B$135,0,1)","v":1},{"$f":"IF($B$135,0,1)","v":1},{"$f":"IF($I$2=\"Existing\",(D127),(IF($I$2=\"Design 1\",(F127),(IF($I$2=\"Design 2\",(G127),(IF($I$2=\"Optimal\",(I127),E127)))))))","v":1},{"$f":"IF($B$135,0,1)","v":1}]
[null,null,"HC and VC Crest type I",{"$f":"IF(AND($B$135=1,SIGN(D$36)=1,ABS(D$36)<=ABS(D$36-D$37),D$42=\"Crest\"),1,0)","v":0},{"$f":"IF(AND($B$135=1, SIGN(IF(ISNUMBER(E$36),E$36,0))=1,ABS(IF(ISNUMBER(E$36),E$36,0)) <= ABS(IF(ISNUMBER(E$36),E$36,0)-IF(ISNUMBER(E$37),E$37,0)),E$42=\"Crest\"),1,0)","v":0},{"$f":"IF(AND($B$135=1,SIGN(F$36)=1,ABS(F$36)<=ABS(F$36-F$37),F$42=\"Crest\"),1,0)","v":0},{"$f":"IF(AND($B$135=1,SIGN(G$36)=1,ABS(G$36)<=ABS(G$36-G$37),G$42=\"Crest\"),1,0)","v":0},{"$f":"IF($I$2=\"Existing\",(D128),(IF($I$2=\"Design 1\",(F128),(IF($I$2=\"Design 2\",(G128),(IF($I$2=\"Optimal\",(I128),E128)))))))","v":0},{"$f":"IF(AND($B$135=1,SIGN(I$36)=1,ABS(I$36)<=ABS(I$36-IF(ISNUMBER(I$37), I$37,0)),I$42=\"Crest\"),1,0)","v":{"$error":"#VALUE!"}}]
["HC?",null,"HC and VC Sag type I",{"$f":"IF(AND($B$135=1,SIGN(D$36)=1,ABS(D$36)<=ABS(D$36-D$37),D$42=\"Sag\"),1,0)","v":0},{"$f":"IF(AND($B$135=1, SIGN(IF(ISNUMBER(E$36),E$36,0))=1,ABS(IF(ISNUMBER(E$36),E$36,0)) <= ABS(IF(ISNUMBER(E$36),E$36,0)-IF(ISNUMBER(E$37),E$37,0)),E$42=\"Sag\"),1,0)","v":0},{"$f":"IF(AND($B$135=1,SIGN(F$36)=1,ABS(F$36)<=ABS(F$36-F$37),F$42=\"Sag\"),1,0)","v":0},{"$f":"IF(AND($B$135=1,SIGN(G$36)=1,ABS(G$36)<=ABS(G$36-G$37),G$42=\"Sag\"),1,0)","v":0},{"$f":"IF($I$2=\"Existing\",(D129),(IF($I$2=\"Design 1\",(F129),(IF($I$2=\"Design 2\",(G129),(IF($I$2=\"Optimal\",(I129),E129)))))))","v":0},{"$f":"IF(AND($B$135=1,SIGN(I$36)=1,ABS(I$36)<=ABS(I$36-IF(ISNUMBER(I$37), I$37,0)),I$42=\"Sag\"),1,0)","v":{"$error":"#VALUE!"}}]
["VC?",null,"HC and VC Crest type II",{"$f":"IF(AND($B$135=1,D$42=\"Crest\",D$128=0),1,0)","v":0},{"$f":"IF(AND($B$135=1,E$42=\"Crest\",E$128=0),1,0)","v":0},{"$f":"IF(AND($B$135=1,F$42=\"Crest\",F$128=0),1,0)","v":0},{"$f":"IF(AND($B$135=1,G$42=\"Crest\",G$128=0),1,0)","v":0},{"$f":"IF($I$2=\"Existing\",(D130),(IF($I$2=\"Design 1\",(F130),(IF($I$2=\"Design 2\",(G130),(IF($I$2=\"Optimal\",(I130),E130)))))))","v":0},{"$f":"IF(AND($B$135=1,I$42=\"Crest\",I$128=0),1,0)","v":{"$error":"#VALUE!"}}]
[null,null,"HC and VC Sag type II",{"$f":"IF(AND($B$135=1,D$42=\"Sag\",D$129=0),1,0)","v":0},{"$f":"IF(AND($B$135=1,E$42=\"Sag\",E$129=0),1,0)","v":0},{"$f":"IF(AND($B$135=1,F$42=\"Sag\",F$129=0),1,0)","v":0},{"$f":"IF(AND($B$135=1,G$42=\"Sag\",G$129=0),1,0)","v":0},{"$f":"IF($I$2=\"Existing\",(D131),(IF($I$2=\"Design 1\",(F131),(IF($I$2=\"Design 2\",(G131),(IF($I$2=\"Optimal\",(I131),E131)))))))","v":0},{"$f":"IF(AND($B$135=1,I$42=\"Sag\",I$129=0),1,0)","v":{"$error":"#VALUE!"}}]
[null,"Yes/No"]
[null,null,"HC and VC:",null,{"$f":"EXP(0.042*ABS(D$36)+$B$134*0.16*LN(2*5730/IF(ISNUMBER(E$29),E$29,1)))","v":1}]
[null,{"$f":"IF(B27=\"Yes\",1,0)","v":0},"HC and Grade",{"$f":"IF($B$135=0,EXP(0.042*ABS(D$36)+$B$134*0.16*LN(2*5730/D$141)+4.16*$B$134/D$141/IF(ISNUMBER(D$30),D$30,999999)),1)","v":1},{"$f":"IF($B$135=0,EXP(0.042*ABS(E$36)+$B$134*0.16*LN(2*5730/E$141)+4.16*$B$134/E$141/IF(ISNUMBER(E$30),E$30,999999)),1)","v":{"$error":"#VALUE!"}},1,1,{"$f":"IF($B$135=0,EXP(0.042*ABS(H$36)+$B$134*0.16*LN(2*5730/IF(ISNUMBER(H$29),H$29,1))+4.16*$B$134/IF(ISNUMBER(H$29),H$29,1)/IF(ISNUMBER(H$30),H$30,1)),1)","v":{"$error":"#DIV/0!"}},{"$error":"#VALUE!"},null,{"$f":"INDEX($D134:$I134,K$98)","v":1},{"$f":"INDEX($D134:$I134,L$98)","v":{"$error":"#VALUE!"}},{"$f":"IF(ISERROR(1-L134/K134), 0, 1-L134/K134)","v":0}]
[null,{"$f":"IF(B34=\"Yes\",1,0)","v":0},"HC and VC Crest type I",{"$f":"IF($B$135=0,1,EXP(0.005648908*5730*ABS(+D$36-D$37)*$B$135/D$141*$B$134))","v":1},{"$f":"IF($B$135=0,1,EXP(0.005648908*5730*ABS(+E$36-E$37)*$B$135/E$141*$B$134))","v":1},1,1,{"$f":"IF($I$2=\"Existing\",(D135),(IF($I$2=\"Design 1\",(F135),(IF($I$2=\"Design 2\",(G135),(IF($I$2=\"Optimal\",(I135),E135)))))))","v":1},1,null,{"$f":"INDEX($D135:$I135,K$98)","v":1},{"$f":"INDEX($D135:$I135,L$98)","v":1},0]
[null,null,"HC and VC Sag type I",{"$f":"IF($B$135=0,1,EXP(9.15857042*$B$135/D$142+0.010284958*5730*$B$135*$B$134*ABS(+D$36-D$37)/D$141))","v":1},{"$f":"IF($B$135=0,1,EXP(9.15857042*$B$135/E$142+0.010284958*5730*$B$135*$B$134*ABS(+E$36-E$37)/E$141))","v":1},1,1,{"$f":"IF($I$2=\"Existing\",(D136),(IF($I$2=\"Design 1\",(F136),(IF($I$2=\"Design 2\",(G136),(IF($I$2=\"Optimal\",(I136),E136)))))))","v":1},1,null,{"$f":"INDEX($D136:$I136,K$98)","v":1},{"$f":"INDEX($D136:$I136,L$98)","v":1},0]
[null,null,"HC and VC Crest type II",{"$f":"IF($B$135=0,1,EXP(0.005648908*5730*ABS(+D$36-D$37)*$B$135/D$141*$B$134))","v":1},{"$f":"IF($B$135=0,1,EXP(0.005648908*5730*ABS(+E$36-E$37)*$B$135/E$141*$B$134))","v":1},1,1,{"$f":"IF($I$2=\"Existing\",(D137),(IF($I$2=\"Design 1\",(F137),(IF($I$2=\"Design 2\",(G137),(IF($I$2=\"Optimal\",(I137),E137)))))))","v":1},1,null,{"$f":"INDEX($D137:$I137,K$98)","v":1},{"$f":"INDEX($D137:$I137,L$98)","v":1},0]
[null,null,"HC and VC Sag type II",{"$f":"IF($B$135=0,1,(0.246011284*EXP(LN(0.188*2*5730/D$141)*$B$134)+0.7514288716*EXP(0.022*5730/D$141*ABS(D$36-D$37)*$B$135*$B$134)))","v":1},{"$f":"IF($B$135=0,1,(0.246011284*EXP(LN(0.188*2*5730/E$141)*$B$134)+0.7514288716*EXP(0.022*5730/E$141*ABS(E$36-E$37)*$B$135*$B$134)))","v":1},1,1,{"$f":"IF($I$2=\"Existing\",(D138),(IF($I$2=\"Design 1\",(F138),(IF($I$2=\"Design 2\",(G138),(IF($I$2=\"Optimal\",(I138),E138)))))))","v":1},1,null,{"$f":"INDEX($D138:$I138,K$98)","v":1},{"$f":"INDEX($D138:$I138,L$98)","v":1},0]
[]
[null,null,"Combined HZ and VT",{"$f":"MMULT(TRANSPOSE(D127:D131),D134:D138)","v":1},{"$f":"MMULT(TRANSPOSE(E127:E131),E134:E138)","v":{"$error":"#VALUE!"}},{"$f":"MMULT(TRANSPOSE(F127:F131),F134:F138)","v":1},{"$f":"MMULT(TRANSPOSE(G127:G131),G134:G138)","v":1},{"$f":"IF($I$2=\"Existing\",(D140),(IF($I$2=\"Design 1\",(F140),(IF($I$2=\"Design 2\",(G140),(IF($I$2=\"Optimal\",(I140),E140)))))))","v":{"$error":"#VALUE!"}},{"$f":"MMULT(TRANSPOSE(I127:I131),I134:I138)","v":{"$error":"#VALUE!"}},null,{"$f":"INDEX($D140:$I140,K$98)","v":1},{"$f":"INDEX($D140:$I140,L$98)","v":{"$error":"#VALUE!"}},{"$f":"IF(ISERROR(1-L140/K140), 0, 1-L140/K140)","v":0}]
[null,null,"effective R for calculation",{"$f":"IF(ISNUMBER(D29), D29, 99999999)","v":99999999},{"$f":"IF(ISNUMBER(E29), E29, 99999999)","v":590},99999999,99999999,null,590]
[null,null,"effective K for calculation",{"$f":"IF(ISNUMBER(D39), D39, 9999999)","v":9999999},{"$f":"IF(ISNUMBER(E39), E39, 9999999)","v":9999999},9999999,9999999,null,9999999]
[null,"Traffic"]
[null,null,null,"Existing","Standard","Design 1","Design 2"]
[null,null,"Advance static curve warning signs",{"$f":"IF(AND($B$27=\"Yes\",D$52=\"Yes\"),(Traffic!$F$4-1)*AVERAGE(Constraints!$F$37,Constraints!$H$37)/Constraints!$D$37+1,1)","v":1},{"$f":"IF(AND($B$27=\"Yes\",E$52=\"Yes\"),(Traffic!$F$4-1)*AVERAGE(Constraints!$F$37,Constraints!$H$37)/Constraints!$D$37+1,1)","v":1},{"$f":"IF(AND($B$27=\"Yes\",F$52=\"Yes\"),(Traffic!$F$4-1)*AVERAGE(Constraints!$F$37,Constraints!$H$37)/Constraints!$D$37+1,1)","v":1},{"$f":"IF(AND($B$27=\"Yes\",G$52=\"Yes\"),(Traffic!$F$4-1)*AVERAGE(Constraints!$F$37,Constraints!$H$37)/Constraints!$D$37+1,1)","v":1},{"$f":"IF($I$2=\"Existing\",(D145),(IF($I$2=\"Design 1\",(F145),(IF($I$2=\"Design 2\",(G145),(IF($I$2=\"Optimal\",(I145),E145)))))))","v":1},{"$f":"IF(AND($B$27=\"Yes\",I$52=\"Yes\"),(Traffic!$F$4-1)*AVERAGE(Constraints!$F$37,Constraints!$H$37)/Constraints!$D$37+1,1)","v":1},null,{"$f":"INDEX($D145:$I145,K$98)","v":1},{"$f":"INDEX($D145:$I145,L$98)","v":1},{"$f":"IF(ISERROR(1-L145/K145), 0, 1-L145/K145)","v":0}]
[null,null,"Install chevron signs on horizontal curves",{"$f":"IF(D$53=\"No\",1,(IF(AND($B$27=\"Yes\",D$24<11.5),((Traffic!$F$6-1)*(Constraints!$E$35+Constraints!$E$31))+1,1)))","v":1},{"$f":"IF(E$53=\"No\",1,(IF(AND($B$27=\"Yes\",E$24<11.5),((Traffic!$F$6-1)*(Constraints!$E$35+Constraints!$E$31))+1,1)))","v":1},{"$f":"IF(F$53=\"No\",1,(IF(AND($B$27=\"Yes\",F$24<11.5),((Traffic!$F$6-1)*(Constraints!$E$35+Constraints!$E$31))+1,1)))","v":1},{"$f":"IF(G$53=\"No\",1,(IF(AND($B$27=\"Yes\",G$24<11.5),((Traffic!$F$6-1)*(Constraints!$E$35+Constraints!$E$31))+1,1)))","v":1},{"$f":"IF($I$2=\"Existing\",(D146),(IF($I$2=\"Design 1\",(F146),(IF($I$2=\"Design 2\",(G146),(IF($I$2=\"Optimal\",(I146),E146)))))))","v":1},{"$f":"IF(I$53=\"No\",1,(IF(AND($B$27=\"Yes\",I$24<11.5),((Traffic!$F$6-1)*(Constraints!$E$35+Constraints!$E$31))+1,1)))","v":1},null,{"$f":"INDEX($D146:$I146,K$98)","v":1},{"$f":"INDEX($D146:$I146,L$98)","v":1},0]
[null,null,"Install post-mounted delineators",{"$f":"IF(AND($B$27=\"Yes\",D$54=\"Yes\"),(Traffic!$F$12-1)*Constraints!$E$36+1,1)","v":1},{"$f":"IF(AND($B$27=\"Yes\",E$54=\"Yes\"),(Traffic!$F$12-1)*Constraints!$E$36+1,1)","v":1},{"$f":"IF(AND($B$27=\"Yes\",F$54=\"Yes\"),(Traffic!$F$12-1)*Constraints!$E$36+1,1)","v":1},{"$f":"IF(AND($B$27=\"Yes\",G$54=\"Yes\"),(Traffic!$F$12-1)*Constraints!$E$36+1,1)","v":1},{"$f":"IF($I$2=\"Existing\",(D147),(IF($I$2=\"Design 1\",(F147),(IF($I$2=\"Design 2\",(G147),(IF($I$2=\"Optimal\",(I147),E147)))))))","v":1},{"$f":"IF(AND($B$27=\"Yes\",I$54=\"Yes\"),(Traffic!$F$12-1)*Constraints!$E$36+1,1)","v":1},null,{"$f":"INDEX($D147:$I147,K$98)","v":1},{"$f":"INDEX($D147:$I147,L$98)","v":1},0]
[null,null,"Install edgeline  or Profile pavement markings ",{"$f":"IF(D$55=\"Yes\",Traffic!$F$18*0.5+((Traffic!$F$20*(Constraints!$H$36+Constraints!$H$32)+1*(Constraints!$H$37-(Constraints!$H$36+Constraints!$H$32)))/Constraints!$H$37)*0.5,1)","v":1},{"$f":"IF(E$55=\"Yes\",Traffic!$F$18*0.5+((Traffic!$F$20*(Constraints!$H$36+Constraints!$H$32)+1*(Constraints!$H$37-(Constraints!$H$36+Constraints!$H$32)))/Constraints!$H$37)*0.5,1)","v":0.86175881308648239},{"$f":"IF(F$55=\"Yes\",Traffic!$F$18*0.5+((Traffic!$F$20*(Constraints!$H$36+Constraints!$H$32)+1*(Constraints!$H$37-(Constraints!$H$36+Constraints!$H$32)))/Constraints!$H$37)*0.5,1)","v":1},{"$f":"IF(G$55=\"Yes\",Traffic!$F$18*0.5+((Traffic!$F$20*(Constraints!$H$36+Constraints!$H$32)+1*(Constraints!$H$37-(Constraints!$H$36+Constraints!$H$32)))/Constraints!$H$37)*0.5,1)","v":1},{"$f":"IF($I$2=\"Existing\",(D148),(IF($I$2=\"Design 1\",(F148),(IF($I$2=\"Design 2\",(G148),(IF($I$2=\"Optimal\",(I148),E148)))))))","v":0.86175881308648239},{"$f":"IF(I$55=\"Yes\",Traffic!$F$18*0.5+((Traffic!$F$20*(Constraints!$H$36+Constraints!$H$32)+1*(Constraints!$H$37-(Constraints!$H$36+Constraints!$H$32)))/Constraints!$H$37)*0.5,1)","v":0.86175881308648239},null,{"$f":"INDEX($D148:$I148,K$98)","v":1},{"$f":"INDEX($D148:$I148,L$98)","v":0.86175881308648239},0.13824118691351761]
[null,null,"Profiles",1,1,1,1,1,1,null,{"$f":"INDEX($D149:$I149,K$98)","v":1},{"$f":"INDEX($D149:$I149,L$98)","v":1},0]
[null,null,"Shoulder rumble strips",{"$f":"IF(D$56=\"No\",1,(Traffic!$F$27*(Constraints!$H$36+Constraints!$H$32)+1*(Constraints!$H$37-(Constraints!$H$36+Constraints!$H$32)))/Constraints!$H$37)","v":0.89760950690192376},{"$f":"IF(E$56=\"No\",1,(Traffic!$F$27*(Constraints!$H$36+Constraints!$H$32)+1*(Constraints!$H$37-(Constraints!$H$36+Constraints!$H$32)))/Constraints!$H$37)","v":0.89760950690192376},{"$f":"IF(F$56=\"No\",1,(Traffic!$F$27*(Constraints!$H$36+Constraints!$H$32)+1*(Constraints!$H$37-(Constraints!$H$36+Constraints!$H$32)))/Constraints!$H$37)","v":0.89760950690192376},{"$f":"IF(G$56=\"No\",1,(Traffic!$F$27*(Constraints!$H$36+Constraints!$H$32)+1*(Constraints!$H$37-(Constraints!$H$36+Constraints!$H$32)))/Constraints!$H$37)","v":0.89760950690192376},{"$f":"IF($I$2=\"Existing\",(D150),(IF($I$2=\"Design 1\",(F150),(IF($I$2=\"Design 2\",(G150),(IF($I$2=\"Optimal\",(I150),E150)))))))","v":0.89760950690192376},{"$f":"IF(I$56=\"No\",1,(Traffic!$F$27*(Constraints!$H$36+Constraints!$H$32)+1*(Constraints!$H$37-(Constraints!$H$36+Constraints!$H$32)))/Constraints!$H$37)","v":0.89760950690192376},null,{"$f":"INDEX($D150:$I150,K$98)","v":0.89760950690192376},{"$f":"INDEX($D150:$I150,L$98)","v":0.89760950690192376},0]
[null,null,"Install centerline rumble strips",{"$f":"IF(D$57=\"No\",1,Traffic!$F$30)","v":0.86},{"$f":"IF(E$57=\"No\",1,Traffic!$F$30)","v":1},{"$f":"IF(F$57=\"No\",1,Traffic!$F$30)","v":0.86},{"$f":"IF(G$57=\"No\",1,Traffic!$F$30)","v":0.86},{"$f":"IF($I$2=\"Existing\",(D151),(IF($I$2=\"Design 1\",(F151),(IF($I$2=\"Design 2\",(G151),(IF($I$2=\"Optimal\",(I151),E151)))))))","v":1},{"$f":"IF(I$57=\"No\",1,Traffic!$F$30)","v":0.86},null,{"$f":"INDEX($D151:$I151,K$98)","v":0.86},{"$f":"INDEX($D151:$I151,L$98)","v":1},-0.16279069767441867]
[null,null,"Driveway Density (driveways per mile)",{"$f":"EXP(-LN(Traffic!$F$32)*(D$58-$E$58))","v":0.81707280688754669},{"$f":"EXP(-LN(Traffic!$F$32)*(E$58-$E$58))","v":1},{"$f":"EXP(-LN(Traffic!$F$32)*(F$58-$E$58))","v":0.81707280688754669},{"$f":"EXP(-LN(Traffic!$F$32)*(G$58-$E$58))","v":0.81707280688754669},{"$f":"IF($I$2=\"Existing\",(D152),(IF($I$2=\"Design 1\",(F152),(IF($I$2=\"Design 2\",(G152),(IF($I$2=\"Optimal\",(I152),E152)))))))","v":1},{"$f":"EXP(-LN(Traffic!$F$32)*(I$58-$E$58))","v":0.81707280688754669},null,{"$f":"INDEX($D152:$I152,K$98)","v":0.81707280688754669},{"$f":"INDEX($D152:$I152,L$98)","v":1},-0.22388114201141129]
[null,null,"Install lighting",{"$f":"IF(D$59=\"No\",1,1-(((1-Traffic!$F$55*Constraints!$H$37-Constraints!$F$37/3)+((1-Traffic!$F$55*Constraints!$D$37-Constraints!$H$37)))*$S$19+((1-Traffic!$F$57)*Constraints!$F$37/3))/Constraints!$D$37)","v":0.977040446881142},{"$f":"IF(E$59=\"No\",1,1-(((1-Traffic!$F$55*Constraints!$H$37-Constraints!$F$37/3)+((1-Traffic!$F$55*Constraints!$D$37-Constraints!$H$37)))*$S$19+((1-Traffic!$F$57)*Constraints!$F$37/3))/Constraints!$D$37)","v":1},{"$f":"IF(F$59=\"No\",1,1-(((1-Traffic!$F$55*Constraints!$H$37-Constraints!$F$37/3)+((1-Traffic!$F$55*Constraints!$D$37-Constraints!$H$37)))*$S$19+((1-Traffic!$F$57)*Constraints!$F$37/3))/Constraints!$D$37)","v":0.977040446881142},{"$f":"IF(G$59=\"No\",1,1-(((1-Traffic!$F$55*Constraints!$H$37-Constraints!$F$37/3)+((1-Traffic!$F$55*Constraints!$D$37-Constraints!$H$37)))*$S$19+((1-Traffic!$F$57)*Constraints!$F$37/3))/Constraints!$D$37)","v":0.977040446881142},{"$f":"IF($I$2=\"Existing\",(D153),(IF($I$2=\"Design 1\",(F153),(IF($I$2=\"Design 2\",(G153),(IF($I$2=\"Optimal\",(I153),E153)))))))","v":1},{"$f":"IF(I$59=\"No\",1,1-(((1-Traffic!$F$55*Constraints!$H$37-Constraints!$F$37/3)+((1-Traffic!$F$55*Constraints!$D$37-Constraints!$H$37)))*$S$19+((1-Traffic!$F$57)*Constraints!$F$37/3))/Constraints!$D$37)","v":0.977040446881142},null,{"$f":"INDEX($D153:$I153,K$98)","v":0.977040446881142},{"$f":"INDEX($D153:$I153,L$98)","v":1},-2.3499081529478438E-2]
[null,null,"Pavement friction (skid number)",{"$f":"EXP(LN(Traffic!$F$49)*(D$60-$E$60))","v":1.3972521419325798},{"$f":"EXP(LN(Traffic!$F$49)*(E$60-$E$60))","v":1},{"$f":"IF(MATCH(F60,SkidNums,0)=3, $D154,EXP(LN(Traffic!$F$49)*(RIGHT(F$60,2)-$E$60)))","v":{"$error":"#N/A"}},{"$f":"IF(MATCH(G60,SkidNums,0)=3, $D154,EXP(LN(Traffic!$F$49)*(RIGHT(G$60,2)-$E$60)))","v":{"$error":"#N/A"}},{"$f":"IF($I$2=\"Existing\",(D154),(IF($I$2=\"Design 1\",(F154),(IF($I$2=\"Design 2\",(G154),(IF($I$2=\"Optimal\",(I154),E154)))))))","v":1},{"$f":"EXP(LN(Traffic!$F$49)*(I$60-$E$60))","v":0.85753553626991963},null,{"$f":"INDEX($D154:$I154,K$98)","v":1.3972521419325798},{"$f":"INDEX($D154:$I154,L$98)","v":1},0.28430956017940245]
[]
[]
[null,null,"COMBINED Calculated CMF",{"$f":"+D145*D146*D147*D148*D149*D150*D151*D152*D153*D154","v":0.86106111787419426},{"$f":"+E145*E146*E147*E148*E149*E150*E151*E152*E153*E154","v":0.7735229032829446},{"$f":"+F145*F146*F147*F148*F149*F150*F151*F152*F153*F154","v":{"$error":"#N/A"}},{"$f":"+G145*G146*G147*G148*G149*G150*G151*G152*G153*G154","v":{"$error":"#N/A"}},{"$f":"IF($I$2=\"Existing\",(D157),(IF($I$2=\"Design 1\",(F157),(IF($I$2=\"Design 2\",(G157),(IF($I$2=\"Optimal\",(I157),E157)))))))","v":0.7735229032829446},{"$f":"+I145*I146*I147*I148*I149*I150*I151*I152*I153*I154","v":0.45540422392050506},null,{"$f":"INDEX($D157:$I157,K$98)","v":0.86106111787419426},{"$f":"INDEX($D157:$I157,L$98)","v":0.7735229032829446},{"$f":"IF(ISERROR(1-L157/K157), 0, 1-L157/K157)","v":0.10166318368592209}]
[null,null,"Calculated Relative to Design Standards (Column E)",{"$f":"+D157/$E$157","v":1.1131682258142903},{"$f":"+E157/$E$157","v":1},{"$f":"+F157/$E$157","v":{"$error":"#N/A"}},{"$f":"+G157/$E$157","v":{"$error":"#N/A"}},1,{"$f":"+I157/$E$157","v":0.58874045227064742},null,{"$f":"INDEX($D158:$I158,K$98)","v":1.1131682258142903},{"$f":"INDEX($D158:$I158,L$98)","v":1},0.1016631836859222]
[null,null,"P(Crash)",{"$f":"+D158/(D158+1)","v":0.52677690882151185},{"$f":"+E158/(E158+1)","v":0.5},{"$f":"+F158/(F158+1)","v":{"$error":"#N/A"}},{"$f":"+G158/(G158+1)","v":{"$error":"#N/A"}},0.5,{"$f":"+I158/(I158+1)","v":0.37057056829465901}]
[null,null,"Factor Change on S curve",{"$f":"+D159/$E$159","v":1.0535538176430237},{"$f":"+E159/$E$159","v":1},{"$f":"+F159/$E$159","v":{"$error":"#N/A"}},{"$f":"+G159/$E$159","v":{"$error":"#N/A"}},1,{"$f":"+I159/$E$159","v":0.74114113658931802}]
[null,null,"Adjust to Scale of 100",{"$f":"+$I$114/D160*100","v":{"$error":"#VALUE!"}},{"$f":"+$I$114/E160*100","v":{"$error":"#VALUE!"}},{"$f":"+$I$114/F160*100","v":{"$error":"#VALUE!"}},{"$f":"+$I$114/G160*100","v":{"$error":"#VALUE!"}},{"$error":"#VALUE!"},{"$f":"+$I$114/I160*100","v":{"$error":"#VALUE!"}}]
[null,null,"Unadjusted Combined Relative to Standard",{"$f":"+D157/$E$157","v":1.1131682258142903},{"$f":"+E157/$E$157","v":1},{"$f":"+F157/$E$157","v":{"$error":"#N/A"}},{"$f":"+G157/$E$157","v":{"$error":"#N/A"}},1,{"$f":"+I157/$E$157","v":0.58874045227064742}]
[null,null,null,null,null,null,null,0,null,{"$f":"I168/E168","v":1.4285714285714286}]
[null,null,"Adjusted for PA Basis",{"$f":"+D157*(1+1)/(1+D157*1)","v":0.92534426688549098},{"$f":"+E157*(1+1)/(1+E157*1)","v":0.8723010025425515},{"$f":"+F157*(1+1)/(1+F157*1)","v":{"$error":"#N/A"}},{"$f":"+G157*(1+1)/(1+G157*1)","v":{"$error":"#N/A"}},0.8723010025425515,{"$f":"+I157*(1+1)/(1+I157*1)","v":0.62581132641453641}]
[null,null,"Corrected by Odds Ratio",{"$f":"+D164/$E$164","v":1.0608084413388623},{"$f":"+E164/$E$164","v":1},{"$f":"+F164/$E$164","v":{"$error":"#N/A"}},{"$f":"+G164/$E$164","v":{"$error":"#N/A"}},1,{"$f":"+I164/$E$164","v":0.71742589380322175}]
[null,null,null,{"$f":"(1/D165)^$D169","v":0.29295399474123779},1,{"$error":"#N/A"},{"$error":"#N/A"},1,998.99999999999955,{"$f":"I171/E171","v":1.4285714285714286}]
[null,null,null,{"$f":"(D166+$F170-1)/(1+(D166+$F170-1))","v":0.61923435059440457},0.70000000000000007,{"$error":"#N/A"},{"$error":"#N/A"},0.70000000000000007,0.99900133155792281]
[null,null,"Score Odds Ratio with Optimal as 100 (old)",{"$f":"MIN(ROUND($I$165/D165*Construction!$I$9,0),$I168)","v":14},{"$f":"MIN(ROUND($I$165/E165*Construction!$I$9,0),$I168)","v":14},{"$f":"MIN(ROUND($I$165/F165*Construction!$I$9,0),$I168)","v":{"$error":"#N/A"}},{"$f":"MIN(ROUND($I$165/G165*Construction!$I$9,0),$I168)","v":{"$error":"#N/A"}},null,{"$f":"ROUND($I$165/I165*Construction!$I$9,0)","v":20}]
[null,null,"Logistic1",{"$f":"LN((D170/(1-D170))/(0.5/0.5))/LN($E165/I165)","v":20.798114554240879}]
[null,null,"Logistic Param",0.999,null,{"$f":"0.7/0.3","v":2.3333333333333335}]
[null,null,"Score ",{"$f":"MIN(ROUND(D167*Construction!$I$9,0),$I168)","v":12},{"$f":"MIN(ROUND(E167*Construction!$I$9,0),$I168)","v":14},{"$f":"MIN(ROUND(F167*Construction!$I$9,0),$I168)","v":{"$error":"#N/A"}},{"$f":"MIN(ROUND(G167*Construction!$I$9,0),$I168)","v":{"$error":"#N/A"}},null,{"$f":"MIN(ROUND(I167*Construction!$I$9,0),$I168)","v":20}]
[]
[]
[]
[]
[]
[]
[null,"Roadsde",null,"Existing","Standard","Design 1","Design 2"]
[null,null,null,{"$f":"MID(D72,FIND(\":\",D72,1)+1,FIND(\"H\",D72,1)-FIND(\":\",D72,1)-1)+0","v":{"$error":"#VALUE!"}},{"$f":"MID(E72,FIND(\":\",E72,1)+1,FIND(\"H\",E72,1)-FIND(\":\",E72,1)-1)+0","v":4},{"$f":"MID(F72,FIND(\":\",F72,1)+1,FIND(\"H\",F72,1)-FIND(\":\",F72,1)-1)+0","v":{"$error":"#VALUE!"}},{"$f":"MID(G72,FIND(\":\",G72,1)+1,FIND(\"H\",G72,1)-FIND(\":\",G72,1)-1)+0","v":{"$error":"#VALUE!"}},null,{"$f":"MID(I72,FIND(\":\",I72,1)+1,FIND(\"H\",I72,1)-FIND(\":\",I72,1)-1)+0","v":6},null,{"$f":"INDEX($D179:$I179,K$98)","v":{"$error":"#VALUE!"}},{"$f":"INDEX($D179:$I179,L$98)","v":4},{"$f":"IF(ISERROR(1-L179/K179), 0, 1-L179/K179)","v":0}]
[null,null,"Sideslope (Foreslope)",{"$f":"IF(D179<=3,1,IF(OR(D179=4,D179=5),(Roadside!$F$15-1)*Constraints!$H$37/Constraints!$D$37+1,(Roadside!$F$15*Roadside!$F$16-1)*Constraints!$H$37/Constraints!$D$37+1))","v":{"$error":"#VALUE!"}},{"$f":"IF(E179<=3,1,IF(OR(E179=4,E179=5),(Roadside!$F$15-1)*Constraints!$H$37/Constraints!$D$37+1,(Roadside!$F$15*Roadside!$F$16-1)*Constraints!$H$37/Constraints!$D$37+1))","v":0.8286893555394641},{"$f":"IF(F179<=3,1,IF(OR(F179=4,F179=5),(Roadside!$F$15-1)*Constraints!$H$37/Constraints!$D$37+1,(Roadside!$F$15*Roadside!$F$16-1)*Constraints!$H$37/Constraints!$D$37+1))","v":{"$error":"#VALUE!"}},{"$f":"IF(G179<=3,1,IF(OR(G179=4,G179=5),(Roadside!$F$15-1)*Constraints!$H$37/Constraints!$D$37+1,(Roadside!$F$15*Roadside!$F$16-1)*Constraints!$H$37/Constraints!$D$37+1))","v":{"$error":"#VALUE!"}},{"$f":"IF($I$2=\"Existing\",(D180),(IF($I$2=\"Design 1\",(F180),(IF($I$2=\"Design 2\",(G180),(IF($I$2=\"Optimal\",(I180),E180)))))))","v":0.8286893555394641},{"$f":"IF(I179<=3,1,IF(OR(I179=4,I179=5),(Roadside!$F$15-1)*Constraints!$H$37/Constraints!$D$37+1,(Roadside!$F$15*Roadside!$F$16-1)*Constraints!$H$37/Constraints!$D$37+1))","v":0.77664355022240605},null,{"$f":"INDEX($D180:$I180,K$98)","v":{"$error":"#VALUE!"}},{"$f":"INDEX($D180:$I180,L$98)","v":0.8286893555394641},0]
[null,null,"Backslope",1,1,1,1,{"$f":"IF($I$2=\"Existing\",(D181),(IF($I$2=\"Design 1\",(F181),(IF($I$2=\"Design 2\",(G181),(IF($I$2=\"Optimal\",(I181),E181)))))))","v":1},1,null,{"$f":"INDEX($D181:$I181,K$98)","v":1},{"$f":"INDEX($D181:$I181,L$98)","v":1},0]
[null,null,"SafetyEdge",{"$f":"IF(D$74=\"No\",1,(Roadside!$F$23-1)*AVERAGE(Constraints!$H$37,Constraints!$F$37)/Constraints!$D$37+1)","v":0.97258384193648495},{"$f":"IF(E$74=\"No\",1,(Roadside!$F$23-1)*AVERAGE(Constraints!$H$37,Constraints!$F$37)/Constraints!$D$37+1)","v":1},{"$f":"IF(F$74=\"No\",1,(Roadside!$F$23-1)*AVERAGE(Constraints!$H$37,Constraints!$F$37)/Constraints!$D$37+1)","v":0.97258384193648495},{"$f":"IF(G$74=\"No\",1,(Roadside!$F$23-1)*AVERAGE(Constraints!$H$37,Constraints!$F$37)/Constraints!$D$37+1)","v":0.97258384193648495},{"$f":"IF($I$2=\"Existing\",(D182),(IF($I$2=\"Design 1\",(F182),(IF($I$2=\"Design 2\",(G182),(IF($I$2=\"Optimal\",(I182),E182)))))))","v":1},{"$f":"IF(I$74=\"No\",1,(Roadside!$F$23-1)*AVERAGE(Constraints!$H$37,Constraints!$F$37)/Constraints!$D$37+1)","v":0.97258384193648495},null,{"$f":"INDEX($D182:$I182,K$98)","v":0.97258384193648495},{"$f":"INDEX($D182:$I182,L$98)","v":1},-2.8188991921691331E-2]
[null,null,"Lateral Clearance (ft)",{"$f":"IF($B$27=\"Yes\",((EXP(LN(Roadside!$F$11)*(IF(D$76=\"None\",40,D$75)-30)/30)-1))*Constraints!$H$36/Constraints!$D$37+1,((EXP(LN(Roadside!$F$10)*(IF(D$76=\"None\",40,D$75)-30)/30)-1))*Constraints!$H$36/Constraints!$D$37+1)","v":1.0992721491203288},{"$f":"IF($B$27=\"Yes\",((EXP(LN(Roadside!$F$11)*(IF(E$76=\"None\",40,E$75)-30)/30)-1))*Constraints!$H$36/Constraints!$D$37+1,((EXP(LN(Roadside!$F$10)*(IF(E$76=\"None\",40,E$75)-30)/30)-1))*Constraints!$H$36/Constraints!$D$37+1)","v":1},{"$f":"IF($B$27=\"Yes\",((EXP(LN(Roadside!$F$11)*(IF(F$76=\"None\",40,F$75)-30)/30)-1))*Constraints!$H$36/Constraints!$D$37+1,((EXP(LN(Roadside!$F$10)*(IF(F$76=\"None\",40,F$75)-30)/30)-1))*Constraints!$H$36/Constraints!$D$37+1)","v":1.0992721491203288},{"$f":"IF($B$27=\"Yes\",((EXP(LN(Roadside!$F$11)*(IF(G$76=\"None\",40,G$75)-30)/30)-1))*Constraints!$H$36/Constraints!$D$37+1,((EXP(LN(Roadside!$F$10)*(IF(G$76=\"None\",40,G$75)-30)/30)-1))*Constraints!$H$36/Constraints!$D$37+1)","v":1.0992721491203288},{"$f":"IF($I$2=\"Existing\",(D183),(IF($I$2=\"Design 1\",(F183),(IF($I$2=\"Design 2\",(G183),(IF($I$2=\"Optimal\",(I183),E183)))))))","v":1},{"$f":"IF($B$27=\"Yes\",((EXP(LN(Roadside!$F$11)*(IF(I$76=\"None\",40,I$75)-30)/30)-1))*Constraints!$H$36/Constraints!$D$37+1,((EXP(LN(Roadside!$F$10)*(IF(I$76=\"None\",40,I$75)-30)/30)-1))*Constraints!$H$36/Constraints!$D$37+1)","v":0.97455184373954995},null,{"$f":"INDEX($D183:$I183,K$98)","v":1.0992721491203288},{"$f":"INDEX($D183:$I183,L$98)","v":1},9.0307162971216326E-2]
[null,null,"Fixed Object Type",{"$f":"IF(D$76=\"Guardrail\",(Roadside!$F$25-1)*(($I$75-D$75)/$I$75)^2*Constraints!$H$36/Constraints!$D$37+1,1)","v":1},{"$f":"IF(E$76=\"Guardrail\",(Roadside!$F$25-1)*(($I$75-E$75)/$I$75)^2*Constraints!$H$36/Constraints!$D$37+1,1)","v":1},{"$f":"IF(F$76=\"Guardrail\",(Roadside!$F$25-1)*(($I$75-F$75)/$I$75)^2*Constraints!$H$36/Constraints!$D$37+1,1)","v":1},{"$f":"IF(G$76=\"Guardrail\",(Roadside!$F$25-1)*(($I$75-G$75)/$I$75)^2*Constraints!$H$36/Constraints!$D$37+1,1)","v":1},{"$f":"IF($I$2=\"Existing\",(D184),(IF($I$2=\"Design 1\",(F184),(IF($I$2=\"Design 2\",(G184),(IF($I$2=\"Optimal\",(I184),E184)))))))","v":1},{"$f":"IF(I$76=\"Guardrail\",(Roadside!$F$25-1)*(($I$75-I$75)/$I$75)^2*Constraints!$H$36/Constraints!$D$37+1,1)","v":1},null,{"$f":"INDEX($D184:$I184,K$98)","v":1},{"$f":"INDEX($D184:$I184,L$98)","v":1},0]
[]
[]
[null,null,"COMBINED Calculated CMF",{"$f":"+D180*D181*D182*D183*D184","v":{"$error":"#VALUE!"}},{"$f":"+E180*E181*E182*E183*E184","v":0.8286893555394641},{"$f":"+F180*F181*F182*F183*F184","v":{"$error":"#VALUE!"}},{"$f":"+G180*G181*G182*G183*G184","v":{"$error":"#VALUE!"}},{"$f":"IF($I$2=\"Existing\",(D187),(IF($I$2=\"Design 1\",(F187),(IF($I$2=\"Design 2\",(G187),(IF($I$2=\"Optimal\",(I187),E187)))))))","v":0.8286893555394641},{"$f":"+I180*I181*I182*I183*I184","v":0.73612867842813945}]
[null,null,"Calculated Relative to Design Standards (Column E)",{"$f":"+D187/$E$187","v":{"$error":"#VALUE!"}},{"$f":"+E187/$E$187","v":1},{"$f":"+F187/$E$187","v":{"$error":"#VALUE!"}},{"$f":"+G187/$E$187","v":{"$error":"#VALUE!"}},1,{"$f":"+I187/$E$187","v":0.88830473507039431}]
[null,null,"P(Crash)",{"$f":"+D188/(D188+1)","v":{"$error":"#VALUE!"}},{"$f":"+E188/(E188+1)","v":0.5},{"$f":"+F188/(F188+1)","v":{"$error":"#VALUE!"}},{"$f":"+G188/(G188+1)","v":{"$error":"#VALUE!"}},0.5,{"$f":"+I188/(I188+1)","v":0.47042445987261644}]
[null,null,"Factor Change on S curve",{"$f":"+D189/$E$189","v":{"$error":"#VALUE!"}},{"$f":"+E189/$E$189","v":1},{"$f":"+F189/$E$189","v":{"$error":"#VALUE!"}},{"$f":"+G189/$E$189","v":{"$error":"#VALUE!"}},1,{"$f":"+I189/$E$189","v":0.94084891974523288}]
[null,null,"Adjust to Scale of 100",{"$f":"+$I$114/D190*100","v":{"$error":"#VALUE!"}},{"$f":"+$I$114/E190*100","v":{"$error":"#VALUE!"}},{"$f":"+$I$114/F190*100","v":{"$error":"#VALUE!"}},{"$f":"+$I$114/G190*100","v":{"$error":"#VALUE!"}},{"$error":"#VALUE!"},{"$f":"+$I$114/I190*100","v":{"$error":"#VALUE!"}}]
[null,null,"Unadjusted Combined Relative to Standard",{"$f":"+D187/$E$187","v":{"$error":"#VALUE!"}},{"$f":"+E187/$E$187","v":1},{"$f":"+F187/$E$187","v":{"$error":"#VALUE!"}},{"$f":"+G187/$E$187","v":{"$error":"#VALUE!"}},1,{"$f":"+I187/$E$187","v":0.88830473507039431}]
[null,null,null,null,null,null,null,null,null,{"$f":"I198/E198","v":1.1111111111111112}]
[null,null,"Adjusted for PA Basis",{"$f":"+D187*(1+1)/(1+D187*1)","v":{"$error":"#VALUE!"}},{"$f":"+E187*(1+1)/(1+E187*1)","v":0.90632053282226321},{"$f":"+F187*(1+1)/(1+F187*1)","v":{"$error":"#VALUE!"}},{"$f":"+G187*(1+1)/(1+G187*1)","v":{"$error":"#VALUE!"}},{"$f":"IF($I$2=\"Existing\",(D194),(IF($I$2=\"Design 1\",(F194),(IF($I$2=\"Design 2\",(G194),(IF($I$2=\"Optimal\",(I194),E194)))))))","v":0.90632053282226321},{"$f":"+I187*(1+1)/(1+I187*1)","v":0.84801165671039724}]
[null,null,"Corrected by Odds Ratio",{"$f":"+D187/$E$187","v":{"$error":"#VALUE!"}},{"$f":"+E187/$E$187","v":1},{"$f":"+F187/$E$187","v":{"$error":"#VALUE!"}},{"$f":"+G187/$E$187","v":{"$error":"#VALUE!"}},{"$f":"IF($I$2=\"Existing\",(D195),(IF($I$2=\"Design 1\",(F195),(IF($I$2=\"Design 2\",(G195),(IF($I$2=\"Optimal\",(I195),E195)))))))","v":1},{"$f":"+I187/$E$187","v":0.88830473507039431}]
[null,null,null,{"$f":"(1/D195)^$D199","v":{"$error":"#VALUE!"}},1,{"$error":"#VALUE!"},{"$error":"#VALUE!"},1,998.99999999999955,{"$f":"I201/E201","v":1.4814814814814814}]
[null,null,null,{"$f":"(D196+$F200-1)/(1+(D196+$F200-1))","v":{"$error":"#VALUE!"}},0.66666666666666663,{"$error":"#VALUE!"},{"$error":"#VALUE!"},0.66666666666666663,0.99900099900099903]
[null,null,"Score Odds Ratio with Optimal as 100 (old)",{"$f":"MIN(ROUND($I$195/D195*Construction!$I$10,0),$I198)","v":{"$error":"#VALUE!"}},{"$f":"MIN(ROUND($I$195/E195*Construction!$I$10,0),$I198)","v":36},{"$f":"MIN(ROUND($I$195/F195*Construction!$I$10,0),$I198)","v":{"$error":"#VALUE!"}},{"$f":"MIN(ROUND($I$195/G195*Construction!$I$10,0),$I198)","v":{"$error":"#VALUE!"}},null,{"$f":"ROUND($I$195/I195*Construction!$I$10,0)","v":40}]
[null,null,"Logistic1",{"$f":"LN((D200/(1-D200))/(0.5/0.5))/LN($E195/I195)","v":58.314167600285003}]
[null,null,"Logistic Param",0.999,null,2]
[null,null,"Score ",{"$f":"MIN(ROUND(D197*Construction!$I$10,0),$I198)","v":{"$error":"#VALUE!"}},{"$f":"MIN(ROUND(E197*Construction!$I$10,0),$I198)","v":27},{"$f":"MIN(ROUND(F197*Construction!$I$10,0),$I198)","v":{"$error":"#VALUE!"}},{"$f":"MIN(ROUND(G197*Construction!$I$10,0),$I198)","v":{"$error":"#VALUE!"}},null,{"$f":"MIN(ROUND(I197*Construction!$I$10,0),$I198)","v":40}]
[]
[]
[]
[]
[null,null,{"$f":"D84/D179","v":{"$error":"#VALUE!"}},null,{"$f":"ROUNDUP((MIN($I$14,$I$15)-E24-E25)/$C$206,0)","v":{"$error":"#VALUE!"}},{"$f":"ROUNDUP((MIN($I$14,$I$15)-F24-F25)/$C$206,0)","v":{"$error":"#VALUE!"}},{"$f":"ROUNDUP((MIN($I$14,$I$15)-G24-G25)/$C$206,0)","v":{"$error":"#VALUE!"}},null,{"$f":"ROUNDUP((MIN($I$14,$I$15)-I24-I25)/$C$206,0)","v":{"$error":"#VALUE!"}}]
[]
[]
[null,null,"Distance to low point","Distance to low point",{"$f":"$C$206*E179","v":{"$error":"#VALUE!"}},{"$f":"$C$206*F179","v":{"$error":"#VALUE!"}},{"$f":"$C$206*G179","v":{"$error":"#VALUE!"}},null,{"$f":"$C$206*I179","v":{"$error":"#VALUE!"}}]
[null,null,null,"Additional ROW1 Needed for Foreslope",{"$f":"IF(E209>($I$14-E24-E25),E209-($I$14-E24-E25),0)","v":{"$error":"#VALUE!"}},{"$f":"IF(F209>($I$14-F24-F25),F209-($I$14-F24-F25),0)","v":{"$error":"#VALUE!"}},{"$f":"IF(G209>($I$14-G24-G25),G209-($I$14-G24-G25),0)","v":{"$error":"#VALUE!"}},null,{"$f":"IF(I209>($I$14-I24-I25),I209-($I$14-I24-I25),0)","v":{"$error":"#VALUE!"}}]
[null,null,null,"Additional ROW2 Needed for Foreslope",{"$f":"IF(E209>($I$15-E24-E25),E209-($I$15-E24-E25),0)","v":{"$error":"#VALUE!"}},{"$f":"IF(F209>($I$15-F24-F25),F209-($I$15-F24-F25),0)","v":{"$error":"#VALUE!"}},{"$f":"IF(G209>($I$15-G24-G25),G209-($I$15-G24-G25),0)","v":{"$error":"#VALUE!"}},null,{"$f":"IF(I209>($I$15-I24-I25),I209-($I$15-I24-I25),0)","v":{"$error":"#VALUE!"}}]
[]
[null,null,null,"Additional ROW1 Needed for Lateral Clearance",{"$f":"IF((CL248+E26)-$I$14<0,0,(CL248+E26)-$I$14)","v":8},{"$f":"IF((CM248+F26)-$I$14<0,0,(CM248+F26)-$I$14)","v":0},{"$f":"IF((CN248+G26)-$I$14<0,0,(CN248+G26)-$I$14)","v":0},null,{"$f":"IF((CP248+I26)-$I$14<0,0,(CP248+I26)-$I$14)","v":0}]
[null,null,null,"Additional ROW2 Needed for Lateral Clearance",{"$f":"IF((CL248+E26)-$I$15<0,0,(CL248+E26)-$I$15)","v":8},{"$f":"IF((CM248+F26)-$I$15<0,0,(CM248+F26)-$I$15)","v":0},{"$f":"IF((CN248+G26)-$I$15<0,0,(CN248+G26)-$I$15)","v":0},null,{"$f":"IF((CP248+I26)-$I$15<0,0,(CP248+I26)-$I$15)","v":0}]
[]
[]
[]
[]
[]
[]
[]
[]
[]
[]
[]
[null,null,"For Vertical Opt Use when Yes Vertical:"]
[null,null,"G1",{"$f":"D36","v":0},null,{"$f":"F36","v":0},{"$f":"G36","v":0},null,{"$f":"IF(ISERROR($E$234),\"\",INDEX(D227:G227,$E$234))","v":""}]
[null,null,"G2",{"$f":"D37","v":0},null,{"$f":"F37","v":0},{"$f":"G37","v":0},null,{"$f":"IF(ISERROR($E$234),\"\",INDEX(D228:G228,$E$234))","v":""}]
[null,null,"abs(G2-G1)",{"$f":"ABS(D36-D37)","v":0},null,{"$f":"ABS(F36-F37)","v":0},{"$f":"ABS(G36-G37)","v":0}]
[null,null,"Count in indicator (K no change; or K change but accept)",{"$f":"IF(D39<>\"\",1,\"\")","v":""},null,{"$f":"IF(OR(AND($B$34 = \"Yes\", $D$39 <> F39, F39 <>\"\", $D$39 <> \"\", F41=\"Yes.\"),AND($B$34 = \"Yes\", $D$39 = F39, F39 <>\"\", $D$39 <> \"\")), 1,\"\")","v":""},{"$f":"IF(OR(AND($B$34 = \"Yes\", $D$39 <> G39, G39 <>\"\", $D$39 <> \"\", G41=\"Yes.\"),AND($B$34 = \"Yes\", $D$39 = G39, G39 <>\"\", $D$39 <> \"\")), 1,\"\")","v":""}]
[]
[null,null,"Valid abs(G2-G1)",{"$f":"IF(ISERROR(D229*D230),\"\",D229*D230)","v":""},null,{"$f":"IF(ISERROR(F229*F230),\"\",F229*F230)","v":""},{"$f":"IF(ISERROR(G229*G230),\"\",G229*G230)","v":""}]
[null,null,"The min valid abs(G2-G1)",null,{"$f":"MIN(D232,F232,G232)","v":0}]
[null,null,"Index",null,{"$f":"MATCH(E233,D232:G232,0)","v":{"$error":"#N/A"}}]
[]
[null,null,"For Vertical Opt Use When No Vertical:"]
[null,null,"G1",{"$f":"IF(ISBLANK(D36), 999, D36)","v":999},null,{"$f":"IF(ISBLANK(F36), 999, F36)","v":999},{"$f":"IF(ISBLANK(G36), 999, G36)","v":999},null,{"$f":"IF(E242=999,\"\",E242)","v":""}]
[null,null,"Sign of G1",{"$f":"IF(D237>=0,1,-1)","v":1},null,{"$f":"IF(F237>=0,1,-1)","v":1},{"$f":"IF(G237>=0,1,-1)","v":1}]
[null,null,"Abs G1",{"$f":"ABS(D237)","v":999},null,{"$f":"ABS(F237)","v":999},{"$f":"ABS(G237)","v":999}]
[null,null,"Min Abs G1",null,{"$f":"MIN(D239:G239)","v":999}]
[null,null,"Which is the Best G1",null,{"$f":"MATCH(E240,D239:G239,0)","v":1}]
[null,null,"Best G1 Value",null,{"$f":"INDEX(D237:G237,1,E241)","v":999}]
[]
[]
[]
[]
[]
[]
[null,null,"Check if all cells filled",{"$f":"SUM(D251:D311)","v":18},{"$f":"SUM(E251:E311)","v":1},18,18,null,1]
[]
[null,null,{"$f":"C24","v":"Lane Width (feet)"},{"$f":"IF(ISBLANK(D24),1,0)","v":1},{"$f":"IF(ISBLANK(E24),1,0)","v":0},1,1,null,0]
[null,null,{"$f":"C25","v":"Shoulder Width (feet)"},{"$f":"IF(ISBLANK(D25),1,0)","v":1},0,1,1,null,0]
[null,null,"Cross-slope or Superelevation (%)",{"$f":"IF(ISBLANK(D26),1,0)","v":1},0,1,1,null,0]
[null,null,"Horizontal Curve Present?"]
[null,null,"Horizontal Curve Data for Controlling Element:"]
[null,null,"  Radius (feet)",{"$f":"IF(AND($B$27=\"Yes\", ISBLANK(D29)),1,0)","v":0},{"$f":"IF(AND($B$27=\"Yes\", ISBLANK(E29)),1,0)","v":0},0,0,null,0]
[null,null,"Length of Horizontal Curve (feet)",{"$f":"IF(AND($B$27=\"Yes\", ISBLANK(D30)),1,0)","v":0},0,0,0,null,0]
[null,null,"Calculated Deflection Angle ∆"]
[]
[null,null,null,null,null,{"$f":"IF(AND($B$27 = \"Yes\", $D$31 <> F31, F31<>\"\",ISBLANK(F33)),1,0)","v":0},{"$f":"IF(AND($B$27 = \"Yes\", $D$31 <> G31, G31<>\"\",ISBLANK(G33)),1,0)","v":0}]
[null,null,"Vertical Curve Present?"]
[null,null,"Vertical Curve Data for Controlling Element:"]
[null,null,"  Approach (Entry) Grade, G1 (%)",{"$f":"IF(ISBLANK(D36),1,0)","v":1},{"$f":"IF(ISBLANK(E36),1,0)","v":0},1,1,null,0]
[null,null,"  Departure (Exit) Grade, G2 (%)",{"$f":"IF(AND($B$34=\"Yes\", ISBLANK(D37)),1,0)","v":0},{"$f":"IF(AND($B$34=\"Yes\", ISBLANK(E37)),1,0)","v":0},0,0,null,0]
[null,null,"  Length (feet)",{"$f":"IF(AND($B$34=\"Yes\", ISBLANK(D38)),1,0)","v":0},0,0,0,null,0]
[null,null,"  Calculated Rate of Change, K (ft/ft)"]
[]
[]
[]
[null,null,"TWLTL (two-way left-turn lane)",{"$f":"IF(ISBLANK(D43),1,0)","v":1},{"$f":"IF(ISBLANK(E43),1,0)","v":0},1,1,null,0]
[null,null,"Passing Lane Type",{"$f":"IF(ISBLANK(D44),1,0)","v":1},0,1,1,null,0]
[]
[]
[]
[]
[]
[]
[]
[null,null,"Advance Static Curve Warning Signs",{"$f":"IF(AND($B$27=\"Yes\", ISBLANK(D52)),1,0)","v":0},{"$f":"IF(AND($B$27=\"Yes\", ISBLANK(E52)),1,0)","v":0},0,0,null,{"$f":"IF(ISBLANK(I52),1,0)","v":0}]
[null,null,"Chevron Signs on Horizontal Curves",{"$f":"IF(AND($B$27=\"Yes\", ISBLANK(D53)),1,0)","v":0},0,0,0,null,0]
[null,null,"Post-Mounted Delineators",0,0,0,0,null,0]
[null,null,"Edgeline Pavement Markings or Profile Markings",1,0,1,1,null,0]
[null,null,"Shoulder Rumble Strips",1,0,1,1,null,0]
[null,null,"Centerline Rumble Strips",1,0,1,1,null,0]
[null,null,"Driveway Density (driveways per mile)",1,0,1,1,null,0]
[null,null,"Lighting",1,0,1,1,null,0]
[null,null,"Pavement Friction (skid number) ***",1,0,1,1,null,0]
[]
[]
[]
[]
[]
[]
[]
[]
[]
[]
[]
[null,null,"Sideslope (Foreslope)",{"$f":"IF(ISBLANK(D72),1,0)","v":1},0,1,1,null,0]
[null,null,"Backslope",1,0,1,1,null,0]
[null,null,"SafetyEdge",1,0,1,1,null,0]
[null,null,"Lateral Clearance to obstruction (ft)",1,0,1,1,null,0]
[null,null,"Obstruction Type",1,0,1,1,null,0]
[]
[]
[]
[]
[]
[]
[]
[null,null,"Distance to Slope Toe from Shoulder (ft)",1,{"$f":"$D$311","v":1},{"$f":"$D$311","v":1},1,null,1]
[]
[]
[]
[null,null,null,null,null,null,null,null,{"$f":"SUM(I316:I324)","v":9}]
[null,null,null,null,null,null,null,{"$f":"F9","v":"Location "},{"$f":"IF(ISBLANK(I9),1,0)","v":1}]
[null,null,null,null,null,null,null,{"$f":"F10","v":"Design Speed (mph)"},{"$f":"IF(ISBLANK(I10),1,0)","v":1}]
[null,null,null,null,null,null,null,"Posted Speed (mph)",1]
[null,null,null,null,null,null,null,"E max (%)",1]
[null,null,null,null,null,null,null,"Design Year AADT (vehicles per day)",1]
[null,null,null,null,null,null,null,"Dist. from Centerline to Left   ROW (feet)",1]
[null,null,null,null,null,null,null,"Dist. from Centerline to Right ROW (feet)",1]
[null,null,null,null,null,null,null,"H Curve Indicator",{"$f":"IF(ISBLANK(B27),1,0)","v":1}]
[null,null,null,null,null,null,null,"V Curve Indicator",{"$f":"IF(ISBLANK(B34),1,0)","v":1}]
[]
[]
[]
[]
[]
[]
[]
[]
[]
[]
[]
[]
[]
[]
[]
[]
[]
[]
[]
[]
[]
[]
[]
[]
[]
[]
[]
[]
[]
[]
[]
[]
[]
[]
[]
[]
[]
[]
[]
[]
[]
[]
[]
[]
[]
[]
[]
[]
[]
[]
[]
[1]
[22]
[21]
[20,null,null,{"$f":"Constraints!P174","v":"Emax=6%"}]
[19]
[18,null,{"$f":"HLOOKUP($I$10,Constraints!$Q$176:AD197,A376,TRUE)","v":{"$error":"#N/A"}},{"$f":"Constraints!P176","v":"super"}]
[17,null,{"$f":"HLOOKUP($I$10,Constraints!$Q$176:AD198,A377,TRUE)","v":{"$error":"#N/A"}},{"$f":"Constraints!P197","v":6},1050]
[16,null,{"$f":"HLOOKUP($I$10,Constraints!$Q$176:AD199,A378,TRUE)","v":{"$error":"#N/A"}},{"$f":"Constraints!P196","v":5.8}]
[15,null,{"$f":"HLOOKUP($I$10,Constraints!$Q$176:AD200,A379,TRUE)","v":{"$error":"#N/A"}},{"$f":"Constraints!P195","v":5.6}]
[14,null,{"$f":"HLOOKUP($I$10,Constraints!$Q$176:AD201,A380,TRUE)","v":{"$error":"#N/A"}},{"$f":"Constraints!P194","v":5.4}]
[13,null,{"$f":"HLOOKUP($I$10,Constraints!$Q$176:AD202,A381,TRUE)","v":{"$error":"#N/A"}},{"$f":"Constraints!P193","v":5.2}]
[12,null,{"$f":"HLOOKUP($I$10,Constraints!$Q$176:AD203,A382,TRUE)","v":{"$error":"#N/A"}},{"$f":"Constraints!P192","v":5}]
[11,null,{"$f":"HLOOKUP($I$10,Constraints!$Q$176:AD204,A383,TRUE)","v":{"$error":"#N/A"}},{"$f":"Constraints!P191","v":4.8}]
[10,null,{"$f":"HLOOKUP($I$10,Constraints!$Q$176:AD205,A384,TRUE)","v":{"$error":"#N/A"}},{"$f":"Constraints!P190","v":4.5999999999999996}]
[9,null,{"$f":"HLOOKUP($I$10,Constraints!$Q$176:AD206,A385,TRUE)","v":{"$error":"#N/A"}},{"$f":"Constraints!P189","v":4.4000000000000004}]
[8,null,{"$f":"HLOOKUP($I$10,Constraints!$Q$176:AD207,A386,TRUE)","v":{"$error":"#N/A"}},{"$f":"Constraints!P188","v":4.2}]
[7,null,{"$f":"HLOOKUP($I$10,Constraints!$Q$176:AD208,A387,TRUE)","v":{"$error":"#N/A"}},{"$f":"Constraints!P187","v":4}]
[6,null,{"$f":"HLOOKUP($I$10,Constraints!$Q$176:AD209,A388,TRUE)","v":{"$error":"#N/A"}},{"$f":"Constraints!P186","v":3.8}]
[5,null,{"$f":"HLOOKUP($I$10,Constraints!$Q$176:AD210,A389,TRUE)","v":{"$error":"#N/A"}},{"$f":"Constraints!P185","v":3.6}]
[4,null,{"$f":"HLOOKUP($I$10,Constraints!$Q$176:AD211,A390,TRUE)","v":{"$error":"#N/A"}},{"$f":"Constraints!P184","v":3.4}]
[3,null,{"$f":"HLOOKUP($I$10,Constraints!$Q$176:AD212,A391,TRUE)","v":{"$error":"#N/A"}},{"$f":"Constraints!P183","v":3.2}]
[2,null,{"$f":"HLOOKUP($I$10,Constraints!$Q$176:AD213,A392,TRUE)","v":{"$error":"#N/A"}},{"$f":"Constraints!P182","v":3}]
[null,null,{"$f":"HLOOKUP($I$10,Constraints!$Q$176:AD214,A393,TRUE)","v":{"$error":"#N/A"}},{"$f":"Constraints!P181","v":2.8}]
[null,null,{"$f":"HLOOKUP($I$10,Constraints!$Q$176:AD215,A394,TRUE)","v":{"$error":"#N/A"}},{"$f":"Constraints!P180","v":2.6}]
[null,null,{"$f":"HLOOKUP($I$10,Constraints!$Q$176:AD216,A395,TRUE)","v":{"$error":"#N/A"}},{"$f":"Constraints!P179","v":2.4}]
[null,null,{"$f":"HLOOKUP($I$10,Constraints!$Q$176:AD217,A396,TRUE)","v":{"$error":"#N/A"}},{"$f":"Constraints!P178","v":2.2000000000000002}]
[null,null,{"$f":"HLOOKUP($I$10,Constraints!$Q$176:AD218,A397,TRUE)","v":{"$error":"#N/A"}},{"$f":"Constraints!P177","v":2}]
[1]
[32]
[31]
[30,null,null,{"$f":"Constraints!P201","v":"Emax=8%"}]
[29]
[28,null,{"$f":"HLOOKUP($I$10,Constraints!$Q$203:AD234,A403,TRUE)","v":{"$error":"#N/A"}},{"$f":"Constraints!P203","v":"super"}]
[27,null,{"$f":"HLOOKUP($I$10,Constraints!$Q$203:AD235,A404,TRUE)","v":{"$error":"#N/A"}},{"$f":"INDEX(Constraints!$P$203:$P$234,A404,)","v":8}]
[26,null,{"$f":"HLOOKUP($I$10,Constraints!$Q$203:AD236,A405,TRUE)","v":{"$error":"#N/A"}},{"$f":"INDEX(Constraints!$P$203:$P$234,A405,)","v":7.8}]
[25,null,{"$f":"HLOOKUP($I$10,Constraints!$Q$203:AD237,A406,TRUE)","v":{"$error":"#N/A"}},{"$f":"INDEX(Constraints!$P$203:$P$234,A406,)","v":7.6}]
[24,null,{"$f":"HLOOKUP($I$10,Constraints!$Q$203:AD238,A407,TRUE)","v":{"$error":"#N/A"}},{"$f":"INDEX(Constraints!$P$203:$P$234,A407,)","v":7.4}]
[23,null,{"$f":"HLOOKUP($I$10,Constraints!$Q$203:AD239,A408,TRUE)","v":{"$error":"#N/A"}},{"$f":"INDEX(Constraints!$P$203:$P$234,A408,)","v":7.2}]
[22,null,{"$f":"HLOOKUP($I$10,Constraints!$Q$203:AD240,A409,TRUE)","v":{"$error":"#N/A"}},{"$f":"INDEX(Constraints!$P$203:$P$234,A409,)","v":7}]
[21,null,{"$f":"HLOOKUP($I$10,Constraints!$Q$203:AD241,A410,TRUE)","v":{"$error":"#N/A"}},{"$f":"INDEX(Constraints!$P$203:$P$234,A410,)","v":6.8}]
[20,null,{"$f":"HLOOKUP($I$10,Constraints!$Q$203:AD242,A411,TRUE)","v":{"$error":"#N/A"}},{"$f":"INDEX(Constraints!$P$203:$P$234,A411,)","v":6.6}]
[19,null,{"$f":"HLOOKUP($I$10,Constraints!$Q$203:AD243,A412,TRUE)","v":{"$error":"#N/A"}},{"$f":"INDEX(Constraints!$P$203:$P$234,A412,)","v":6.4}]
[18,null,{"$f":"HLOOKUP($I$10,Constraints!$Q$203:AD244,A413,TRUE)","v":{"$error":"#N/A"}},{"$f":"INDEX(Constraints!$P$203:$P$234,A413,)","v":6.2}]
[17,null,{"$f":"HLOOKUP($I$10,Constraints!$Q$203:AD245,A414,TRUE)","v":{"$error":"#N/A"}},{"$f":"INDEX(Constraints!$P$203:$P$234,A414,)","v":6}]
[16,null,{"$f":"HLOOKUP($I$10,Constraints!$Q$203:AD246,A415,TRUE)","v":{"$error":"#N/A"}},{"$f":"INDEX(Constraints!$P$203:$P$234,A415,)","v":5.8}]
[15,null,{"$f":"HLOOKUP($I$10,Constraints!$Q$203:AD247,A416,TRUE)","v":{"$error":"#N/A"}},{"$f":"INDEX(Constraints!$P$203:$P$234,A416,)","v":5.6}]
[14,null,{"$f":"HLOOKUP($I$10,Constraints!$Q$203:AD248,A417,TRUE)","v":{"$error":"#N/A"}},{"$f":"INDEX(Constraints!$P$203:$P$234,A417,)","v":5.4}]
[13,null,{"$f":"HLOOKUP($I$10,Constraints!$Q$203:AD249,A418,TRUE)","v":{"$error":"#N/A"}},{"$f":"INDEX(Constraints!$P$203:$P$234,A418,)","v":5.2}]
[12,null,{"$f":"HLOOKUP($I$10,Constraints!$Q$203:AD250,A419,TRUE)","v":{"$error":"#N/A"}},{"$f":"INDEX(Constraints!$P$203:$P$234,A419,)","v":5}]
[11,null,{"$f":"HLOOKUP($I$10,Constraints!$Q$203:AD251,A420,TRUE)","v":{"$error":"#N/A"}},{"$f":"INDEX(Constraints!$P$203:$P$234,A420,)","v":4.8}]
[10,null,{"$f":"HLOOKUP($I$10,Constraints!$Q$203:AD252,A421,TRUE)","v":{"$error":"#N/A"}},{"$f":"INDEX(Constraints!$P$203:$P$234,A421,)","v":4.5999999999999996}]
[9,null,{"$f":"HLOOKUP($I$10,Constraints!$Q$203:AD253,A422,TRUE)","v":{"$error":"#N/A"}},{"$f":"INDEX(Constraints!$P$203:$P$234,A422,)","v":4.4000000000000004}]
[8,null,{"$f":"HLOOKUP($I$10,Constraints!$Q$203:AD254,A423,TRUE)","v":{"$error":"#N/A"}},{"$f":"INDEX(Constraints!$P$203:$P$234,A423,)","v":4.2}]
[7,null,{"$f":"HLOOKUP($I$10,Constraints!$Q$203:AD255,A424,TRUE)","v":{"$error":"#N/A"}},{"$f":"INDEX(Constraints!$P$203:$P$234,A424,)","v":4}]
[6,null,{"$f":"HLOOKUP($I$10,Constraints!$Q$203:AD256,A425,TRUE)","v":{"$error":"#N/A"}},{"$f":"INDEX(Constraints!$P$203:$P$234,A425,)","v":3.8}]
[5,null,{"$f":"HLOOKUP($I$10,Constraints!$Q$203:AD257,A426,TRUE)","v":{"$error":"#N/A"}},{"$f":"INDEX(Constraints!$P$203:$P$234,A426,)","v":3.6}]
[4,null,{"$f":"HLOOKUP($I$10,Constraints!$Q$203:AD258,A427,TRUE)","v":{"$error":"#N/A"}},{"$f":"INDEX(Constraints!$P$203:$P$234,A427,)","v":3.4}]
[3,null,{"$f":"HLOOKUP($I$10,Constraints!$Q$203:AD259,A428,TRUE)","v":{"$error":"#N/A"}},{"$f":"INDEX(Constraints!$P$203:$P$234,A428,)","v":3.2}]
[2,null,{"$f":"HLOOKUP($I$10,Constraints!$Q$203:AD260,A429,TRUE)","v":{"$error":"#N/A"}},{"$f":"INDEX(Constraints!$P$203:$P$234,A429,)","v":3}]
[null,null,{"$f":"HLOOKUP($I$10,Constraints!$Q$203:AD261,A430,TRUE)","v":{"$error":"#N/A"}},{"$f":"INDEX(Constraints!$P$203:$P$234,A430,)","v":2.8}]
[null,null,{"$f":"HLOOKUP($I$10,Constraints!$Q$203:AD262,A431,TRUE)","v":{"$error":"#N/A"}},{"$f":"INDEX(Constraints!$P$203:$P$234,A431,)","v":2.6}]
[null,null,{"$f":"HLOOKUP($I$10,Constraints!$Q$203:AD263,A432,TRUE)","v":{"$error":"#N/A"}},{"$f":"INDEX(Constraints!$P$203:$P$234,A432,)","v":2.4}]
[null,null,{"$f":"HLOOKUP($I$10,Constraints!$Q$203:AD264,A433,TRUE)","v":{"$error":"#N/A"}},{"$f":"INDEX(Constraints!$P$203:$P$234,A433,)","v":2.2000000000000002}]
[null,null,{"$f":"HLOOKUP($I$10,Constraints!$Q$203:AD265,A434,TRUE)","v":{"$error":"#N/A"}},{"$f":"INDEX(Constraints!$P$203:$P$234,A434,)","v":2}]

{"sheet":"Configuration 3","index":13,"n_rows":439,"n_cols":113,"rows_kept":439,"cut":false,"hidden":false,"merged":[[1,6,2,7],[1,8,2,8],[1,21,1,37],[2,1,2,4],[2,21,3,28],[2,30,3,37],[3,1,3,4],[3,6,4,7],[3,8,4,8],[4,1,4,2],[4,3,4,4],[4,21,44,28],[4,30,44,37],[5,1,5,2],[5,3,5,4],[6,1,6,7],[7,1,7,4],[7,7,7,8],[8,3,8,4],[8,5,8,6],[75,16,75,21],[75,22,75,23],[9,3,9,4],[9,5,9,6],[10,3,10,4],[10,5,10,6],[11,5,11,6],[12,2,15,4],[12,5,12,6],[13,5,13,6],[14,5,14,6],[17,2,18,8],[20,5,20,7],[38,9,38,10],[45,12,45,19],[74,16,74,23],[76,22,76,23],[77,16,77,21],[77,22,77,23],[78,16,78,21],[78,22,78,23],[84,1,84,2],[85,1,85,2],[86,1,86,2],[95,10,95,12],[76,16,76,21]]}
[]
[null,null,null,null,null,null,"Preferred Schematic View to Display",null,"Standard",null,null,null,null,null,null,null,null,null,null,null,null,"NOTES: "]
[null,"CHARACTERISTICS TO CONSIDER FOR ANALYSIS",null,null,null,null,null,null,null,null,null,null,null,null,null,null,null,null,null,null,null,"ELEMENTS INCREASING SAFETY",null,null,null,null,null,null,null,null,"COMMENTS ON PRIMARY CONSTRAINTS"]
[null,"INPUT INSTRUCTIONS",null,null,null,null,"Relative to",null,"Existing"]
[null,"Blue Boxes -- Select from pulldown options",null,"Select from Pulldown"]
[null,"Yellow Boxes -- Type input information into box",null,"Type Input Value"]
[null," Rural Two-Lane Road Segment -- Safety Score Input",null,null,null,null,null,null,null,null,null,null,null,null,null,null,null,null,null,null,null,null,null,null,null,null,null,null,null,null,null,null,null,null,null,null,null,null,null,null,null,null,null,null,null,null,null,null,null,null,null,null,null,null,null,null,null,null,null,null,null,null,null,null,null,null,null,null,null,null,null,null,null,null,null,null,null,null,null,null,null,null,null,"Unadjusted Marginal Safety"]
[null,"General Information:",null,null,null,"General Site Features",null,{"$f":"I315 & \" Missing Features and Curves\"","v":"9 Missing Features and Curves"},null,null,null,null,null,null,null,null,null,null,null,null,null,null,null,null,null,null,null,null,null,null,null,null,null,null,null,null,null,null,null,null,null,null,null,null,null,null,null,null,null,null,null,null,null,null,null,null,null,null,null,null,null,null,null,null,null,null,null,null,null,null,null,null,null,null,null,null,null,null,null,null,null,null,null,{"$f":"I2&\" relative to \" &I4","v":"Standard relative to Existing"}]
[null,null,"Analyst:",{"$f":"+'Start Here'!J7","v":0},null,"Location "]
[null,null,"Agency or Company:",{"$f":"+'Start Here'!J8","v":0},null,"Design Speed (mph)"]
[null,null,"Date:",{"$f":"+'Start Here'!J9","v":"00:00:00"},null,"Posted Speed (mph)"]
[null,null,"Description:",null,null,"E max (%)"]
[null,null,null,null,null,"Design Year AADT (vehicles per day)"]
[null,null,null,null,null,"Dist. from Centerline to Left   ROW (feet)"]
[null,null,null,null,null,"Dist. from Centerline to Right ROW (feet)"]
[]
[null,"Warning:"]
[null,null,{"$f":"+IF(+I11>I10,\"Posted speed exceeds design speed. Optimal safety will only be achieved if design speed exceeds posted speed. The Safety Assessment Score is based on the higher of the two speed values.\",\"No warnings identified\")","v":"No warnings identified"}]
[null,null,null,null,null,null,null,null,null,null,null,null,null,null,null,{"$f":"\"Unadjusted Marginal Safety of elements in \"&I2&\" from Design Standards\"","v":"Unadjusted Marginal Safety of elements in Standard from Design Standards"},null,null,null,null,null,null,null,null,null,null,null,null,null,null,null,null,null,null,null,null,null,null,null,null,null,null,null,null,null,null,null,null,null,null,null,null,null,null,null,null,null,null,null,null,null,null,null,null,null,null,null,null,null,null,null,null,null,null,null,null,null,null,null,null,null,null,null,null,null,null,null,null,null,null,null,null,null,null,null,null,null,null,null,null,null,null,null,null,null,{"$f":"COUNTIF(DB23:DB41,DB20)","v":1}]
[null,null,null,null,null,null,null,null,null,null,null,null,null,null,null,null,null,null,null,null,null,null,null,null,null,null,null,null,null,null,null,null,null,null,null,null,null,null,null,null,null,null,null,null,null,null,null,null,null,null,null,null,null,null,null,null,null,null,null,null,null,null,null,null,null,null,null,null,null,null,null,null,null,null,null,null,null,null,null,null,null,null,null,null,null,null,null,null,null,null,null,null,null,null,null,null,null,null,null,null,null,null,null,null,null,{"$f":"VLOOKUP(0,CZ23:DB41,3,)","v":10.01}]
[null,null,null,"Fill all elements",null,"To enter notes, use boxes to the right of the vortex ",null,null,null,null," "]
[null,{"$f":"+Construction!$I$8&\"  Total Available Points\"","v":"40  Total Available Points"},null,{"$f":"D249 & \" Missing Elements\"","v":"18 Missing Elements"},null,{"$f":"F249 & \" Missing Elements\"","v":"18 Missing Elements"},{"$f":"G249 & \" Missing Elements\"","v":"18 Missing Elements"},null,null,null,null,null,null,null,null,null,null,null,null,null,null,null,null,null,null,null,null,null,null,null,null,null,null,null,null,null,null,null,null,null,null,null,null,null,null,null,null,null,null,null,null,null,null,null,null,null,null,null,null,null,null,null,null,null,null,null,null,null,null,null,null,null,null,null,null,null,null,null,null,null,null,null,null,null,null,null,null,null,null,null,null,null,null,null,null,null,null,null,null,null,null,"Ranked element","CRF","abs","Re-rank","Rank","Ranked CRF","Element","New Element","crf.abs","rank","Sorted Element","Sorted CRF"]
[null,"Geometric Design Elements",null,"Existing","Standard","Design 1","Design 2",{"$f":"\"Marginal Safety for \"&$I$2&\" (compared to \" & $I$4 & \")\"","v":"Marginal Safety for Standard (compared to Existing)"},"Optimal",null,null,null,null,null,null,null,null,null,null,null,null,null,null,null,null,null,null,null,null,null,null,null,null,null,null,null,null,null,null,null,null,null,null,null,null,null,null,null,null,null,null,null,null,null,null,null,null,null,null,null,null,null,null,null,null,null,null,null,null,null,null,null,null,null,null,null,null,null,null,null,null,null,null,null,null,null,null,null,null,null,null,null,null,null,null,null,null,null,null,null,null,{"$f":"IF(CY23=0,\"\",DB23&\". \"&DD23)","v":""},{"$f":"H24","v":0},{"$f":"ABS(CY23)","v":0},{"$f":"RANK(DB23,$DB$23:$DB$41,1)","v":10},{"$f":"_xlfn.RANK.EQ(CZ23,$CZ$23:$CZ$41)+DG23/100","v":10.01},{"$f":"CY23","v":0},{"$f":"IF(ROUND(DF23,2)=0,\"\",C24)","v":""},{"$f":"DD23","v":""},{"$f":"CZ23","v":0},1,{"$f":"IFERROR(IF(IFERROR(VLOOKUP(DG23,$DA$23:$DF$41,4,)&\", \"&CY23=0,\"\"),\"\",IFERROR(VLOOKUP(DG23,$DA$23:$DE$41,4,),\"\")),\"\")","v":"TWLTL (two-way left-turn lane)"},{"$f":"IFERROR(IF(IFERROR(VLOOKUP(DG23,$DA$23:$DF$41,3,)&\", \"&CY23=0,\"\"),\"\",IFERROR(VLOOKUP(DG23,$DA$23:$DE$41,3,),\"\")),\"\")","v":-0.40845070422535223}]
[null,null,"Lane Width (feet)",null,12,null,null,{"$f":"M100","v":0},12,null,null,null,null,null,null,null,null,null,null,null,null,null,null,null,null,null,null,null,null,null,null,null,null,null,null,null,null,null,null,null,null,null,null,null,null,null,null,null,null,null,null,null,null,null,null,null,null,null,null,null,null,null,null,null,null,null,null,null,null,null,null,null,null,null,null,null,null,null,null,null,null,null,null,null,null,null,null,null,null,null,null,null,null,null,null,null,null,null,null,null,null,"5.02. Shoulder Width (feet)",{"$f":"H25","v":0.15503875968992242},0.15503875968992242,{"$f":"RANK(DB24,$DB$23:$DB$41,1)","v":5},{"$f":"_xlfn.RANK.EQ(CZ24,$CZ$23:$CZ$41)+DG24/100","v":5.0199999999999996},{"$f":"CY24","v":0.15503875968992242},{"$f":"IF(ROUND(DF24,2)=0,\"\",C25)","v":"Shoulder Width (feet)"},{"$f":"DD24","v":"Shoulder Width (feet)"},0.15503875968992242,2,"Pavement Friction (skid number) ***",{"$f":"IFERROR(IF(IFERROR(VLOOKUP(DG24,$DA$23:$DF$41,3,)&\", \"&CY24=0,\"\"),\"\",IFERROR(VLOOKUP(DG24,$DA$23:$DE$41,3,),\"\")),\"\")","v":0.28430956017940245}]
[null,null,"Shoulder Width (feet)",null,{"$f":"IF('Start Here'!$J$12=\"4R\",8,4)","v":4},null,null,{"$f":"M101","v":0.15503875968992242},10,null,null,null,null,null,null,null,null,null,null,null,null,null,null,null,null,null,null,null,null,null,null,null,null,null,null,null,null,null,null,null,null,null,null,null,null,null,null,null,null,null,null,null,null,null,null,null,null,null,null,null,null,null,null,null,null,null,null,null,null,null,null,null,null,null,null,null,null,null,null,null,null,null,null,null,null,null,null,null,null,null,null,null,null,null,null,null,null,null,null,null,null,"",{"$f":"H29","v":0},0,11,10.029999999999999,0,{"$f":"IF(ROUND(DF25,2)=0,\"\",\"Hz and Vt Alignment\")","v":""},"",0,3,"Driveway Density (driveways per mile)",-0.22388114201141129]
[null,null,"Cross-slope or Superelevation (%)",null,{"$f":"IF($I$12=6,IFERROR(VLOOKUP(E29,$C$382:$D$402,2,TRUE),6),IFERROR(VLOOKUP(E29,$C$409:$D$439,2,TRUE),8))","v":8},null,null,null,{"$f":"I12","v":0},null,null,null,null,null,null,null,null,null,null,null,null,null,null,null,null,null,null,null,null,null,null,null,null,null,null,null,null,null,null,null,null,null,null,null,null,null,null,null,null,null,null,null,null,null,null,null,null,null,null,null,null,null,null,null,null,null,null,null,null,null,null,null,null,null,null,null,null,null,null,null,null,null,null,null,null,null,null,null,null,null,null,null,null,null,null,null,null,null,null,null,null,"1.04. TWLTL (two-way left-turn lane)",{"$f":"H43","v":-0.40845070422535223},0.40845070422535223,1,1.04,-0.40845070422535223,{"$f":"IF(ROUND(DF26,2)=0,\"\",C43)","v":"TWLTL (two-way left-turn lane)"},"TWLTL (two-way left-turn lane)",0.40845070422535223,4,"Centerline Rumble Strips",-0.16279069767441867]
["",null,"Horizontal Curve Present?","--","--","--","--",null,"--",null,null,null,null,null,null,null,null,null,null,null,null,null,null,null,null,null,null,null,null,null,null,null,null,null,null,null,null,null,null,null,null,null,null,null,null,null,null,null,null,null,null,null,null,null,null,null,null,null,null,null,null,null,null,null,null,null,null,null,null,null,null,null,null,null,null,null,null,null,null,null,null,null,null,null,null,null,null,null,null,null,null,null,null,null,null,null,null,null,null,null,null,"",{"$f":"H44","v":0},0,12,10.050000000000001,0,{"$f":"IF(ROUND(DF27,2)=0,\"\",C44)","v":""},"",0,5,"Shoulder Width (feet)",0.15503875968992242]
[null,null,"Horizontal Curve Data for Controlling Element:","--","--","--","--",null,"--",null,null,null,null,null,null,null,null,null,null,null,null,null,null,null,null,null,null,null,null,null,null,null,null,null,null,null,null,null,null,null,null,null,null,null,null,null,null,null,null,null,null,null,null,null,null,null,null,null,null,null,null,null,null,null,null,null,null,null,null,null,null,null,null,null,null,null,null,null,null,null,null,null,null,null,null,null,null,null,null,null,null,null,null,null,null,null,null,null,null,null,null,"",{"$f":"H52","v":0},0,13,10.06,0,{"$f":"IF(ROUND(DF28,2)=0,\"\",C52)","v":""},"",0,6,"Edgeline Pavement Markings or Profile Markings",0.13824118691351761]
[null,null,"  Radius (feet)",null,{"$f":"IF(MAX($I$10,$I$11)<45,590,IF($I$12=6,VLOOKUP(MAX($I$10,$I$11),Construction!$B$29:$D$36,2,TRUE),VLOOKUP(MAX($I$10,$I$11),Construction!$G$29:$I$36,2,TRUE)))","v":590},null,null,{"$f":"M140","v":0},{"$f":"IF(MAX($I$10,$I$11)<45,590,IF($I$12=6,VLOOKUP(MAX($I$10,$I$11),Construction!$B$45:$C$52,2,TRUE),VLOOKUP(MAX($I$10,$I$11),Construction!$G$45:$H$52,2,TRUE)))","v":590},null,null,null,null,null,null,null,null,null,null,null,null,null,null,null,null,null,null,null,null,null,null,null,null,null,null,null,null,null,null,null,null,null,null,null,null,null,null,null,null,null,null,null,null,null,null,null,null,null,null,null,null,null,null,null,null,null,null,null,null,null,null,null,null,null,null,null,null,null,null,null,null,null,null,null,null,null,null,null,null,null,null,null,null,null,null,null,null,null,null,null,null,"",0,0,14,10.07,0,"","",0,7,"Lateral Clearance to obstruction (ft)",9.0307162971216326E-2]
[null,null,"Length of Horizontal Curve (feet)",null,{"$f":"IF(D31=\"\", \"\", E29*E31/57.296)","v":""},null,null,null,{"$f":"I29*I31/57.296","v":3758.5520804244625},null,null,null,null,null,null,null,null,null,null,null,null,null,null,null,null,null,null,null,null,null,null,null,null,null,null,null,null,null,null,null,null,null,null,null,null,null,null,null,null,null,null,null,null,null,null,null,null,null,null,null,null,null,null,null,null,null,null,null,null,null,null,null,null,null,null,null,null,null,null,null,null,null,null,null,null,null,null,null,null,null,null,null,null,null,null,null,null,null,null,null,null,"",0,0,15,10.08,0,"","",0,8,"SafetyEdge",-2.8188991921691331E-2]
[null,null,"Calculated Deflection Angle ∆",{"$f":"IF(OR(ISBLANK(D29),ISBLANK(D30),$B$27=\"No\",ISBLANK($B$27)),\"\",ROUND(D30/D29*57.296,1))","v":""},{"$f":"IF(ISBLANK(D31), \"\",D31)","v":""},{"$f":"IF(OR(ISBLANK(F29),ISBLANK(F30),$B$27=\"No\",ISBLANK($B$27)),\"\",ROUND(F30/F29*57.296,1))","v":""},{"$f":"IF(OR(ISBLANK(G29),ISBLANK(G30),$B$27=\"No\",ISBLANK($B$27)),\"\",ROUND(G30/G29*57.296,1))","v":""},null,{"$f":"MIN(D31,IF(F33=INDEX(HCurveChange,1,0), F31, 365),IF(G33=INDEX(HCurveChange,1,0), G31, 365))","v":365},null,null,null,null,null,null,null,null,null,null,null,null,null,null,null,null,null,null,null,null,null,null,null,null,null,null,null,null,null,null,null,null,null,null,null,null,null,null,null,null,null,null,null,null,null,null,null,null,null,null,null,null,null,null,null,null,null,null,null,null,null,null,null,null,null,null,null,null,null,null,null,null,null,null,null,null,null,null,null,null,null,null,null,null,null,null,null,null,null,null,null,null,"6.09. Edgeline Pavement Markings or Profile Markings",0.13824118691351761,0.13824118691351761,6,6.09,0.13824118691351761,"Edgeline Pavement Markings or Profile Markings","Edgeline Pavement Markings or Profile Markings",0.13824118691351761,9,"Lighting",-2.3499081529478438E-2]
[null,null,null,null,null,"∆ has changed. \nAre you changing the ∆?","∆ has changed. \nAre you changing the ∆?",null,null,null,null,null,null,null,null,null,null,null,null,null,null,null,null,null,null,null,null,null,null,null,null,null,null,null,null,null,null,null,null,null,null,null,null,null,null,null,null,null,null,null,null,null,null,null,null,null,null,null,null,null,null,null,null,null,null,null,null,null,null,null,null,null,null,null,null,null,null,null,null,null,null,null,null,null,null,null,null,null,null,null,null,null,null,null,null,null,null,null,null,null,null,"",0,0,16,10.1,0,"","",0,10,"",0]
[null,null,null,null,null,null,null,null,null,null,null,null,null,null,null,null,null,null,null,null,null,null,null,null,null,null,null,null,null,null,null,null,null,null,null,null,null,null,null,null,null,null,null,null,null,null,null,null,null,null,null,null,null,null,null,null,null,null,null,null,null,null,null,null,null,null,null,null,null,null,null,null,null,null,null,null,null,null,null,null,null,null,null,null,null,null,null,null,null,null,null,null,null,null,null,null,null,null,null,null,null,"4.11. Centerline Rumble Strips",-0.16279069767441867,0.16279069767441867,4,4.1100000000000003,-0.16279069767441867,"Centerline Rumble Strips","Centerline Rumble Strips",0.16279069767441867,11,"",0]
[null,null,"Vertical Curve Present?","--","--","--","--",null,{"$f":"E34","v":"--"},null,null,null,null,null,null,null,null,null,null,null,null,null,null,null,null,null,null,null,null,null,null,null,null,null,null,null,null,null,null,null,null,null,null,null,null,null,null,null,null,null,null,null,null,null,null,null,null,null,null,null,null,null,null,null,null,null,null,null,null,null,null,null,null,null,null,null,null,null,null,null,null,null,null,null,null,null,null,null,null,null,null,null,null,null,null,null,null,null,null,null,null,"3.12. Driveway Density (driveways per mile)",-0.22388114201141129,0.22388114201141129,3,3.12,-0.22388114201141129,{"$f":"IF(DF34=0,\"\",C58)","v":"Driveway Density (driveways per mile)"},"Driveway Density (driveways per mile)",0.22388114201141129,12,"",0]
[null,null,"Vertical Curve Data for Controlling Element:","--","--","--","--",null,"--",null,null,null,null,null,null,null,null,null,null,null,null,null,null,null,null,null,null,null,null,null,null,null,null,null,null,null,null,null,null,null,null,null,null,null,null,null,null,null,null,null,null,null,null,null,null,null,null,null,null,null,null,null,null,null,null,null,null,null,null,null,null,null,null,null,null,null,null,null,null,null,null,null,null,null,null,null,null,null,null,null,null,null,null,null,null,null,null,null,null,null,null,"9.13. Lighting",-2.3499081529478438E-2,2.3499081529478438E-2,9,9.1300000000000008,-2.3499081529478438E-2,{"$f":"IF(DF35=0,\"\",C59)","v":"Lighting"},"Lighting",2.3499081529478438E-2,13,"",0]
[null,null,"  Approach (Entry) Grade, G1 (%)",null,{"$f":"IF(ISBLANK(D36),\"\", D36)","v":""},null,null,null,{"$f":"IF(B34=\"Yes\",I227,I237)","v":""},null,null,null,null,null,null,null,null,null,null,null,null,null,null,null,null,null,null,null,null,null,null,null,null,null,null,null,null,null,null,null,null,null,null,null,null,null,null,null,null,null,null,null,null,null,null,null,null,null,null,null,null,null,null,null,null,null,null,null,null,null,null,null,null,null,null,null,null,null,null,null,null,null,null,null,null,null,null,null,null,null,null,null,null,null,null,null,null,null,null,null,null,"2.14. Pavement Friction (skid number) ***",0.28430956017940245,0.28430956017940245,2,2.14,0.28430956017940245,{"$f":"IF(DF36=0,\"\",C60)","v":"Pavement Friction (skid number) ***"},"Pavement Friction (skid number) ***",0.28430956017940245,14,"",0]
[null,null,"  Departure (Exit) Grade, G2 (%)",null,{"$f":"IF(ISBLANK(D37),\"\", D37)","v":""},null,null,null,{"$f":"IF($B$34=\"Yes\",I228,\"\")","v":""},null,null,null,null,null,null,null,null,null,null,null,null,null,null,null,null,null,null,null,null,null,null,null,null,null,null,null,null,null,null,null,null,null,null,null,null,null,null,null,null,null,null,null,null,null,null,null,null,null,null,null,null,null,null,null,null,null,null,null,null,null,null,null,null,null,null,null,null,null,null,null,null,null,null,null,null,null,null,null,null,null,null,null,null,null,null,null,null,null,null,null,null,"",{"$f":"H72","v":0},0,17,10.15,0,{"$f":"IF(DF37=0,\"\",C72)","v":""},"",0,15,"",0]
[null,null,"  Length (feet)",null,{"$f":"IF(AND($B$34=\"Yes\", D39<>\"\"), ABS(E36-E37)*D39, \"\")","v":""},null,null,null,{"$f":"IF(AND($B$34=\"Yes\",I36<>\"\",I37<>\"\", NOT(ISBLANK($I$10)), NOT(ISBLANK($I$11))),ABS(I37-I36)*I39,\"\")","v":""},null,null,null,null,null,null,null,null,null,null,null,null,null,null,null,null,null,null,null,null,null,null,null,null,null,null,null,null,null,null,null,null,null,null,null,null,null,null,null,null,null,null,null,null,null,null,null,null,null,null,null,null,null,null,null,null,null,null,null,null,null,null,null,null,null,null,null,null,null,null,null,null,null,null,null,null,null,null,null,null,null,null,null,null,null,null,null,null,null,null,null,null,"",{"$f":"H73","v":0},{"$f":"ABS(CY38)","v":0},18,10.16,0,{"$f":"IF(DF38=0,\"\",C73)","v":""},"",0,16,"",0]
[null,null,"  Calculated Rate of Change, K (ft/ft)",{"$f":"IF(OR($B$34=\"No\",ISBLANK($B$34), ISBLANK(D36), ISBLANK(D37),ISBLANK(D38), D36=D37), \"\", ROUND(D38/(ABS(D37-D36)),1))","v":""},{"$f":"IF(AND($B$34=\"Yes\", NOT(ISBLANK($I$10)), NOT(ISBLANK($I$11)), D39<>\"\"), IF($E$42=\"Crest\",  VLOOKUP(MAX($I$10,$I$11),Construction!$B$159:$D$171,2,TRUE), VLOOKUP(MAX($I$10,$I$11),Construction!$B$159:$D$171,3,TRUE)), \"\")","v":""},{"$f":"IF(AND($B$34=\"Yes\", SUM(F263:F265)=0),ROUND(F38/(ABS(F37-F36)),1),\"\")","v":""},{"$f":"IF(AND($B$34=\"Yes\", SUM(G263:G265)=0),ROUND(G38/(ABS(G37-G36)),1),\"\")","v":""},null,{"$f":"IF(OR($B$34<>\"Yes\", ISBLANK($I$10), ISBLANK($I$11), $I$36=\"\", $I$37=\"\", $I$42=\"--\", ISBLANK($I$42)),\"\",IF($I$42=\"Crest\",VLOOKUP(MAX($I$10,$I$11),Construction!$B$179:$D$191,2,TRUE),VLOOKUP(MAX($I$10,$I$11),Construction!$B$179:$D$191,3,TRUE)))","v":""},null,null,null,null,null,null,null,null,null,null,null,null,null,null,null,null,null,null,null,null,null,null,null,null,null,null,null,null,null,null,null,null,null,null,null,null,null,null,null,null,null,null,null,null,null,null,null,null,null,null,null,null,null,null,null,null,null,null,null,null,null,null,null,null,null,null,null,null,null,null,null,null,null,null,null,null,null,null,null,null,null,null,null,null,null,null,null,null,null,null,null,null,"8.17. SafetyEdge",{"$f":"H74","v":-2.8188991921691331E-2},{"$f":"ABS(CY39)","v":2.8188991921691331E-2},8,8.17,-2.8188991921691331E-2,{"$f":"IF(DF39=0,\"\",C74)","v":"SafetyEdge"},"SafetyEdge",2.8188991921691331E-2,17,"",0]
[null,null,null,null,null,"Are you changing the geometry?","Are you changing the geometry?",null,null,null,null,null,null,null,null,null,null,null,null,null,null,null,null,null,null,null,null,null,null,null,null,null,null,null,null,null,null,null,null,null,null,null,null,null,null,null,null,null,null,null,null,null,null,null,null,null,null,null,null,null,null,null,null,null,null,null,null,null,null,null,null,null,null,null,null,null,null,null,null,null,null,null,null,null,null,null,null,null,null,null,null,null,null,null,null,null,null,null,null,null,null,"7.18. Lateral Clearance to obstruction (ft)",{"$f":"H75","v":9.0307162971216326E-2},{"$f":"ABS(CY40)","v":9.0307162971216326E-2},7,7.18,9.0307162971216326E-2,{"$f":"IF(DF40=0,\"\",C75)","v":"Lateral Clearance to obstruction (ft)"},"Lateral Clearance to obstruction (ft)",9.0307162971216326E-2,18,"",0]
[null,null,null,null,null,null,null,null,null,null,null,null,null,null,null,null,null,null,null,null,null,null,null,null,null,null,null,null,null,null,null,null,null,null,null,null,null,null,null,null,null,null,null,null,null,null,null,null,null,null,null,null,null,null,null,null,null,null,null,null,null,null,null,null,null,null,null,null,null,null,null,null,null,null,null,null,null,null,null,null,null,null,null,null,null,null,null,null,null,null,null,null,null,null,null,null,null,null,null,null,null,"",{"$f":"H76","v":0},{"$f":"ABS(CY41)","v":0},19,10.19,0,{"$f":"IF(DF41=0,\"\",C76)","v":""},"",0,19,"",0]
[null,null,"  Calculated Sag or Crest?",{"$f":"IF(AND($B$34=\"Yes\", SUM(D263:D265)=0),IF(D36>D37,\"Crest\",\"Sag\"),\"--\")","v":"--"},{"$f":"IF(AND($B$34=\"Yes\", SUM(D263:D265)=0),IF(E36>E37,\"Crest\",\"Sag\"),\"--\")","v":"--"},{"$f":"IF(AND($B$34=\"Yes\", SUM(F263:F265)=0),IF(F36>F37,\"Crest\",\"Sag\"),\"--\")","v":"--"},{"$f":"IF(AND($B$34=\"Yes\", SUM(G263:G265)=0),IF(G36>G37,\"Crest\",\"Sag\"),\"--\")","v":"--"},null,{"$f":"IF($B$34=\"Yes\",IF(I36>I37,\"Crest\",\"Sag\"),\"--\")","v":"--"}]
[null,null,"TWLTL (two-way left-turn lane)",null,"No",null,null,{"$f":"M108","v":-0.40845070422535223},{"$f":"IF(OR($D$43=\"Yes\", $F$43=\"Yes\",$G$43=\"Yes\"), \"Yes\", \"No\")","v":"No"}]
[null,null,"Passing Lane Type",null,"No Passing Lane",null,null,{"$f":"M109","v":0},"Super 2"]
[null,null,"Geometric Design Element (Partial Score)",{"$f":"IF(OR(SUM(D251:D253,D256:D257,D263:D265,D270:D271)>0, ISERR(D125)),\"\",D125)","v":""},{"$f":"IF(OR(SUM(E251:E253,E256:E257,E263:E265,E270:E271)>0, ISERR(E125)),\"\",E125)","v":""},"","",null,{"$f":"IF(OR(SUM(I251:I253,I256:I257,I263:I265,I270:I271)>0, ISERR(I125)),\"\",I125)","v":""}]
[null,null,"Total Safety Score",{"$f":"IF(OR(D$249>0, $I$315>0,ISERROR(D$201+D$171+D$125)),\"\",D$201+D$171+D$125)","v":""},{"$f":"IF(OR(E$249>0, $I$315>0,ISERROR(E$201+E$171+E$125)),\"\",E$201+E$171+E$125)","v":""},"","",null,"",null,null,null,"SCHEMATIC REPRESENTING INPUT DATA FOR ",null,null,null,null,null,null,null,{"$f":"IF($I$2=\"Existing\",\"EXISTING CONFIGURATION\",IF($I$2=\"Standard\",\"STANDARD OPTION\",IF($I$2=\"Design 1\",\"DESIGN 1 OPTION\",IF($I$2=\"Design 2\",\"DESIGN 2 OPTION\",\"OPTIMAL OPTION\"))))","v":"STANDARD OPTION"}]
[]
[null,null,null,null,null,null,null,null,null,null,null,"LT",null,null,null,null,null,null,null,null,null,null,null,null,null,null,"RT"]
[null,null,null,null,null,null,null,null,null,null,null,"R/W",null,null,null,null,null,null,null,null,null,null,null,null,null,null,"R/W"]
[null,{"$f":"+Construction!$I$9&\"  Total Available Points\"","v":"20  Total Available Points"}]
[null,"Traffic Elements",null,"Existing","Standard","Design 1","Design 2",{"$f":"$H$23","v":"Marginal Safety for Standard (compared to Existing)"},"Optimal",null,null,null,null,null,{"$f":"+$I$14","v":0},null,null,null,null,null,null,null,{"$f":"+$I$15","v":0}]
[null,null,"Advance Static Curve Warning Signs",null,"No",null,null,{"$f":"M145","v":0},"Yes"]
[null,null,"Chevron Signs on Horizontal Curves",null,"No",null,null,{"$f":"M146","v":0},"Yes",null,null,{"$f":"+O51-N53-Q53","v":-16},null,{"$f":"IF(+$I$2=\"Existing\",D25,IF($I$2=\"Standard\",E25,IF($I$2=\"Design 1\",F25,IF($I$2=\"Design 2\",G25,I25))))","v":4},null,null,{"$f":"IF(+$I$2=\"Existing\",D24,IF($I$2=\"Standard\",E24,IF($I$2=\"Design 1\",F24,IF($I$2=\"Design 2\",G24,I24))))","v":12},null,null,null,null,{"$f":"+Q53","v":12},null,null,{"$f":"+N53","v":4},{"$f":"+W51-V53-Y53","v":-16}]
[null,null,"Post-Mounted Delineators",null,"No",null,null,0,"Yes"]
[null,null,"Edgeline Pavement Markings or Profile Markings",null,"Yes",null,null,0.13824118691351761,"Yes"]
[null,null,"Shoulder Rumble Strips",null,"Yes",null,null,{"$f":"M150","v":0},"Yes"]
[null,null,"Centerline Rumble Strips",null,"No",null,null,{"$f":"M151","v":-0.16279069767441867},"Yes"]
[null,null,"Driveway Density (driveways per mile)",null,10,null,null,{"$f":"M152","v":-0.22388114201141129},0]
[null,null,"Lighting",null,"No",null,null,{"$f":"M153","v":-2.3499081529478438E-2},"Yes",null,null,null,null,null,null,null,null,null,"Tangent X-Section"]
[null,null,"Pavement Friction (skid number) ***",null,37,null,null,{"$f":"M154","v":0.28430956017940245},54]
[]
[null,null,"Traffic Control Element (Partial Score):",{"$f":"IF(ISERROR(D171), \"\", D171)","v":12},{"$f":"IF(ISERROR(E171), \"\", E171)","v":14},{"$f":"IF(ISERROR(F171), \"\", F171)","v":""},{"$f":"IF(ISERROR(G171), \"\", G171)","v":""},null,{"$f":"IF(ISERROR(I171), \"\", I171)","v":20}]
[null,null,"Total Safety Score",{"$f":"IF(OR(D$249>0, $I$315>0,ISERROR(D$201+D$171+D$125)),\"\",D$201+D$171+D$125)","v":""},{"$f":"IF(OR(E$249>0, $I$315>0,ISERROR(E$201+E$171+E$125)),\"\",E$201+E$171+E$125)","v":""},"","",null,""]
[]
[null,null,"*** Pavement friction/skid numbers will not be subject to open records requests ***",null,null,null,null,null,null,null," "]
[]
[]
[]
[null,null,null,null,null,null,null,null,null,null,null,null,null,null,null,null,null,null,"Curved X-Section"]
[null,{"$f":"+Construction!$I$10&\"  Total Available Points\"","v":"40  Total Available Points"}]
[null,"Roadside  Elements",null,"Existing","Standard","Design 1","Design 2",{"$f":"$H$23","v":"Marginal Safety for Standard (compared to Existing)"},"Optimal"]
[null,null,"Sideslope (Foreslope)",null,"1V:4H",null,null,{"$f":"M180","v":0},"1V:6H"]
[null,null,"Backslope",null,{"$f":"E72","v":"1V:4H"},null,null,{"$f":"M181","v":0},"1V:4H"]
[null,null,"SafetyEdge",null,"No",null,null,{"$f":"M182","v":-2.8188991921691331E-2},"Yes"]
[null,null,"Lateral Clearance to obstruction (ft)",null,30,null,null,{"$f":"M183","v":9.0307162971216326E-2},40,null,null,null,null,null,null,null,{"$f":"IF($I$2=\"Existing\",\"SCORE SUMMARY FOR EXISTING CONFIGURATION\", IF($I$2=\"Standard\",\"SCORE SUMMARY FOR STANDARD OPTION\",IF($I$2=\"Design 1\",\"SCORE SUMMARY FOR DESIGN 1 OPTION\",IF($I$2=\"Design 2\",\"SCORE SUMMARY FOR DESIGN 2 OPTION\", \"SCORE SUMMARY FOR OPTIMAL OPTION\"))))","v":"SCORE SUMMARY FOR STANDARD OPTION"}]
[null,null,"Obstruction Type",null,"Other Fixed Object",null,null,{"$f":"M184","v":0},"None",null,null,null,null,null,null,null,"GEOMETRIC DESIGN:",null,null,null,null,null,{"$f":"IF($I$2=\"Existing\",D45,IF($I$2=\"Standard\",E45,IF($I$2=\"Design 1\",F45,IF($I$2=\"Design 2\",G45,I45))))","v":""}]
[null,null,"Roadside Element (Partial Score):",{"$f":"IF(ISERR(D201),\"\",D201)","v":""},{"$f":"IF(ISERR(E201),\"\",E201)","v":27},{"$f":"IF(ISERR(F201),\"\",F201)","v":""},{"$f":"IF(ISERR(G201),\"\",G201)","v":""},null,{"$f":"IF(ISERR(I201),\"\",I201)","v":40},null,null,null,null,null,null,null,"TRAFFIC CONTROL:",null,null,null,null,null,{"$f":"IF($I$2=\"Existing\",D62,IF($I$2=\"Standard\",E62,IF($I$2=\"Design 1\",F62,IF($I$2=\"Design 2\",G62,I62))))","v":14}]
[null,null,"Total Safety Score",{"$f":"IF(OR(D$249>0, $I$315>0,ISERROR(D$201+D$171+D$125)),\"\",D$201+D$171+D$125)","v":""},{"$f":"IF(OR(E$249>0, $I$315>0,ISERROR(E$201+E$171+E$125)),\"\",E$201+E$171+E$125)","v":""},"","",null,"",null,null,null,null,null,null,null,"ROADSIDE:",null,null,null,null,null,{"$f":"IF($I$2=\"Existing\",D77,IF($I$2=\"Standard\",E77,IF($I$2=\"Design 1\",F77,IF($I$2=\"Design 2\",G77,I77))))","v":27}]
[null,null,null,null,null,null,null,null,null,null,null,null,null,null,null,null,"OVERALL SAFETY SCORE:",null,null,null,null,null,{"$f":"SUM(W76:X78)","v":41}]
[]
[]
[]
[null,"ADDITIONAL SIDESLOPE INFORMATION"]
[null,null,"Distance to Slope Toe from Shoulder (ft)",null,{"$f":"D84","v":0},{"$f":"E84","v":0},{"$f":"F84","v":0},null,{"$f":"G84","v":0}]
[null,"Minimum foreslope feasible within current ROW",null,null,{"$f":"IF(OR(ISBLANK($D$84), ISERROR(E206)), \"\", \"1V:\"&E206&\"H\")","v":""},{"$f":"IF(OR(ISBLANK($D$84), ISERROR(F206)), \"\", \"1V:\"&F206&\"H\")","v":""},{"$f":"IF(OR(ISBLANK($D$84), ISERROR(G206)), \"\", \"1V:\"&G206&\"H\")","v":""},null,{"$f":"IF(OR(ISBLANK($D$84), ISERROR(I206)), \"\", \"1V:\"&I206&\"H\")","v":""}]
[null,"Additional R/W needed on left side",null,null,{"$f":"IF(OR(ISBLANK($D$84), ISERROR(E210)),\"\", MAX(E210,E213))","v":""},{"$f":"IF(OR(ISBLANK($D$84), ISERROR(F210)), \"\", MAX(F210,F213))","v":""},{"$f":"IF(OR(ISBLANK($D$84), ISERROR(G210)),\"\", MAX(G210,G213))","v":""},null,{"$f":"IF(OR(ISBLANK($D$84), ISERROR(I210)),\"\", MAX(I210,I213))","v":""}]
[null,"Additional R/W needed on right side",null,null,{"$f":"IF(OR(ISBLANK($D$84), ISERROR(E211)), \"\", MAX(E211,E214))","v":""},{"$f":"IF(OR(ISBLANK($D$84), ISERROR(F211)), \"\", MAX(F211,F214))","v":""},{"$f":"IF(OR(ISBLANK($D$84), ISERROR(G211)),\"\", MAX(G211,G214))","v":""},null,{"$f":"IF(OR(ISBLANK($D$84), ISERROR(I211)),\"\", MAX(I211,I214))","v":""}]
[]
[]
[]
[]
[]
[]
[]
[null,null,null,null,null,null,null,null,null,{"$f":"1-I100/E100","v":0}]
[null,null,null,null,null,null,null,null,null,{"$f":"1-I101/E101","v":0.17431192660550465},"For Plot"]
[null,null,null,{"$f":"MAX(SUM(D103:D107)-5,$I$97)","v":{"$error":"#VALUE!"}},{"$f":"MAX(SUM(E103:E107)-5,$I$97)","v":{"$error":"#VALUE!"}},{"$f":"MAX(SUM(F103:F107)-5,$I$97)","v":{"$error":"#VALUE!"}},{"$f":"MAX(SUM(G103:G107)-5,$I$97)","v":{"$error":"#VALUE!"}},null,{"$f":"SUM(I103:I107)-5","v":{"$error":"#VALUE!"}},{"$f":"1-I102/E102","v":0},"relative to","Prefer"]
[null,null,null,null,null,null,null,null,null,{"$f":"1-I103/E103","v":{"$error":"#VALUE!"}},{"$f":"MATCH(K99,ModView,0)","v":1},{"$f":"MATCH(L99,ModView,0)","v":2}]
[null,"Geometric",null,null,null,null,null,null,null,null,{"$f":"I4","v":"Existing"},{"$f":"I2","v":"Standard"},"%"]
[null,null,"LW CMF",{"$f":"VLOOKUP(+D24,Construction!$C$3:$D$9,2)","v":{"$error":"#N/A"}},{"$f":"VLOOKUP(+E24,Construction!$C$3:$D$9,2)","v":1},{"$f":"VLOOKUP(+F24,Construction!$C$3:$D$9,2)","v":{"$error":"#N/A"}},{"$f":"VLOOKUP(+G24,Construction!$C$3:$D$9,2)","v":{"$error":"#N/A"}},{"$f":"H24","v":0},{"$f":"VLOOKUP(+I24,Construction!$C$3:$D$9,2)","v":1},null,{"$f":"INDEX($D100:$I100,K$98)","v":{"$error":"#N/A"}},{"$f":"INDEX($D100:$I100,L$98)","v":1},{"$f":"IF(ISERROR(1-L100/K100), 0, 1-L100/K100)","v":0}]
[null,null,"SW CMF",{"$f":"VLOOKUP(D25,Construction!$C$13:D23,2)","v":1.29},{"$f":"VLOOKUP(E25,Construction!$C$13:E23,2)","v":1.0900000000000001},{"$f":"VLOOKUP(F25,Construction!$C$13:F23,2)","v":1.29},{"$f":"VLOOKUP(G25,Construction!$C$13:G23,2)","v":1.29},{"$f":"IF($I$2=\"Existing\",(1-D101/E101),(IF($I$2=\"Design 1\",(1-F101/E101),(IF($I$2=\"Design 2\",(1-G101/E101),(IF($I$2=\"Optimal\",(1-I101/E101),0)))))))","v":0},{"$f":"VLOOKUP(I25,Construction!$C$13:I23,2)","v":0.9},null,{"$f":"INDEX($D101:$I101,K$98)","v":1.29},{"$f":"INDEX($D101:$I101,L$98)","v":1.0900000000000001},{"$f":"IF(ISERROR(1-L101/K101), 0, 1-L101/K101)","v":0.15503875968992242}]
[null,null,"Placeholder for super deficincy",1,1,1,1,0,1,null,{"$f":"INDEX($D102:$I102,K$98)","v":1},{"$f":"INDEX($D102:$I102,L$98)","v":1},0]
[null,null,"HC and Grade",{"$f":"D$134^D$127","v":1},{"$f":"E$134^E$127","v":{"$error":"#VALUE!"}},{"$f":"F$134^F$127","v":1},{"$f":"G$134^G$127","v":1},0,{"$f":"I$134^I$127","v":{"$error":"#VALUE!"}},null,{"$f":"INDEX($D103:$I103,K$98)","v":1},{"$f":"INDEX($D103:$I103,L$98)","v":{"$error":"#VALUE!"}},0]
[null,null,"HC and VC Crest type I",{"$f":"D$135^D$128","v":1},{"$f":"E$135^E$128","v":1},{"$f":"F$135^F$128","v":1},{"$f":"G$135^G$128","v":1},0,{"$f":"I$135^I$128","v":{"$error":"#VALUE!"}},null,{"$f":"INDEX($D104:$I104,K$98)","v":1},{"$f":"INDEX($D104:$I104,L$98)","v":1},0]
[null,null,"HC and VC Sag type I",{"$f":"D$136^D$129","v":1},{"$f":"E$136^E$129","v":1},{"$f":"F$136^F$129","v":1},{"$f":"G$136^G$129","v":1},0,{"$f":"I$136^I$129","v":{"$error":"#VALUE!"}},null,{"$f":"INDEX($D105:$I105,K$98)","v":1},{"$f":"INDEX($D105:$I105,L$98)","v":1},0]
[null,null,"HC and VC Crest type II",{"$f":"D$137^D$130","v":1},{"$f":"E$137^E$130","v":1},{"$f":"F$137^F$130","v":1},{"$f":"G$137^G$130","v":1},0,{"$f":"I$137^I$130","v":{"$error":"#VALUE!"}},{"$f":"1-I111/E111","v":{"$error":"#VALUE!"}},{"$f":"INDEX($D106:$I106,K$98)","v":1},{"$f":"INDEX($D106:$I106,L$98)","v":1},0]
[null,null,"HC and VC Sag type II",{"$f":"D$138^D$131","v":1},{"$f":"E$138^E$131","v":1},{"$f":"F$138^F$131","v":1},{"$f":"G$138^G$131","v":1},0,{"$f":"I$138^I$131","v":{"$error":"#VALUE!"}},{"$f":"1-I112/E112","v":{"$error":"#VALUE!"}},{"$f":"INDEX($D107:$I107,K$98)","v":1},{"$f":"INDEX($D107:$I107,L$98)","v":1},0]
[null,null,"Add TWLTL",{"$f":"IF(D$43=\"No\",1,CMFs!$F$17)","v":0.71},{"$f":"IF(E$43=\"No\",1,CMFs!$F$17)","v":1},{"$f":"IF(F$43=\"No\",1,CMFs!$F$17)","v":0.71},{"$f":"IF(G$43=\"No\",1,CMFs!$F$17)","v":0.71},0,{"$f":"IF(I$43=\"No\",1,CMFs!$F$17)","v":1},{"$f":"1-I113/E113","v":{"$error":"#VALUE!"}},{"$f":"INDEX($D108:$I108,K$98)","v":0.71},{"$f":"INDEX($D108:$I108,L$98)","v":1},-0.40845070422535223]
[null,null,"Passing Lane Type",{"$f":"IF(ISNUMBER(INDEX(PassLNCMF, MATCH(D44,Passing_Lane_Type,0))),INDEX(PassLNCMF, MATCH(D44,Passing_Lane_Type,0)),1)","v":1},{"$f":"IF(ISNUMBER(INDEX(PassLNCMF, MATCH(E44,Passing_Lane_Type,0))),INDEX(PassLNCMF, MATCH(E44,Passing_Lane_Type,0)),1)","v":1},{"$f":"IF(ISNUMBER(INDEX(PassLNCMF, MATCH(F44,Passing_Lane_Type,0))),INDEX(PassLNCMF, MATCH(F44,Passing_Lane_Type,0)),1)","v":1},{"$f":"IF(ISNUMBER(INDEX(PassLNCMF, MATCH(G44,Passing_Lane_Type,0))),INDEX(PassLNCMF, MATCH(G44,Passing_Lane_Type,0)),1)","v":1},0,{"$f":"IF(ISNUMBER(INDEX(PassLNCMF, MATCH(I44,Passing_Lane_Type,0))),INDEX(PassLNCMF, MATCH(I44,Passing_Lane_Type,0)),1)","v":0.65},{"$f":"1-I114/E114","v":{"$error":"#VALUE!"}},{"$f":"INDEX($D109:$I109,K$98)","v":1},{"$f":"INDEX($D109:$I109,L$98)","v":1},0]
[null,null,null,null,null,null,null,null,null,{"$f":"I115/E115","v":{"$error":"#VALUE!"}}]
[null,null,"COMBINED Calculated CMF",{"$f":"+D100*D101*D102*D103*D104*D105*D106*D107*D108*D109","v":{"$error":"#N/A"}},{"$f":"+E100*E101*E102*E103*E104*E105*E106*E107*E108*E109","v":{"$error":"#VALUE!"}},{"$f":"+F100*F101*F102*F103*F104*F105*F106*F107*F108*F109","v":{"$error":"#N/A"}},{"$f":"+G100*G101*G102*G103*G104*G105*G106*G107*G108*G109","v":{"$error":"#N/A"}},{"$f":"IF($I$2=\"Existing\",(D111),(IF($I$2=\"Design 1\",(F111),(IF($I$2=\"Design 2\",(G111),(IF($I$2=\"Optimal\",(I111),E111)))))))","v":{"$error":"#VALUE!"}},{"$f":"+I100*I101*I102*I103*I104*I105*I106*I107*I108*I109","v":{"$error":"#VALUE!"}},null,{"$f":"INDEX($D111:$I111,K$98)","v":{"$error":"#N/A"}},{"$f":"INDEX($D111:$I111,L$98)","v":{"$error":"#VALUE!"}},{"$f":"IF(ISERROR(1-L111/K111), 0, 1-L111/K111)","v":0}]
[null,null,"Calculated Relative to Design Standards (Column E)",{"$f":"+D111/$E$111","v":{"$error":"#N/A"}},{"$error":"#VALUE!"},{"$error":"#N/A"},{"$error":"#N/A"},{"$error":"#VALUE!"},{"$error":"#VALUE!"},null,{"$f":"INDEX($D112:$I112,K$98)","v":{"$error":"#N/A"}},{"$f":"INDEX($D112:$I112,L$98)","v":{"$error":"#VALUE!"}},0]
[null,null,"P(Crash)",{"$f":"+D112/(D112+1)","v":{"$error":"#N/A"}},{"$error":"#VALUE!"},{"$error":"#N/A"},{"$error":"#N/A"},{"$error":"#VALUE!"},{"$error":"#VALUE!"},null,{"$f":"INDEX($D113:$I113,K$98)","v":{"$error":"#N/A"}},{"$f":"INDEX($D113:$I113,L$98)","v":{"$error":"#VALUE!"}},0]
[null,null,"Factor Change on S curve",{"$f":"+D113/$E$113","v":{"$error":"#N/A"}},{"$error":"#VALUE!"},{"$error":"#N/A"},{"$error":"#N/A"},{"$error":"#VALUE!"},{"$error":"#VALUE!"},null,{"$f":"INDEX($D114:$I114,K$98)","v":{"$error":"#N/A"}},{"$f":"INDEX($D114:$I114,L$98)","v":{"$error":"#VALUE!"}},0]
[null,null,"Adjust to Scale of 100",{"$f":"+$I$114/D114*100","v":{"$error":"#VALUE!"}},{"$error":"#VALUE!"},{"$error":"#VALUE!"},{"$error":"#VALUE!"},{"$error":"#VALUE!"},{"$error":"#VALUE!"}]
[null,null,"Unadjusted Combined Relative to Standard",{"$f":"+D111/$E$111","v":{"$error":"#N/A"}},{"$error":"#VALUE!"},{"$error":"#N/A"},{"$error":"#N/A"},{"$error":"#VALUE!"},{"$error":"#VALUE!"},null,{"$f":"INDEX($D116:$I116,K$98)","v":{"$error":"#N/A"}},{"$f":"INDEX($D116:$I116,L$98)","v":{"$error":"#VALUE!"}},{"$f":"IF(ISERROR(1-L116/K116), 0, 1-L116/K116)","v":0}]
[null,null,null,null,null,null,null,null,null,{"$f":"I122/E122","v":{"$error":"#VALUE!"}}]
[null,null,"Adjusted for PA Basis",{"$f":"+D111*(1+1)/(1+D111*1)","v":{"$error":"#N/A"}},{"$error":"#VALUE!"},{"$error":"#N/A"},{"$error":"#N/A"},{"$f":"IF($I$2=\"Existing\",(D118),(IF($I$2=\"Design 1\",(F118),(IF($I$2=\"Design 2\",(G118),(IF($I$2=\"Optimal\",(I118),E118)))))))","v":{"$error":"#VALUE!"}},{"$error":"#VALUE!"},null,{"$f":"INDEX($D118:$I118,K$98)","v":{"$error":"#N/A"}},{"$f":"INDEX($D118:$I118,L$98)","v":{"$error":"#VALUE!"}},{"$f":"IF(ISERROR(1-L118/K118), 0, 1-L118/K118)","v":0}]
[null,null,"Corrected by Odds Ratio",{"$f":"+D118/$E$118","v":{"$error":"#N/A"}},{"$error":"#VALUE!"},{"$error":"#N/A"},{"$error":"#N/A"},{"$f":"IF($I$2=\"Existing\",(D119),(IF($I$2=\"Design 1\",(F119),(IF($I$2=\"Design 2\",(G119),(IF($I$2=\"Optimal\",(I119),E119)))))))","v":{"$error":"#VALUE!"}},{"$error":"#VALUE!"},null,{"$f":"INDEX($D119:$I119,K$98)","v":{"$error":"#N/A"}},{"$f":"INDEX($D119:$I119,L$98)","v":{"$error":"#VALUE!"}},0]
[null,null,"Pinned s",{"$f":"(1/D119)^$D123","v":{"$error":"#N/A"}},{"$error":"#VALUE!"},{"$error":"#N/A"},{"$error":"#N/A"},{"$error":"#VALUE!"},{"$error":"#VALUE!"},{"$f":"I125/E125","v":{"$error":"#VALUE!"}},{"$f":"INDEX($D120:$I120,K$98)","v":{"$error":"#N/A"}},{"$f":"INDEX($D120:$I120,L$98)","v":{"$error":"#VALUE!"}},0]
[null,null,null,{"$f":"(D120+$F124-1)/(1+(D120+$F124-1))","v":{"$error":"#N/A"}},{"$error":"#VALUE!"},{"$error":"#N/A"},{"$error":"#N/A"},{"$error":"#VALUE!"},{"$error":"#VALUE!"},null,{"$f":"INDEX($D121:$I121,K$98)","v":{"$error":"#N/A"}},{"$f":"INDEX($D121:$I121,L$98)","v":{"$error":"#VALUE!"}},0]
[null,null,"Score Odds Ratio with Optimal (old)",{"$f":"MIN(ROUND($I$119/D119*Construction!$I$8,0),$I122)","v":{"$error":"#VALUE!"}},{"$f":"MIN(ROUND($I$119/E119*Construction!$I$8,0),$I122)","v":{"$error":"#VALUE!"}},{"$f":"MIN(ROUND($I$119/F119*Construction!$I$8,0),$I122)","v":{"$error":"#VALUE!"}},{"$f":"MIN(ROUND($I$119/G119*Construction!$I$8,0),$I122)","v":{"$error":"#VALUE!"}},{"$f":"IF($I$2=\"Existing\",(D122),(IF($I$2=\"Design 1\",(F122),(IF($I$2=\"Design 2\",(G122),(IF($I$2=\"Optimal\",(I122),E122)))))))","v":{"$error":"#VALUE!"}},{"$f":"ROUND($I$119/I119*Construction!$I$8,0)","v":{"$error":"#VALUE!"}}]
[null,null,"Logistic1",{"$f":"LN((D124/(1-D124))/(0.5/0.5))/LN($E119/I119)","v":{"$error":"#VALUE!"}}]
[null,null,"Logistic Param",0.999,null,{"$f":"0.7/0.3","v":2.3333333333333335}]
[null,null,"Score ",{"$f":"MIN(ROUND(D121*Construction!$I$8,0),$I122)","v":{"$error":"#N/A"}},{"$f":"MIN(ROUND(E121*Construction!$I$8,0),$I122)","v":{"$error":"#VALUE!"}},{"$f":"MIN(ROUND(F121*Construction!$I$8,0),$I122)","v":{"$error":"#N/A"}},{"$f":"MIN(ROUND(G121*Construction!$I$8,0),$I122)","v":{"$error":"#N/A"}},{"$f":"MIN(ROUND(H121*Construction!$I$8,0),$I122)","v":{"$error":"#VALUE!"}},{"$f":"MIN(ROUND(I121*Construction!$I$8,0),$I122)","v":{"$error":"#VALUE!"}}]
[]
[null,null,"HC and Grade",{"$f":"IF($B$135,0,1)","v":1},{"$f":"IF($B$135,0,1)","v":1},{"$f":"IF($B$135,0,1)","v":1},{"$f":"IF($B$135,0,1)","v":1},{"$f":"IF($I$2=\"Existing\",(D127),(IF($I$2=\"Design 1\",(F127),(IF($I$2=\"Design 2\",(G127),(IF($I$2=\"Optimal\",(I127),E127)))))))","v":1},{"$f":"IF($B$135,0,1)","v":1}]
[null,null,"HC and VC Crest type I",{"$f":"IF(AND($B$135=1,SIGN(D$36)=1,ABS(D$36)<=ABS(D$36-D$37),D$42=\"Crest\"),1,0)","v":0},{"$f":"IF(AND($B$135=1, SIGN(IF(ISNUMBER(E$36),E$36,0))=1,ABS(IF(ISNUMBER(E$36),E$36,0)) <= ABS(IF(ISNUMBER(E$36),E$36,0)-IF(ISNUMBER(E$37),E$37,0)),E$42=\"Crest\"),1,0)","v":0},{"$f":"IF(AND($B$135=1,SIGN(F$36)=1,ABS(F$36)<=ABS(F$36-F$37),F$42=\"Crest\"),1,0)","v":0},{"$f":"IF(AND($B$135=1,SIGN(G$36)=1,ABS(G$36)<=ABS(G$36-G$37),G$42=\"Crest\"),1,0)","v":0},{"$f":"IF($I$2=\"Existing\",(D128),(IF($I$2=\"Design 1\",(F128),(IF($I$2=\"Design 2\",(G128),(IF($I$2=\"Optimal\",(I128),E128)))))))","v":0},{"$f":"IF(AND($B$135=1,SIGN(I$36)=1,ABS(I$36)<=ABS(I$36-IF(ISNUMBER(I$37), I$37,0)),I$42=\"Crest\"),1,0)","v":{"$error":"#VALUE!"}}]
["HC?",null,"HC and VC Sag type I",{"$f":"IF(AND($B$135=1,SIGN(D$36)=1,ABS(D$36)<=ABS(D$36-D$37),D$42=\"Sag\"),1,0)","v":0},{"$f":"IF(AND($B$135=1, SIGN(IF(ISNUMBER(E$36),E$36,0))=1,ABS(IF(ISNUMBER(E$36),E$36,0)) <= ABS(IF(ISNUMBER(E$36),E$36,0)-IF(ISNUMBER(E$37),E$37,0)),E$42=\"Sag\"),1,0)","v":0},{"$f":"IF(AND($B$135=1,SIGN(F$36)=1,ABS(F$36)<=ABS(F$36-F$37),F$42=\"Sag\"),1,0)","v":0},{"$f":"IF(AND($B$135=1,SIGN(G$36)=1,ABS(G$36)<=ABS(G$36-G$37),G$42=\"Sag\"),1,0)","v":0},{"$f":"IF($I$2=\"Existing\",(D129),(IF($I$2=\"Design 1\",(F129),(IF($I$2=\"Design 2\",(G129),(IF($I$2=\"Optimal\",(I129),E129)))))))","v":0},{"$f":"IF(AND($B$135=1,SIGN(I$36)=1,ABS(I$36)<=ABS(I$36-IF(ISNUMBER(I$37), I$37,0)),I$42=\"Sag\"),1,0)","v":{"$error":"#VALUE!"}}]
["VC?",null,"HC and VC Crest type II",{"$f":"IF(AND($B$135=1,D$42=\"Crest\",D$128=0),1,0)","v":0},{"$f":"IF(AND($B$135=1,E$42=\"Crest\",E$128=0),1,0)","v":0},{"$f":"IF(AND($B$135=1,F$42=\"Crest\",F$128=0),1,0)","v":0},{"$f":"IF(AND($B$135=1,G$42=\"Crest\",G$128=0),1,0)","v":0},{"$f":"IF($I$2=\"Existing\",(D130),(IF($I$2=\"Design 1\",(F130),(IF($I$2=\"Design 2\",(G130),(IF($I$2=\"Optimal\",(I130),E130)))))))","v":0},{"$f":"IF(AND($B$135=1,I$42=\"Crest\",I$128=0),1,0)","v":{"$error":"#VALUE!"}}]
[null,null,"HC and VC Sag type II",{"$f":"IF(AND($B$135=1,D$42=\"Sag\",D$129=0),1,0)","v":0},{"$f":"IF(AND($B$135=1,E$42=\"Sag\",E$129=0),1,0)","v":0},{"$f":"IF(AND($B$135=1,F$42=\"Sag\",F$129=0),1,0)","v":0},{"$f":"IF(AND($B$135=1,G$42=\"Sag\",G$129=0),1,0)","v":0},{"$f":"IF($I$2=\"Existing\",(D131),(IF($I$2=\"Design 1\",(F131),(IF($I$2=\"Design 2\",(G131),(IF($I$2=\"Optimal\",(I131),E131)))))))","v":0},{"$f":"IF(AND($B$135=1,I$42=\"Sag\",I$129=0),1,0)","v":{"$error":"#VALUE!"}}]
[null,"Yes/No"]
[null,null,"HC and VC:",null,{"$f":"EXP(0.042*ABS(D$36)+$B$134*0.16*LN(2*5730/IF(ISNUMBER(E$29),E$29,1)))","v":1}]
[null,{"$f":"IF(B27=\"Yes\",1,0)","v":0},"HC and Grade",{"$f":"IF($B$135=0,EXP(0.042*ABS(D$36)+$B$134*0.16*LN(2*5730/D$141)+4.16*$B$134/D$141/IF(ISNUMBER(D$30),D$30,999999)),1)","v":1},{"$f":"IF($B$135=0,EXP(0.042*ABS(E$36)+$B$134*0.16*LN(2*5730/E$141)+4.16*$B$134/E$141/IF(ISNUMBER(E$30),E$30,999999)),1)","v":{"$error":"#VALUE!"}},1,1,{"$f":"IF($B$135=0,EXP(0.042*ABS(H$36)+$B$134*0.16*LN(2*5730/IF(ISNUMBER(H$29),H$29,1))+4.16*$B$134/IF(ISNUMBER(H$29),H$29,1)/IF(ISNUMBER(H$30),H$30,1)),1)","v":{"$error":"#DIV/0!"}},{"$error":"#VALUE!"},null,{"$f":"INDEX($D134:$I134,K$98)","v":1},{"$f":"INDEX($D134:$I134,L$98)","v":{"$error":"#VALUE!"}},{"$f":"IF(ISERROR(1-L134/K134), 0, 1-L134/K134)","v":0}]
[null,{"$f":"IF(B34=\"Yes\",1,0)","v":0},"HC and VC Crest type I",{"$f":"IF($B$135=0,1,EXP(0.005648908*5730*ABS(+D$36-D$37)*$B$135/D$141*$B$134))","v":1},{"$f":"IF($B$135=0,1,EXP(0.005648908*5730*ABS(+E$36-E$37)*$B$135/E$141*$B$134))","v":1},1,1,{"$f":"IF($I$2=\"Existing\",(D135),(IF($I$2=\"Design 1\",(F135),(IF($I$2=\"Design 2\",(G135),(IF($I$2=\"Optimal\",(I135),E135)))))))","v":1},1,null,{"$f":"INDEX($D135:$I135,K$98)","v":1},{"$f":"INDEX($D135:$I135,L$98)","v":1},0]
[null,null,"HC and VC Sag type I",{"$f":"IF($B$135=0,1,EXP(9.15857042*$B$135/D$142+0.010284958*5730*$B$135*$B$134*ABS(+D$36-D$37)/D$141))","v":1},{"$f":"IF($B$135=0,1,EXP(9.15857042*$B$135/E$142+0.010284958*5730*$B$135*$B$134*ABS(+E$36-E$37)/E$141))","v":1},1,1,{"$f":"IF($I$2=\"Existing\",(D136),(IF($I$2=\"Design 1\",(F136),(IF($I$2=\"Design 2\",(G136),(IF($I$2=\"Optimal\",(I136),E136)))))))","v":1},1,null,{"$f":"INDEX($D136:$I136,K$98)","v":1},{"$f":"INDEX($D136:$I136,L$98)","v":1},0]
[null,null,"HC and VC Crest type II",{"$f":"IF($B$135=0,1,EXP(0.005648908*5730*ABS(+D$36-D$37)*$B$135/D$141*$B$134))","v":1},{"$f":"IF($B$135=0,1,EXP(0.005648908*5730*ABS(+E$36-E$37)*$B$135/E$141*$B$134))","v":1},1,1,{"$f":"IF($I$2=\"Existing\",(D137),(IF($I$2=\"Design 1\",(F137),(IF($I$2=\"Design 2\",(G137),(IF($I$2=\"Optimal\",(I137),E137)))))))","v":1},1,null,{"$f":"INDEX($D137:$I137,K$98)","v":1},{"$f":"INDEX($D137:$I137,L$98)","v":1},0]
[null,null,"HC and VC Sag type II",{"$f":"IF($B$135=0,1,(0.246011284*EXP(LN(0.188*2*5730/D$141)*$B$134)+0.7514288716*EXP(0.022*5730/D$141*ABS(D$36-D$37)*$B$135*$B$134)))","v":1},{"$f":"IF($B$135=0,1,(0.246011284*EXP(LN(0.188*2*5730/E$141)*$B$134)+0.7514288716*EXP(0.022*5730/E$141*ABS(E$36-E$37)*$B$135*$B$134)))","v":1},1,1,{"$f":"IF($I$2=\"Existing\",(D138),(IF($I$2=\"Design 1\",(F138),(IF($I$2=\"Design 2\",(G138),(IF($I$2=\"Optimal\",(I138),E138)))))))","v":1},1,null,{"$f":"INDEX($D138:$I138,K$98)","v":1},{"$f":"INDEX($D138:$I138,L$98)","v":1},0]
[]
[null,null,"Combined HZ and VT",{"$f":"MMULT(TRANSPOSE(D127:D131),D134:D138)","v":1},{"$f":"MMULT(TRANSPOSE(E127:E131),E134:E138)","v":{"$error":"#VALUE!"}},{"$f":"MMULT(TRANSPOSE(F127:F131),F134:F138)","v":1},{"$f":"MMULT(TRANSPOSE(G127:G131),G134:G138)","v":1},{"$f":"IF($I$2=\"Existing\",(D140),(IF($I$2=\"Design 1\",(F140),(IF($I$2=\"Design 2\",(G140),(IF($I$2=\"Optimal\",(I140),E140)))))))","v":{"$error":"#VALUE!"}},{"$f":"MMULT(TRANSPOSE(I127:I131),I134:I138)","v":{"$error":"#VALUE!"}},null,{"$f":"INDEX($D140:$I140,K$98)","v":1},{"$f":"INDEX($D140:$I140,L$98)","v":{"$error":"#VALUE!"}},{"$f":"IF(ISERROR(1-L140/K140), 0, 1-L140/K140)","v":0}]
[null,null,"effective R for calculation",{"$f":"IF(ISNUMBER(D29), D29, 99999999)","v":99999999},{"$f":"IF(ISNUMBER(E29), E29, 99999999)","v":590},99999999,99999999,null,590]
[null,null,"effective K for calculation",{"$f":"IF(ISNUMBER(D39), D39, 9999999)","v":9999999},{"$f":"IF(ISNUMBER(E39), E39, 9999999)","v":9999999},9999999,9999999,null,9999999]
[null,"Traffic"]
[null,null,null,"Existing","Standard","Design 1","Design 2"]
[null,null,"Advance static curve warning signs",{"$f":"IF(AND($B$27=\"Yes\",D$52=\"Yes\"),(Traffic!$F$4-1)*AVERAGE(Constraints!$F$37,Constraints!$H$37)/Constraints!$D$37+1,1)","v":1},{"$f":"IF(AND($B$27=\"Yes\",E$52=\"Yes\"),(Traffic!$F$4-1)*AVERAGE(Constraints!$F$37,Constraints!$H$37)/Constraints!$D$37+1,1)","v":1},{"$f":"IF(AND($B$27=\"Yes\",F$52=\"Yes\"),(Traffic!$F$4-1)*AVERAGE(Constraints!$F$37,Constraints!$H$37)/Constraints!$D$37+1,1)","v":1},{"$f":"IF(AND($B$27=\"Yes\",G$52=\"Yes\"),(Traffic!$F$4-1)*AVERAGE(Constraints!$F$37,Constraints!$H$37)/Constraints!$D$37+1,1)","v":1},{"$f":"IF($I$2=\"Existing\",(D145),(IF($I$2=\"Design 1\",(F145),(IF($I$2=\"Design 2\",(G145),(IF($I$2=\"Optimal\",(I145),E145)))))))","v":1},{"$f":"IF(AND($B$27=\"Yes\",I$52=\"Yes\"),(Traffic!$F$4-1)*AVERAGE(Constraints!$F$37,Constraints!$H$37)/Constraints!$D$37+1,1)","v":1},null,{"$f":"INDEX($D145:$I145,K$98)","v":1},{"$f":"INDEX($D145:$I145,L$98)","v":1},{"$f":"IF(ISERROR(1-L145/K145), 0, 1-L145/K145)","v":0}]
[null,null,"Install chevron signs on horizontal curves",{"$f":"IF(D$53=\"No\",1,(IF(AND($B$27=\"Yes\",D$24<11.5),((Traffic!$F$6-1)*(Constraints!$E$35+Constraints!$E$31))+1,1)))","v":1},{"$f":"IF(E$53=\"No\",1,(IF(AND($B$27=\"Yes\",E$24<11.5),((Traffic!$F$6-1)*(Constraints!$E$35+Constraints!$E$31))+1,1)))","v":1},{"$f":"IF(F$53=\"No\",1,(IF(AND($B$27=\"Yes\",F$24<11.5),((Traffic!$F$6-1)*(Constraints!$E$35+Constraints!$E$31))+1,1)))","v":1},{"$f":"IF(G$53=\"No\",1,(IF(AND($B$27=\"Yes\",G$24<11.5),((Traffic!$F$6-1)*(Constraints!$E$35+Constraints!$E$31))+1,1)))","v":1},{"$f":"IF($I$2=\"Existing\",(D146),(IF($I$2=\"Design 1\",(F146),(IF($I$2=\"Design 2\",(G146),(IF($I$2=\"Optimal\",(I146),E146)))))))","v":1},{"$f":"IF(I$53=\"No\",1,(IF(AND($B$27=\"Yes\",I$24<11.5),((Traffic!$F$6-1)*(Constraints!$E$35+Constraints!$E$31))+1,1)))","v":1},null,{"$f":"INDEX($D146:$I146,K$98)","v":1},{"$f":"INDEX($D146:$I146,L$98)","v":1},0]
[null,null,"Install post-mounted delineators",{"$f":"IF(AND($B$27=\"Yes\",D$54=\"Yes\"),(Traffic!$F$12-1)*Constraints!$E$36+1,1)","v":1},{"$f":"IF(AND($B$27=\"Yes\",E$54=\"Yes\"),(Traffic!$F$12-1)*Constraints!$E$36+1,1)","v":1},{"$f":"IF(AND($B$27=\"Yes\",F$54=\"Yes\"),(Traffic!$F$12-1)*Constraints!$E$36+1,1)","v":1},{"$f":"IF(AND($B$27=\"Yes\",G$54=\"Yes\"),(Traffic!$F$12-1)*Constraints!$E$36+1,1)","v":1},{"$f":"IF($I$2=\"Existing\",(D147),(IF($I$2=\"Design 1\",(F147),(IF($I$2=\"Design 2\",(G147),(IF($I$2=\"Optimal\",(I147),E147)))))))","v":1},{"$f":"IF(AND($B$27=\"Yes\",I$54=\"Yes\"),(Traffic!$F$12-1)*Constraints!$E$36+1,1)","v":1},null,{"$f":"INDEX($D147:$I147,K$98)","v":1},{"$f":"INDEX($D147:$I147,L$98)","v":1},0]
[null,null,"Install edgeline  or Profile pavement markings ",{"$f":"IF(D$55=\"Yes\",Traffic!$F$18*0.5+((Traffic!$F$20*(Constraints!$H$36+Constraints!$H$32)+1*(Constraints!$H$37-(Constraints!$H$36+Constraints!$H$32)))/Constraints!$H$37)*0.5,1)","v":1},{"$f":"IF(E$55=\"Yes\",Traffic!$F$18*0.5+((Traffic!$F$20*(Constraints!$H$36+Constraints!$H$32)+1*(Constraints!$H$37-(Constraints!$H$36+Constraints!$H$32)))/Constraints!$H$37)*0.5,1)","v":0.86175881308648239},{"$f":"IF(F$55=\"Yes\",Traffic!$F$18*0.5+((Traffic!$F$20*(Constraints!$H$36+Constraints!$H$32)+1*(Constraints!$H$37-(Constraints!$H$36+Constraints!$H$32)))/Constraints!$H$37)*0.5,1)","v":1},{"$f":"IF(G$55=\"Yes\",Traffic!$F$18*0.5+((Traffic!$F$20*(Constraints!$H$36+Constraints!$H$32)+1*(Constraints!$H$37-(Constraints!$H$36+Constraints!$H$32)))/Constraints!$H$37)*0.5,1)","v":1},{"$f":"IF($I$2=\"Existing\",(D148),(IF($I$2=\"Design 1\",(F148),(IF($I$2=\"Design 2\",(G148),(IF($I$2=\"Optimal\",(I148),E148)))))))","v":0.86175881308648239},{"$f":"IF(I$55=\"Yes\",Traffic!$F$18*0.5+((Traffic!$F$20*(Constraints!$H$36+Constraints!$H$32)+1*(Constraints!$H$37-(Constraints!$H$36+Constraints!$H$32)))/Constraints!$H$37)*0.5,1)","v":0.86175881308648239},null,{"$f":"INDEX($D148:$I148,K$98)","v":1},{"$f":"INDEX($D148:$I148,L$98)","v":0.86175881308648239},0.13824118691351761]
[null,null,"Profiles",1,1,1,1,1,1,null,{"$f":"INDEX($D149:$I149,K$98)","v":1},{"$f":"INDEX($D149:$I149,L$98)","v":1},0]
[null,null,"Shoulder rumble strips",{"$f":"IF(D$56=\"No\",1,(Traffic!$F$27*(Constraints!$H$36+Constraints!$H$32)+1*(Constraints!$H$37-(Constraints!$H$36+Constraints!$H$32)))/Constraints!$H$37)","v":0.89760950690192376},{"$f":"IF(E$56=\"No\",1,(Traffic!$F$27*(Constraints!$H$36+Constraints!$H$32)+1*(Constraints!$H$37-(Constraints!$H$36+Constraints!$H$32)))/Constraints!$H$37)","v":0.89760950690192376},{"$f":"IF(F$56=\"No\",1,(Traffic!$F$27*(Constraints!$H$36+Constraints!$H$32)+1*(Constraints!$H$37-(Constraints!$H$36+Constraints!$H$32)))/Constraints!$H$37)","v":0.89760950690192376},{"$f":"IF(G$56=\"No\",1,(Traffic!$F$27*(Constraints!$H$36+Constraints!$H$32)+1*(Constraints!$H$37-(Constraints!$H$36+Constraints!$H$32)))/Constraints!$H$37)","v":0.89760950690192376},{"$f":"IF($I$2=\"Existing\",(D150),(IF($I$2=\"Design 1\",(F150),(IF($I$2=\"Design 2\",(G150),(IF($I$2=\"Optimal\",(I150),E150)))))))","v":0.89760950690192376},{"$f":"IF(I$56=\"No\",1,(Traffic!$F$27*(Constraints!$H$36+Constraints!$H$32)+1*(Constraints!$H$37-(Constraints!$H$36+Constraints!$H$32)))/Constraints!$H$37)","v":0.89760950690192376},null,{"$f":"INDEX($D150:$I150,K$98)","v":0.89760950690192376},{"$f":"INDEX($D150:$I150,L$98)","v":0.89760950690192376},0]
[null,null,"Install centerline rumble strips",{"$f":"IF(D$57=\"No\",1,Traffic!$F$30)","v":0.86},{"$f":"IF(E$57=\"No\",1,Traffic!$F$30)","v":1},{"$f":"IF(F$57=\"No\",1,Traffic!$F$30)","v":0.86},{"$f":"IF(G$57=\"No\",1,Traffic!$F$30)","v":0.86},{"$f":"IF($I$2=\"Existing\",(D151),(IF($I$2=\"Design 1\",(F151),(IF($I$2=\"Design 2\",(G151),(IF($I$2=\"Optimal\",(I151),E151)))))))","v":1},{"$f":"IF(I$57=\"No\",1,Traffic!$F$30)","v":0.86},null,{"$f":"INDEX($D151:$I151,K$98)","v":0.86},{"$f":"INDEX($D151:$I151,L$98)","v":1},-0.16279069767441867]
[null,null,"Driveway Density (driveways per mile)",{"$f":"EXP(-LN(Traffic!$F$32)*(D$58-$E$58))","v":0.81707280688754669},{"$f":"EXP(-LN(Traffic!$F$32)*(E$58-$E$58))","v":1},{"$f":"EXP(-LN(Traffic!$F$32)*(F$58-$E$58))","v":0.81707280688754669},{"$f":"EXP(-LN(Traffic!$F$32)*(G$58-$E$58))","v":0.81707280688754669},{"$f":"IF($I$2=\"Existing\",(D152),(IF($I$2=\"Design 1\",(F152),(IF($I$2=\"Design 2\",(G152),(IF($I$2=\"Optimal\",(I152),E152)))))))","v":1},{"$f":"EXP(-LN(Traffic!$F$32)*(I$58-$E$58))","v":0.81707280688754669},null,{"$f":"INDEX($D152:$I152,K$98)","v":0.81707280688754669},{"$f":"INDEX($D152:$I152,L$98)","v":1},-0.22388114201141129]
[null,null,"Install lighting",{"$f":"IF(D$59=\"No\",1,1-(((1-Traffic!$F$55*Constraints!$H$37-Constraints!$F$37/3)+((1-Traffic!$F$55*Constraints!$D$37-Constraints!$H$37)))*$S$19+((1-Traffic!$F$57)*Constraints!$F$37/3))/Constraints!$D$37)","v":0.977040446881142},{"$f":"IF(E$59=\"No\",1,1-(((1-Traffic!$F$55*Constraints!$H$37-Constraints!$F$37/3)+((1-Traffic!$F$55*Constraints!$D$37-Constraints!$H$37)))*$S$19+((1-Traffic!$F$57)*Constraints!$F$37/3))/Constraints!$D$37)","v":1},{"$f":"IF(F$59=\"No\",1,1-(((1-Traffic!$F$55*Constraints!$H$37-Constraints!$F$37/3)+((1-Traffic!$F$55*Constraints!$D$37-Constraints!$H$37)))*$S$19+((1-Traffic!$F$57)*Constraints!$F$37/3))/Constraints!$D$37)","v":0.977040446881142},{"$f":"IF(G$59=\"No\",1,1-(((1-Traffic!$F$55*Constraints!$H$37-Constraints!$F$37/3)+((1-Traffic!$F$55*Constraints!$D$37-Constraints!$H$37)))*$S$19+((1-Traffic!$F$57)*Constraints!$F$37/3))/Constraints!$D$37)","v":0.977040446881142},{"$f":"IF($I$2=\"Existing\",(D153),(IF($I$2=\"Design 1\",(F153),(IF($I$2=\"Design 2\",(G153),(IF($I$2=\"Optimal\",(I153),E153)))))))","v":1},{"$f":"IF(I$59=\"No\",1,1-(((1-Traffic!$F$55*Constraints!$H$37-Constraints!$F$37/3)+((1-Traffic!$F$55*Constraints!$D$37-Constraints!$H$37)))*$S$19+((1-Traffic!$F$57)*Constraints!$F$37/3))/Constraints!$D$37)","v":0.977040446881142},null,{"$f":"INDEX($D153:$I153,K$98)","v":0.977040446881142},{"$f":"INDEX($D153:$I153,L$98)","v":1},-2.3499081529478438E-2]
[null,null,"Pavement friction (skid number)",{"$f":"EXP(LN(Traffic!$F$49)*(D$60-$E$60))","v":1.3972521419325798},{"$f":"EXP(LN(Traffic!$F$49)*(E$60-$E$60))","v":1},{"$f":"IF(MATCH(F60,SkidNums,0)=3, $D154,EXP(LN(Traffic!$F$49)*(RIGHT(F$60,2)-$E$60)))","v":{"$error":"#N/A"}},{"$f":"IF(MATCH(G60,SkidNums,0)=3, $D154,EXP(LN(Traffic!$F$49)*(RIGHT(G$60,2)-$E$60)))","v":{"$error":"#N/A"}},{"$f":"IF($I$2=\"Existing\",(D154),(IF($I$2=\"Design 1\",(F154),(IF($I$2=\"Design 2\",(G154),(IF($I$2=\"Optimal\",(I154),E154)))))))","v":1},{"$f":"EXP(LN(Traffic!$F$49)*(I$60-$E$60))","v":0.85753553626991963},null,{"$f":"INDEX($D154:$I154,K$98)","v":1.3972521419325798},{"$f":"INDEX($D154:$I154,L$98)","v":1},0.28430956017940245]
[]
[]
[null,null,"COMBINED Calculated CMF",{"$f":"+D145*D146*D147*D148*D149*D150*D151*D152*D153*D154","v":0.86106111787419426},{"$f":"+E145*E146*E147*E148*E149*E150*E151*E152*E153*E154","v":0.7735229032829446},{"$f":"+F145*F146*F147*F148*F149*F150*F151*F152*F153*F154","v":{"$error":"#N/A"}},{"$f":"+G145*G146*G147*G148*G149*G150*G151*G152*G153*G154","v":{"$error":"#N/A"}},{"$f":"IF($I$2=\"Existing\",(D157),(IF($I$2=\"Design 1\",(F157),(IF($I$2=\"Design 2\",(G157),(IF($I$2=\"Optimal\",(I157),E157)))))))","v":0.7735229032829446},{"$f":"+I145*I146*I147*I148*I149*I150*I151*I152*I153*I154","v":0.45540422392050506},null,{"$f":"INDEX($D157:$I157,K$98)","v":0.86106111787419426},{"$f":"INDEX($D157:$I157,L$98)","v":0.7735229032829446},{"$f":"IF(ISERROR(1-L157/K157), 0, 1-L157/K157)","v":0.10166318368592209}]
[null,null,"Calculated Relative to Design Standards (Column E)",{"$f":"+D157/$E$157","v":1.1131682258142903},{"$f":"+E157/$E$157","v":1},{"$f":"+F157/$E$157","v":{"$error":"#N/A"}},{"$f":"+G157/$E$157","v":{"$error":"#N/A"}},1,{"$f":"+I157/$E$157","v":0.58874045227064742},null,{"$f":"INDEX($D158:$I158,K$98)","v":1.1131682258142903},{"$f":"INDEX($D158:$I158,L$98)","v":1},0.1016631836859222]
[null,null,"P(Crash)",{"$f":"+D158/(D158+1)","v":0.52677690882151185},{"$f":"+E158/(E158+1)","v":0.5},{"$f":"+F158/(F158+1)","v":{"$error":"#N/A"}},{"$f":"+G158/(G158+1)","v":{"$error":"#N/A"}},0.5,{"$f":"+I158/(I158+1)","v":0.37057056829465901}]
[null,null,"Factor Change on S curve",{"$f":"+D159/$E$159","v":1.0535538176430237},{"$f":"+E159/$E$159","v":1},{"$f":"+F159/$E$159","v":{"$error":"#N/A"}},{"$f":"+G159/$E$159","v":{"$error":"#N/A"}},1,{"$f":"+I159/$E$159","v":0.74114113658931802}]
[null,null,"Adjust to Scale of 100",{"$f":"+$I$114/D160*100","v":{"$error":"#VALUE!"}},{"$f":"+$I$114/E160*100","v":{"$error":"#VALUE!"}},{"$f":"+$I$114/F160*100","v":{"$error":"#VALUE!"}},{"$f":"+$I$114/G160*100","v":{"$error":"#VALUE!"}},{"$error":"#VALUE!"},{"$f":"+$I$114/I160*100","v":{"$error":"#VALUE!"}}]
[null,null,"Unadjusted Combined Relative to Standard",{"$f":"+D157/$E$157","v":1.1131682258142903},{"$f":"+E157/$E$157","v":1},{"$f":"+F157/$E$157","v":{"$error":"#N/A"}},{"$f":"+G157/$E$157","v":{"$error":"#N/A"}},1,{"$f":"+I157/$E$157","v":0.58874045227064742}]
[null,null,null,null,null,null,null,0,null,{"$f":"I168/E168","v":1.4285714285714286}]
[null,null,"Adjusted for PA Basis",{"$f":"+D157*(1+1)/(1+D157*1)","v":0.92534426688549098},{"$f":"+E157*(1+1)/(1+E157*1)","v":0.8723010025425515},{"$f":"+F157*(1+1)/(1+F157*1)","v":{"$error":"#N/A"}},{"$f":"+G157*(1+1)/(1+G157*1)","v":{"$error":"#N/A"}},0.8723010025425515,{"$f":"+I157*(1+1)/(1+I157*1)","v":0.62581132641453641}]
[null,null,"Corrected by Odds Ratio",{"$f":"+D164/$E$164","v":1.0608084413388623},{"$f":"+E164/$E$164","v":1},{"$f":"+F164/$E$164","v":{"$error":"#N/A"}},{"$f":"+G164/$E$164","v":{"$error":"#N/A"}},1,{"$f":"+I164/$E$164","v":0.71742589380322175}]
[null,null,null,{"$f":"(1/D165)^$D169","v":0.29295399474123779},1,{"$error":"#N/A"},{"$error":"#N/A"},1,998.99999999999955,{"$f":"I171/E171","v":1.4285714285714286}]
[null,null,null,{"$f":"(D166+$F170-1)/(1+(D166+$F170-1))","v":0.61923435059440457},0.70000000000000007,{"$error":"#N/A"},{"$error":"#N/A"},0.70000000000000007,0.99900133155792281]
[null,null,"Score Odds Ratio with Optimal as 100 (old)",{"$f":"MIN(ROUND($I$165/D165*Construction!$I$9,0),$I168)","v":14},{"$f":"MIN(ROUND($I$165/E165*Construction!$I$9,0),$I168)","v":14},{"$f":"MIN(ROUND($I$165/F165*Construction!$I$9,0),$I168)","v":{"$error":"#N/A"}},{"$f":"MIN(ROUND($I$165/G165*Construction!$I$9,0),$I168)","v":{"$error":"#N/A"}},null,{"$f":"ROUND($I$165/I165*Construction!$I$9,0)","v":20}]
[null,null,"Logistic1",{"$f":"LN((D170/(1-D170))/(0.5/0.5))/LN($E165/I165)","v":20.798114554240879}]
[null,null,"Logistic Param",0.999,null,{"$f":"0.7/0.3","v":2.3333333333333335}]
[null,null,"Score ",{"$f":"MIN(ROUND(D167*Construction!$I$9,0),$I168)","v":12},{"$f":"MIN(ROUND(E167*Construction!$I$9,0),$I168)","v":14},{"$f":"MIN(ROUND(F167*Construction!$I$9,0),$I168)","v":{"$error":"#N/A"}},{"$f":"MIN(ROUND(G167*Construction!$I$9,0),$I168)","v":{"$error":"#N/A"}},null,{"$f":"MIN(ROUND(I167*Construction!$I$9,0),$I168)","v":20}]
[]
[]
[]
[]
[]
[]
[null,"Roadsde",null,"Existing","Standard","Design 1","Design 2"]
[null,null,null,{"$f":"MID(D72,FIND(\":\",D72,1)+1,FIND(\"H\",D72,1)-FIND(\":\",D72,1)-1)+0","v":{"$error":"#VALUE!"}},{"$f":"MID(E72,FIND(\":\",E72,1)+1,FIND(\"H\",E72,1)-FIND(\":\",E72,1)-1)+0","v":4},{"$f":"MID(F72,FIND(\":\",F72,1)+1,FIND(\"H\",F72,1)-FIND(\":\",F72,1)-1)+0","v":{"$error":"#VALUE!"}},{"$f":"MID(G72,FIND(\":\",G72,1)+1,FIND(\"H\",G72,1)-FIND(\":\",G72,1)-1)+0","v":{"$error":"#VALUE!"}},null,{"$f":"MID(I72,FIND(\":\",I72,1)+1,FIND(\"H\",I72,1)-FIND(\":\",I72,1)-1)+0","v":6},null,{"$f":"INDEX($D179:$I179,K$98)","v":{"$error":"#VALUE!"}},{"$f":"INDEX($D179:$I179,L$98)","v":4},{"$f":"IF(ISERROR(1-L179/K179), 0, 1-L179/K179)","v":0}]
[null,null,"Sideslope (Foreslope)",{"$f":"IF(D179<=3,1,IF(OR(D179=4,D179=5),(Roadside!$F$15-1)*Constraints!$H$37/Constraints!$D$37+1,(Roadside!$F$15*Roadside!$F$16-1)*Constraints!$H$37/Constraints!$D$37+1))","v":{"$error":"#VALUE!"}},{"$f":"IF(E179<=3,1,IF(OR(E179=4,E179=5),(Roadside!$F$15-1)*Constraints!$H$37/Constraints!$D$37+1,(Roadside!$F$15*Roadside!$F$16-1)*Constraints!$H$37/Constraints!$D$37+1))","v":0.8286893555394641},{"$f":"IF(F179<=3,1,IF(OR(F179=4,F179=5),(Roadside!$F$15-1)*Constraints!$H$37/Constraints!$D$37+1,(Roadside!$F$15*Roadside!$F$16-1)*Constraints!$H$37/Constraints!$D$37+1))","v":{"$error":"#VALUE!"}},{"$f":"IF(G179<=3,1,IF(OR(G179=4,G179=5),(Roadside!$F$15-1)*Constraints!$H$37/Constraints!$D$37+1,(Roadside!$F$15*Roadside!$F$16-1)*Constraints!$H$37/Constraints!$D$37+1))","v":{"$error":"#VALUE!"}},{"$f":"IF($I$2=\"Existing\",(D180),(IF($I$2=\"Design 1\",(F180),(IF($I$2=\"Design 2\",(G180),(IF($I$2=\"Optimal\",(I180),E180)))))))","v":0.8286893555394641},{"$f":"IF(I179<=3,1,IF(OR(I179=4,I179=5),(Roadside!$F$15-1)*Constraints!$H$37/Constraints!$D$37+1,(Roadside!$F$15*Roadside!$F$16-1)*Constraints!$H$37/Constraints!$D$37+1))","v":0.77664355022240605},null,{"$f":"INDEX($D180:$I180,K$98)","v":{"$error":"#VALUE!"}},{"$f":"INDEX($D180:$I180,L$98)","v":0.8286893555394641},0]
[null,null,"Backslope",1,1,1,1,{"$f":"IF($I$2=\"Existing\",(D181),(IF($I$2=\"Design 1\",(F181),(IF($I$2=\"Design 2\",(G181),(IF($I$2=\"Optimal\",(I181),E181)))))))","v":1},1,null,{"$f":"INDEX($D181:$I181,K$98)","v":1},{"$f":"INDEX($D181:$I181,L$98)","v":1},0]
[null,null,"SafetyEdge",{"$f":"IF(D$74=\"No\",1,(Roadside!$F$23-1)*AVERAGE(Constraints!$H$37,Constraints!$F$37)/Constraints!$D$37+1)","v":0.97258384193648495},{"$f":"IF(E$74=\"No\",1,(Roadside!$F$23-1)*AVERAGE(Constraints!$H$37,Constraints!$F$37)/Constraints!$D$37+1)","v":1},{"$f":"IF(F$74=\"No\",1,(Roadside!$F$23-1)*AVERAGE(Constraints!$H$37,Constraints!$F$37)/Constraints!$D$37+1)","v":0.97258384193648495},{"$f":"IF(G$74=\"No\",1,(Roadside!$F$23-1)*AVERAGE(Constraints!$H$37,Constraints!$F$37)/Constraints!$D$37+1)","v":0.97258384193648495},{"$f":"IF($I$2=\"Existing\",(D182),(IF($I$2=\"Design 1\",(F182),(IF($I$2=\"Design 2\",(G182),(IF($I$2=\"Optimal\",(I182),E182)))))))","v":1},{"$f":"IF(I$74=\"No\",1,(Roadside!$F$23-1)*AVERAGE(Constraints!$H$37,Constraints!$F$37)/Constraints!$D$37+1)","v":0.97258384193648495},null,{"$f":"INDEX($D182:$I182,K$98)","v":0.97258384193648495},{"$f":"INDEX($D182:$I182,L$98)","v":1},-2.8188991921691331E-2]
[null,null,"Lateral Clearance (ft)",{"$f":"IF($B$27=\"Yes\",((EXP(LN(Roadside!$F$11)*(IF(D$76=\"None\",40,D$75)-30)/30)-1))*Constraints!$H$36/Constraints!$D$37+1,((EXP(LN(Roadside!$F$10)*(IF(D$76=\"None\",40,D$75)-30)/30)-1))*Constraints!$H$36/Constraints!$D$37+1)","v":1.0992721491203288},{"$f":"IF($B$27=\"Yes\",((EXP(LN(Roadside!$F$11)*(IF(E$76=\"None\",40,E$75)-30)/30)-1))*Constraints!$H$36/Constraints!$D$37+1,((EXP(LN(Roadside!$F$10)*(IF(E$76=\"None\",40,E$75)-30)/30)-1))*Constraints!$H$36/Constraints!$D$37+1)","v":1},{"$f":"IF($B$27=\"Yes\",((EXP(LN(Roadside!$F$11)*(IF(F$76=\"None\",40,F$75)-30)/30)-1))*Constraints!$H$36/Constraints!$D$37+1,((EXP(LN(Roadside!$F$10)*(IF(F$76=\"None\",40,F$75)-30)/30)-1))*Constraints!$H$36/Constraints!$D$37+1)","v":1.0992721491203288},{"$f":"IF($B$27=\"Yes\",((EXP(LN(Roadside!$F$11)*(IF(G$76=\"None\",40,G$75)-30)/30)-1))*Constraints!$H$36/Constraints!$D$37+1,((EXP(LN(Roadside!$F$10)*(IF(G$76=\"None\",40,G$75)-30)/30)-1))*Constraints!$H$36/Constraints!$D$37+1)","v":1.0992721491203288},{"$f":"IF($I$2=\"Existing\",(D183),(IF($I$2=\"Design 1\",(F183),(IF($I$2=\"Design 2\",(G183),(IF($I$2=\"Optimal\",(I183),E183)))))))","v":1},{"$f":"IF($B$27=\"Yes\",((EXP(LN(Roadside!$F$11)*(IF(I$76=\"None\",40,I$75)-30)/30)-1))*Constraints!$H$36/Constraints!$D$37+1,((EXP(LN(Roadside!$F$10)*(IF(I$76=\"None\",40,I$75)-30)/30)-1))*Constraints!$H$36/Constraints!$D$37+1)","v":0.97455184373954995},null,{"$f":"INDEX($D183:$I183,K$98)","v":1.0992721491203288},{"$f":"INDEX($D183:$I183,L$98)","v":1},9.0307162971216326E-2]
[null,null,"Fixed Object Type",{"$f":"IF(D$76=\"Guardrail\",(Roadside!$F$25-1)*(($I$75-D$75)/$I$75)^2*Constraints!$H$36/Constraints!$D$37+1,1)","v":1},{"$f":"IF(E$76=\"Guardrail\",(Roadside!$F$25-1)*(($I$75-E$75)/$I$75)^2*Constraints!$H$36/Constraints!$D$37+1,1)","v":1},{"$f":"IF(F$76=\"Guardrail\",(Roadside!$F$25-1)*(($I$75-F$75)/$I$75)^2*Constraints!$H$36/Constraints!$D$37+1,1)","v":1},{"$f":"IF(G$76=\"Guardrail\",(Roadside!$F$25-1)*(($I$75-G$75)/$I$75)^2*Constraints!$H$36/Constraints!$D$37+1,1)","v":1},{"$f":"IF($I$2=\"Existing\",(D184),(IF($I$2=\"Design 1\",(F184),(IF($I$2=\"Design 2\",(G184),(IF($I$2=\"Optimal\",(I184),E184)))))))","v":1},{"$f":"IF(I$76=\"Guardrail\",(Roadside!$F$25-1)*(($I$75-I$75)/$I$75)^2*Constraints!$H$36/Constraints!$D$37+1,1)","v":1},null,{"$f":"INDEX($D184:$I184,K$98)","v":1},{"$f":"INDEX($D184:$I184,L$98)","v":1},0]
[]
[]
[null,null,"COMBINED Calculated CMF",{"$f":"+D180*D181*D182*D183*D184","v":{"$error":"#VALUE!"}},{"$f":"+E180*E181*E182*E183*E184","v":0.8286893555394641},{"$f":"+F180*F181*F182*F183*F184","v":{"$error":"#VALUE!"}},{"$f":"+G180*G181*G182*G183*G184","v":{"$error":"#VALUE!"}},{"$f":"IF($I$2=\"Existing\",(D187),(IF($I$2=\"Design 1\",(F187),(IF($I$2=\"Design 2\",(G187),(IF($I$2=\"Optimal\",(I187),E187)))))))","v":0.8286893555394641},{"$f":"+I180*I181*I182*I183*I184","v":0.73612867842813945}]
[null,null,"Calculated Relative to Design Standards (Column E)",{"$f":"+D187/$E$187","v":{"$error":"#VALUE!"}},{"$f":"+E187/$E$187","v":1},{"$f":"+F187/$E$187","v":{"$error":"#VALUE!"}},{"$f":"+G187/$E$187","v":{"$error":"#VALUE!"}},1,{"$f":"+I187/$E$187","v":0.88830473507039431}]
[null,null,"P(Crash)",{"$f":"+D188/(D188+1)","v":{"$error":"#VALUE!"}},{"$f":"+E188/(E188+1)","v":0.5},{"$f":"+F188/(F188+1)","v":{"$error":"#VALUE!"}},{"$f":"+G188/(G188+1)","v":{"$error":"#VALUE!"}},0.5,{"$f":"+I188/(I188+1)","v":0.47042445987261644}]
[null,null,"Factor Change on S curve",{"$f":"+D189/$E$189","v":{"$error":"#VALUE!"}},{"$f":"+E189/$E$189","v":1},{"$f":"+F189/$E$189","v":{"$error":"#VALUE!"}},{"$f":"+G189/$E$189","v":{"$error":"#VALUE!"}},1,{"$f":"+I189/$E$189","v":0.94084891974523288}]
[null,null,"Adjust to Scale of 100",{"$f":"+$I$114/D190*100","v":{"$error":"#VALUE!"}},{"$f":"+$I$114/E190*100","v":{"$error":"#VALUE!"}},{"$f":"+$I$114/F190*100","v":{"$error":"#VALUE!"}},{"$f":"+$I$114/G190*100","v":{"$error":"#VALUE!"}},{"$error":"#VALUE!"},{"$f":"+$I$114/I190*100","v":{"$error":"#VALUE!"}}]
[null,null,"Unadjusted Combined Relative to Standard",{"$f":"+D187/$E$187","v":{"$error":"#VALUE!"}},{"$f":"+E187/$E$187","v":1},{"$f":"+F187/$E$187","v":{"$error":"#VALUE!"}},{"$f":"+G187/$E$187","v":{"$error":"#VALUE!"}},1,{"$f":"+I187/$E$187","v":0.88830473507039431}]
[null,null,null,null,null,null,null,null,null,{"$f":"I198/E198","v":1.1111111111111112}]
[null,null,"Adjusted for PA Basis",{"$f":"+D187*(1+1)/(1+D187*1)","v":{"$error":"#VALUE!"}},{"$f":"+E187*(1+1)/(1+E187*1)","v":0.90632053282226321},{"$f":"+F187*(1+1)/(1+F187*1)","v":{"$error":"#VALUE!"}},{"$f":"+G187*(1+1)/(1+G187*1)","v":{"$error":"#VALUE!"}},{"$f":"IF($I$2=\"Existing\",(D194),(IF($I$2=\"Design 1\",(F194),(IF($I$2=\"Design 2\",(G194),(IF($I$2=\"Optimal\",(I194),E194)))))))","v":0.90632053282226321},{"$f":"+I187*(1+1)/(1+I187*1)","v":0.84801165671039724}]
[null,null,"Corrected by Odds Ratio",{"$f":"+D187/$E$187","v":{"$error":"#VALUE!"}},{"$f":"+E187/$E$187","v":1},{"$f":"+F187/$E$187","v":{"$error":"#VALUE!"}},{"$f":"+G187/$E$187","v":{"$error":"#VALUE!"}},{"$f":"IF($I$2=\"Existing\",(D195),(IF($I$2=\"Design 1\",(F195),(IF($I$2=\"Design 2\",(G195),(IF($I$2=\"Optimal\",(I195),E195)))))))","v":1},{"$f":"+I187/$E$187","v":0.88830473507039431}]
[null,null,null,{"$f":"(1/D195)^$D199","v":{"$error":"#VALUE!"}},1,{"$error":"#VALUE!"},{"$error":"#VALUE!"},1,998.99999999999955,{"$f":"I201/E201","v":1.4814814814814814}]
[null,null,null,{"$f":"(D196+$F200-1)/(1+(D196+$F200-1))","v":{"$error":"#VALUE!"}},0.66666666666666663,{"$error":"#VALUE!"},{"$error":"#VALUE!"},0.66666666666666663,0.99900099900099903]
[null,null,"Score Odds Ratio with Optimal as 100 (old)",{"$f":"MIN(ROUND($I$195/D195*Construction!$I$10,0),$I198)","v":{"$error":"#VALUE!"}},{"$f":"MIN(ROUND($I$195/E195*Construction!$I$10,0),$I198)","v":36},{"$f":"MIN(ROUND($I$195/F195*Construction!$I$10,0),$I198)","v":{"$error":"#VALUE!"}},{"$f":"MIN(ROUND($I$195/G195*Construction!$I$10,0),$I198)","v":{"$error":"#VALUE!"}},null,{"$f":"ROUND($I$195/I195*Construction!$I$10,0)","v":40}]
[null,null,"Logistic1",{"$f":"LN((D200/(1-D200))/(0.5/0.5))/LN($E195/I195)","v":58.314167600285003}]
[null,null,"Logistic Param",0.999,null,2]
[null,null,"Score ",{"$f":"MIN(ROUND(D197*Construction!$I$10,0),$I198)","v":{"$error":"#VALUE!"}},{"$f":"MIN(ROUND(E197*Construction!$I$10,0),$I198)","v":27},{"$f":"MIN(ROUND(F197*Construction!$I$10,0),$I198)","v":{"$error":"#VALUE!"}},{"$f":"MIN(ROUND(G197*Construction!$I$10,0),$I198)","v":{"$error":"#VALUE!"}},null,{"$f":"MIN(ROUND(I197*Construction!$I$10,0),$I198)","v":40}]
[]
[]
[]
[]
[null,null,{"$f":"D84/D179","v":{"$error":"#VALUE!"}},null,{"$f":"ROUNDUP((MIN($I$14,$I$15)-E24-E25)/$C$206,0)","v":{"$error":"#VALUE!"}},{"$f":"ROUNDUP((MIN($I$14,$I$15)-F24-F25)/$C$206,0)","v":{"$error":"#VALUE!"}},{"$f":"ROUNDUP((MIN($I$14,$I$15)-G24-G25)/$C$206,0)","v":{"$error":"#VALUE!"}},null,{"$f":"ROUNDUP((MIN($I$14,$I$15)-I24-I25)/$C$206,0)","v":{"$error":"#VALUE!"}}]
[]
[]
[null,null,"Distance to low point","Distance to low point",{"$f":"$C$206*E179","v":{"$error":"#VALUE!"}},{"$f":"$C$206*F179","v":{"$error":"#VALUE!"}},{"$f":"$C$206*G179","v":{"$error":"#VALUE!"}},null,{"$f":"$C$206*I179","v":{"$error":"#VALUE!"}}]
[null,null,null,"Additional ROW1 Needed for Foreslope",{"$f":"IF(E209>($I$14-E24-E25),E209-($I$14-E24-E25),0)","v":{"$error":"#VALUE!"}},{"$f":"IF(F209>($I$14-F24-F25),F209-($I$14-F24-F25),0)","v":{"$error":"#VALUE!"}},{"$f":"IF(G209>($I$14-G24-G25),G209-($I$14-G24-G25),0)","v":{"$error":"#VALUE!"}},null,{"$f":"IF(I209>($I$14-I24-I25),I209-($I$14-I24-I25),0)","v":{"$error":"#VALUE!"}}]
[null,null,null,"Additional ROW2 Needed for Foreslope",{"$f":"IF(E209>($I$15-E24-E25),E209-($I$15-E24-E25),0)","v":{"$error":"#VALUE!"}},{"$f":"IF(F209>($I$15-F24-F25),F209-($I$15-F24-F25),0)","v":{"$error":"#VALUE!"}},{"$f":"IF(G209>($I$15-G24-G25),G209-($I$15-G24-G25),0)","v":{"$error":"#VALUE!"}},null,{"$f":"IF(I209>($I$15-I24-I25),I209-($I$15-I24-I25),0)","v":{"$error":"#VALUE!"}}]
[]
[null,null,null,"Additional ROW1 Needed for Lateral Clearance",{"$f":"IF((CL248+E26)-$I$14<0,0,(CL248+E26)-$I$14)","v":8},{"$f":"IF((CM248+F26)-$I$14<0,0,(CM248+F26)-$I$14)","v":0},{"$f":"IF((CN248+G26)-$I$14<0,0,(CN248+G26)-$I$14)","v":0},null,{"$f":"IF((CP248+I26)-$I$14<0,0,(CP248+I26)-$I$14)","v":0}]
[null,null,null,"Additional ROW2 Needed for Lateral Clearance",{"$f":"IF((CL248+E26)-$I$15<0,0,(CL248+E26)-$I$15)","v":8},{"$f":"IF((CM248+F26)-$I$15<0,0,(CM248+F26)-$I$15)","v":0},{"$f":"IF((CN248+G26)-$I$15<0,0,(CN248+G26)-$I$15)","v":0},null,{"$f":"IF((CP248+I26)-$I$15<0,0,(CP248+I26)-$I$15)","v":0}]
[]
[]
[]
[]
[]
[]
[]
[]
[]
[]
[]
[null,null,"For Vertical Opt Use when Yes Vertical:"]
[null,null,"G1",{"$f":"D36","v":0},null,{"$f":"F36","v":0},{"$f":"G36","v":0},null,{"$f":"IF(ISERROR($E$234),\"\",INDEX(D227:G227,$E$234))","v":""}]
[null,null,"G2",{"$f":"D37","v":0},null,{"$f":"F37","v":0},{"$f":"G37","v":0},null,{"$f":"IF(ISERROR($E$234),\"\",INDEX(D228:G228,$E$234))","v":""}]
[null,null,"abs(G2-G1)",{"$f":"ABS(D36-D37)","v":0},null,{"$f":"ABS(F36-F37)","v":0},{"$f":"ABS(G36-G37)","v":0}]
[null,null,"Count in indicator (K no change; or K change but accept)",{"$f":"IF(D39<>\"\",1,\"\")","v":""},null,{"$f":"IF(OR(AND($B$34 = \"Yes\", $D$39 <> F39, F39 <>\"\", $D$39 <> \"\", F41=\"Yes.\"),AND($B$34 = \"Yes\", $D$39 = F39, F39 <>\"\", $D$39 <> \"\")), 1,\"\")","v":""},{"$f":"IF(OR(AND($B$34 = \"Yes\", $D$39 <> G39, G39 <>\"\", $D$39 <> \"\", G41=\"Yes.\"),AND($B$34 = \"Yes\", $D$39 = G39, G39 <>\"\", $D$39 <> \"\")), 1,\"\")","v":""}]
[]
[null,null,"Valid abs(G2-G1)",{"$f":"IF(ISERROR(D229*D230),\"\",D229*D230)","v":""},null,{"$f":"IF(ISERROR(F229*F230),\"\",F229*F230)","v":""},{"$f":"IF(ISERROR(G229*G230),\"\",G229*G230)","v":""}]
[null,null,"The min valid abs(G2-G1)",null,{"$f":"MIN(D232,F232,G232)","v":0}]
[null,null,"Index",null,{"$f":"MATCH(E233,D232:G232,0)","v":{"$error":"#N/A"}}]
[]
[null,null,"For Vertical Opt Use When No Vertical:"]
[null,null,"G1",{"$f":"IF(ISBLANK(D36), 999, D36)","v":999},null,{"$f":"IF(ISBLANK(F36), 999, F36)","v":999},{"$f":"IF(ISBLANK(G36), 999, G36)","v":999},null,{"$f":"IF(E242=999,\"\",E242)","v":""}]
[null,null,"Sign of G1",{"$f":"IF(D237>=0,1,-1)","v":1},null,{"$f":"IF(F237>=0,1,-1)","v":1},{"$f":"IF(G237>=0,1,-1)","v":1}]
[null,null,"Abs G1",{"$f":"ABS(D237)","v":999},null,{"$f":"ABS(F237)","v":999},{"$f":"ABS(G237)","v":999}]
[null,null,"Min Abs G1",null,{"$f":"MIN(D239:G239)","v":999}]
[null,null,"Which is the Best G1",null,{"$f":"MATCH(E240,D239:G239,0)","v":1}]
[null,null,"Best G1 Value",null,{"$f":"INDEX(D237:G237,1,E241)","v":999}]
[]
[]
[]
[]
[]
[]
[null,null,"Check if all cells filled",{"$f":"SUM(D251:D311)","v":18},{"$f":"SUM(E251:E311)","v":1},18,18,null,1]
[]
[null,null,{"$f":"C24","v":"Lane Width (feet)"},{"$f":"IF(ISBLANK(D24),1,0)","v":1},{"$f":"IF(ISBLANK(E24),1,0)","v":0},1,1,null,0]
[null,null,{"$f":"C25","v":"Shoulder Width (feet)"},{"$f":"IF(ISBLANK(D25),1,0)","v":1},0,1,1,null,0]
[null,null,"Cross-slope or Superelevation (%)",{"$f":"IF(ISBLANK(D26),1,0)","v":1},0,1,1,null,0]
[null,null,"Horizontal Curve Present?"]
[null,null,"Horizontal Curve Data for Controlling Element:"]
[null,null,"  Radius (feet)",{"$f":"IF(AND($B$27=\"Yes\", ISBLANK(D29)),1,0)","v":0},{"$f":"IF(AND($B$27=\"Yes\", ISBLANK(E29)),1,0)","v":0},0,0,null,0]
[null,null,"Length of Horizontal Curve (feet)",{"$f":"IF(AND($B$27=\"Yes\", ISBLANK(D30)),1,0)","v":0},0,0,0,null,0]
[null,null,"Calculated Deflection Angle ∆"]
[]
[null,null,null,null,null,{"$f":"IF(AND($B$27 = \"Yes\", $D$31 <> F31, F31<>\"\",ISBLANK(F33)),1,0)","v":0},{"$f":"IF(AND($B$27 = \"Yes\", $D$31 <> G31, G31<>\"\",ISBLANK(G33)),1,0)","v":0}]
[null,null,"Vertical Curve Present?"]
[null,null,"Vertical Curve Data for Controlling Element:"]
[null,null,"  Approach (Entry) Grade, G1 (%)",{"$f":"IF(ISBLANK(D36),1,0)","v":1},{"$f":"IF(ISBLANK(E36),1,0)","v":0},1,1,null,0]
[null,null,"  Departure (Exit) Grade, G2 (%)",{"$f":"IF(AND($B$34=\"Yes\", ISBLANK(D37)),1,0)","v":0},{"$f":"IF(AND($B$34=\"Yes\", ISBLANK(E37)),1,0)","v":0},0,0,null,0]
[null,null,"  Length (feet)",{"$f":"IF(AND($B$34=\"Yes\", ISBLANK(D38)),1,0)","v":0},0,0,0,null,0]
[null,null,"  Calculated Rate of Change, K (ft/ft)"]
[]
[]
[]
[null,null,"TWLTL (two-way left-turn lane)",{"$f":"IF(ISBLANK(D43),1,0)","v":1},{"$f":"IF(ISBLANK(E43),1,0)","v":0},1,1,null,0]
[null,null,"Passing Lane Type",{"$f":"IF(ISBLANK(D44),1,0)","v":1},0,1,1,null,0]
[]
[]
[]
[]
[]
[]
[]
[null,null,"Advance Static Curve Warning Signs",{"$f":"IF(AND($B$27=\"Yes\", ISBLANK(D52)),1,0)","v":0},{"$f":"IF(AND($B$27=\"Yes\", ISBLANK(E52)),1,0)","v":0},0,0,null,{"$f":"IF(ISBLANK(I52),1,0)","v":0}]
[null,null,"Chevron Signs on Horizontal Curves",{"$f":"IF(AND($B$27=\"Yes\", ISBLANK(D53)),1,0)","v":0},0,0,0,null,0]
[null,null,"Post-Mounted Delineators",0,0,0,0,null,0]
[null,null,"Edgeline Pavement Markings or Profile Markings",1,0,1,1,null,0]
[null,null,"Shoulder Rumble Strips",1,0,1,1,null,0]
[null,null,"Centerline Rumble Strips",1,0,1,1,null,0]
[null,null,"Driveway Density (driveways per mile)",1,0,1,1,null,0]
[null,null,"Lighting",1,0,1,1,null,0]
[null,null,"Pavement Friction (skid number) ***",1,0,1,1,null,0]
[]
[]
[]
[]
[]
[]
[]
[]
[]
[]
[]
[null,null,"Sideslope (Foreslope)",{"$f":"IF(ISBLANK(D72),1,0)","v":1},0,1,1,null,0]
[null,null,"Backslope",1,0,1,1,null,0]
[null,null,"SafetyEdge",1,0,1,1,null,0]
[null,null,"Lateral Clearance to obstruction (ft)",1,0,1,1,null,0]
[null,null,"Obstruction Type",1,0,1,1,null,0]
[]
[]
[]
[]
[]
[]
[]
[null,null,"Distance to Slope Toe from Shoulder (ft)",1,{"$f":"$D$311","v":1},{"$f":"$D$311","v":1},1,null,1]
[]
[]
[]
[null,null,null,null,null,null,null,null,{"$f":"SUM(I316:I324)","v":9}]
[null,null,null,null,null,null,null,{"$f":"F9","v":"Location "},{"$f":"IF(ISBLANK(I9),1,0)","v":1}]
[null,null,null,null,null,null,null,{"$f":"F10","v":"Design Speed (mph)"},{"$f":"IF(ISBLANK(I10),1,0)","v":1}]
[null,null,null,null,null,null,null,"Posted Speed (mph)",1]
[null,null,null,null,null,null,null,"E max (%)",1]
[null,null,null,null,null,null,null,"Design Year AADT (vehicles per day)",1]
[null,null,null,null,null,null,null,"Dist. from Centerline to Left   ROW (feet)",1]
[null,null,null,null,null,null,null,"Dist. from Centerline to Right ROW (feet)",1]
[null,null,null,null,null,null,null,"H Curve Indicator",{"$f":"IF(ISBLANK(B27),1,0)","v":1}]
[null,null,null,null,null,null,null,"V Curve Indicator",{"$f":"IF(ISBLANK(B34),1,0)","v":1}]
[]
[]
[]
[]
[]
[]
[]
[]
[]
[]
[]
[]
[]
[]
[]
[]
[]
[]
[]
[]
[]
[]
[]
[]
[]
[]
[]
[]
[]
[]
[]
[]
[]
[]
[]
[]
[]
[]
[]
[]
[]
[]
[]
[]
[]
[]
[]
[]
[]
[]
[]
[1]
[22]
[21]
[20,null,null,{"$f":"Constraints!P174","v":"Emax=6%"}]
[19]
[18,null,{"$f":"HLOOKUP($I$10,Constraints!$Q$176:AD197,A376,TRUE)","v":{"$error":"#N/A"}},{"$f":"Constraints!P176","v":"super"}]
[17,null,{"$f":"HLOOKUP($I$10,Constraints!$Q$176:AD198,A377,TRUE)","v":{"$error":"#N/A"}},{"$f":"Constraints!P197","v":6},1050]
[16,null,{"$f":"HLOOKUP($I$10,Constraints!$Q$176:AD199,A378,TRUE)","v":{"$error":"#N/A"}},{"$f":"Constraints!P196","v":5.8}]
[15,null,{"$f":"HLOOKUP($I$10,Constraints!$Q$176:AD200,A379,TRUE)","v":{"$error":"#N/A"}},{"$f":"Constraints!P195","v":5.6}]
[14,null,{"$f":"HLOOKUP($I$10,Constraints!$Q$176:AD201,A380,TRUE)","v":{"$error":"#N/A"}},{"$f":"Constraints!P194","v":5.4}]
[13,null,{"$f":"HLOOKUP($I$10,Constraints!$Q$176:AD202,A381,TRUE)","v":{"$error":"#N/A"}},{"$f":"Constraints!P193","v":5.2}]
[12,null,{"$f":"HLOOKUP($I$10,Constraints!$Q$176:AD203,A382,TRUE)","v":{"$error":"#N/A"}},{"$f":"Constraints!P192","v":5}]
[11,null,{"$f":"HLOOKUP($I$10,Constraints!$Q$176:AD204,A383,TRUE)","v":{"$error":"#N/A"}},{"$f":"Constraints!P191","v":4.8}]
[10,null,{"$f":"HLOOKUP($I$10,Constraints!$Q$176:AD205,A384,TRUE)","v":{"$error":"#N/A"}},{"$f":"Constraints!P190","v":4.5999999999999996}]
[9,null,{"$f":"HLOOKUP($I$10,Constraints!$Q$176:AD206,A385,TRUE)","v":{"$error":"#N/A"}},{"$f":"Constraints!P189","v":4.4000000000000004}]
[8,null,{"$f":"HLOOKUP($I$10,Constraints!$Q$176:AD207,A386,TRUE)","v":{"$error":"#N/A"}},{"$f":"Constraints!P188","v":4.2}]
[7,null,{"$f":"HLOOKUP($I$10,Constraints!$Q$176:AD208,A387,TRUE)","v":{"$error":"#N/A"}},{"$f":"Constraints!P187","v":4}]
[6,null,{"$f":"HLOOKUP($I$10,Constraints!$Q$176:AD209,A388,TRUE)","v":{"$error":"#N/A"}},{"$f":"Constraints!P186","v":3.8}]
[5,null,{"$f":"HLOOKUP($I$10,Constraints!$Q$176:AD210,A389,TRUE)","v":{"$error":"#N/A"}},{"$f":"Constraints!P185","v":3.6}]
[4,null,{"$f":"HLOOKUP($I$10,Constraints!$Q$176:AD211,A390,TRUE)","v":{"$error":"#N/A"}},{"$f":"Constraints!P184","v":3.4}]
[3,null,{"$f":"HLOOKUP($I$10,Constraints!$Q$176:AD212,A391,TRUE)","v":{"$error":"#N/A"}},{"$f":"Constraints!P183","v":3.2}]
[2,null,{"$f":"HLOOKUP($I$10,Constraints!$Q$176:AD213,A392,TRUE)","v":{"$error":"#N/A"}},{"$f":"Constraints!P182","v":3}]
[null,null,{"$f":"HLOOKUP($I$10,Constraints!$Q$176:AD214,A393,TRUE)","v":{"$error":"#N/A"}},{"$f":"Constraints!P181","v":2.8}]
[null,null,{"$f":"HLOOKUP($I$10,Constraints!$Q$176:AD215,A394,TRUE)","v":{"$error":"#N/A"}},{"$f":"Constraints!P180","v":2.6}]
[null,null,{"$f":"HLOOKUP($I$10,Constraints!$Q$176:AD216,A395,TRUE)","v":{"$error":"#N/A"}},{"$f":"Constraints!P179","v":2.4}]
[null,null,{"$f":"HLOOKUP($I$10,Constraints!$Q$176:AD217,A396,TRUE)","v":{"$error":"#N/A"}},{"$f":"Constraints!P178","v":2.2000000000000002}]
[null,null,{"$f":"HLOOKUP($I$10,Constraints!$Q$176:AD218,A397,TRUE)","v":{"$error":"#N/A"}},{"$f":"Constraints!P177","v":2}]
[1]
[32]
[31]
[30,null,null,{"$f":"Constraints!P201","v":"Emax=8%"}]
[29]
[28,null,{"$f":"HLOOKUP($I$10,Constraints!$Q$203:AD234,A403,TRUE)","v":{"$error":"#N/A"}},{"$f":"Constraints!P203","v":"super"}]
[27,null,{"$f":"HLOOKUP($I$10,Constraints!$Q$203:AD235,A404,TRUE)","v":{"$error":"#N/A"}},{"$f":"INDEX(Constraints!$P$203:$P$234,A404,)","v":8}]
[26,null,{"$f":"HLOOKUP($I$10,Constraints!$Q$203:AD236,A405,TRUE)","v":{"$error":"#N/A"}},{"$f":"INDEX(Constraints!$P$203:$P$234,A405,)","v":7.8}]
[25,null,{"$f":"HLOOKUP($I$10,Constraints!$Q$203:AD237,A406,TRUE)","v":{"$error":"#N/A"}},{"$f":"INDEX(Constraints!$P$203:$P$234,A406,)","v":7.6}]
[24,null,{"$f":"HLOOKUP($I$10,Constraints!$Q$203:AD238,A407,TRUE)","v":{"$error":"#N/A"}},{"$f":"INDEX(Constraints!$P$203:$P$234,A407,)","v":7.4}]
[23,null,{"$f":"HLOOKUP($I$10,Constraints!$Q$203:AD239,A408,TRUE)","v":{"$error":"#N/A"}},{"$f":"INDEX(Constraints!$P$203:$P$234,A408,)","v":7.2}]
[22,null,{"$f":"HLOOKUP($I$10,Constraints!$Q$203:AD240,A409,TRUE)","v":{"$error":"#N/A"}},{"$f":"INDEX(Constraints!$P$203:$P$234,A409,)","v":7}]
[21,null,{"$f":"HLOOKUP($I$10,Constraints!$Q$203:AD241,A410,TRUE)","v":{"$error":"#N/A"}},{"$f":"INDEX(Constraints!$P$203:$P$234,A410,)","v":6.8}]
[20,null,{"$f":"HLOOKUP($I$10,Constraints!$Q$203:AD242,A411,TRUE)","v":{"$error":"#N/A"}},{"$f":"INDEX(Constraints!$P$203:$P$234,A411,)","v":6.6}]
[19,null,{"$f":"HLOOKUP($I$10,Constraints!$Q$203:AD243,A412,TRUE)","v":{"$error":"#N/A"}},{"$f":"INDEX(Constraints!$P$203:$P$234,A412,)","v":6.4}]
[18,null,{"$f":"HLOOKUP($I$10,Constraints!$Q$203:AD244,A413,TRUE)","v":{"$error":"#N/A"}},{"$f":"INDEX(Constraints!$P$203:$P$234,A413,)","v":6.2}]
[17,null,{"$f":"HLOOKUP($I$10,Constraints!$Q$203:AD245,A414,TRUE)","v":{"$error":"#N/A"}},{"$f":"INDEX(Constraints!$P$203:$P$234,A414,)","v":6}]
[16,null,{"$f":"HLOOKUP($I$10,Constraints!$Q$203:AD246,A415,TRUE)","v":{"$error":"#N/A"}},{"$f":"INDEX(Constraints!$P$203:$P$234,A415,)","v":5.8}]
[15,null,{"$f":"HLOOKUP($I$10,Constraints!$Q$203:AD247,A416,TRUE)","v":{"$error":"#N/A"}},{"$f":"INDEX(Constraints!$P$203:$P$234,A416,)","v":5.6}]
[14,null,{"$f":"HLOOKUP($I$10,Constraints!$Q$203:AD248,A417,TRUE)","v":{"$error":"#N/A"}},{"$f":"INDEX(Constraints!$P$203:$P$234,A417,)","v":5.4}]
[13,null,{"$f":"HLOOKUP($I$10,Constraints!$Q$203:AD249,A418,TRUE)","v":{"$error":"#N/A"}},{"$f":"INDEX(Constraints!$P$203:$P$234,A418,)","v":5.2}]
[12,null,{"$f":"HLOOKUP($I$10,Constraints!$Q$203:AD250,A419,TRUE)","v":{"$error":"#N/A"}},{"$f":"INDEX(Constraints!$P$203:$P$234,A419,)","v":5}]
[11,null,{"$f":"HLOOKUP($I$10,Constraints!$Q$203:AD251,A420,TRUE)","v":{"$error":"#N/A"}},{"$f":"INDEX(Constraints!$P$203:$P$234,A420,)","v":4.8}]
[10,null,{"$f":"HLOOKUP($I$10,Constraints!$Q$203:AD252,A421,TRUE)","v":{"$error":"#N/A"}},{"$f":"INDEX(Constraints!$P$203:$P$234,A421,)","v":4.5999999999999996}]
[9,null,{"$f":"HLOOKUP($I$10,Constraints!$Q$203:AD253,A422,TRUE)","v":{"$error":"#N/A"}},{"$f":"INDEX(Constraints!$P$203:$P$234,A422,)","v":4.4000000000000004}]
[8,null,{"$f":"HLOOKUP($I$10,Constraints!$Q$203:AD254,A423,TRUE)","v":{"$error":"#N/A"}},{"$f":"INDEX(Constraints!$P$203:$P$234,A423,)","v":4.2}]
[7,null,{"$f":"HLOOKUP($I$10,Constraints!$Q$203:AD255,A424,TRUE)","v":{"$error":"#N/A"}},{"$f":"INDEX(Constraints!$P$203:$P$234,A424,)","v":4}]
[6,null,{"$f":"HLOOKUP($I$10,Constraints!$Q$203:AD256,A425,TRUE)","v":{"$error":"#N/A"}},{"$f":"INDEX(Constraints!$P$203:$P$234,A425,)","v":3.8}]
[5,null,{"$f":"HLOOKUP($I$10,Constraints!$Q$203:AD257,A426,TRUE)","v":{"$error":"#N/A"}},{"$f":"INDEX(Constraints!$P$203:$P$234,A426,)","v":3.6}]
[4,null,{"$f":"HLOOKUP($I$10,Constraints!$Q$203:AD258,A427,TRUE)","v":{"$error":"#N/A"}},{"$f":"INDEX(Constraints!$P$203:$P$234,A427,)","v":3.4}]
[3,null,{"$f":"HLOOKUP($I$10,Constraints!$Q$203:AD259,A428,TRUE)","v":{"$error":"#N/A"}},{"$f":"INDEX(Constraints!$P$203:$P$234,A428,)","v":3.2}]
[2,null,{"$f":"HLOOKUP($I$10,Constraints!$Q$203:AD260,A429,TRUE)","v":{"$error":"#N/A"}},{"$f":"INDEX(Constraints!$P$203:$P$234,A429,)","v":3}]
[null,null,{"$f":"HLOOKUP($I$10,Constraints!$Q$203:AD261,A430,TRUE)","v":{"$error":"#N/A"}},{"$f":"INDEX(Constraints!$P$203:$P$234,A430,)","v":2.8}]
[null,null,{"$f":"HLOOKUP($I$10,Constraints!$Q$203:AD262,A431,TRUE)","v":{"$error":"#N/A"}},{"$f":"INDEX(Constraints!$P$203:$P$234,A431,)","v":2.6}]
[null,null,{"$f":"HLOOKUP($I$10,Constraints!$Q$203:AD263,A432,TRUE)","v":{"$error":"#N/A"}},{"$f":"INDEX(Constraints!$P$203:$P$234,A432,)","v":2.4}]
[null,null,{"$f":"HLOOKUP($I$10,Constraints!$Q$203:AD264,A433,TRUE)","v":{"$error":"#N/A"}},{"$f":"INDEX(Constraints!$P$203:$P$234,A433,)","v":2.2000000000000002}]
[null,null,{"$f":"HLOOKUP($I$10,Constraints!$Q$203:AD265,A434,TRUE)","v":{"$error":"#N/A"}},{"$f":"INDEX(Constraints!$P$203:$P$234,A434,)","v":2}]

{"sheet":"Configuration 4","index":14,"n_rows":439,"n_cols":113,"rows_kept":439,"cut":false,"hidden":false,"merged":[[1,6,2,7],[1,8,2,8],[1,21,1,37],[2,1,2,4],[2,21,3,28],[2,30,3,37],[3,1,3,4],[3,6,4,7],[3,8,4,8],[4,1,4,2],[4,3,4,4],[4,21,44,28],[4,30,44,37],[5,1,5,2],[5,3,5,4],[6,1,6,7],[7,1,7,4],[7,7,7,8],[8,3,8,4],[8,5,8,6],[75,16,75,21],[75,22,75,23],[9,3,9,4],[9,5,9,6],[10,3,10,4],[10,5,10,6],[11,5,11,6],[12,2,15,4],[12,5,12,6],[13,5,13,6],[14,5,14,6],[17,2,18,8],[20,5,20,7],[38,9,38,10],[45,12,45,19],[74,16,74,23],[76,22,76,23],[77,16,77,21],[77,22,77,23],[78,16,78,21],[78,22,78,23],[84,1,84,2],[85,1,85,2],[86,1,86,2],[95,10,95,12],[76,16,76,21]]}
[]
[null,null,null,null,null,null,"Preferred Schematic View to Display",null,"Standard",null,null,null,null,null,null,null,null,null,null,null,null,"NOTES: "]
[null,"CHARACTERISTICS TO CONSIDER FOR ANALYSIS",null,null,null,null,null,null,null,null,null,null,null,null,null,null,null,null,null,null,null,"ELEMENTS INCREASING SAFETY",null,null,null,null,null,null,null,null,"COMMENTS ON PRIMARY CONSTRAINTS"]
[null,"INPUT INSTRUCTIONS",null,null,null,null,"Relative to",null,"Existing"]
[null,"Blue Boxes -- Select from pulldown options",null,"Select from Pulldown"]
[null,"Yellow Boxes -- Type input information into box",null,"Type Input Value"]
[null," Rural Two-Lane Road Segment -- Safety Score Input",null,null,null,null,null,null,null,null,null,null,null,null,null,null,null,null,null,null,null,null,null,null,null,null,null,null,null,null,null,null,null,null,null,null,null,null,null,null,null,null,null,null,null,null,null,null,null,null,null,null,null,null,null,null,null,null,null,null,null,null,null,null,null,null,null,null,null,null,null,null,null,null,null,null,null,null,null,null,null,null,null,"Unadjusted Marginal Safety"]
[null,"General Information:",null,null,null,"General Site Features",null,{"$f":"I315 & \" Missing Features and Curves\"","v":"9 Missing Features and Curves"},null,null,null,null,null,null,null,null,null,null,null,null,null,null,null,null,null,null,null,null,null,null,null,null,null,null,null,null,null,null,null,null,null,null,null,null,null,null,null,null,null,null,null,null,null,null,null,null,null,null,null,null,null,null,null,null,null,null,null,null,null,null,null,null,null,null,null,null,null,null,null,null,null,null,null,{"$f":"I2&\" relative to \" &I4","v":"Standard relative to Existing"}]
[null,null,"Analyst:",{"$f":"+'Start Here'!J7","v":0},null,"Location "]
[null,null,"Agency or Company:",{"$f":"+'Start Here'!J8","v":0},null,"Design Speed (mph)"]
[null,null,"Date:",{"$f":"+'Start Here'!J9","v":"00:00:00"},null,"Posted Speed (mph)"]
[null,null,"Description:",null,null,"E max (%)"]
[null,null,null,null,null,"Design Year AADT (vehicles per day)"]
[null,null,null,null,null,"Dist. from Centerline to Left   ROW (feet)"]
[null,null,null,null,null,"Dist. from Centerline to Right ROW (feet)"]
[]
[null,"Warning:"]
[null,null,{"$f":"+IF(+I11>I10,\"Posted speed exceeds design speed. Optimal safety will only be achieved if design speed exceeds posted speed. The Safety Assessment Score is based on the higher of the two speed values.\",\"No warnings identified\")","v":"No warnings identified"}]
[null,null,null,null,null,null,null,null,null,null,null,null,null,null,null,{"$f":"\"Unadjusted Marginal Safety of elements in \"&I2&\" from Design Standards\"","v":"Unadjusted Marginal Safety of elements in Standard from Design Standards"},null,null,null,null,null,null,null,null,null,null,null,null,null,null,null,null,null,null,null,null,null,null,null,null,null,null,null,null,null,null,null,null,null,null,null,null,null,null,null,null,null,null,null,null,null,null,null,null,null,null,null,null,null,null,null,null,null,null,null,null,null,null,null,null,null,null,null,null,null,null,null,null,null,null,null,null,null,null,null,null,null,null,null,null,null,null,null,null,null,{"$f":"COUNTIF(DB23:DB41,DB20)","v":1}]
[null,null,null,null,null,null,null,null,null,null,null,null,null,null,null,null,null,null,null,null,null,null,null,null,null,null,null,null,null,null,null,null,null,null,null,null,null,null,null,null,null,null,null,null,null,null,null,null,null,null,null,null,null,null,null,null,null,null,null,null,null,null,null,null,null,null,null,null,null,null,null,null,null,null,null,null,null,null,null,null,null,null,null,null,null,null,null,null,null,null,null,null,null,null,null,null,null,null,null,null,null,null,null,null,null,{"$f":"VLOOKUP(0,CZ23:DB41,3,)","v":10.01}]
[null,null,null,"Fill all elements",null,"To enter notes, use boxes to the right of the vortex ",null,null,null,null," "]
[null,{"$f":"+Construction!$I$8&\"  Total Available Points\"","v":"40  Total Available Points"},null,{"$f":"D249 & \" Missing Elements\"","v":"18 Missing Elements"},null,{"$f":"F249 & \" Missing Elements\"","v":"18 Missing Elements"},{"$f":"G249 & \" Missing Elements\"","v":"18 Missing Elements"},null,null,null,null,null,null,null,null,null,null,null,null,null,null,null,null,null,null,null,null,null,null,null,null,null,null,null,null,null,null,null,null,null,null,null,null,null,null,null,null,null,null,null,null,null,null,null,null,null,null,null,null,null,null,null,null,null,null,null,null,null,null,null,null,null,null,null,null,null,null,null,null,null,null,null,null,null,null,null,null,null,null,null,null,null,null,null,null,null,null,null,null,null,null,"Ranked element","CRF","abs","Re-rank","Rank","Ranked CRF","Element","New Element","crf.abs","rank","Sorted Element","Sorted CRF"]
[null,"Geometric Design Elements",null,"Existing","Standard","Design 1","Design 2",{"$f":"\"Marginal Safety for \"&$I$2&\" (compared to \" & $I$4 & \")\"","v":"Marginal Safety for Standard (compared to Existing)"},"Optimal",null,null,null,null,null,null,null,null,null,null,null,null,null,null,null,null,null,null,null,null,null,null,null,null,null,null,null,null,null,null,null,null,null,null,null,null,null,null,null,null,null,null,null,null,null,null,null,null,null,null,null,null,null,null,null,null,null,null,null,null,null,null,null,null,null,null,null,null,null,null,null,null,null,null,null,null,null,null,null,null,null,null,null,null,null,null,null,null,null,null,null,null,{"$f":"IF(CY23=0,\"\",DB23&\". \"&DD23)","v":""},{"$f":"H24","v":0},{"$f":"ABS(CY23)","v":0},{"$f":"RANK(DB23,$DB$23:$DB$41,1)","v":10},{"$f":"_xlfn.RANK.EQ(CZ23,$CZ$23:$CZ$41)+DG23/100","v":10.01},{"$f":"CY23","v":0},{"$f":"IF(ROUND(DF23,2)=0,\"\",C24)","v":""},{"$f":"DD23","v":""},{"$f":"CZ23","v":0},1,{"$f":"IFERROR(IF(IFERROR(VLOOKUP(DG23,$DA$23:$DF$41,4,)&\", \"&CY23=0,\"\"),\"\",IFERROR(VLOOKUP(DG23,$DA$23:$DE$41,4,),\"\")),\"\")","v":"TWLTL (two-way left-turn lane)"},{"$f":"IFERROR(IF(IFERROR(VLOOKUP(DG23,$DA$23:$DF$41,3,)&\", \"&CY23=0,\"\"),\"\",IFERROR(VLOOKUP(DG23,$DA$23:$DE$41,3,),\"\")),\"\")","v":-0.40845070422535223}]
[null,null,"Lane Width (feet)",null,12,null,null,{"$f":"M100","v":0},12,null,null,null,null,null,null,null,null,null,null,null,null,null,null,null,null,null,null,null,null,null,null,null,null,null,null,null,null,null,null,null,null,null,null,null,null,null,null,null,null,null,null,null,null,null,null,null,null,null,null,null,null,null,null,null,null,null,null,null,null,null,null,null,null,null,null,null,null,null,null,null,null,null,null,null,null,null,null,null,null,null,null,null,null,null,null,null,null,null,null,null,null,"5.02. Shoulder Width (feet)",{"$f":"H25","v":0.15503875968992242},0.15503875968992242,{"$f":"RANK(DB24,$DB$23:$DB$41,1)","v":5},{"$f":"_xlfn.RANK.EQ(CZ24,$CZ$23:$CZ$41)+DG24/100","v":5.0199999999999996},{"$f":"CY24","v":0.15503875968992242},{"$f":"IF(ROUND(DF24,2)=0,\"\",C25)","v":"Shoulder Width (feet)"},{"$f":"DD24","v":"Shoulder Width (feet)"},0.15503875968992242,2,"Pavement Friction (skid number) ***",{"$f":"IFERROR(IF(IFERROR(VLOOKUP(DG24,$DA$23:$DF$41,3,)&\", \"&CY24=0,\"\"),\"\",IFERROR(VLOOKUP(DG24,$DA$23:$DE$41,3,),\"\")),\"\")","v":0.28430956017940245}]
[null,null,"Shoulder Width (feet)",null,{"$f":"IF('Start Here'!$J$12=\"4R\",8,4)","v":4},null,null,{"$f":"M101","v":0.15503875968992242},10,null,null,null,null,null,null,null,null,null,null,null,null,null,null,null,null,null,null,null,null,null,null,null,null,null,null,null,null,null,null,null,null,null,null,null,null,null,null,null,null,null,null,null,null,null,null,null,null,null,null,null,null,null,null,null,null,null,null,null,null,null,null,null,null,null,null,null,null,null,null,null,null,null,null,null,null,null,null,null,null,null,null,null,null,null,null,null,null,null,null,null,null,"",{"$f":"H29","v":0},0,11,10.029999999999999,0,{"$f":"IF(ROUND(DF25,2)=0,\"\",\"Hz and Vt Alignment\")","v":""},"",0,3,"Driveway Density (driveways per mile)",-0.22388114201141129]
[null,null,"Cross-slope or Superelevation (%)",null,{"$f":"IF($I$12=6,IFERROR(VLOOKUP(E29,$C$382:$D$402,2,TRUE),6),IFERROR(VLOOKUP(E29,$C$409:$D$439,2,TRUE),8))","v":8},null,null,null,{"$f":"I12","v":0},null,null,null,null,null,null,null,null,null,null,null,null,null,null,null,null,null,null,null,null,null,null,null,null,null,null,null,null,null,null,null,null,null,null,null,null,null,null,null,null,null,null,null,null,null,null,null,null,null,null,null,null,null,null,null,null,null,null,null,null,null,null,null,null,null,null,null,null,null,null,null,null,null,null,null,null,null,null,null,null,null,null,null,null,null,null,null,null,null,null,null,null,"1.04. TWLTL (two-way left-turn lane)",{"$f":"H43","v":-0.40845070422535223},0.40845070422535223,1,1.04,-0.40845070422535223,{"$f":"IF(ROUND(DF26,2)=0,\"\",C43)","v":"TWLTL (two-way left-turn lane)"},"TWLTL (two-way left-turn lane)",0.40845070422535223,4,"Centerline Rumble Strips",-0.16279069767441867]
["",null,"Horizontal Curve Present?","--","--","--","--",null,"--",null,null,null,null,null,null,null,null,null,null,null,null,null,null,null,null,null,null,null,null,null,null,null,null,null,null,null,null,null,null,null,null,null,null,null,null,null,null,null,null,null,null,null,null,null,null,null,null,null,null,null,null,null,null,null,null,null,null,null,null,null,null,null,null,null,null,null,null,null,null,null,null,null,null,null,null,null,null,null,null,null,null,null,null,null,null,null,null,null,null,null,null,"",{"$f":"H44","v":0},0,12,10.050000000000001,0,{"$f":"IF(ROUND(DF27,2)=0,\"\",C44)","v":""},"",0,5,"Shoulder Width (feet)",0.15503875968992242]
[null,null,"Horizontal Curve Data for Controlling Element:","--","--","--","--",null,"--",null,null,null,null,null,null,null,null,null,null,null,null,null,null,null,null,null,null,null,null,null,null,null,null,null,null,null,null,null,null,null,null,null,null,null,null,null,null,null,null,null,null,null,null,null,null,null,null,null,null,null,null,null,null,null,null,null,null,null,null,null,null,null,null,null,null,null,null,null,null,null,null,null,null,null,null,null,null,null,null,null,null,null,null,null,null,null,null,null,null,null,null,"",{"$f":"H52","v":0},0,13,10.06,0,{"$f":"IF(ROUND(DF28,2)=0,\"\",C52)","v":""},"",0,6,"Edgeline Pavement Markings or Profile Markings",0.13824118691351761]
[null,null,"  Radius (feet)",null,{"$f":"IF(MAX($I$10,$I$11)<45,590,IF($I$12=6,VLOOKUP(MAX($I$10,$I$11),Construction!$B$29:$D$36,2,TRUE),VLOOKUP(MAX($I$10,$I$11),Construction!$G$29:$I$36,2,TRUE)))","v":590},null,null,{"$f":"M140","v":0},{"$f":"IF(MAX($I$10,$I$11)<45,590,IF($I$12=6,VLOOKUP(MAX($I$10,$I$11),Construction!$B$45:$C$52,2,TRUE),VLOOKUP(MAX($I$10,$I$11),Construction!$G$45:$H$52,2,TRUE)))","v":590},null,null,null,null,null,null,null,null,null,null,null,null,null,null,null,null,null,null,null,null,null,null,null,null,null,null,null,null,null,null,null,null,null,null,null,null,null,null,null,null,null,null,null,null,null,null,null,null,null,null,null,null,null,null,null,null,null,null,null,null,null,null,null,null,null,null,null,null,null,null,null,null,null,null,null,null,null,null,null,null,null,null,null,null,null,null,null,null,null,null,null,null,"",0,0,14,10.07,0,"","",0,7,"Lateral Clearance to obstruction (ft)",9.0307162971216326E-2]
[null,null,"Length of Horizontal Curve (feet)",null,{"$f":"IF(D31=\"\", \"\", E29*E31/57.296)","v":""},null,null,null,{"$f":"I29*I31/57.296","v":3758.5520804244625},null,null,null,null,null,null,null,null,null,null,null,null,null,null,null,null,null,null,null,null,null,null,null,null,null,null,null,null,null,null,null,null,null,null,null,null,null,null,null,null,null,null,null,null,null,null,null,null,null,null,null,null,null,null,null,null,null,null,null,null,null,null,null,null,null,null,null,null,null,null,null,null,null,null,null,null,null,null,null,null,null,null,null,null,null,null,null,null,null,null,null,null,"",0,0,15,10.08,0,"","",0,8,"SafetyEdge",-2.8188991921691331E-2]
[null,null,"Calculated Deflection Angle ∆",{"$f":"IF(OR(ISBLANK(D29),ISBLANK(D30),$B$27=\"No\",ISBLANK($B$27)),\"\",ROUND(D30/D29*57.296,1))","v":""},{"$f":"IF(ISBLANK(D31), \"\",D31)","v":""},{"$f":"IF(OR(ISBLANK(F29),ISBLANK(F30),$B$27=\"No\",ISBLANK($B$27)),\"\",ROUND(F30/F29*57.296,1))","v":""},{"$f":"IF(OR(ISBLANK(G29),ISBLANK(G30),$B$27=\"No\",ISBLANK($B$27)),\"\",ROUND(G30/G29*57.296,1))","v":""},null,{"$f":"MIN(D31,IF(F33=INDEX(HCurveChange,1,0), F31, 365),IF(G33=INDEX(HCurveChange,1,0), G31, 365))","v":365},null,null,null,null,null,null,null,null,null,null,null,null,null,null,null,null,null,null,null,null,null,null,null,null,null,null,null,null,null,null,null,null,null,null,null,null,null,null,null,null,null,null,null,null,null,null,null,null,null,null,null,null,null,null,null,null,null,null,null,null,null,null,null,null,null,null,null,null,null,null,null,null,null,null,null,null,null,null,null,null,null,null,null,null,null,null,null,null,null,null,null,null,"6.09. Edgeline Pavement Markings or Profile Markings",0.13824118691351761,0.13824118691351761,6,6.09,0.13824118691351761,"Edgeline Pavement Markings or Profile Markings","Edgeline Pavement Markings or Profile Markings",0.13824118691351761,9,"Lighting",-2.3499081529478438E-2]
[null,null,null,null,null,"∆ has changed. \nAre you changing the ∆?","∆ has changed. \nAre you changing the ∆?",null,null,null,null,null,null,null,null,null,null,null,null,null,null,null,null,null,null,null,null,null,null,null,null,null,null,null,null,null,null,null,null,null,null,null,null,null,null,null,null,null,null,null,null,null,null,null,null,null,null,null,null,null,null,null,null,null,null,null,null,null,null,null,null,null,null,null,null,null,null,null,null,null,null,null,null,null,null,null,null,null,null,null,null,null,null,null,null,null,null,null,null,null,null,"",0,0,16,10.1,0,"","",0,10,"",0]
[null,null,null,null,null,null,null,null,null,null,null,null,null,null,null,null,null,null,null,null,null,null,null,null,null,null,null,null,null,null,null,null,null,null,null,null,null,null,null,null,null,null,null,null,null,null,null,null,null,null,null,null,null,null,null,null,null,null,null,null,null,null,null,null,null,null,null,null,null,null,null,null,null,null,null,null,null,null,null,null,null,null,null,null,null,null,null,null,null,null,null,null,null,null,null,null,null,null,null,null,null,"4.11. Centerline Rumble Strips",-0.16279069767441867,0.16279069767441867,4,4.1100000000000003,-0.16279069767441867,"Centerline Rumble Strips","Centerline Rumble Strips",0.16279069767441867,11,"",0]
[null,null,"Vertical Curve Present?","--","--","--","--",null,{"$f":"E34","v":"--"},null,null,null,null,null,null,null,null,null,null,null,null,null,null,null,null,null,null,null,null,null,null,null,null,null,null,null,null,null,null,null,null,null,null,null,null,null,null,null,null,null,null,null,null,null,null,null,null,null,null,null,null,null,null,null,null,null,null,null,null,null,null,null,null,null,null,null,null,null,null,null,null,null,null,null,null,null,null,null,null,null,null,null,null,null,null,null,null,null,null,null,null,"3.12. Driveway Density (driveways per mile)",-0.22388114201141129,0.22388114201141129,3,3.12,-0.22388114201141129,{"$f":"IF(DF34=0,\"\",C58)","v":"Driveway Density (driveways per mile)"},"Driveway Density (driveways per mile)",0.22388114201141129,12,"",0]
[null,null,"Vertical Curve Data for Controlling Element:","--","--","--","--",null,"--",null,null,null,null,null,null,null,null,null,null,null,null,null,null,null,null,null,null,null,null,null,null,null,null,null,null,null,null,null,null,null,null,null,null,null,null,null,null,null,null,null,null,null,null,null,null,null,null,null,null,null,null,null,null,null,null,null,null,null,null,null,null,null,null,null,null,null,null,null,null,null,null,null,null,null,null,null,null,null,null,null,null,null,null,null,null,null,null,null,null,null,null,"9.13. Lighting",-2.3499081529478438E-2,2.3499081529478438E-2,9,9.1300000000000008,-2.3499081529478438E-2,{"$f":"IF(DF35=0,\"\",C59)","v":"Lighting"},"Lighting",2.3499081529478438E-2,13,"",0]
[null,null,"  Approach (Entry) Grade, G1 (%)",null,{"$f":"IF(ISBLANK(D36),\"\", D36)","v":""},null,null,null,{"$f":"IF(B34=\"Yes\",I227,I237)","v":""},null,null,null,null,null,null,null,null,null,null,null,null,null,null,null,null,null,null,null,null,null,null,null,null,null,null,null,null,null,null,null,null,null,null,null,null,null,null,null,null,null,null,null,null,null,null,null,null,null,null,null,null,null,null,null,null,null,null,null,null,null,null,null,null,null,null,null,null,null,null,null,null,null,null,null,null,null,null,null,null,null,null,null,null,null,null,null,null,null,null,null,null,"2.14. Pavement Friction (skid number) ***",0.28430956017940245,0.28430956017940245,2,2.14,0.28430956017940245,{"$f":"IF(DF36=0,\"\",C60)","v":"Pavement Friction (skid number) ***"},"Pavement Friction (skid number) ***",0.28430956017940245,14,"",0]
[null,null,"  Departure (Exit) Grade, G2 (%)",null,{"$f":"IF(ISBLANK(D37),\"\", D37)","v":""},null,null,null,{"$f":"IF($B$34=\"Yes\",I228,\"\")","v":""},null,null,null,null,null,null,null,null,null,null,null,null,null,null,null,null,null,null,null,null,null,null,null,null,null,null,null,null,null,null,null,null,null,null,null,null,null,null,null,null,null,null,null,null,null,null,null,null,null,null,null,null,null,null,null,null,null,null,null,null,null,null,null,null,null,null,null,null,null,null,null,null,null,null,null,null,null,null,null,null,null,null,null,null,null,null,null,null,null,null,null,null,"",{"$f":"H72","v":0},0,17,10.15,0,{"$f":"IF(DF37=0,\"\",C72)","v":""},"",0,15,"",0]
[null,null,"  Length (feet)",null,{"$f":"IF(AND($B$34=\"Yes\", D39<>\"\"), ABS(E36-E37)*D39, \"\")","v":""},null,null,null,{"$f":"IF(AND($B$34=\"Yes\",I36<>\"\",I37<>\"\", NOT(ISBLANK($I$10)), NOT(ISBLANK($I$11))),ABS(I37-I36)*I39,\"\")","v":""},null,null,null,null,null,null,null,null,null,null,null,null,null,null,null,null,null,null,null,null,null,null,null,null,null,null,null,null,null,null,null,null,null,null,null,null,null,null,null,null,null,null,null,null,null,null,null,null,null,null,null,null,null,null,null,null,null,null,null,null,null,null,null,null,null,null,null,null,null,null,null,null,null,null,null,null,null,null,null,null,null,null,null,null,null,null,null,null,null,null,null,null,"",{"$f":"H73","v":0},{"$f":"ABS(CY38)","v":0},18,10.16,0,{"$f":"IF(DF38=0,\"\",C73)","v":""},"",0,16,"",0]
[null,null,"  Calculated Rate of Change, K (ft/ft)",{"$f":"IF(OR($B$34=\"No\",ISBLANK($B$34), ISBLANK(D36), ISBLANK(D37),ISBLANK(D38), D36=D37), \"\", ROUND(D38/(ABS(D37-D36)),1))","v":""},{"$f":"IF(AND($B$34=\"Yes\", NOT(ISBLANK($I$10)), NOT(ISBLANK($I$11)), D39<>\"\"), IF($E$42=\"Crest\",  VLOOKUP(MAX($I$10,$I$11),Construction!$B$159:$D$171,2,TRUE), VLOOKUP(MAX($I$10,$I$11),Construction!$B$159:$D$171,3,TRUE)), \"\")","v":""},{"$f":"IF(AND($B$34=\"Yes\", SUM(F263:F265)=0),ROUND(F38/(ABS(F37-F36)),1),\"\")","v":""},{"$f":"IF(AND($B$34=\"Yes\", SUM(G263:G265)=0),ROUND(G38/(ABS(G37-G36)),1),\"\")","v":""},null,{"$f":"IF(OR($B$34<>\"Yes\", ISBLANK($I$10), ISBLANK($I$11), $I$36=\"\", $I$37=\"\", $I$42=\"--\", ISBLANK($I$42)),\"\",IF($I$42=\"Crest\",VLOOKUP(MAX($I$10,$I$11),Construction!$B$179:$D$191,2,TRUE),VLOOKUP(MAX($I$10,$I$11),Construction!$B$179:$D$191,3,TRUE)))","v":""},null,null,null,null,null,null,null,null,null,null,null,null,null,null,null,null,null,null,null,null,null,null,null,null,null,null,null,null,null,null,null,null,null,null,null,null,null,null,null,null,null,null,null,null,null,null,null,null,null,null,null,null,null,null,null,null,null,null,null,null,null,null,null,null,null,null,null,null,null,null,null,null,null,null,null,null,null,null,null,null,null,null,null,null,null,null,null,null,null,null,null,null,"8.17. SafetyEdge",{"$f":"H74","v":-2.8188991921691331E-2},{"$f":"ABS(CY39)","v":2.8188991921691331E-2},8,8.17,-2.8188991921691331E-2,{"$f":"IF(DF39=0,\"\",C74)","v":"SafetyEdge"},"SafetyEdge",2.8188991921691331E-2,17,"",0]
[null,null,null,null,null,"Are you changing the geometry?","Are you changing the geometry?",null,null,null,null,null,null,null,null,null,null,null,null,null,null,null,null,null,null,null,null,null,null,null,null,null,null,null,null,null,null,null,null,null,null,null,null,null,null,null,null,null,null,null,null,null,null,null,null,null,null,null,null,null,null,null,null,null,null,null,null,null,null,null,null,null,null,null,null,null,null,null,null,null,null,null,null,null,null,null,null,null,null,null,null,null,null,null,null,null,null,null,null,null,null,"7.18. Lateral Clearance to obstruction (ft)",{"$f":"H75","v":9.0307162971216326E-2},{"$f":"ABS(CY40)","v":9.0307162971216326E-2},7,7.18,9.0307162971216326E-2,{"$f":"IF(DF40=0,\"\",C75)","v":"Lateral Clearance to obstruction (ft)"},"Lateral Clearance to obstruction (ft)",9.0307162971216326E-2,18,"",0]
[null,null,null,null,null,null,null,null,null,null,null,null,null,null,null,null,null,null,null,null,null,null,null,null,null,null,null,null,null,null,null,null,null,null,null,null,null,null,null,null,null,null,null,null,null,null,null,null,null,null,null,null,null,null,null,null,null,null,null,null,null,null,null,null,null,null,null,null,null,null,null,null,null,null,null,null,null,null,null,null,null,null,null,null,null,null,null,null,null,null,null,null,null,null,null,null,null,null,null,null,null,"",{"$f":"H76","v":0},{"$f":"ABS(CY41)","v":0},19,10.19,0,{"$f":"IF(DF41=0,\"\",C76)","v":""},"",0,19,"",0]
[null,null,"  Calculated Sag or Crest?",{"$f":"IF(AND($B$34=\"Yes\", SUM(D263:D265)=0),IF(D36>D37,\"Crest\",\"Sag\"),\"--\")","v":"--"},{"$f":"IF(AND($B$34=\"Yes\", SUM(D263:D265)=0),IF(E36>E37,\"Crest\",\"Sag\"),\"--\")","v":"--"},{"$f":"IF(AND($B$34=\"Yes\", SUM(F263:F265)=0),IF(F36>F37,\"Crest\",\"Sag\"),\"--\")","v":"--"},{"$f":"IF(AND($B$34=\"Yes\", SUM(G263:G265)=0),IF(G36>G37,\"Crest\",\"Sag\"),\"--\")","v":"--"},null,{"$f":"IF($B$34=\"Yes\",IF(I36>I37,\"Crest\",\"Sag\"),\"--\")","v":"--"}]
[null,null,"TWLTL (two-way left-turn lane)",null,"No",null,null,{"$f":"M108","v":-0.40845070422535223},{"$f":"IF(OR($D$43=\"Yes\", $F$43=\"Yes\",$G$43=\"Yes\"), \"Yes\", \"No\")","v":"No"}]
[null,null,"Passing Lane Type",null,"No Passing Lane",null,null,{"$f":"M109","v":0},"Super 2"]
[null,null,"Geometric Design Element (Partial Score)",{"$f":"IF(OR(SUM(D251:D253,D256:D257,D263:D265,D270:D271)>0, ISERR(D125)),\"\",D125)","v":""},{"$f":"IF(OR(SUM(E251:E253,E256:E257,E263:E265,E270:E271)>0, ISERR(E125)),\"\",E125)","v":""},"","",null,{"$f":"IF(OR(SUM(I251:I253,I256:I257,I263:I265,I270:I271)>0, ISERR(I125)),\"\",I125)","v":""}]
[null,null,"Total Safety Score",{"$f":"IF(OR(D$249>0, $I$315>0,ISERROR(D$201+D$171+D$125)),\"\",D$201+D$171+D$125)","v":""},{"$f":"IF(OR(E$249>0, $I$315>0,ISERROR(E$201+E$171+E$125)),\"\",E$201+E$171+E$125)","v":""},"","",null,"",null,null,null,"SCHEMATIC REPRESENTING INPUT DATA FOR ",null,null,null,null,null,null,null,{"$f":"IF($I$2=\"Existing\",\"EXISTING CONFIGURATION\",IF($I$2=\"Standard\",\"STANDARD OPTION\",IF($I$2=\"Design 1\",\"DESIGN 1 OPTION\",IF($I$2=\"Design 2\",\"DESIGN 2 OPTION\",\"OPTIMAL OPTION\"))))","v":"STANDARD OPTION"}]
[]
[null,null,null,null,null,null,null,null,null,null,null,"LT",null,null,null,null,null,null,null,null,null,null,null,null,null,null,"RT"]
[null,null,null,null,null,null,null,null,null,null,null,"R/W",null,null,null,null,null,null,null,null,null,null,null,null,null,null,"R/W"]
[null,{"$f":"+Construction!$I$9&\"  Total Available Points\"","v":"20  Total Available Points"}]
[null,"Traffic Elements",null,"Existing","Standard","Design 1","Design 2",{"$f":"$H$23","v":"Marginal Safety for Standard (compared to Existing)"},"Optimal",null,null,null,null,null,{"$f":"+$I$14","v":0},null,null,null,null,null,null,null,{"$f":"+$I$15","v":0}]
[null,null,"Advance Static Curve Warning Signs",null,"No",null,null,{"$f":"M145","v":0},"Yes"]
[null,null,"Chevron Signs on Horizontal Curves",null,"No",null,null,{"$f":"M146","v":0},"Yes",null,null,{"$f":"+O51-N53-Q53","v":-16},null,{"$f":"IF(+$I$2=\"Existing\",D25,IF($I$2=\"Standard\",E25,IF($I$2=\"Design 1\",F25,IF($I$2=\"Design 2\",G25,I25))))","v":4},null,null,{"$f":"IF(+$I$2=\"Existing\",D24,IF($I$2=\"Standard\",E24,IF($I$2=\"Design 1\",F24,IF($I$2=\"Design 2\",G24,I24))))","v":12},null,null,null,null,{"$f":"+Q53","v":12},null,null,{"$f":"+N53","v":4},{"$f":"+W51-V53-Y53","v":-16}]
[null,null,"Post-Mounted Delineators",null,"No",null,null,0,"Yes"]
[null,null,"Edgeline Pavement Markings or Profile Markings",null,"Yes",null,null,0.13824118691351761,"Yes"]
[null,null,"Shoulder Rumble Strips",null,"Yes",null,null,{"$f":"M150","v":0},"Yes"]
[null,null,"Centerline Rumble Strips",null,"No",null,null,{"$f":"M151","v":-0.16279069767441867},"Yes"]
[null,null,"Driveway Density (driveways per mile)",null,10,null,null,{"$f":"M152","v":-0.22388114201141129},0]
[null,null,"Lighting",null,"No",null,null,{"$f":"M153","v":-2.3499081529478438E-2},"Yes",null,null,null,null,null,null,null,null,null,"Tangent X-Section"]
[null,null,"Pavement Friction (skid number) ***",null,37,null,null,{"$f":"M154","v":0.28430956017940245},54]
[]
[null,null,"Traffic Control Element (Partial Score):",{"$f":"IF(ISERROR(D171), \"\", D171)","v":12},{"$f":"IF(ISERROR(E171), \"\", E171)","v":14},{"$f":"IF(ISERROR(F171), \"\", F171)","v":""},{"$f":"IF(ISERROR(G171), \"\", G171)","v":""},null,{"$f":"IF(ISERROR(I171), \"\", I171)","v":20}]
[null,null,"Total Safety Score",{"$f":"IF(OR(D$249>0, $I$315>0,ISERROR(D$201+D$171+D$125)),\"\",D$201+D$171+D$125)","v":""},{"$f":"IF(OR(E$249>0, $I$315>0,ISERROR(E$201+E$171+E$125)),\"\",E$201+E$171+E$125)","v":""},"","",null,""]
[]
[null,null,"*** Pavement friction/skid numbers will not be subject to open records requests ***",null,null,null,null,null,null,null," "]
[]
[]
[]
[null,null,null,null,null,null,null,null,null,null,null,null,null,null,null,null,null,null,"Curved X-Section"]
[null,{"$f":"+Construction!$I$10&\"  Total Available Points\"","v":"40  Total Available Points"}]
[null,"Roadside  Elements",null,"Existing","Standard","Design 1","Design 2",{"$f":"$H$23","v":"Marginal Safety for Standard (compared to Existing)"},"Optimal"]
[null,null,"Sideslope (Foreslope)",null,"1V:4H",null,null,{"$f":"M180","v":0},"1V:6H"]
[null,null,"Backslope",null,{"$f":"E72","v":"1V:4H"},null,null,{"$f":"M181","v":0},"1V:4H"]
[null,null,"SafetyEdge",null,"No",null,null,{"$f":"M182","v":-2.8188991921691331E-2},"Yes"]
[null,null,"Lateral Clearance to obstruction (ft)",null,30,null,null,{"$f":"M183","v":9.0307162971216326E-2},40,null,null,null,null,null,null,null,{"$f":"IF($I$2=\"Existing\",\"SCORE SUMMARY FOR EXISTING CONFIGURATION\", IF($I$2=\"Standard\",\"SCORE SUMMARY FOR STANDARD OPTION\",IF($I$2=\"Design 1\",\"SCORE SUMMARY FOR DESIGN 1 OPTION\",IF($I$2=\"Design 2\",\"SCORE SUMMARY FOR DESIGN 2 OPTION\", \"SCORE SUMMARY FOR OPTIMAL OPTION\"))))","v":"SCORE SUMMARY FOR STANDARD OPTION"}]
[null,null,"Obstruction Type",null,"Other Fixed Object",null,null,{"$f":"M184","v":0},"None",null,null,null,null,null,null,null,"GEOMETRIC DESIGN:",null,null,null,null,null,{"$f":"IF($I$2=\"Existing\",D45,IF($I$2=\"Standard\",E45,IF($I$2=\"Design 1\",F45,IF($I$2=\"Design 2\",G45,I45))))","v":""}]
[null,null,"Roadside Element (Partial Score):",{"$f":"IF(ISERR(D201),\"\",D201)","v":""},{"$f":"IF(ISERR(E201),\"\",E201)","v":27},{"$f":"IF(ISERR(F201),\"\",F201)","v":""},{"$f":"IF(ISERR(G201),\"\",G201)","v":""},null,{"$f":"IF(ISERR(I201),\"\",I201)","v":40},null,null,null,null,null,null,null,"TRAFFIC CONTROL:",null,null,null,null,null,{"$f":"IF($I$2=\"Existing\",D62,IF($I$2=\"Standard\",E62,IF($I$2=\"Design 1\",F62,IF($I$2=\"Design 2\",G62,I62))))","v":14}]
[null,null,"Total Safety Score",{"$f":"IF(OR(D$249>0, $I$315>0,ISERROR(D$201+D$171+D$125)),\"\",D$201+D$171+D$125)","v":""},{"$f":"IF(OR(E$249>0, $I$315>0,ISERROR(E$201+E$171+E$125)),\"\",E$201+E$171+E$125)","v":""},"","",null,"",null,null,null,null,null,null,null,"ROADSIDE:",null,null,null,null,null,{"$f":"IF($I$2=\"Existing\",D77,IF($I$2=\"Standard\",E77,IF($I$2=\"Design 1\",F77,IF($I$2=\"Design 2\",G77,I77))))","v":27}]
[null,null,null,null,null,null,null,null,null,null,null,null,null,null,null,null,"OVERALL SAFETY SCORE:",null,null,null,null,null,{"$f":"SUM(W76:X78)","v":41}]
[]
[]
[]
[null,"ADDITIONAL SIDESLOPE INFORMATION"]
[null,null,"Distance to Slope Toe from Shoulder (ft)",null,{"$f":"D84","v":0},{"$f":"E84","v":0},{"$f":"F84","v":0},null,{"$f":"G84","v":0}]
[null,"Minimum foreslope feasible within current ROW",null,null,{"$f":"IF(OR(ISBLANK($D$84), ISERROR(E206)), \"\", \"1V:\"&E206&\"H\")","v":""},{"$f":"IF(OR(ISBLANK($D$84), ISERROR(F206)), \"\", \"1V:\"&F206&\"H\")","v":""},{"$f":"IF(OR(ISBLANK($D$84), ISERROR(G206)), \"\", \"1V:\"&G206&\"H\")","v":""},null,{"$f":"IF(OR(ISBLANK($D$84), ISERROR(I206)), \"\", \"1V:\"&I206&\"H\")","v":""}]
[null,"Additional R/W needed on left side",null,null,{"$f":"IF(OR(ISBLANK($D$84), ISERROR(E210)),\"\", MAX(E210,E213))","v":""},{"$f":"IF(OR(ISBLANK($D$84), ISERROR(F210)), \"\", MAX(F210,F213))","v":""},{"$f":"IF(OR(ISBLANK($D$84), ISERROR(G210)),\"\", MAX(G210,G213))","v":""},null,{"$f":"IF(OR(ISBLANK($D$84), ISERROR(I210)),\"\", MAX(I210,I213))","v":""}]
[null,"Additional R/W needed on right side",null,null,{"$f":"IF(OR(ISBLANK($D$84), ISERROR(E211)), \"\", MAX(E211,E214))","v":""},{"$f":"IF(OR(ISBLANK($D$84), ISERROR(F211)), \"\", MAX(F211,F214))","v":""},{"$f":"IF(OR(ISBLANK($D$84), ISERROR(G211)),\"\", MAX(G211,G214))","v":""},null,{"$f":"IF(OR(ISBLANK($D$84), ISERROR(I211)),\"\", MAX(I211,I214))","v":""}]
[]
[]
[]
[]
[]
[]
[]
[null,null,null,null,null,null,null,null,null,{"$f":"1-I100/E100","v":0}]
[null,null,null,null,null,null,null,null,null,{"$f":"1-I101/E101","v":0.17431192660550465},"For Plot"]
[null,null,null,{"$f":"MAX(SUM(D103:D107)-5,$I$97)","v":{"$error":"#VALUE!"}},{"$f":"MAX(SUM(E103:E107)-5,$I$97)","v":{"$error":"#VALUE!"}},{"$f":"MAX(SUM(F103:F107)-5,$I$97)","v":{"$error":"#VALUE!"}},{"$f":"MAX(SUM(G103:G107)-5,$I$97)","v":{"$error":"#VALUE!"}},null,{"$f":"SUM(I103:I107)-5","v":{"$error":"#VALUE!"}},{"$f":"1-I102/E102","v":0},"relative to","Prefer"]
[null,null,null,null,null,null,null,null,null,{"$f":"1-I103/E103","v":{"$error":"#VALUE!"}},{"$f":"MATCH(K99,ModView,0)","v":1},{"$f":"MATCH(L99,ModView,0)","v":2}]
[null,"Geometric",null,null,null,null,null,null,null,null,{"$f":"I4","v":"Existing"},{"$f":"I2","v":"Standard"},"%"]
[null,null,"LW CMF",{"$f":"VLOOKUP(+D24,Construction!$C$3:$D$9,2)","v":{"$error":"#N/A"}},{"$f":"VLOOKUP(+E24,Construction!$C$3:$D$9,2)","v":1},{"$f":"VLOOKUP(+F24,Construction!$C$3:$D$9,2)","v":{"$error":"#N/A"}},{"$f":"VLOOKUP(+G24,Construction!$C$3:$D$9,2)","v":{"$error":"#N/A"}},{"$f":"H24","v":0},{"$f":"VLOOKUP(+I24,Construction!$C$3:$D$9,2)","v":1},null,{"$f":"INDEX($D100:$I100,K$98)","v":{"$error":"#N/A"}},{"$f":"INDEX($D100:$I100,L$98)","v":1},{"$f":"IF(ISERROR(1-L100/K100), 0, 1-L100/K100)","v":0}]
[null,null,"SW CMF",{"$f":"VLOOKUP(D25,Construction!$C$13:D23,2)","v":1.29},{"$f":"VLOOKUP(E25,Construction!$C$13:E23,2)","v":1.0900000000000001},{"$f":"VLOOKUP(F25,Construction!$C$13:F23,2)","v":1.29},{"$f":"VLOOKUP(G25,Construction!$C$13:G23,2)","v":1.29},{"$f":"IF($I$2=\"Existing\",(1-D101/E101),(IF($I$2=\"Design 1\",(1-F101/E101),(IF($I$2=\"Design 2\",(1-G101/E101),(IF($I$2=\"Optimal\",(1-I101/E101),0)))))))","v":0},{"$f":"VLOOKUP(I25,Construction!$C$13:I23,2)","v":0.9},null,{"$f":"INDEX($D101:$I101,K$98)","v":1.29},{"$f":"INDEX($D101:$I101,L$98)","v":1.0900000000000001},{"$f":"IF(ISERROR(1-L101/K101), 0, 1-L101/K101)","v":0.15503875968992242}]
[null,null,"Placeholder for super deficincy",1,1,1,1,0,1,null,{"$f":"INDEX($D102:$I102,K$98)","v":1},{"$f":"INDEX($D102:$I102,L$98)","v":1},0]
[null,null,"HC and Grade",{"$f":"D$134^D$127","v":1},{"$f":"E$134^E$127","v":{"$error":"#VALUE!"}},{"$f":"F$134^F$127","v":1},{"$f":"G$134^G$127","v":1},0,{"$f":"I$134^I$127","v":{"$error":"#VALUE!"}},null,{"$f":"INDEX($D103:$I103,K$98)","v":1},{"$f":"INDEX($D103:$I103,L$98)","v":{"$error":"#VALUE!"}},0]
[null,null,"HC and VC Crest type I",{"$f":"D$135^D$128","v":1},{"$f":"E$135^E$128","v":1},{"$f":"F$135^F$128","v":1},{"$f":"G$135^G$128","v":1},0,{"$f":"I$135^I$128","v":{"$error":"#VALUE!"}},null,{"$f":"INDEX($D104:$I104,K$98)","v":1},{"$f":"INDEX($D104:$I104,L$98)","v":1},0]
[null,null,"HC and VC Sag type I",{"$f":"D$136^D$129","v":1},{"$f":"E$136^E$129","v":1},{"$f":"F$136^F$129","v":1},{"$f":"G$136^G$129","v":1},0,{"$f":"I$136^I$129","v":{"$error":"#VALUE!"}},null,{"$f":"INDEX($D105:$I105,K$98)","v":1},{"$f":"INDEX($D105:$I105,L$98)","v":1},0]
[null,null,"HC and VC Crest type II",{"$f":"D$137^D$130","v":1},{"$f":"E$137^E$130","v":1},{"$f":"F$137^F$130","v":1},{"$f":"G$137^G$130","v":1},0,{"$f":"I$137^I$130","v":{"$error":"#VALUE!"}},{"$f":"1-I111/E111","v":{"$error":"#VALUE!"}},{"$f":"INDEX($D106:$I106,K$98)","v":1},{"$f":"INDEX($D106:$I106,L$98)","v":1},0]
[null,null,"HC and VC Sag type II",{"$f":"D$138^D$131","v":1},{"$f":"E$138^E$131","v":1},{"$f":"F$138^F$131","v":1},{"$f":"G$138^G$131","v":1},0,{"$f":"I$138^I$131","v":{"$error":"#VALUE!"}},{"$f":"1-I112/E112","v":{"$error":"#VALUE!"}},{"$f":"INDEX($D107:$I107,K$98)","v":1},{"$f":"INDEX($D107:$I107,L$98)","v":1},0]
[null,null,"Add TWLTL",{"$f":"IF(D$43=\"No\",1,CMFs!$F$17)","v":0.71},{"$f":"IF(E$43=\"No\",1,CMFs!$F$17)","v":1},{"$f":"IF(F$43=\"No\",1,CMFs!$F$17)","v":0.71},{"$f":"IF(G$43=\"No\",1,CMFs!$F$17)","v":0.71},0,{"$f":"IF(I$43=\"No\",1,CMFs!$F$17)","v":1},{"$f":"1-I113/E113","v":{"$error":"#VALUE!"}},{"$f":"INDEX($D108:$I108,K$98)","v":0.71},{"$f":"INDEX($D108:$I108,L$98)","v":1},-0.40845070422535223]
[null,null,"Passing Lane Type",{"$f":"IF(ISNUMBER(INDEX(PassLNCMF, MATCH(D44,Passing_Lane_Type,0))),INDEX(PassLNCMF, MATCH(D44,Passing_Lane_Type,0)),1)","v":1},{"$f":"IF(ISNUMBER(INDEX(PassLNCMF, MATCH(E44,Passing_Lane_Type,0))),INDEX(PassLNCMF, MATCH(E44,Passing_Lane_Type,0)),1)","v":1},{"$f":"IF(ISNUMBER(INDEX(PassLNCMF, MATCH(F44,Passing_Lane_Type,0))),INDEX(PassLNCMF, MATCH(F44,Passing_Lane_Type,0)),1)","v":1},{"$f":"IF(ISNUMBER(INDEX(PassLNCMF, MATCH(G44,Passing_Lane_Type,0))),INDEX(PassLNCMF, MATCH(G44,Passing_Lane_Type,0)),1)","v":1},0,{"$f":"IF(ISNUMBER(INDEX(PassLNCMF, MATCH(I44,Passing_Lane_Type,0))),INDEX(PassLNCMF, MATCH(I44,Passing_Lane_Type,0)),1)","v":0.65},{"$f":"1-I114/E114","v":{"$error":"#VALUE!"}},{"$f":"INDEX($D109:$I109,K$98)","v":1},{"$f":"INDEX($D109:$I109,L$98)","v":1},0]
[null,null,null,null,null,null,null,null,null,{"$f":"I115/E115","v":{"$error":"#VALUE!"}}]
[null,null,"COMBINED Calculated CMF",{"$f":"+D100*D101*D102*D103*D104*D105*D106*D107*D108*D109","v":{"$error":"#N/A"}},{"$f":"+E100*E101*E102*E103*E104*E105*E106*E107*E108*E109","v":{"$error":"#VALUE!"}},{"$f":"+F100*F101*F102*F103*F104*F105*F106*F107*F108*F109","v":{"$error":"#N/A"}},{"$f":"+G100*G101*G102*G103*G104*G105*G106*G107*G108*G109","v":{"$error":"#N/A"}},{"$f":"IF($I$2=\"Existing\",(D111),(IF($I$2=\"Design 1\",(F111),(IF($I$2=\"Design 2\",(G111),(IF($I$2=\"Optimal\",(I111),E111)))))))","v":{"$error":"#VALUE!"}},{"$f":"+I100*I101*I102*I103*I104*I105*I106*I107*I108*I109","v":{"$error":"#VALUE!"}},null,{"$f":"INDEX($D111:$I111,K$98)","v":{"$error":"#N/A"}},{"$f":"INDEX($D111:$I111,L$98)","v":{"$error":"#VALUE!"}},{"$f":"IF(ISERROR(1-L111/K111), 0, 1-L111/K111)","v":0}]
[null,null,"Calculated Relative to Design Standards (Column E)",{"$f":"+D111/$E$111","v":{"$error":"#N/A"}},{"$error":"#VALUE!"},{"$error":"#N/A"},{"$error":"#N/A"},{"$error":"#VALUE!"},{"$error":"#VALUE!"},null,{"$f":"INDEX($D112:$I112,K$98)","v":{"$error":"#N/A"}},{"$f":"INDEX($D112:$I112,L$98)","v":{"$error":"#VALUE!"}},0]
[null,null,"P(Crash)",{"$f":"+D112/(D112+1)","v":{"$error":"#N/A"}},{"$error":"#VALUE!"},{"$error":"#N/A"},{"$error":"#N/A"},{"$error":"#VALUE!"},{"$error":"#VALUE!"},null,{"$f":"INDEX($D113:$I113,K$98)","v":{"$error":"#N/A"}},{"$f":"INDEX($D113:$I113,L$98)","v":{"$error":"#VALUE!"}},0]
[null,null,"Factor Change on S curve",{"$f":"+D113/$E$113","v":{"$error":"#N/A"}},{"$error":"#VALUE!"},{"$error":"#N/A"},{"$error":"#N/A"},{"$error":"#VALUE!"},{"$error":"#VALUE!"},null,{"$f":"INDEX($D114:$I114,K$98)","v":{"$error":"#N/A"}},{"$f":"INDEX($D114:$I114,L$98)","v":{"$error":"#VALUE!"}},0]
[null,null,"Adjust to Scale of 100",{"$f":"+$I$114/D114*100","v":{"$error":"#VALUE!"}},{"$error":"#VALUE!"},{"$error":"#VALUE!"},{"$error":"#VALUE!"},{"$error":"#VALUE!"},{"$error":"#VALUE!"}]
[null,null,"Unadjusted Combined Relative to Standard",{"$f":"+D111/$E$111","v":{"$error":"#N/A"}},{"$error":"#VALUE!"},{"$error":"#N/A"},{"$error":"#N/A"},{"$error":"#VALUE!"},{"$error":"#VALUE!"},null,{"$f":"INDEX($D116:$I116,K$98)","v":{"$error":"#N/A"}},{"$f":"INDEX($D116:$I116,L$98)","v":{"$error":"#VALUE!"}},{"$f":"IF(ISERROR(1-L116/K116), 0, 1-L116/K116)","v":0}]
[null,null,null,null,null,null,null,null,null,{"$f":"I122/E122","v":{"$error":"#VALUE!"}}]
[null,null,"Adjusted for PA Basis",{"$f":"+D111*(1+1)/(1+D111*1)","v":{"$error":"#N/A"}},{"$error":"#VALUE!"},{"$error":"#N/A"},{"$error":"#N/A"},{"$f":"IF($I$2=\"Existing\",(D118),(IF($I$2=\"Design 1\",(F118),(IF($I$2=\"Design 2\",(G118),(IF($I$2=\"Optimal\",(I118),E118)))))))","v":{"$error":"#VALUE!"}},{"$error":"#VALUE!"},null,{"$f":"INDEX($D118:$I118,K$98)","v":{"$error":"#N/A"}},{"$f":"INDEX($D118:$I118,L$98)","v":{"$error":"#VALUE!"}},{"$f":"IF(ISERROR(1-L118/K118), 0, 1-L118/K118)","v":0}]
[null,null,"Corrected by Odds Ratio",{"$f":"+D118/$E$118","v":{"$error":"#N/A"}},{"$error":"#VALUE!"},{"$error":"#N/A"},{"$error":"#N/A"},{"$f":"IF($I$2=\"Existing\",(D119),(IF($I$2=\"Design 1\",(F119),(IF($I$2=\"Design 2\",(G119),(IF($I$2=\"Optimal\",(I119),E119)))))))","v":{"$error":"#VALUE!"}},{"$error":"#VALUE!"},null,{"$f":"INDEX($D119:$I119,K$98)","v":{"$error":"#N/A"}},{"$f":"INDEX($D119:$I119,L$98)","v":{"$error":"#VALUE!"}},0]
[null,null,"Pinned s",{"$f":"(1/D119)^$D123","v":{"$error":"#N/A"}},{"$error":"#VALUE!"},{"$error":"#N/A"},{"$error":"#N/A"},{"$error":"#VALUE!"},{"$error":"#VALUE!"},{"$f":"I125/E125","v":{"$error":"#VALUE!"}},{"$f":"INDEX($D120:$I120,K$98)","v":{"$error":"#N/A"}},{"$f":"INDEX($D120:$I120,L$98)","v":{"$error":"#VALUE!"}},0]
[null,null,null,{"$f":"(D120+$F124-1)/(1+(D120+$F124-1))","v":{"$error":"#N/A"}},{"$error":"#VALUE!"},{"$error":"#N/A"},{"$error":"#N/A"},{"$error":"#VALUE!"},{"$error":"#VALUE!"},null,{"$f":"INDEX($D121:$I121,K$98)","v":{"$error":"#N/A"}},{"$f":"INDEX($D121:$I121,L$98)","v":{"$error":"#VALUE!"}},0]
[null,null,"Score Odds Ratio with Optimal (old)",{"$f":"MIN(ROUND($I$119/D119*Construction!$I$8,0),$I122)","v":{"$error":"#VALUE!"}},{"$f":"MIN(ROUND($I$119/E119*Construction!$I$8,0),$I122)","v":{"$error":"#VALUE!"}},{"$f":"MIN(ROUND($I$119/F119*Construction!$I$8,0),$I122)","v":{"$error":"#VALUE!"}},{"$f":"MIN(ROUND($I$119/G119*Construction!$I$8,0),$I122)","v":{"$error":"#VALUE!"}},{"$f":"IF($I$2=\"Existing\",(D122),(IF($I$2=\"Design 1\",(F122),(IF($I$2=\"Design 2\",(G122),(IF($I$2=\"Optimal\",(I122),E122)))))))","v":{"$error":"#VALUE!"}},{"$f":"ROUND($I$119/I119*Construction!$I$8,0)","v":{"$error":"#VALUE!"}}]
[null,null,"Logistic1",{"$f":"LN((D124/(1-D124))/(0.5/0.5))/LN($E119/I119)","v":{"$error":"#VALUE!"}}]
[null,null,"Logistic Param",0.999,null,{"$f":"0.7/0.3","v":2.3333333333333335}]
[null,null,"Score ",{"$f":"MIN(ROUND(D121*Construction!$I$8,0),$I122)","v":{"$error":"#N/A"}},{"$f":"MIN(ROUND(E121*Construction!$I$8,0),$I122)","v":{"$error":"#VALUE!"}},{"$f":"MIN(ROUND(F121*Construction!$I$8,0),$I122)","v":{"$error":"#N/A"}},{"$f":"MIN(ROUND(G121*Construction!$I$8,0),$I122)","v":{"$error":"#N/A"}},{"$f":"MIN(ROUND(H121*Construction!$I$8,0),$I122)","v":{"$error":"#VALUE!"}},{"$f":"MIN(ROUND(I121*Construction!$I$8,0),$I122)","v":{"$error":"#VALUE!"}}]
[]
[null,null,"HC and Grade",{"$f":"IF($B$135,0,1)","v":1},{"$f":"IF($B$135,0,1)","v":1},{"$f":"IF($B$135,0,1)","v":1},{"$f":"IF($B$135,0,1)","v":1},{"$f":"IF($I$2=\"Existing\",(D127),(IF($I$2=\"Design 1\",(F127),(IF($I$2=\"Design 2\",(G127),(IF($I$2=\"Optimal\",(I127),E127)))))))","v":1},{"$f":"IF($B$135,0,1)","v":1}]
[null,null,"HC and VC Crest type I",{"$f":"IF(AND($B$135=1,SIGN(D$36)=1,ABS(D$36)<=ABS(D$36-D$37),D$42=\"Crest\"),1,0)","v":0},{"$f":"IF(AND($B$135=1, SIGN(IF(ISNUMBER(E$36),E$36,0))=1,ABS(IF(ISNUMBER(E$36),E$36,0)) <= ABS(IF(ISNUMBER(E$36),E$36,0)-IF(ISNUMBER(E$37),E$37,0)),E$42=\"Crest\"),1,0)","v":0},{"$f":"IF(AND($B$135=1,SIGN(F$36)=1,ABS(F$36)<=ABS(F$36-F$37),F$42=\"Crest\"),1,0)","v":0},{"$f":"IF(AND($B$135=1,SIGN(G$36)=1,ABS(G$36)<=ABS(G$36-G$37),G$42=\"Crest\"),1,0)","v":0},{"$f":"IF($I$2=\"Existing\",(D128),(IF($I$2=\"Design 1\",(F128),(IF($I$2=\"Design 2\",(G128),(IF($I$2=\"Optimal\",(I128),E128)))))))","v":0},{"$f":"IF(AND($B$135=1,SIGN(I$36)=1,ABS(I$36)<=ABS(I$36-IF(ISNUMBER(I$37), I$37,0)),I$42=\"Crest\"),1,0)","v":{"$error":"#VALUE!"}}]
["HC?",null,"HC and VC Sag type I",{"$f":"IF(AND($B$135=1,SIGN(D$36)=1,ABS(D$36)<=ABS(D$36-D$37),D$42=\"Sag\"),1,0)","v":0},{"$f":"IF(AND($B$135=1, SIGN(IF(ISNUMBER(E$36),E$36,0))=1,ABS(IF(ISNUMBER(E$36),E$36,0)) <= ABS(IF(ISNUMBER(E$36),E$36,0)-IF(ISNUMBER(E$37),E$37,0)),E$42=\"Sag\"),1,0)","v":0},{"$f":"IF(AND($B$135=1,SIGN(F$36)=1,ABS(F$36)<=ABS(F$36-F$37),F$42=\"Sag\"),1,0)","v":0},{"$f":"IF(AND($B$135=1,SIGN(G$36)=1,ABS(G$36)<=ABS(G$36-G$37),G$42=\"Sag\"),1,0)","v":0},{"$f":"IF($I$2=\"Existing\",(D129),(IF($I$2=\"Design 1\",(F129),(IF($I$2=\"Design 2\",(G129),(IF($I$2=\"Optimal\",(I129),E129)))))))","v":0},{"$f":"IF(AND($B$135=1,SIGN(I$36)=1,ABS(I$36)<=ABS(I$36-IF(ISNUMBER(I$37), I$37,0)),I$42=\"Sag\"),1,0)","v":{"$error":"#VALUE!"}}]
["VC?",null,"HC and VC Crest type II",{"$f":"IF(AND($B$135=1,D$42=\"Crest\",D$128=0),1,0)","v":0},{"$f":"IF(AND($B$135=1,E$42=\"Crest\",E$128=0),1,0)","v":0},{"$f":"IF(AND($B$135=1,F$42=\"Crest\",F$128=0),1,0)","v":0},{"$f":"IF(AND($B$135=1,G$42=\"Crest\",G$128=0),1,0)","v":0},{"$f":"IF($I$2=\"Existing\",(D130),(IF($I$2=\"Design 1\",(F130),(IF($I$2=\"Design 2\",(G130),(IF($I$2=\"Optimal\",(I130),E130)))))))","v":0},{"$f":"IF(AND($B$135=1,I$42=\"Crest\",I$128=0),1,0)","v":{"$error":"#VALUE!"}}]
[null,null,"HC and VC Sag type II",{"$f":"IF(AND($B$135=1,D$42=\"Sag\",D$129=0),1,0)","v":0},{"$f":"IF(AND($B$135=1,E$42=\"Sag\",E$129=0),1,0)","v":0},{"$f":"IF(AND($B$135=1,F$42=\"Sag\",F$129=0),1,0)","v":0},{"$f":"IF(AND($B$135=1,G$42=\"Sag\",G$129=0),1,0)","v":0},{"$f":"IF($I$2=\"Existing\",(D131),(IF($I$2=\"Design 1\",(F131),(IF($I$2=\"Design 2\",(G131),(IF($I$2=\"Optimal\",(I131),E131)))))))","v":0},{"$f":"IF(AND($B$135=1,I$42=\"Sag\",I$129=0),1,0)","v":{"$error":"#VALUE!"}}]
[null,"Yes/No"]
[null,null,"HC and VC:",null,{"$f":"EXP(0.042*ABS(D$36)+$B$134*0.16*LN(2*5730/IF(ISNUMBER(E$29),E$29,1)))","v":1}]
[null,{"$f":"IF(B27=\"Yes\",1,0)","v":0},"HC and Grade",{"$f":"IF($B$135=0,EXP(0.042*ABS(D$36)+$B$134*0.16*LN(2*5730/D$141)+4.16*$B$134/D$141/IF(ISNUMBER(D$30),D$30,999999)),1)","v":1},{"$f":"IF($B$135=0,EXP(0.042*ABS(E$36)+$B$134*0.16*LN(2*5730/E$141)+4.16*$B$134/E$141/IF(ISNUMBER(E$30),E$30,999999)),1)","v":{"$error":"#VALUE!"}},1,1,{"$f":"IF($B$135=0,EXP(0.042*ABS(H$36)+$B$134*0.16*LN(2*5730/IF(ISNUMBER(H$29),H$29,1))+4.16*$B$134/IF(ISNUMBER(H$29),H$29,1)/IF(ISNUMBER(H$30),H$30,1)),1)","v":{"$error":"#DIV/0!"}},{"$error":"#VALUE!"},null,{"$f":"INDEX($D134:$I134,K$98)","v":1},{"$f":"INDEX($D134:$I134,L$98)","v":{"$error":"#VALUE!"}},{"$f":"IF(ISERROR(1-L134/K134), 0, 1-L134/K134)","v":0}]
[null,{"$f":"IF(B34=\"Yes\",1,0)","v":0},"HC and VC Crest type I",{"$f":"IF($B$135=0,1,EXP(0.005648908*5730*ABS(+D$36-D$37)*$B$135/D$141*$B$134))","v":1},{"$f":"IF($B$135=0,1,EXP(0.005648908*5730*ABS(+E$36-E$37)*$B$135/E$141*$B$134))","v":1},1,1,{"$f":"IF($I$2=\"Existing\",(D135),(IF($I$2=\"Design 1\",(F135),(IF($I$2=\"Design 2\",(G135),(IF($I$2=\"Optimal\",(I135),E135)))))))","v":1},1,null,{"$f":"INDEX($D135:$I135,K$98)","v":1},{"$f":"INDEX($D135:$I135,L$98)","v":1},0]
[null,null,"HC and VC Sag type I",{"$f":"IF($B$135=0,1,EXP(9.15857042*$B$135/D$142+0.010284958*5730*$B$135*$B$134*ABS(+D$36-D$37)/D$141))","v":1},{"$f":"IF($B$135=0,1,EXP(9.15857042*$B$135/E$142+0.010284958*5730*$B$135*$B$134*ABS(+E$36-E$37)/E$141))","v":1},1,1,{"$f":"IF($I$2=\"Existing\",(D136),(IF($I$2=\"Design 1\",(F136),(IF($I$2=\"Design 2\",(G136),(IF($I$2=\"Optimal\",(I136),E136)))))))","v":1},1,null,{"$f":"INDEX($D136:$I136,K$98)","v":1},{"$f":"INDEX($D136:$I136,L$98)","v":1},0]
[null,null,"HC and VC Crest type II",{"$f":"IF($B$135=0,1,EXP(0.005648908*5730*ABS(+D$36-D$37)*$B$135/D$141*$B$134))","v":1},{"$f":"IF($B$135=0,1,EXP(0.005648908*5730*ABS(+E$36-E$37)*$B$135/E$141*$B$134))","v":1},1,1,{"$f":"IF($I$2=\"Existing\",(D137),(IF($I$2=\"Design 1\",(F137),(IF($I$2=\"Design 2\",(G137),(IF($I$2=\"Optimal\",(I137),E137)))))))","v":1},1,null,{"$f":"INDEX($D137:$I137,K$98)","v":1},{"$f":"INDEX($D137:$I137,L$98)","v":1},0]
[null,null,"HC and VC Sag type II",{"$f":"IF($B$135=0,1,(0.246011284*EXP(LN(0.188*2*5730/D$141)*$B$134)+0.7514288716*EXP(0.022*5730/D$141*ABS(D$36-D$37)*$B$135*$B$134)))","v":1},{"$f":"IF($B$135=0,1,(0.246011284*EXP(LN(0.188*2*5730/E$141)*$B$134)+0.7514288716*EXP(0.022*5730/E$141*ABS(E$36-E$37)*$B$135*$B$134)))","v":1},1,1,{"$f":"IF($I$2=\"Existing\",(D138),(IF($I$2=\"Design 1\",(F138),(IF($I$2=\"Design 2\",(G138),(IF($I$2=\"Optimal\",(I138),E138)))))))","v":1},1,null,{"$f":"INDEX($D138:$I138,K$98)","v":1},{"$f":"INDEX($D138:$I138,L$98)","v":1},0]
[]
[null,null,"Combined HZ and VT",{"$f":"MMULT(TRANSPOSE(D127:D131),D134:D138)","v":1},{"$f":"MMULT(TRANSPOSE(E127:E131),E134:E138)","v":{"$error":"#VALUE!"}},{"$f":"MMULT(TRANSPOSE(F127:F131),F134:F138)","v":1},{"$f":"MMULT(TRANSPOSE(G127:G131),G134:G138)","v":1},{"$f":"IF($I$2=\"Existing\",(D140),(IF($I$2=\"Design 1\",(F140),(IF($I$2=\"Design 2\",(G140),(IF($I$2=\"Optimal\",(I140),E140)))))))","v":{"$error":"#VALUE!"}},{"$f":"MMULT(TRANSPOSE(I127:I131),I134:I138)","v":{"$error":"#VALUE!"}},null,{"$f":"INDEX($D140:$I140,K$98)","v":1},{"$f":"INDEX($D140:$I140,L$98)","v":{"$error":"#VALUE!"}},{"$f":"IF(ISERROR(1-L140/K140), 0, 1-L140/K140)","v":0}]
[null,null,"effective R for calculation",{"$f":"IF(ISNUMBER(D29), D29, 99999999)","v":99999999},{"$f":"IF(ISNUMBER(E29), E29, 99999999)","v":590},99999999,99999999,null,590]
[null,null,"effective K for calculation",{"$f":"IF(ISNUMBER(D39), D39, 9999999)","v":9999999},{"$f":"IF(ISNUMBER(E39), E39, 9999999)","v":9999999},9999999,9999999,null,9999999]
[null,"Traffic"]
[null,null,null,"Existing","Standard","Design 1","Design 2"]
[null,null,"Advance static curve warning signs",{"$f":"IF(AND($B$27=\"Yes\",D$52=\"Yes\"),(Traffic!$F$4-1)*AVERAGE(Constraints!$F$37,Constraints!$H$37)/Constraints!$D$37+1,1)","v":1},{"$f":"IF(AND($B$27=\"Yes\",E$52=\"Yes\"),(Traffic!$F$4-1)*AVERAGE(Constraints!$F$37,Constraints!$H$37)/Constraints!$D$37+1,1)","v":1},{"$f":"IF(AND($B$27=\"Yes\",F$52=\"Yes\"),(Traffic!$F$4-1)*AVERAGE(Constraints!$F$37,Constraints!$H$37)/Constraints!$D$37+1,1)","v":1},{"$f":"IF(AND($B$27=\"Yes\",G$52=\"Yes\"),(Traffic!$F$4-1)*AVERAGE(Constraints!$F$37,Constraints!$H$37)/Constraints!$D$37+1,1)","v":1},{"$f":"IF($I$2=\"Existing\",(D145),(IF($I$2=\"Design 1\",(F145),(IF($I$2=\"Design 2\",(G145),(IF($I$2=\"Optimal\",(I145),E145)))))))","v":1},{"$f":"IF(AND($B$27=\"Yes\",I$52=\"Yes\"),(Traffic!$F$4-1)*AVERAGE(Constraints!$F$37,Constraints!$H$37)/Constraints!$D$37+1,1)","v":1},null,{"$f":"INDEX($D145:$I145,K$98)","v":1},{"$f":"INDEX($D145:$I145,L$98)","v":1},{"$f":"IF(ISERROR(1-L145/K145), 0, 1-L145/K145)","v":0}]
[null,null,"Install chevron signs on horizontal curves",{"$f":"IF(D$53=\"No\",1,(IF(AND($B$27=\"Yes\",D$24<11.5),((Traffic!$F$6-1)*(Constraints!$E$35+Constraints!$E$31))+1,1)))","v":1},{"$f":"IF(E$53=\"No\",1,(IF(AND($B$27=\"Yes\",E$24<11.5),((Traffic!$F$6-1)*(Constraints!$E$35+Constraints!$E$31))+1,1)))","v":1},{"$f":"IF(F$53=\"No\",1,(IF(AND($B$27=\"Yes\",F$24<11.5),((Traffic!$F$6-1)*(Constraints!$E$35+Constraints!$E$31))+1,1)))","v":1},{"$f":"IF(G$53=\"No\",1,(IF(AND($B$27=\"Yes\",G$24<11.5),((Traffic!$F$6-1)*(Constraints!$E$35+Constraints!$E$31))+1,1)))","v":1},{"$f":"IF($I$2=\"Existing\",(D146),(IF($I$2=\"Design 1\",(F146),(IF($I$2=\"Design 2\",(G146),(IF($I$2=\"Optimal\",(I146),E146)))))))","v":1},{"$f":"IF(I$53=\"No\",1,(IF(AND($B$27=\"Yes\",I$24<11.5),((Traffic!$F$6-1)*(Constraints!$E$35+Constraints!$E$31))+1,1)))","v":1},null,{"$f":"INDEX($D146:$I146,K$98)","v":1},{"$f":"INDEX($D146:$I146,L$98)","v":1},0]
[null,null,"Install post-mounted delineators",{"$f":"IF(AND($B$27=\"Yes\",D$54=\"Yes\"),(Traffic!$F$12-1)*Constraints!$E$36+1,1)","v":1},{"$f":"IF(AND($B$27=\"Yes\",E$54=\"Yes\"),(Traffic!$F$12-1)*Constraints!$E$36+1,1)","v":1},{"$f":"IF(AND($B$27=\"Yes\",F$54=\"Yes\"),(Traffic!$F$12-1)*Constraints!$E$36+1,1)","v":1},{"$f":"IF(AND($B$27=\"Yes\",G$54=\"Yes\"),(Traffic!$F$12-1)*Constraints!$E$36+1,1)","v":1},{"$f":"IF($I$2=\"Existing\",(D147),(IF($I$2=\"Design 1\",(F147),(IF($I$2=\"Design 2\",(G147),(IF($I$2=\"Optimal\",(I147),E147)))))))","v":1},{"$f":"IF(AND($B$27=\"Yes\",I$54=\"Yes\"),(Traffic!$F$12-1)*Constraints!$E$36+1,1)","v":1},null,{"$f":"INDEX($D147:$I147,K$98)","v":1},{"$f":"INDEX($D147:$I147,L$98)","v":1},0]
[null,null,"Install edgeline  or Profile pavement markings ",{"$f":"IF(D$55=\"Yes\",Traffic!$F$18*0.5+((Traffic!$F$20*(Constraints!$H$36+Constraints!$H$32)+1*(Constraints!$H$37-(Constraints!$H$36+Constraints!$H$32)))/Constraints!$H$37)*0.5,1)","v":1},{"$f":"IF(E$55=\"Yes\",Traffic!$F$18*0.5+((Traffic!$F$20*(Constraints!$H$36+Constraints!$H$32)+1*(Constraints!$H$37-(Constraints!$H$36+Constraints!$H$32)))/Constraints!$H$37)*0.5,1)","v":0.86175881308648239},{"$f":"IF(F$55=\"Yes\",Traffic!$F$18*0.5+((Traffic!$F$20*(Constraints!$H$36+Constraints!$H$32)+1*(Constraints!$H$37-(Constraints!$H$36+Constraints!$H$32)))/Constraints!$H$37)*0.5,1)","v":1},{"$f":"IF(G$55=\"Yes\",Traffic!$F$18*0.5+((Traffic!$F$20*(Constraints!$H$36+Constraints!$H$32)+1*(Constraints!$H$37-(Constraints!$H$36+Constraints!$H$32)))/Constraints!$H$37)*0.5,1)","v":1},{"$f":"IF($I$2=\"Existing\",(D148),(IF($I$2=\"Design 1\",(F148),(IF($I$2=\"Design 2\",(G148),(IF($I$2=\"Optimal\",(I148),E148)))))))","v":0.86175881308648239},{"$f":"IF(I$55=\"Yes\",Traffic!$F$18*0.5+((Traffic!$F$20*(Constraints!$H$36+Constraints!$H$32)+1*(Constraints!$H$37-(Constraints!$H$36+Constraints!$H$32)))/Constraints!$H$37)*0.5,1)","v":0.86175881308648239},null,{"$f":"INDEX($D148:$I148,K$98)","v":1},{"$f":"INDEX($D148:$I148,L$98)","v":0.86175881308648239},0.13824118691351761]
[null,null,"Profiles",1,1,1,1,1,1,null,{"$f":"INDEX($D149:$I149,K$98)","v":1},{"$f":"INDEX($D149:$I149,L$98)","v":1},0]
[null,null,"Shoulder rumble strips",{"$f":"IF(D$56=\"No\",1,(Traffic!$F$27*(Constraints!$H$36+Constraints!$H$32)+1*(Constraints!$H$37-(Constraints!$H$36+Constraints!$H$32)))/Constraints!$H$37)","v":0.89760950690192376},{"$f":"IF(E$56=\"No\",1,(Traffic!$F$27*(Constraints!$H$36+Constraints!$H$32)+1*(Constraints!$H$37-(Constraints!$H$36+Constraints!$H$32)))/Constraints!$H$37)","v":0.89760950690192376},{"$f":"IF(F$56=\"No\",1,(Traffic!$F$27*(Constraints!$H$36+Constraints!$H$32)+1*(Constraints!$H$37-(Constraints!$H$36+Constraints!$H$32)))/Constraints!$H$37)","v":0.89760950690192376},{"$f":"IF(G$56=\"No\",1,(Traffic!$F$27*(Constraints!$H$36+Constraints!$H$32)+1*(Constraints!$H$37-(Constraints!$H$36+Constraints!$H$32)))/Constraints!$H$37)","v":0.89760950690192376},{"$f":"IF($I$2=\"Existing\",(D150),(IF($I$2=\"Design 1\",(F150),(IF($I$2=\"Design 2\",(G150),(IF($I$2=\"Optimal\",(I150),E150)))))))","v":0.89760950690192376},{"$f":"IF(I$56=\"No\",1,(Traffic!$F$27*(Constraints!$H$36+Constraints!$H$32)+1*(Constraints!$H$37-(Constraints!$H$36+Constraints!$H$32)))/Constraints!$H$37)","v":0.89760950690192376},null,{"$f":"INDEX($D150:$I150,K$98)","v":0.89760950690192376},{"$f":"INDEX($D150:$I150,L$98)","v":0.89760950690192376},0]
[null,null,"Install centerline rumble strips",{"$f":"IF(D$57=\"No\",1,Traffic!$F$30)","v":0.86},{"$f":"IF(E$57=\"No\",1,Traffic!$F$30)","v":1},{"$f":"IF(F$57=\"No\",1,Traffic!$F$30)","v":0.86},{"$f":"IF(G$57=\"No\",1,Traffic!$F$30)","v":0.86},{"$f":"IF($I$2=\"Existing\",(D151),(IF($I$2=\"Design 1\",(F151),(IF($I$2=\"Design 2\",(G151),(IF($I$2=\"Optimal\",(I151),E151)))))))","v":1},{"$f":"IF(I$57=\"No\",1,Traffic!$F$30)","v":0.86},null,{"$f":"INDEX($D151:$I151,K$98)","v":0.86},{"$f":"INDEX($D151:$I151,L$98)","v":1},-0.16279069767441867]
[null,null,"Driveway Density (driveways per mile)",{"$f":"EXP(-LN(Traffic!$F$32)*(D$58-$E$58))","v":0.81707280688754669},{"$f":"EXP(-LN(Traffic!$F$32)*(E$58-$E$58))","v":1},{"$f":"EXP(-LN(Traffic!$F$32)*(F$58-$E$58))","v":0.81707280688754669},{"$f":"EXP(-LN(Traffic!$F$32)*(G$58-$E$58))","v":0.81707280688754669},{"$f":"IF($I$2=\"Existing\",(D152),(IF($I$2=\"Design 1\",(F152),(IF($I$2=\"Design 2\",(G152),(IF($I$2=\"Optimal\",(I152),E152)))))))","v":1},{"$f":"EXP(-LN(Traffic!$F$32)*(I$58-$E$58))","v":0.81707280688754669},null,{"$f":"INDEX($D152:$I152,K$98)","v":0.81707280688754669},{"$f":"INDEX($D152:$I152,L$98)","v":1},-0.22388114201141129]
[null,null,"Install lighting",{"$f":"IF(D$59=\"No\",1,1-(((1-Traffic!$F$55*Constraints!$H$37-Constraints!$F$37/3)+((1-Traffic!$F$55*Constraints!$D$37-Constraints!$H$37)))*$S$19+((1-Traffic!$F$57)*Constraints!$F$37/3))/Constraints!$D$37)","v":0.977040446881142},{"$f":"IF(E$59=\"No\",1,1-(((1-Traffic!$F$55*Constraints!$H$37-Constraints!$F$37/3)+((1-Traffic!$F$55*Constraints!$D$37-Constraints!$H$37)))*$S$19+((1-Traffic!$F$57)*Constraints!$F$37/3))/Constraints!$D$37)","v":1},{"$f":"IF(F$59=\"No\",1,1-(((1-Traffic!$F$55*Constraints!$H$37-Constraints!$F$37/3)+((1-Traffic!$F$55*Constraints!$D$37-Constraints!$H$37)))*$S$19+((1-Traffic!$F$57)*Constraints!$F$37/3))/Constraints!$D$37)","v":0.977040446881142},{"$f":"IF(G$59=\"No\",1,1-(((1-Traffic!$F$55*Constraints!$H$37-Constraints!$F$37/3)+((1-Traffic!$F$55*Constraints!$D$37-Constraints!$H$37)))*$S$19+((1-Traffic!$F$57)*Constraints!$F$37/3))/Constraints!$D$37)","v":0.977040446881142},{"$f":"IF($I$2=\"Existing\",(D153),(IF($I$2=\"Design 1\",(F153),(IF($I$2=\"Design 2\",(G153),(IF($I$2=\"Optimal\",(I153),E153)))))))","v":1},{"$f":"IF(I$59=\"No\",1,1-(((1-Traffic!$F$55*Constraints!$H$37-Constraints!$F$37/3)+((1-Traffic!$F$55*Constraints!$D$37-Constraints!$H$37)))*$S$19+((1-Traffic!$F$57)*Constraints!$F$37/3))/Constraints!$D$37)","v":0.977040446881142},null,{"$f":"INDEX($D153:$I153,K$98)","v":0.977040446881142},{"$f":"INDEX($D153:$I153,L$98)","v":1},-2.3499081529478438E-2]
[null,null,"Pavement friction (skid number)",{"$f":"EXP(LN(Traffic!$F$49)*(D$60-$E$60))","v":1.3972521419325798},{"$f":"EXP(LN(Traffic!$F$49)*(E$60-$E$60))","v":1},{"$f":"IF(MATCH(F60,SkidNums,0)=3, $D154,EXP(LN(Traffic!$F$49)*(RIGHT(F$60,2)-$E$60)))","v":{"$error":"#N/A"}},{"$f":"IF(MATCH(G60,SkidNums,0)=3, $D154,EXP(LN(Traffic!$F$49)*(RIGHT(G$60,2)-$E$60)))","v":{"$error":"#N/A"}},{"$f":"IF($I$2=\"Existing\",(D154),(IF($I$2=\"Design 1\",(F154),(IF($I$2=\"Design 2\",(G154),(IF($I$2=\"Optimal\",(I154),E154)))))))","v":1},{"$f":"EXP(LN(Traffic!$F$49)*(I$60-$E$60))","v":0.85753553626991963},null,{"$f":"INDEX($D154:$I154,K$98)","v":1.3972521419325798},{"$f":"INDEX($D154:$I154,L$98)","v":1},0.28430956017940245]
[]
[]
[null,null,"COMBINED Calculated CMF",{"$f":"+D145*D146*D147*D148*D149*D150*D151*D152*D153*D154","v":0.86106111787419426},{"$f":"+E145*E146*E147*E148*E149*E150*E151*E152*E153*E154","v":0.7735229032829446},{"$f":"+F145*F146*F147*F148*F149*F150*F151*F152*F153*F154","v":{"$error":"#N/A"}},{"$f":"+G145*G146*G147*G148*G149*G150*G151*G152*G153*G154","v":{"$error":"#N/A"}},{"$f":"IF($I$2=\"Existing\",(D157),(IF($I$2=\"Design 1\",(F157),(IF($I$2=\"Design 2\",(G157),(IF($I$2=\"Optimal\",(I157),E157)))))))","v":0.7735229032829446},{"$f":"+I145*I146*I147*I148*I149*I150*I151*I152*I153*I154","v":0.45540422392050506},null,{"$f":"INDEX($D157:$I157,K$98)","v":0.86106111787419426},{"$f":"INDEX($D157:$I157,L$98)","v":0.7735229032829446},{"$f":"IF(ISERROR(1-L157/K157), 0, 1-L157/K157)","v":0.10166318368592209}]
[null,null,"Calculated Relative to Design Standards (Column E)",{"$f":"+D157/$E$157","v":1.1131682258142903},{"$f":"+E157/$E$157","v":1},{"$f":"+F157/$E$157","v":{"$error":"#N/A"}},{"$f":"+G157/$E$157","v":{"$error":"#N/A"}},1,{"$f":"+I157/$E$157","v":0.58874045227064742},null,{"$f":"INDEX($D158:$I158,K$98)","v":1.1131682258142903},{"$f":"INDEX($D158:$I158,L$98)","v":1},0.1016631836859222]
[null,null,"P(Crash)",{"$f":"+D158/(D158+1)","v":0.52677690882151185},{"$f":"+E158/(E158+1)","v":0.5},{"$f":"+F158/(F158+1)","v":{"$error":"#N/A"}},{"$f":"+G158/(G158+1)","v":{"$error":"#N/A"}},0.5,{"$f":"+I158/(I158+1)","v":0.37057056829465901}]
[null,null,"Factor Change on S curve",{"$f":"+D159/$E$159","v":1.0535538176430237},{"$f":"+E159/$E$159","v":1},{"$f":"+F159/$E$159","v":{"$error":"#N/A"}},{"$f":"+G159/$E$159","v":{"$error":"#N/A"}},1,{"$f":"+I159/$E$159","v":0.74114113658931802}]
[null,null,"Adjust to Scale of 100",{"$f":"+$I$114/D160*100","v":{"$error":"#VALUE!"}},{"$f":"+$I$114/E160*100","v":{"$error":"#VALUE!"}},{"$f":"+$I$114/F160*100","v":{"$error":"#VALUE!"}},{"$f":"+$I$114/G160*100","v":{"$error":"#VALUE!"}},{"$error":"#VALUE!"},{"$f":"+$I$114/I160*100","v":{"$error":"#VALUE!"}}]
[null,null,"Unadjusted Combined Relative to Standard",{"$f":"+D157/$E$157","v":1.1131682258142903},{"$f":"+E157/$E$157","v":1},{"$f":"+F157/$E$157","v":{"$error":"#N/A"}},{"$f":"+G157/$E$157","v":{"$error":"#N/A"}},1,{"$f":"+I157/$E$157","v":0.58874045227064742}]
[null,null,null,null,null,null,null,0,null,{"$f":"I168/E168","v":1.4285714285714286}]
[null,null,"Adjusted for PA Basis",{"$f":"+D157*(1+1)/(1+D157*1)","v":0.92534426688549098},{"$f":"+E157*(1+1)/(1+E157*1)","v":0.8723010025425515},{"$f":"+F157*(1+1)/(1+F157*1)","v":{"$error":"#N/A"}},{"$f":"+G157*(1+1)/(1+G157*1)","v":{"$error":"#N/A"}},0.8723010025425515,{"$f":"+I157*(1+1)/(1+I157*1)","v":0.62581132641453641}]
[null,null,"Corrected by Odds Ratio",{"$f":"+D164/$E$164","v":1.0608084413388623},{"$f":"+E164/$E$164","v":1},{"$f":"+F164/$E$164","v":{"$error":"#N/A"}},{"$f":"+G164/$E$164","v":{"$error":"#N/A"}},1,{"$f":"+I164/$E$164","v":0.71742589380322175}]
[null,null,null,{"$f":"(1/D165)^$D169","v":0.29295399474123779},1,{"$error":"#N/A"},{"$error":"#N/A"},1,998.99999999999955,{"$f":"I171/E171","v":1.4285714285714286}]
[null,null,null,{"$f":"(D166+$F170-1)/(1+(D166+$F170-1))","v":0.61923435059440457},0.70000000000000007,{"$error":"#N/A"},{"$error":"#N/A"},0.70000000000000007,0.99900133155792281]
[null,null,"Score Odds Ratio with Optimal as 100 (old)",{"$f":"MIN(ROUND($I$165/D165*Construction!$I$9,0),$I168)","v":14},{"$f":"MIN(ROUND($I$165/E165*Construction!$I$9,0),$I168)","v":14},{"$f":"MIN(ROUND($I$165/F165*Construction!$I$9,0),$I168)","v":{"$error":"#N/A"}},{"$f":"MIN(ROUND($I$165/G165*Construction!$I$9,0),$I168)","v":{"$error":"#N/A"}},null,{"$f":"ROUND($I$165/I165*Construction!$I$9,0)","v":20}]
[null,null,"Logistic1",{"$f":"LN((D170/(1-D170))/(0.5/0.5))/LN($E165/I165)","v":20.798114554240879}]
[null,null,"Logistic Param",0.999,null,{"$f":"0.7/0.3","v":2.3333333333333335}]
[null,null,"Score ",{"$f":"MIN(ROUND(D167*Construction!$I$9,0),$I168)","v":12},{"$f":"MIN(ROUND(E167*Construction!$I$9,0),$I168)","v":14},{"$f":"MIN(ROUND(F167*Construction!$I$9,0),$I168)","v":{"$error":"#N/A"}},{"$f":"MIN(ROUND(G167*Construction!$I$9,0),$I168)","v":{"$error":"#N/A"}},null,{"$f":"MIN(ROUND(I167*Construction!$I$9,0),$I168)","v":20}]
[]
[]
[]
[]
[]
[]
[null,"Roadsde",null,"Existing","Standard","Design 1","Design 2"]
[null,null,null,{"$f":"MID(D72,FIND(\":\",D72,1)+1,FIND(\"H\",D72,1)-FIND(\":\",D72,1)-1)+0","v":{"$error":"#VALUE!"}},{"$f":"MID(E72,FIND(\":\",E72,1)+1,FIND(\"H\",E72,1)-FIND(\":\",E72,1)-1)+0","v":4},{"$f":"MID(F72,FIND(\":\",F72,1)+1,FIND(\"H\",F72,1)-FIND(\":\",F72,1)-1)+0","v":{"$error":"#VALUE!"}},{"$f":"MID(G72,FIND(\":\",G72,1)+1,FIND(\"H\",G72,1)-FIND(\":\",G72,1)-1)+0","v":{"$error":"#VALUE!"}},null,{"$f":"MID(I72,FIND(\":\",I72,1)+1,FIND(\"H\",I72,1)-FIND(\":\",I72,1)-1)+0","v":6},null,{"$f":"INDEX($D179:$I179,K$98)","v":{"$error":"#VALUE!"}},{"$f":"INDEX($D179:$I179,L$98)","v":4},{"$f":"IF(ISERROR(1-L179/K179), 0, 1-L179/K179)","v":0}]
[null,null,"Sideslope (Foreslope)",{"$f":"IF(D179<=3,1,IF(OR(D179=4,D179=5),(Roadside!$F$15-1)*Constraints!$H$37/Constraints!$D$37+1,(Roadside!$F$15*Roadside!$F$16-1)*Constraints!$H$37/Constraints!$D$37+1))","v":{"$error":"#VALUE!"}},{"$f":"IF(E179<=3,1,IF(OR(E179=4,E179=5),(Roadside!$F$15-1)*Constraints!$H$37/Constraints!$D$37+1,(Roadside!$F$15*Roadside!$F$16-1)*Constraints!$H$37/Constraints!$D$37+1))","v":0.8286893555394641},{"$f":"IF(F179<=3,1,IF(OR(F179=4,F179=5),(Roadside!$F$15-1)*Constraints!$H$37/Constraints!$D$37+1,(Roadside!$F$15*Roadside!$F$16-1)*Constraints!$H$37/Constraints!$D$37+1))","v":{"$error":"#VALUE!"}},{"$f":"IF(G179<=3,1,IF(OR(G179=4,G179=5),(Roadside!$F$15-1)*Constraints!$H$37/Constraints!$D$37+1,(Roadside!$F$15*Roadside!$F$16-1)*Constraints!$H$37/Constraints!$D$37+1))","v":{"$error":"#VALUE!"}},{"$f":"IF($I$2=\"Existing\",(D180),(IF($I$2=\"Design 1\",(F180),(IF($I$2=\"Design 2\",(G180),(IF($I$2=\"Optimal\",(I180),E180)))))))","v":0.8286893555394641},{"$f":"IF(I179<=3,1,IF(OR(I179=4,I179=5),(Roadside!$F$15-1)*Constraints!$H$37/Constraints!$D$37+1,(Roadside!$F$15*Roadside!$F$16-1)*Constraints!$H$37/Constraints!$D$37+1))","v":0.77664355022240605},null,{"$f":"INDEX($D180:$I180,K$98)","v":{"$error":"#VALUE!"}},{"$f":"INDEX($D180:$I180,L$98)","v":0.8286893555394641},0]
[null,null,"Backslope",1,1,1,1,{"$f":"IF($I$2=\"Existing\",(D181),(IF($I$2=\"Design 1\",(F181),(IF($I$2=\"Design 2\",(G181),(IF($I$2=\"Optimal\",(I181),E181)))))))","v":1},1,null,{"$f":"INDEX($D181:$I181,K$98)","v":1},{"$f":"INDEX($D181:$I181,L$98)","v":1},0]
[null,null,"SafetyEdge",{"$f":"IF(D$74=\"No\",1,(Roadside!$F$23-1)*AVERAGE(Constraints!$H$37,Constraints!$F$37)/Constraints!$D$37+1)","v":0.97258384193648495},{"$f":"IF(E$74=\"No\",1,(Roadside!$F$23-1)*AVERAGE(Constraints!$H$37,Constraints!$F$37)/Constraints!$D$37+1)","v":1},{"$f":"IF(F$74=\"No\",1,(Roadside!$F$23-1)*AVERAGE(Constraints!$H$37,Constraints!$F$37)/Constraints!$D$37+1)","v":0.97258384193648495},{"$f":"IF(G$74=\"No\",1,(Roadside!$F$23-1)*AVERAGE(Constraints!$H$37,Constraints!$F$37)/Constraints!$D$37+1)","v":0.97258384193648495},{"$f":"IF($I$2=\"Existing\",(D182),(IF($I$2=\"Design 1\",(F182),(IF($I$2=\"Design 2\",(G182),(IF($I$2=\"Optimal\",(I182),E182)))))))","v":1},{"$f":"IF(I$74=\"No\",1,(Roadside!$F$23-1)*AVERAGE(Constraints!$H$37,Constraints!$F$37)/Constraints!$D$37+1)","v":0.97258384193648495},null,{"$f":"INDEX($D182:$I182,K$98)","v":0.97258384193648495},{"$f":"INDEX($D182:$I182,L$98)","v":1},-2.8188991921691331E-2]
[null,null,"Lateral Clearance (ft)",{"$f":"IF($B$27=\"Yes\",((EXP(LN(Roadside!$F$11)*(IF(D$76=\"None\",40,D$75)-30)/30)-1))*Constraints!$H$36/Constraints!$D$37+1,((EXP(LN(Roadside!$F$10)*(IF(D$76=\"None\",40,D$75)-30)/30)-1))*Constraints!$H$36/Constraints!$D$37+1)","v":1.0992721491203288},{"$f":"IF($B$27=\"Yes\",((EXP(LN(Roadside!$F$11)*(IF(E$76=\"None\",40,E$75)-30)/30)-1))*Constraints!$H$36/Constraints!$D$37+1,((EXP(LN(Roadside!$F$10)*(IF(E$76=\"None\",40,E$75)-30)/30)-1))*Constraints!$H$36/Constraints!$D$37+1)","v":1},{"$f":"IF($B$27=\"Yes\",((EXP(LN(Roadside!$F$11)*(IF(F$76=\"None\",40,F$75)-30)/30)-1))*Constraints!$H$36/Constraints!$D$37+1,((EXP(LN(Roadside!$F$10)*(IF(F$76=\"None\",40,F$75)-30)/30)-1))*Constraints!$H$36/Constraints!$D$37+1)","v":1.0992721491203288},{"$f":"IF($B$27=\"Yes\",((EXP(LN(Roadside!$F$11)*(IF(G$76=\"None\",40,G$75)-30)/30)-1))*Constraints!$H$36/Constraints!$D$37+1,((EXP(LN(Roadside!$F$10)*(IF(G$76=\"None\",40,G$75)-30)/30)-1))*Constraints!$H$36/Constraints!$D$37+1)","v":1.0992721491203288},{"$f":"IF($I$2=\"Existing\",(D183),(IF($I$2=\"Design 1\",(F183),(IF($I$2=\"Design 2\",(G183),(IF($I$2=\"Optimal\",(I183),E183)))))))","v":1},{"$f":"IF($B$27=\"Yes\",((EXP(LN(Roadside!$F$11)*(IF(I$76=\"None\",40,I$75)-30)/30)-1))*Constraints!$H$36/Constraints!$D$37+1,((EXP(LN(Roadside!$F$10)*(IF(I$76=\"None\",40,I$75)-30)/30)-1))*Constraints!$H$36/Constraints!$D$37+1)","v":0.97455184373954995},null,{"$f":"INDEX($D183:$I183,K$98)","v":1.0992721491203288},{"$f":"INDEX($D183:$I183,L$98)","v":1},9.0307162971216326E-2]
[null,null,"Fixed Object Type",{"$f":"IF(D$76=\"Guardrail\",(Roadside!$F$25-1)*(($I$75-D$75)/$I$75)^2*Constraints!$H$36/Constraints!$D$37+1,1)","v":1},{"$f":"IF(E$76=\"Guardrail\",(Roadside!$F$25-1)*(($I$75-E$75)/$I$75)^2*Constraints!$H$36/Constraints!$D$37+1,1)","v":1},{"$f":"IF(F$76=\"Guardrail\",(Roadside!$F$25-1)*(($I$75-F$75)/$I$75)^2*Constraints!$H$36/Constraints!$D$37+1,1)","v":1},{"$f":"IF(G$76=\"Guardrail\",(Roadside!$F$25-1)*(($I$75-G$75)/$I$75)^2*Constraints!$H$36/Constraints!$D$37+1,1)","v":1},{"$f":"IF($I$2=\"Existing\",(D184),(IF($I$2=\"Design 1\",(F184),(IF($I$2=\"Design 2\",(G184),(IF($I$2=\"Optimal\",(I184),E184)))))))","v":1},{"$f":"IF(I$76=\"Guardrail\",(Roadside!$F$25-1)*(($I$75-I$75)/$I$75)^2*Constraints!$H$36/Constraints!$D$37+1,1)","v":1},null,{"$f":"INDEX($D184:$I184,K$98)","v":1},{"$f":"INDEX($D184:$I184,L$98)","v":1},0]
[]
[]
[null,null,"COMBINED Calculated CMF",{"$f":"+D180*D181*D182*D183*D184","v":{"$error":"#VALUE!"}},{"$f":"+E180*E181*E182*E183*E184","v":0.8286893555394641},{"$f":"+F180*F181*F182*F183*F184","v":{"$error":"#VALUE!"}},{"$f":"+G180*G181*G182*G183*G184","v":{"$error":"#VALUE!"}},{"$f":"IF($I$2=\"Existing\",(D187),(IF($I$2=\"Design 1\",(F187),(IF($I$2=\"Design 2\",(G187),(IF($I$2=\"Optimal\",(I187),E187)))))))","v":0.8286893555394641},{"$f":"+I180*I181*I182*I183*I184","v":0.73612867842813945}]
[null,null,"Calculated Relative to Design Standards (Column E)",{"$f":"+D187/$E$187","v":{"$error":"#VALUE!"}},{"$f":"+E187/$E$187","v":1},{"$f":"+F187/$E$187","v":{"$error":"#VALUE!"}},{"$f":"+G187/$E$187","v":{"$error":"#VALUE!"}},1,{"$f":"+I187/$E$187","v":0.88830473507039431}]
[null,null,"P(Crash)",{"$f":"+D188/(D188+1)","v":{"$error":"#VALUE!"}},{"$f":"+E188/(E188+1)","v":0.5},{"$f":"+F188/(F188+1)","v":{"$error":"#VALUE!"}},{"$f":"+G188/(G188+1)","v":{"$error":"#VALUE!"}},0.5,{"$f":"+I188/(I188+1)","v":0.47042445987261644}]
[null,null,"Factor Change on S curve",{"$f":"+D189/$E$189","v":{"$error":"#VALUE!"}},{"$f":"+E189/$E$189","v":1},{"$f":"+F189/$E$189","v":{"$error":"#VALUE!"}},{"$f":"+G189/$E$189","v":{"$error":"#VALUE!"}},1,{"$f":"+I189/$E$189","v":0.94084891974523288}]
[null,null,"Adjust to Scale of 100",{"$f":"+$I$114/D190*100","v":{"$error":"#VALUE!"}},{"$f":"+$I$114/E190*100","v":{"$error":"#VALUE!"}},{"$f":"+$I$114/F190*100","v":{"$error":"#VALUE!"}},{"$f":"+$I$114/G190*100","v":{"$error":"#VALUE!"}},{"$error":"#VALUE!"},{"$f":"+$I$114/I190*100","v":{"$error":"#VALUE!"}}]
[null,null,"Unadjusted Combined Relative to Standard",{"$f":"+D187/$E$187","v":{"$error":"#VALUE!"}},{"$f":"+E187/$E$187","v":1},{"$f":"+F187/$E$187","v":{"$error":"#VALUE!"}},{"$f":"+G187/$E$187","v":{"$error":"#VALUE!"}},1,{"$f":"+I187/$E$187","v":0.88830473507039431}]
[null,null,null,null,null,null,null,null,null,{"$f":"I198/E198","v":1.1111111111111112}]
[null,null,"Adjusted for PA Basis",{"$f":"+D187*(1+1)/(1+D187*1)","v":{"$error":"#VALUE!"}},{"$f":"+E187*(1+1)/(1+E187*1)","v":0.90632053282226321},{"$f":"+F187*(1+1)/(1+F187*1)","v":{"$error":"#VALUE!"}},{"$f":"+G187*(1+1)/(1+G187*1)","v":{"$error":"#VALUE!"}},{"$f":"IF($I$2=\"Existing\",(D194),(IF($I$2=\"Design 1\",(F194),(IF($I$2=\"Design 2\",(G194),(IF($I$2=\"Optimal\",(I194),E194)))))))","v":0.90632053282226321},{"$f":"+I187*(1+1)/(1+I187*1)","v":0.84801165671039724}]
[null,null,"Corrected by Odds Ratio",{"$f":"+D187/$E$187","v":{"$error":"#VALUE!"}},{"$f":"+E187/$E$187","v":1},{"$f":"+F187/$E$187","v":{"$error":"#VALUE!"}},{"$f":"+G187/$E$187","v":{"$error":"#VALUE!"}},{"$f":"IF($I$2=\"Existing\",(D195),(IF($I$2=\"Design 1\",(F195),(IF($I$2=\"Design 2\",(G195),(IF($I$2=\"Optimal\",(I195),E195)))))))","v":1},{"$f":"+I187/$E$187","v":0.88830473507039431}]
[null,null,null,{"$f":"(1/D195)^$D199","v":{"$error":"#VALUE!"}},1,{"$error":"#VALUE!"},{"$error":"#VALUE!"},1,998.99999999999955,{"$f":"I201/E201","v":1.4814814814814814}]
[null,null,null,{"$f":"(D196+$F200-1)/(1+(D196+$F200-1))","v":{"$error":"#VALUE!"}},0.66666666666666663,{"$error":"#VALUE!"},{"$error":"#VALUE!"},0.66666666666666663,0.99900099900099903]
[null,null,"Score Odds Ratio with Optimal as 100 (old)",{"$f":"MIN(ROUND($I$195/D195*Construction!$I$10,0),$I198)","v":{"$error":"#VALUE!"}},{"$f":"MIN(ROUND($I$195/E195*Construction!$I$10,0),$I198)","v":36},{"$f":"MIN(ROUND($I$195/F195*Construction!$I$10,0),$I198)","v":{"$error":"#VALUE!"}},{"$f":"MIN(ROUND($I$195/G195*Construction!$I$10,0),$I198)","v":{"$error":"#VALUE!"}},null,{"$f":"ROUND($I$195/I195*Construction!$I$10,0)","v":40}]
[null,null,"Logistic1",{"$f":"LN((D200/(1-D200))/(0.5/0.5))/LN($E195/I195)","v":58.314167600285003}]
[null,null,"Logistic Param",0.999,null,2]
[null,null,"Score ",{"$f":"MIN(ROUND(D197*Construction!$I$10,0),$I198)","v":{"$error":"#VALUE!"}},{"$f":"MIN(ROUND(E197*Construction!$I$10,0),$I198)","v":27},{"$f":"MIN(ROUND(F197*Construction!$I$10,0),$I198)","v":{"$error":"#VALUE!"}},{"$f":"MIN(ROUND(G197*Construction!$I$10,0),$I198)","v":{"$error":"#VALUE!"}},null,{"$f":"MIN(ROUND(I197*Construction!$I$10,0),$I198)","v":40}]
[]
[]
[]
[]
[null,null,{"$f":"D84/D179","v":{"$error":"#VALUE!"}},null,{"$f":"ROUNDUP((MIN($I$14,$I$15)-E24-E25)/$C$206,0)","v":{"$error":"#VALUE!"}},{"$f":"ROUNDUP((MIN($I$14,$I$15)-F24-F25)/$C$206,0)","v":{"$error":"#VALUE!"}},{"$f":"ROUNDUP((MIN($I$14,$I$15)-G24-G25)/$C$206,0)","v":{"$error":"#VALUE!"}},null,{"$f":"ROUNDUP((MIN($I$14,$I$15)-I24-I25)/$C$206,0)","v":{"$error":"#VALUE!"}}]
[]
[]
[null,null,"Distance to low point","Distance to low point",{"$f":"$C$206*E179","v":{"$error":"#VALUE!"}},{"$f":"$C$206*F179","v":{"$error":"#VALUE!"}},{"$f":"$C$206*G179","v":{"$error":"#VALUE!"}},null,{"$f":"$C$206*I179","v":{"$error":"#VALUE!"}}]
[null,null,null,"Additional ROW1 Needed for Foreslope",{"$f":"IF(E209>($I$14-E24-E25),E209-($I$14-E24-E25),0)","v":{"$error":"#VALUE!"}},{"$f":"IF(F209>($I$14-F24-F25),F209-($I$14-F24-F25),0)","v":{"$error":"#VALUE!"}},{"$f":"IF(G209>($I$14-G24-G25),G209-($I$14-G24-G25),0)","v":{"$error":"#VALUE!"}},null,{"$f":"IF(I209>($I$14-I24-I25),I209-($I$14-I24-I25),0)","v":{"$error":"#VALUE!"}}]
[null,null,null,"Additional ROW2 Needed for Foreslope",{"$f":"IF(E209>($I$15-E24-E25),E209-($I$15-E24-E25),0)","v":{"$error":"#VALUE!"}},{"$f":"IF(F209>($I$15-F24-F25),F209-($I$15-F24-F25),0)","v":{"$error":"#VALUE!"}},{"$f":"IF(G209>($I$15-G24-G25),G209-($I$15-G24-G25),0)","v":{"$error":"#VALUE!"}},null,{"$f":"IF(I209>($I$15-I24-I25),I209-($I$15-I24-I25),0)","v":{"$error":"#VALUE!"}}]
[]
[null,null,null,"Additional ROW1 Needed for Lateral Clearance",{"$f":"IF((CL248+E26)-$I$14<0,0,(CL248+E26)-$I$14)","v":8},{"$f":"IF((CM248+F26)-$I$14<0,0,(CM248+F26)-$I$14)","v":0},{"$f":"IF((CN248+G26)-$I$14<0,0,(CN248+G26)-$I$14)","v":0},null,{"$f":"IF((CP248+I26)-$I$14<0,0,(CP248+I26)-$I$14)","v":0}]
[null,null,null,"Additional ROW2 Needed for Lateral Clearance",{"$f":"IF((CL248+E26)-$I$15<0,0,(CL248+E26)-$I$15)","v":8},{"$f":"IF((CM248+F26)-$I$15<0,0,(CM248+F26)-$I$15)","v":0},{"$f":"IF((CN248+G26)-$I$15<0,0,(CN248+G26)-$I$15)","v":0},null,{"$f":"IF((CP248+I26)-$I$15<0,0,(CP248+I26)-$I$15)","v":0}]
[]
[]
[]
[]
[]
[]
[]
[]
[]
[]
[]
[null,null,"For Vertical Opt Use when Yes Vertical:"]
[null,null,"G1",{"$f":"D36","v":0},null,{"$f":"F36","v":0},{"$f":"G36","v":0},null,{"$f":"IF(ISERROR($E$234),\"\",INDEX(D227:G227,$E$234))","v":""}]
[null,null,"G2",{"$f":"D37","v":0},null,{"$f":"F37","v":0},{"$f":"G37","v":0},null,{"$f":"IF(ISERROR($E$234),\"\",INDEX(D228:G228,$E$234))","v":""}]
[null,null,"abs(G2-G1)",{"$f":"ABS(D36-D37)","v":0},null,{"$f":"ABS(F36-F37)","v":0},{"$f":"ABS(G36-G37)","v":0}]
[null,null,"Count in indicator (K no change; or K change but accept)",{"$f":"IF(D39<>\"\",1,\"\")","v":""},null,{"$f":"IF(OR(AND($B$34 = \"Yes\", $D$39 <> F39, F39 <>\"\", $D$39 <> \"\", F41=\"Yes.\"),AND($B$34 = \"Yes\", $D$39 = F39, F39 <>\"\", $D$39 <> \"\")), 1,\"\")","v":""},{"$f":"IF(OR(AND($B$34 = \"Yes\", $D$39 <> G39, G39 <>\"\", $D$39 <> \"\", G41=\"Yes.\"),AND($B$34 = \"Yes\", $D$39 = G39, G39 <>\"\", $D$39 <> \"\")), 1,\"\")","v":""}]
[]
[null,null,"Valid abs(G2-G1)",{"$f":"IF(ISERROR(D229*D230),\"\",D229*D230)","v":""},null,{"$f":"IF(ISERROR(F229*F230),\"\",F229*F230)","v":""},{"$f":"IF(ISERROR(G229*G230),\"\",G229*G230)","v":""}]
[null,null,"The min valid abs(G2-G1)",null,{"$f":"MIN(D232,F232,G232)","v":0}]
[null,null,"Index",null,{"$f":"MATCH(E233,D232:G232,0)","v":{"$error":"#N/A"}}]
[]
[null,null,"For Vertical Opt Use When No Vertical:"]
[null,null,"G1",{"$f":"IF(ISBLANK(D36), 999, D36)","v":999},null,{"$f":"IF(ISBLANK(F36), 999, F36)","v":999},{"$f":"IF(ISBLANK(G36), 999, G36)","v":999},null,{"$f":"IF(E242=999,\"\",E242)","v":""}]
[null,null,"Sign of G1",{"$f":"IF(D237>=0,1,-1)","v":1},null,{"$f":"IF(F237>=0,1,-1)","v":1},{"$f":"IF(G237>=0,1,-1)","v":1}]
[null,null,"Abs G1",{"$f":"ABS(D237)","v":999},null,{"$f":"ABS(F237)","v":999},{"$f":"ABS(G237)","v":999}]
[null,null,"Min Abs G1",null,{"$f":"MIN(D239:G239)","v":999}]
[null,null,"Which is the Best G1",null,{"$f":"MATCH(E240,D239:G239,0)","v":1}]
[null,null,"Best G1 Value",null,{"$f":"INDEX(D237:G237,1,E241)","v":999}]
[]
[]
[]
[]
[]
[]
[null,null,"Check if all cells filled",{"$f":"SUM(D251:D311)","v":18},{"$f":"SUM(E251:E311)","v":1},18,18,null,1]
[]
[null,null,{"$f":"C24","v":"Lane Width (feet)"},{"$f":"IF(ISBLANK(D24),1,0)","v":1},{"$f":"IF(ISBLANK(E24),1,0)","v":0},1,1,null,0]
[null,null,{"$f":"C25","v":"Shoulder Width (feet)"},{"$f":"IF(ISBLANK(D25),1,0)","v":1},0,1,1,null,0]
[null,null,"Cross-slope or Superelevation (%)",{"$f":"IF(ISBLANK(D26),1,0)","v":1},0,1,1,null,0]
[null,null,"Horizontal Curve Present?"]
[null,null,"Horizontal Curve Data for Controlling Element:"]
[null,null,"  Radius (feet)",{"$f":"IF(AND($B$27=\"Yes\", ISBLANK(D29)),1,0)","v":0},{"$f":"IF(AND($B$27=\"Yes\", ISBLANK(E29)),1,0)","v":0},0,0,null,0]
[null,null,"Length of Horizontal Curve (feet)",{"$f":"IF(AND($B$27=\"Yes\", ISBLANK(D30)),1,0)","v":0},0,0,0,null,0]
[null,null,"Calculated Deflection Angle ∆"]
[]
[null,null,null,null,null,{"$f":"IF(AND($B$27 = \"Yes\", $D$31 <> F31, F31<>\"\",ISBLANK(F33)),1,0)","v":0},{"$f":"IF(AND($B$27 = \"Yes\", $D$31 <> G31, G31<>\"\",ISBLANK(G33)),1,0)","v":0}]
[null,null,"Vertical Curve Present?"]
[null,null,"Vertical Curve Data for Controlling Element:"]
[null,null,"  Approach (Entry) Grade, G1 (%)",{"$f":"IF(ISBLANK(D36),1,0)","v":1},{"$f":"IF(ISBLANK(E36),1,0)","v":0},1,1,null,0]
[null,null,"  Departure (Exit) Grade, G2 (%)",{"$f":"IF(AND($B$34=\"Yes\", ISBLANK(D37)),1,0)","v":0},{"$f":"IF(AND($B$34=\"Yes\", ISBLANK(E37)),1,0)","v":0},0,0,null,0]
[null,null,"  Length (feet)",{"$f":"IF(AND($B$34=\"Yes\", ISBLANK(D38)),1,0)","v":0},0,0,0,null,0]
[null,null,"  Calculated Rate of Change, K (ft/ft)"]
[]
[]
[]
[null,null,"TWLTL (two-way left-turn lane)",{"$f":"IF(ISBLANK(D43),1,0)","v":1},{"$f":"IF(ISBLANK(E43),1,0)","v":0},1,1,null,0]
[null,null,"Passing Lane Type",{"$f":"IF(ISBLANK(D44),1,0)","v":1},0,1,1,null,0]
[]
[]
[]
[]
[]
[]
[]
[null,null,"Advance Static Curve Warning Signs",{"$f":"IF(AND($B$27=\"Yes\", ISBLANK(D52)),1,0)","v":0},{"$f":"IF(AND($B$27=\"Yes\", ISBLANK(E52)),1,0)","v":0},0,0,null,{"$f":"IF(ISBLANK(I52),1,0)","v":0}]
[null,null,"Chevron Signs on Horizontal Curves",{"$f":"IF(AND($B$27=\"Yes\", ISBLANK(D53)),1,0)","v":0},0,0,0,null,0]
[null,null,"Post-Mounted Delineators",0,0,0,0,null,0]
[null,null,"Edgeline Pavement Markings or Profile Markings",1,0,1,1,null,0]
[null,null,"Shoulder Rumble Strips",1,0,1,1,null,0]
[null,null,"Centerline Rumble Strips",1,0,1,1,null,0]
[null,null,"Driveway Density (driveways per mile)",1,0,1,1,null,0]
[null,null,"Lighting",1,0,1,1,null,0]
[null,null,"Pavement Friction (skid number) ***",1,0,1,1,null,0]
[]
[]
[]
[]
[]
[]
[]
[]
[]
[]
[]
[null,null,"Sideslope (Foreslope)",{"$f":"IF(ISBLANK(D72),1,0)","v":1},0,1,1,null,0]
[null,null,"Backslope",1,0,1,1,null,0]
[null,null,"SafetyEdge",1,0,1,1,null,0]
[null,null,"Lateral Clearance to obstruction (ft)",1,0,1,1,null,0]
[null,null,"Obstruction Type",1,0,1,1,null,0]
[]
[]
[]
[]
[]
[]
[]
[null,null,"Distance to Slope Toe from Shoulder (ft)",1,{"$f":"$D$311","v":1},{"$f":"$D$311","v":1},1,null,1]
[]
[]
[]
[null,null,null,null,null,null,null,null,{"$f":"SUM(I316:I324)","v":9}]
[null,null,null,null,null,null,null,{"$f":"F9","v":"Location "},{"$f":"IF(ISBLANK(I9),1,0)","v":1}]
[null,null,null,null,null,null,null,{"$f":"F10","v":"Design Speed (mph)"},{"$f":"IF(ISBLANK(I10),1,0)","v":1}]
[null,null,null,null,null,null,null,"Posted Speed (mph)",1]
[null,null,null,null,null,null,null,"E max (%)",1]
[null,null,null,null,null,null,null,"Design Year AADT (vehicles per day)",1]
[null,null,null,null,null,null,null,"Dist. from Centerline to Left   ROW (feet)",1]
[null,null,null,null,null,null,null,"Dist. from Centerline to Right ROW (feet)",1]
[null,null,null,null,null,null,null,"H Curve Indicator",{"$f":"IF(ISBLANK(B27),1,0)","v":1}]
[null,null,null,null,null,null,null,"V Curve Indicator",{"$f":"IF(ISBLANK(B34),1,0)","v":1}]
[]
[]
[]
[]
[]
[]
[]
[]
[]
[]
[]
[]
[]
[]
[]
[]
[]
[]
[]
[]
[]
[]
[]
[]
[]
[]
[]
[]
[]
[]
[]
[]
[]
[]
[]
[]
[]
[]
[]
[]
[]
[]
[]
[]
[]
[]
[]
[]
[]
[]
[]
[1]
[22]
[21]
[20,null,null,{"$f":"Constraints!P174","v":"Emax=6%"}]
[19]
[18,null,{"$f":"HLOOKUP($I$10,Constraints!$Q$176:AD197,A376,TRUE)","v":{"$error":"#N/A"}},{"$f":"Constraints!P176","v":"super"}]
[17,null,{"$f":"HLOOKUP($I$10,Constraints!$Q$176:AD198,A377,TRUE)","v":{"$error":"#N/A"}},{"$f":"Constraints!P197","v":6},1050]
[16,null,{"$f":"HLOOKUP($I$10,Constraints!$Q$176:AD199,A378,TRUE)","v":{"$error":"#N/A"}},{"$f":"Constraints!P196","v":5.8}]
[15,null,{"$f":"HLOOKUP($I$10,Constraints!$Q$176:AD200,A379,TRUE)","v":{"$error":"#N/A"}},{"$f":"Constraints!P195","v":5.6}]
[14,null,{"$f":"HLOOKUP($I$10,Constraints!$Q$176:AD201,A380,TRUE)","v":{"$error":"#N/A"}},{"$f":"Constraints!P194","v":5.4}]
[13,null,{"$f":"HLOOKUP($I$10,Constraints!$Q$176:AD202,A381,TRUE)","v":{"$error":"#N/A"}},{"$f":"Constraints!P193","v":5.2}]
[12,null,{"$f":"HLOOKUP($I$10,Constraints!$Q$176:AD203,A382,TRUE)","v":{"$error":"#N/A"}},{"$f":"Constraints!P192","v":5}]
[11,null,{"$f":"HLOOKUP($I$10,Constraints!$Q$176:AD204,A383,TRUE)","v":{"$error":"#N/A"}},{"$f":"Constraints!P191","v":4.8}]
[10,null,{"$f":"HLOOKUP($I$10,Constraints!$Q$176:AD205,A384,TRUE)","v":{"$error":"#N/A"}},{"$f":"Constraints!P190","v":4.5999999999999996}]
[9,null,{"$f":"HLOOKUP($I$10,Constraints!$Q$176:AD206,A385,TRUE)","v":{"$error":"#N/A"}},{"$f":"Constraints!P189","v":4.4000000000000004}]
[8,null,{"$f":"HLOOKUP($I$10,Constraints!$Q$176:AD207,A386,TRUE)","v":{"$error":"#N/A"}},{"$f":"Constraints!P188","v":4.2}]
[7,null,{"$f":"HLOOKUP($I$10,Constraints!$Q$176:AD208,A387,TRUE)","v":{"$error":"#N/A"}},{"$f":"Constraints!P187","v":4}]
[6,null,{"$f":"HLOOKUP($I$10,Constraints!$Q$176:AD209,A388,TRUE)","v":{"$error":"#N/A"}},{"$f":"Constraints!P186","v":3.8}]
[5,null,{"$f":"HLOOKUP($I$10,Constraints!$Q$176:AD210,A389,TRUE)","v":{"$error":"#N/A"}},{"$f":"Constraints!P185","v":3.6}]
[4,null,{"$f":"HLOOKUP($I$10,Constraints!$Q$176:AD211,A390,TRUE)","v":{"$error":"#N/A"}},{"$f":"Constraints!P184","v":3.4}]
[3,null,{"$f":"HLOOKUP($I$10,Constraints!$Q$176:AD212,A391,TRUE)","v":{"$error":"#N/A"}},{"$f":"Constraints!P183","v":3.2}]
[2,null,{"$f":"HLOOKUP($I$10,Constraints!$Q$176:AD213,A392,TRUE)","v":{"$error":"#N/A"}},{"$f":"Constraints!P182","v":3}]
[null,null,{"$f":"HLOOKUP($I$10,Constraints!$Q$176:AD214,A393,TRUE)","v":{"$error":"#N/A"}},{"$f":"Constraints!P181","v":2.8}]
[null,null,{"$f":"HLOOKUP($I$10,Constraints!$Q$176:AD215,A394,TRUE)","v":{"$error":"#N/A"}},{"$f":"Constraints!P180","v":2.6}]
[null,null,{"$f":"HLOOKUP($I$10,Constraints!$Q$176:AD216,A395,TRUE)","v":{"$error":"#N/A"}},{"$f":"Constraints!P179","v":2.4}]
[null,null,{"$f":"HLOOKUP($I$10,Constraints!$Q$176:AD217,A396,TRUE)","v":{"$error":"#N/A"}},{"$f":"Constraints!P178","v":2.2000000000000002}]
[null,null,{"$f":"HLOOKUP($I$10,Constraints!$Q$176:AD218,A397,TRUE)","v":{"$error":"#N/A"}},{"$f":"Constraints!P177","v":2}]
[1]
[32]
[31]
[30,null,null,{"$f":"Constraints!P201","v":"Emax=8%"}]
[29]
[28,null,{"$f":"HLOOKUP($I$10,Constraints!$Q$203:AD234,A403,TRUE)","v":{"$error":"#N/A"}},{"$f":"Constraints!P203","v":"super"}]
[27,null,{"$f":"HLOOKUP($I$10,Constraints!$Q$203:AD235,A404,TRUE)","v":{"$error":"#N/A"}},{"$f":"INDEX(Constraints!$P$203:$P$234,A404,)","v":8}]
[26,null,{"$f":"HLOOKUP($I$10,Constraints!$Q$203:AD236,A405,TRUE)","v":{"$error":"#N/A"}},{"$f":"INDEX(Constraints!$P$203:$P$234,A405,)","v":7.8}]
[25,null,{"$f":"HLOOKUP($I$10,Constraints!$Q$203:AD237,A406,TRUE)","v":{"$error":"#N/A"}},{"$f":"INDEX(Constraints!$P$203:$P$234,A406,)","v":7.6}]
[24,null,{"$f":"HLOOKUP($I$10,Constraints!$Q$203:AD238,A407,TRUE)","v":{"$error":"#N/A"}},{"$f":"INDEX(Constraints!$P$203:$P$234,A407,)","v":7.4}]
[23,null,{"$f":"HLOOKUP($I$10,Constraints!$Q$203:AD239,A408,TRUE)","v":{"$error":"#N/A"}},{"$f":"INDEX(Constraints!$P$203:$P$234,A408,)","v":7.2}]
[22,null,{"$f":"HLOOKUP($I$10,Constraints!$Q$203:AD240,A409,TRUE)","v":{"$error":"#N/A"}},{"$f":"INDEX(Constraints!$P$203:$P$234,A409,)","v":7}]
[21,null,{"$f":"HLOOKUP($I$10,Constraints!$Q$203:AD241,A410,TRUE)","v":{"$error":"#N/A"}},{"$f":"INDEX(Constraints!$P$203:$P$234,A410,)","v":6.8}]
[20,null,{"$f":"HLOOKUP($I$10,Constraints!$Q$203:AD242,A411,TRUE)","v":{"$error":"#N/A"}},{"$f":"INDEX(Constraints!$P$203:$P$234,A411,)","v":6.6}]
[19,null,{"$f":"HLOOKUP($I$10,Constraints!$Q$203:AD243,A412,TRUE)","v":{"$error":"#N/A"}},{"$f":"INDEX(Constraints!$P$203:$P$234,A412,)","v":6.4}]
[18,null,{"$f":"HLOOKUP($I$10,Constraints!$Q$203:AD244,A413,TRUE)","v":{"$error":"#N/A"}},{"$f":"INDEX(Constraints!$P$203:$P$234,A413,)","v":6.2}]
[17,null,{"$f":"HLOOKUP($I$10,Constraints!$Q$203:AD245,A414,TRUE)","v":{"$error":"#N/A"}},{"$f":"INDEX(Constraints!$P$203:$P$234,A414,)","v":6}]
[16,null,{"$f":"HLOOKUP($I$10,Constraints!$Q$203:AD246,A415,TRUE)","v":{"$error":"#N/A"}},{"$f":"INDEX(Constraints!$P$203:$P$234,A415,)","v":5.8}]
[15,null,{"$f":"HLOOKUP($I$10,Constraints!$Q$203:AD247,A416,TRUE)","v":{"$error":"#N/A"}},{"$f":"INDEX(Constraints!$P$203:$P$234,A416,)","v":5.6}]
[14,null,{"$f":"HLOOKUP($I$10,Constraints!$Q$203:AD248,A417,TRUE)","v":{"$error":"#N/A"}},{"$f":"INDEX(Constraints!$P$203:$P$234,A417,)","v":5.4}]
[13,null,{"$f":"HLOOKUP($I$10,Constraints!$Q$203:AD249,A418,TRUE)","v":{"$error":"#N/A"}},{"$f":"INDEX(Constraints!$P$203:$P$234,A418,)","v":5.2}]
[12,null,{"$f":"HLOOKUP($I$10,Constraints!$Q$203:AD250,A419,TRUE)","v":{"$error":"#N/A"}},{"$f":"INDEX(Constraints!$P$203:$P$234,A419,)","v":5}]
[11,null,{"$f":"HLOOKUP($I$10,Constraints!$Q$203:AD251,A420,TRUE)","v":{"$error":"#N/A"}},{"$f":"INDEX(Constraints!$P$203:$P$234,A420,)","v":4.8}]
[10,null,{"$f":"HLOOKUP($I$10,Constraints!$Q$203:AD252,A421,TRUE)","v":{"$error":"#N/A"}},{"$f":"INDEX(Constraints!$P$203:$P$234,A421,)","v":4.5999999999999996}]
[9,null,{"$f":"HLOOKUP($I$10,Constraints!$Q$203:AD253,A422,TRUE)","v":{"$error":"#N/A"}},{"$f":"INDEX(Constraints!$P$203:$P$234,A422,)","v":4.4000000000000004}]
[8,null,{"$f":"HLOOKUP($I$10,Constraints!$Q$203:AD254,A423,TRUE)","v":{"$error":"#N/A"}},{"$f":"INDEX(Constraints!$P$203:$P$234,A423,)","v":4.2}]
[7,null,{"$f":"HLOOKUP($I$10,Constraints!$Q$203:AD255,A424,TRUE)","v":{"$error":"#N/A"}},{"$f":"INDEX(Constraints!$P$203:$P$234,A424,)","v":4}]
[6,null,{"$f":"HLOOKUP($I$10,Constraints!$Q$203:AD256,A425,TRUE)","v":{"$error":"#N/A"}},{"$f":"INDEX(Constraints!$P$203:$P$234,A425,)","v":3.8}]
[5,null,{"$f":"HLOOKUP($I$10,Constraints!$Q$203:AD257,A426,TRUE)","v":{"$error":"#N/A"}},{"$f":"INDEX(Constraints!$P$203:$P$234,A426,)","v":3.6}]
[4,null,{"$f":"HLOOKUP($I$10,Constraints!$Q$203:AD258,A427,TRUE)","v":{"$error":"#N/A"}},{"$f":"INDEX(Constraints!$P$203:$P$234,A427,)","v":3.4}]
[3,null,{"$f":"HLOOKUP($I$10,Constraints!$Q$203:AD259,A428,TRUE)","v":{"$error":"#N/A"}},{"$f":"INDEX(Constraints!$P$203:$P$234,A428,)","v":3.2}]
[2,null,{"$f":"HLOOKUP($I$10,Constraints!$Q$203:AD260,A429,TRUE)","v":{"$error":"#N/A"}},{"$f":"INDEX(Constraints!$P$203:$P$234,A429,)","v":3}]
[null,null,{"$f":"HLOOKUP($I$10,Constraints!$Q$203:AD261,A430,TRUE)","v":{"$error":"#N/A"}},{"$f":"INDEX(Constraints!$P$203:$P$234,A430,)","v":2.8}]
[null,null,{"$f":"HLOOKUP($I$10,Constraints!$Q$203:AD262,A431,TRUE)","v":{"$error":"#N/A"}},{"$f":"INDEX(Constraints!$P$203:$P$234,A431,)","v":2.6}]
[null,null,{"$f":"HLOOKUP($I$10,Constraints!$Q$203:AD263,A432,TRUE)","v":{"$error":"#N/A"}},{"$f":"INDEX(Constraints!$P$203:$P$234,A432,)","v":2.4}]
[null,null,{"$f":"HLOOKUP($I$10,Constraints!$Q$203:AD264,A433,TRUE)","v":{"$error":"#N/A"}},{"$f":"INDEX(Constraints!$P$203:$P$234,A433,)","v":2.2000000000000002}]
[null,null,{"$f":"HLOOKUP($I$10,Constraints!$Q$203:AD265,A434,TRUE)","v":{"$error":"#N/A"}},{"$f":"INDEX(Constraints!$P$203:$P$234,A434,)","v":2}]

{"sheet":"Configuration 5","index":15,"n_rows":439,"n_cols":113,"rows_kept":439,"cut":false,"hidden":false,"merged":[[1,6,2,7],[1,8,2,8],[1,21,1,37],[2,1,2,4],[2,21,3,28],[2,30,3,37],[3,1,3,4],[3,6,4,7],[3,8,4,8],[4,1,4,2],[4,3,4,4],[4,21,44,28],[4,30,44,37],[5,1,5,2],[5,3,5,4],[6,1,6,7],[7,1,7,4],[7,7,7,8],[8,3,8,4],[8,5,8,6],[75,16,75,21],[75,22,75,23],[9,3,9,4],[9,5,9,6],[10,3,10,4],[10,5,10,6],[11,5,11,6],[12,2,15,4],[12,5,12,6],[13,5,13,6],[14,5,14,6],[17,2,18,8],[20,5,20,7],[38,9,38,10],[45,12,45,19],[74,16,74,23],[76,22,76,23],[77,16,77,21],[77,22,77,23],[78,16,78,21],[78,22,78,23],[84,1,84,2],[85,1,85,2],[86,1,86,2],[95,10,95,12],[76,16,76,21]]}
[]
[null,null,null,null,null,null,"Preferred Schematic View to Display",null,"Standard",null,null,null,null,null,null,null,null,null,null,null,null,"NOTES: "]
[null,"CHARACTERISTICS TO CONSIDER FOR ANALYSIS",null,null,null,null,null,null,null,null,null,null,null,null,null,null,null,null,null,null,null,"ELEMENTS INCREASING SAFETY",null,null,null,null,null,null,null,null,"COMMENTS ON PRIMARY CONSTRAINTS"]
[null,"INPUT INSTRUCTIONS",null,null,null,null,"Relative to",null,"Existing"]
[null,"Blue Boxes -- Select from pulldown options",null,"Select from Pulldown"]
[null,"Yellow Boxes -- Type input information into box",null,"Type Input Value"]
[null," Rural Two-Lane Road Segment -- Safety Score Input",null,null,null,null,null,null,null,null,null,null,null,null,null,null,null,null,null,null,null,null,null,null,null,null,null,null,null,null,null,null,null,null,null,null,null,null,null,null,null,null,null,null,null,null,null,null,null,null,null,null,null,null,null,null,null,null,null,null,null,null,null,null,null,null,null,null,null,null,null,null,null,null,null,null,null,null,null,null,null,null,null,"Unadjusted Marginal Safety"]
[null,"General Information:",null,null,null,"General Site Features",null,{"$f":"I315 & \" Missing Features and Curves\"","v":"9 Missing Features and Curves"},null,null,null,null,null,null,null,null,null,null,null,null,null,null,null,null,null,null,null,null,null,null,null,null,null,null,null,null,null,null,null,null,null,null,null,null,null,null,null,null,null,null,null,null,null,null,null,null,null,null,null,null,null,null,null,null,null,null,null,null,null,null,null,null,null,null,null,null,null,null,null,null,null,null,null,{"$f":"I2&\" relative to \" &I4","v":"Standard relative to Existing"}]
[null,null,"Analyst:",{"$f":"+'Start Here'!J7","v":0},null,"Location "]
[null,null,"Agency or Company:",{"$f":"+'Start Here'!J8","v":0},null,"Design Speed (mph)"]
[null,null,"Date:",{"$f":"+'Start Here'!J9","v":"00:00:00"},null,"Posted Speed (mph)"]
[null,null,"Description:",null,null,"E max (%)"]
[null,null,null,null,null,"Design Year AADT (vehicles per day)"]
[null,null,null,null,null,"Dist. from Centerline to Left   ROW (feet)"]
[null,null,null,null,null,"Dist. from Centerline to Right ROW (feet)"]
[]
[null,"Warning:"]
[null,null,{"$f":"+IF(+I11>I10,\"Posted speed exceeds design speed. Optimal safety will only be achieved if design speed exceeds posted speed. The Safety Assessment Score is based on the higher of the two speed values.\",\"No warnings identified\")","v":"No warnings identified"}]
[null,null,null,null,null,null,null,null,null,null,null,null,null,null,null,{"$f":"\"Unadjusted Marginal Safety of elements in \"&I2&\" from Design Standards\"","v":"Unadjusted Marginal Safety of elements in Standard from Design Standards"},null,null,null,null,null,null,null,null,null,null,null,null,null,null,null,null,null,null,null,null,null,null,null,null,null,null,null,null,null,null,null,null,null,null,null,null,null,null,null,null,null,null,null,null,null,null,null,null,null,null,null,null,null,null,null,null,null,null,null,null,null,null,null,null,null,null,null,null,null,null,null,null,null,null,null,null,null,null,null,null,null,null,null,null,null,null,null,null,null,{"$f":"COUNTIF(DB23:DB41,DB20)","v":1}]
[null,null,null,null,null,null,null,null,null,null,null,null,null,null,null,null,null,null,null,null,null,null,null,null,null,null,null,null,null,null,null,null,null,null,null,null,null,null,null,null,null,null,null,null,null,null,null,null,null,null,null,null,null,null,null,null,null,null,null,null,null,null,null,null,null,null,null,null,null,null,null,null,null,null,null,null,null,null,null,null,null,null,null,null,null,null,null,null,null,null,null,null,null,null,null,null,null,null,null,null,null,null,null,null,null,{"$f":"VLOOKUP(0,CZ23:DB41,3,)","v":10.01}]
[null,null,null,"Fill all elements",null,"To enter notes, use boxes to the right of the vortex ",null,null,null,null," "]
[null,{"$f":"+Construction!$I$8&\"  Total Available Points\"","v":"40  Total Available Points"},null,{"$f":"D249 & \" Missing Elements\"","v":"18 Missing Elements"},null,{"$f":"F249 & \" Missing Elements\"","v":"18 Missing Elements"},{"$f":"G249 & \" Missing Elements\"","v":"18 Missing Elements"},null,null,null,null,null,null,null,null,null,null,null,null,null,null,null,null,null,null,null,null,null,null,null,null,null,null,null,null,null,null,null,null,null,null,null,null,null,null,null,null,null,null,null,null,null,null,null,null,null,null,null,null,null,null,null,null,null,null,null,null,null,null,null,null,null,null,null,null,null,null,null,null,null,null,null,null,null,null,null,null,null,null,null,null,null,null,null,null,null,null,null,null,null,null,"Ranked element","CRF","abs","Re-rank","Rank","Ranked CRF","Element","New Element","crf.abs","rank","Sorted Element","Sorted CRF"]
[null,"Geometric Design Elements",null,"Existing","Standard","Design 1","Design 2",{"$f":"\"Marginal Safety for \"&$I$2&\" (compared to \" & $I$4 & \")\"","v":"Marginal Safety for Standard (compared to Existing)"},"Optimal",null,null,null,null,null,null,null,null,null,null,null,null,null,null,null,null,null,null,null,null,null,null,null,null,null,null,null,null,null,null,null,null,null,null,null,null,null,null,null,null,null,null,null,null,null,null,null,null,null,null,null,null,null,null,null,null,null,null,null,null,null,null,null,null,null,null,null,null,null,null,null,null,null,null,null,null,null,null,null,null,null,null,null,null,null,null,null,null,null,null,null,null,{"$f":"IF(CY23=0,\"\",DB23&\". \"&DD23)","v":""},{"$f":"H24","v":0},{"$f":"ABS(CY23)","v":0},{"$f":"RANK(DB23,$DB$23:$DB$41,1)","v":10},{"$f":"_xlfn.RANK.EQ(CZ23,$CZ$23:$CZ$41)+DG23/100","v":10.01},{"$f":"CY23","v":0},{"$f":"IF(ROUND(DF23,2)=0,\"\",C24)","v":""},{"$f":"DD23","v":""},{"$f":"CZ23","v":0},1,{"$f":"IFERROR(IF(IFERROR(VLOOKUP(DG23,$DA$23:$DF$41,4,)&\", \"&CY23=0,\"\"),\"\",IFERROR(VLOOKUP(DG23,$DA$23:$DE$41,4,),\"\")),\"\")","v":"TWLTL (two-way left-turn lane)"},{"$f":"IFERROR(IF(IFERROR(VLOOKUP(DG23,$DA$23:$DF$41,3,)&\", \"&CY23=0,\"\"),\"\",IFERROR(VLOOKUP(DG23,$DA$23:$DE$41,3,),\"\")),\"\")","v":-0.40845070422535223}]
[null,null,"Lane Width (feet)",null,12,null,null,{"$f":"M100","v":0},12,null,null,null,null,null,null,null,null,null,null,null,null,null,null,null,null,null,null,null,null,null,null,null,null,null,null,null,null,null,null,null,null,null,null,null,null,null,null,null,null,null,null,null,null,null,null,null,null,null,null,null,null,null,null,null,null,null,null,null,null,null,null,null,null,null,null,null,null,null,null,null,null,null,null,null,null,null,null,null,null,null,null,null,null,null,null,null,null,null,null,null,null,"5.02. Shoulder Width (feet)",{"$f":"H25","v":0.15503875968992242},0.15503875968992242,{"$f":"RANK(DB24,$DB$23:$DB$41,1)","v":5},{"$f":"_xlfn.RANK.EQ(CZ24,$CZ$23:$CZ$41)+DG24/100","v":5.0199999999999996},{"$f":"CY24","v":0.15503875968992242},{"$f":"IF(ROUND(DF24,2)=0,\"\",C25)","v":"Shoulder Width (feet)"},{"$f":"DD24","v":"Shoulder Width (feet)"},0.15503875968992242,2,"Pavement Friction (skid number) ***",{"$f":"IFERROR(IF(IFERROR(VLOOKUP(DG24,$DA$23:$DF$41,3,)&\", \"&CY24=0,\"\"),\"\",IFERROR(VLOOKUP(DG24,$DA$23:$DE$41,3,),\"\")),\"\")","v":0.28430956017940245}]
[null,null,"Shoulder Width (feet)",null,{"$f":"IF('Start Here'!$J$12=\"4R\",8,4)","v":4},null,null,{"$f":"M101","v":0.15503875968992242},10,null,null,null,null,null,null,null,null,null,null,null,null,null,null,null,null,null,null,null,null,null,null,null,null,null,null,null,null,null,null,null,null,null,null,null,null,null,null,null,null,null,null,null,null,null,null,null,null,null,null,null,null,null,null,null,null,null,null,null,null,null,null,null,null,null,null,null,null,null,null,null,null,null,null,null,null,null,null,null,null,null,null,null,null,null,null,null,null,null,null,null,null,"",{"$f":"H29","v":0},0,11,10.029999999999999,0,{"$f":"IF(ROUND(DF25,2)=0,\"\",\"Hz and Vt Alignment\")","v":""},"",0,3,"Driveway Density (driveways per mile)",-0.22388114201141129]
[null,null,"Cross-slope or Superelevation (%)",null,{"$f":"IF($I$12=6,IFERROR(VLOOKUP(E29,$C$382:$D$402,2,TRUE),6),IFERROR(VLOOKUP(E29,$C$409:$D$439,2,TRUE),8))","v":8},null,null,null,{"$f":"I12","v":0},null,null,null,null,null,null,null,null,null,null,null,null,null,null,null,null,null,null,null,null,null,null,null,null,null,null,null,null,null,null,null,null,null,null,null,null,null,null,null,null,null,null,null,null,null,null,null,null,null,null,null,null,null,null,null,null,null,null,null,null,null,null,null,null,null,null,null,null,null,null,null,null,null,null,null,null,null,null,null,null,null,null,null,null,null,null,null,null,null,null,null,null,"1.04. TWLTL (two-way left-turn lane)",{"$f":"H43","v":-0.40845070422535223},0.40845070422535223,1,1.04,-0.40845070422535223,{"$f":"IF(ROUND(DF26,2)=0,\"\",C43)","v":"TWLTL (two-way left-turn lane)"},"TWLTL (two-way left-turn lane)",0.40845070422535223,4,"Centerline Rumble Strips",-0.16279069767441867]
["",null,"Horizontal Curve Present?","--","--","--","--",null,"--",null,null,null,null,null,null,null,null,null,null,null,null,null,null,null,null,null,null,null,null,null,null,null,null,null,null,null,null,null,null,null,null,null,null,null,null,null,null,null,null,null,null,null,null,null,null,null,null,null,null,null,null,null,null,null,null,null,null,null,null,null,null,null,null,null,null,null,null,null,null,null,null,null,null,null,null,null,null,null,null,null,null,null,null,null,null,null,null,null,null,null,null,"",{"$f":"H44","v":0},0,12,10.050000000000001,0,{"$f":"IF(ROUND(DF27,2)=0,\"\",C44)","v":""},"",0,5,"Shoulder Width (feet)",0.15503875968992242]
[null,null,"Horizontal Curve Data for Controlling Element:","--","--","--","--",null,"--",null,null,null,null,null,null,null,null,null,null,null,null,null,null,null,null,null,null,null,null,null,null,null,null,null,null,null,null,null,null,null,null,null,null,null,null,null,null,null,null,null,null,null,null,null,null,null,null,null,null,null,null,null,null,null,null,null,null,null,null,null,null,null,null,null,null,null,null,null,null,null,null,null,null,null,null,null,null,null,null,null,null,null,null,null,null,null,null,null,null,null,null,"",{"$f":"H52","v":0},0,13,10.06,0,{"$f":"IF(ROUND(DF28,2)=0,\"\",C52)","v":""},"",0,6,"Edgeline Pavement Markings or Profile Markings",0.13824118691351761]
[null,null,"  Radius (feet)",null,{"$f":"IF(MAX($I$10,$I$11)<45,590,IF($I$12=6,VLOOKUP(MAX($I$10,$I$11),Construction!$B$29:$D$36,2,TRUE),VLOOKUP(MAX($I$10,$I$11),Construction!$G$29:$I$36,2,TRUE)))","v":590},null,null,{"$f":"M140","v":0},{"$f":"IF(MAX($I$10,$I$11)<45,590,IF($I$12=6,VLOOKUP(MAX($I$10,$I$11),Construction!$B$45:$C$52,2,TRUE),VLOOKUP(MAX($I$10,$I$11),Construction!$G$45:$H$52,2,TRUE)))","v":590},null,null,null,null,null,null,null,null,null,null,null,null,null,null,null,null,null,null,null,null,null,null,null,null,null,null,null,null,null,null,null,null,null,null,null,null,null,null,null,null,null,null,null,null,null,null,null,null,null,null,null,null,null,null,null,null,null,null,null,null,null,null,null,null,null,null,null,null,null,null,null,null,null,null,null,null,null,null,null,null,null,null,null,null,null,null,null,null,null,null,null,null,"",0,0,14,10.07,0,"","",0,7,"Lateral Clearance to obstruction (ft)",9.0307162971216326E-2]
[null,null,"Length of Horizontal Curve (feet)",null,{"$f":"IF(D31=\"\", \"\", E29*E31/57.296)","v":""},null,null,null,{"$f":"I29*I31/57.296","v":3758.5520804244625},null,null,null,null,null,null,null,null,null,null,null,null,null,null,null,null,null,null,null,null,null,null,null,null,null,null,null,null,null,null,null,null,null,null,null,null,null,null,null,null,null,null,null,null,null,null,null,null,null,null,null,null,null,null,null,null,null,null,null,null,null,null,null,null,null,null,null,null,null,null,null,null,null,null,null,null,null,null,null,null,null,null,null,null,null,null,null,null,null,null,null,null,"",0,0,15,10.08,0,"","",0,8,"SafetyEdge",-2.8188991921691331E-2]
[null,null,"Calculated Deflection Angle ∆",{"$f":"IF(OR(ISBLANK(D29),ISBLANK(D30),$B$27=\"No\",ISBLANK($B$27)),\"\",ROUND(D30/D29*57.296,1))","v":""},{"$f":"IF(ISBLANK(D31), \"\",D31)","v":""},{"$f":"IF(OR(ISBLANK(F29),ISBLANK(F30),$B$27=\"No\",ISBLANK($B$27)),\"\",ROUND(F30/F29*57.296,1))","v":""},{"$f":"IF(OR(ISBLANK(G29),ISBLANK(G30),$B$27=\"No\",ISBLANK($B$27)),\"\",ROUND(G30/G29*57.296,1))","v":""},null,{"$f":"MIN(D31,IF(F33=INDEX(HCurveChange,1,0), F31, 365),IF(G33=INDEX(HCurveChange,1,0), G31, 365))","v":365},null,null,null,null,null,null,null,null,null,null,null,null,null,null,null,null,null,null,null,null,null,null,null,null,null,null,null,null,null,null,null,null,null,null,null,null,null,null,null,null,null,null,null,null,null,null,null,null,null,null,null,null,null,null,null,null,null,null,null,null,null,null,null,null,null,null,null,null,null,null,null,null,null,null,null,null,null,null,null,null,null,null,null,null,null,null,null,null,null,null,null,null,"6.09. Edgeline Pavement Markings or Profile Markings",0.13824118691351761,0.13824118691351761,6,6.09,0.13824118691351761,"Edgeline Pavement Markings or Profile Markings","Edgeline Pavement Markings or Profile Markings",0.13824118691351761,9,"Lighting",-2.3499081529478438E-2]
[null,null,null,null,null,"∆ has changed. \nAre you changing the ∆?","∆ has changed. \nAre you changing the ∆?",null,null,null,null,null,null,null,null,null,null,null,null,null,null,null,null,null,null,null,null,null,null,null,null,null,null,null,null,null,null,null,null,null,null,null,null,null,null,null,null,null,null,null,null,null,null,null,null,null,null,null,null,null,null,null,null,null,null,null,null,null,null,null,null,null,null,null,null,null,null,null,null,null,null,null,null,null,null,null,null,null,null,null,null,null,null,null,null,null,null,null,null,null,null,"",0,0,16,10.1,0,"","",0,10,"",0]
[null,null,null,null,null,null,null,null,null,null,null,null,null,null,null,null,null,null,null,null,null,null,null,null,null,null,null,null,null,null,null,null,null,null,null,null,null,null,null,null,null,null,null,null,null,null,null,null,null,null,null,null,null,null,null,null,null,null,null,null,null,null,null,null,null,null,null,null,null,null,null,null,null,null,null,null,null,null,null,null,null,null,null,null,null,null,null,null,null,null,null,null,null,null,null,null,null,null,null,null,null,"4.11. Centerline Rumble Strips",-0.16279069767441867,0.16279069767441867,4,4.1100000000000003,-0.16279069767441867,"Centerline Rumble Strips","Centerline Rumble Strips",0.16279069767441867,11,"",0]
[null,null,"Vertical Curve Present?","--","--","--","--",null,{"$f":"E34","v":"--"},null,null,null,null,null,null,null,null,null,null,null,null,null,null,null,null,null,null,null,null,null,null,null,null,null,null,null,null,null,null,null,null,null,null,null,null,null,null,null,null,null,null,null,null,null,null,null,null,null,null,null,null,null,null,null,null,null,null,null,null,null,null,null,null,null,null,null,null,null,null,null,null,null,null,null,null,null,null,null,null,null,null,null,null,null,null,null,null,null,null,null,null,"3.12. Driveway Density (driveways per mile)",-0.22388114201141129,0.22388114201141129,3,3.12,-0.22388114201141129,{"$f":"IF(DF34=0,\"\",C58)","v":"Driveway Density (driveways per mile)"},"Driveway Density (driveways per mile)",0.22388114201141129,12,"",0]
[null,null,"Vertical Curve Data for Controlling Element:","--","--","--","--",null,"--",null,null,null,null,null,null,null,null,null,null,null,null,null,null,null,null,null,null,null,null,null,null,null,null,null,null,null,null,null,null,null,null,null,null,null,null,null,null,null,null,null,null,null,null,null,null,null,null,null,null,null,null,null,null,null,null,null,null,null,null,null,null,null,null,null,null,null,null,null,null,null,null,null,null,null,null,null,null,null,null,null,null,null,null,null,null,null,null,null,null,null,null,"9.13. Lighting",-2.3499081529478438E-2,2.3499081529478438E-2,9,9.1300000000000008,-2.3499081529478438E-2,{"$f":"IF(DF35=0,\"\",C59)","v":"Lighting"},"Lighting",2.3499081529478438E-2,13,"",0]
[null,null,"  Approach (Entry) Grade, G1 (%)",null,{"$f":"IF(ISBLANK(D36),\"\", D36)","v":""},null,null,null,{"$f":"IF(B34=\"Yes\",I227,I237)","v":""},null,null,null,null,null,null,null,null,null,null,null,null,null,null,null,null,null,null,null,null,null,null,null,null,null,null,null,null,null,null,null,null,null,null,null,null,null,null,null,null,null,null,null,null,null,null,null,null,null,null,null,null,null,null,null,null,null,null,null,null,null,null,null,null,null,null,null,null,null,null,null,null,null,null,null,null,null,null,null,null,null,null,null,null,null,null,null,null,null,null,null,null,"2.14. Pavement Friction (skid number) ***",0.28430956017940245,0.28430956017940245,2,2.14,0.28430956017940245,{"$f":"IF(DF36=0,\"\",C60)","v":"Pavement Friction (skid number) ***"},"Pavement Friction (skid number) ***",0.28430956017940245,14,"",0]
[null,null,"  Departure (Exit) Grade, G2 (%)",null,{"$f":"IF(ISBLANK(D37),\"\", D37)","v":""},null,null,null,{"$f":"IF($B$34=\"Yes\",I228,\"\")","v":""},null,null,null,null,null,null,null,null,null,null,null,null,null,null,null,null,null,null,null,null,null,null,null,null,null,null,null,null,null,null,null,null,null,null,null,null,null,null,null,null,null,null,null,null,null,null,null,null,null,null,null,null,null,null,null,null,null,null,null,null,null,null,null,null,null,null,null,null,null,null,null,null,null,null,null,null,null,null,null,null,null,null,null,null,null,null,null,null,null,null,null,null,"",{"$f":"H72","v":0},0,17,10.15,0,{"$f":"IF(DF37=0,\"\",C72)","v":""},"",0,15,"",0]
[null,null,"  Length (feet)",null,{"$f":"IF(AND($B$34=\"Yes\", D39<>\"\"), ABS(E36-E37)*D39, \"\")","v":""},null,null,null,{"$f":"IF(AND($B$34=\"Yes\",I36<>\"\",I37<>\"\", NOT(ISBLANK($I$10)), NOT(ISBLANK($I$11))),ABS(I37-I36)*I39,\"\")","v":""},null,null,null,null,null,null,null,null,null,null,null,null,null,null,null,null,null,null,null,null,null,null,null,null,null,null,null,null,null,null,null,null,null,null,null,null,null,null,null,null,null,null,null,null,null,null,null,null,null,null,null,null,null,null,null,null,null,null,null,null,null,null,null,null,null,null,null,null,null,null,null,null,null,null,null,null,null,null,null,null,null,null,null,null,null,null,null,null,null,null,null,null,"",{"$f":"H73","v":0},{"$f":"ABS(CY38)","v":0},18,10.16,0,{"$f":"IF(DF38=0,\"\",C73)","v":""},"",0,16,"",0]
[null,null,"  Calculated Rate of Change, K (ft/ft)",{"$f":"IF(OR($B$34=\"No\",ISBLANK($B$34), ISBLANK(D36), ISBLANK(D37),ISBLANK(D38), D36=D37), \"\", ROUND(D38/(ABS(D37-D36)),1))","v":""},{"$f":"IF(AND($B$34=\"Yes\", NOT(ISBLANK($I$10)), NOT(ISBLANK($I$11)), D39<>\"\"), IF($E$42=\"Crest\",  VLOOKUP(MAX($I$10,$I$11),Construction!$B$159:$D$171,2,TRUE), VLOOKUP(MAX($I$10,$I$11),Construction!$B$159:$D$171,3,TRUE)), \"\")","v":""},{"$f":"IF(AND($B$34=\"Yes\", SUM(F263:F265)=0),ROUND(F38/(ABS(F37-F36)),1),\"\")","v":""},{"$f":"IF(AND($B$34=\"Yes\", SUM(G263:G265)=0),ROUND(G38/(ABS(G37-G36)),1),\"\")","v":""},null,{"$f":"IF(OR($B$34<>\"Yes\", ISBLANK($I$10), ISBLANK($I$11), $I$36=\"\", $I$37=\"\", $I$42=\"--\", ISBLANK($I$42)),\"\",IF($I$42=\"Crest\",VLOOKUP(MAX($I$10,$I$11),Construction!$B$179:$D$191,2,TRUE),VLOOKUP(MAX($I$10,$I$11),Construction!$B$179:$D$191,3,TRUE)))","v":""},null,null,null,null,null,null,null,null,null,null,null,null,null,null,null,null,null,null,null,null,null,null,null,null,null,null,null,null,null,null,null,null,null,null,null,null,null,null,null,null,null,null,null,null,null,null,null,null,null,null,null,null,null,null,null,null,null,null,null,null,null,null,null,null,null,null,null,null,null,null,null,null,null,null,null,null,null,null,null,null,null,null,null,null,null,null,null,null,null,null,null,null,"8.17. SafetyEdge",{"$f":"H74","v":-2.8188991921691331E-2},{"$f":"ABS(CY39)","v":2.8188991921691331E-2},8,8.17,-2.8188991921691331E-2,{"$f":"IF(DF39=0,\"\",C74)","v":"SafetyEdge"},"SafetyEdge",2.8188991921691331E-2,17,"",0]
[null,null,null,null,null,"Are you changing the geometry?","Are you changing the geometry?",null,null,null,null,null,null,null,null,null,null,null,null,null,null,null,null,null,null,null,null,null,null,null,null,null,null,null,null,null,null,null,null,null,null,null,null,null,null,null,null,null,null,null,null,null,null,null,null,null,null,null,null,null,null,null,null,null,null,null,null,null,null,null,null,null,null,null,null,null,null,null,null,null,null,null,null,null,null,null,null,null,null,null,null,null,null,null,null,null,null,null,null,null,null,"7.18. Lateral Clearance to obstruction (ft)",{"$f":"H75","v":9.0307162971216326E-2},{"$f":"ABS(CY40)","v":9.0307162971216326E-2},7,7.18,9.0307162971216326E-2,{"$f":"IF(DF40=0,\"\",C75)","v":"Lateral Clearance to obstruction (ft)"},"Lateral Clearance to obstruction (ft)",9.0307162971216326E-2,18,"",0]
[null,null,null,null,null,null,null,null,null,null,null,null,null,null,null,null,null,null,null,null,null,null,null,null,null,null,null,null,null,null,null,null,null,null,null,null,null,null,null,null,null,null,null,null,null,null,null,null,null,null,null,null,null,null,null,null,null,null,null,null,null,null,null,null,null,null,null,null,null,null,null,null,null,null,null,null,null,null,null,null,null,null,null,null,null,null,null,null,null,null,null,null,null,null,null,null,null,null,null,null,null,"",{"$f":"H76","v":0},{"$f":"ABS(CY41)","v":0},19,10.19,0,{"$f":"IF(DF41=0,\"\",C76)","v":""},"",0,19,"",0]
[null,null,"  Calculated Sag or Crest?",{"$f":"IF(AND($B$34=\"Yes\", SUM(D263:D265)=0),IF(D36>D37,\"Crest\",\"Sag\"),\"--\")","v":"--"},{"$f":"IF(AND($B$34=\"Yes\", SUM(D263:D265)=0),IF(E36>E37,\"Crest\",\"Sag\"),\"--\")","v":"--"},{"$f":"IF(AND($B$34=\"Yes\", SUM(F263:F265)=0),IF(F36>F37,\"Crest\",\"Sag\"),\"--\")","v":"--"},{"$f":"IF(AND($B$34=\"Yes\", SUM(G263:G265)=0),IF(G36>G37,\"Crest\",\"Sag\"),\"--\")","v":"--"},null,{"$f":"IF($B$34=\"Yes\",IF(I36>I37,\"Crest\",\"Sag\"),\"--\")","v":"--"}]
[null,null,"TWLTL (two-way left-turn lane)",null,"No",null,null,{"$f":"M108","v":-0.40845070422535223},{"$f":"IF(OR($D$43=\"Yes\", $F$43=\"Yes\",$G$43=\"Yes\"), \"Yes\", \"No\")","v":"No"}]
[null,null,"Passing Lane Type",null,"No Passing Lane",null,null,{"$f":"M109","v":0},"Super 2"]
[null,null,"Geometric Design Element (Partial Score)",{"$f":"IF(OR(SUM(D251:D253,D256:D257,D263:D265,D270:D271)>0, ISERR(D125)),\"\",D125)","v":""},{"$f":"IF(OR(SUM(E251:E253,E256:E257,E263:E265,E270:E271)>0, ISERR(E125)),\"\",E125)","v":""},"","",null,{"$f":"IF(OR(SUM(I251:I253,I256:I257,I263:I265,I270:I271)>0, ISERR(I125)),\"\",I125)","v":""}]
[null,null,"Total Safety Score",{"$f":"IF(OR(D$249>0, $I$315>0,ISERROR(D$201+D$171+D$125)),\"\",D$201+D$171+D$125)","v":""},{"$f":"IF(OR(E$249>0, $I$315>0,ISERROR(E$201+E$171+E$125)),\"\",E$201+E$171+E$125)","v":""},"","",null,"",null,null,null,"SCHEMATIC REPRESENTING INPUT DATA FOR ",null,null,null,null,null,null,null,{"$f":"IF($I$2=\"Existing\",\"EXISTING CONFIGURATION\",IF($I$2=\"Standard\",\"STANDARD OPTION\",IF($I$2=\"Design 1\",\"DESIGN 1 OPTION\",IF($I$2=\"Design 2\",\"DESIGN 2 OPTION\",\"OPTIMAL OPTION\"))))","v":"STANDARD OPTION"}]
[]
[null,null,null,null,null,null,null,null,null,null,null,"LT",null,null,null,null,null,null,null,null,null,null,null,null,null,null,"RT"]
[null,null,null,null,null,null,null,null,null,null,null,"R/W",null,null,null,null,null,null,null,null,null,null,null,null,null,null,"R/W"]
[null,{"$f":"+Construction!$I$9&\"  Total Available Points\"","v":"20  Total Available Points"}]
[null,"Traffic Elements",null,"Existing","Standard","Design 1","Design 2",{"$f":"$H$23","v":"Marginal Safety for Standard (compared to Existing)"},"Optimal",null,null,null,null,null,{"$f":"+$I$14","v":0},null,null,null,null,null,null,null,{"$f":"+$I$15","v":0}]
[null,null,"Advance Static Curve Warning Signs",null,"No",null,null,{"$f":"M145","v":0},"Yes"]
[null,null,"Chevron Signs on Horizontal Curves",null,"No",null,null,{"$f":"M146","v":0},"Yes",null,null,{"$f":"+O51-N53-Q53","v":-16},null,{"$f":"IF(+$I$2=\"Existing\",D25,IF($I$2=\"Standard\",E25,IF($I$2=\"Design 1\",F25,IF($I$2=\"Design 2\",G25,I25))))","v":4},null,null,{"$f":"IF(+$I$2=\"Existing\",D24,IF($I$2=\"Standard\",E24,IF($I$2=\"Design 1\",F24,IF($I$2=\"Design 2\",G24,I24))))","v":12},null,null,null,null,{"$f":"+Q53","v":12},null,null,{"$f":"+N53","v":4},{"$f":"+W51-V53-Y53","v":-16}]
[null,null,"Post-Mounted Delineators",null,"No",null,null,0,"Yes"]
[null,null,"Edgeline Pavement Markings or Profile Markings",null,"Yes",null,null,0.13824118691351761,"Yes"]
[null,null,"Shoulder Rumble Strips",null,"Yes",null,null,{"$f":"M150","v":0},"Yes"]
[null,null,"Centerline Rumble Strips",null,"No",null,null,{"$f":"M151","v":-0.16279069767441867},"Yes"]
[null,null,"Driveway Density (driveways per mile)",null,10,null,null,{"$f":"M152","v":-0.22388114201141129},0]
[null,null,"Lighting",null,"No",null,null,{"$f":"M153","v":-2.3499081529478438E-2},"Yes",null,null,null,null,null,null,null,null,null,"Tangent X-Section"]
[null,null,"Pavement Friction (skid number) ***",null,37,null,null,{"$f":"M154","v":0.28430956017940245},54]
[]
[null,null,"Traffic Control Element (Partial Score):",{"$f":"IF(ISERROR(D171), \"\", D171)","v":12},{"$f":"IF(ISERROR(E171), \"\", E171)","v":14},{"$f":"IF(ISERROR(F171), \"\", F171)","v":""},{"$f":"IF(ISERROR(G171), \"\", G171)","v":""},null,{"$f":"IF(ISERROR(I171), \"\", I171)","v":20}]
[null,null,"Total Safety Score",{"$f":"IF(OR(D$249>0, $I$315>0,ISERROR(D$201+D$171+D$125)),\"\",D$201+D$171+D$125)","v":""},{"$f":"IF(OR(E$249>0, $I$315>0,ISERROR(E$201+E$171+E$125)),\"\",E$201+E$171+E$125)","v":""},"","",null,""]
[]
[null,null,"*** Pavement friction/skid numbers will not be subject to open records requests ***",null,null,null,null,null,null,null," "]
[]
[]
[]
[null,null,null,null,null,null,null,null,null,null,null,null,null,null,null,null,null,null,"Curved X-Section"]
[null,{"$f":"+Construction!$I$10&\"  Total Available Points\"","v":"40  Total Available Points"}]
[null,"Roadside  Elements",null,"Existing","Standard","Design 1","Design 2",{"$f":"$H$23","v":"Marginal Safety for Standard (compared to Existing)"},"Optimal"]
[null,null,"Sideslope (Foreslope)",null,"1V:4H",null,null,{"$f":"M180","v":0},"1V:6H"]
[null,null,"Backslope",null,{"$f":"E72","v":"1V:4H"},null,null,{"$f":"M181","v":0},"1V:4H"]
[null,null,"SafetyEdge",null,"No",null,null,{"$f":"M182","v":-2.8188991921691331E-2},"Yes"]
[null,null,"Lateral Clearance to obstruction (ft)",null,30,null,null,{"$f":"M183","v":9.0307162971216326E-2},40,null,null,null,null,null,null,null,{"$f":"IF($I$2=\"Existing\",\"SCORE SUMMARY FOR EXISTING CONFIGURATION\", IF($I$2=\"Standard\",\"SCORE SUMMARY FOR STANDARD OPTION\",IF($I$2=\"Design 1\",\"SCORE SUMMARY FOR DESIGN 1 OPTION\",IF($I$2=\"Design 2\",\"SCORE SUMMARY FOR DESIGN 2 OPTION\", \"SCORE SUMMARY FOR OPTIMAL OPTION\"))))","v":"SCORE SUMMARY FOR STANDARD OPTION"}]
[null,null,"Obstruction Type",null,"Other Fixed Object",null,null,{"$f":"M184","v":0},"None",null,null,null,null,null,null,null,"GEOMETRIC DESIGN:",null,null,null,null,null,{"$f":"IF($I$2=\"Existing\",D45,IF($I$2=\"Standard\",E45,IF($I$2=\"Design 1\",F45,IF($I$2=\"Design 2\",G45,I45))))","v":""}]
[null,null,"Roadside Element (Partial Score):",{"$f":"IF(ISERR(D201),\"\",D201)","v":""},{"$f":"IF(ISERR(E201),\"\",E201)","v":27},{"$f":"IF(ISERR(F201),\"\",F201)","v":""},{"$f":"IF(ISERR(G201),\"\",G201)","v":""},null,{"$f":"IF(ISERR(I201),\"\",I201)","v":40},null,null,null,null,null,null,null,"TRAFFIC CONTROL:",null,null,null,null,null,{"$f":"IF($I$2=\"Existing\",D62,IF($I$2=\"Standard\",E62,IF($I$2=\"Design 1\",F62,IF($I$2=\"Design 2\",G62,I62))))","v":14}]
[null,null,"Total Safety Score",{"$f":"IF(OR(D$249>0, $I$315>0,ISERROR(D$201+D$171+D$125)),\"\",D$201+D$171+D$125)","v":""},{"$f":"IF(OR(E$249>0, $I$315>0,ISERROR(E$201+E$171+E$125)),\"\",E$201+E$171+E$125)","v":""},"","",null,"",null,null,null,null,null,null,null,"ROADSIDE:",null,null,null,null,null,{"$f":"IF($I$2=\"Existing\",D77,IF($I$2=\"Standard\",E77,IF($I$2=\"Design 1\",F77,IF($I$2=\"Design 2\",G77,I77))))","v":27}]
[null,null,null,null,null,null,null,null,null,null,null,null,null,null,null,null,"OVERALL SAFETY SCORE:",null,null,null,null,null,{"$f":"SUM(W76:X78)","v":41}]
[]
[]
[]
[null,"ADDITIONAL SIDESLOPE INFORMATION"]
[null,null,"Distance to Slope Toe from Shoulder (ft)",null,{"$f":"D84","v":0},{"$f":"E84","v":0},{"$f":"F84","v":0},null,{"$f":"G84","v":0}]
[null,"Minimum foreslope feasible within current ROW",null,null,{"$f":"IF(OR(ISBLANK($D$84), ISERROR(E206)), \"\", \"1V:\"&E206&\"H\")","v":""},{"$f":"IF(OR(ISBLANK($D$84), ISERROR(F206)), \"\", \"1V:\"&F206&\"H\")","v":""},{"$f":"IF(OR(ISBLANK($D$84), ISERROR(G206)), \"\", \"1V:\"&G206&\"H\")","v":""},null,{"$f":"IF(OR(ISBLANK($D$84), ISERROR(I206)), \"\", \"1V:\"&I206&\"H\")","v":""}]
[null,"Additional R/W needed on left side",null,null,{"$f":"IF(OR(ISBLANK($D$84), ISERROR(E210)),\"\", MAX(E210,E213))","v":""},{"$f":"IF(OR(ISBLANK($D$84), ISERROR(F210)), \"\", MAX(F210,F213))","v":""},{"$f":"IF(OR(ISBLANK($D$84), ISERROR(G210)),\"\", MAX(G210,G213))","v":""},null,{"$f":"IF(OR(ISBLANK($D$84), ISERROR(I210)),\"\", MAX(I210,I213))","v":""}]
[null,"Additional R/W needed on right side",null,null,{"$f":"IF(OR(ISBLANK($D$84), ISERROR(E211)), \"\", MAX(E211,E214))","v":""},{"$f":"IF(OR(ISBLANK($D$84), ISERROR(F211)), \"\", MAX(F211,F214))","v":""},{"$f":"IF(OR(ISBLANK($D$84), ISERROR(G211)),\"\", MAX(G211,G214))","v":""},null,{"$f":"IF(OR(ISBLANK($D$84), ISERROR(I211)),\"\", MAX(I211,I214))","v":""}]
[]
[]
[]
[]
[]
[]
[]
[null,null,null,null,null,null,null,null,null,{"$f":"1-I100/E100","v":0}]
[null,null,null,null,null,null,null,null,null,{"$f":"1-I101/E101","v":0.17431192660550465},"For Plot"]
[null,null,null,{"$f":"MAX(SUM(D103:D107)-5,$I$97)","v":{"$error":"#VALUE!"}},{"$f":"MAX(SUM(E103:E107)-5,$I$97)","v":{"$error":"#VALUE!"}},{"$f":"MAX(SUM(F103:F107)-5,$I$97)","v":{"$error":"#VALUE!"}},{"$f":"MAX(SUM(G103:G107)-5,$I$97)","v":{"$error":"#VALUE!"}},null,{"$f":"SUM(I103:I107)-5","v":{"$error":"#VALUE!"}},{"$f":"1-I102/E102","v":0},"relative to","Prefer"]
[null,null,null,null,null,null,null,null,null,{"$f":"1-I103/E103","v":{"$error":"#VALUE!"}},{"$f":"MATCH(K99,ModView,0)","v":1},{"$f":"MATCH(L99,ModView,0)","v":2}]
[null,"Geometric",null,null,null,null,null,null,null,null,{"$f":"I4","v":"Existing"},{"$f":"I2","v":"Standard"},"%"]
[null,null,"LW CMF",{"$f":"VLOOKUP(+D24,Construction!$C$3:$D$9,2)","v":{"$error":"#N/A"}},{"$f":"VLOOKUP(+E24,Construction!$C$3:$D$9,2)","v":1},{"$f":"VLOOKUP(+F24,Construction!$C$3:$D$9,2)","v":{"$error":"#N/A"}},{"$f":"VLOOKUP(+G24,Construction!$C$3:$D$9,2)","v":{"$error":"#N/A"}},{"$f":"H24","v":0},{"$f":"VLOOKUP(+I24,Construction!$C$3:$D$9,2)","v":1},null,{"$f":"INDEX($D100:$I100,K$98)","v":{"$error":"#N/A"}},{"$f":"INDEX($D100:$I100,L$98)","v":1},{"$f":"IF(ISERROR(1-L100/K100), 0, 1-L100/K100)","v":0}]
[null,null,"SW CMF",{"$f":"VLOOKUP(D25,Construction!$C$13:D23,2)","v":1.29},{"$f":"VLOOKUP(E25,Construction!$C$13:E23,2)","v":1.0900000000000001},{"$f":"VLOOKUP(F25,Construction!$C$13:F23,2)","v":1.29},{"$f":"VLOOKUP(G25,Construction!$C$13:G23,2)","v":1.29},{"$f":"IF($I$2=\"Existing\",(1-D101/E101),(IF($I$2=\"Design 1\",(1-F101/E101),(IF($I$2=\"Design 2\",(1-G101/E101),(IF($I$2=\"Optimal\",(1-I101/E101),0)))))))","v":0},{"$f":"VLOOKUP(I25,Construction!$C$13:I23,2)","v":0.9},null,{"$f":"INDEX($D101:$I101,K$98)","v":1.29},{"$f":"INDEX($D101:$I101,L$98)","v":1.0900000000000001},{"$f":"IF(ISERROR(1-L101/K101), 0, 1-L101/K101)","v":0.15503875968992242}]
[null,null,"Placeholder for super deficincy",1,1,1,1,0,1,null,{"$f":"INDEX($D102:$I102,K$98)","v":1},{"$f":"INDEX($D102:$I102,L$98)","v":1},0]
[null,null,"HC and Grade",{"$f":"D$134^D$127","v":1},{"$f":"E$134^E$127","v":{"$error":"#VALUE!"}},{"$f":"F$134^F$127","v":1},{"$f":"G$134^G$127","v":1},0,{"$f":"I$134^I$127","v":{"$error":"#VALUE!"}},null,{"$f":"INDEX($D103:$I103,K$98)","v":1},{"$f":"INDEX($D103:$I103,L$98)","v":{"$error":"#VALUE!"}},0]
[null,null,"HC and VC Crest type I",{"$f":"D$135^D$128","v":1},{"$f":"E$135^E$128","v":1},{"$f":"F$135^F$128","v":1},{"$f":"G$135^G$128","v":1},0,{"$f":"I$135^I$128","v":{"$error":"#VALUE!"}},null,{"$f":"INDEX($D104:$I104,K$98)","v":1},{"$f":"INDEX($D104:$I104,L$98)","v":1},0]
[null,null,"HC and VC Sag type I",{"$f":"D$136^D$129","v":1},{"$f":"E$136^E$129","v":1},{"$f":"F$136^F$129","v":1},{"$f":"G$136^G$129","v":1},0,{"$f":"I$136^I$129","v":{"$error":"#VALUE!"}},null,{"$f":"INDEX($D105:$I105,K$98)","v":1},{"$f":"INDEX($D105:$I105,L$98)","v":1},0]
[null,null,"HC and VC Crest type II",{"$f":"D$137^D$130","v":1},{"$f":"E$137^E$130","v":1},{"$f":"F$137^F$130","v":1},{"$f":"G$137^G$130","v":1},0,{"$f":"I$137^I$130","v":{"$error":"#VALUE!"}},{"$f":"1-I111/E111","v":{"$error":"#VALUE!"}},{"$f":"INDEX($D106:$I106,K$98)","v":1},{"$f":"INDEX($D106:$I106,L$98)","v":1},0]
[null,null,"HC and VC Sag type II",{"$f":"D$138^D$131","v":1},{"$f":"E$138^E$131","v":1},{"$f":"F$138^F$131","v":1},{"$f":"G$138^G$131","v":1},0,{"$f":"I$138^I$131","v":{"$error":"#VALUE!"}},{"$f":"1-I112/E112","v":{"$error":"#VALUE!"}},{"$f":"INDEX($D107:$I107,K$98)","v":1},{"$f":"INDEX($D107:$I107,L$98)","v":1},0]
[null,null,"Add TWLTL",{"$f":"IF(D$43=\"No\",1,CMFs!$F$17)","v":0.71},{"$f":"IF(E$43=\"No\",1,CMFs!$F$17)","v":1},{"$f":"IF(F$43=\"No\",1,CMFs!$F$17)","v":0.71},{"$f":"IF(G$43=\"No\",1,CMFs!$F$17)","v":0.71},0,{"$f":"IF(I$43=\"No\",1,CMFs!$F$17)","v":1},{"$f":"1-I113/E113","v":{"$error":"#VALUE!"}},{"$f":"INDEX($D108:$I108,K$98)","v":0.71},{"$f":"INDEX($D108:$I108,L$98)","v":1},-0.40845070422535223]
[null,null,"Passing Lane Type",{"$f":"IF(ISNUMBER(INDEX(PassLNCMF, MATCH(D44,Passing_Lane_Type,0))),INDEX(PassLNCMF, MATCH(D44,Passing_Lane_Type,0)),1)","v":1},{"$f":"IF(ISNUMBER(INDEX(PassLNCMF, MATCH(E44,Passing_Lane_Type,0))),INDEX(PassLNCMF, MATCH(E44,Passing_Lane_Type,0)),1)","v":1},{"$f":"IF(ISNUMBER(INDEX(PassLNCMF, MATCH(F44,Passing_Lane_Type,0))),INDEX(PassLNCMF, MATCH(F44,Passing_Lane_Type,0)),1)","v":1},{"$f":"IF(ISNUMBER(INDEX(PassLNCMF, MATCH(G44,Passing_Lane_Type,0))),INDEX(PassLNCMF, MATCH(G44,Passing_Lane_Type,0)),1)","v":1},0,{"$f":"IF(ISNUMBER(INDEX(PassLNCMF, MATCH(I44,Passing_Lane_Type,0))),INDEX(PassLNCMF, MATCH(I44,Passing_Lane_Type,0)),1)","v":0.65},{"$f":"1-I114/E114","v":{"$error":"#VALUE!"}},{"$f":"INDEX($D109:$I109,K$98)","v":1},{"$f":"INDEX($D109:$I109,L$98)","v":1},0]
[null,null,null,null,null,null,null,null,null,{"$f":"I115/E115","v":{"$error":"#VALUE!"}}]
[null,null,"COMBINED Calculated CMF",{"$f":"+D100*D101*D102*D103*D104*D105*D106*D107*D108*D109","v":{"$error":"#N/A"}},{"$f":"+E100*E101*E102*E103*E104*E105*E106*E107*E108*E109","v":{"$error":"#VALUE!"}},{"$f":"+F100*F101*F102*F103*F104*F105*F106*F107*F108*F109","v":{"$error":"#N/A"}},{"$f":"+G100*G101*G102*G103*G104*G105*G106*G107*G108*G109","v":{"$error":"#N/A"}},{"$f":"IF($I$2=\"Existing\",(D111),(IF($I$2=\"Design 1\",(F111),(IF($I$2=\"Design 2\",(G111),(IF($I$2=\"Optimal\",(I111),E111)))))))","v":{"$error":"#VALUE!"}},{"$f":"+I100*I101*I102*I103*I104*I105*I106*I107*I108*I109","v":{"$error":"#VALUE!"}},null,{"$f":"INDEX($D111:$I111,K$98)","v":{"$error":"#N/A"}},{"$f":"INDEX($D111:$I111,L$98)","v":{"$error":"#VALUE!"}},{"$f":"IF(ISERROR(1-L111/K111), 0, 1-L111/K111)","v":0}]
[null,null,"Calculated Relative to Design Standards (Column E)",{"$f":"+D111/$E$111","v":{"$error":"#N/A"}},{"$error":"#VALUE!"},{"$error":"#N/A"},{"$error":"#N/A"},{"$error":"#VALUE!"},{"$error":"#VALUE!"},null,{"$f":"INDEX($D112:$I112,K$98)","v":{"$error":"#N/A"}},{"$f":"INDEX($D112:$I112,L$98)","v":{"$error":"#VALUE!"}},0]
[null,null,"P(Crash)",{"$f":"+D112/(D112+1)","v":{"$error":"#N/A"}},{"$error":"#VALUE!"},{"$error":"#N/A"},{"$error":"#N/A"},{"$error":"#VALUE!"},{"$error":"#VALUE!"},null,{"$f":"INDEX($D113:$I113,K$98)","v":{"$error":"#N/A"}},{"$f":"INDEX($D113:$I113,L$98)","v":{"$error":"#VALUE!"}},0]
[null,null,"Factor Change on S curve",{"$f":"+D113/$E$113","v":{"$error":"#N/A"}},{"$error":"#VALUE!"},{"$error":"#N/A"},{"$error":"#N/A"},{"$error":"#VALUE!"},{"$error":"#VALUE!"},null,{"$f":"INDEX($D114:$I114,K$98)","v":{"$error":"#N/A"}},{"$f":"INDEX($D114:$I114,L$98)","v":{"$error":"#VALUE!"}},0]
[null,null,"Adjust to Scale of 100",{"$f":"+$I$114/D114*100","v":{"$error":"#VALUE!"}},{"$error":"#VALUE!"},{"$error":"#VALUE!"},{"$error":"#VALUE!"},{"$error":"#VALUE!"},{"$error":"#VALUE!"}]
[null,null,"Unadjusted Combined Relative to Standard",{"$f":"+D111/$E$111","v":{"$error":"#N/A"}},{"$error":"#VALUE!"},{"$error":"#N/A"},{"$error":"#N/A"},{"$error":"#VALUE!"},{"$error":"#VALUE!"},null,{"$f":"INDEX($D116:$I116,K$98)","v":{"$error":"#N/A"}},{"$f":"INDEX($D116:$I116,L$98)","v":{"$error":"#VALUE!"}},{"$f":"IF(ISERROR(1-L116/K116), 0, 1-L116/K116)","v":0}]
[null,null,null,null,null,null,null,null,null,{"$f":"I122/E122","v":{"$error":"#VALUE!"}}]
[null,null,"Adjusted for PA Basis",{"$f":"+D111*(1+1)/(1+D111*1)","v":{"$error":"#N/A"}},{"$error":"#VALUE!"},{"$error":"#N/A"},{"$error":"#N/A"},{"$f":"IF($I$2=\"Existing\",(D118),(IF($I$2=\"Design 1\",(F118),(IF($I$2=\"Design 2\",(G118),(IF($I$2=\"Optimal\",(I118),E118)))))))","v":{"$error":"#VALUE!"}},{"$error":"#VALUE!"},null,{"$f":"INDEX($D118:$I118,K$98)","v":{"$error":"#N/A"}},{"$f":"INDEX($D118:$I118,L$98)","v":{"$error":"#VALUE!"}},{"$f":"IF(ISERROR(1-L118/K118), 0, 1-L118/K118)","v":0}]
[null,null,"Corrected by Odds Ratio",{"$f":"+D118/$E$118","v":{"$error":"#N/A"}},{"$error":"#VALUE!"},{"$error":"#N/A"},{"$error":"#N/A"},{"$f":"IF($I$2=\"Existing\",(D119),(IF($I$2=\"Design 1\",(F119),(IF($I$2=\"Design 2\",(G119),(IF($I$2=\"Optimal\",(I119),E119)))))))","v":{"$error":"#VALUE!"}},{"$error":"#VALUE!"},null,{"$f":"INDEX($D119:$I119,K$98)","v":{"$error":"#N/A"}},{"$f":"INDEX($D119:$I119,L$98)","v":{"$error":"#VALUE!"}},0]
[null,null,"Pinned s",{"$f":"(1/D119)^$D123","v":{"$error":"#N/A"}},{"$error":"#VALUE!"},{"$error":"#N/A"},{"$error":"#N/A"},{"$error":"#VALUE!"},{"$error":"#VALUE!"},{"$f":"I125/E125","v":{"$error":"#VALUE!"}},{"$f":"INDEX($D120:$I120,K$98)","v":{"$error":"#N/A"}},{"$f":"INDEX($D120:$I120,L$98)","v":{"$error":"#VALUE!"}},0]
[null,null,null,{"$f":"(D120+$F124-1)/(1+(D120+$F124-1))","v":{"$error":"#N/A"}},{"$error":"#VALUE!"},{"$error":"#N/A"},{"$error":"#N/A"},{"$error":"#VALUE!"},{"$error":"#VALUE!"},null,{"$f":"INDEX($D121:$I121,K$98)","v":{"$error":"#N/A"}},{"$f":"INDEX($D121:$I121,L$98)","v":{"$error":"#VALUE!"}},0]
[null,null,"Score Odds Ratio with Optimal (old)",{"$f":"MIN(ROUND($I$119/D119*Construction!$I$8,0),$I122)","v":{"$error":"#VALUE!"}},{"$f":"MIN(ROUND($I$119/E119*Construction!$I$8,0),$I122)","v":{"$error":"#VALUE!"}},{"$f":"MIN(ROUND($I$119/F119*Construction!$I$8,0),$I122)","v":{"$error":"#VALUE!"}},{"$f":"MIN(ROUND($I$119/G119*Construction!$I$8,0),$I122)","v":{"$error":"#VALUE!"}},{"$f":"IF($I$2=\"Existing\",(D122),(IF($I$2=\"Design 1\",(F122),(IF($I$2=\"Design 2\",(G122),(IF($I$2=\"Optimal\",(I122),E122)))))))","v":{"$error":"#VALUE!"}},{"$f":"ROUND($I$119/I119*Construction!$I$8,0)","v":{"$error":"#VALUE!"}}]
[null,null,"Logistic1",{"$f":"LN((D124/(1-D124))/(0.5/0.5))/LN($E119/I119)","v":{"$error":"#VALUE!"}}]
[null,null,"Logistic Param",0.999,null,{"$f":"0.7/0.3","v":2.3333333333333335}]
[null,null,"Score ",{"$f":"MIN(ROUND(D121*Construction!$I$8,0),$I122)","v":{"$error":"#N/A"}},{"$f":"MIN(ROUND(E121*Construction!$I$8,0),$I122)","v":{"$error":"#VALUE!"}},{"$f":"MIN(ROUND(F121*Construction!$I$8,0),$I122)","v":{"$error":"#N/A"}},{"$f":"MIN(ROUND(G121*Construction!$I$8,0),$I122)","v":{"$error":"#N/A"}},{"$f":"MIN(ROUND(H121*Construction!$I$8,0),$I122)","v":{"$error":"#VALUE!"}},{"$f":"MIN(ROUND(I121*Construction!$I$8,0),$I122)","v":{"$error":"#VALUE!"}}]
[]
[null,null,"HC and Grade",{"$f":"IF($B$135,0,1)","v":1},{"$f":"IF($B$135,0,1)","v":1},{"$f":"IF($B$135,0,1)","v":1},{"$f":"IF($B$135,0,1)","v":1},{"$f":"IF($I$2=\"Existing\",(D127),(IF($I$2=\"Design 1\",(F127),(IF($I$2=\"Design 2\",(G127),(IF($I$2=\"Optimal\",(I127),E127)))))))","v":1},{"$f":"IF($B$135,0,1)","v":1}]
[null,null,"HC and VC Crest type I",{"$f":"IF(AND($B$135=1,SIGN(D$36)=1,ABS(D$36)<=ABS(D$36-D$37),D$42=\"Crest\"),1,0)","v":0},{"$f":"IF(AND($B$135=1, SIGN(IF(ISNUMBER(E$36),E$36,0))=1,ABS(IF(ISNUMBER(E$36),E$36,0)) <= ABS(IF(ISNUMBER(E$36),E$36,0)-IF(ISNUMBER(E$37),E$37,0)),E$42=\"Crest\"),1,0)","v":0},{"$f":"IF(AND($B$135=1,SIGN(F$36)=1,ABS(F$36)<=ABS(F$36-F$37),F$42=\"Crest\"),1,0)","v":0},{"$f":"IF(AND($B$135=1,SIGN(G$36)=1,ABS(G$36)<=ABS(G$36-G$37),G$42=\"Crest\"),1,0)","v":0},{"$f":"IF($I$2=\"Existing\",(D128),(IF($I$2=\"Design 1\",(F128),(IF($I$2=\"Design 2\",(G128),(IF($I$2=\"Optimal\",(I128),E128)))))))","v":0},{"$f":"IF(AND($B$135=1,SIGN(I$36)=1,ABS(I$36)<=ABS(I$36-IF(ISNUMBER(I$37), I$37,0)),I$42=\"Crest\"),1,0)","v":{"$error":"#VALUE!"}}]
["HC?",null,"HC and VC Sag type I",{"$f":"IF(AND($B$135=1,SIGN(D$36)=1,ABS(D$36)<=ABS(D$36-D$37),D$42=\"Sag\"),1,0)","v":0},{"$f":"IF(AND($B$135=1, SIGN(IF(ISNUMBER(E$36),E$36,0))=1,ABS(IF(ISNUMBER(E$36),E$36,0)) <= ABS(IF(ISNUMBER(E$36),E$36,0)-IF(ISNUMBER(E$37),E$37,0)),E$42=\"Sag\"),1,0)","v":0},{"$f":"IF(AND($B$135=1,SIGN(F$36)=1,ABS(F$36)<=ABS(F$36-F$37),F$42=\"Sag\"),1,0)","v":0},{"$f":"IF(AND($B$135=1,SIGN(G$36)=1,ABS(G$36)<=ABS(G$36-G$37),G$42=\"Sag\"),1,0)","v":0},{"$f":"IF($I$2=\"Existing\",(D129),(IF($I$2=\"Design 1\",(F129),(IF($I$2=\"Design 2\",(G129),(IF($I$2=\"Optimal\",(I129),E129)))))))","v":0},{"$f":"IF(AND($B$135=1,SIGN(I$36)=1,ABS(I$36)<=ABS(I$36-IF(ISNUMBER(I$37), I$37,0)),I$42=\"Sag\"),1,0)","v":{"$error":"#VALUE!"}}]
["VC?",null,"HC and VC Crest type II",{"$f":"IF(AND($B$135=1,D$42=\"Crest\",D$128=0),1,0)","v":0},{"$f":"IF(AND($B$135=1,E$42=\"Crest\",E$128=0),1,0)","v":0},{"$f":"IF(AND($B$135=1,F$42=\"Crest\",F$128=0),1,0)","v":0},{"$f":"IF(AND($B$135=1,G$42=\"Crest\",G$128=0),1,0)","v":0},{"$f":"IF($I$2=\"Existing\",(D130),(IF($I$2=\"Design 1\",(F130),(IF($I$2=\"Design 2\",(G130),(IF($I$2=\"Optimal\",(I130),E130)))))))","v":0},{"$f":"IF(AND($B$135=1,I$42=\"Crest\",I$128=0),1,0)","v":{"$error":"#VALUE!"}}]
[null,null,"HC and VC Sag type II",{"$f":"IF(AND($B$135=1,D$42=\"Sag\",D$129=0),1,0)","v":0},{"$f":"IF(AND($B$135=1,E$42=\"Sag\",E$129=0),1,0)","v":0},{"$f":"IF(AND($B$135=1,F$42=\"Sag\",F$129=0),1,0)","v":0},{"$f":"IF(AND($B$135=1,G$42=\"Sag\",G$129=0),1,0)","v":0},{"$f":"IF($I$2=\"Existing\",(D131),(IF($I$2=\"Design 1\",(F131),(IF($I$2=\"Design 2\",(G131),(IF($I$2=\"Optimal\",(I131),E131)))))))","v":0},{"$f":"IF(AND($B$135=1,I$42=\"Sag\",I$129=0),1,0)","v":{"$error":"#VALUE!"}}]
[null,"Yes/No"]
[null,null,"HC and VC:",null,{"$f":"EXP(0.042*ABS(D$36)+$B$134*0.16*LN(2*5730/IF(ISNUMBER(E$29),E$29,1)))","v":1}]
[null,{"$f":"IF(B27=\"Yes\",1,0)","v":0},"HC and Grade",{"$f":"IF($B$135=0,EXP(0.042*ABS(D$36)+$B$134*0.16*LN(2*5730/D$141)+4.16*$B$134/D$141/IF(ISNUMBER(D$30),D$30,999999)),1)","v":1},{"$f":"IF($B$135=0,EXP(0.042*ABS(E$36)+$B$134*0.16*LN(2*5730/E$141)+4.16*$B$134/E$141/IF(ISNUMBER(E$30),E$30,999999)),1)","v":{"$error":"#VALUE!"}},1,1,{"$f":"IF($B$135=0,EXP(0.042*ABS(H$36)+$B$134*0.16*LN(2*5730/IF(ISNUMBER(H$29),H$29,1))+4.16*$B$134/IF(ISNUMBER(H$29),H$29,1)/IF(ISNUMBER(H$30),H$30,1)),1)","v":{"$error":"#DIV/0!"}},{"$error":"#VALUE!"},null,{"$f":"INDEX($D134:$I134,K$98)","v":1},{"$f":"INDEX($D134:$I134,L$98)","v":{"$error":"#VALUE!"}},{"$f":"IF(ISERROR(1-L134/K134), 0, 1-L134/K134)","v":0}]
[null,{"$f":"IF(B34=\"Yes\",1,0)","v":0},"HC and VC Crest type I",{"$f":"IF($B$135=0,1,EXP(0.005648908*5730*ABS(+D$36-D$37)*$B$135/D$141*$B$134))","v":1},{"$f":"IF($B$135=0,1,EXP(0.005648908*5730*ABS(+E$36-E$37)*$B$135/E$141*$B$134))","v":1},1,1,{"$f":"IF($I$2=\"Existing\",(D135),(IF($I$2=\"Design 1\",(F135),(IF($I$2=\"Design 2\",(G135),(IF($I$2=\"Optimal\",(I135),E135)))))))","v":1},1,null,{"$f":"INDEX($D135:$I135,K$98)","v":1},{"$f":"INDEX($D135:$I135,L$98)","v":1},0]
[null,null,"HC and VC Sag type I",{"$f":"IF($B$135=0,1,EXP(9.15857042*$B$135/D$142+0.010284958*5730*$B$135*$B$134*ABS(+D$36-D$37)/D$141))","v":1},{"$f":"IF($B$135=0,1,EXP(9.15857042*$B$135/E$142+0.010284958*5730*$B$135*$B$134*ABS(+E$36-E$37)/E$141))","v":1},1,1,{"$f":"IF($I$2=\"Existing\",(D136),(IF($I$2=\"Design 1\",(F136),(IF($I$2=\"Design 2\",(G136),(IF($I$2=\"Optimal\",(I136),E136)))))))","v":1},1,null,{"$f":"INDEX($D136:$I136,K$98)","v":1},{"$f":"INDEX($D136:$I136,L$98)","v":1},0]
[null,null,"HC and VC Crest type II",{"$f":"IF($B$135=0,1,EXP(0.005648908*5730*ABS(+D$36-D$37)*$B$135/D$141*$B$134))","v":1},{"$f":"IF($B$135=0,1,EXP(0.005648908*5730*ABS(+E$36-E$37)*$B$135/E$141*$B$134))","v":1},1,1,{"$f":"IF($I$2=\"Existing\",(D137),(IF($I$2=\"Design 1\",(F137),(IF($I$2=\"Design 2\",(G137),(IF($I$2=\"Optimal\",(I137),E137)))))))","v":1},1,null,{"$f":"INDEX($D137:$I137,K$98)","v":1},{"$f":"INDEX($D137:$I137,L$98)","v":1},0]
[null,null,"HC and VC Sag type II",{"$f":"IF($B$135=0,1,(0.246011284*EXP(LN(0.188*2*5730/D$141)*$B$134)+0.7514288716*EXP(0.022*5730/D$141*ABS(D$36-D$37)*$B$135*$B$134)))","v":1},{"$f":"IF($B$135=0,1,(0.246011284*EXP(LN(0.188*2*5730/E$141)*$B$134)+0.7514288716*EXP(0.022*5730/E$141*ABS(E$36-E$37)*$B$135*$B$134)))","v":1},1,1,{"$f":"IF($I$2=\"Existing\",(D138),(IF($I$2=\"Design 1\",(F138),(IF($I$2=\"Design 2\",(G138),(IF($I$2=\"Optimal\",(I138),E138)))))))","v":1},1,null,{"$f":"INDEX($D138:$I138,K$98)","v":1},{"$f":"INDEX($D138:$I138,L$98)","v":1},0]
[]
[null,null,"Combined HZ and VT",{"$f":"MMULT(TRANSPOSE(D127:D131),D134:D138)","v":1},{"$f":"MMULT(TRANSPOSE(E127:E131),E134:E138)","v":{"$error":"#VALUE!"}},{"$f":"MMULT(TRANSPOSE(F127:F131),F134:F138)","v":1},{"$f":"MMULT(TRANSPOSE(G127:G131),G134:G138)","v":1},{"$f":"IF($I$2=\"Existing\",(D140),(IF($I$2=\"Design 1\",(F140),(IF($I$2=\"Design 2\",(G140),(IF($I$2=\"Optimal\",(I140),E140)))))))","v":{"$error":"#VALUE!"}},{"$f":"MMULT(TRANSPOSE(I127:I131),I134:I138)","v":{"$error":"#VALUE!"}},null,{"$f":"INDEX($D140:$I140,K$98)","v":1},{"$f":"INDEX($D140:$I140,L$98)","v":{"$error":"#VALUE!"}},{"$f":"IF(ISERROR(1-L140/K140), 0, 1-L140/K140)","v":0}]
[null,null,"effective R for calculation",{"$f":"IF(ISNUMBER(D29), D29, 99999999)","v":99999999},{"$f":"IF(ISNUMBER(E29), E29, 99999999)","v":590},99999999,99999999,null,590]
[null,null,"effective K for calculation",{"$f":"IF(ISNUMBER(D39), D39, 9999999)","v":9999999},{"$f":"IF(ISNUMBER(E39), E39, 9999999)","v":9999999},9999999,9999999,null,9999999]
[null,"Traffic"]
[null,null,null,"Existing","Standard","Design 1","Design 2"]
[null,null,"Advance static curve warning signs",{"$f":"IF(AND($B$27=\"Yes\",D$52=\"Yes\"),(Traffic!$F$4-1)*AVERAGE(Constraints!$F$37,Constraints!$H$37)/Constraints!$D$37+1,1)","v":1},{"$f":"IF(AND($B$27=\"Yes\",E$52=\"Yes\"),(Traffic!$F$4-1)*AVERAGE(Constraints!$F$37,Constraints!$H$37)/Constraints!$D$37+1,1)","v":1},{"$f":"IF(AND($B$27=\"Yes\",F$52=\"Yes\"),(Traffic!$F$4-1)*AVERAGE(Constraints!$F$37,Constraints!$H$37)/Constraints!$D$37+1,1)","v":1},{"$f":"IF(AND($B$27=\"Yes\",G$52=\"Yes\"),(Traffic!$F$4-1)*AVERAGE(Constraints!$F$37,Constraints!$H$37)/Constraints!$D$37+1,1)","v":1},{"$f":"IF($I$2=\"Existing\",(D145),(IF($I$2=\"Design 1\",(F145),(IF($I$2=\"Design 2\",(G145),(IF($I$2=\"Optimal\",(I145),E145)))))))","v":1},{"$f":"IF(AND($B$27=\"Yes\",I$52=\"Yes\"),(Traffic!$F$4-1)*AVERAGE(Constraints!$F$37,Constraints!$H$37)/Constraints!$D$37+1,1)","v":1},null,{"$f":"INDEX($D145:$I145,K$98)","v":1},{"$f":"INDEX($D145:$I145,L$98)","v":1},{"$f":"IF(ISERROR(1-L145/K145), 0, 1-L145/K145)","v":0}]
[null,null,"Install chevron signs on horizontal curves",{"$f":"IF(D$53=\"No\",1,(IF(AND($B$27=\"Yes\",D$24<11.5),((Traffic!$F$6-1)*(Constraints!$E$35+Constraints!$E$31))+1,1)))","v":1},{"$f":"IF(E$53=\"No\",1,(IF(AND($B$27=\"Yes\",E$24<11.5),((Traffic!$F$6-1)*(Constraints!$E$35+Constraints!$E$31))+1,1)))","v":1},{"$f":"IF(F$53=\"No\",1,(IF(AND($B$27=\"Yes\",F$24<11.5),((Traffic!$F$6-1)*(Constraints!$E$35+Constraints!$E$31))+1,1)))","v":1},{"$f":"IF(G$53=\"No\",1,(IF(AND($B$27=\"Yes\",G$24<11.5),((Traffic!$F$6-1)*(Constraints!$E$35+Constraints!$E$31))+1,1)))","v":1},{"$f":"IF($I$2=\"Existing\",(D146),(IF($I$2=\"Design 1\",(F146),(IF($I$2=\"Design 2\",(G146),(IF($I$2=\"Optimal\",(I146),E146)))))))","v":1},{"$f":"IF(I$53=\"No\",1,(IF(AND($B$27=\"Yes\",I$24<11.5),((Traffic!$F$6-1)*(Constraints!$E$35+Constraints!$E$31))+1,1)))","v":1},null,{"$f":"INDEX($D146:$I146,K$98)","v":1},{"$f":"INDEX($D146:$I146,L$98)","v":1},0]
[null,null,"Install post-mounted delineators",{"$f":"IF(AND($B$27=\"Yes\",D$54=\"Yes\"),(Traffic!$F$12-1)*Constraints!$E$36+1,1)","v":1},{"$f":"IF(AND($B$27=\"Yes\",E$54=\"Yes\"),(Traffic!$F$12-1)*Constraints!$E$36+1,1)","v":1},{"$f":"IF(AND($B$27=\"Yes\",F$54=\"Yes\"),(Traffic!$F$12-1)*Constraints!$E$36+1,1)","v":1},{"$f":"IF(AND($B$27=\"Yes\",G$54=\"Yes\"),(Traffic!$F$12-1)*Constraints!$E$36+1,1)","v":1},{"$f":"IF($I$2=\"Existing\",(D147),(IF($I$2=\"Design 1\",(F147),(IF($I$2=\"Design 2\",(G147),(IF($I$2=\"Optimal\",(I147),E147)))))))","v":1},{"$f":"IF(AND($B$27=\"Yes\",I$54=\"Yes\"),(Traffic!$F$12-1)*Constraints!$E$36+1,1)","v":1},null,{"$f":"INDEX($D147:$I147,K$98)","v":1},{"$f":"INDEX($D147:$I147,L$98)","v":1},0]
[null,null,"Install edgeline  or Profile pavement markings ",{"$f":"IF(D$55=\"Yes\",Traffic!$F$18*0.5+((Traffic!$F$20*(Constraints!$H$36+Constraints!$H$32)+1*(Constraints!$H$37-(Constraints!$H$36+Constraints!$H$32)))/Constraints!$H$37)*0.5,1)","v":1},{"$f":"IF(E$55=\"Yes\",Traffic!$F$18*0.5+((Traffic!$F$20*(Constraints!$H$36+Constraints!$H$32)+1*(Constraints!$H$37-(Constraints!$H$36+Constraints!$H$32)))/Constraints!$H$37)*0.5,1)","v":0.86175881308648239},{"$f":"IF(F$55=\"Yes\",Traffic!$F$18*0.5+((Traffic!$F$20*(Constraints!$H$36+Constraints!$H$32)+1*(Constraints!$H$37-(Constraints!$H$36+Constraints!$H$32)))/Constraints!$H$37)*0.5,1)","v":1},{"$f":"IF(G$55=\"Yes\",Traffic!$F$18*0.5+((Traffic!$F$20*(Constraints!$H$36+Constraints!$H$32)+1*(Constraints!$H$37-(Constraints!$H$36+Constraints!$H$32)))/Constraints!$H$37)*0.5,1)","v":1},{"$f":"IF($I$2=\"Existing\",(D148),(IF($I$2=\"Design 1\",(F148),(IF($I$2=\"Design 2\",(G148),(IF($I$2=\"Optimal\",(I148),E148)))))))","v":0.86175881308648239},{"$f":"IF(I$55=\"Yes\",Traffic!$F$18*0.5+((Traffic!$F$20*(Constraints!$H$36+Constraints!$H$32)+1*(Constraints!$H$37-(Constraints!$H$36+Constraints!$H$32)))/Constraints!$H$37)*0.5,1)","v":0.86175881308648239},null,{"$f":"INDEX($D148:$I148,K$98)","v":1},{"$f":"INDEX($D148:$I148,L$98)","v":0.86175881308648239},0.13824118691351761]
[null,null,"Profiles",1,1,1,1,1,1,null,{"$f":"INDEX($D149:$I149,K$98)","v":1},{"$f":"INDEX($D149:$I149,L$98)","v":1},0]
[null,null,"Shoulder rumble strips",{"$f":"IF(D$56=\"No\",1,(Traffic!$F$27*(Constraints!$H$36+Constraints!$H$32)+1*(Constraints!$H$37-(Constraints!$H$36+Constraints!$H$32)))/Constraints!$H$37)","v":0.89760950690192376},{"$f":"IF(E$56=\"No\",1,(Traffic!$F$27*(Constraints!$H$36+Constraints!$H$32)+1*(Constraints!$H$37-(Constraints!$H$36+Constraints!$H$32)))/Constraints!$H$37)","v":0.89760950690192376},{"$f":"IF(F$56=\"No\",1,(Traffic!$F$27*(Constraints!$H$36+Constraints!$H$32)+1*(Constraints!$H$37-(Constraints!$H$36+Constraints!$H$32)))/Constraints!$H$37)","v":0.89760950690192376},{"$f":"IF(G$56=\"No\",1,(Traffic!$F$27*(Constraints!$H$36+Constraints!$H$32)+1*(Constraints!$H$37-(Constraints!$H$36+Constraints!$H$32)))/Constraints!$H$37)","v":0.89760950690192376},{"$f":"IF($I$2=\"Existing\",(D150),(IF($I$2=\"Design 1\",(F150),(IF($I$2=\"Design 2\",(G150),(IF($I$2=\"Optimal\",(I150),E150)))))))","v":0.89760950690192376},{"$f":"IF(I$56=\"No\",1,(Traffic!$F$27*(Constraints!$H$36+Constraints!$H$32)+1*(Constraints!$H$37-(Constraints!$H$36+Constraints!$H$32)))/Constraints!$H$37)","v":0.89760950690192376},null,{"$f":"INDEX($D150:$I150,K$98)","v":0.89760950690192376},{"$f":"INDEX($D150:$I150,L$98)","v":0.89760950690192376},0]
[null,null,"Install centerline rumble strips",{"$f":"IF(D$57=\"No\",1,Traffic!$F$30)","v":0.86},{"$f":"IF(E$57=\"No\",1,Traffic!$F$30)","v":1},{"$f":"IF(F$57=\"No\",1,Traffic!$F$30)","v":0.86},{"$f":"IF(G$57=\"No\",1,Traffic!$F$30)","v":0.86},{"$f":"IF($I$2=\"Existing\",(D151),(IF($I$2=\"Design 1\",(F151),(IF($I$2=\"Design 2\",(G151),(IF($I$2=\"Optimal\",(I151),E151)))))))","v":1},{"$f":"IF(I$57=\"No\",1,Traffic!$F$30)","v":0.86},null,{"$f":"INDEX($D151:$I151,K$98)","v":0.86},{"$f":"INDEX($D151:$I151,L$98)","v":1},-0.16279069767441867]
[null,null,"Driveway Density (driveways per mile)",{"$f":"EXP(-LN(Traffic!$F$32)*(D$58-$E$58))","v":0.81707280688754669},{"$f":"EXP(-LN(Traffic!$F$32)*(E$58-$E$58))","v":1},{"$f":"EXP(-LN(Traffic!$F$32)*(F$58-$E$58))","v":0.81707280688754669},{"$f":"EXP(-LN(Traffic!$F$32)*(G$58-$E$58))","v":0.81707280688754669},{"$f":"IF($I$2=\"Existing\",(D152),(IF($I$2=\"Design 1\",(F152),(IF($I$2=\"Design 2\",(G152),(IF($I$2=\"Optimal\",(I152),E152)))))))","v":1},{"$f":"EXP(-LN(Traffic!$F$32)*(I$58-$E$58))","v":0.81707280688754669},null,{"$f":"INDEX($D152:$I152,K$98)","v":0.81707280688754669},{"$f":"INDEX($D152:$I152,L$98)","v":1},-0.22388114201141129]
[null,null,"Install lighting",{"$f":"IF(D$59=\"No\",1,1-(((1-Traffic!$F$55*Constraints!$H$37-Constraints!$F$37/3)+((1-Traffic!$F$55*Constraints!$D$37-Constraints!$H$37)))*$S$19+((1-Traffic!$F$57)*Constraints!$F$37/3))/Constraints!$D$37)","v":0.977040446881142},{"$f":"IF(E$59=\"No\",1,1-(((1-Traffic!$F$55*Constraints!$H$37-Constraints!$F$37/3)+((1-Traffic!$F$55*Constraints!$D$37-Constraints!$H$37)))*$S$19+((1-Traffic!$F$57)*Constraints!$F$37/3))/Constraints!$D$37)","v":1},{"$f":"IF(F$59=\"No\",1,1-(((1-Traffic!$F$55*Constraints!$H$37-Constraints!$F$37/3)+((1-Traffic!$F$55*Constraints!$D$37-Constraints!$H$37)))*$S$19+((1-Traffic!$F$57)*Constraints!$F$37/3))/Constraints!$D$37)","v":0.977040446881142},{"$f":"IF(G$59=\"No\",1,1-(((1-Traffic!$F$55*Constraints!$H$37-Constraints!$F$37/3)+((1-Traffic!$F$55*Constraints!$D$37-Constraints!$H$37)))*$S$19+((1-Traffic!$F$57)*Constraints!$F$37/3))/Constraints!$D$37)","v":0.977040446881142},{"$f":"IF($I$2=\"Existing\",(D153),(IF($I$2=\"Design 1\",(F153),(IF($I$2=\"Design 2\",(G153),(IF($I$2=\"Optimal\",(I153),E153)))))))","v":1},{"$f":"IF(I$59=\"No\",1,1-(((1-Traffic!$F$55*Constraints!$H$37-Constraints!$F$37/3)+((1-Traffic!$F$55*Constraints!$D$37-Constraints!$H$37)))*$S$19+((1-Traffic!$F$57)*Constraints!$F$37/3))/Constraints!$D$37)","v":0.977040446881142},null,{"$f":"INDEX($D153:$I153,K$98)","v":0.977040446881142},{"$f":"INDEX($D153:$I153,L$98)","v":1},-2.3499081529478438E-2]
[null,null,"Pavement friction (skid number)",{"$f":"EXP(LN(Traffic!$F$49)*(D$60-$E$60))","v":1.3972521419325798},{"$f":"EXP(LN(Traffic!$F$49)*(E$60-$E$60))","v":1},{"$f":"IF(MATCH(F60,SkidNums,0)=3, $D154,EXP(LN(Traffic!$F$49)*(RIGHT(F$60,2)-$E$60)))","v":{"$error":"#N/A"}},{"$f":"IF(MATCH(G60,SkidNums,0)=3, $D154,EXP(LN(Traffic!$F$49)*(RIGHT(G$60,2)-$E$60)))","v":{"$error":"#N/A"}},{"$f":"IF($I$2=\"Existing\",(D154),(IF($I$2=\"Design 1\",(F154),(IF($I$2=\"Design 2\",(G154),(IF($I$2=\"Optimal\",(I154),E154)))))))","v":1},{"$f":"EXP(LN(Traffic!$F$49)*(I$60-$E$60))","v":0.85753553626991963},null,{"$f":"INDEX($D154:$I154,K$98)","v":1.3972521419325798},{"$f":"INDEX($D154:$I154,L$98)","v":1},0.28430956017940245]
[]
[]
[null,null,"COMBINED Calculated CMF",{"$f":"+D145*D146*D147*D148*D149*D150*D151*D152*D153*D154","v":0.86106111787419426},{"$f":"+E145*E146*E147*E148*E149*E150*E151*E152*E153*E154","v":0.7735229032829446},{"$f":"+F145*F146*F147*F148*F149*F150*F151*F152*F153*F154","v":{"$error":"#N/A"}},{"$f":"+G145*G146*G147*G148*G149*G150*G151*G152*G153*G154","v":{"$error":"#N/A"}},{"$f":"IF($I$2=\"Existing\",(D157),(IF($I$2=\"Design 1\",(F157),(IF($I$2=\"Design 2\",(G157),(IF($I$2=\"Optimal\",(I157),E157)))))))","v":0.7735229032829446},{"$f":"+I145*I146*I147*I148*I149*I150*I151*I152*I153*I154","v":0.45540422392050506},null,{"$f":"INDEX($D157:$I157,K$98)","v":0.86106111787419426},{"$f":"INDEX($D157:$I157,L$98)","v":0.7735229032829446},{"$f":"IF(ISERROR(1-L157/K157), 0, 1-L157/K157)","v":0.10166318368592209}]
[null,null,"Calculated Relative to Design Standards (Column E)",{"$f":"+D157/$E$157","v":1.1131682258142903},{"$f":"+E157/$E$157","v":1},{"$f":"+F157/$E$157","v":{"$error":"#N/A"}},{"$f":"+G157/$E$157","v":{"$error":"#N/A"}},1,{"$f":"+I157/$E$157","v":0.58874045227064742},null,{"$f":"INDEX($D158:$I158,K$98)","v":1.1131682258142903},{"$f":"INDEX($D158:$I158,L$98)","v":1},0.1016631836859222]
[null,null,"P(Crash)",{"$f":"+D158/(D158+1)","v":0.52677690882151185},{"$f":"+E158/(E158+1)","v":0.5},{"$f":"+F158/(F158+1)","v":{"$error":"#N/A"}},{"$f":"+G158/(G158+1)","v":{"$error":"#N/A"}},0.5,{"$f":"+I158/(I158+1)","v":0.37057056829465901}]
[null,null,"Factor Change on S curve",{"$f":"+D159/$E$159","v":1.0535538176430237},{"$f":"+E159/$E$159","v":1},{"$f":"+F159/$E$159","v":{"$error":"#N/A"}},{"$f":"+G159/$E$159","v":{"$error":"#N/A"}},1,{"$f":"+I159/$E$159","v":0.74114113658931802}]
[null,null,"Adjust to Scale of 100",{"$f":"+$I$114/D160*100","v":{"$error":"#VALUE!"}},{"$f":"+$I$114/E160*100","v":{"$error":"#VALUE!"}},{"$f":"+$I$114/F160*100","v":{"$error":"#VALUE!"}},{"$f":"+$I$114/G160*100","v":{"$error":"#VALUE!"}},{"$error":"#VALUE!"},{"$f":"+$I$114/I160*100","v":{"$error":"#VALUE!"}}]
[null,null,"Unadjusted Combined Relative to Standard",{"$f":"+D157/$E$157","v":1.1131682258142903},{"$f":"+E157/$E$157","v":1},{"$f":"+F157/$E$157","v":{"$error":"#N/A"}},{"$f":"+G157/$E$157","v":{"$error":"#N/A"}},1,{"$f":"+I157/$E$157","v":0.58874045227064742}]
[null,null,null,null,null,null,null,0,null,{"$f":"I168/E168","v":1.4285714285714286}]
[null,null,"Adjusted for PA Basis",{"$f":"+D157*(1+1)/(1+D157*1)","v":0.92534426688549098},{"$f":"+E157*(1+1)/(1+E157*1)","v":0.8723010025425515},{"$f":"+F157*(1+1)/(1+F157*1)","v":{"$error":"#N/A"}},{"$f":"+G157*(1+1)/(1+G157*1)","v":{"$error":"#N/A"}},0.8723010025425515,{"$f":"+I157*(1+1)/(1+I157*1)","v":0.62581132641453641}]
[null,null,"Corrected by Odds Ratio",{"$f":"+D164/$E$164","v":1.0608084413388623},{"$f":"+E164/$E$164","v":1},{"$f":"+F164/$E$164","v":{"$error":"#N/A"}},{"$f":"+G164/$E$164","v":{"$error":"#N/A"}},1,{"$f":"+I164/$E$164","v":0.71742589380322175}]
[null,null,null,{"$f":"(1/D165)^$D169","v":0.29295399474123779},1,{"$error":"#N/A"},{"$error":"#N/A"},1,998.99999999999955,{"$f":"I171/E171","v":1.4285714285714286}]
[null,null,null,{"$f":"(D166+$F170-1)/(1+(D166+$F170-1))","v":0.61923435059440457},0.70000000000000007,{"$error":"#N/A"},{"$error":"#N/A"},0.70000000000000007,0.99900133155792281]
[null,null,"Score Odds Ratio with Optimal as 100 (old)",{"$f":"MIN(ROUND($I$165/D165*Construction!$I$9,0),$I168)","v":14},{"$f":"MIN(ROUND($I$165/E165*Construction!$I$9,0),$I168)","v":14},{"$f":"MIN(ROUND($I$165/F165*Construction!$I$9,0),$I168)","v":{"$error":"#N/A"}},{"$f":"MIN(ROUND($I$165/G165*Construction!$I$9,0),$I168)","v":{"$error":"#N/A"}},null,{"$f":"ROUND($I$165/I165*Construction!$I$9,0)","v":20}]
[null,null,"Logistic1",{"$f":"LN((D170/(1-D170))/(0.5/0.5))/LN($E165/I165)","v":20.798114554240879}]
[null,null,"Logistic Param",0.999,null,{"$f":"0.7/0.3","v":2.3333333333333335}]
[null,null,"Score ",{"$f":"MIN(ROUND(D167*Construction!$I$9,0),$I168)","v":12},{"$f":"MIN(ROUND(E167*Construction!$I$9,0),$I168)","v":14},{"$f":"MIN(ROUND(F167*Construction!$I$9,0),$I168)","v":{"$error":"#N/A"}},{"$f":"MIN(ROUND(G167*Construction!$I$9,0),$I168)","v":{"$error":"#N/A"}},null,{"$f":"MIN(ROUND(I167*Construction!$I$9,0),$I168)","v":20}]
[]
[]
[]
[]
[]
[]
[null,"Roadsde",null,"Existing","Standard","Design 1","Design 2"]
[null,null,null,{"$f":"MID(D72,FIND(\":\",D72,1)+1,FIND(\"H\",D72,1)-FIND(\":\",D72,1)-1)+0","v":{"$error":"#VALUE!"}},{"$f":"MID(E72,FIND(\":\",E72,1)+1,FIND(\"H\",E72,1)-FIND(\":\",E72,1)-1)+0","v":4},{"$f":"MID(F72,FIND(\":\",F72,1)+1,FIND(\"H\",F72,1)-FIND(\":\",F72,1)-1)+0","v":{"$error":"#VALUE!"}},{"$f":"MID(G72,FIND(\":\",G72,1)+1,FIND(\"H\",G72,1)-FIND(\":\",G72,1)-1)+0","v":{"$error":"#VALUE!"}},null,{"$f":"MID(I72,FIND(\":\",I72,1)+1,FIND(\"H\",I72,1)-FIND(\":\",I72,1)-1)+0","v":6},null,{"$f":"INDEX($D179:$I179,K$98)","v":{"$error":"#VALUE!"}},{"$f":"INDEX($D179:$I179,L$98)","v":4},{"$f":"IF(ISERROR(1-L179/K179), 0, 1-L179/K179)","v":0}]
[null,null,"Sideslope (Foreslope)",{"$f":"IF(D179<=3,1,IF(OR(D179=4,D179=5),(Roadside!$F$15-1)*Constraints!$H$37/Constraints!$D$37+1,(Roadside!$F$15*Roadside!$F$16-1)*Constraints!$H$37/Constraints!$D$37+1))","v":{"$error":"#VALUE!"}},{"$f":"IF(E179<=3,1,IF(OR(E179=4,E179=5),(Roadside!$F$15-1)*Constraints!$H$37/Constraints!$D$37+1,(Roadside!$F$15*Roadside!$F$16-1)*Constraints!$H$37/Constraints!$D$37+1))","v":0.8286893555394641},{"$f":"IF(F179<=3,1,IF(OR(F179=4,F179=5),(Roadside!$F$15-1)*Constraints!$H$37/Constraints!$D$37+1,(Roadside!$F$15*Roadside!$F$16-1)*Constraints!$H$37/Constraints!$D$37+1))","v":{"$error":"#VALUE!"}},{"$f":"IF(G179<=3,1,IF(OR(G179=4,G179=5),(Roadside!$F$15-1)*Constraints!$H$37/Constraints!$D$37+1,(Roadside!$F$15*Roadside!$F$16-1)*Constraints!$H$37/Constraints!$D$37+1))","v":{"$error":"#VALUE!"}},{"$f":"IF($I$2=\"Existing\",(D180),(IF($I$2=\"Design 1\",(F180),(IF($I$2=\"Design 2\",(G180),(IF($I$2=\"Optimal\",(I180),E180)))))))","v":0.8286893555394641},{"$f":"IF(I179<=3,1,IF(OR(I179=4,I179=5),(Roadside!$F$15-1)*Constraints!$H$37/Constraints!$D$37+1,(Roadside!$F$15*Roadside!$F$16-1)*Constraints!$H$37/Constraints!$D$37+1))","v":0.77664355022240605},null,{"$f":"INDEX($D180:$I180,K$98)","v":{"$error":"#VALUE!"}},{"$f":"INDEX($D180:$I180,L$98)","v":0.8286893555394641},0]
[null,null,"Backslope",1,1,1,1,{"$f":"IF($I$2=\"Existing\",(D181),(IF($I$2=\"Design 1\",(F181),(IF($I$2=\"Design 2\",(G181),(IF($I$2=\"Optimal\",(I181),E181)))))))","v":1},1,null,{"$f":"INDEX($D181:$I181,K$98)","v":1},{"$f":"INDEX($D181:$I181,L$98)","v":1},0]
[null,null,"SafetyEdge",{"$f":"IF(D$74=\"No\",1,(Roadside!$F$23-1)*AVERAGE(Constraints!$H$37,Constraints!$F$37)/Constraints!$D$37+1)","v":0.97258384193648495},{"$f":"IF(E$74=\"No\",1,(Roadside!$F$23-1)*AVERAGE(Constraints!$H$37,Constraints!$F$37)/Constraints!$D$37+1)","v":1},{"$f":"IF(F$74=\"No\",1,(Roadside!$F$23-1)*AVERAGE(Constraints!$H$37,Constraints!$F$37)/Constraints!$D$37+1)","v":0.97258384193648495},{"$f":"IF(G$74=\"No\",1,(Roadside!$F$23-1)*AVERAGE(Constraints!$H$37,Constraints!$F$37)/Constraints!$D$37+1)","v":0.97258384193648495},{"$f":"IF($I$2=\"Existing\",(D182),(IF($I$2=\"Design 1\",(F182),(IF($I$2=\"Design 2\",(G182),(IF($I$2=\"Optimal\",(I182),E182)))))))","v":1},{"$f":"IF(I$74=\"No\",1,(Roadside!$F$23-1)*AVERAGE(Constraints!$H$37,Constraints!$F$37)/Constraints!$D$37+1)","v":0.97258384193648495},null,{"$f":"INDEX($D182:$I182,K$98)","v":0.97258384193648495},{"$f":"INDEX($D182:$I182,L$98)","v":1},-2.8188991921691331E-2]
[null,null,"Lateral Clearance (ft)",{"$f":"IF($B$27=\"Yes\",((EXP(LN(Roadside!$F$11)*(IF(D$76=\"None\",40,D$75)-30)/30)-1))*Constraints!$H$36/Constraints!$D$37+1,((EXP(LN(Roadside!$F$10)*(IF(D$76=\"None\",40,D$75)-30)/30)-1))*Constraints!$H$36/Constraints!$D$37+1)","v":1.0992721491203288},{"$f":"IF($B$27=\"Yes\",((EXP(LN(Roadside!$F$11)*(IF(E$76=\"None\",40,E$75)-30)/30)-1))*Constraints!$H$36/Constraints!$D$37+1,((EXP(LN(Roadside!$F$10)*(IF(E$76=\"None\",40,E$75)-30)/30)-1))*Constraints!$H$36/Constraints!$D$37+1)","v":1},{"$f":"IF($B$27=\"Yes\",((EXP(LN(Roadside!$F$11)*(IF(F$76=\"None\",40,F$75)-30)/30)-1))*Constraints!$H$36/Constraints!$D$37+1,((EXP(LN(Roadside!$F$10)*(IF(F$76=\"None\",40,F$75)-30)/30)-1))*Constraints!$H$36/Constraints!$D$37+1)","v":1.0992721491203288},{"$f":"IF($B$27=\"Yes\",((EXP(LN(Roadside!$F$11)*(IF(G$76=\"None\",40,G$75)-30)/30)-1))*Constraints!$H$36/Constraints!$D$37+1,((EXP(LN(Roadside!$F$10)*(IF(G$76=\"None\",40,G$75)-30)/30)-1))*Constraints!$H$36/Constraints!$D$37+1)","v":1.0992721491203288},{"$f":"IF($I$2=\"Existing\",(D183),(IF($I$2=\"Design 1\",(F183),(IF($I$2=\"Design 2\",(G183),(IF($I$2=\"Optimal\",(I183),E183)))))))","v":1},{"$f":"IF($B$27=\"Yes\",((EXP(LN(Roadside!$F$11)*(IF(I$76=\"None\",40,I$75)-30)/30)-1))*Constraints!$H$36/Constraints!$D$37+1,((EXP(LN(Roadside!$F$10)*(IF(I$76=\"None\",40,I$75)-30)/30)-1))*Constraints!$H$36/Constraints!$D$37+1)","v":0.97455184373954995},null,{"$f":"INDEX($D183:$I183,K$98)","v":1.0992721491203288},{"$f":"INDEX($D183:$I183,L$98)","v":1},9.0307162971216326E-2]
[null,null,"Fixed Object Type",{"$f":"IF(D$76=\"Guardrail\",(Roadside!$F$25-1)*(($I$75-D$75)/$I$75)^2*Constraints!$H$36/Constraints!$D$37+1,1)","v":1},{"$f":"IF(E$76=\"Guardrail\",(Roadside!$F$25-1)*(($I$75-E$75)/$I$75)^2*Constraints!$H$36/Constraints!$D$37+1,1)","v":1},{"$f":"IF(F$76=\"Guardrail\",(Roadside!$F$25-1)*(($I$75-F$75)/$I$75)^2*Constraints!$H$36/Constraints!$D$37+1,1)","v":1},{"$f":"IF(G$76=\"Guardrail\",(Roadside!$F$25-1)*(($I$75-G$75)/$I$75)^2*Constraints!$H$36/Constraints!$D$37+1,1)","v":1},{"$f":"IF($I$2=\"Existing\",(D184),(IF($I$2=\"Design 1\",(F184),(IF($I$2=\"Design 2\",(G184),(IF($I$2=\"Optimal\",(I184),E184)))))))","v":1},{"$f":"IF(I$76=\"Guardrail\",(Roadside!$F$25-1)*(($I$75-I$75)/$I$75)^2*Constraints!$H$36/Constraints!$D$37+1,1)","v":1},null,{"$f":"INDEX($D184:$I184,K$98)","v":1},{"$f":"INDEX($D184:$I184,L$98)","v":1},0]
[]
[]
[null,null,"COMBINED Calculated CMF",{"$f":"+D180*D181*D182*D183*D184","v":{"$error":"#VALUE!"}},{"$f":"+E180*E181*E182*E183*E184","v":0.8286893555394641},{"$f":"+F180*F181*F182*F183*F184","v":{"$error":"#VALUE!"}},{"$f":"+G180*G181*G182*G183*G184","v":{"$error":"#VALUE!"}},{"$f":"IF($I$2=\"Existing\",(D187),(IF($I$2=\"Design 1\",(F187),(IF($I$2=\"Design 2\",(G187),(IF($I$2=\"Optimal\",(I187),E187)))))))","v":0.8286893555394641},{"$f":"+I180*I181*I182*I183*I184","v":0.73612867842813945}]
[null,null,"Calculated Relative to Design Standards (Column E)",{"$f":"+D187/$E$187","v":{"$error":"#VALUE!"}},{"$f":"+E187/$E$187","v":1},{"$f":"+F187/$E$187","v":{"$error":"#VALUE!"}},{"$f":"+G187/$E$187","v":{"$error":"#VALUE!"}},1,{"$f":"+I187/$E$187","v":0.88830473507039431}]
[null,null,"P(Crash)",{"$f":"+D188/(D188+1)","v":{"$error":"#VALUE!"}},{"$f":"+E188/(E188+1)","v":0.5},{"$f":"+F188/(F188+1)","v":{"$error":"#VALUE!"}},{"$f":"+G188/(G188+1)","v":{"$error":"#VALUE!"}},0.5,{"$f":"+I188/(I188+1)","v":0.47042445987261644}]
[null,null,"Factor Change on S curve",{"$f":"+D189/$E$189","v":{"$error":"#VALUE!"}},{"$f":"+E189/$E$189","v":1},{"$f":"+F189/$E$189","v":{"$error":"#VALUE!"}},{"$f":"+G189/$E$189","v":{"$error":"#VALUE!"}},1,{"$f":"+I189/$E$189","v":0.94084891974523288}]
[null,null,"Adjust to Scale of 100",{"$f":"+$I$114/D190*100","v":{"$error":"#VALUE!"}},{"$f":"+$I$114/E190*100","v":{"$error":"#VALUE!"}},{"$f":"+$I$114/F190*100","v":{"$error":"#VALUE!"}},{"$f":"+$I$114/G190*100","v":{"$error":"#VALUE!"}},{"$error":"#VALUE!"},{"$f":"+$I$114/I190*100","v":{"$error":"#VALUE!"}}]
[null,null,"Unadjusted Combined Relative to Standard",{"$f":"+D187/$E$187","v":{"$error":"#VALUE!"}},{"$f":"+E187/$E$187","v":1},{"$f":"+F187/$E$187","v":{"$error":"#VALUE!"}},{"$f":"+G187/$E$187","v":{"$error":"#VALUE!"}},1,{"$f":"+I187/$E$187","v":0.88830473507039431}]
[null,null,null,null,null,null,null,null,null,{"$f":"I198/E198","v":1.1111111111111112}]
[null,null,"Adjusted for PA Basis",{"$f":"+D187*(1+1)/(1+D187*1)","v":{"$error":"#VALUE!"}},{"$f":"+E187*(1+1)/(1+E187*1)","v":0.90632053282226321},{"$f":"+F187*(1+1)/(1+F187*1)","v":{"$error":"#VALUE!"}},{"$f":"+G187*(1+1)/(1+G187*1)","v":{"$error":"#VALUE!"}},{"$f":"IF($I$2=\"Existing\",(D194),(IF($I$2=\"Design 1\",(F194),(IF($I$2=\"Design 2\",(G194),(IF($I$2=\"Optimal\",(I194),E194)))))))","v":0.90632053282226321},{"$f":"+I187*(1+1)/(1+I187*1)","v":0.84801165671039724}]
[null,null,"Corrected by Odds Ratio",{"$f":"+D187/$E$187","v":{"$error":"#VALUE!"}},{"$f":"+E187/$E$187","v":1},{"$f":"+F187/$E$187","v":{"$error":"#VALUE!"}},{"$f":"+G187/$E$187","v":{"$error":"#VALUE!"}},{"$f":"IF($I$2=\"Existing\",(D195),(IF($I$2=\"Design 1\",(F195),(IF($I$2=\"Design 2\",(G195),(IF($I$2=\"Optimal\",(I195),E195)))))))","v":1},{"$f":"+I187/$E$187","v":0.88830473507039431}]
[null,null,null,{"$f":"(1/D195)^$D199","v":{"$error":"#VALUE!"}},1,{"$error":"#VALUE!"},{"$error":"#VALUE!"},1,998.99999999999955,{"$f":"I201/E201","v":1.4814814814814814}]
[null,null,null,{"$f":"(D196+$F200-1)/(1+(D196+$F200-1))","v":{"$error":"#VALUE!"}},0.66666666666666663,{"$error":"#VALUE!"},{"$error":"#VALUE!"},0.66666666666666663,0.99900099900099903]
[null,null,"Score Odds Ratio with Optimal as 100 (old)",{"$f":"MIN(ROUND($I$195/D195*Construction!$I$10,0),$I198)","v":{"$error":"#VALUE!"}},{"$f":"MIN(ROUND($I$195/E195*Construction!$I$10,0),$I198)","v":36},{"$f":"MIN(ROUND($I$195/F195*Construction!$I$10,0),$I198)","v":{"$error":"#VALUE!"}},{"$f":"MIN(ROUND($I$195/G195*Construction!$I$10,0),$I198)","v":{"$error":"#VALUE!"}},null,{"$f":"ROUND($I$195/I195*Construction!$I$10,0)","v":40}]
[null,null,"Logistic1",{"$f":"LN((D200/(1-D200))/(0.5/0.5))/LN($E195/I195)","v":58.314167600285003}]
[null,null,"Logistic Param",0.999,null,2]
[null,null,"Score ",{"$f":"MIN(ROUND(D197*Construction!$I$10,0),$I198)","v":{"$error":"#VALUE!"}},{"$f":"MIN(ROUND(E197*Construction!$I$10,0),$I198)","v":27},{"$f":"MIN(ROUND(F197*Construction!$I$10,0),$I198)","v":{"$error":"#VALUE!"}},{"$f":"MIN(ROUND(G197*Construction!$I$10,0),$I198)","v":{"$error":"#VALUE!"}},null,{"$f":"MIN(ROUND(I197*Construction!$I$10,0),$I198)","v":40}]
[]
[]
[]
[]
[null,null,{"$f":"D84/D179","v":{"$error":"#VALUE!"}},null,{"$f":"ROUNDUP((MIN($I$14,$I$15)-E24-E25)/$C$206,0)","v":{"$error":"#VALUE!"}},{"$f":"ROUNDUP((MIN($I$14,$I$15)-F24-F25)/$C$206,0)","v":{"$error":"#VALUE!"}},{"$f":"ROUNDUP((MIN($I$14,$I$15)-G24-G25)/$C$206,0)","v":{"$error":"#VALUE!"}},null,{"$f":"ROUNDUP((MIN($I$14,$I$15)-I24-I25)/$C$206,0)","v":{"$error":"#VALUE!"}}]
[]
[]
[null,null,"Distance to low point","Distance to low point",{"$f":"$C$206*E179","v":{"$error":"#VALUE!"}},{"$f":"$C$206*F179","v":{"$error":"#VALUE!"}},{"$f":"$C$206*G179","v":{"$error":"#VALUE!"}},null,{"$f":"$C$206*I179","v":{"$error":"#VALUE!"}}]
[null,null,null,"Additional ROW1 Needed for Foreslope",{"$f":"IF(E209>($I$14-E24-E25),E209-($I$14-E24-E25),0)","v":{"$error":"#VALUE!"}},{"$f":"IF(F209>($I$14-F24-F25),F209-($I$14-F24-F25),0)","v":{"$error":"#VALUE!"}},{"$f":"IF(G209>($I$14-G24-G25),G209-($I$14-G24-G25),0)","v":{"$error":"#VALUE!"}},null,{"$f":"IF(I209>($I$14-I24-I25),I209-($I$14-I24-I25),0)","v":{"$error":"#VALUE!"}}]
[null,null,null,"Additional ROW2 Needed for Foreslope",{"$f":"IF(E209>($I$15-E24-E25),E209-($I$15-E24-E25),0)","v":{"$error":"#VALUE!"}},{"$f":"IF(F209>($I$15-F24-F25),F209-($I$15-F24-F25),0)","v":{"$error":"#VALUE!"}},{"$f":"IF(G209>($I$15-G24-G25),G209-($I$15-G24-G25),0)","v":{"$error":"#VALUE!"}},null,{"$f":"IF(I209>($I$15-I24-I25),I209-($I$15-I24-I25),0)","v":{"$error":"#VALUE!"}}]
[]
[null,null,null,"Additional ROW1 Needed for Lateral Clearance",{"$f":"IF((CL248+E26)-$I$14<0,0,(CL248+E26)-$I$14)","v":8},{"$f":"IF((CM248+F26)-$I$14<0,0,(CM248+F26)-$I$14)","v":0},{"$f":"IF((CN248+G26)-$I$14<0,0,(CN248+G26)-$I$14)","v":0},null,{"$f":"IF((CP248+I26)-$I$14<0,0,(CP248+I26)-$I$14)","v":0}]
[null,null,null,"Additional ROW2 Needed for Lateral Clearance",{"$f":"IF((CL248+E26)-$I$15<0,0,(CL248+E26)-$I$15)","v":8},{"$f":"IF((CM248+F26)-$I$15<0,0,(CM248+F26)-$I$15)","v":0},{"$f":"IF((CN248+G26)-$I$15<0,0,(CN248+G26)-$I$15)","v":0},null,{"$f":"IF((CP248+I26)-$I$15<0,0,(CP248+I26)-$I$15)","v":0}]
[]
[]
[]
[]
[]
[]
[]
[]
[]
[]
[]
[null,null,"For Vertical Opt Use when Yes Vertical:"]
[null,null,"G1",{"$f":"D36","v":0},null,{"$f":"F36","v":0},{"$f":"G36","v":0},null,{"$f":"IF(ISERROR($E$234),\"\",INDEX(D227:G227,$E$234))","v":""}]
[null,null,"G2",{"$f":"D37","v":0},null,{"$f":"F37","v":0},{"$f":"G37","v":0},null,{"$f":"IF(ISERROR($E$234),\"\",INDEX(D228:G228,$E$234))","v":""}]
[null,null,"abs(G2-G1)",{"$f":"ABS(D36-D37)","v":0},null,{"$f":"ABS(F36-F37)","v":0},{"$f":"ABS(G36-G37)","v":0}]
[null,null,"Count in indicator (K no change; or K change but accept)",{"$f":"IF(D39<>\"\",1,\"\")","v":""},null,{"$f":"IF(OR(AND($B$34 = \"Yes\", $D$39 <> F39, F39 <>\"\", $D$39 <> \"\", F41=\"Yes.\"),AND($B$34 = \"Yes\", $D$39 = F39, F39 <>\"\", $D$39 <> \"\")), 1,\"\")","v":""},{"$f":"IF(OR(AND($B$34 = \"Yes\", $D$39 <> G39, G39 <>\"\", $D$39 <> \"\", G41=\"Yes.\"),AND($B$34 = \"Yes\", $D$39 = G39, G39 <>\"\", $D$39 <> \"\")), 1,\"\")","v":""}]
[]
[null,null,"Valid abs(G2-G1)",{"$f":"IF(ISERROR(D229*D230),\"\",D229*D230)","v":""},null,{"$f":"IF(ISERROR(F229*F230),\"\",F229*F230)","v":""},{"$f":"IF(ISERROR(G229*G230),\"\",G229*G230)","v":""}]
[null,null,"The min valid abs(G2-G1)",null,{"$f":"MIN(D232,F232,G232)","v":0}]
[null,null,"Index",null,{"$f":"MATCH(E233,D232:G232,0)","v":{"$error":"#N/A"}}]
[]
[null,null,"For Vertical Opt Use When No Vertical:"]
[null,null,"G1",{"$f":"IF(ISBLANK(D36), 999, D36)","v":999},null,{"$f":"IF(ISBLANK(F36), 999, F36)","v":999},{"$f":"IF(ISBLANK(G36), 999, G36)","v":999},null,{"$f":"IF(E242=999,\"\",E242)","v":""}]
[null,null,"Sign of G1",{"$f":"IF(D237>=0,1,-1)","v":1},null,{"$f":"IF(F237>=0,1,-1)","v":1},{"$f":"IF(G237>=0,1,-1)","v":1}]
[null,null,"Abs G1",{"$f":"ABS(D237)","v":999},null,{"$f":"ABS(F237)","v":999},{"$f":"ABS(G237)","v":999}]
[null,null,"Min Abs G1",null,{"$f":"MIN(D239:G239)","v":999}]
[null,null,"Which is the Best G1",null,{"$f":"MATCH(E240,D239:G239,0)","v":1}]
[null,null,"Best G1 Value",null,{"$f":"INDEX(D237:G237,1,E241)","v":999}]
[]
[]
[]
[]
[]
[]
[null,null,"Check if all cells filled",{"$f":"SUM(D251:D311)","v":18},{"$f":"SUM(E251:E311)","v":1},18,18,null,1]
[]
[null,null,{"$f":"C24","v":"Lane Width (feet)"},{"$f":"IF(ISBLANK(D24),1,0)","v":1},{"$f":"IF(ISBLANK(E24),1,0)","v":0},1,1,null,0]
[null,null,{"$f":"C25","v":"Shoulder Width (feet)"},{"$f":"IF(ISBLANK(D25),1,0)","v":1},0,1,1,null,0]
[null,null,"Cross-slope or Superelevation (%)",{"$f":"IF(ISBLANK(D26),1,0)","v":1},0,1,1,null,0]
[null,null,"Horizontal Curve Present?"]
[null,null,"Horizontal Curve Data for Controlling Element:"]
[null,null,"  Radius (feet)",{"$f":"IF(AND($B$27=\"Yes\", ISBLANK(D29)),1,0)","v":0},{"$f":"IF(AND($B$27=\"Yes\", ISBLANK(E29)),1,0)","v":0},0,0,null,0]
[null,null,"Length of Horizontal Curve (feet)",{"$f":"IF(AND($B$27=\"Yes\", ISBLANK(D30)),1,0)","v":0},0,0,0,null,0]
[null,null,"Calculated Deflection Angle ∆"]
[]
[null,null,null,null,null,{"$f":"IF(AND($B$27 = \"Yes\", $D$31 <> F31, F31<>\"\",ISBLANK(F33)),1,0)","v":0},{"$f":"IF(AND($B$27 = \"Yes\", $D$31 <> G31, G31<>\"\",ISBLANK(G33)),1,0)","v":0}]
[null,null,"Vertical Curve Present?"]
[null,null,"Vertical Curve Data for Controlling Element:"]
[null,null,"  Approach (Entry) Grade, G1 (%)",{"$f":"IF(ISBLANK(D36),1,0)","v":1},{"$f":"IF(ISBLANK(E36),1,0)","v":0},1,1,null,0]
[null,null,"  Departure (Exit) Grade, G2 (%)",{"$f":"IF(AND($B$34=\"Yes\", ISBLANK(D37)),1,0)","v":0},{"$f":"IF(AND($B$34=\"Yes\", ISBLANK(E37)),1,0)","v":0},0,0,null,0]
[null,null,"  Length (feet)",{"$f":"IF(AND($B$34=\"Yes\", ISBLANK(D38)),1,0)","v":0},0,0,0,null,0]
[null,null,"  Calculated Rate of Change, K (ft/ft)"]
[]
[]
[]
[null,null,"TWLTL (two-way left-turn lane)",{"$f":"IF(ISBLANK(D43),1,0)","v":1},{"$f":"IF(ISBLANK(E43),1,0)","v":0},1,1,null,0]
[null,null,"Passing Lane Type",{"$f":"IF(ISBLANK(D44),1,0)","v":1},0,1,1,null,0]
[]
[]
[]
[]
[]
[]
[]
[null,null,"Advance Static Curve Warning Signs",{"$f":"IF(AND($B$27=\"Yes\", ISBLANK(D52)),1,0)","v":0},{"$f":"IF(AND($B$27=\"Yes\", ISBLANK(E52)),1,0)","v":0},0,0,null,{"$f":"IF(ISBLANK(I52),1,0)","v":0}]
[null,null,"Chevron Signs on Horizontal Curves",{"$f":"IF(AND($B$27=\"Yes\", ISBLANK(D53)),1,0)","v":0},0,0,0,null,0]
[null,null,"Post-Mounted Delineators",0,0,0,0,null,0]
[null,null,"Edgeline Pavement Markings or Profile Markings",{"$f":"IF(ISBLANK(D55),1,0)","v":1},0,1,1,null,0]
[null,null,"Shoulder Rumble Strips",1,0,1,1,null,0]
[null,null,"Centerline Rumble Strips",1,0,1,1,null,0]
[null,null,"Driveway Density (driveways per mile)",1,0,1,1,null,0]
[null,null,"Lighting",1,0,1,1,null,0]
[null,null,"Pavement Friction (skid number) ***",1,0,1,1,null,0]
[]
[]
[]
[]
[]
[]
[]
[]
[]
[]
[]
[null,null,"Sideslope (Foreslope)",{"$f":"IF(ISBLANK(D72),1,0)","v":1},0,1,1,null,0]
[null,null,"Backslope",1,0,1,1,null,0]
[null,null,"SafetyEdge",1,0,1,1,null,0]
[null,null,"Lateral Clearance to obstruction (ft)",1,0,1,1,null,0]
[null,null,"Obstruction Type",1,0,1,1,null,0]
[]
[]
[]
[]
[]
[]
[]
[null,null,"Distance to Slope Toe from Shoulder (ft)",1,{"$f":"$D$311","v":1},{"$f":"$D$311","v":1},1,null,1]
[]
[]
[]
[null,null,null,null,null,null,null,null,{"$f":"SUM(I316:I324)","v":9}]
[null,null,null,null,null,null,null,{"$f":"F9","v":"Location "},{"$f":"IF(ISBLANK(I9),1,0)","v":1}]
[null,null,null,null,null,null,null,{"$f":"F10","v":"Design Speed (mph)"},{"$f":"IF(ISBLANK(I10),1,0)","v":1}]
[null,null,null,null,null,null,null,"Posted Speed (mph)",1]
[null,null,null,null,null,null,null,"E max (%)",1]
[null,null,null,null,null,null,null,"Design Year AADT (vehicles per day)",1]
[null,null,null,null,null,null,null,"Dist. from Centerline to Left   ROW (feet)",1]
[null,null,null,null,null,null,null,"Dist. from Centerline to Right ROW (feet)",1]
[null,null,null,null,null,null,null,"H Curve Indicator",{"$f":"IF(ISBLANK(B27),1,0)","v":1}]
[null,null,null,null,null,null,null,"V Curve Indicator",{"$f":"IF(ISBLANK(B34),1,0)","v":1}]
[]
[]
[]
[]
[]
[]
[]
[]
[]
[]
[]
[]
[]
[]
[]
[]
[]
[]
[]
[]
[]
[]
[]
[]
[]
[]
[]
[]
[]
[]
[]
[]
[]
[]
[]
[]
[]
[]
[]
[]
[]
[]
[]
[]
[]
[]
[]
[]
[]
[]
[]
[1]
[22]
[21]
[20,null,null,{"$f":"Constraints!P174","v":"Emax=6%"}]
[19]
[18,null,{"$f":"HLOOKUP($I$10,Constraints!$Q$176:AD197,A376,TRUE)","v":{"$error":"#N/A"}},{"$f":"Constraints!P176","v":"super"}]
[17,null,{"$f":"HLOOKUP($I$10,Constraints!$Q$176:AD198,A377,TRUE)","v":{"$error":"#N/A"}},{"$f":"Constraints!P197","v":6},1050]
[16,null,{"$f":"HLOOKUP($I$10,Constraints!$Q$176:AD199,A378,TRUE)","v":{"$error":"#N/A"}},{"$f":"Constraints!P196","v":5.8}]
[15,null,{"$f":"HLOOKUP($I$10,Constraints!$Q$176:AD200,A379,TRUE)","v":{"$error":"#N/A"}},{"$f":"Constraints!P195","v":5.6}]
[14,null,{"$f":"HLOOKUP($I$10,Constraints!$Q$176:AD201,A380,TRUE)","v":{"$error":"#N/A"}},{"$f":"Constraints!P194","v":5.4}]
[13,null,{"$f":"HLOOKUP($I$10,Constraints!$Q$176:AD202,A381,TRUE)","v":{"$error":"#N/A"}},{"$f":"Constraints!P193","v":5.2}]
[12,null,{"$f":"HLOOKUP($I$10,Constraints!$Q$176:AD203,A382,TRUE)","v":{"$error":"#N/A"}},{"$f":"Constraints!P192","v":5}]
[11,null,{"$f":"HLOOKUP($I$10,Constraints!$Q$176:AD204,A383,TRUE)","v":{"$error":"#N/A"}},{"$f":"Constraints!P191","v":4.8}]
[10,null,{"$f":"HLOOKUP($I$10,Constraints!$Q$176:AD205,A384,TRUE)","v":{"$error":"#N/A"}},{"$f":"Constraints!P190","v":4.5999999999999996}]
[9,null,{"$f":"HLOOKUP($I$10,Constraints!$Q$176:AD206,A385,TRUE)","v":{"$error":"#N/A"}},{"$f":"Constraints!P189","v":4.4000000000000004}]
[8,null,{"$f":"HLOOKUP($I$10,Constraints!$Q$176:AD207,A386,TRUE)","v":{"$error":"#N/A"}},{"$f":"Constraints!P188","v":4.2}]
[7,null,{"$f":"HLOOKUP($I$10,Constraints!$Q$176:AD208,A387,TRUE)","v":{"$error":"#N/A"}},{"$f":"Constraints!P187","v":4}]
[6,null,{"$f":"HLOOKUP($I$10,Constraints!$Q$176:AD209,A388,TRUE)","v":{"$error":"#N/A"}},{"$f":"Constraints!P186","v":3.8}]
[5,null,{"$f":"HLOOKUP($I$10,Constraints!$Q$176:AD210,A389,TRUE)","v":{"$error":"#N/A"}},{"$f":"Constraints!P185","v":3.6}]
[4,null,{"$f":"HLOOKUP($I$10,Constraints!$Q$176:AD211,A390,TRUE)","v":{"$error":"#N/A"}},{"$f":"Constraints!P184","v":3.4}]
[3,null,{"$f":"HLOOKUP($I$10,Constraints!$Q$176:AD212,A391,TRUE)","v":{"$error":"#N/A"}},{"$f":"Constraints!P183","v":3.2}]
[2,null,{"$f":"HLOOKUP($I$10,Constraints!$Q$176:AD213,A392,TRUE)","v":{"$error":"#N/A"}},{"$f":"Constraints!P182","v":3}]
[null,null,{"$f":"HLOOKUP($I$10,Constraints!$Q$176:AD214,A393,TRUE)","v":{"$error":"#N/A"}},{"$f":"Constraints!P181","v":2.8}]
[null,null,{"$f":"HLOOKUP($I$10,Constraints!$Q$176:AD215,A394,TRUE)","v":{"$error":"#N/A"}},{"$f":"Constraints!P180","v":2.6}]
[null,null,{"$f":"HLOOKUP($I$10,Constraints!$Q$176:AD216,A395,TRUE)","v":{"$error":"#N/A"}},{"$f":"Constraints!P179","v":2.4}]
[null,null,{"$f":"HLOOKUP($I$10,Constraints!$Q$176:AD217,A396,TRUE)","v":{"$error":"#N/A"}},{"$f":"Constraints!P178","v":2.2000000000000002}]
[null,null,{"$f":"HLOOKUP($I$10,Constraints!$Q$176:AD218,A397,TRUE)","v":{"$error":"#N/A"}},{"$f":"Constraints!P177","v":2}]
[1]
[32]
[31]
[30,null,null,{"$f":"Constraints!P201","v":"Emax=8%"}]
[29]
[28,null,{"$f":"HLOOKUP($I$10,Constraints!$Q$203:AD234,A403,TRUE)","v":{"$error":"#N/A"}},{"$f":"Constraints!P203","v":"super"}]
[27,null,{"$f":"HLOOKUP($I$10,Constraints!$Q$203:AD235,A404,TRUE)","v":{"$error":"#N/A"}},{"$f":"INDEX(Constraints!$P$203:$P$234,A404,)","v":8}]
[26,null,{"$f":"HLOOKUP($I$10,Constraints!$Q$203:AD236,A405,TRUE)","v":{"$error":"#N/A"}},{"$f":"INDEX(Constraints!$P$203:$P$234,A405,)","v":7.8}]
[25,null,{"$f":"HLOOKUP($I$10,Constraints!$Q$203:AD237,A406,TRUE)","v":{"$error":"#N/A"}},{"$f":"INDEX(Constraints!$P$203:$P$234,A406,)","v":7.6}]
[24,null,{"$f":"HLOOKUP($I$10,Constraints!$Q$203:AD238,A407,TRUE)","v":{"$error":"#N/A"}},{"$f":"INDEX(Constraints!$P$203:$P$234,A407,)","v":7.4}]
[23,null,{"$f":"HLOOKUP($I$10,Constraints!$Q$203:AD239,A408,TRUE)","v":{"$error":"#N/A"}},{"$f":"INDEX(Constraints!$P$203:$P$234,A408,)","v":7.2}]
[22,null,{"$f":"HLOOKUP($I$10,Constraints!$Q$203:AD240,A409,TRUE)","v":{"$error":"#N/A"}},{"$f":"INDEX(Constraints!$P$203:$P$234,A409,)","v":7}]
[21,null,{"$f":"HLOOKUP($I$10,Constraints!$Q$203:AD241,A410,TRUE)","v":{"$error":"#N/A"}},{"$f":"INDEX(Constraints!$P$203:$P$234,A410,)","v":6.8}]
[20,null,{"$f":"HLOOKUP($I$10,Constraints!$Q$203:AD242,A411,TRUE)","v":{"$error":"#N/A"}},{"$f":"INDEX(Constraints!$P$203:$P$234,A411,)","v":6.6}]
[19,null,{"$f":"HLOOKUP($I$10,Constraints!$Q$203:AD243,A412,TRUE)","v":{"$error":"#N/A"}},{"$f":"INDEX(Constraints!$P$203:$P$234,A412,)","v":6.4}]
[18,null,{"$f":"HLOOKUP($I$10,Constraints!$Q$203:AD244,A413,TRUE)","v":{"$error":"#N/A"}},{"$f":"INDEX(Constraints!$P$203:$P$234,A413,)","v":6.2}]
[17,null,{"$f":"HLOOKUP($I$10,Constraints!$Q$203:AD245,A414,TRUE)","v":{"$error":"#N/A"}},{"$f":"INDEX(Constraints!$P$203:$P$234,A414,)","v":6}]
[16,null,{"$f":"HLOOKUP($I$10,Constraints!$Q$203:AD246,A415,TRUE)","v":{"$error":"#N/A"}},{"$f":"INDEX(Constraints!$P$203:$P$234,A415,)","v":5.8}]
[15,null,{"$f":"HLOOKUP($I$10,Constraints!$Q$203:AD247,A416,TRUE)","v":{"$error":"#N/A"}},{"$f":"INDEX(Constraints!$P$203:$P$234,A416,)","v":5.6}]
[14,null,{"$f":"HLOOKUP($I$10,Constraints!$Q$203:AD248,A417,TRUE)","v":{"$error":"#N/A"}},{"$f":"INDEX(Constraints!$P$203:$P$234,A417,)","v":5.4}]
[13,null,{"$f":"HLOOKUP($I$10,Constraints!$Q$203:AD249,A418,TRUE)","v":{"$error":"#N/A"}},{"$f":"INDEX(Constraints!$P$203:$P$234,A418,)","v":5.2}]
[12,null,{"$f":"HLOOKUP($I$10,Constraints!$Q$203:AD250,A419,TRUE)","v":{"$error":"#N/A"}},{"$f":"INDEX(Constraints!$P$203:$P$234,A419,)","v":5}]
[11,null,{"$f":"HLOOKUP($I$10,Constraints!$Q$203:AD251,A420,TRUE)","v":{"$error":"#N/A"}},{"$f":"INDEX(Constraints!$P$203:$P$234,A420,)","v":4.8}]
[10,null,{"$f":"HLOOKUP($I$10,Constraints!$Q$203:AD252,A421,TRUE)","v":{"$error":"#N/A"}},{"$f":"INDEX(Constraints!$P$203:$P$234,A421,)","v":4.5999999999999996}]
[9,null,{"$f":"HLOOKUP($I$10,Constraints!$Q$203:AD253,A422,TRUE)","v":{"$error":"#N/A"}},{"$f":"INDEX(Constraints!$P$203:$P$234,A422,)","v":4.4000000000000004}]
[8,null,{"$f":"HLOOKUP($I$10,Constraints!$Q$203:AD254,A423,TRUE)","v":{"$error":"#N/A"}},{"$f":"INDEX(Constraints!$P$203:$P$234,A423,)","v":4.2}]
[7,null,{"$f":"HLOOKUP($I$10,Constraints!$Q$203:AD255,A424,TRUE)","v":{"$error":"#N/A"}},{"$f":"INDEX(Constraints!$P$203:$P$234,A424,)","v":4}]
[6,null,{"$f":"HLOOKUP($I$10,Constraints!$Q$203:AD256,A425,TRUE)","v":{"$error":"#N/A"}},{"$f":"INDEX(Constraints!$P$203:$P$234,A425,)","v":3.8}]
[5,null,{"$f":"HLOOKUP($I$10,Constraints!$Q$203:AD257,A426,TRUE)","v":{"$error":"#N/A"}},{"$f":"INDEX(Constraints!$P$203:$P$234,A426,)","v":3.6}]
[4,null,{"$f":"HLOOKUP($I$10,Constraints!$Q$203:AD258,A427,TRUE)","v":{"$error":"#N/A"}},{"$f":"INDEX(Constraints!$P$203:$P$234,A427,)","v":3.4}]
[3,null,{"$f":"HLOOKUP($I$10,Constraints!$Q$203:AD259,A428,TRUE)","v":{"$error":"#N/A"}},{"$f":"INDEX(Constraints!$P$203:$P$234,A428,)","v":3.2}]
[2,null,{"$f":"HLOOKUP($I$10,Constraints!$Q$203:AD260,A429,TRUE)","v":{"$error":"#N/A"}},{"$f":"INDEX(Constraints!$P$203:$P$234,A429,)","v":3}]
[null,null,{"$f":"HLOOKUP($I$10,Constraints!$Q$203:AD261,A430,TRUE)","v":{"$error":"#N/A"}},{"$f":"INDEX(Constraints!$P$203:$P$234,A430,)","v":2.8}]
[null,null,{"$f":"HLOOKUP($I$10,Constraints!$Q$203:AD262,A431,TRUE)","v":{"$error":"#N/A"}},{"$f":"INDEX(Constraints!$P$203:$P$234,A431,)","v":2.6}]
[null,null,{"$f":"HLOOKUP($I$10,Constraints!$Q$203:AD263,A432,TRUE)","v":{"$error":"#N/A"}},{"$f":"INDEX(Constraints!$P$203:$P$234,A432,)","v":2.4}]
[null,null,{"$f":"HLOOKUP($I$10,Constraints!$Q$203:AD264,A433,TRUE)","v":{"$error":"#N/A"}},{"$f":"INDEX(Constraints!$P$203:$P$234,A433,)","v":2.2000000000000002}]
[null,null,{"$f":"HLOOKUP($I$10,Constraints!$Q$203:AD265,A434,TRUE)","v":{"$error":"#N/A"}},{"$f":"INDEX(Constraints!$P$203:$P$234,A434,)","v":2}]

{"sheet":"Configuration 6","index":16,"n_rows":439,"n_cols":113,"rows_kept":439,"cut":false,"hidden":false,"merged":[[1,6,2,7],[1,8,2,8],[1,21,1,37],[2,1,2,4],[2,21,3,28],[2,30,3,37],[3,1,3,4],[3,6,4,7],[3,8,4,8],[4,1,4,2],[4,3,4,4],[4,21,44,28],[4,30,44,37],[5,1,5,2],[5,3,5,4],[6,1,6,7],[7,1,7,4],[7,7,7,8],[8,3,8,4],[8,5,8,6],[75,16,75,21],[75,22,75,23],[9,3,9,4],[9,5,9,6],[10,3,10,4],[10,5,10,6],[11,5,11,6],[12,2,15,4],[12,5,12,6],[13,5,13,6],[14,5,14,6],[17,2,18,8],[20,5,20,7],[38,9,38,10],[45,12,45,19],[74,16,74,23],[76,22,76,23],[77,16,77,21],[77,22,77,23],[78,16,78,21],[78,22,78,23],[84,1,84,2],[85,1,85,2],[86,1,86,2],[95,10,95,12],[76,16,76,21]]}
[]
[null,null,null,null,null,null,"Preferred Schematic View to Display",null,"Standard",null,null,null,null,null,null,null,null,null,null,null,null,"NOTES: "]
[null,"CHARACTERISTICS TO CONSIDER FOR ANALYSIS",null,null,null,null,null,null,null,null,null,null,null,null,null,null,null,null,null,null,null,"ELEMENTS INCREASING SAFETY",null,null,null,null,null,null,null,null,"COMMENTS ON PRIMARY CONSTRAINTS"]
[null,"INPUT INSTRUCTIONS",null,null,null,null,"Relative to",null,"Existing"]
[null,"Blue Boxes -- Select from pulldown options",null,"Select from Pulldown"]
[null,"Yellow Boxes -- Type input information into box",null,"Type Input Value"]
[null," Rural Two-Lane Road Segment -- Safety Score Input",null,null,null,null,null,null,null,null,null,null,null,null,null,null,null,null,null,null,null,null,null,null,null,null,null,null,null,null,null,null,null,null,null,null,null,null,null,null,null,null,null,null,null,null,null,null,null,null,null,null,null,null,null,null,null,null,null,null,null,null,null,null,null,null,null,null,null,null,null,null,null,null,null,null,null,null,null,null,null,null,null,"Unadjusted Marginal Safety"]
[null,"General Information:",null,null,null,"General Site Features",null,{"$f":"I315 & \" Missing Features and Curves\"","v":"9 Missing Features and Curves"},null,null,null,null,null,null,null,null,null,null,null,null,null,null,null,null,null,null,null,null,null,null,null,null,null,null,null,null,null,null,null,null,null,null,null,null,null,null,null,null,null,null,null,null,null,null,null,null,null,null,null,null,null,null,null,null,null,null,null,null,null,null,null,null,null,null,null,null,null,null,null,null,null,null,null,{"$f":"I2&\" relative to \" &I4","v":"Standard relative to Existing"}]
[null,null,"Analyst:",{"$f":"+'Start Here'!J7","v":0},null,"Location "]
[null,null,"Agency or Company:",{"$f":"+'Start Here'!J8","v":0},null,"Design Speed (mph)"]
[null,null,"Date:",{"$f":"+'Start Here'!J9","v":"00:00:00"},null,"Posted Speed (mph)"]
[null,null,"Description:",null,null,"E max (%)"]
[null,null,null,null,null,"Design Year AADT (vehicles per day)"]
[null,null,null,null,null,"Dist. from Centerline to Left   ROW (feet)"]
[null,null,null,null,null,"Dist. from Centerline to Right ROW (feet)"]
[]
[null,"Warning:"]
[null,null,{"$f":"+IF(+I11>I10,\"Posted speed exceeds design speed. Optimal safety will only be achieved if design speed exceeds posted speed. The Safety Assessment Score is based on the higher of the two speed values.\",\"No warnings identified\")","v":"No warnings identified"}]
[null,null,null,null,null,null,null,null,null,null,null,null,null,null,null,{"$f":"\"Unadjusted Marginal Safety of elements in \"&I2&\" from Design Standards\"","v":"Unadjusted Marginal Safety of elements in Standard from Design Standards"},null,null,null,null,null,null,null,null,null,null,null,null,null,null,null,null,null,null,null,null,null,null,null,null,null,null,null,null,null,null,null,null,null,null,null,null,null,null,null,null,null,null,null,null,null,null,null,null,null,null,null,null,null,null,null,null,null,null,null,null,null,null,null,null,null,null,null,null,null,null,null,null,null,null,null,null,null,null,null,null,null,null,null,null,null,null,null,null,null,{"$f":"COUNTIF(DB23:DB41,DB20)","v":1}]
[null,null,null,null,null,null,null,null,null,null,null,null,null,null,null,null,null,null,null,null,null,null,null,null,null,null,null,null,null,null,null,null,null,null,null,null,null,null,null,null,null,null,null,null,null,null,null,null,null,null,null,null,null,null,null,null,null,null,null,null,null,null,null,null,null,null,null,null,null,null,null,null,null,null,null,null,null,null,null,null,null,null,null,null,null,null,null,null,null,null,null,null,null,null,null,null,null,null,null,null,null,null,null,null,null,{"$f":"VLOOKUP(0,CZ23:DB41,3,)","v":10.01}]
[null,null,null,"Fill all elements",null,"To enter notes, use boxes to the right of the vortex ",null,null,null,null," "]
[null,{"$f":"+Construction!$I$8&\"  Total Available Points\"","v":"40  Total Available Points"},null,{"$f":"D249 & \" Missing Elements\"","v":"18 Missing Elements"},null,{"$f":"F249 & \" Missing Elements\"","v":"18 Missing Elements"},{"$f":"G249 & \" Missing Elements\"","v":"18 Missing Elements"},null,null,null,null,null,null,null,null,null,null,null,null,null,null,null,null,null,null,null,null,null,null,null,null,null,null,null,null,null,null,null,null,null,null,null,null,null,null,null,null,null,null,null,null,null,null,null,null,null,null,null,null,null,null,null,null,null,null,null,null,null,null,null,null,null,null,null,null,null,null,null,null,null,null,null,null,null,null,null,null,null,null,null,null,null,null,null,null,null,null,null,null,null,null,"Ranked element","CRF","abs","Re-rank","Rank","Ranked CRF","Element","New Element","crf.abs","rank","Sorted Element","Sorted CRF"]
[null,"Geometric Design Elements",null,"Existing","Standard","Design 1","Design 2",{"$f":"\"Marginal Safety for \"&$I$2&\" (compared to \" & $I$4 & \")\"","v":"Marginal Safety for Standard (compared to Existing)"},"Optimal",null,null,null,null,null,null,null,null,null,null,null,null,null,null,null,null,null,null,null,null,null,null,null,null,null,null,null,null,null,null,null,null,null,null,null,null,null,null,null,null,null,null,null,null,null,null,null,null,null,null,null,null,null,null,null,null,null,null,null,null,null,null,null,null,null,null,null,null,null,null,null,null,null,null,null,null,null,null,null,null,null,null,null,null,null,null,null,null,null,null,null,null,{"$f":"IF(CY23=0,\"\",DB23&\". \"&DD23)","v":""},{"$f":"H24","v":0},{"$f":"ABS(CY23)","v":0},{"$f":"RANK(DB23,$DB$23:$DB$41,1)","v":10},{"$f":"_xlfn.RANK.EQ(CZ23,$CZ$23:$CZ$41)+DG23/100","v":10.01},{"$f":"CY23","v":0},{"$f":"IF(ROUND(DF23,2)=0,\"\",C24)","v":""},{"$f":"DD23","v":""},{"$f":"CZ23","v":0},1,{"$f":"IFERROR(IF(IFERROR(VLOOKUP(DG23,$DA$23:$DF$41,4,)&\", \"&CY23=0,\"\"),\"\",IFERROR(VLOOKUP(DG23,$DA$23:$DE$41,4,),\"\")),\"\")","v":"TWLTL (two-way left-turn lane)"},{"$f":"IFERROR(IF(IFERROR(VLOOKUP(DG23,$DA$23:$DF$41,3,)&\", \"&CY23=0,\"\"),\"\",IFERROR(VLOOKUP(DG23,$DA$23:$DE$41,3,),\"\")),\"\")","v":-0.40845070422535223}]
[null,null,"Lane Width (feet)",null,12,null,null,{"$f":"M100","v":0},12,null,null,null,null,null,null,null,null,null,null,null,null,null,null,null,null,null,null,null,null,null,null,null,null,null,null,null,null,null,null,null,null,null,null,null,null,null,null,null,null,null,null,null,null,null,null,null,null,null,null,null,null,null,null,null,null,null,null,null,null,null,null,null,null,null,null,null,null,null,null,null,null,null,null,null,null,null,null,null,null,null,null,null,null,null,null,null,null,null,null,null,null,"5.02. Shoulder Width (feet)",{"$f":"H25","v":0.15503875968992242},0.15503875968992242,{"$f":"RANK(DB24,$DB$23:$DB$41,1)","v":5},{"$f":"_xlfn.RANK.EQ(CZ24,$CZ$23:$CZ$41)+DG24/100","v":5.0199999999999996},{"$f":"CY24","v":0.15503875968992242},{"$f":"IF(ROUND(DF24,2)=0,\"\",C25)","v":"Shoulder Width (feet)"},{"$f":"DD24","v":"Shoulder Width (feet)"},0.15503875968992242,2,"Pavement Friction (skid number) ***",{"$f":"IFERROR(IF(IFERROR(VLOOKUP(DG24,$DA$23:$DF$41,3,)&\", \"&CY24=0,\"\"),\"\",IFERROR(VLOOKUP(DG24,$DA$23:$DE$41,3,),\"\")),\"\")","v":0.28430956017940245}]
[null,null,"Shoulder Width (feet)",null,{"$f":"IF('Start Here'!$J$12=\"4R\",8,4)","v":4},null,null,{"$f":"M101","v":0.15503875968992242},10,null,null,null,null,null,null,null,null,null,null,null,null,null,null,null,null,null,null,null,null,null,null,null,null,null,null,null,null,null,null,null,null,null,null,null,null,null,null,null,null,null,null,null,null,null,null,null,null,null,null,null,null,null,null,null,null,null,null,null,null,null,null,null,null,null,null,null,null,null,null,null,null,null,null,null,null,null,null,null,null,null,null,null,null,null,null,null,null,null,null,null,null,"",{"$f":"H29","v":0},0,11,10.029999999999999,0,{"$f":"IF(ROUND(DF25,2)=0,\"\",\"Hz and Vt Alignment\")","v":""},"",0,3,"Driveway Density (driveways per mile)",-0.22388114201141129]
[null,null,"Cross-slope or Superelevation (%)",null,{"$f":"IF($I$12=6,IFERROR(VLOOKUP(E29,$C$382:$D$402,2,TRUE),6),IFERROR(VLOOKUP(E29,$C$409:$D$439,2,TRUE),8))","v":8},null,null,null,{"$f":"I12","v":0},null,null,null,null,null,null,null,null,null,null,null,null,null,null,null,null,null,null,null,null,null,null,null,null,null,null,null,null,null,null,null,null,null,null,null,null,null,null,null,null,null,null,null,null,null,null,null,null,null,null,null,null,null,null,null,null,null,null,null,null,null,null,null,null,null,null,null,null,null,null,null,null,null,null,null,null,null,null,null,null,null,null,null,null,null,null,null,null,null,null,null,null,"1.04. TWLTL (two-way left-turn lane)",{"$f":"H43","v":-0.40845070422535223},0.40845070422535223,1,1.04,-0.40845070422535223,{"$f":"IF(ROUND(DF26,2)=0,\"\",C43)","v":"TWLTL (two-way left-turn lane)"},"TWLTL (two-way left-turn lane)",0.40845070422535223,4,"Centerline Rumble Strips",-0.16279069767441867]
["",null,"Horizontal Curve Present?","--","--","--","--",null,"--",null,null,null,null,null,null,null,null,null,null,null,null,null,null,null,null,null,null,null,null,null,null,null,null,null,null,null,null,null,null,null,null,null,null,null,null,null,null,null,null,null,null,null,null,null,null,null,null,null,null,null,null,null,null,null,null,null,null,null,null,null,null,null,null,null,null,null,null,null,null,null,null,null,null,null,null,null,null,null,null,null,null,null,null,null,null,null,null,null,null,null,null,"",{"$f":"H44","v":0},0,12,10.050000000000001,0,{"$f":"IF(ROUND(DF27,2)=0,\"\",C44)","v":""},"",0,5,"Shoulder Width (feet)",0.15503875968992242]
[null,null,"Horizontal Curve Data for Controlling Element:","--","--","--","--",null,"--",null,null,null,null,null,null,null,null,null,null,null,null,null,null,null,null,null,null,null,null,null,null,null,null,null,null,null,null,null,null,null,null,null,null,null,null,null,null,null,null,null,null,null,null,null,null,null,null,null,null,null,null,null,null,null,null,null,null,null,null,null,null,null,null,null,null,null,null,null,null,null,null,null,null,null,null,null,null,null,null,null,null,null,null,null,null,null,null,null,null,null,null,"",{"$f":"H52","v":0},0,13,10.06,0,{"$f":"IF(ROUND(DF28,2)=0,\"\",C52)","v":""},"",0,6,"Edgeline Pavement Markings or Profile Markings",0.13824118691351761]
[null,null,"  Radius (feet)",null,{"$f":"IF(MAX($I$10,$I$11)<45,590,IF($I$12=6,VLOOKUP(MAX($I$10,$I$11),Construction!$B$29:$D$36,2,TRUE),VLOOKUP(MAX($I$10,$I$11),Construction!$G$29:$I$36,2,TRUE)))","v":590},null,null,{"$f":"M140","v":0},{"$f":"IF(MAX($I$10,$I$11)<45,590,IF($I$12=6,VLOOKUP(MAX($I$10,$I$11),Construction!$B$45:$C$52,2,TRUE),VLOOKUP(MAX($I$10,$I$11),Construction!$G$45:$H$52,2,TRUE)))","v":590},null,null,null,null,null,null,null,null,null,null,null,null,null,null,null,null,null,null,null,null,null,null,null,null,null,null,null,null,null,null,null,null,null,null,null,null,null,null,null,null,null,null,null,null,null,null,null,null,null,null,null,null,null,null,null,null,null,null,null,null,null,null,null,null,null,null,null,null,null,null,null,null,null,null,null,null,null,null,null,null,null,null,null,null,null,null,null,null,null,null,null,null,"",0,0,14,10.07,0,"","",0,7,"Lateral Clearance to obstruction (ft)",9.0307162971216326E-2]
[null,null,"Length of Horizontal Curve (feet)",null,{"$f":"IF(D31=\"\", \"\", E29*E31/57.296)","v":""},null,null,null,{"$f":"I29*I31/57.296","v":3758.5520804244625},null,null,null,null,null,null,null,null,null,null,null,null,null,null,null,null,null,null,null,null,null,null,null,null,null,null,null,null,null,null,null,null,null,null,null,null,null,null,null,null,null,null,null,null,null,null,null,null,null,null,null,null,null,null,null,null,null,null,null,null,null,null,null,null,null,null,null,null,null,null,null,null,null,null,null,null,null,null,null,null,null,null,null,null,null,null,null,null,null,null,null,null,"",0,0,15,10.08,0,"","",0,8,"SafetyEdge",-2.8188991921691331E-2]
[null,null,"Calculated Deflection Angle ∆",{"$f":"IF(OR(ISBLANK(D29),ISBLANK(D30),$B$27=\"No\",ISBLANK($B$27)),\"\",ROUND(D30/D29*57.296,1))","v":""},{"$f":"IF(ISBLANK(D31), \"\",D31)","v":""},{"$f":"IF(OR(ISBLANK(F29),ISBLANK(F30),$B$27=\"No\",ISBLANK($B$27)),\"\",ROUND(F30/F29*57.296,1))","v":""},{"$f":"IF(OR(ISBLANK(G29),ISBLANK(G30),$B$27=\"No\",ISBLANK($B$27)),\"\",ROUND(G30/G29*57.296,1))","v":""},null,{"$f":"MIN(D31,IF(F33=INDEX(HCurveChange,1,0), F31, 365),IF(G33=INDEX(HCurveChange,1,0), G31, 365))","v":365},null,null,null,null,null,null,null,null,null,null,null,null,null,null,null,null,null,null,null,null,null,null,null,null,null,null,null,null,null,null,null,null,null,null,null,null,null,null,null,null,null,null,null,null,null,null,null,null,null,null,null,null,null,null,null,null,null,null,null,null,null,null,null,null,null,null,null,null,null,null,null,null,null,null,null,null,null,null,null,null,null,null,null,null,null,null,null,null,null,null,null,null,"6.09. Edgeline Pavement Markings or Profile Markings",0.13824118691351761,0.13824118691351761,6,6.09,0.13824118691351761,"Edgeline Pavement Markings or Profile Markings","Edgeline Pavement Markings or Profile Markings",0.13824118691351761,9,"Lighting",-2.3499081529478438E-2]
[null,null,null,null,null,"∆ has changed. \nAre you changing the ∆?","∆ has changed. \nAre you changing the ∆?",null,null,null,null,null,null,null,null,null,null,null,null,null,null,null,null,null,null,null,null,null,null,null,null,null,null,null,null,null,null,null,null,null,null,null,null,null,null,null,null,null,null,null,null,null,null,null,null,null,null,null,null,null,null,null,null,null,null,null,null,null,null,null,null,null,null,null,null,null,null,null,null,null,null,null,null,null,null,null,null,null,null,null,null,null,null,null,null,null,null,null,null,null,null,"",0,0,16,10.1,0,"","",0,10,"",0]
[null,null,null,null,null,null,null,null,null,null,null,null,null,null,null,null,null,null,null,null,null,null,null,null,null,null,null,null,null,null,null,null,null,null,null,null,null,null,null,null,null,null,null,null,null,null,null,null,null,null,null,null,null,null,null,null,null,null,null,null,null,null,null,null,null,null,null,null,null,null,null,null,null,null,null,null,null,null,null,null,null,null,null,null,null,null,null,null,null,null,null,null,null,null,null,null,null,null,null,null,null,"4.11. Centerline Rumble Strips",-0.16279069767441867,0.16279069767441867,4,4.1100000000000003,-0.16279069767441867,"Centerline Rumble Strips","Centerline Rumble Strips",0.16279069767441867,11,"",0]
[null,null,"Vertical Curve Present?","--","--","--","--",null,{"$f":"E34","v":"--"},null,null,null,null,null,null,null,null,null,null,null,null,null,null,null,null,null,null,null,null,null,null,null,null,null,null,null,null,null,null,null,null,null,null,null,null,null,null,null,null,null,null,null,null,null,null,null,null,null,null,null,null,null,null,null,null,null,null,null,null,null,null,null,null,null,null,null,null,null,null,null,null,null,null,null,null,null,null,null,null,null,null,null,null,null,null,null,null,null,null,null,null,"3.12. Driveway Density (driveways per mile)",-0.22388114201141129,0.22388114201141129,3,3.12,-0.22388114201141129,{"$f":"IF(DF34=0,\"\",C58)","v":"Driveway Density (driveways per mile)"},"Driveway Density (driveways per mile)",0.22388114201141129,12,"",0]
[null,null,"Vertical Curve Data for Controlling Element:","--","--","--","--",null,"--",null,null,null,null,null,null,null,null,null,null,null,null,null,null,null,null,null,null,null,null,null,null,null,null,null,null,null,null,null,null,null,null,null,null,null,null,null,null,null,null,null,null,null,null,null,null,null,null,null,null,null,null,null,null,null,null,null,null,null,null,null,null,null,null,null,null,null,null,null,null,null,null,null,null,null,null,null,null,null,null,null,null,null,null,null,null,null,null,null,null,null,null,"9.13. Lighting",-2.3499081529478438E-2,2.3499081529478438E-2,9,9.1300000000000008,-2.3499081529478438E-2,{"$f":"IF(DF35=0,\"\",C59)","v":"Lighting"},"Lighting",2.3499081529478438E-2,13,"",0]
[null,null,"  Approach (Entry) Grade, G1 (%)",null,{"$f":"IF(ISBLANK(D36),\"\", D36)","v":""},null,null,null,{"$f":"IF(B34=\"Yes\",I227,I237)","v":""},null,null,null,null,null,null,null,null,null,null,null,null,null,null,null,null,null,null,null,null,null,null,null,null,null,null,null,null,null,null,null,null,null,null,null,null,null,null,null,null,null,null,null,null,null,null,null,null,null,null,null,null,null,null,null,null,null,null,null,null,null,null,null,null,null,null,null,null,null,null,null,null,null,null,null,null,null,null,null,null,null,null,null,null,null,null,null,null,null,null,null,null,"2.14. Pavement Friction (skid number) ***",0.28430956017940245,0.28430956017940245,2,2.14,0.28430956017940245,{"$f":"IF(DF36=0,\"\",C60)","v":"Pavement Friction (skid number) ***"},"Pavement Friction (skid number) ***",0.28430956017940245,14,"",0]
[null,null,"  Departure (Exit) Grade, G2 (%)",null,{"$f":"IF(ISBLANK(D37),\"\", D37)","v":""},null,null,null,{"$f":"IF($B$34=\"Yes\",I228,\"\")","v":""},null,null,null,null,null,null,null,null,null,null,null,null,null,null,null,null,null,null,null,null,null,null,null,null,null,null,null,null,null,null,null,null,null,null,null,null,null,null,null,null,null,null,null,null,null,null,null,null,null,null,null,null,null,null,null,null,null,null,null,null,null,null,null,null,null,null,null,null,null,null,null,null,null,null,null,null,null,null,null,null,null,null,null,null,null,null,null,null,null,null,null,null,"",{"$f":"H72","v":0},0,17,10.15,0,{"$f":"IF(DF37=0,\"\",C72)","v":""},"",0,15,"",0]
[null,null,"  Length (feet)",null,{"$f":"IF(AND($B$34=\"Yes\", D39<>\"\"), ABS(E36-E37)*D39, \"\")","v":""},null,null,null,{"$f":"IF(AND($B$34=\"Yes\",I36<>\"\",I37<>\"\", NOT(ISBLANK($I$10)), NOT(ISBLANK($I$11))),ABS(I37-I36)*I39,\"\")","v":""},null,null,null,null,null,null,null,null,null,null,null,null,null,null,null,null,null,null,null,null,null,null,null,null,null,null,null,null,null,null,null,null,null,null,null,null,null,null,null,null,null,null,null,null,null,null,null,null,null,null,null,null,null,null,null,null,null,null,null,null,null,null,null,null,null,null,null,null,null,null,null,null,null,null,null,null,null,null,null,null,null,null,null,null,null,null,null,null,null,null,null,null,"",{"$f":"H73","v":0},{"$f":"ABS(CY38)","v":0},18,10.16,0,{"$f":"IF(DF38=0,\"\",C73)","v":""},"",0,16,"",0]
[null,null,"  Calculated Rate of Change, K (ft/ft)",{"$f":"IF(OR($B$34=\"No\",ISBLANK($B$34), ISBLANK(D36), ISBLANK(D37),ISBLANK(D38), D36=D37), \"\", ROUND(D38/(ABS(D37-D36)),1))","v":""},{"$f":"IF(AND($B$34=\"Yes\", NOT(ISBLANK($I$10)), NOT(ISBLANK($I$11)), D39<>\"\"), IF($E$42=\"Crest\",  VLOOKUP(MAX($I$10,$I$11),Construction!$B$159:$D$171,2,TRUE), VLOOKUP(MAX($I$10,$I$11),Construction!$B$159:$D$171,3,TRUE)), \"\")","v":""},{"$f":"IF(AND($B$34=\"Yes\", SUM(F263:F265)=0),ROUND(F38/(ABS(F37-F36)),1),\"\")","v":""},{"$f":"IF(AND($B$34=\"Yes\", SUM(G263:G265)=0),ROUND(G38/(ABS(G37-G36)),1),\"\")","v":""},null,{"$f":"IF(OR($B$34<>\"Yes\", ISBLANK($I$10), ISBLANK($I$11), $I$36=\"\", $I$37=\"\", $I$42=\"--\", ISBLANK($I$42)),\"\",IF($I$42=\"Crest\",VLOOKUP(MAX($I$10,$I$11),Construction!$B$179:$D$191,2,TRUE),VLOOKUP(MAX($I$10,$I$11),Construction!$B$179:$D$191,3,TRUE)))","v":""},null,null,null,null,null,null,null,null,null,null,null,null,null,null,null,null,null,null,null,null,null,null,null,null,null,null,null,null,null,null,null,null,null,null,null,null,null,null,null,null,null,null,null,null,null,null,null,null,null,null,null,null,null,null,null,null,null,null,null,null,null,null,null,null,null,null,null,null,null,null,null,null,null,null,null,null,null,null,null,null,null,null,null,null,null,null,null,null,null,null,null,null,"8.17. SafetyEdge",{"$f":"H74","v":-2.8188991921691331E-2},{"$f":"ABS(CY39)","v":2.8188991921691331E-2},8,8.17,-2.8188991921691331E-2,{"$f":"IF(DF39=0,\"\",C74)","v":"SafetyEdge"},"SafetyEdge",2.8188991921691331E-2,17,"",0]
[null,null,null,null,null,"Are you changing the geometry?","Are you changing the geometry?",null,null,null,null,null,null,null,null,null,null,null,null,null,null,null,null,null,null,null,null,null,null,null,null,null,null,null,null,null,null,null,null,null,null,null,null,null,null,null,null,null,null,null,null,null,null,null,null,null,null,null,null,null,null,null,null,null,null,null,null,null,null,null,null,null,null,null,null,null,null,null,null,null,null,null,null,null,null,null,null,null,null,null,null,null,null,null,null,null,null,null,null,null,null,"7.18. Lateral Clearance to obstruction (ft)",{"$f":"H75","v":9.0307162971216326E-2},{"$f":"ABS(CY40)","v":9.0307162971216326E-2},7,7.18,9.0307162971216326E-2,{"$f":"IF(DF40=0,\"\",C75)","v":"Lateral Clearance to obstruction (ft)"},"Lateral Clearance to obstruction (ft)",9.0307162971216326E-2,18,"",0]
[null,null,null,null,null,null,null,null,null,null,null,null,null,null,null,null,null,null,null,null,null,null,null,null,null,null,null,null,null,null,null,null,null,null,null,null,null,null,null,null,null,null,null,null,null,null,null,null,null,null,null,null,null,null,null,null,null,null,null,null,null,null,null,null,null,null,null,null,null,null,null,null,null,null,null,null,null,null,null,null,null,null,null,null,null,null,null,null,null,null,null,null,null,null,null,null,null,null,null,null,null,"",{"$f":"H76","v":0},{"$f":"ABS(CY41)","v":0},19,10.19,0,{"$f":"IF(DF41=0,\"\",C76)","v":""},"",0,19,"",0]
[null,null,"  Calculated Sag or Crest?",{"$f":"IF(AND($B$34=\"Yes\", SUM(D263:D265)=0),IF(D36>D37,\"Crest\",\"Sag\"),\"--\")","v":"--"},{"$f":"IF(AND($B$34=\"Yes\", SUM(D263:D265)=0),IF(E36>E37,\"Crest\",\"Sag\"),\"--\")","v":"--"},{"$f":"IF(AND($B$34=\"Yes\", SUM(F263:F265)=0),IF(F36>F37,\"Crest\",\"Sag\"),\"--\")","v":"--"},{"$f":"IF(AND($B$34=\"Yes\", SUM(G263:G265)=0),IF(G36>G37,\"Crest\",\"Sag\"),\"--\")","v":"--"},null,{"$f":"IF($B$34=\"Yes\",IF(I36>I37,\"Crest\",\"Sag\"),\"--\")","v":"--"}]
[null,null,"TWLTL (two-way left-turn lane)",null,"No",null,null,{"$f":"M108","v":-0.40845070422535223},{"$f":"IF(OR($D$43=\"Yes\", $F$43=\"Yes\",$G$43=\"Yes\"), \"Yes\", \"No\")","v":"No"}]
[null,null,"Passing Lane Type",null,"No Passing Lane",null,null,{"$f":"M109","v":0},"Super 2"]
[null,null,"Geometric Design Element (Partial Score)",{"$f":"IF(OR(SUM(D251:D253,D256:D257,D263:D265,D270:D271)>0, ISERR(D125)),\"\",D125)","v":""},{"$f":"IF(OR(SUM(E251:E253,E256:E257,E263:E265,E270:E271)>0, ISERR(E125)),\"\",E125)","v":""},"","",null,{"$f":"IF(OR(SUM(I251:I253,I256:I257,I263:I265,I270:I271)>0, ISERR(I125)),\"\",I125)","v":""}]
[null,null,"Total Safety Score",{"$f":"IF(OR(D$249>0, $I$315>0,ISERROR(D$201+D$171+D$125)),\"\",D$201+D$171+D$125)","v":""},{"$f":"IF(OR(E$249>0, $I$315>0,ISERROR(E$201+E$171+E$125)),\"\",E$201+E$171+E$125)","v":""},"","",null,"",null,null,null,"SCHEMATIC REPRESENTING INPUT DATA FOR ",null,null,null,null,null,null,null,{"$f":"IF($I$2=\"Existing\",\"EXISTING CONFIGURATION\",IF($I$2=\"Standard\",\"STANDARD OPTION\",IF($I$2=\"Design 1\",\"DESIGN 1 OPTION\",IF($I$2=\"Design 2\",\"DESIGN 2 OPTION\",\"OPTIMAL OPTION\"))))","v":"STANDARD OPTION"}]
[]
[null,null,null,null,null,null,null,null,null,null,null,"LT",null,null,null,null,null,null,null,null,null,null,null,null,null,null,"RT"]
[null,null,null,null,null,null,null,null,null,null,null,"R/W",null,null,null,null,null,null,null,null,null,null,null,null,null,null,"R/W"]
[null,{"$f":"+Construction!$I$9&\"  Total Available Points\"","v":"20  Total Available Points"}]
[null,"Traffic Elements",null,"Existing","Standard","Design 1","Design 2",{"$f":"$H$23","v":"Marginal Safety for Standard (compared to Existing)"},"Optimal",null,null,null,null,null,{"$f":"+$I$14","v":0},null,null,null,null,null,null,null,{"$f":"+$I$15","v":0}]
[null,null,"Advance Static Curve Warning Signs",null,"No",null,null,{"$f":"M145","v":0},"Yes"]
[null,null,"Chevron Signs on Horizontal Curves",null,"No",null,null,{"$f":"M146","v":0},"Yes",null,null,{"$f":"+O51-N53-Q53","v":-16},null,{"$f":"IF(+$I$2=\"Existing\",D25,IF($I$2=\"Standard\",E25,IF($I$2=\"Design 1\",F25,IF($I$2=\"Design 2\",G25,I25))))","v":4},null,null,{"$f":"IF(+$I$2=\"Existing\",D24,IF($I$2=\"Standard\",E24,IF($I$2=\"Design 1\",F24,IF($I$2=\"Design 2\",G24,I24))))","v":12},null,null,null,null,{"$f":"+Q53","v":12},null,null,{"$f":"+N53","v":4},{"$f":"+W51-V53-Y53","v":-16}]
[null,null,"Post-Mounted Delineators",null,"No",null,null,0,"Yes"]
[null,null,"Edgeline Pavement Markings or Profile Markings",null,"Yes",null,null,0.13824118691351761,"Yes"]
[null,null,"Shoulder Rumble Strips",null,"Yes",null,null,{"$f":"M150","v":0},"Yes"]
[null,null,"Centerline Rumble Strips",null,"No",null,null,{"$f":"M151","v":-0.16279069767441867},"Yes"]
[null,null,"Driveway Density (driveways per mile)",null,10,null,null,{"$f":"M152","v":-0.22388114201141129},0]
[null,null,"Lighting",null,"No",null,null,{"$f":"M153","v":-2.3499081529478438E-2},"Yes",null,null,null,null,null,null,null,null,null,"Tangent X-Section"]
[null,null,"Pavement Friction (skid number) ***",null,37,null,null,{"$f":"M154","v":0.28430956017940245},54]
[]
[null,null,"Traffic Control Element (Partial Score):",{"$f":"IF(ISERROR(D171), \"\", D171)","v":12},{"$f":"IF(ISERROR(E171), \"\", E171)","v":14},{"$f":"IF(ISERROR(F171), \"\", F171)","v":""},{"$f":"IF(ISERROR(G171), \"\", G171)","v":""},null,{"$f":"IF(ISERROR(I171), \"\", I171)","v":20}]
[null,null,"Total Safety Score",{"$f":"IF(OR(D$249>0, $I$315>0,ISERROR(D$201+D$171+D$125)),\"\",D$201+D$171+D$125)","v":""},{"$f":"IF(OR(E$249>0, $I$315>0,ISERROR(E$201+E$171+E$125)),\"\",E$201+E$171+E$125)","v":""},"","",null,""]
[]
[null,null,"*** Pavement friction/skid numbers will not be subject to open records requests ***",null,null,null,null,null,null,null," "]
[]
[]
[]
[null,null,null,null,null,null,null,null,null,null,null,null,null,null,null,null,null,null,"Curved X-Section"]
[null,{"$f":"+Construction!$I$10&\"  Total Available Points\"","v":"40  Total Available Points"}]
[null,"Roadside  Elements",null,"Existing","Standard","Design 1","Design 2",{"$f":"$H$23","v":"Marginal Safety for Standard (compared to Existing)"},"Optimal"]
[null,null,"Sideslope (Foreslope)",null,"1V:4H",null,null,{"$f":"M180","v":0},"1V:6H"]
[null,null,"Backslope",null,{"$f":"E72","v":"1V:4H"},null,null,{"$f":"M181","v":0},"1V:4H"]
[null,null,"SafetyEdge",null,"No",null,null,{"$f":"M182","v":-2.8188991921691331E-2},"Yes"]
[null,null,"Lateral Clearance to obstruction (ft)",null,30,null,null,{"$f":"M183","v":9.0307162971216326E-2},40,null,null,null,null,null,null,null,{"$f":"IF($I$2=\"Existing\",\"SCORE SUMMARY FOR EXISTING CONFIGURATION\", IF($I$2=\"Standard\",\"SCORE SUMMARY FOR STANDARD OPTION\",IF($I$2=\"Design 1\",\"SCORE SUMMARY FOR DESIGN 1 OPTION\",IF($I$2=\"Design 2\",\"SCORE SUMMARY FOR DESIGN 2 OPTION\", \"SCORE SUMMARY FOR OPTIMAL OPTION\"))))","v":"SCORE SUMMARY FOR STANDARD OPTION"}]
[null,null,"Obstruction Type",null,"Other Fixed Object",null,null,{"$f":"M184","v":0},"None",null,null,null,null,null,null,null,"GEOMETRIC DESIGN:",null,null,null,null,null,{"$f":"IF($I$2=\"Existing\",D45,IF($I$2=\"Standard\",E45,IF($I$2=\"Design 1\",F45,IF($I$2=\"Design 2\",G45,I45))))","v":""}]
[null,null,"Roadside Element (Partial Score):",{"$f":"IF(ISERR(D201),\"\",D201)","v":""},{"$f":"IF(ISERR(E201),\"\",E201)","v":27},{"$f":"IF(ISERR(F201),\"\",F201)","v":""},{"$f":"IF(ISERR(G201),\"\",G201)","v":""},null,{"$f":"IF(ISERR(I201),\"\",I201)","v":40},null,null,null,null,null,null,null,"TRAFFIC CONTROL:",null,null,null,null,null,{"$f":"IF($I$2=\"Existing\",D62,IF($I$2=\"Standard\",E62,IF($I$2=\"Design 1\",F62,IF($I$2=\"Design 2\",G62,I62))))","v":14}]
[null,null,"Total Safety Score",{"$f":"IF(OR(D$249>0, $I$315>0,ISERROR(D$201+D$171+D$125)),\"\",D$201+D$171+D$125)","v":""},{"$f":"IF(OR(E$249>0, $I$315>0,ISERROR(E$201+E$171+E$125)),\"\",E$201+E$171+E$125)","v":""},"","",null,"",null,null,null,null,null,null,null,"ROADSIDE:",null,null,null,null,null,{"$f":"IF($I$2=\"Existing\",D77,IF($I$2=\"Standard\",E77,IF($I$2=\"Design 1\",F77,IF($I$2=\"Design 2\",G77,I77))))","v":27}]
[null,null,null,null,null,null,null,null,null,null,null,null,null,null,null,null,"OVERALL SAFETY SCORE:",null,null,null,null,null,{"$f":"SUM(W76:X78)","v":41}]
[]
[]
[]
[null,"ADDITIONAL SIDESLOPE INFORMATION"]
[null,null,"Distance to Slope Toe from Shoulder (ft)",null,{"$f":"D84","v":0},{"$f":"E84","v":0},{"$f":"F84","v":0},null,{"$f":"G84","v":0}]
[null,"Minimum foreslope feasible within current ROW",null,null,{"$f":"IF(OR(ISBLANK($D$84), ISERROR(E206)), \"\", \"1V:\"&E206&\"H\")","v":""},{"$f":"IF(OR(ISBLANK($D$84), ISERROR(F206)), \"\", \"1V:\"&F206&\"H\")","v":""},{"$f":"IF(OR(ISBLANK($D$84), ISERROR(G206)), \"\", \"1V:\"&G206&\"H\")","v":""},null,{"$f":"IF(OR(ISBLANK($D$84), ISERROR(I206)), \"\", \"1V:\"&I206&\"H\")","v":""}]
[null,"Additional R/W needed on left side",null,null,{"$f":"IF(OR(ISBLANK($D$84), ISERROR(E210)),\"\", MAX(E210,E213))","v":""},{"$f":"IF(OR(ISBLANK($D$84), ISERROR(F210)), \"\", MAX(F210,F213))","v":""},{"$f":"IF(OR(ISBLANK($D$84), ISERROR(G210)),\"\", MAX(G210,G213))","v":""},null,{"$f":"IF(OR(ISBLANK($D$84), ISERROR(I210)),\"\", MAX(I210,I213))","v":""}]
[null,"Additional R/W needed on right side",null,null,{"$f":"IF(OR(ISBLANK($D$84), ISERROR(E211)), \"\", MAX(E211,E214))","v":""},{"$f":"IF(OR(ISBLANK($D$84), ISERROR(F211)), \"\", MAX(F211,F214))","v":""},{"$f":"IF(OR(ISBLANK($D$84), ISERROR(G211)),\"\", MAX(G211,G214))","v":""},null,{"$f":"IF(OR(ISBLANK($D$84), ISERROR(I211)),\"\", MAX(I211,I214))","v":""}]
[]
[]
[]
[]
[]
[]
[]
[null,null,null,null,null,null,null,null,null,{"$f":"1-I100/E100","v":0}]
[null,null,null,null,null,null,null,null,null,{"$f":"1-I101/E101","v":0.17431192660550465},"For Plot"]
[null,null,null,{"$f":"MAX(SUM(D103:D107)-5,$I$97)","v":{"$error":"#VALUE!"}},{"$f":"MAX(SUM(E103:E107)-5,$I$97)","v":{"$error":"#VALUE!"}},{"$f":"MAX(SUM(F103:F107)-5,$I$97)","v":{"$error":"#VALUE!"}},{"$f":"MAX(SUM(G103:G107)-5,$I$97)","v":{"$error":"#VALUE!"}},null,{"$f":"SUM(I103:I107)-5","v":{"$error":"#VALUE!"}},{"$f":"1-I102/E102","v":0},"relative to","Prefer"]
[null,null,null,null,null,null,null,null,null,{"$f":"1-I103/E103","v":{"$error":"#VALUE!"}},{"$f":"MATCH(K99,ModView,0)","v":1},{"$f":"MATCH(L99,ModView,0)","v":2}]
[null,"Geometric",null,null,null,null,null,null,null,null,{"$f":"I4","v":"Existing"},{"$f":"I2","v":"Standard"},"%"]
[null,null,"LW CMF",{"$f":"VLOOKUP(+D24,Construction!$C$3:$D$9,2)","v":{"$error":"#N/A"}},{"$f":"VLOOKUP(+E24,Construction!$C$3:$D$9,2)","v":1},{"$f":"VLOOKUP(+F24,Construction!$C$3:$D$9,2)","v":{"$error":"#N/A"}},{"$f":"VLOOKUP(+G24,Construction!$C$3:$D$9,2)","v":{"$error":"#N/A"}},{"$f":"H24","v":0},{"$f":"VLOOKUP(+I24,Construction!$C$3:$D$9,2)","v":1},null,{"$f":"INDEX($D100:$I100,K$98)","v":{"$error":"#N/A"}},{"$f":"INDEX($D100:$I100,L$98)","v":1},{"$f":"IF(ISERROR(1-L100/K100), 0, 1-L100/K100)","v":0}]
[null,null,"SW CMF",{"$f":"VLOOKUP(D25,Construction!$C$13:D23,2)","v":1.29},{"$f":"VLOOKUP(E25,Construction!$C$13:E23,2)","v":1.0900000000000001},{"$f":"VLOOKUP(F25,Construction!$C$13:F23,2)","v":1.29},{"$f":"VLOOKUP(G25,Construction!$C$13:G23,2)","v":1.29},{"$f":"IF($I$2=\"Existing\",(1-D101/E101),(IF($I$2=\"Design 1\",(1-F101/E101),(IF($I$2=\"Design 2\",(1-G101/E101),(IF($I$2=\"Optimal\",(1-I101/E101),0)))))))","v":0},{"$f":"VLOOKUP(I25,Construction!$C$13:I23,2)","v":0.9},null,{"$f":"INDEX($D101:$I101,K$98)","v":1.29},{"$f":"INDEX($D101:$I101,L$98)","v":1.0900000000000001},{"$f":"IF(ISERROR(1-L101/K101), 0, 1-L101/K101)","v":0.15503875968992242}]
[null,null,"Placeholder for super deficincy",1,1,1,1,0,1,null,{"$f":"INDEX($D102:$I102,K$98)","v":1},{"$f":"INDEX($D102:$I102,L$98)","v":1},0]
[null,null,"HC and Grade",{"$f":"D$134^D$127","v":1},{"$f":"E$134^E$127","v":{"$error":"#VALUE!"}},{"$f":"F$134^F$127","v":1},{"$f":"G$134^G$127","v":1},0,{"$f":"I$134^I$127","v":{"$error":"#VALUE!"}},null,{"$f":"INDEX($D103:$I103,K$98)","v":1},{"$f":"INDEX($D103:$I103,L$98)","v":{"$error":"#VALUE!"}},0]
[null,null,"HC and VC Crest type I",{"$f":"D$135^D$128","v":1},{"$f":"E$135^E$128","v":1},{"$f":"F$135^F$128","v":1},{"$f":"G$135^G$128","v":1},0,{"$f":"I$135^I$128","v":{"$error":"#VALUE!"}},null,{"$f":"INDEX($D104:$I104,K$98)","v":1},{"$f":"INDEX($D104:$I104,L$98)","v":1},0]
[null,null,"HC and VC Sag type I",{"$f":"D$136^D$129","v":1},{"$f":"E$136^E$129","v":1},{"$f":"F$136^F$129","v":1},{"$f":"G$136^G$129","v":1},0,{"$f":"I$136^I$129","v":{"$error":"#VALUE!"}},null,{"$f":"INDEX($D105:$I105,K$98)","v":1},{"$f":"INDEX($D105:$I105,L$98)","v":1},0]
[null,null,"HC and VC Crest type II",{"$f":"D$137^D$130","v":1},{"$f":"E$137^E$130","v":1},{"$f":"F$137^F$130","v":1},{"$f":"G$137^G$130","v":1},0,{"$f":"I$137^I$130","v":{"$error":"#VALUE!"}},{"$f":"1-I111/E111","v":{"$error":"#VALUE!"}},{"$f":"INDEX($D106:$I106,K$98)","v":1},{"$f":"INDEX($D106:$I106,L$98)","v":1},0]
[null,null,"HC and VC Sag type II",{"$f":"D$138^D$131","v":1},{"$f":"E$138^E$131","v":1},{"$f":"F$138^F$131","v":1},{"$f":"G$138^G$131","v":1},0,{"$f":"I$138^I$131","v":{"$error":"#VALUE!"}},{"$f":"1-I112/E112","v":{"$error":"#VALUE!"}},{"$f":"INDEX($D107:$I107,K$98)","v":1},{"$f":"INDEX($D107:$I107,L$98)","v":1},0]
[null,null,"Add TWLTL",{"$f":"IF(D$43=\"No\",1,CMFs!$F$17)","v":0.71},{"$f":"IF(E$43=\"No\",1,CMFs!$F$17)","v":1},{"$f":"IF(F$43=\"No\",1,CMFs!$F$17)","v":0.71},{"$f":"IF(G$43=\"No\",1,CMFs!$F$17)","v":0.71},0,{"$f":"IF(I$43=\"No\",1,CMFs!$F$17)","v":1},{"$f":"1-I113/E113","v":{"$error":"#VALUE!"}},{"$f":"INDEX($D108:$I108,K$98)","v":0.71},{"$f":"INDEX($D108:$I108,L$98)","v":1},-0.40845070422535223]
[null,null,"Passing Lane Type",{"$f":"IF(ISNUMBER(INDEX(PassLNCMF, MATCH(D44,Passing_Lane_Type,0))),INDEX(PassLNCMF, MATCH(D44,Passing_Lane_Type,0)),1)","v":1},{"$f":"IF(ISNUMBER(INDEX(PassLNCMF, MATCH(E44,Passing_Lane_Type,0))),INDEX(PassLNCMF, MATCH(E44,Passing_Lane_Type,0)),1)","v":1},{"$f":"IF(ISNUMBER(INDEX(PassLNCMF, MATCH(F44,Passing_Lane_Type,0))),INDEX(PassLNCMF, MATCH(F44,Passing_Lane_Type,0)),1)","v":1},{"$f":"IF(ISNUMBER(INDEX(PassLNCMF, MATCH(G44,Passing_Lane_Type,0))),INDEX(PassLNCMF, MATCH(G44,Passing_Lane_Type,0)),1)","v":1},0,{"$f":"IF(ISNUMBER(INDEX(PassLNCMF, MATCH(I44,Passing_Lane_Type,0))),INDEX(PassLNCMF, MATCH(I44,Passing_Lane_Type,0)),1)","v":0.65},{"$f":"1-I114/E114","v":{"$error":"#VALUE!"}},{"$f":"INDEX($D109:$I109,K$98)","v":1},{"$f":"INDEX($D109:$I109,L$98)","v":1},0]
[null,null,null,null,null,null,null,null,null,{"$f":"I115/E115","v":{"$error":"#VALUE!"}}]
[null,null,"COMBINED Calculated CMF",{"$f":"+D100*D101*D102*D103*D104*D105*D106*D107*D108*D109","v":{"$error":"#N/A"}},{"$f":"+E100*E101*E102*E103*E104*E105*E106*E107*E108*E109","v":{"$error":"#VALUE!"}},{"$f":"+F100*F101*F102*F103*F104*F105*F106*F107*F108*F109","v":{"$error":"#N/A"}},{"$f":"+G100*G101*G102*G103*G104*G105*G106*G107*G108*G109","v":{"$error":"#N/A"}},{"$f":"IF($I$2=\"Existing\",(D111),(IF($I$2=\"Design 1\",(F111),(IF($I$2=\"Design 2\",(G111),(IF($I$2=\"Optimal\",(I111),E111)))))))","v":{"$error":"#VALUE!"}},{"$f":"+I100*I101*I102*I103*I104*I105*I106*I107*I108*I109","v":{"$error":"#VALUE!"}},null,{"$f":"INDEX($D111:$I111,K$98)","v":{"$error":"#N/A"}},{"$f":"INDEX($D111:$I111,L$98)","v":{"$error":"#VALUE!"}},{"$f":"IF(ISERROR(1-L111/K111), 0, 1-L111/K111)","v":0}]
[null,null,"Calculated Relative to Design Standards (Column E)",{"$f":"+D111/$E$111","v":{"$error":"#N/A"}},{"$error":"#VALUE!"},{"$error":"#N/A"},{"$error":"#N/A"},{"$error":"#VALUE!"},{"$error":"#VALUE!"},null,{"$f":"INDEX($D112:$I112,K$98)","v":{"$error":"#N/A"}},{"$f":"INDEX($D112:$I112,L$98)","v":{"$error":"#VALUE!"}},0]
[null,null,"P(Crash)",{"$f":"+D112/(D112+1)","v":{"$error":"#N/A"}},{"$error":"#VALUE!"},{"$error":"#N/A"},{"$error":"#N/A"},{"$error":"#VALUE!"},{"$error":"#VALUE!"},null,{"$f":"INDEX($D113:$I113,K$98)","v":{"$error":"#N/A"}},{"$f":"INDEX($D113:$I113,L$98)","v":{"$error":"#VALUE!"}},0]
[null,null,"Factor Change on S curve",{"$f":"+D113/$E$113","v":{"$error":"#N/A"}},{"$error":"#VALUE!"},{"$error":"#N/A"},{"$error":"#N/A"},{"$error":"#VALUE!"},{"$error":"#VALUE!"},null,{"$f":"INDEX($D114:$I114,K$98)","v":{"$error":"#N/A"}},{"$f":"INDEX($D114:$I114,L$98)","v":{"$error":"#VALUE!"}},0]
[null,null,"Adjust to Scale of 100",{"$f":"+$I$114/D114*100","v":{"$error":"#VALUE!"}},{"$error":"#VALUE!"},{"$error":"#VALUE!"},{"$error":"#VALUE!"},{"$error":"#VALUE!"},{"$error":"#VALUE!"}]
[null,null,"Unadjusted Combined Relative to Standard",{"$f":"+D111/$E$111","v":{"$error":"#N/A"}},{"$error":"#VALUE!"},{"$error":"#N/A"},{"$error":"#N/A"},{"$error":"#VALUE!"},{"$error":"#VALUE!"},null,{"$f":"INDEX($D116:$I116,K$98)","v":{"$error":"#N/A"}},{"$f":"INDEX($D116:$I116,L$98)","v":{"$error":"#VALUE!"}},{"$f":"IF(ISERROR(1-L116/K116), 0, 1-L116/K116)","v":0}]
[null,null,null,null,null,null,null,null,null,{"$f":"I122/E122","v":{"$error":"#VALUE!"}}]
[null,null,"Adjusted for PA Basis",{"$f":"+D111*(1+1)/(1+D111*1)","v":{"$error":"#N/A"}},{"$error":"#VALUE!"},{"$error":"#N/A"},{"$error":"#N/A"},{"$f":"IF($I$2=\"Existing\",(D118),(IF($I$2=\"Design 1\",(F118),(IF($I$2=\"Design 2\",(G118),(IF($I$2=\"Optimal\",(I118),E118)))))))","v":{"$error":"#VALUE!"}},{"$error":"#VALUE!"},null,{"$f":"INDEX($D118:$I118,K$98)","v":{"$error":"#N/A"}},{"$f":"INDEX($D118:$I118,L$98)","v":{"$error":"#VALUE!"}},{"$f":"IF(ISERROR(1-L118/K118), 0, 1-L118/K118)","v":0}]
[null,null,"Corrected by Odds Ratio",{"$f":"+D118/$E$118","v":{"$error":"#N/A"}},{"$error":"#VALUE!"},{"$error":"#N/A"},{"$error":"#N/A"},{"$f":"IF($I$2=\"Existing\",(D119),(IF($I$2=\"Design 1\",(F119),(IF($I$2=\"Design 2\",(G119),(IF($I$2=\"Optimal\",(I119),E119)))))))","v":{"$error":"#VALUE!"}},{"$error":"#VALUE!"},null,{"$f":"INDEX($D119:$I119,K$98)","v":{"$error":"#N/A"}},{"$f":"INDEX($D119:$I119,L$98)","v":{"$error":"#VALUE!"}},0]
[null,null,"Pinned s",{"$f":"(1/D119)^$D123","v":{"$error":"#N/A"}},{"$error":"#VALUE!"},{"$error":"#N/A"},{"$error":"#N/A"},{"$error":"#VALUE!"},{"$error":"#VALUE!"},{"$f":"I125/E125","v":{"$error":"#VALUE!"}},{"$f":"INDEX($D120:$I120,K$98)","v":{"$error":"#N/A"}},{"$f":"INDEX($D120:$I120,L$98)","v":{"$error":"#VALUE!"}},0]
[null,null,null,{"$f":"(D120+$F124-1)/(1+(D120+$F124-1))","v":{"$error":"#N/A"}},{"$error":"#VALUE!"},{"$error":"#N/A"},{"$error":"#N/A"},{"$error":"#VALUE!"},{"$error":"#VALUE!"},null,{"$f":"INDEX($D121:$I121,K$98)","v":{"$error":"#N/A"}},{"$f":"INDEX($D121:$I121,L$98)","v":{"$error":"#VALUE!"}},0]
[null,null,"Score Odds Ratio with Optimal (old)",{"$f":"MIN(ROUND($I$119/D119*Construction!$I$8,0),$I122)","v":{"$error":"#VALUE!"}},{"$f":"MIN(ROUND($I$119/E119*Construction!$I$8,0),$I122)","v":{"$error":"#VALUE!"}},{"$f":"MIN(ROUND($I$119/F119*Construction!$I$8,0),$I122)","v":{"$error":"#VALUE!"}},{"$f":"MIN(ROUND($I$119/G119*Construction!$I$8,0),$I122)","v":{"$error":"#VALUE!"}},{"$f":"IF($I$2=\"Existing\",(D122),(IF($I$2=\"Design 1\",(F122),(IF($I$2=\"Design 2\",(G122),(IF($I$2=\"Optimal\",(I122),E122)))))))","v":{"$error":"#VALUE!"}},{"$f":"ROUND($I$119/I119*Construction!$I$8,0)","v":{"$error":"#VALUE!"}}]
[null,null,"Logistic1",{"$f":"LN((D124/(1-D124))/(0.5/0.5))/LN($E119/I119)","v":{"$error":"#VALUE!"}}]
[null,null,"Logistic Param",0.999,null,{"$f":"0.7/0.3","v":2.3333333333333335}]
[null,null,"Score ",{"$f":"MIN(ROUND(D121*Construction!$I$8,0),$I122)","v":{"$error":"#N/A"}},{"$f":"MIN(ROUND(E121*Construction!$I$8,0),$I122)","v":{"$error":"#VALUE!"}},{"$f":"MIN(ROUND(F121*Construction!$I$8,0),$I122)","v":{"$error":"#N/A"}},{"$f":"MIN(ROUND(G121*Construction!$I$8,0),$I122)","v":{"$error":"#N/A"}},{"$f":"MIN(ROUND(H121*Construction!$I$8,0),$I122)","v":{"$error":"#VALUE!"}},{"$f":"MIN(ROUND(I121*Construction!$I$8,0),$I122)","v":{"$error":"#VALUE!"}}]
[]
[null,null,"HC and Grade",{"$f":"IF($B$135,0,1)","v":1},{"$f":"IF($B$135,0,1)","v":1},{"$f":"IF($B$135,0,1)","v":1},{"$f":"IF($B$135,0,1)","v":1},{"$f":"IF($I$2=\"Existing\",(D127),(IF($I$2=\"Design 1\",(F127),(IF($I$2=\"Design 2\",(G127),(IF($I$2=\"Optimal\",(I127),E127)))))))","v":1},{"$f":"IF($B$135,0,1)","v":1}]
[null,null,"HC and VC Crest type I",{"$f":"IF(AND($B$135=1,SIGN(D$36)=1,ABS(D$36)<=ABS(D$36-D$37),D$42=\"Crest\"),1,0)","v":0},{"$f":"IF(AND($B$135=1, SIGN(IF(ISNUMBER(E$36),E$36,0))=1,ABS(IF(ISNUMBER(E$36),E$36,0)) <= ABS(IF(ISNUMBER(E$36),E$36,0)-IF(ISNUMBER(E$37),E$37,0)),E$42=\"Crest\"),1,0)","v":0},{"$f":"IF(AND($B$135=1,SIGN(F$36)=1,ABS(F$36)<=ABS(F$36-F$37),F$42=\"Crest\"),1,0)","v":0},{"$f":"IF(AND($B$135=1,SIGN(G$36)=1,ABS(G$36)<=ABS(G$36-G$37),G$42=\"Crest\"),1,0)","v":0},{"$f":"IF($I$2=\"Existing\",(D128),(IF($I$2=\"Design 1\",(F128),(IF($I$2=\"Design 2\",(G128),(IF($I$2=\"Optimal\",(I128),E128)))))))","v":0},{"$f":"IF(AND($B$135=1,SIGN(I$36)=1,ABS(I$36)<=ABS(I$36-IF(ISNUMBER(I$37), I$37,0)),I$42=\"Crest\"),1,0)","v":{"$error":"#VALUE!"}}]
["HC?",null,"HC and VC Sag type I",{"$f":"IF(AND($B$135=1,SIGN(D$36)=1,ABS(D$36)<=ABS(D$36-D$37),D$42=\"Sag\"),1,0)","v":0},{"$f":"IF(AND($B$135=1, SIGN(IF(ISNUMBER(E$36),E$36,0))=1,ABS(IF(ISNUMBER(E$36),E$36,0)) <= ABS(IF(ISNUMBER(E$36),E$36,0)-IF(ISNUMBER(E$37),E$37,0)),E$42=\"Sag\"),1,0)","v":0},{"$f":"IF(AND($B$135=1,SIGN(F$36)=1,ABS(F$36)<=ABS(F$36-F$37),F$42=\"Sag\"),1,0)","v":0},{"$f":"IF(AND($B$135=1,SIGN(G$36)=1,ABS(G$36)<=ABS(G$36-G$37),G$42=\"Sag\"),1,0)","v":0},{"$f":"IF($I$2=\"Existing\",(D129),(IF($I$2=\"Design 1\",(F129),(IF($I$2=\"Design 2\",(G129),(IF($I$2=\"Optimal\",(I129),E129)))))))","v":0},{"$f":"IF(AND($B$135=1,SIGN(I$36)=1,ABS(I$36)<=ABS(I$36-IF(ISNUMBER(I$37), I$37,0)),I$42=\"Sag\"),1,0)","v":{"$error":"#VALUE!"}}]
["VC?",null,"HC and VC Crest type II",{"$f":"IF(AND($B$135=1,D$42=\"Crest\",D$128=0),1,0)","v":0},{"$f":"IF(AND($B$135=1,E$42=\"Crest\",E$128=0),1,0)","v":0},{"$f":"IF(AND($B$135=1,F$42=\"Crest\",F$128=0),1,0)","v":0},{"$f":"IF(AND($B$135=1,G$42=\"Crest\",G$128=0),1,0)","v":0},{"$f":"IF($I$2=\"Existing\",(D130),(IF($I$2=\"Design 1\",(F130),(IF($I$2=\"Design 2\",(G130),(IF($I$2=\"Optimal\",(I130),E130)))))))","v":0},{"$f":"IF(AND($B$135=1,I$42=\"Crest\",I$128=0),1,0)","v":{"$error":"#VALUE!"}}]
[null,null,"HC and VC Sag type II",{"$f":"IF(AND($B$135=1,D$42=\"Sag\",D$129=0),1,0)","v":0},{"$f":"IF(AND($B$135=1,E$42=\"Sag\",E$129=0),1,0)","v":0},{"$f":"IF(AND($B$135=1,F$42=\"Sag\",F$129=0),1,0)","v":0},{"$f":"IF(AND($B$135=1,G$42=\"Sag\",G$129=0),1,0)","v":0},{"$f":"IF($I$2=\"Existing\",(D131),(IF($I$2=\"Design 1\",(F131),(IF($I$2=\"Design 2\",(G131),(IF($I$2=\"Optimal\",(I131),E131)))))))","v":0},{"$f":"IF(AND($B$135=1,I$42=\"Sag\",I$129=0),1,0)","v":{"$error":"#VALUE!"}}]
[null,"Yes/No"]
[null,null,"HC and VC:",null,{"$f":"EXP(0.042*ABS(D$36)+$B$134*0.16*LN(2*5730/IF(ISNUMBER(E$29),E$29,1)))","v":1}]
[null,{"$f":"IF(B27=\"Yes\",1,0)","v":0},"HC and Grade",{"$f":"IF($B$135=0,EXP(0.042*ABS(D$36)+$B$134*0.16*LN(2*5730/D$141)+4.16*$B$134/D$141/IF(ISNUMBER(D$30),D$30,999999)),1)","v":1},{"$f":"IF($B$135=0,EXP(0.042*ABS(E$36)+$B$134*0.16*LN(2*5730/E$141)+4.16*$B$134/E$141/IF(ISNUMBER(E$30),E$30,999999)),1)","v":{"$error":"#VALUE!"}},1,1,{"$f":"IF($B$135=0,EXP(0.042*ABS(H$36)+$B$134*0.16*LN(2*5730/IF(ISNUMBER(H$29),H$29,1))+4.16*$B$134/IF(ISNUMBER(H$29),H$29,1)/IF(ISNUMBER(H$30),H$30,1)),1)","v":{"$error":"#DIV/0!"}},{"$error":"#VALUE!"},null,{"$f":"INDEX($D134:$I134,K$98)","v":1},{"$f":"INDEX($D134:$I134,L$98)","v":{"$error":"#VALUE!"}},{"$f":"IF(ISERROR(1-L134/K134), 0, 1-L134/K134)","v":0}]
[null,{"$f":"IF(B34=\"Yes\",1,0)","v":0},"HC and VC Crest type I",{"$f":"IF($B$135=0,1,EXP(0.005648908*5730*ABS(+D$36-D$37)*$B$135/D$141*$B$134))","v":1},{"$f":"IF($B$135=0,1,EXP(0.005648908*5730*ABS(+E$36-E$37)*$B$135/E$141*$B$134))","v":1},1,1,{"$f":"IF($I$2=\"Existing\",(D135),(IF($I$2=\"Design 1\",(F135),(IF($I$2=\"Design 2\",(G135),(IF($I$2=\"Optimal\",(I135),E135)))))))","v":1},1,null,{"$f":"INDEX($D135:$I135,K$98)","v":1},{"$f":"INDEX($D135:$I135,L$98)","v":1},0]
[null,null,"HC and VC Sag type I",{"$f":"IF($B$135=0,1,EXP(9.15857042*$B$135/D$142+0.010284958*5730*$B$135*$B$134*ABS(+D$36-D$37)/D$141))","v":1},{"$f":"IF($B$135=0,1,EXP(9.15857042*$B$135/E$142+0.010284958*5730*$B$135*$B$134*ABS(+E$36-E$37)/E$141))","v":1},1,1,{"$f":"IF($I$2=\"Existing\",(D136),(IF($I$2=\"Design 1\",(F136),(IF($I$2=\"Design 2\",(G136),(IF($I$2=\"Optimal\",(I136),E136)))))))","v":1},1,null,{"$f":"INDEX($D136:$I136,K$98)","v":1},{"$f":"INDEX($D136:$I136,L$98)","v":1},0]
[null,null,"HC and VC Crest type II",{"$f":"IF($B$135=0,1,EXP(0.005648908*5730*ABS(+D$36-D$37)*$B$135/D$141*$B$134))","v":1},{"$f":"IF($B$135=0,1,EXP(0.005648908*5730*ABS(+E$36-E$37)*$B$135/E$141*$B$134))","v":1},1,1,{"$f":"IF($I$2=\"Existing\",(D137),(IF($I$2=\"Design 1\",(F137),(IF($I$2=\"Design 2\",(G137),(IF($I$2=\"Optimal\",(I137),E137)))))))","v":1},1,null,{"$f":"INDEX($D137:$I137,K$98)","v":1},{"$f":"INDEX($D137:$I137,L$98)","v":1},0]
[null,null,"HC and VC Sag type II",{"$f":"IF($B$135=0,1,(0.246011284*EXP(LN(0.188*2*5730/D$141)*$B$134)+0.7514288716*EXP(0.022*5730/D$141*ABS(D$36-D$37)*$B$135*$B$134)))","v":1},{"$f":"IF($B$135=0,1,(0.246011284*EXP(LN(0.188*2*5730/E$141)*$B$134)+0.7514288716*EXP(0.022*5730/E$141*ABS(E$36-E$37)*$B$135*$B$134)))","v":1},1,1,{"$f":"IF($I$2=\"Existing\",(D138),(IF($I$2=\"Design 1\",(F138),(IF($I$2=\"Design 2\",(G138),(IF($I$2=\"Optimal\",(I138),E138)))))))","v":1},1,null,{"$f":"INDEX($D138:$I138,K$98)","v":1},{"$f":"INDEX($D138:$I138,L$98)","v":1},0]
[]
[null,null,"Combined HZ and VT",{"$f":"MMULT(TRANSPOSE(D127:D131),D134:D138)","v":1},{"$f":"MMULT(TRANSPOSE(E127:E131),E134:E138)","v":{"$error":"#VALUE!"}},{"$f":"MMULT(TRANSPOSE(F127:F131),F134:F138)","v":1},{"$f":"MMULT(TRANSPOSE(G127:G131),G134:G138)","v":1},{"$f":"IF($I$2=\"Existing\",(D140),(IF($I$2=\"Design 1\",(F140),(IF($I$2=\"Design 2\",(G140),(IF($I$2=\"Optimal\",(I140),E140)))))))","v":{"$error":"#VALUE!"}},{"$f":"MMULT(TRANSPOSE(I127:I131),I134:I138)","v":{"$error":"#VALUE!"}},null,{"$f":"INDEX($D140:$I140,K$98)","v":1},{"$f":"INDEX($D140:$I140,L$98)","v":{"$error":"#VALUE!"}},{"$f":"IF(ISERROR(1-L140/K140), 0, 1-L140/K140)","v":0}]
[null,null,"effective R for calculation",{"$f":"IF(ISNUMBER(D29), D29, 99999999)","v":99999999},{"$f":"IF(ISNUMBER(E29), E29, 99999999)","v":590},99999999,99999999,null,590]
[null,null,"effective K for calculation",{"$f":"IF(ISNUMBER(D39), D39, 9999999)","v":9999999},{"$f":"IF(ISNUMBER(E39), E39, 9999999)","v":9999999},9999999,9999999,null,9999999]
[null,"Traffic"]
[null,null,null,"Existing","Standard","Design 1","Design 2"]
[null,null,"Advance static curve warning signs",{"$f":"IF(AND($B$27=\"Yes\",D$52=\"Yes\"),(Traffic!$F$4-1)*AVERAGE(Constraints!$F$37,Constraints!$H$37)/Constraints!$D$37+1,1)","v":1},{"$f":"IF(AND($B$27=\"Yes\",E$52=\"Yes\"),(Traffic!$F$4-1)*AVERAGE(Constraints!$F$37,Constraints!$H$37)/Constraints!$D$37+1,1)","v":1},{"$f":"IF(AND($B$27=\"Yes\",F$52=\"Yes\"),(Traffic!$F$4-1)*AVERAGE(Constraints!$F$37,Constraints!$H$37)/Constraints!$D$37+1,1)","v":1},{"$f":"IF(AND($B$27=\"Yes\",G$52=\"Yes\"),(Traffic!$F$4-1)*AVERAGE(Constraints!$F$37,Constraints!$H$37)/Constraints!$D$37+1,1)","v":1},{"$f":"IF($I$2=\"Existing\",(D145),(IF($I$2=\"Design 1\",(F145),(IF($I$2=\"Design 2\",(G145),(IF($I$2=\"Optimal\",(I145),E145)))))))","v":1},{"$f":"IF(AND($B$27=\"Yes\",I$52=\"Yes\"),(Traffic!$F$4-1)*AVERAGE(Constraints!$F$37,Constraints!$H$37)/Constraints!$D$37+1,1)","v":1},null,{"$f":"INDEX($D145:$I145,K$98)","v":1},{"$f":"INDEX($D145:$I145,L$98)","v":1},{"$f":"IF(ISERROR(1-L145/K145), 0, 1-L145/K145)","v":0}]
[null,null,"Install chevron signs on horizontal curves",{"$f":"IF(D$53=\"No\",1,(IF(AND($B$27=\"Yes\",D$24<11.5),((Traffic!$F$6-1)*(Constraints!$E$35+Constraints!$E$31))+1,1)))","v":1},{"$f":"IF(E$53=\"No\",1,(IF(AND($B$27=\"Yes\",E$24<11.5),((Traffic!$F$6-1)*(Constraints!$E$35+Constraints!$E$31))+1,1)))","v":1},{"$f":"IF(F$53=\"No\",1,(IF(AND($B$27=\"Yes\",F$24<11.5),((Traffic!$F$6-1)*(Constraints!$E$35+Constraints!$E$31))+1,1)))","v":1},{"$f":"IF(G$53=\"No\",1,(IF(AND($B$27=\"Yes\",G$24<11.5),((Traffic!$F$6-1)*(Constraints!$E$35+Constraints!$E$31))+1,1)))","v":1},{"$f":"IF($I$2=\"Existing\",(D146),(IF($I$2=\"Design 1\",(F146),(IF($I$2=\"Design 2\",(G146),(IF($I$2=\"Optimal\",(I146),E146)))))))","v":1},{"$f":"IF(I$53=\"No\",1,(IF(AND($B$27=\"Yes\",I$24<11.5),((Traffic!$F$6-1)*(Constraints!$E$35+Constraints!$E$31))+1,1)))","v":1},null,{"$f":"INDEX($D146:$I146,K$98)","v":1},{"$f":"INDEX($D146:$I146,L$98)","v":1},0]
[null,null,"Install post-mounted delineators",{"$f":"IF(AND($B$27=\"Yes\",D$54=\"Yes\"),(Traffic!$F$12-1)*Constraints!$E$36+1,1)","v":1},{"$f":"IF(AND($B$27=\"Yes\",E$54=\"Yes\"),(Traffic!$F$12-1)*Constraints!$E$36+1,1)","v":1},{"$f":"IF(AND($B$27=\"Yes\",F$54=\"Yes\"),(Traffic!$F$12-1)*Constraints!$E$36+1,1)","v":1},{"$f":"IF(AND($B$27=\"Yes\",G$54=\"Yes\"),(Traffic!$F$12-1)*Constraints!$E$36+1,1)","v":1},{"$f":"IF($I$2=\"Existing\",(D147),(IF($I$2=\"Design 1\",(F147),(IF($I$2=\"Design 2\",(G147),(IF($I$2=\"Optimal\",(I147),E147)))))))","v":1},{"$f":"IF(AND($B$27=\"Yes\",I$54=\"Yes\"),(Traffic!$F$12-1)*Constraints!$E$36+1,1)","v":1},null,{"$f":"INDEX($D147:$I147,K$98)","v":1},{"$f":"INDEX($D147:$I147,L$98)","v":1},0]
[null,null,"Install edgeline  or Profile pavement markings ",{"$f":"IF(D$55=\"Yes\",Traffic!$F$18*0.5+((Traffic!$F$20*(Constraints!$H$36+Constraints!$H$32)+1*(Constraints!$H$37-(Constraints!$H$36+Constraints!$H$32)))/Constraints!$H$37)*0.5,1)","v":1},{"$f":"IF(E$55=\"Yes\",Traffic!$F$18*0.5+((Traffic!$F$20*(Constraints!$H$36+Constraints!$H$32)+1*(Constraints!$H$37-(Constraints!$H$36+Constraints!$H$32)))/Constraints!$H$37)*0.5,1)","v":0.86175881308648239},{"$f":"IF(F$55=\"Yes\",Traffic!$F$18*0.5+((Traffic!$F$20*(Constraints!$H$36+Constraints!$H$32)+1*(Constraints!$H$37-(Constraints!$H$36+Constraints!$H$32)))/Constraints!$H$37)*0.5,1)","v":1},{"$f":"IF(G$55=\"Yes\",Traffic!$F$18*0.5+((Traffic!$F$20*(Constraints!$H$36+Constraints!$H$32)+1*(Constraints!$H$37-(Constraints!$H$36+Constraints!$H$32)))/Constraints!$H$37)*0.5,1)","v":1},{"$f":"IF($I$2=\"Existing\",(D148),(IF($I$2=\"Design 1\",(F148),(IF($I$2=\"Design 2\",(G148),(IF($I$2=\"Optimal\",(I148),E148)))))))","v":0.86175881308648239},{"$f":"IF(I$55=\"Yes\",Traffic!$F$18*0.5+((Traffic!$F$20*(Constraints!$H$36+Constraints!$H$32)+1*(Constraints!$H$37-(Constraints!$H$36+Constraints!$H$32)))/Constraints!$H$37)*0.5,1)","v":0.86175881308648239},null,{"$f":"INDEX($D148:$I148,K$98)","v":1},{"$f":"INDEX($D148:$I148,L$98)","v":0.86175881308648239},0.13824118691351761]
[null,null,"Profiles",1,1,1,1,1,1,null,{"$f":"INDEX($D149:$I149,K$98)","v":1},{"$f":"INDEX($D149:$I149,L$98)","v":1},0]
[null,null,"Shoulder rumble strips",{"$f":"IF(D$56=\"No\",1,(Traffic!$F$27*(Constraints!$H$36+Constraints!$H$32)+1*(Constraints!$H$37-(Constraints!$H$36+Constraints!$H$32)))/Constraints!$H$37)","v":0.89760950690192376},{"$f":"IF(E$56=\"No\",1,(Traffic!$F$27*(Constraints!$H$36+Constraints!$H$32)+1*(Constraints!$H$37-(Constraints!$H$36+Constraints!$H$32)))/Constraints!$H$37)","v":0.89760950690192376},{"$f":"IF(F$56=\"No\",1,(Traffic!$F$27*(Constraints!$H$36+Constraints!$H$32)+1*(Constraints!$H$37-(Constraints!$H$36+Constraints!$H$32)))/Constraints!$H$37)","v":0.89760950690192376},{"$f":"IF(G$56=\"No\",1,(Traffic!$F$27*(Constraints!$H$36+Constraints!$H$32)+1*(Constraints!$H$37-(Constraints!$H$36+Constraints!$H$32)))/Constraints!$H$37)","v":0.89760950690192376},{"$f":"IF($I$2=\"Existing\",(D150),(IF($I$2=\"Design 1\",(F150),(IF($I$2=\"Design 2\",(G150),(IF($I$2=\"Optimal\",(I150),E150)))))))","v":0.89760950690192376},{"$f":"IF(I$56=\"No\",1,(Traffic!$F$27*(Constraints!$H$36+Constraints!$H$32)+1*(Constraints!$H$37-(Constraints!$H$36+Constraints!$H$32)))/Constraints!$H$37)","v":0.89760950690192376},null,{"$f":"INDEX($D150:$I150,K$98)","v":0.89760950690192376},{"$f":"INDEX($D150:$I150,L$98)","v":0.89760950690192376},0]
[null,null,"Install centerline rumble strips",{"$f":"IF(D$57=\"No\",1,Traffic!$F$30)","v":0.86},{"$f":"IF(E$57=\"No\",1,Traffic!$F$30)","v":1},{"$f":"IF(F$57=\"No\",1,Traffic!$F$30)","v":0.86},{"$f":"IF(G$57=\"No\",1,Traffic!$F$30)","v":0.86},{"$f":"IF($I$2=\"Existing\",(D151),(IF($I$2=\"Design 1\",(F151),(IF($I$2=\"Design 2\",(G151),(IF($I$2=\"Optimal\",(I151),E151)))))))","v":1},{"$f":"IF(I$57=\"No\",1,Traffic!$F$30)","v":0.86},null,{"$f":"INDEX($D151:$I151,K$98)","v":0.86},{"$f":"INDEX($D151:$I151,L$98)","v":1},-0.16279069767441867]
[null,null,"Driveway Density (driveways per mile)",{"$f":"EXP(-LN(Traffic!$F$32)*(D$58-$E$58))","v":0.81707280688754669},{"$f":"EXP(-LN(Traffic!$F$32)*(E$58-$E$58))","v":1},{"$f":"EXP(-LN(Traffic!$F$32)*(F$58-$E$58))","v":0.81707280688754669},{"$f":"EXP(-LN(Traffic!$F$32)*(G$58-$E$58))","v":0.81707280688754669},{"$f":"IF($I$2=\"Existing\",(D152),(IF($I$2=\"Design 1\",(F152),(IF($I$2=\"Design 2\",(G152),(IF($I$2=\"Optimal\",(I152),E152)))))))","v":1},{"$f":"EXP(-LN(Traffic!$F$32)*(I$58-$E$58))","v":0.81707280688754669},null,{"$f":"INDEX($D152:$I152,K$98)","v":0.81707280688754669},{"$f":"INDEX($D152:$I152,L$98)","v":1},-0.22388114201141129]
[null,null,"Install lighting",{"$f":"IF(D$59=\"No\",1,1-(((1-Traffic!$F$55*Constraints!$H$37-Constraints!$F$37/3)+((1-Traffic!$F$55*Constraints!$D$37-Constraints!$H$37)))*$S$19+((1-Traffic!$F$57)*Constraints!$F$37/3))/Constraints!$D$37)","v":0.977040446881142},{"$f":"IF(E$59=\"No\",1,1-(((1-Traffic!$F$55*Constraints!$H$37-Constraints!$F$37/3)+((1-Traffic!$F$55*Constraints!$D$37-Constraints!$H$37)))*$S$19+((1-Traffic!$F$57)*Constraints!$F$37/3))/Constraints!$D$37)","v":1},{"$f":"IF(F$59=\"No\",1,1-(((1-Traffic!$F$55*Constraints!$H$37-Constraints!$F$37/3)+((1-Traffic!$F$55*Constraints!$D$37-Constraints!$H$37)))*$S$19+((1-Traffic!$F$57)*Constraints!$F$37/3))/Constraints!$D$37)","v":0.977040446881142},{"$f":"IF(G$59=\"No\",1,1-(((1-Traffic!$F$55*Constraints!$H$37-Constraints!$F$37/3)+((1-Traffic!$F$55*Constraints!$D$37-Constraints!$H$37)))*$S$19+((1-Traffic!$F$57)*Constraints!$F$37/3))/Constraints!$D$37)","v":0.977040446881142},{"$f":"IF($I$2=\"Existing\",(D153),(IF($I$2=\"Design 1\",(F153),(IF($I$2=\"Design 2\",(G153),(IF($I$2=\"Optimal\",(I153),E153)))))))","v":1},{"$f":"IF(I$59=\"No\",1,1-(((1-Traffic!$F$55*Constraints!$H$37-Constraints!$F$37/3)+((1-Traffic!$F$55*Constraints!$D$37-Constraints!$H$37)))*$S$19+((1-Traffic!$F$57)*Constraints!$F$37/3))/Constraints!$D$37)","v":0.977040446881142},null,{"$f":"INDEX($D153:$I153,K$98)","v":0.977040446881142},{"$f":"INDEX($D153:$I153,L$98)","v":1},-2.3499081529478438E-2]
[null,null,"Pavement friction (skid number)",{"$f":"EXP(LN(Traffic!$F$49)*(D$60-$E$60))","v":1.3972521419325798},{"$f":"EXP(LN(Traffic!$F$49)*(E$60-$E$60))","v":1},{"$f":"IF(MATCH(F60,SkidNums,0)=3, $D154,EXP(LN(Traffic!$F$49)*(RIGHT(F$60,2)-$E$60)))","v":{"$error":"#N/A"}},{"$f":"IF(MATCH(G60,SkidNums,0)=3, $D154,EXP(LN(Traffic!$F$49)*(RIGHT(G$60,2)-$E$60)))","v":{"$error":"#N/A"}},{"$f":"IF($I$2=\"Existing\",(D154),(IF($I$2=\"Design 1\",(F154),(IF($I$2=\"Design 2\",(G154),(IF($I$2=\"Optimal\",(I154),E154)))))))","v":1},{"$f":"EXP(LN(Traffic!$F$49)*(I$60-$E$60))","v":0.85753553626991963},null,{"$f":"INDEX($D154:$I154,K$98)","v":1.3972521419325798},{"$f":"INDEX($D154:$I154,L$98)","v":1},0.28430956017940245]
[]
[]
[null,null,"COMBINED Calculated CMF",{"$f":"+D145*D146*D147*D148*D149*D150*D151*D152*D153*D154","v":0.86106111787419426},{"$f":"+E145*E146*E147*E148*E149*E150*E151*E152*E153*E154","v":0.7735229032829446},{"$f":"+F145*F146*F147*F148*F149*F150*F151*F152*F153*F154","v":{"$error":"#N/A"}},{"$f":"+G145*G146*G147*G148*G149*G150*G151*G152*G153*G154","v":{"$error":"#N/A"}},{"$f":"IF($I$2=\"Existing\",(D157),(IF($I$2=\"Design 1\",(F157),(IF($I$2=\"Design 2\",(G157),(IF($I$2=\"Optimal\",(I157),E157)))))))","v":0.7735229032829446},{"$f":"+I145*I146*I147*I148*I149*I150*I151*I152*I153*I154","v":0.45540422392050506},null,{"$f":"INDEX($D157:$I157,K$98)","v":0.86106111787419426},{"$f":"INDEX($D157:$I157,L$98)","v":0.7735229032829446},{"$f":"IF(ISERROR(1-L157/K157), 0, 1-L157/K157)","v":0.10166318368592209}]
[null,null,"Calculated Relative to Design Standards (Column E)",{"$f":"+D157/$E$157","v":1.1131682258142903},{"$f":"+E157/$E$157","v":1},{"$f":"+F157/$E$157","v":{"$error":"#N/A"}},{"$f":"+G157/$E$157","v":{"$error":"#N/A"}},1,{"$f":"+I157/$E$157","v":0.58874045227064742},null,{"$f":"INDEX($D158:$I158,K$98)","v":1.1131682258142903},{"$f":"INDEX($D158:$I158,L$98)","v":1},0.1016631836859222]
[null,null,"P(Crash)",{"$f":"+D158/(D158+1)","v":0.52677690882151185},{"$f":"+E158/(E158+1)","v":0.5},{"$f":"+F158/(F158+1)","v":{"$error":"#N/A"}},{"$f":"+G158/(G158+1)","v":{"$error":"#N/A"}},0.5,{"$f":"+I158/(I158+1)","v":0.37057056829465901}]
[null,null,"Factor Change on S curve",{"$f":"+D159/$E$159","v":1.0535538176430237},{"$f":"+E159/$E$159","v":1},{"$f":"+F159/$E$159","v":{"$error":"#N/A"}},{"$f":"+G159/$E$159","v":{"$error":"#N/A"}},1,{"$f":"+I159/$E$159","v":0.74114113658931802}]
[null,null,"Adjust to Scale of 100",{"$f":"+$I$114/D160*100","v":{"$error":"#VALUE!"}},{"$f":"+$I$114/E160*100","v":{"$error":"#VALUE!"}},{"$f":"+$I$114/F160*100","v":{"$error":"#VALUE!"}},{"$f":"+$I$114/G160*100","v":{"$error":"#VALUE!"}},{"$error":"#VALUE!"},{"$f":"+$I$114/I160*100","v":{"$error":"#VALUE!"}}]
[null,null,"Unadjusted Combined Relative to Standard",{"$f":"+D157/$E$157","v":1.1131682258142903},{"$f":"+E157/$E$157","v":1},{"$f":"+F157/$E$157","v":{"$error":"#N/A"}},{"$f":"+G157/$E$157","v":{"$error":"#N/A"}},1,{"$f":"+I157/$E$157","v":0.58874045227064742}]
[null,null,null,null,null,null,null,0,null,{"$f":"I168/E168","v":1.4285714285714286}]
[null,null,"Adjusted for PA Basis",{"$f":"+D157*(1+1)/(1+D157*1)","v":0.92534426688549098},{"$f":"+E157*(1+1)/(1+E157*1)","v":0.8723010025425515},{"$f":"+F157*(1+1)/(1+F157*1)","v":{"$error":"#N/A"}},{"$f":"+G157*(1+1)/(1+G157*1)","v":{"$error":"#N/A"}},0.8723010025425515,{"$f":"+I157*(1+1)/(1+I157*1)","v":0.62581132641453641}]
[null,null,"Corrected by Odds Ratio",{"$f":"+D164/$E$164","v":1.0608084413388623},{"$f":"+E164/$E$164","v":1},{"$f":"+F164/$E$164","v":{"$error":"#N/A"}},{"$f":"+G164/$E$164","v":{"$error":"#N/A"}},1,{"$f":"+I164/$E$164","v":0.71742589380322175}]
[null,null,null,{"$f":"(1/D165)^$D169","v":0.29295399474123779},1,{"$error":"#N/A"},{"$error":"#N/A"},1,998.99999999999955,{"$f":"I171/E171","v":1.4285714285714286}]
[null,null,null,{"$f":"(D166+$F170-1)/(1+(D166+$F170-1))","v":0.61923435059440457},0.70000000000000007,{"$error":"#N/A"},{"$error":"#N/A"},0.70000000000000007,0.99900133155792281]
[null,null,"Score Odds Ratio with Optimal as 100 (old)",{"$f":"MIN(ROUND($I$165/D165*Construction!$I$9,0),$I168)","v":14},{"$f":"MIN(ROUND($I$165/E165*Construction!$I$9,0),$I168)","v":14},{"$f":"MIN(ROUND($I$165/F165*Construction!$I$9,0),$I168)","v":{"$error":"#N/A"}},{"$f":"MIN(ROUND($I$165/G165*Construction!$I$9,0),$I168)","v":{"$error":"#N/A"}},null,{"$f":"ROUND($I$165/I165*Construction!$I$9,0)","v":20}]
[null,null,"Logistic1",{"$f":"LN((D170/(1-D170))/(0.5/0.5))/LN($E165/I165)","v":20.798114554240879}]
[null,null,"Logistic Param",0.999,null,{"$f":"0.7/0.3","v":2.3333333333333335}]
[null,null,"Score ",{"$f":"MIN(ROUND(D167*Construction!$I$9,0),$I168)","v":12},{"$f":"MIN(ROUND(E167*Construction!$I$9,0),$I168)","v":14},{"$f":"MIN(ROUND(F167*Construction!$I$9,0),$I168)","v":{"$error":"#N/A"}},{"$f":"MIN(ROUND(G167*Construction!$I$9,0),$I168)","v":{"$error":"#N/A"}},null,{"$f":"MIN(ROUND(I167*Construction!$I$9,0),$I168)","v":20}]
[]
[]
[]
[]
[]
[]
[null,"Roadsde",null,"Existing","Standard","Design 1","Design 2"]
[null,null,null,{"$f":"MID(D72,FIND(\":\",D72,1)+1,FIND(\"H\",D72,1)-FIND(\":\",D72,1)-1)+0","v":{"$error":"#VALUE!"}},{"$f":"MID(E72,FIND(\":\",E72,1)+1,FIND(\"H\",E72,1)-FIND(\":\",E72,1)-1)+0","v":4},{"$f":"MID(F72,FIND(\":\",F72,1)+1,FIND(\"H\",F72,1)-FIND(\":\",F72,1)-1)+0","v":{"$error":"#VALUE!"}},{"$f":"MID(G72,FIND(\":\",G72,1)+1,FIND(\"H\",G72,1)-FIND(\":\",G72,1)-1)+0","v":{"$error":"#VALUE!"}},null,{"$f":"MID(I72,FIND(\":\",I72,1)+1,FIND(\"H\",I72,1)-FIND(\":\",I72,1)-1)+0","v":6},null,{"$f":"INDEX($D179:$I179,K$98)","v":{"$error":"#VALUE!"}},{"$f":"INDEX($D179:$I179,L$98)","v":4},{"$f":"IF(ISERROR(1-L179/K179), 0, 1-L179/K179)","v":0}]
[null,null,"Sideslope (Foreslope)",{"$f":"IF(D179<=3,1,IF(OR(D179=4,D179=5),(Roadside!$F$15-1)*Constraints!$H$37/Constraints!$D$37+1,(Roadside!$F$15*Roadside!$F$16-1)*Constraints!$H$37/Constraints!$D$37+1))","v":{"$error":"#VALUE!"}},{"$f":"IF(E179<=3,1,IF(OR(E179=4,E179=5),(Roadside!$F$15-1)*Constraints!$H$37/Constraints!$D$37+1,(Roadside!$F$15*Roadside!$F$16-1)*Constraints!$H$37/Constraints!$D$37+1))","v":0.8286893555394641},{"$f":"IF(F179<=3,1,IF(OR(F179=4,F179=5),(Roadside!$F$15-1)*Constraints!$H$37/Constraints!$D$37+1,(Roadside!$F$15*Roadside!$F$16-1)*Constraints!$H$37/Constraints!$D$37+1))","v":{"$error":"#VALUE!"}},{"$f":"IF(G179<=3,1,IF(OR(G179=4,G179=5),(Roadside!$F$15-1)*Constraints!$H$37/Constraints!$D$37+1,(Roadside!$F$15*Roadside!$F$16-1)*Constraints!$H$37/Constraints!$D$37+1))","v":{"$error":"#VALUE!"}},{"$f":"IF($I$2=\"Existing\",(D180),(IF($I$2=\"Design 1\",(F180),(IF($I$2=\"Design 2\",(G180),(IF($I$2=\"Optimal\",(I180),E180)))))))","v":0.8286893555394641},{"$f":"IF(I179<=3,1,IF(OR(I179=4,I179=5),(Roadside!$F$15-1)*Constraints!$H$37/Constraints!$D$37+1,(Roadside!$F$15*Roadside!$F$16-1)*Constraints!$H$37/Constraints!$D$37+1))","v":0.77664355022240605},null,{"$f":"INDEX($D180:$I180,K$98)","v":{"$error":"#VALUE!"}},{"$f":"INDEX($D180:$I180,L$98)","v":0.8286893555394641},0]
[null,null,"Backslope",1,1,1,1,{"$f":"IF($I$2=\"Existing\",(D181),(IF($I$2=\"Design 1\",(F181),(IF($I$2=\"Design 2\",(G181),(IF($I$2=\"Optimal\",(I181),E181)))))))","v":1},1,null,{"$f":"INDEX($D181:$I181,K$98)","v":1},{"$f":"INDEX($D181:$I181,L$98)","v":1},0]
[null,null,"SafetyEdge",{"$f":"IF(D$74=\"No\",1,(Roadside!$F$23-1)*AVERAGE(Constraints!$H$37,Constraints!$F$37)/Constraints!$D$37+1)","v":0.97258384193648495},{"$f":"IF(E$74=\"No\",1,(Roadside!$F$23-1)*AVERAGE(Constraints!$H$37,Constraints!$F$37)/Constraints!$D$37+1)","v":1},{"$f":"IF(F$74=\"No\",1,(Roadside!$F$23-1)*AVERAGE(Constraints!$H$37,Constraints!$F$37)/Constraints!$D$37+1)","v":0.97258384193648495},{"$f":"IF(G$74=\"No\",1,(Roadside!$F$23-1)*AVERAGE(Constraints!$H$37,Constraints!$F$37)/Constraints!$D$37+1)","v":0.97258384193648495},{"$f":"IF($I$2=\"Existing\",(D182),(IF($I$2=\"Design 1\",(F182),(IF($I$2=\"Design 2\",(G182),(IF($I$2=\"Optimal\",(I182),E182)))))))","v":1},{"$f":"IF(I$74=\"No\",1,(Roadside!$F$23-1)*AVERAGE(Constraints!$H$37,Constraints!$F$37)/Constraints!$D$37+1)","v":0.97258384193648495},null,{"$f":"INDEX($D182:$I182,K$98)","v":0.97258384193648495},{"$f":"INDEX($D182:$I182,L$98)","v":1},-2.8188991921691331E-2]
[null,null,"Lateral Clearance (ft)",{"$f":"IF($B$27=\"Yes\",((EXP(LN(Roadside!$F$11)*(IF(D$76=\"None\",40,D$75)-30)/30)-1))*Constraints!$H$36/Constraints!$D$37+1,((EXP(LN(Roadside!$F$10)*(IF(D$76=\"None\",40,D$75)-30)/30)-1))*Constraints!$H$36/Constraints!$D$37+1)","v":1.0992721491203288},{"$f":"IF($B$27=\"Yes\",((EXP(LN(Roadside!$F$11)*(IF(E$76=\"None\",40,E$75)-30)/30)-1))*Constraints!$H$36/Constraints!$D$37+1,((EXP(LN(Roadside!$F$10)*(IF(E$76=\"None\",40,E$75)-30)/30)-1))*Constraints!$H$36/Constraints!$D$37+1)","v":1},{"$f":"IF($B$27=\"Yes\",((EXP(LN(Roadside!$F$11)*(IF(F$76=\"None\",40,F$75)-30)/30)-1))*Constraints!$H$36/Constraints!$D$37+1,((EXP(LN(Roadside!$F$10)*(IF(F$76=\"None\",40,F$75)-30)/30)-1))*Constraints!$H$36/Constraints!$D$37+1)","v":1.0992721491203288},{"$f":"IF($B$27=\"Yes\",((EXP(LN(Roadside!$F$11)*(IF(G$76=\"None\",40,G$75)-30)/30)-1))*Constraints!$H$36/Constraints!$D$37+1,((EXP(LN(Roadside!$F$10)*(IF(G$76=\"None\",40,G$75)-30)/30)-1))*Constraints!$H$36/Constraints!$D$37+1)","v":1.0992721491203288},{"$f":"IF($I$2=\"Existing\",(D183),(IF($I$2=\"Design 1\",(F183),(IF($I$2=\"Design 2\",(G183),(IF($I$2=\"Optimal\",(I183),E183)))))))","v":1},{"$f":"IF($B$27=\"Yes\",((EXP(LN(Roadside!$F$11)*(IF(I$76=\"None\",40,I$75)-30)/30)-1))*Constraints!$H$36/Constraints!$D$37+1,((EXP(LN(Roadside!$F$10)*(IF(I$76=\"None\",40,I$75)-30)/30)-1))*Constraints!$H$36/Constraints!$D$37+1)","v":0.97455184373954995},null,{"$f":"INDEX($D183:$I183,K$98)","v":1.0992721491203288},{"$f":"INDEX($D183:$I183,L$98)","v":1},9.0307162971216326E-2]
[null,null,"Fixed Object Type",{"$f":"IF(D$76=\"Guardrail\",(Roadside!$F$25-1)*(($I$75-D$75)/$I$75)^2*Constraints!$H$36/Constraints!$D$37+1,1)","v":1},{"$f":"IF(E$76=\"Guardrail\",(Roadside!$F$25-1)*(($I$75-E$75)/$I$75)^2*Constraints!$H$36/Constraints!$D$37+1,1)","v":1},{"$f":"IF(F$76=\"Guardrail\",(Roadside!$F$25-1)*(($I$75-F$75)/$I$75)^2*Constraints!$H$36/Constraints!$D$37+1,1)","v":1},{"$f":"IF(G$76=\"Guardrail\",(Roadside!$F$25-1)*(($I$75-G$75)/$I$75)^2*Constraints!$H$36/Constraints!$D$37+1,1)","v":1},{"$f":"IF($I$2=\"Existing\",(D184),(IF($I$2=\"Design 1\",(F184),(IF($I$2=\"Design 2\",(G184),(IF($I$2=\"Optimal\",(I184),E184)))))))","v":1},{"$f":"IF(I$76=\"Guardrail\",(Roadside!$F$25-1)*(($I$75-I$75)/$I$75)^2*Constraints!$H$36/Constraints!$D$37+1,1)","v":1},null,{"$f":"INDEX($D184:$I184,K$98)","v":1},{"$f":"INDEX($D184:$I184,L$98)","v":1},0]
[]
[]
[null,null,"COMBINED Calculated CMF",{"$f":"+D180*D181*D182*D183*D184","v":{"$error":"#VALUE!"}},{"$f":"+E180*E181*E182*E183*E184","v":0.8286893555394641},{"$f":"+F180*F181*F182*F183*F184","v":{"$error":"#VALUE!"}},{"$f":"+G180*G181*G182*G183*G184","v":{"$error":"#VALUE!"}},{"$f":"IF($I$2=\"Existing\",(D187),(IF($I$2=\"Design 1\",(F187),(IF($I$2=\"Design 2\",(G187),(IF($I$2=\"Optimal\",(I187),E187)))))))","v":0.8286893555394641},{"$f":"+I180*I181*I182*I183*I184","v":0.73612867842813945}]
[null,null,"Calculated Relative to Design Standards (Column E)",{"$f":"+D187/$E$187","v":{"$error":"#VALUE!"}},{"$f":"+E187/$E$187","v":1},{"$f":"+F187/$E$187","v":{"$error":"#VALUE!"}},{"$f":"+G187/$E$187","v":{"$error":"#VALUE!"}},1,{"$f":"+I187/$E$187","v":0.88830473507039431}]
[null,null,"P(Crash)",{"$f":"+D188/(D188+1)","v":{"$error":"#VALUE!"}},{"$f":"+E188/(E188+1)","v":0.5},{"$f":"+F188/(F188+1)","v":{"$error":"#VALUE!"}},{"$f":"+G188/(G188+1)","v":{"$error":"#VALUE!"}},0.5,{"$f":"+I188/(I188+1)","v":0.47042445987261644}]
[null,null,"Factor Change on S curve",{"$f":"+D189/$E$189","v":{"$error":"#VALUE!"}},{"$f":"+E189/$E$189","v":1},{"$f":"+F189/$E$189","v":{"$error":"#VALUE!"}},{"$f":"+G189/$E$189","v":{"$error":"#VALUE!"}},1,{"$f":"+I189/$E$189","v":0.94084891974523288}]
[null,null,"Adjust to Scale of 100",{"$f":"+$I$114/D190*100","v":{"$error":"#VALUE!"}},{"$f":"+$I$114/E190*100","v":{"$error":"#VALUE!"}},{"$f":"+$I$114/F190*100","v":{"$error":"#VALUE!"}},{"$f":"+$I$114/G190*100","v":{"$error":"#VALUE!"}},{"$error":"#VALUE!"},{"$f":"+$I$114/I190*100","v":{"$error":"#VALUE!"}}]
[null,null,"Unadjusted Combined Relative to Standard",{"$f":"+D187/$E$187","v":{"$error":"#VALUE!"}},{"$f":"+E187/$E$187","v":1},{"$f":"+F187/$E$187","v":{"$error":"#VALUE!"}},{"$f":"+G187/$E$187","v":{"$error":"#VALUE!"}},1,{"$f":"+I187/$E$187","v":0.88830473507039431}]
[null,null,null,null,null,null,null,null,null,{"$f":"I198/E198","v":1.1111111111111112}]
[null,null,"Adjusted for PA Basis",{"$f":"+D187*(1+1)/(1+D187*1)","v":{"$error":"#VALUE!"}},{"$f":"+E187*(1+1)/(1+E187*1)","v":0.90632053282226321},{"$f":"+F187*(1+1)/(1+F187*1)","v":{"$error":"#VALUE!"}},{"$f":"+G187*(1+1)/(1+G187*1)","v":{"$error":"#VALUE!"}},{"$f":"IF($I$2=\"Existing\",(D194),(IF($I$2=\"Design 1\",(F194),(IF($I$2=\"Design 2\",(G194),(IF($I$2=\"Optimal\",(I194),E194)))))))","v":0.90632053282226321},{"$f":"+I187*(1+1)/(1+I187*1)","v":0.84801165671039724}]
[null,null,"Corrected by Odds Ratio",{"$f":"+D187/$E$187","v":{"$error":"#VALUE!"}},{"$f":"+E187/$E$187","v":1},{"$f":"+F187/$E$187","v":{"$error":"#VALUE!"}},{"$f":"+G187/$E$187","v":{"$error":"#VALUE!"}},{"$f":"IF($I$2=\"Existing\",(D195),(IF($I$2=\"Design 1\",(F195),(IF($I$2=\"Design 2\",(G195),(IF($I$2=\"Optimal\",(I195),E195)))))))","v":1},{"$f":"+I187/$E$187","v":0.88830473507039431}]
[null,null,null,{"$f":"(1/D195)^$D199","v":{"$error":"#VALUE!"}},1,{"$error":"#VALUE!"},{"$error":"#VALUE!"},1,998.99999999999955,{"$f":"I201/E201","v":1.4814814814814814}]
[null,null,null,{"$f":"(D196+$F200-1)/(1+(D196+$F200-1))","v":{"$error":"#VALUE!"}},0.66666666666666663,{"$error":"#VALUE!"},{"$error":"#VALUE!"},0.66666666666666663,0.99900099900099903]
[null,null,"Score Odds Ratio with Optimal as 100 (old)",{"$f":"MIN(ROUND($I$195/D195*Construction!$I$10,0),$I198)","v":{"$error":"#VALUE!"}},{"$f":"MIN(ROUND($I$195/E195*Construction!$I$10,0),$I198)","v":36},{"$f":"MIN(ROUND($I$195/F195*Construction!$I$10,0),$I198)","v":{"$error":"#VALUE!"}},{"$f":"MIN(ROUND($I$195/G195*Construction!$I$10,0),$I198)","v":{"$error":"#VALUE!"}},null,{"$f":"ROUND($I$195/I195*Construction!$I$10,0)","v":40}]
[null,null,"Logistic1",{"$f":"LN((D200/(1-D200))/(0.5/0.5))/LN($E195/I195)","v":58.314167600285003}]
[null,null,"Logistic Param",0.999,null,2]
[null,null,"Score ",{"$f":"MIN(ROUND(D197*Construction!$I$10,0),$I198)","v":{"$error":"#VALUE!"}},{"$f":"MIN(ROUND(E197*Construction!$I$10,0),$I198)","v":27},{"$f":"MIN(ROUND(F197*Construction!$I$10,0),$I198)","v":{"$error":"#VALUE!"}},{"$f":"MIN(ROUND(G197*Construction!$I$10,0),$I198)","v":{"$error":"#VALUE!"}},null,{"$f":"MIN(ROUND(I197*Construction!$I$10,0),$I198)","v":40}]
[]
[]
[]
[]
[null,null,{"$f":"D84/D179","v":{"$error":"#VALUE!"}},null,{"$f":"ROUNDUP((MIN($I$14,$I$15)-E24-E25)/$C$206,0)","v":{"$error":"#VALUE!"}},{"$f":"ROUNDUP((MIN($I$14,$I$15)-F24-F25)/$C$206,0)","v":{"$error":"#VALUE!"}},{"$f":"ROUNDUP((MIN($I$14,$I$15)-G24-G25)/$C$206,0)","v":{"$error":"#VALUE!"}},null,{"$f":"ROUNDUP((MIN($I$14,$I$15)-I24-I25)/$C$206,0)","v":{"$error":"#VALUE!"}}]
[]
[]
[null,null,"Distance to low point","Distance to low point",{"$f":"$C$206*E179","v":{"$error":"#VALUE!"}},{"$f":"$C$206*F179","v":{"$error":"#VALUE!"}},{"$f":"$C$206*G179","v":{"$error":"#VALUE!"}},null,{"$f":"$C$206*I179","v":{"$error":"#VALUE!"}}]
[null,null,null,"Additional ROW1 Needed for Foreslope",{"$f":"IF(E209>($I$14-E24-E25),E209-($I$14-E24-E25),0)","v":{"$error":"#VALUE!"}},{"$f":"IF(F209>($I$14-F24-F25),F209-($I$14-F24-F25),0)","v":{"$error":"#VALUE!"}},{"$f":"IF(G209>($I$14-G24-G25),G209-($I$14-G24-G25),0)","v":{"$error":"#VALUE!"}},null,{"$f":"IF(I209>($I$14-I24-I25),I209-($I$14-I24-I25),0)","v":{"$error":"#VALUE!"}}]
[null,null,null,"Additional ROW2 Needed for Foreslope",{"$f":"IF(E209>($I$15-E24-E25),E209-($I$15-E24-E25),0)","v":{"$error":"#VALUE!"}},{"$f":"IF(F209>($I$15-F24-F25),F209-($I$15-F24-F25),0)","v":{"$error":"#VALUE!"}},{"$f":"IF(G209>($I$15-G24-G25),G209-($I$15-G24-G25),0)","v":{"$error":"#VALUE!"}},null,{"$f":"IF(I209>($I$15-I24-I25),I209-($I$15-I24-I25),0)","v":{"$error":"#VALUE!"}}]
[]
[null,null,null,"Additional ROW1 Needed for Lateral Clearance",{"$f":"IF((CL248+E26)-$I$14<0,0,(CL248+E26)-$I$14)","v":8},{"$f":"IF((CM248+F26)-$I$14<0,0,(CM248+F26)-$I$14)","v":0},{"$f":"IF((CN248+G26)-$I$14<0,0,(CN248+G26)-$I$14)","v":0},null,{"$f":"IF((CP248+I26)-$I$14<0,0,(CP248+I26)-$I$14)","v":0}]
[null,null,null,"Additional ROW2 Needed for Lateral Clearance",{"$f":"IF((CL248+E26)-$I$15<0,0,(CL248+E26)-$I$15)","v":8},{"$f":"IF((CM248+F26)-$I$15<0,0,(CM248+F26)-$I$15)","v":0},{"$f":"IF((CN248+G26)-$I$15<0,0,(CN248+G26)-$I$15)","v":0},null,{"$f":"IF((CP248+I26)-$I$15<0,0,(CP248+I26)-$I$15)","v":0}]
[]
[]
[]
[]
[]
[]
[]
[]
[]
[]
[]
[null,null,"For Vertical Opt Use when Yes Vertical:"]
[null,null,"G1",{"$f":"D36","v":0},null,{"$f":"F36","v":0},{"$f":"G36","v":0},null,{"$f":"IF(ISERROR($E$234),\"\",INDEX(D227:G227,$E$234))","v":""}]
[null,null,"G2",{"$f":"D37","v":0},null,{"$f":"F37","v":0},{"$f":"G37","v":0},null,{"$f":"IF(ISERROR($E$234),\"\",INDEX(D228:G228,$E$234))","v":""}]
[null,null,"abs(G2-G1)",{"$f":"ABS(D36-D37)","v":0},null,{"$f":"ABS(F36-F37)","v":0},{"$f":"ABS(G36-G37)","v":0}]
[null,null,"Count in indicator (K no change; or K change but accept)",{"$f":"IF(D39<>\"\",1,\"\")","v":""},null,{"$f":"IF(OR(AND($B$34 = \"Yes\", $D$39 <> F39, F39 <>\"\", $D$39 <> \"\", F41=\"Yes.\"),AND($B$34 = \"Yes\", $D$39 = F39, F39 <>\"\", $D$39 <> \"\")), 1,\"\")","v":""},{"$f":"IF(OR(AND($B$34 = \"Yes\", $D$39 <> G39, G39 <>\"\", $D$39 <> \"\", G41=\"Yes.\"),AND($B$34 = \"Yes\", $D$39 = G39, G39 <>\"\", $D$39 <> \"\")), 1,\"\")","v":""}]
[]
[null,null,"Valid abs(G2-G1)",{"$f":"IF(ISERROR(D229*D230),\"\",D229*D230)","v":""},null,{"$f":"IF(ISERROR(F229*F230),\"\",F229*F230)","v":""},{"$f":"IF(ISERROR(G229*G230),\"\",G229*G230)","v":""}]
[null,null,"The min valid abs(G2-G1)",null,{"$f":"MIN(D232,F232,G232)","v":0}]
[null,null,"Index",null,{"$f":"MATCH(E233,D232:G232,0)","v":{"$error":"#N/A"}}]
[]
[null,null,"For Vertical Opt Use When No Vertical:"]
[null,null,"G1",{"$f":"IF(ISBLANK(D36), 999, D36)","v":999},null,{"$f":"IF(ISBLANK(F36), 999, F36)","v":999},{"$f":"IF(ISBLANK(G36), 999, G36)","v":999},null,{"$f":"IF(E242=999,\"\",E242)","v":""}]
[null,null,"Sign of G1",{"$f":"IF(D237>=0,1,-1)","v":1},null,{"$f":"IF(F237>=0,1,-1)","v":1},{"$f":"IF(G237>=0,1,-1)","v":1}]
[null,null,"Abs G1",{"$f":"ABS(D237)","v":999},null,{"$f":"ABS(F237)","v":999},{"$f":"ABS(G237)","v":999}]
[null,null,"Min Abs G1",null,{"$f":"MIN(D239:G239)","v":999}]
[null,null,"Which is the Best G1",null,{"$f":"MATCH(E240,D239:G239,0)","v":1}]
[null,null,"Best G1 Value",null,{"$f":"INDEX(D237:G237,1,E241)","v":999}]
[]
[]
[]
[]
[]
[]
[null,null,"Check if all cells filled",{"$f":"SUM(D251:D311)","v":18},{"$f":"SUM(E251:E311)","v":1},18,18,null,1]
[]
[null,null,{"$f":"C24","v":"Lane Width (feet)"},{"$f":"IF(ISBLANK(D24),1,0)","v":1},{"$f":"IF(ISBLANK(E24),1,0)","v":0},1,1,null,0]
[null,null,{"$f":"C25","v":"Shoulder Width (feet)"},{"$f":"IF(ISBLANK(D25),1,0)","v":1},0,1,1,null,0]
[null,null,"Cross-slope or Superelevation (%)",{"$f":"IF(ISBLANK(D26),1,0)","v":1},0,1,1,null,0]
[null,null,"Horizontal Curve Present?"]
[null,null,"Horizontal Curve Data for Controlling Element:"]
[null,null,"  Radius (feet)",{"$f":"IF(AND($B$27=\"Yes\", ISBLANK(D29)),1,0)","v":0},{"$f":"IF(AND($B$27=\"Yes\", ISBLANK(E29)),1,0)","v":0},0,0,null,0]
[null,null,"Length of Horizontal Curve (feet)",{"$f":"IF(AND($B$27=\"Yes\", ISBLANK(D30)),1,0)","v":0},0,0,0,null,0]
[null,null,"Calculated Deflection Angle ∆"]
[]
[null,null,null,null,null,{"$f":"IF(AND($B$27 = \"Yes\", $D$31 <> F31, F31<>\"\",ISBLANK(F33)),1,0)","v":0},{"$f":"IF(AND($B$27 = \"Yes\", $D$31 <> G31, G31<>\"\",ISBLANK(G33)),1,0)","v":0}]
[null,null,"Vertical Curve Present?"]
[null,null,"Vertical Curve Data for Controlling Element:"]
[null,null,"  Approach (Entry) Grade, G1 (%)",{"$f":"IF(ISBLANK(D36),1,0)","v":1},{"$f":"IF(ISBLANK(E36),1,0)","v":0},1,1,null,0]
[null,null,"  Departure (Exit) Grade, G2 (%)",{"$f":"IF(AND($B$34=\"Yes\", ISBLANK(D37)),1,0)","v":0},{"$f":"IF(AND($B$34=\"Yes\", ISBLANK(E37)),1,0)","v":0},0,0,null,0]
[null,null,"  Length (feet)",{"$f":"IF(AND($B$34=\"Yes\", ISBLANK(D38)),1,0)","v":0},0,0,0,null,0]
[null,null,"  Calculated Rate of Change, K (ft/ft)"]
[]
[]
[]
[null,null,"TWLTL (two-way left-turn lane)",{"$f":"IF(ISBLANK(D43),1,0)","v":1},{"$f":"IF(ISBLANK(E43),1,0)","v":0},1,1,null,0]
[null,null,"Passing Lane Type",{"$f":"IF(ISBLANK(D44),1,0)","v":1},0,1,1,null,0]
[]
[]
[]
[]
[]
[]
[]
[null,null,"Advance Static Curve Warning Signs",{"$f":"IF(AND($B$27=\"Yes\", ISBLANK(D52)),1,0)","v":0},{"$f":"IF(AND($B$27=\"Yes\", ISBLANK(E52)),1,0)","v":0},0,0,null,{"$f":"IF(ISBLANK(I52),1,0)","v":0}]
[null,null,"Chevron Signs on Horizontal Curves",{"$f":"IF(AND($B$27=\"Yes\", ISBLANK(D53)),1,0)","v":0},0,0,0,null,0]
[null,null,"Post-Mounted Delineators",0,0,0,0,null,0]
[null,null,"Edgeline Pavement Markings or Profile Markings",{"$f":"IF(ISBLANK(D55),1,0)","v":1},0,1,1,null,0]
[null,null,"Shoulder Rumble Strips",1,0,1,1,null,0]
[null,null,"Centerline Rumble Strips",1,0,1,1,null,0]
[null,null,"Driveway Density (driveways per mile)",1,0,1,1,null,0]
[null,null,"Lighting",1,0,1,1,null,0]
[null,null,"Pavement Friction (skid number) ***",1,0,1,1,null,0]
[]
[]
[]
[]
[]
[]
[]
[]
[]
[]
[]
[null,null,"Sideslope (Foreslope)",{"$f":"IF(ISBLANK(D72),1,0)","v":1},0,1,1,null,0]
[null,null,"Backslope",1,0,1,1,null,0]
[null,null,"SafetyEdge",1,0,1,1,null,0]
[null,null,"Lateral Clearance to obstruction (ft)",1,0,1,1,null,0]
[null,null,"Obstruction Type",1,0,1,1,null,0]
[]
[]
[]
[]
[]
[]
[]
[null,null,"Distance to Slope Toe from Shoulder (ft)",1,{"$f":"$D$311","v":1},{"$f":"$D$311","v":1},1,null,1]
[]
[]
[]
[null,null,null,null,null,null,null,null,{"$f":"SUM(I316:I324)","v":9}]
[null,null,null,null,null,null,null,{"$f":"F9","v":"Location "},{"$f":"IF(ISBLANK(I9),1,0)","v":1}]
[null,null,null,null,null,null,null,{"$f":"F10","v":"Design Speed (mph)"},{"$f":"IF(ISBLANK(I10),1,0)","v":1}]
[null,null,null,null,null,null,null,"Posted Speed (mph)",1]
[null,null,null,null,null,null,null,"E max (%)",1]
[null,null,null,null,null,null,null,"Design Year AADT (vehicles per day)",1]
[null,null,null,null,null,null,null,"Dist. from Centerline to Left   ROW (feet)",1]
[null,null,null,null,null,null,null,"Dist. from Centerline to Right ROW (feet)",1]
[null,null,null,null,null,null,null,"H Curve Indicator",{"$f":"IF(ISBLANK(B27),1,0)","v":1}]
[null,null,null,null,null,null,null,"V Curve Indicator",{"$f":"IF(ISBLANK(B34),1,0)","v":1}]
[]
[]
[]
[]
[]
[]
[]
[]
[]
[]
[]
[]
[]
[]
[]
[]
[]
[]
[]
[]
[]
[]
[]
[]
[]
[]
[]
[]
[]
[]
[]
[]
[]
[]
[]
[]
[]
[]
[]
[]
[]
[]
[]
[]
[]
[]
[]
[]
[]
[]
[]
[1]
[22]
[21]
[20,null,null,{"$f":"Constraints!P174","v":"Emax=6%"}]
[19]
[18,null,{"$f":"HLOOKUP($I$10,Constraints!$Q$176:AD197,A376,TRUE)","v":{"$error":"#N/A"}},{"$f":"Constraints!P176","v":"super"}]
[17,null,{"$f":"HLOOKUP($I$10,Constraints!$Q$176:AD198,A377,TRUE)","v":{"$error":"#N/A"}},{"$f":"Constraints!P197","v":6},1050]
[16,null,{"$f":"HLOOKUP($I$10,Constraints!$Q$176:AD199,A378,TRUE)","v":{"$error":"#N/A"}},{"$f":"Constraints!P196","v":5.8}]
[15,null,{"$f":"HLOOKUP($I$10,Constraints!$Q$176:AD200,A379,TRUE)","v":{"$error":"#N/A"}},{"$f":"Constraints!P195","v":5.6}]
[14,null,{"$f":"HLOOKUP($I$10,Constraints!$Q$176:AD201,A380,TRUE)","v":{"$error":"#N/A"}},{"$f":"Constraints!P194","v":5.4}]
[13,null,{"$f":"HLOOKUP($I$10,Constraints!$Q$176:AD202,A381,TRUE)","v":{"$error":"#N/A"}},{"$f":"Constraints!P193","v":5.2}]
[12,null,{"$f":"HLOOKUP($I$10,Constraints!$Q$176:AD203,A382,TRUE)","v":{"$error":"#N/A"}},{"$f":"Constraints!P192","v":5}]
[11,null,{"$f":"HLOOKUP($I$10,Constraints!$Q$176:AD204,A383,TRUE)","v":{"$error":"#N/A"}},{"$f":"Constraints!P191","v":4.8}]
[10,null,{"$f":"HLOOKUP($I$10,Constraints!$Q$176:AD205,A384,TRUE)","v":{"$error":"#N/A"}},{"$f":"Constraints!P190","v":4.5999999999999996}]
[9,null,{"$f":"HLOOKUP($I$10,Constraints!$Q$176:AD206,A385,TRUE)","v":{"$error":"#N/A"}},{"$f":"Constraints!P189","v":4.4000000000000004}]
[8,null,{"$f":"HLOOKUP($I$10,Constraints!$Q$176:AD207,A386,TRUE)","v":{"$error":"#N/A"}},{"$f":"Constraints!P188","v":4.2}]
[7,null,{"$f":"HLOOKUP($I$10,Constraints!$Q$176:AD208,A387,TRUE)","v":{"$error":"#N/A"}},{"$f":"Constraints!P187","v":4}]
[6,null,{"$f":"HLOOKUP($I$10,Constraints!$Q$176:AD209,A388,TRUE)","v":{"$error":"#N/A"}},{"$f":"Constraints!P186","v":3.8}]
[5,null,{"$f":"HLOOKUP($I$10,Constraints!$Q$176:AD210,A389,TRUE)","v":{"$error":"#N/A"}},{"$f":"Constraints!P185","v":3.6}]
[4,null,{"$f":"HLOOKUP($I$10,Constraints!$Q$176:AD211,A390,TRUE)","v":{"$error":"#N/A"}},{"$f":"Constraints!P184","v":3.4}]
[3,null,{"$f":"HLOOKUP($I$10,Constraints!$Q$176:AD212,A391,TRUE)","v":{"$error":"#N/A"}},{"$f":"Constraints!P183","v":3.2}]
[2,null,{"$f":"HLOOKUP($I$10,Constraints!$Q$176:AD213,A392,TRUE)","v":{"$error":"#N/A"}},{"$f":"Constraints!P182","v":3}]
[null,null,{"$f":"HLOOKUP($I$10,Constraints!$Q$176:AD214,A393,TRUE)","v":{"$error":"#N/A"}},{"$f":"Constraints!P181","v":2.8}]
[null,null,{"$f":"HLOOKUP($I$10,Constraints!$Q$176:AD215,A394,TRUE)","v":{"$error":"#N/A"}},{"$f":"Constraints!P180","v":2.6}]
[null,null,{"$f":"HLOOKUP($I$10,Constraints!$Q$176:AD216,A395,TRUE)","v":{"$error":"#N/A"}},{"$f":"Constraints!P179","v":2.4}]
[null,null,{"$f":"HLOOKUP($I$10,Constraints!$Q$176:AD217,A396,TRUE)","v":{"$error":"#N/A"}},{"$f":"Constraints!P178","v":2.2000000000000002}]
[null,null,{"$f":"HLOOKUP($I$10,Constraints!$Q$176:AD218,A397,TRUE)","v":{"$error":"#N/A"}},{"$f":"Constraints!P177","v":2}]
[1]
[32]
[31]
[30,null,null,{"$f":"Constraints!P201","v":"Emax=8%"}]
[29]
[28,null,{"$f":"HLOOKUP($I$10,Constraints!$Q$203:AD234,A403,TRUE)","v":{"$error":"#N/A"}},{"$f":"Constraints!P203","v":"super"}]
[27,null,{"$f":"HLOOKUP($I$10,Constraints!$Q$203:AD235,A404,TRUE)","v":{"$error":"#N/A"}},{"$f":"INDEX(Constraints!$P$203:$P$234,A404,)","v":8}]
[26,null,{"$f":"HLOOKUP($I$10,Constraints!$Q$203:AD236,A405,TRUE)","v":{"$error":"#N/A"}},{"$f":"INDEX(Constraints!$P$203:$P$234,A405,)","v":7.8}]
[25,null,{"$f":"HLOOKUP($I$10,Constraints!$Q$203:AD237,A406,TRUE)","v":{"$error":"#N/A"}},{"$f":"INDEX(Constraints!$P$203:$P$234,A406,)","v":7.6}]
[24,null,{"$f":"HLOOKUP($I$10,Constraints!$Q$203:AD238,A407,TRUE)","v":{"$error":"#N/A"}},{"$f":"INDEX(Constraints!$P$203:$P$234,A407,)","v":7.4}]
[23,null,{"$f":"HLOOKUP($I$10,Constraints!$Q$203:AD239,A408,TRUE)","v":{"$error":"#N/A"}},{"$f":"INDEX(Constraints!$P$203:$P$234,A408,)","v":7.2}]
[22,null,{"$f":"HLOOKUP($I$10,Constraints!$Q$203:AD240,A409,TRUE)","v":{"$error":"#N/A"}},{"$f":"INDEX(Constraints!$P$203:$P$234,A409,)","v":7}]
[21,null,{"$f":"HLOOKUP($I$10,Constraints!$Q$203:AD241,A410,TRUE)","v":{"$error":"#N/A"}},{"$f":"INDEX(Constraints!$P$203:$P$234,A410,)","v":6.8}]
[20,null,{"$f":"HLOOKUP($I$10,Constraints!$Q$203:AD242,A411,TRUE)","v":{"$error":"#N/A"}},{"$f":"INDEX(Constraints!$P$203:$P$234,A411,)","v":6.6}]
[19,null,{"$f":"HLOOKUP($I$10,Constraints!$Q$203:AD243,A412,TRUE)","v":{"$error":"#N/A"}},{"$f":"INDEX(Constraints!$P$203:$P$234,A412,)","v":6.4}]
[18,null,{"$f":"HLOOKUP($I$10,Constraints!$Q$203:AD244,A413,TRUE)","v":{"$error":"#N/A"}},{"$f":"INDEX(Constraints!$P$203:$P$234,A413,)","v":6.2}]
[17,null,{"$f":"HLOOKUP($I$10,Constraints!$Q$203:AD245,A414,TRUE)","v":{"$error":"#N/A"}},{"$f":"INDEX(Constraints!$P$203:$P$234,A414,)","v":6}]
[16,null,{"$f":"HLOOKUP($I$10,Constraints!$Q$203:AD246,A415,TRUE)","v":{"$error":"#N/A"}},{"$f":"INDEX(Constraints!$P$203:$P$234,A415,)","v":5.8}]
[15,null,{"$f":"HLOOKUP($I$10,Constraints!$Q$203:AD247,A416,TRUE)","v":{"$error":"#N/A"}},{"$f":"INDEX(Constraints!$P$203:$P$234,A416,)","v":5.6}]
[14,null,{"$f":"HLOOKUP($I$10,Constraints!$Q$203:AD248,A417,TRUE)","v":{"$error":"#N/A"}},{"$f":"INDEX(Constraints!$P$203:$P$234,A417,)","v":5.4}]
[13,null,{"$f":"HLOOKUP($I$10,Constraints!$Q$203:AD249,A418,TRUE)","v":{"$error":"#N/A"}},{"$f":"INDEX(Constraints!$P$203:$P$234,A418,)","v":5.2}]
[12,null,{"$f":"HLOOKUP($I$10,Constraints!$Q$203:AD250,A419,TRUE)","v":{"$error":"#N/A"}},{"$f":"INDEX(Constraints!$P$203:$P$234,A419,)","v":5}]
[11,null,{"$f":"HLOOKUP($I$10,Constraints!$Q$203:AD251,A420,TRUE)","v":{"$error":"#N/A"}},{"$f":"INDEX(Constraints!$P$203:$P$234,A420,)","v":4.8}]
[10,null,{"$f":"HLOOKUP($I$10,Constraints!$Q$203:AD252,A421,TRUE)","v":{"$error":"#N/A"}},{"$f":"INDEX(Constraints!$P$203:$P$234,A421,)","v":4.5999999999999996}]
[9,null,{"$f":"HLOOKUP($I$10,Constraints!$Q$203:AD253,A422,TRUE)","v":{"$error":"#N/A"}},{"$f":"INDEX(Constraints!$P$203:$P$234,A422,)","v":4.4000000000000004}]
[8,null,{"$f":"HLOOKUP($I$10,Constraints!$Q$203:AD254,A423,TRUE)","v":{"$error":"#N/A"}},{"$f":"INDEX(Constraints!$P$203:$P$234,A423,)","v":4.2}]
[7,null,{"$f":"HLOOKUP($I$10,Constraints!$Q$203:AD255,A424,TRUE)","v":{"$error":"#N/A"}},{"$f":"INDEX(Constraints!$P$203:$P$234,A424,)","v":4}]
[6,null,{"$f":"HLOOKUP($I$10,Constraints!$Q$203:AD256,A425,TRUE)","v":{"$error":"#N/A"}},{"$f":"INDEX(Constraints!$P$203:$P$234,A425,)","v":3.8}]
[5,null,{"$f":"HLOOKUP($I$10,Constraints!$Q$203:AD257,A426,TRUE)","v":{"$error":"#N/A"}},{"$f":"INDEX(Constraints!$P$203:$P$234,A426,)","v":3.6}]
[4,null,{"$f":"HLOOKUP($I$10,Constraints!$Q$203:AD258,A427,TRUE)","v":{"$error":"#N/A"}},{"$f":"INDEX(Constraints!$P$203:$P$234,A427,)","v":3.4}]
[3,null,{"$f":"HLOOKUP($I$10,Constraints!$Q$203:AD259,A428,TRUE)","v":{"$error":"#N/A"}},{"$f":"INDEX(Constraints!$P$203:$P$234,A428,)","v":3.2}]
[2,null,{"$f":"HLOOKUP($I$10,Constraints!$Q$203:AD260,A429,TRUE)","v":{"$error":"#N/A"}},{"$f":"INDEX(Constraints!$P$203:$P$234,A429,)","v":3}]
[null,null,{"$f":"HLOOKUP($I$10,Constraints!$Q$203:AD261,A430,TRUE)","v":{"$error":"#N/A"}},{"$f":"INDEX(Constraints!$P$203:$P$234,A430,)","v":2.8}]
[null,null,{"$f":"HLOOKUP($I$10,Constraints!$Q$203:AD262,A431,TRUE)","v":{"$error":"#N/A"}},{"$f":"INDEX(Constraints!$P$203:$P$234,A431,)","v":2.6}]
[null,null,{"$f":"HLOOKUP($I$10,Constraints!$Q$203:AD263,A432,TRUE)","v":{"$error":"#N/A"}},{"$f":"INDEX(Constraints!$P$203:$P$234,A432,)","v":2.4}]
[null,null,{"$f":"HLOOKUP($I$10,Constraints!$Q$203:AD264,A433,TRUE)","v":{"$error":"#N/A"}},{"$f":"INDEX(Constraints!$P$203:$P$234,A433,)","v":2.2000000000000002}]
[null,null,{"$f":"HLOOKUP($I$10,Constraints!$Q$203:AD265,A434,TRUE)","v":{"$error":"#N/A"}},{"$f":"INDEX(Constraints!$P$203:$P$234,A434,)","v":2}]

{"sheet":"Configuration 7","index":17,"n_rows":439,"n_cols":113,"rows_kept":439,"cut":false,"hidden":false,"merged":[[1,6,2,7],[1,8,2,8],[1,21,1,37],[2,1,2,4],[2,21,3,28],[2,30,3,37],[3,1,3,4],[3,6,4,7],[3,8,4,8],[4,1,4,2],[4,3,4,4],[4,21,44,28],[4,30,44,37],[5,1,5,2],[5,3,5,4],[6,1,6,7],[7,1,7,4],[7,7,7,8],[8,3,8,4],[8,5,8,6],[75,16,75,21],[75,22,75,23],[9,3,9,4],[9,5,9,6],[10,3,10,4],[10,5,10,6],[11,5,11,6],[12,2,15,4],[12,5,12,6],[13,5,13,6],[14,5,14,6],[17,2,18,8],[20,5,20,7],[38,9,38,10],[45,12,45,19],[74,16,74,23],[76,22,76,23],[77,16,77,21],[77,22,77,23],[78,16,78,21],[78,22,78,23],[84,1,84,2],[85,1,85,2],[86,1,86,2],[95,10,95,12],[76,16,76,21]]}
[]
[null,null,null,null,null,null,"Preferred Schematic View to Display",null,"Standard",null,null,null,null,null,null,null,null,null,null,null,null,"NOTES: "]
[null,"CHARACTERISTICS TO CONSIDER FOR ANALYSIS",null,null,null,null,null,null,null,null,null,null,null,null,null,null,null,null,null,null,null,"ELEMENTS INCREASING SAFETY",null,null,null,null,null,null,null,null,"COMMENTS ON PRIMARY CONSTRAINTS"]
[null,"INPUT INSTRUCTIONS",null,null,null,null,"Relative to",null,"Existing"]
[null,"Blue Boxes -- Select from pulldown options",null,"Select from Pulldown"]
[null,"Yellow Boxes -- Type input information into box",null,"Type Input Value"]
[null," Rural Two-Lane Road Segment -- Safety Score Input",null,null,null,null,null,null,null,null,null,null,null,null,null,null,null,null,null,null,null,null,null,null,null,null,null,null,null,null,null,null,null,null,null,null,null,null,null,null,null,null,null,null,null,null,null,null,null,null,null,null,null,null,null,null,null,null,null,null,null,null,null,null,null,null,null,null,null,null,null,null,null,null,null,null,null,null,null,null,null,null,null,"Unadjusted Marginal Safety"]
[null,"General Information:",null,null,null,"General Site Features",null,{"$f":"I315 & \" Missing Features and Curves\"","v":"9 Missing Features and Curves"},null,null,null,null,null,null,null,null,null,null,null,null,null,null,null,null,null,null,null,null,null,null,null,null,null,null,null,null,null,null,null,null,null,null,null,null,null,null,null,null,null,null,null,null,null,null,null,null,null,null,null,null,null,null,null,null,null,null,null,null,null,null,null,null,null,null,null,null,null,null,null,null,null,null,null,{"$f":"I2&\" relative to \" &I4","v":"Standard relative to Existing"}]
[null,null,"Analyst:",{"$f":"+'Start Here'!J7","v":0},null,"Location "]
[null,null,"Agency or Company:",{"$f":"+'Start Here'!J8","v":0},null,"Design Speed (mph)"]
[null,null,"Date:",{"$f":"+'Start Here'!J9","v":"00:00:00"},null,"Posted Speed (mph)"]
[null,null,"Description:",null,null,"E max (%)"]
[null,null,null,null,null,"Design Year AADT (vehicles per day)"]
[null,null,null,null,null,"Dist. from Centerline to Left   ROW (feet)"]
[null,null,null,null,null,"Dist. from Centerline to Right ROW (feet)"]
[]
[null,"Warning:"]
[null,null,{"$f":"+IF(+I11>I10,\"Posted speed exceeds design speed. Optimal safety will only be achieved if design speed exceeds posted speed. The Safety Assessment Score is based on the higher of the two speed values.\",\"No warnings identified\")","v":"No warnings identified"}]
[null,null,null,null,null,null,null,null,null,null,null,null,null,null,null,{"$f":"\"Unadjusted Marginal Safety of elements in \"&I2&\" from Design Standards\"","v":"Unadjusted Marginal Safety of elements in Standard from Design Standards"},null,null,null,null,null,null,null,null,null,null,null,null,null,null,null,null,null,null,null,null,null,null,null,null,null,null,null,null,null,null,null,null,null,null,null,null,null,null,null,null,null,null,null,null,null,null,null,null,null,null,null,null,null,null,null,null,null,null,null,null,null,null,null,null,null,null,null,null,null,null,null,null,null,null,null,null,null,null,null,null,null,null,null,null,null,null,null,null,null,{"$f":"COUNTIF(DB23:DB41,DB20)","v":1}]
[null,null,null,null,null,null,null,null,null,null,null,null,null,null,null,null,null,null,null,null,null,null,null,null,null,null,null,null,null,null,null,null,null,null,null,null,null,null,null,null,null,null,null,null,null,null,null,null,null,null,null,null,null,null,null,null,null,null,null,null,null,null,null,null,null,null,null,null,null,null,null,null,null,null,null,null,null,null,null,null,null,null,null,null,null,null,null,null,null,null,null,null,null,null,null,null,null,null,null,null,null,null,null,null,null,{"$f":"VLOOKUP(0,CZ23:DB41,3,)","v":10.01}]
[null,null,null,"Fill all elements",null,"To enter notes, use boxes to the right of the vortex ",null,null,null,null," "]
[null,{"$f":"+Construction!$I$8&\"  Total Available Points\"","v":"40  Total Available Points"},null,{"$f":"D249 & \" Missing Elements\"","v":"18 Missing Elements"},null,{"$f":"F249 & \" Missing Elements\"","v":"18 Missing Elements"},{"$f":"G249 & \" Missing Elements\"","v":"18 Missing Elements"},null,null,null,null,null,null,null,null,null,null,null,null,null,null,null,null,null,null,null,null,null,null,null,null,null,null,null,null,null,null,null,null,null,null,null,null,null,null,null,null,null,null,null,null,null,null,null,null,null,null,null,null,null,null,null,null,null,null,null,null,null,null,null,null,null,null,null,null,null,null,null,null,null,null,null,null,null,null,null,null,null,null,null,null,null,null,null,null,null,null,null,null,null,null,"Ranked element","CRF","abs","Re-rank","Rank","Ranked CRF","Element","New Element","crf.abs","rank","Sorted Element","Sorted CRF"]
[null,"Geometric Design Elements",null,"Existing","Standard","Design 1","Design 2",{"$f":"\"Marginal Safety for \"&$I$2&\" (compared to \" & $I$4 & \")\"","v":"Marginal Safety for Standard (compared to Existing)"},"Optimal",null,null,null,null,null,null,null,null,null,null,null,null,null,null,null,null,null,null,null,null,null,null,null,null,null,null,null,null,null,null,null,null,null,null,null,null,null,null,null,null,null,null,null,null,null,null,null,null,null,null,null,null,null,null,null,null,null,null,null,null,null,null,null,null,null,null,null,null,null,null,null,null,null,null,null,null,null,null,null,null,null,null,null,null,null,null,null,null,null,null,null,null,{"$f":"IF(CY23=0,\"\",DB23&\". \"&DD23)","v":""},{"$f":"H24","v":0},{"$f":"ABS(CY23)","v":0},{"$f":"RANK(DB23,$DB$23:$DB$41,1)","v":10},{"$f":"_xlfn.RANK.EQ(CZ23,$CZ$23:$CZ$41)+DG23/100","v":10.01},{"$f":"CY23","v":0},{"$f":"IF(ROUND(DF23,2)=0,\"\",C24)","v":""},{"$f":"DD23","v":""},{"$f":"CZ23","v":0},1,{"$f":"IFERROR(IF(IFERROR(VLOOKUP(DG23,$DA$23:$DF$41,4,)&\", \"&CY23=0,\"\"),\"\",IFERROR(VLOOKUP(DG23,$DA$23:$DE$41,4,),\"\")),\"\")","v":"TWLTL (two-way left-turn lane)"},{"$f":"IFERROR(IF(IFERROR(VLOOKUP(DG23,$DA$23:$DF$41,3,)&\", \"&CY23=0,\"\"),\"\",IFERROR(VLOOKUP(DG23,$DA$23:$DE$41,3,),\"\")),\"\")","v":-0.40845070422535223}]
[null,null,"Lane Width (feet)",null,12,null,null,{"$f":"M100","v":0},12,null,null,null,null,null,null,null,null,null,null,null,null,null,null,null,null,null,null,null,null,null,null,null,null,null,null,null,null,null,null,null,null,null,null,null,null,null,null,null,null,null,null,null,null,null,null,null,null,null,null,null,null,null,null,null,null,null,null,null,null,null,null,null,null,null,null,null,null,null,null,null,null,null,null,null,null,null,null,null,null,null,null,null,null,null,null,null,null,null,null,null,null,"5.02. Shoulder Width (feet)",{"$f":"H25","v":0.15503875968992242},0.15503875968992242,{"$f":"RANK(DB24,$DB$23:$DB$41,1)","v":5},{"$f":"_xlfn.RANK.EQ(CZ24,$CZ$23:$CZ$41)+DG24/100","v":5.0199999999999996},{"$f":"CY24","v":0.15503875968992242},{"$f":"IF(ROUND(DF24,2)=0,\"\",C25)","v":"Shoulder Width (feet)"},{"$f":"DD24","v":"Shoulder Width (feet)"},0.15503875968992242,2,"Pavement Friction (skid number) ***",{"$f":"IFERROR(IF(IFERROR(VLOOKUP(DG24,$DA$23:$DF$41,3,)&\", \"&CY24=0,\"\"),\"\",IFERROR(VLOOKUP(DG24,$DA$23:$DE$41,3,),\"\")),\"\")","v":0.28430956017940245}]
[null,null,"Shoulder Width (feet)",null,{"$f":"IF('Start Here'!$J$12=\"4R\",8,4)","v":4},null,null,{"$f":"M101","v":0.15503875968992242},10,null,null,null,null,null,null,null,null,null,null,null,null,null,null,null,null,null,null,null,null,null,null,null,null,null,null,null,null,null,null,null,null,null,null,null,null,null,null,null,null,null,null,null,null,null,null,null,null,null,null,null,null,null,null,null,null,null,null,null,null,null,null,null,null,null,null,null,null,null,null,null,null,null,null,null,null,null,null,null,null,null,null,null,null,null,null,null,null,null,null,null,null,"",{"$f":"H29","v":0},0,11,10.029999999999999,0,{"$f":"IF(ROUND(DF25,2)=0,\"\",\"Hz and Vt Alignment\")","v":""},"",0,3,"Driveway Density (driveways per mile)",-0.22388114201141129]
[null,null,"Cross-slope or Superelevation (%)",null,{"$f":"IF($I$12=6,IFERROR(VLOOKUP(E29,$C$382:$D$402,2,TRUE),6),IFERROR(VLOOKUP(E29,$C$409:$D$439,2,TRUE),8))","v":8},null,null,null,{"$f":"I12","v":0},null,null,null,null,null,null,null,null,null,null,null,null,null,null,null,null,null,null,null,null,null,null,null,null,null,null,null,null,null,null,null,null,null,null,null,null,null,null,null,null,null,null,null,null,null,null,null,null,null,null,null,null,null,null,null,null,null,null,null,null,null,null,null,null,null,null,null,null,null,null,null,null,null,null,null,null,null,null,null,null,null,null,null,null,null,null,null,null,null,null,null,null,"1.04. TWLTL (two-way left-turn lane)",{"$f":"H43","v":-0.40845070422535223},0.40845070422535223,1,1.04,-0.40845070422535223,{"$f":"IF(ROUND(DF26,2)=0,\"\",C43)","v":"TWLTL (two-way left-turn lane)"},"TWLTL (two-way left-turn lane)",0.40845070422535223,4,"Centerline Rumble Strips",-0.16279069767441867]
["",null,"Horizontal Curve Present?","--","--","--","--",null,"--",null,null,null,null,null,null,null,null,null,null,null,null,null,null,null,null,null,null,null,null,null,null,null,null,null,null,null,null,null,null,null,null,null,null,null,null,null,null,null,null,null,null,null,null,null,null,null,null,null,null,null,null,null,null,null,null,null,null,null,null,null,null,null,null,null,null,null,null,null,null,null,null,null,null,null,null,null,null,null,null,null,null,null,null,null,null,null,null,null,null,null,null,"",{"$f":"H44","v":0},0,12,10.050000000000001,0,{"$f":"IF(ROUND(DF27,2)=0,\"\",C44)","v":""},"",0,5,"Shoulder Width (feet)",0.15503875968992242]
[null,null,"Horizontal Curve Data for Controlling Element:","--","--","--","--",null,"--",null,null,null,null,null,null,null,null,null,null,null,null,null,null,null,null,null,null,null,null,null,null,null,null,null,null,null,null,null,null,null,null,null,null,null,null,null,null,null,null,null,null,null,null,null,null,null,null,null,null,null,null,null,null,null,null,null,null,null,null,null,null,null,null,null,null,null,null,null,null,null,null,null,null,null,null,null,null,null,null,null,null,null,null,null,null,null,null,null,null,null,null,"",{"$f":"H52","v":0},0,13,10.06,0,{"$f":"IF(ROUND(DF28,2)=0,\"\",C52)","v":""},"",0,6,"Edgeline Pavement Markings or Profile Markings",0.13824118691351761]
[null,null,"  Radius (feet)",null,{"$f":"IF(MAX($I$10,$I$11)<45,590,IF($I$12=6,VLOOKUP(MAX($I$10,$I$11),Construction!$B$29:$D$36,2,TRUE),VLOOKUP(MAX($I$10,$I$11),Construction!$G$29:$I$36,2,TRUE)))","v":590},null,null,{"$f":"M140","v":0},{"$f":"IF(MAX($I$10,$I$11)<45,590,IF($I$12=6,VLOOKUP(MAX($I$10,$I$11),Construction!$B$45:$C$52,2,TRUE),VLOOKUP(MAX($I$10,$I$11),Construction!$G$45:$H$52,2,TRUE)))","v":590},null,null,null,null,null,null,null,null,null,null,null,null,null,null,null,null,null,null,null,null,null,null,null,null,null,null,null,null,null,null,null,null,null,null,null,null,null,null,null,null,null,null,null,null,null,null,null,null,null,null,null,null,null,null,null,null,null,null,null,null,null,null,null,null,null,null,null,null,null,null,null,null,null,null,null,null,null,null,null,null,null,null,null,null,null,null,null,null,null,null,null,null,"",0,0,14,10.07,0,"","",0,7,"Lateral Clearance to obstruction (ft)",9.0307162971216326E-2]
[null,null,"Length of Horizontal Curve (feet)",null,{"$f":"IF(D31=\"\", \"\", E29*E31/57.296)","v":""},null,null,null,{"$f":"I29*I31/57.296","v":3758.5520804244625},null,null,null,null,null,null,null,null,null,null,null,null,null,null,null,null,null,null,null,null,null,null,null,null,null,null,null,null,null,null,null,null,null,null,null,null,null,null,null,null,null,null,null,null,null,null,null,null,null,null,null,null,null,null,null,null,null,null,null,null,null,null,null,null,null,null,null,null,null,null,null,null,null,null,null,null,null,null,null,null,null,null,null,null,null,null,null,null,null,null,null,null,"",0,0,15,10.08,0,"","",0,8,"SafetyEdge",-2.8188991921691331E-2]
[null,null,"Calculated Deflection Angle ∆",{"$f":"IF(OR(ISBLANK(D29),ISBLANK(D30),$B$27=\"No\",ISBLANK($B$27)),\"\",ROUND(D30/D29*57.296,1))","v":""},{"$f":"IF(ISBLANK(D31), \"\",D31)","v":""},{"$f":"IF(OR(ISBLANK(F29),ISBLANK(F30),$B$27=\"No\",ISBLANK($B$27)),\"\",ROUND(F30/F29*57.296,1))","v":""},{"$f":"IF(OR(ISBLANK(G29),ISBLANK(G30),$B$27=\"No\",ISBLANK($B$27)),\"\",ROUND(G30/G29*57.296,1))","v":""},null,{"$f":"MIN(D31,IF(F33=INDEX(HCurveChange,1,0), F31, 365),IF(G33=INDEX(HCurveChange,1,0), G31, 365))","v":365},null,null,null,null,null,null,null,null,null,null,null,null,null,null,null,null,null,null,null,null,null,null,null,null,null,null,null,null,null,null,null,null,null,null,null,null,null,null,null,null,null,null,null,null,null,null,null,null,null,null,null,null,null,null,null,null,null,null,null,null,null,null,null,null,null,null,null,null,null,null,null,null,null,null,null,null,null,null,null,null,null,null,null,null,null,null,null,null,null,null,null,null,"6.09. Edgeline Pavement Markings or Profile Markings",0.13824118691351761,0.13824118691351761,6,6.09,0.13824118691351761,"Edgeline Pavement Markings or Profile Markings","Edgeline Pavement Markings or Profile Markings",0.13824118691351761,9,"Lighting",-2.3499081529478438E-2]
[null,null,null,null,null,"∆ has changed. \nAre you changing the ∆?","∆ has changed. \nAre you changing the ∆?",null,null,null,null,null,null,null,null,null,null,null,null,null,null,null,null,null,null,null,null,null,null,null,null,null,null,null,null,null,null,null,null,null,null,null,null,null,null,null,null,null,null,null,null,null,null,null,null,null,null,null,null,null,null,null,null,null,null,null,null,null,null,null,null,null,null,null,null,null,null,null,null,null,null,null,null,null,null,null,null,null,null,null,null,null,null,null,null,null,null,null,null,null,null,"",0,0,16,10.1,0,"","",0,10,"",0]
[null,null,null,null,null,null,null,null,null,null,null,null,null,null,null,null,null,null,null,null,null,null,null,null,null,null,null,null,null,null,null,null,null,null,null,null,null,null,null,null,null,null,null,null,null,null,null,null,null,null,null,null,null,null,null,null,null,null,null,null,null,null,null,null,null,null,null,null,null,null,null,null,null,null,null,null,null,null,null,null,null,null,null,null,null,null,null,null,null,null,null,null,null,null,null,null,null,null,null,null,null,"4.11. Centerline Rumble Strips",-0.16279069767441867,0.16279069767441867,4,4.1100000000000003,-0.16279069767441867,"Centerline Rumble Strips","Centerline Rumble Strips",0.16279069767441867,11,"",0]
[null,null,"Vertical Curve Present?","--","--","--","--",null,{"$f":"E34","v":"--"},null,null,null,null,null,null,null,null,null,null,null,null,null,null,null,null,null,null,null,null,null,null,null,null,null,null,null,null,null,null,null,null,null,null,null,null,null,null,null,null,null,null,null,null,null,null,null,null,null,null,null,null,null,null,null,null,null,null,null,null,null,null,null,null,null,null,null,null,null,null,null,null,null,null,null,null,null,null,null,null,null,null,null,null,null,null,null,null,null,null,null,null,"3.12. Driveway Density (driveways per mile)",-0.22388114201141129,0.22388114201141129,3,3.12,-0.22388114201141129,{"$f":"IF(DF34=0,\"\",C58)","v":"Driveway Density (driveways per mile)"},"Driveway Density (driveways per mile)",0.22388114201141129,12,"",0]
[null,null,"Vertical Curve Data for Controlling Element:","--","--","--","--",null,"--",null,null,null,null,null,null,null,null,null,null,null,null,null,null,null,null,null,null,null,null,null,null,null,null,null,null,null,null,null,null,null,null,null,null,null,null,null,null,null,null,null,null,null,null,null,null,null,null,null,null,null,null,null,null,null,null,null,null,null,null,null,null,null,null,null,null,null,null,null,null,null,null,null,null,null,null,null,null,null,null,null,null,null,null,null,null,null,null,null,null,null,null,"9.13. Lighting",-2.3499081529478438E-2,2.3499081529478438E-2,9,9.1300000000000008,-2.3499081529478438E-2,{"$f":"IF(DF35=0,\"\",C59)","v":"Lighting"},"Lighting",2.3499081529478438E-2,13,"",0]
[null,null,"  Approach (Entry) Grade, G1 (%)",null,{"$f":"IF(ISBLANK(D36),\"\", D36)","v":""},null,null,null,{"$f":"IF(B34=\"Yes\",I227,I237)","v":""},null,null,null,null,null,null,null,null,null,null,null,null,null,null,null,null,null,null,null,null,null,null,null,null,null,null,null,null,null,null,null,null,null,null,null,null,null,null,null,null,null,null,null,null,null,null,null,null,null,null,null,null,null,null,null,null,null,null,null,null,null,null,null,null,null,null,null,null,null,null,null,null,null,null,null,null,null,null,null,null,null,null,null,null,null,null,null,null,null,null,null,null,"2.14. Pavement Friction (skid number) ***",0.28430956017940245,0.28430956017940245,2,2.14,0.28430956017940245,{"$f":"IF(DF36=0,\"\",C60)","v":"Pavement Friction (skid number) ***"},"Pavement Friction (skid number) ***",0.28430956017940245,14,"",0]
[null,null,"  Departure (Exit) Grade, G2 (%)",null,{"$f":"IF(ISBLANK(D37),\"\", D37)","v":""},null,null,null,{"$f":"IF($B$34=\"Yes\",I228,\"\")","v":""},null,null,null,null,null,null,null,null,null,null,null,null,null,null,null,null,null,null,null,null,null,null,null,null,null,null,null,null,null,null,null,null,null,null,null,null,null,null,null,null,null,null,null,null,null,null,null,null,null,null,null,null,null,null,null,null,null,null,null,null,null,null,null,null,null,null,null,null,null,null,null,null,null,null,null,null,null,null,null,null,null,null,null,null,null,null,null,null,null,null,null,null,"",{"$f":"H72","v":0},0,17,10.15,0,{"$f":"IF(DF37=0,\"\",C72)","v":""},"",0,15,"",0]
[null,null,"  Length (feet)",null,{"$f":"IF(AND($B$34=\"Yes\", D39<>\"\"), ABS(E36-E37)*D39, \"\")","v":""},null,null,null,{"$f":"IF(AND($B$34=\"Yes\",I36<>\"\",I37<>\"\", NOT(ISBLANK($I$10)), NOT(ISBLANK($I$11))),ABS(I37-I36)*I39,\"\")","v":""},null,null,null,null,null,null,null,null,null,null,null,null,null,null,null,null,null,null,null,null,null,null,null,null,null,null,null,null,null,null,null,null,null,null,null,null,null,null,null,null,null,null,null,null,null,null,null,null,null,null,null,null,null,null,null,null,null,null,null,null,null,null,null,null,null,null,null,null,null,null,null,null,null,null,null,null,null,null,null,null,null,null,null,null,null,null,null,null,null,null,null,null,"",{"$f":"H73","v":0},{"$f":"ABS(CY38)","v":0},18,10.16,0,{"$f":"IF(DF38=0,\"\",C73)","v":""},"",0,16,"",0]
[null,null,"  Calculated Rate of Change, K (ft/ft)",{"$f":"IF(OR($B$34=\"No\",ISBLANK($B$34), ISBLANK(D36), ISBLANK(D37),ISBLANK(D38), D36=D37), \"\", ROUND(D38/(ABS(D37-D36)),1))","v":""},{"$f":"IF(AND($B$34=\"Yes\", NOT(ISBLANK($I$10)), NOT(ISBLANK($I$11)), D39<>\"\"), IF($E$42=\"Crest\",  VLOOKUP(MAX($I$10,$I$11),Construction!$B$159:$D$171,2,TRUE), VLOOKUP(MAX($I$10,$I$11),Construction!$B$159:$D$171,3,TRUE)), \"\")","v":""},{"$f":"IF(AND($B$34=\"Yes\", SUM(F263:F265)=0),ROUND(F38/(ABS(F37-F36)),1),\"\")","v":""},{"$f":"IF(AND($B$34=\"Yes\", SUM(G263:G265)=0),ROUND(G38/(ABS(G37-G36)),1),\"\")","v":""},null,{"$f":"IF(OR($B$34<>\"Yes\", ISBLANK($I$10), ISBLANK($I$11), $I$36=\"\", $I$37=\"\", $I$42=\"--\", ISBLANK($I$42)),\"\",IF($I$42=\"Crest\",VLOOKUP(MAX($I$10,$I$11),Construction!$B$179:$D$191,2,TRUE),VLOOKUP(MAX($I$10,$I$11),Construction!$B$179:$D$191,3,TRUE)))","v":""},null,null,null,null,null,null,null,null,null,null,null,null,null,null,null,null,null,null,null,null,null,null,null,null,null,null,null,null,null,null,null,null,null,null,null,null,null,null,null,null,null,null,null,null,null,null,null,null,null,null,null,null,null,null,null,null,null,null,null,null,null,null,null,null,null,null,null,null,null,null,null,null,null,null,null,null,null,null,null,null,null,null,null,null,null,null,null,null,null,null,null,null,"8.17. SafetyEdge",{"$f":"H74","v":-2.8188991921691331E-2},{"$f":"ABS(CY39)","v":2.8188991921691331E-2},8,8.17,-2.8188991921691331E-2,{"$f":"IF(DF39=0,\"\",C74)","v":"SafetyEdge"},"SafetyEdge",2.8188991921691331E-2,17,"",0]
[null,null,null,null,null,"Are you changing the geometry?","Are you changing the geometry?",null,null,null,null,null,null,null,null,null,null,null,null,null,null,null,null,null,null,null,null,null,null,null,null,null,null,null,null,null,null,null,null,null,null,null,null,null,null,null,null,null,null,null,null,null,null,null,null,null,null,null,null,null,null,null,null,null,null,null,null,null,null,null,null,null,null,null,null,null,null,null,null,null,null,null,null,null,null,null,null,null,null,null,null,null,null,null,null,null,null,null,null,null,null,"7.18. Lateral Clearance to obstruction (ft)",{"$f":"H75","v":9.0307162971216326E-2},{"$f":"ABS(CY40)","v":9.0307162971216326E-2},7,7.18,9.0307162971216326E-2,{"$f":"IF(DF40=0,\"\",C75)","v":"Lateral Clearance to obstruction (ft)"},"Lateral Clearance to obstruction (ft)",9.0307162971216326E-2,18,"",0]
[null,null,null,null,null,null,null,null,null,null,null,null,null,null,null,null,null,null,null,null,null,null,null,null,null,null,null,null,null,null,null,null,null,null,null,null,null,null,null,null,null,null,null,null,null,null,null,null,null,null,null,null,null,null,null,null,null,null,null,null,null,null,null,null,null,null,null,null,null,null,null,null,null,null,null,null,null,null,null,null,null,null,null,null,null,null,null,null,null,null,null,null,null,null,null,null,null,null,null,null,null,"",{"$f":"H76","v":0},{"$f":"ABS(CY41)","v":0},19,10.19,0,{"$f":"IF(DF41=0,\"\",C76)","v":""},"",0,19,"",0]
[null,null,"  Calculated Sag or Crest?",{"$f":"IF(AND($B$34=\"Yes\", SUM(D263:D265)=0),IF(D36>D37,\"Crest\",\"Sag\"),\"--\")","v":"--"},{"$f":"IF(AND($B$34=\"Yes\", SUM(D263:D265)=0),IF(E36>E37,\"Crest\",\"Sag\"),\"--\")","v":"--"},{"$f":"IF(AND($B$34=\"Yes\", SUM(F263:F265)=0),IF(F36>F37,\"Crest\",\"Sag\"),\"--\")","v":"--"},{"$f":"IF(AND($B$34=\"Yes\", SUM(G263:G265)=0),IF(G36>G37,\"Crest\",\"Sag\"),\"--\")","v":"--"},null,{"$f":"IF($B$34=\"Yes\",IF(I36>I37,\"Crest\",\"Sag\"),\"--\")","v":"--"}]
[null,null,"TWLTL (two-way left-turn lane)",null,"No",null,null,{"$f":"M108","v":-0.40845070422535223},{"$f":"IF(OR($D$43=\"Yes\", $F$43=\"Yes\",$G$43=\"Yes\"), \"Yes\", \"No\")","v":"No"}]
[null,null,"Passing Lane Type",null,"No Passing Lane",null,null,{"$f":"M109","v":0},"Super 2"]
[null,null,"Geometric Design Element (Partial Score)",{"$f":"IF(OR(SUM(D251:D253,D256:D257,D263:D265,D270:D271)>0, ISERR(D125)),\"\",D125)","v":""},{"$f":"IF(OR(SUM(E251:E253,E256:E257,E263:E265,E270:E271)>0, ISERR(E125)),\"\",E125)","v":""},"","",null,{"$f":"IF(OR(SUM(I251:I253,I256:I257,I263:I265,I270:I271)>0, ISERR(I125)),\"\",I125)","v":""}]
[null,null,"Total Safety Score",{"$f":"IF(OR(D$249>0, $I$315>0,ISERROR(D$201+D$171+D$125)),\"\",D$201+D$171+D$125)","v":""},{"$f":"IF(OR(E$249>0, $I$315>0,ISERROR(E$201+E$171+E$125)),\"\",E$201+E$171+E$125)","v":""},"","",null,"",null,null,null,"SCHEMATIC REPRESENTING INPUT DATA FOR ",null,null,null,null,null,null,null,{"$f":"IF($I$2=\"Existing\",\"EXISTING CONFIGURATION\",IF($I$2=\"Standard\",\"STANDARD OPTION\",IF($I$2=\"Design 1\",\"DESIGN 1 OPTION\",IF($I$2=\"Design 2\",\"DESIGN 2 OPTION\",\"OPTIMAL OPTION\"))))","v":"STANDARD OPTION"}]
[]
[null,null,null,null,null,null,null,null,null,null,null,"LT",null,null,null,null,null,null,null,null,null,null,null,null,null,null,"RT"]
[null,null,null,null,null,null,null,null,null,null,null,"R/W",null,null,null,null,null,null,null,null,null,null,null,null,null,null,"R/W"]
[null,{"$f":"+Construction!$I$9&\"  Total Available Points\"","v":"20  Total Available Points"}]
[null,"Traffic Elements",null,"Existing","Standard","Design 1","Design 2",{"$f":"$H$23","v":"Marginal Safety for Standard (compared to Existing)"},"Optimal",null,null,null,null,null,{"$f":"+$I$14","v":0},null,null,null,null,null,null,null,{"$f":"+$I$15","v":0}]
[null,null,"Advance Static Curve Warning Signs",null,"No",null,null,{"$f":"M145","v":0},"Yes"]
[null,null,"Chevron Signs on Horizontal Curves",null,"No",null,null,{"$f":"M146","v":0},"Yes",null,null,{"$f":"+O51-N53-Q53","v":-16},null,{"$f":"IF(+$I$2=\"Existing\",D25,IF($I$2=\"Standard\",E25,IF($I$2=\"Design 1\",F25,IF($I$2=\"Design 2\",G25,I25))))","v":4},null,null,{"$f":"IF(+$I$2=\"Existing\",D24,IF($I$2=\"Standard\",E24,IF($I$2=\"Design 1\",F24,IF($I$2=\"Design 2\",G24,I24))))","v":12},null,null,null,null,{"$f":"+Q53","v":12},null,null,{"$f":"+N53","v":4},{"$f":"+W51-V53-Y53","v":-16}]
[null,null,"Post-Mounted Delineators",null,"No",null,null,0,"Yes"]
[null,null,"Edgeline Pavement Markings or Profile Markings",null,"Yes",null,null,0.13824118691351761,"Yes"]
[null,null,"Shoulder Rumble Strips",null,"Yes",null,null,{"$f":"M150","v":0},"Yes"]
[null,null,"Centerline Rumble Strips",null,"No",null,null,{"$f":"M151","v":-0.16279069767441867},"Yes"]
[null,null,"Driveway Density (driveways per mile)",null,10,null,null,{"$f":"M152","v":-0.22388114201141129},0]
[null,null,"Lighting",null,"No",null,null,{"$f":"M153","v":-2.3499081529478438E-2},"Yes",null,null,null,null,null,null,null,null,null,"Tangent X-Section"]
[null,null,"Pavement Friction (skid number) ***",null,37,null,null,{"$f":"M154","v":0.28430956017940245},54]
[]
[null,null,"Traffic Control Element (Partial Score):",{"$f":"IF(ISERROR(D171), \"\", D171)","v":12},{"$f":"IF(ISERROR(E171), \"\", E171)","v":14},{"$f":"IF(ISERROR(F171), \"\", F171)","v":""},{"$f":"IF(ISERROR(G171), \"\", G171)","v":""},null,{"$f":"IF(ISERROR(I171), \"\", I171)","v":20}]
[null,null,"Total Safety Score",{"$f":"IF(OR(D$249>0, $I$315>0,ISERROR(D$201+D$171+D$125)),\"\",D$201+D$171+D$125)","v":""},{"$f":"IF(OR(E$249>0, $I$315>0,ISERROR(E$201+E$171+E$125)),\"\",E$201+E$171+E$125)","v":""},"","",null,""]
[]
[null,null,"*** Pavement friction/skid numbers will not be subject to open records requests ***",null,null,null,null,null,null,null," "]
[]
[]
[]
[null,null,null,null,null,null,null,null,null,null,null,null,null,null,null,null,null,null,"Curved X-Section"]
[null,{"$f":"+Construction!$I$10&\"  Total Available Points\"","v":"40  Total Available Points"}]
[null,"Roadside  Elements",null,"Existing","Standard","Design 1","Design 2",{"$f":"$H$23","v":"Marginal Safety for Standard (compared to Existing)"},"Optimal"]
[null,null,"Sideslope (Foreslope)",null,"1V:4H",null,null,{"$f":"M180","v":0},"1V:6H"]
[null,null,"Backslope",null,{"$f":"E72","v":"1V:4H"},null,null,{"$f":"M181","v":0},"1V:4H"]
[null,null,"SafetyEdge",null,"No",null,null,{"$f":"M182","v":-2.8188991921691331E-2},"Yes"]
[null,null,"Lateral Clearance to obstruction (ft)",null,30,null,null,{"$f":"M183","v":9.0307162971216326E-2},40,null,null,null,null,null,null,null,{"$f":"IF($I$2=\"Existing\",\"SCORE SUMMARY FOR EXISTING CONFIGURATION\", IF($I$2=\"Standard\",\"SCORE SUMMARY FOR STANDARD OPTION\",IF($I$2=\"Design 1\",\"SCORE SUMMARY FOR DESIGN 1 OPTION\",IF($I$2=\"Design 2\",\"SCORE SUMMARY FOR DESIGN 2 OPTION\", \"SCORE SUMMARY FOR OPTIMAL OPTION\"))))","v":"SCORE SUMMARY FOR STANDARD OPTION"}]
[null,null,"Obstruction Type",null,"Other Fixed Object",null,null,{"$f":"M184","v":0},"None",null,null,null,null,null,null,null,"GEOMETRIC DESIGN:",null,null,null,null,null,{"$f":"IF($I$2=\"Existing\",D45,IF($I$2=\"Standard\",E45,IF($I$2=\"Design 1\",F45,IF($I$2=\"Design 2\",G45,I45))))","v":""}]
[null,null,"Roadside Element (Partial Score):",{"$f":"IF(ISERR(D201),\"\",D201)","v":""},{"$f":"IF(ISERR(E201),\"\",E201)","v":27},{"$f":"IF(ISERR(F201),\"\",F201)","v":""},{"$f":"IF(ISERR(G201),\"\",G201)","v":""},null,{"$f":"IF(ISERR(I201),\"\",I201)","v":40},null,null,null,null,null,null,null,"TRAFFIC CONTROL:",null,null,null,null,null,{"$f":"IF($I$2=\"Existing\",D62,IF($I$2=\"Standard\",E62,IF($I$2=\"Design 1\",F62,IF($I$2=\"Design 2\",G62,I62))))","v":14}]
[null,null,"Total Safety Score",{"$f":"IF(OR(D$249>0, $I$315>0,ISERROR(D$201+D$171+D$125)),\"\",D$201+D$171+D$125)","v":""},{"$f":"IF(OR(E$249>0, $I$315>0,ISERROR(E$201+E$171+E$125)),\"\",E$201+E$171+E$125)","v":""},"","",null,"",null,null,null,null,null,null,null,"ROADSIDE:",null,null,null,null,null,{"$f":"IF($I$2=\"Existing\",D77,IF($I$2=\"Standard\",E77,IF($I$2=\"Design 1\",F77,IF($I$2=\"Design 2\",G77,I77))))","v":27}]
[null,null,null,null,null,null,null,null,null,null,null,null,null,null,null,null,"OVERALL SAFETY SCORE:",null,null,null,null,null,{"$f":"SUM(W76:X78)","v":41}]
[]
[]
[]
[null,"ADDITIONAL SIDESLOPE INFORMATION"]
[null,null,"Distance to Slope Toe from Shoulder (ft)",null,{"$f":"D84","v":0},{"$f":"E84","v":0},{"$f":"F84","v":0},null,{"$f":"G84","v":0}]
[null,"Minimum foreslope feasible within current ROW",null,null,{"$f":"IF(OR(ISBLANK($D$84), ISERROR(E206)), \"\", \"1V:\"&E206&\"H\")","v":""},{"$f":"IF(OR(ISBLANK($D$84), ISERROR(F206)), \"\", \"1V:\"&F206&\"H\")","v":""},{"$f":"IF(OR(ISBLANK($D$84), ISERROR(G206)), \"\", \"1V:\"&G206&\"H\")","v":""},null,{"$f":"IF(OR(ISBLANK($D$84), ISERROR(I206)), \"\", \"1V:\"&I206&\"H\")","v":""}]
[null,"Additional R/W needed on left side",null,null,{"$f":"IF(OR(ISBLANK($D$84), ISERROR(E210)),\"\", MAX(E210,E213))","v":""},{"$f":"IF(OR(ISBLANK($D$84), ISERROR(F210)), \"\", MAX(F210,F213))","v":""},{"$f":"IF(OR(ISBLANK($D$84), ISERROR(G210)),\"\", MAX(G210,G213))","v":""},null,{"$f":"IF(OR(ISBLANK($D$84), ISERROR(I210)),\"\", MAX(I210,I213))","v":""}]
[null,"Additional R/W needed on right side",null,null,{"$f":"IF(OR(ISBLANK($D$84), ISERROR(E211)), \"\", MAX(E211,E214))","v":""},{"$f":"IF(OR(ISBLANK($D$84), ISERROR(F211)), \"\", MAX(F211,F214))","v":""},{"$f":"IF(OR(ISBLANK($D$84), ISERROR(G211)),\"\", MAX(G211,G214))","v":""},null,{"$f":"IF(OR(ISBLANK($D$84), ISERROR(I211)),\"\", MAX(I211,I214))","v":""}]
[]
[]
[]
[]
[]
[]
[]
[null,null,null,null,null,null,null,null,null,{"$f":"1-I100/E100","v":0}]
[null,null,null,null,null,null,null,null,null,{"$f":"1-I101/E101","v":0.17431192660550465},"For Plot"]
[null,null,null,{"$f":"MAX(SUM(D103:D107)-5,$I$97)","v":{"$error":"#VALUE!"}},{"$f":"MAX(SUM(E103:E107)-5,$I$97)","v":{"$error":"#VALUE!"}},{"$f":"MAX(SUM(F103:F107)-5,$I$97)","v":{"$error":"#VALUE!"}},{"$f":"MAX(SUM(G103:G107)-5,$I$97)","v":{"$error":"#VALUE!"}},null,{"$f":"SUM(I103:I107)-5","v":{"$error":"#VALUE!"}},{"$f":"1-I102/E102","v":0},"relative to","Prefer"]
[null,null,null,null,null,null,null,null,null,{"$f":"1-I103/E103","v":{"$error":"#VALUE!"}},{"$f":"MATCH(K99,ModView,0)","v":1},{"$f":"MATCH(L99,ModView,0)","v":2}]
[null,"Geometric",null,null,null,null,null,null,null,null,{"$f":"I4","v":"Existing"},{"$f":"I2","v":"Standard"},"%"]
[null,null,"LW CMF",{"$f":"VLOOKUP(+D24,Construction!$C$3:$D$9,2)","v":{"$error":"#N/A"}},{"$f":"VLOOKUP(+E24,Construction!$C$3:$D$9,2)","v":1},{"$f":"VLOOKUP(+F24,Construction!$C$3:$D$9,2)","v":{"$error":"#N/A"}},{"$f":"VLOOKUP(+G24,Construction!$C$3:$D$9,2)","v":{"$error":"#N/A"}},{"$f":"H24","v":0},{"$f":"VLOOKUP(+I24,Construction!$C$3:$D$9,2)","v":1},null,{"$f":"INDEX($D100:$I100,K$98)","v":{"$error":"#N/A"}},{"$f":"INDEX($D100:$I100,L$98)","v":1},{"$f":"IF(ISERROR(1-L100/K100), 0, 1-L100/K100)","v":0}]
[null,null,"SW CMF",{"$f":"VLOOKUP(D25,Construction!$C$13:D23,2)","v":1.29},{"$f":"VLOOKUP(E25,Construction!$C$13:E23,2)","v":1.0900000000000001},{"$f":"VLOOKUP(F25,Construction!$C$13:F23,2)","v":1.29},{"$f":"VLOOKUP(G25,Construction!$C$13:G23,2)","v":1.29},{"$f":"IF($I$2=\"Existing\",(1-D101/E101),(IF($I$2=\"Design 1\",(1-F101/E101),(IF($I$2=\"Design 2\",(1-G101/E101),(IF($I$2=\"Optimal\",(1-I101/E101),0)))))))","v":0},{"$f":"VLOOKUP(I25,Construction!$C$13:I23,2)","v":0.9},null,{"$f":"INDEX($D101:$I101,K$98)","v":1.29},{"$f":"INDEX($D101:$I101,L$98)","v":1.0900000000000001},{"$f":"IF(ISERROR(1-L101/K101), 0, 1-L101/K101)","v":0.15503875968992242}]
[null,null,"Placeholder for super deficincy",1,1,1,1,0,1,null,{"$f":"INDEX($D102:$I102,K$98)","v":1},{"$f":"INDEX($D102:$I102,L$98)","v":1},0]
[null,null,"HC and Grade",{"$f":"D$134^D$127","v":1},{"$f":"E$134^E$127","v":{"$error":"#VALUE!"}},{"$f":"F$134^F$127","v":1},{"$f":"G$134^G$127","v":1},0,{"$f":"I$134^I$127","v":{"$error":"#VALUE!"}},null,{"$f":"INDEX($D103:$I103,K$98)","v":1},{"$f":"INDEX($D103:$I103,L$98)","v":{"$error":"#VALUE!"}},0]
[null,null,"HC and VC Crest type I",{"$f":"D$135^D$128","v":1},{"$f":"E$135^E$128","v":1},{"$f":"F$135^F$128","v":1},{"$f":"G$135^G$128","v":1},0,{"$f":"I$135^I$128","v":{"$error":"#VALUE!"}},null,{"$f":"INDEX($D104:$I104,K$98)","v":1},{"$f":"INDEX($D104:$I104,L$98)","v":1},0]
[null,null,"HC and VC Sag type I",{"$f":"D$136^D$129","v":1},{"$f":"E$136^E$129","v":1},{"$f":"F$136^F$129","v":1},{"$f":"G$136^G$129","v":1},0,{"$f":"I$136^I$129","v":{"$error":"#VALUE!"}},null,{"$f":"INDEX($D105:$I105,K$98)","v":1},{"$f":"INDEX($D105:$I105,L$98)","v":1},0]
[null,null,"HC and VC Crest type II",{"$f":"D$137^D$130","v":1},{"$f":"E$137^E$130","v":1},{"$f":"F$137^F$130","v":1},{"$f":"G$137^G$130","v":1},0,{"$f":"I$137^I$130","v":{"$error":"#VALUE!"}},{"$f":"1-I111/E111","v":{"$error":"#VALUE!"}},{"$f":"INDEX($D106:$I106,K$98)","v":1},{"$f":"INDEX($D106:$I106,L$98)","v":1},0]
[null,null,"HC and VC Sag type II",{"$f":"D$138^D$131","v":1},{"$f":"E$138^E$131","v":1},{"$f":"F$138^F$131","v":1},{"$f":"G$138^G$131","v":1},0,{"$f":"I$138^I$131","v":{"$error":"#VALUE!"}},{"$f":"1-I112/E112","v":{"$error":"#VALUE!"}},{"$f":"INDEX($D107:$I107,K$98)","v":1},{"$f":"INDEX($D107:$I107,L$98)","v":1},0]
[null,null,"Add TWLTL",{"$f":"IF(D$43=\"No\",1,CMFs!$F$17)","v":0.71},{"$f":"IF(E$43=\"No\",1,CMFs!$F$17)","v":1},{"$f":"IF(F$43=\"No\",1,CMFs!$F$17)","v":0.71},{"$f":"IF(G$43=\"No\",1,CMFs!$F$17)","v":0.71},0,{"$f":"IF(I$43=\"No\",1,CMFs!$F$17)","v":1},{"$f":"1-I113/E113","v":{"$error":"#VALUE!"}},{"$f":"INDEX($D108:$I108,K$98)","v":0.71},{"$f":"INDEX($D108:$I108,L$98)","v":1},-0.40845070422535223]
[null,null,"Passing Lane Type",{"$f":"IF(ISNUMBER(INDEX(PassLNCMF, MATCH(D44,Passing_Lane_Type,0))),INDEX(PassLNCMF, MATCH(D44,Passing_Lane_Type,0)),1)","v":1},{"$f":"IF(ISNUMBER(INDEX(PassLNCMF, MATCH(E44,Passing_Lane_Type,0))),INDEX(PassLNCMF, MATCH(E44,Passing_Lane_Type,0)),1)","v":1},{"$f":"IF(ISNUMBER(INDEX(PassLNCMF, MATCH(F44,Passing_Lane_Type,0))),INDEX(PassLNCMF, MATCH(F44,Passing_Lane_Type,0)),1)","v":1},{"$f":"IF(ISNUMBER(INDEX(PassLNCMF, MATCH(G44,Passing_Lane_Type,0))),INDEX(PassLNCMF, MATCH(G44,Passing_Lane_Type,0)),1)","v":1},0,{"$f":"IF(ISNUMBER(INDEX(PassLNCMF, MATCH(I44,Passing_Lane_Type,0))),INDEX(PassLNCMF, MATCH(I44,Passing_Lane_Type,0)),1)","v":0.65},{"$f":"1-I114/E114","v":{"$error":"#VALUE!"}},{"$f":"INDEX($D109:$I109,K$98)","v":1},{"$f":"INDEX($D109:$I109,L$98)","v":1},0]
[null,null,null,null,null,null,null,null,null,{"$f":"I115/E115","v":{"$error":"#VALUE!"}}]
[null,null,"COMBINED Calculated CMF",{"$f":"+D100*D101*D102*D103*D104*D105*D106*D107*D108*D109","v":{"$error":"#N/A"}},{"$f":"+E100*E101*E102*E103*E104*E105*E106*E107*E108*E109","v":{"$error":"#VALUE!"}},{"$f":"+F100*F101*F102*F103*F104*F105*F106*F107*F108*F109","v":{"$error":"#N/A"}},{"$f":"+G100*G101*G102*G103*G104*G105*G106*G107*G108*G109","v":{"$error":"#N/A"}},{"$f":"IF($I$2=\"Existing\",(D111),(IF($I$2=\"Design 1\",(F111),(IF($I$2=\"Design 2\",(G111),(IF($I$2=\"Optimal\",(I111),E111)))))))","v":{"$error":"#VALUE!"}},{"$f":"+I100*I101*I102*I103*I104*I105*I106*I107*I108*I109","v":{"$error":"#VALUE!"}},null,{"$f":"INDEX($D111:$I111,K$98)","v":{"$error":"#N/A"}},{"$f":"INDEX($D111:$I111,L$98)","v":{"$error":"#VALUE!"}},{"$f":"IF(ISERROR(1-L111/K111), 0, 1-L111/K111)","v":0}]
[null,null,"Calculated Relative to Design Standards (Column E)",{"$f":"+D111/$E$111","v":{"$error":"#N/A"}},{"$error":"#VALUE!"},{"$error":"#N/A"},{"$error":"#N/A"},{"$error":"#VALUE!"},{"$error":"#VALUE!"},null,{"$f":"INDEX($D112:$I112,K$98)","v":{"$error":"#N/A"}},{"$f":"INDEX($D112:$I112,L$98)","v":{"$error":"#VALUE!"}},0]
[null,null,"P(Crash)",{"$f":"+D112/(D112+1)","v":{"$error":"#N/A"}},{"$error":"#VALUE!"},{"$error":"#N/A"},{"$error":"#N/A"},{"$error":"#VALUE!"},{"$error":"#VALUE!"},null,{"$f":"INDEX($D113:$I113,K$98)","v":{"$error":"#N/A"}},{"$f":"INDEX($D113:$I113,L$98)","v":{"$error":"#VALUE!"}},0]
[null,null,"Factor Change on S curve",{"$f":"+D113/$E$113","v":{"$error":"#N/A"}},{"$error":"#VALUE!"},{"$error":"#N/A"},{"$error":"#N/A"},{"$error":"#VALUE!"},{"$error":"#VALUE!"},null,{"$f":"INDEX($D114:$I114,K$98)","v":{"$error":"#N/A"}},{"$f":"INDEX($D114:$I114,L$98)","v":{"$error":"#VALUE!"}},0]
[null,null,"Adjust to Scale of 100",{"$f":"+$I$114/D114*100","v":{"$error":"#VALUE!"}},{"$error":"#VALUE!"},{"$error":"#VALUE!"},{"$error":"#VALUE!"},{"$error":"#VALUE!"},{"$error":"#VALUE!"}]
[null,null,"Unadjusted Combined Relative to Standard",{"$f":"+D111/$E$111","v":{"$error":"#N/A"}},{"$error":"#VALUE!"},{"$error":"#N/A"},{"$error":"#N/A"},{"$error":"#VALUE!"},{"$error":"#VALUE!"},null,{"$f":"INDEX($D116:$I116,K$98)","v":{"$error":"#N/A"}},{"$f":"INDEX($D116:$I116,L$98)","v":{"$error":"#VALUE!"}},{"$f":"IF(ISERROR(1-L116/K116), 0, 1-L116/K116)","v":0}]
[null,null,null,null,null,null,null,null,null,{"$f":"I122/E122","v":{"$error":"#VALUE!"}}]
[null,null,"Adjusted for PA Basis",{"$f":"+D111*(1+1)/(1+D111*1)","v":{"$error":"#N/A"}},{"$error":"#VALUE!"},{"$error":"#N/A"},{"$error":"#N/A"},{"$f":"IF($I$2=\"Existing\",(D118),(IF($I$2=\"Design 1\",(F118),(IF($I$2=\"Design 2\",(G118),(IF($I$2=\"Optimal\",(I118),E118)))))))","v":{"$error":"#VALUE!"}},{"$error":"#VALUE!"},null,{"$f":"INDEX($D118:$I118,K$98)","v":{"$error":"#N/A"}},{"$f":"INDEX($D118:$I118,L$98)","v":{"$error":"#VALUE!"}},{"$f":"IF(ISERROR(1-L118/K118), 0, 1-L118/K118)","v":0}]
[null,null,"Corrected by Odds Ratio",{"$f":"+D118/$E$118","v":{"$error":"#N/A"}},{"$error":"#VALUE!"},{"$error":"#N/A"},{"$error":"#N/A"},{"$f":"IF($I$2=\"Existing\",(D119),(IF($I$2=\"Design 1\",(F119),(IF($I$2=\"Design 2\",(G119),(IF($I$2=\"Optimal\",(I119),E119)))))))","v":{"$error":"#VALUE!"}},{"$error":"#VALUE!"},null,{"$f":"INDEX($D119:$I119,K$98)","v":{"$error":"#N/A"}},{"$f":"INDEX($D119:$I119,L$98)","v":{"$error":"#VALUE!"}},0]
[null,null,"Pinned s",{"$f":"(1/D119)^$D123","v":{"$error":"#N/A"}},{"$error":"#VALUE!"},{"$error":"#N/A"},{"$error":"#N/A"},{"$error":"#VALUE!"},{"$error":"#VALUE!"},{"$f":"I125/E125","v":{"$error":"#VALUE!"}},{"$f":"INDEX($D120:$I120,K$98)","v":{"$error":"#N/A"}},{"$f":"INDEX($D120:$I120,L$98)","v":{"$error":"#VALUE!"}},0]
[null,null,null,{"$f":"(D120+$F124-1)/(1+(D120+$F124-1))","v":{"$error":"#N/A"}},{"$error":"#VALUE!"},{"$error":"#N/A"},{"$error":"#N/A"},{"$error":"#VALUE!"},{"$error":"#VALUE!"},null,{"$f":"INDEX($D121:$I121,K$98)","v":{"$error":"#N/A"}},{"$f":"INDEX($D121:$I121,L$98)","v":{"$error":"#VALUE!"}},0]
[null,null,"Score Odds Ratio with Optimal (old)",{"$f":"MIN(ROUND($I$119/D119*Construction!$I$8,0),$I122)","v":{"$error":"#VALUE!"}},{"$f":"MIN(ROUND($I$119/E119*Construction!$I$8,0),$I122)","v":{"$error":"#VALUE!"}},{"$f":"MIN(ROUND($I$119/F119*Construction!$I$8,0),$I122)","v":{"$error":"#VALUE!"}},{"$f":"MIN(ROUND($I$119/G119*Construction!$I$8,0),$I122)","v":{"$error":"#VALUE!"}},{"$f":"IF($I$2=\"Existing\",(D122),(IF($I$2=\"Design 1\",(F122),(IF($I$2=\"Design 2\",(G122),(IF($I$2=\"Optimal\",(I122),E122)))))))","v":{"$error":"#VALUE!"}},{"$f":"ROUND($I$119/I119*Construction!$I$8,0)","v":{"$error":"#VALUE!"}}]
[null,null,"Logistic1",{"$f":"LN((D124/(1-D124))/(0.5/0.5))/LN($E119/I119)","v":{"$error":"#VALUE!"}}]
[null,null,"Logistic Param",0.999,null,{"$f":"0.7/0.3","v":2.3333333333333335}]
[null,null,"Score ",{"$f":"MIN(ROUND(D121*Construction!$I$8,0),$I122)","v":{"$error":"#N/A"}},{"$f":"MIN(ROUND(E121*Construction!$I$8,0),$I122)","v":{"$error":"#VALUE!"}},{"$f":"MIN(ROUND(F121*Construction!$I$8,0),$I122)","v":{"$error":"#N/A"}},{"$f":"MIN(ROUND(G121*Construction!$I$8,0),$I122)","v":{"$error":"#N/A"}},{"$f":"MIN(ROUND(H121*Construction!$I$8,0),$I122)","v":{"$error":"#VALUE!"}},{"$f":"MIN(ROUND(I121*Construction!$I$8,0),$I122)","v":{"$error":"#VALUE!"}}]
[]
[null,null,"HC and Grade",{"$f":"IF($B$135,0,1)","v":1},{"$f":"IF($B$135,0,1)","v":1},{"$f":"IF($B$135,0,1)","v":1},{"$f":"IF($B$135,0,1)","v":1},{"$f":"IF($I$2=\"Existing\",(D127),(IF($I$2=\"Design 1\",(F127),(IF($I$2=\"Design 2\",(G127),(IF($I$2=\"Optimal\",(I127),E127)))))))","v":1},{"$f":"IF($B$135,0,1)","v":1}]
[null,null,"HC and VC Crest type I",{"$f":"IF(AND($B$135=1,SIGN(D$36)=1,ABS(D$36)<=ABS(D$36-D$37),D$42=\"Crest\"),1,0)","v":0},{"$f":"IF(AND($B$135=1, SIGN(IF(ISNUMBER(E$36),E$36,0))=1,ABS(IF(ISNUMBER(E$36),E$36,0)) <= ABS(IF(ISNUMBER(E$36),E$36,0)-IF(ISNUMBER(E$37),E$37,0)),E$42=\"Crest\"),1,0)","v":0},{"$f":"IF(AND($B$135=1,SIGN(F$36)=1,ABS(F$36)<=ABS(F$36-F$37),F$42=\"Crest\"),1,0)","v":0},{"$f":"IF(AND($B$135=1,SIGN(G$36)=1,ABS(G$36)<=ABS(G$36-G$37),G$42=\"Crest\"),1,0)","v":0},{"$f":"IF($I$2=\"Existing\",(D128),(IF($I$2=\"Design 1\",(F128),(IF($I$2=\"Design 2\",(G128),(IF($I$2=\"Optimal\",(I128),E128)))))))","v":0},{"$f":"IF(AND($B$135=1,SIGN(I$36)=1,ABS(I$36)<=ABS(I$36-IF(ISNUMBER(I$37), I$37,0)),I$42=\"Crest\"),1,0)","v":{"$error":"#VALUE!"}}]
["HC?",null,"HC and VC Sag type I",{"$f":"IF(AND($B$135=1,SIGN(D$36)=1,ABS(D$36)<=ABS(D$36-D$37),D$42=\"Sag\"),1,0)","v":0},{"$f":"IF(AND($B$135=1, SIGN(IF(ISNUMBER(E$36),E$36,0))=1,ABS(IF(ISNUMBER(E$36),E$36,0)) <= ABS(IF(ISNUMBER(E$36),E$36,0)-IF(ISNUMBER(E$37),E$37,0)),E$42=\"Sag\"),1,0)","v":0},{"$f":"IF(AND($B$135=1,SIGN(F$36)=1,ABS(F$36)<=ABS(F$36-F$37),F$42=\"Sag\"),1,0)","v":0},{"$f":"IF(AND($B$135=1,SIGN(G$36)=1,ABS(G$36)<=ABS(G$36-G$37),G$42=\"Sag\"),1,0)","v":0},{"$f":"IF($I$2=\"Existing\",(D129),(IF($I$2=\"Design 1\",(F129),(IF($I$2=\"Design 2\",(G129),(IF($I$2=\"Optimal\",(I129),E129)))))))","v":0},{"$f":"IF(AND($B$135=1,SIGN(I$36)=1,ABS(I$36)<=ABS(I$36-IF(ISNUMBER(I$37), I$37,0)),I$42=\"Sag\"),1,0)","v":{"$error":"#VALUE!"}}]
["VC?",null,"HC and VC Crest type II",{"$f":"IF(AND($B$135=1,D$42=\"Crest\",D$128=0),1,0)","v":0},{"$f":"IF(AND($B$135=1,E$42=\"Crest\",E$128=0),1,0)","v":0},{"$f":"IF(AND($B$135=1,F$42=\"Crest\",F$128=0),1,0)","v":0},{"$f":"IF(AND($B$135=1,G$42=\"Crest\",G$128=0),1,0)","v":0},{"$f":"IF($I$2=\"Existing\",(D130),(IF($I$2=\"Design 1\",(F130),(IF($I$2=\"Design 2\",(G130),(IF($I$2=\"Optimal\",(I130),E130)))))))","v":0},{"$f":"IF(AND($B$135=1,I$42=\"Crest\",I$128=0),1,0)","v":{"$error":"#VALUE!"}}]
[null,null,"HC and VC Sag type II",{"$f":"IF(AND($B$135=1,D$42=\"Sag\",D$129=0),1,0)","v":0},{"$f":"IF(AND($B$135=1,E$42=\"Sag\",E$129=0),1,0)","v":0},{"$f":"IF(AND($B$135=1,F$42=\"Sag\",F$129=0),1,0)","v":0},{"$f":"IF(AND($B$135=1,G$42=\"Sag\",G$129=0),1,0)","v":0},{"$f":"IF($I$2=\"Existing\",(D131),(IF($I$2=\"Design 1\",(F131),(IF($I$2=\"Design 2\",(G131),(IF($I$2=\"Optimal\",(I131),E131)))))))","v":0},{"$f":"IF(AND($B$135=1,I$42=\"Sag\",I$129=0),1,0)","v":{"$error":"#VALUE!"}}]
[null,"Yes/No"]
[null,null,"HC and VC:",null,{"$f":"EXP(0.042*ABS(D$36)+$B$134*0.16*LN(2*5730/IF(ISNUMBER(E$29),E$29,1)))","v":1}]
[null,{"$f":"IF(B27=\"Yes\",1,0)","v":0},"HC and Grade",{"$f":"IF($B$135=0,EXP(0.042*ABS(D$36)+$B$134*0.16*LN(2*5730/D$141)+4.16*$B$134/D$141/IF(ISNUMBER(D$30),D$30,999999)),1)","v":1},{"$f":"IF($B$135=0,EXP(0.042*ABS(E$36)+$B$134*0.16*LN(2*5730/E$141)+4.16*$B$134/E$141/IF(ISNUMBER(E$30),E$30,999999)),1)","v":{"$error":"#VALUE!"}},1,1,{"$f":"IF($B$135=0,EXP(0.042*ABS(H$36)+$B$134*0.16*LN(2*5730/IF(ISNUMBER(H$29),H$29,1))+4.16*$B$134/IF(ISNUMBER(H$29),H$29,1)/IF(ISNUMBER(H$30),H$30,1)),1)","v":{"$error":"#DIV/0!"}},{"$error":"#VALUE!"},null,{"$f":"INDEX($D134:$I134,K$98)","v":1},{"$f":"INDEX($D134:$I134,L$98)","v":{"$error":"#VALUE!"}},{"$f":"IF(ISERROR(1-L134/K134), 0, 1-L134/K134)","v":0}]
[null,{"$f":"IF(B34=\"Yes\",1,0)","v":0},"HC and VC Crest type I",{"$f":"IF($B$135=0,1,EXP(0.005648908*5730*ABS(+D$36-D$37)*$B$135/D$141*$B$134))","v":1},{"$f":"IF($B$135=0,1,EXP(0.005648908*5730*ABS(+E$36-E$37)*$B$135/E$141*$B$134))","v":1},1,1,{"$f":"IF($I$2=\"Existing\",(D135),(IF($I$2=\"Design 1\",(F135),(IF($I$2=\"Design 2\",(G135),(IF($I$2=\"Optimal\",(I135),E135)))))))","v":1},1,null,{"$f":"INDEX($D135:$I135,K$98)","v":1},{"$f":"INDEX($D135:$I135,L$98)","v":1},0]
[null,null,"HC and VC Sag type I",{"$f":"IF($B$135=0,1,EXP(9.15857042*$B$135/D$142+0.010284958*5730*$B$135*$B$134*ABS(+D$36-D$37)/D$141))","v":1},{"$f":"IF($B$135=0,1,EXP(9.15857042*$B$135/E$142+0.010284958*5730*$B$135*$B$134*ABS(+E$36-E$37)/E$141))","v":1},1,1,{"$f":"IF($I$2=\"Existing\",(D136),(IF($I$2=\"Design 1\",(F136),(IF($I$2=\"Design 2\",(G136),(IF($I$2=\"Optimal\",(I136),E136)))))))","v":1},1,null,{"$f":"INDEX($D136:$I136,K$98)","v":1},{"$f":"INDEX($D136:$I136,L$98)","v":1},0]
[null,null,"HC and VC Crest type II",{"$f":"IF($B$135=0,1,EXP(0.005648908*5730*ABS(+D$36-D$37)*$B$135/D$141*$B$134))","v":1},{"$f":"IF($B$135=0,1,EXP(0.005648908*5730*ABS(+E$36-E$37)*$B$135/E$141*$B$134))","v":1},1,1,{"$f":"IF($I$2=\"Existing\",(D137),(IF($I$2=\"Design 1\",(F137),(IF($I$2=\"Design 2\",(G137),(IF($I$2=\"Optimal\",(I137),E137)))))))","v":1},1,null,{"$f":"INDEX($D137:$I137,K$98)","v":1},{"$f":"INDEX($D137:$I137,L$98)","v":1},0]
[null,null,"HC and VC Sag type II",{"$f":"IF($B$135=0,1,(0.246011284*EXP(LN(0.188*2*5730/D$141)*$B$134)+0.7514288716*EXP(0.022*5730/D$141*ABS(D$36-D$37)*$B$135*$B$134)))","v":1},{"$f":"IF($B$135=0,1,(0.246011284*EXP(LN(0.188*2*5730/E$141)*$B$134)+0.7514288716*EXP(0.022*5730/E$141*ABS(E$36-E$37)*$B$135*$B$134)))","v":1},1,1,{"$f":"IF($I$2=\"Existing\",(D138),(IF($I$2=\"Design 1\",(F138),(IF($I$2=\"Design 2\",(G138),(IF($I$2=\"Optimal\",(I138),E138)))))))","v":1},1,null,{"$f":"INDEX($D138:$I138,K$98)","v":1},{"$f":"INDEX($D138:$I138,L$98)","v":1},0]
[]
[null,null,"Combined HZ and VT",{"$f":"MMULT(TRANSPOSE(D127:D131),D134:D138)","v":1},{"$f":"MMULT(TRANSPOSE(E127:E131),E134:E138)","v":{"$error":"#VALUE!"}},{"$f":"MMULT(TRANSPOSE(F127:F131),F134:F138)","v":1},{"$f":"MMULT(TRANSPOSE(G127:G131),G134:G138)","v":1},{"$f":"IF($I$2=\"Existing\",(D140),(IF($I$2=\"Design 1\",(F140),(IF($I$2=\"Design 2\",(G140),(IF($I$2=\"Optimal\",(I140),E140)))))))","v":{"$error":"#VALUE!"}},{"$f":"MMULT(TRANSPOSE(I127:I131),I134:I138)","v":{"$error":"#VALUE!"}},null,{"$f":"INDEX($D140:$I140,K$98)","v":1},{"$f":"INDEX($D140:$I140,L$98)","v":{"$error":"#VALUE!"}},{"$f":"IF(ISERROR(1-L140/K140), 0, 1-L140/K140)","v":0}]
[null,null,"effective R for calculation",{"$f":"IF(ISNUMBER(D29), D29, 99999999)","v":99999999},{"$f":"IF(ISNUMBER(E29), E29, 99999999)","v":590},99999999,99999999,null,590]
[null,null,"effective K for calculation",{"$f":"IF(ISNUMBER(D39), D39, 9999999)","v":9999999},{"$f":"IF(ISNUMBER(E39), E39, 9999999)","v":9999999},9999999,9999999,null,9999999]
[null,"Traffic"]
[null,null,null,"Existing","Standard","Design 1","Design 2"]
[null,null,"Advance static curve warning signs",{"$f":"IF(AND($B$27=\"Yes\",D$52=\"Yes\"),(Traffic!$F$4-1)*AVERAGE(Constraints!$F$37,Constraints!$H$37)/Constraints!$D$37+1,1)","v":1},{"$f":"IF(AND($B$27=\"Yes\",E$52=\"Yes\"),(Traffic!$F$4-1)*AVERAGE(Constraints!$F$37,Constraints!$H$37)/Constraints!$D$37+1,1)","v":1},{"$f":"IF(AND($B$27=\"Yes\",F$52=\"Yes\"),(Traffic!$F$4-1)*AVERAGE(Constraints!$F$37,Constraints!$H$37)/Constraints!$D$37+1,1)","v":1},{"$f":"IF(AND($B$27=\"Yes\",G$52=\"Yes\"),(Traffic!$F$4-1)*AVERAGE(Constraints!$F$37,Constraints!$H$37)/Constraints!$D$37+1,1)","v":1},{"$f":"IF($I$2=\"Existing\",(D145),(IF($I$2=\"Design 1\",(F145),(IF($I$2=\"Design 2\",(G145),(IF($I$2=\"Optimal\",(I145),E145)))))))","v":1},{"$f":"IF(AND($B$27=\"Yes\",I$52=\"Yes\"),(Traffic!$F$4-1)*AVERAGE(Constraints!$F$37,Constraints!$H$37)/Constraints!$D$37+1,1)","v":1},null,{"$f":"INDEX($D145:$I145,K$98)","v":1},{"$f":"INDEX($D145:$I145,L$98)","v":1},{"$f":"IF(ISERROR(1-L145/K145), 0, 1-L145/K145)","v":0}]
[null,null,"Install chevron signs on horizontal curves",{"$f":"IF(D$53=\"No\",1,(IF(AND($B$27=\"Yes\",D$24<11.5),((Traffic!$F$6-1)*(Constraints!$E$35+Constraints!$E$31))+1,1)))","v":1},{"$f":"IF(E$53=\"No\",1,(IF(AND($B$27=\"Yes\",E$24<11.5),((Traffic!$F$6-1)*(Constraints!$E$35+Constraints!$E$31))+1,1)))","v":1},{"$f":"IF(F$53=\"No\",1,(IF(AND($B$27=\"Yes\",F$24<11.5),((Traffic!$F$6-1)*(Constraints!$E$35+Constraints!$E$31))+1,1)))","v":1},{"$f":"IF(G$53=\"No\",1,(IF(AND($B$27=\"Yes\",G$24<11.5),((Traffic!$F$6-1)*(Constraints!$E$35+Constraints!$E$31))+1,1)))","v":1},{"$f":"IF($I$2=\"Existing\",(D146),(IF($I$2=\"Design 1\",(F146),(IF($I$2=\"Design 2\",(G146),(IF($I$2=\"Optimal\",(I146),E146)))))))","v":1},{"$f":"IF(I$53=\"No\",1,(IF(AND($B$27=\"Yes\",I$24<11.5),((Traffic!$F$6-1)*(Constraints!$E$35+Constraints!$E$31))+1,1)))","v":1},null,{"$f":"INDEX($D146:$I146,K$98)","v":1},{"$f":"INDEX($D146:$I146,L$98)","v":1},0]
[null,null,"Install post-mounted delineators",{"$f":"IF(AND($B$27=\"Yes\",D$54=\"Yes\"),(Traffic!$F$12-1)*Constraints!$E$36+1,1)","v":1},{"$f":"IF(AND($B$27=\"Yes\",E$54=\"Yes\"),(Traffic!$F$12-1)*Constraints!$E$36+1,1)","v":1},{"$f":"IF(AND($B$27=\"Yes\",F$54=\"Yes\"),(Traffic!$F$12-1)*Constraints!$E$36+1,1)","v":1},{"$f":"IF(AND($B$27=\"Yes\",G$54=\"Yes\"),(Traffic!$F$12-1)*Constraints!$E$36+1,1)","v":1},{"$f":"IF($I$2=\"Existing\",(D147),(IF($I$2=\"Design 1\",(F147),(IF($I$2=\"Design 2\",(G147),(IF($I$2=\"Optimal\",(I147),E147)))))))","v":1},{"$f":"IF(AND($B$27=\"Yes\",I$54=\"Yes\"),(Traffic!$F$12-1)*Constraints!$E$36+1,1)","v":1},null,{"$f":"INDEX($D147:$I147,K$98)","v":1},{"$f":"INDEX($D147:$I147,L$98)","v":1},0]
[null,null,"Install edgeline  or Profile pavement markings ",{"$f":"IF(D$55=\"Yes\",Traffic!$F$18*0.5+((Traffic!$F$20*(Constraints!$H$36+Constraints!$H$32)+1*(Constraints!$H$37-(Constraints!$H$36+Constraints!$H$32)))/Constraints!$H$37)*0.5,1)","v":1},{"$f":"IF(E$55=\"Yes\",Traffic!$F$18*0.5+((Traffic!$F$20*(Constraints!$H$36+Constraints!$H$32)+1*(Constraints!$H$37-(Constraints!$H$36+Constraints!$H$32)))/Constraints!$H$37)*0.5,1)","v":0.86175881308648239},{"$f":"IF(F$55=\"Yes\",Traffic!$F$18*0.5+((Traffic!$F$20*(Constraints!$H$36+Constraints!$H$32)+1*(Constraints!$H$37-(Constraints!$H$36+Constraints!$H$32)))/Constraints!$H$37)*0.5,1)","v":1},{"$f":"IF(G$55=\"Yes\",Traffic!$F$18*0.5+((Traffic!$F$20*(Constraints!$H$36+Constraints!$H$32)+1*(Constraints!$H$37-(Constraints!$H$36+Constraints!$H$32)))/Constraints!$H$37)*0.5,1)","v":1},{"$f":"IF($I$2=\"Existing\",(D148),(IF($I$2=\"Design 1\",(F148),(IF($I$2=\"Design 2\",(G148),(IF($I$2=\"Optimal\",(I148),E148)))))))","v":0.86175881308648239},{"$f":"IF(I$55=\"Yes\",Traffic!$F$18*0.5+((Traffic!$F$20*(Constraints!$H$36+Constraints!$H$32)+1*(Constraints!$H$37-(Constraints!$H$36+Constraints!$H$32)))/Constraints!$H$37)*0.5,1)","v":0.86175881308648239},null,{"$f":"INDEX($D148:$I148,K$98)","v":1},{"$f":"INDEX($D148:$I148,L$98)","v":0.86175881308648239},0.13824118691351761]
[null,null,"Profiles",1,1,1,1,1,1,null,{"$f":"INDEX($D149:$I149,K$98)","v":1},{"$f":"INDEX($D149:$I149,L$98)","v":1},0]
[null,null,"Shoulder rumble strips",{"$f":"IF(D$56=\"No\",1,(Traffic!$F$27*(Constraints!$H$36+Constraints!$H$32)+1*(Constraints!$H$37-(Constraints!$H$36+Constraints!$H$32)))/Constraints!$H$37)","v":0.89760950690192376},{"$f":"IF(E$56=\"No\",1,(Traffic!$F$27*(Constraints!$H$36+Constraints!$H$32)+1*(Constraints!$H$37-(Constraints!$H$36+Constraints!$H$32)))/Constraints!$H$37)","v":0.89760950690192376},{"$f":"IF(F$56=\"No\",1,(Traffic!$F$27*(Constraints!$H$36+Constraints!$H$32)+1*(Constraints!$H$37-(Constraints!$H$36+Constraints!$H$32)))/Constraints!$H$37)","v":0.89760950690192376},{"$f":"IF(G$56=\"No\",1,(Traffic!$F$27*(Constraints!$H$36+Constraints!$H$32)+1*(Constraints!$H$37-(Constraints!$H$36+Constraints!$H$32)))/Constraints!$H$37)","v":0.89760950690192376},{"$f":"IF($I$2=\"Existing\",(D150),(IF($I$2=\"Design 1\",(F150),(IF($I$2=\"Design 2\",(G150),(IF($I$2=\"Optimal\",(I150),E150)))))))","v":0.89760950690192376},{"$f":"IF(I$56=\"No\",1,(Traffic!$F$27*(Constraints!$H$36+Constraints!$H$32)+1*(Constraints!$H$37-(Constraints!$H$36+Constraints!$H$32)))/Constraints!$H$37)","v":0.89760950690192376},null,{"$f":"INDEX($D150:$I150,K$98)","v":0.89760950690192376},{"$f":"INDEX($D150:$I150,L$98)","v":0.89760950690192376},0]
[null,null,"Install centerline rumble strips",{"$f":"IF(D$57=\"No\",1,Traffic!$F$30)","v":0.86},{"$f":"IF(E$57=\"No\",1,Traffic!$F$30)","v":1},{"$f":"IF(F$57=\"No\",1,Traffic!$F$30)","v":0.86},{"$f":"IF(G$57=\"No\",1,Traffic!$F$30)","v":0.86},{"$f":"IF($I$2=\"Existing\",(D151),(IF($I$2=\"Design 1\",(F151),(IF($I$2=\"Design 2\",(G151),(IF($I$2=\"Optimal\",(I151),E151)))))))","v":1},{"$f":"IF(I$57=\"No\",1,Traffic!$F$30)","v":0.86},null,{"$f":"INDEX($D151:$I151,K$98)","v":0.86},{"$f":"INDEX($D151:$I151,L$98)","v":1},-0.16279069767441867]
[null,null,"Driveway Density (driveways per mile)",{"$f":"EXP(-LN(Traffic!$F$32)*(D$58-$E$58))","v":0.81707280688754669},{"$f":"EXP(-LN(Traffic!$F$32)*(E$58-$E$58))","v":1},{"$f":"EXP(-LN(Traffic!$F$32)*(F$58-$E$58))","v":0.81707280688754669},{"$f":"EXP(-LN(Traffic!$F$32)*(G$58-$E$58))","v":0.81707280688754669},{"$f":"IF($I$2=\"Existing\",(D152),(IF($I$2=\"Design 1\",(F152),(IF($I$2=\"Design 2\",(G152),(IF($I$2=\"Optimal\",(I152),E152)))))))","v":1},{"$f":"EXP(-LN(Traffic!$F$32)*(I$58-$E$58))","v":0.81707280688754669},null,{"$f":"INDEX($D152:$I152,K$98)","v":0.81707280688754669},{"$f":"INDEX($D152:$I152,L$98)","v":1},-0.22388114201141129]
[null,null,"Install lighting",{"$f":"IF(D$59=\"No\",1,1-(((1-Traffic!$F$55*Constraints!$H$37-Constraints!$F$37/3)+((1-Traffic!$F$55*Constraints!$D$37-Constraints!$H$37)))*$S$19+((1-Traffic!$F$57)*Constraints!$F$37/3))/Constraints!$D$37)","v":0.977040446881142},{"$f":"IF(E$59=\"No\",1,1-(((1-Traffic!$F$55*Constraints!$H$37-Constraints!$F$37/3)+((1-Traffic!$F$55*Constraints!$D$37-Constraints!$H$37)))*$S$19+((1-Traffic!$F$57)*Constraints!$F$37/3))/Constraints!$D$37)","v":1},{"$f":"IF(F$59=\"No\",1,1-(((1-Traffic!$F$55*Constraints!$H$37-Constraints!$F$37/3)+((1-Traffic!$F$55*Constraints!$D$37-Constraints!$H$37)))*$S$19+((1-Traffic!$F$57)*Constraints!$F$37/3))/Constraints!$D$37)","v":0.977040446881142},{"$f":"IF(G$59=\"No\",1,1-(((1-Traffic!$F$55*Constraints!$H$37-Constraints!$F$37/3)+((1-Traffic!$F$55*Constraints!$D$37-Constraints!$H$37)))*$S$19+((1-Traffic!$F$57)*Constraints!$F$37/3))/Constraints!$D$37)","v":0.977040446881142},{"$f":"IF($I$2=\"Existing\",(D153),(IF($I$2=\"Design 1\",(F153),(IF($I$2=\"Design 2\",(G153),(IF($I$2=\"Optimal\",(I153),E153)))))))","v":1},{"$f":"IF(I$59=\"No\",1,1-(((1-Traffic!$F$55*Constraints!$H$37-Constraints!$F$37/3)+((1-Traffic!$F$55*Constraints!$D$37-Constraints!$H$37)))*$S$19+((1-Traffic!$F$57)*Constraints!$F$37/3))/Constraints!$D$37)","v":0.977040446881142},null,{"$f":"INDEX($D153:$I153,K$98)","v":0.977040446881142},{"$f":"INDEX($D153:$I153,L$98)","v":1},-2.3499081529478438E-2]
[null,null,"Pavement friction (skid number)",{"$f":"EXP(LN(Traffic!$F$49)*(D$60-$E$60))","v":1.3972521419325798},{"$f":"EXP(LN(Traffic!$F$49)*(E$60-$E$60))","v":1},{"$f":"IF(MATCH(F60,SkidNums,0)=3, $D154,EXP(LN(Traffic!$F$49)*(RIGHT(F$60,2)-$E$60)))","v":{"$error":"#N/A"}},{"$f":"IF(MATCH(G60,SkidNums,0)=3, $D154,EXP(LN(Traffic!$F$49)*(RIGHT(G$60,2)-$E$60)))","v":{"$error":"#N/A"}},{"$f":"IF($I$2=\"Existing\",(D154),(IF($I$2=\"Design 1\",(F154),(IF($I$2=\"Design 2\",(G154),(IF($I$2=\"Optimal\",(I154),E154)))))))","v":1},{"$f":"EXP(LN(Traffic!$F$49)*(I$60-$E$60))","v":0.85753553626991963},null,{"$f":"INDEX($D154:$I154,K$98)","v":1.3972521419325798},{"$f":"INDEX($D154:$I154,L$98)","v":1},0.28430956017940245]
[]
[]
[null,null,"COMBINED Calculated CMF",{"$f":"+D145*D146*D147*D148*D149*D150*D151*D152*D153*D154","v":0.86106111787419426},{"$f":"+E145*E146*E147*E148*E149*E150*E151*E152*E153*E154","v":0.7735229032829446},{"$f":"+F145*F146*F147*F148*F149*F150*F151*F152*F153*F154","v":{"$error":"#N/A"}},{"$f":"+G145*G146*G147*G148*G149*G150*G151*G152*G153*G154","v":{"$error":"#N/A"}},{"$f":"IF($I$2=\"Existing\",(D157),(IF($I$2=\"Design 1\",(F157),(IF($I$2=\"Design 2\",(G157),(IF($I$2=\"Optimal\",(I157),E157)))))))","v":0.7735229032829446},{"$f":"+I145*I146*I147*I148*I149*I150*I151*I152*I153*I154","v":0.45540422392050506},null,{"$f":"INDEX($D157:$I157,K$98)","v":0.86106111787419426},{"$f":"INDEX($D157:$I157,L$98)","v":0.7735229032829446},{"$f":"IF(ISERROR(1-L157/K157), 0, 1-L157/K157)","v":0.10166318368592209}]
[null,null,"Calculated Relative to Design Standards (Column E)",{"$f":"+D157/$E$157","v":1.1131682258142903},{"$f":"+E157/$E$157","v":1},{"$f":"+F157/$E$157","v":{"$error":"#N/A"}},{"$f":"+G157/$E$157","v":{"$error":"#N/A"}},1,{"$f":"+I157/$E$157","v":0.58874045227064742},null,{"$f":"INDEX($D158:$I158,K$98)","v":1.1131682258142903},{"$f":"INDEX($D158:$I158,L$98)","v":1},0.1016631836859222]
[null,null,"P(Crash)",{"$f":"+D158/(D158+1)","v":0.52677690882151185},{"$f":"+E158/(E158+1)","v":0.5},{"$f":"+F158/(F158+1)","v":{"$error":"#N/A"}},{"$f":"+G158/(G158+1)","v":{"$error":"#N/A"}},0.5,{"$f":"+I158/(I158+1)","v":0.37057056829465901}]
[null,null,"Factor Change on S curve",{"$f":"+D159/$E$159","v":1.0535538176430237},{"$f":"+E159/$E$159","v":1},{"$f":"+F159/$E$159","v":{"$error":"#N/A"}},{"$f":"+G159/$E$159","v":{"$error":"#N/A"}},1,{"$f":"+I159/$E$159","v":0.74114113658931802}]
[null,null,"Adjust to Scale of 100",{"$f":"+$I$114/D160*100","v":{"$error":"#VALUE!"}},{"$f":"+$I$114/E160*100","v":{"$error":"#VALUE!"}},{"$f":"+$I$114/F160*100","v":{"$error":"#VALUE!"}},{"$f":"+$I$114/G160*100","v":{"$error":"#VALUE!"}},{"$error":"#VALUE!"},{"$f":"+$I$114/I160*100","v":{"$error":"#VALUE!"}}]
[null,null,"Unadjusted Combined Relative to Standard",{"$f":"+D157/$E$157","v":1.1131682258142903},{"$f":"+E157/$E$157","v":1},{"$f":"+F157/$E$157","v":{"$error":"#N/A"}},{"$f":"+G157/$E$157","v":{"$error":"#N/A"}},1,{"$f":"+I157/$E$157","v":0.58874045227064742}]
[null,null,null,null,null,null,null,0,null,{"$f":"I168/E168","v":1.4285714285714286}]
[null,null,"Adjusted for PA Basis",{"$f":"+D157*(1+1)/(1+D157*1)","v":0.92534426688549098},{"$f":"+E157*(1+1)/(1+E157*1)","v":0.8723010025425515},{"$f":"+F157*(1+1)/(1+F157*1)","v":{"$error":"#N/A"}},{"$f":"+G157*(1+1)/(1+G157*1)","v":{"$error":"#N/A"}},0.8723010025425515,{"$f":"+I157*(1+1)/(1+I157*1)","v":0.62581132641453641}]
[null,null,"Corrected by Odds Ratio",{"$f":"+D164/$E$164","v":1.0608084413388623},{"$f":"+E164/$E$164","v":1},{"$f":"+F164/$E$164","v":{"$error":"#N/A"}},{"$f":"+G164/$E$164","v":{"$error":"#N/A"}},1,{"$f":"+I164/$E$164","v":0.71742589380322175}]
[null,null,null,{"$f":"(1/D165)^$D169","v":0.29295399474123779},1,{"$error":"#N/A"},{"$error":"#N/A"},1,998.99999999999955,{"$f":"I171/E171","v":1.4285714285714286}]
[null,null,null,{"$f":"(D166+$F170-1)/(1+(D166+$F170-1))","v":0.61923435059440457},0.70000000000000007,{"$error":"#N/A"},{"$error":"#N/A"},0.70000000000000007,0.99900133155792281]
[null,null,"Score Odds Ratio with Optimal as 100 (old)",{"$f":"MIN(ROUND($I$165/D165*Construction!$I$9,0),$I168)","v":14},{"$f":"MIN(ROUND($I$165/E165*Construction!$I$9,0),$I168)","v":14},{"$f":"MIN(ROUND($I$165/F165*Construction!$I$9,0),$I168)","v":{"$error":"#N/A"}},{"$f":"MIN(ROUND($I$165/G165*Construction!$I$9,0),$I168)","v":{"$error":"#N/A"}},null,{"$f":"ROUND($I$165/I165*Construction!$I$9,0)","v":20}]
[null,null,"Logistic1",{"$f":"LN((D170/(1-D170))/(0.5/0.5))/LN($E165/I165)","v":20.798114554240879}]
[null,null,"Logistic Param",0.999,null,{"$f":"0.7/0.3","v":2.3333333333333335}]
[null,null,"Score ",{"$f":"MIN(ROUND(D167*Construction!$I$9,0),$I168)","v":12},{"$f":"MIN(ROUND(E167*Construction!$I$9,0),$I168)","v":14},{"$f":"MIN(ROUND(F167*Construction!$I$9,0),$I168)","v":{"$error":"#N/A"}},{"$f":"MIN(ROUND(G167*Construction!$I$9,0),$I168)","v":{"$error":"#N/A"}},null,{"$f":"MIN(ROUND(I167*Construction!$I$9,0),$I168)","v":20}]
[]
[]
[]
[]
[]
[]
[null,"Roadsde",null,"Existing","Standard","Design 1","Design 2"]
[null,null,null,{"$f":"MID(D72,FIND(\":\",D72,1)+1,FIND(\"H\",D72,1)-FIND(\":\",D72,1)-1)+0","v":{"$error":"#VALUE!"}},{"$f":"MID(E72,FIND(\":\",E72,1)+1,FIND(\"H\",E72,1)-FIND(\":\",E72,1)-1)+0","v":4},{"$f":"MID(F72,FIND(\":\",F72,1)+1,FIND(\"H\",F72,1)-FIND(\":\",F72,1)-1)+0","v":{"$error":"#VALUE!"}},{"$f":"MID(G72,FIND(\":\",G72,1)+1,FIND(\"H\",G72,1)-FIND(\":\",G72,1)-1)+0","v":{"$error":"#VALUE!"}},null,{"$f":"MID(I72,FIND(\":\",I72,1)+1,FIND(\"H\",I72,1)-FIND(\":\",I72,1)-1)+0","v":6},null,{"$f":"INDEX($D179:$I179,K$98)","v":{"$error":"#VALUE!"}},{"$f":"INDEX($D179:$I179,L$98)","v":4},{"$f":"IF(ISERROR(1-L179/K179), 0, 1-L179/K179)","v":0}]
[null,null,"Sideslope (Foreslope)",{"$f":"IF(D179<=3,1,IF(OR(D179=4,D179=5),(Roadside!$F$15-1)*Constraints!$H$37/Constraints!$D$37+1,(Roadside!$F$15*Roadside!$F$16-1)*Constraints!$H$37/Constraints!$D$37+1))","v":{"$error":"#VALUE!"}},{"$f":"IF(E179<=3,1,IF(OR(E179=4,E179=5),(Roadside!$F$15-1)*Constraints!$H$37/Constraints!$D$37+1,(Roadside!$F$15*Roadside!$F$16-1)*Constraints!$H$37/Constraints!$D$37+1))","v":0.8286893555394641},{"$f":"IF(F179<=3,1,IF(OR(F179=4,F179=5),(Roadside!$F$15-1)*Constraints!$H$37/Constraints!$D$37+1,(Roadside!$F$15*Roadside!$F$16-1)*Constraints!$H$37/Constraints!$D$37+1))","v":{"$error":"#VALUE!"}},{"$f":"IF(G179<=3,1,IF(OR(G179=4,G179=5),(Roadside!$F$15-1)*Constraints!$H$37/Constraints!$D$37+1,(Roadside!$F$15*Roadside!$F$16-1)*Constraints!$H$37/Constraints!$D$37+1))","v":{"$error":"#VALUE!"}},{"$f":"IF($I$2=\"Existing\",(D180),(IF($I$2=\"Design 1\",(F180),(IF($I$2=\"Design 2\",(G180),(IF($I$2=\"Optimal\",(I180),E180)))))))","v":0.8286893555394641},{"$f":"IF(I179<=3,1,IF(OR(I179=4,I179=5),(Roadside!$F$15-1)*Constraints!$H$37/Constraints!$D$37+1,(Roadside!$F$15*Roadside!$F$16-1)*Constraints!$H$37/Constraints!$D$37+1))","v":0.77664355022240605},null,{"$f":"INDEX($D180:$I180,K$98)","v":{"$error":"#VALUE!"}},{"$f":"INDEX($D180:$I180,L$98)","v":0.8286893555394641},0]
[null,null,"Backslope",1,1,1,1,{"$f":"IF($I$2=\"Existing\",(D181),(IF($I$2=\"Design 1\",(F181),(IF($I$2=\"Design 2\",(G181),(IF($I$2=\"Optimal\",(I181),E181)))))))","v":1},1,null,{"$f":"INDEX($D181:$I181,K$98)","v":1},{"$f":"INDEX($D181:$I181,L$98)","v":1},0]
[null,null,"SafetyEdge",{"$f":"IF(D$74=\"No\",1,(Roadside!$F$23-1)*AVERAGE(Constraints!$H$37,Constraints!$F$37)/Constraints!$D$37+1)","v":0.97258384193648495},{"$f":"IF(E$74=\"No\",1,(Roadside!$F$23-1)*AVERAGE(Constraints!$H$37,Constraints!$F$37)/Constraints!$D$37+1)","v":1},{"$f":"IF(F$74=\"No\",1,(Roadside!$F$23-1)*AVERAGE(Constraints!$H$37,Constraints!$F$37)/Constraints!$D$37+1)","v":0.97258384193648495},{"$f":"IF(G$74=\"No\",1,(Roadside!$F$23-1)*AVERAGE(Constraints!$H$37,Constraints!$F$37)/Constraints!$D$37+1)","v":0.97258384193648495},{"$f":"IF($I$2=\"Existing\",(D182),(IF($I$2=\"Design 1\",(F182),(IF($I$2=\"Design 2\",(G182),(IF($I$2=\"Optimal\",(I182),E182)))))))","v":1},{"$f":"IF(I$74=\"No\",1,(Roadside!$F$23-1)*AVERAGE(Constraints!$H$37,Constraints!$F$37)/Constraints!$D$37+1)","v":0.97258384193648495},null,{"$f":"INDEX($D182:$I182,K$98)","v":0.97258384193648495},{"$f":"INDEX($D182:$I182,L$98)","v":1},-2.8188991921691331E-2]
[null,null,"Lateral Clearance (ft)",{"$f":"IF($B$27=\"Yes\",((EXP(LN(Roadside!$F$11)*(IF(D$76=\"None\",40,D$75)-30)/30)-1))*Constraints!$H$36/Constraints!$D$37+1,((EXP(LN(Roadside!$F$10)*(IF(D$76=\"None\",40,D$75)-30)/30)-1))*Constraints!$H$36/Constraints!$D$37+1)","v":1.0992721491203288},{"$f":"IF($B$27=\"Yes\",((EXP(LN(Roadside!$F$11)*(IF(E$76=\"None\",40,E$75)-30)/30)-1))*Constraints!$H$36/Constraints!$D$37+1,((EXP(LN(Roadside!$F$10)*(IF(E$76=\"None\",40,E$75)-30)/30)-1))*Constraints!$H$36/Constraints!$D$37+1)","v":1},{"$f":"IF($B$27=\"Yes\",((EXP(LN(Roadside!$F$11)*(IF(F$76=\"None\",40,F$75)-30)/30)-1))*Constraints!$H$36/Constraints!$D$37+1,((EXP(LN(Roadside!$F$10)*(IF(F$76=\"None\",40,F$75)-30)/30)-1))*Constraints!$H$36/Constraints!$D$37+1)","v":1.0992721491203288},{"$f":"IF($B$27=\"Yes\",((EXP(LN(Roadside!$F$11)*(IF(G$76=\"None\",40,G$75)-30)/30)-1))*Constraints!$H$36/Constraints!$D$37+1,((EXP(LN(Roadside!$F$10)*(IF(G$76=\"None\",40,G$75)-30)/30)-1))*Constraints!$H$36/Constraints!$D$37+1)","v":1.0992721491203288},{"$f":"IF($I$2=\"Existing\",(D183),(IF($I$2=\"Design 1\",(F183),(IF($I$2=\"Design 2\",(G183),(IF($I$2=\"Optimal\",(I183),E183)))))))","v":1},{"$f":"IF($B$27=\"Yes\",((EXP(LN(Roadside!$F$11)*(IF(I$76=\"None\",40,I$75)-30)/30)-1))*Constraints!$H$36/Constraints!$D$37+1,((EXP(LN(Roadside!$F$10)*(IF(I$76=\"None\",40,I$75)-30)/30)-1))*Constraints!$H$36/Constraints!$D$37+1)","v":0.97455184373954995},null,{"$f":"INDEX($D183:$I183,K$98)","v":1.0992721491203288},{"$f":"INDEX($D183:$I183,L$98)","v":1},9.0307162971216326E-2]
[null,null,"Fixed Object Type",{"$f":"IF(D$76=\"Guardrail\",(Roadside!$F$25-1)*(($I$75-D$75)/$I$75)^2*Constraints!$H$36/Constraints!$D$37+1,1)","v":1},{"$f":"IF(E$76=\"Guardrail\",(Roadside!$F$25-1)*(($I$75-E$75)/$I$75)^2*Constraints!$H$36/Constraints!$D$37+1,1)","v":1},{"$f":"IF(F$76=\"Guardrail\",(Roadside!$F$25-1)*(($I$75-F$75)/$I$75)^2*Constraints!$H$36/Constraints!$D$37+1,1)","v":1},{"$f":"IF(G$76=\"Guardrail\",(Roadside!$F$25-1)*(($I$75-G$75)/$I$75)^2*Constraints!$H$36/Constraints!$D$37+1,1)","v":1},{"$f":"IF($I$2=\"Existing\",(D184),(IF($I$2=\"Design 1\",(F184),(IF($I$2=\"Design 2\",(G184),(IF($I$2=\"Optimal\",(I184),E184)))))))","v":1},{"$f":"IF(I$76=\"Guardrail\",(Roadside!$F$25-1)*(($I$75-I$75)/$I$75)^2*Constraints!$H$36/Constraints!$D$37+1,1)","v":1},null,{"$f":"INDEX($D184:$I184,K$98)","v":1},{"$f":"INDEX($D184:$I184,L$98)","v":1},0]
[]
[]
[null,null,"COMBINED Calculated CMF",{"$f":"+D180*D181*D182*D183*D184","v":{"$error":"#VALUE!"}},{"$f":"+E180*E181*E182*E183*E184","v":0.8286893555394641},{"$f":"+F180*F181*F182*F183*F184","v":{"$error":"#VALUE!"}},{"$f":"+G180*G181*G182*G183*G184","v":{"$error":"#VALUE!"}},{"$f":"IF($I$2=\"Existing\",(D187),(IF($I$2=\"Design 1\",(F187),(IF($I$2=\"Design 2\",(G187),(IF($I$2=\"Optimal\",(I187),E187)))))))","v":0.8286893555394641},{"$f":"+I180*I181*I182*I183*I184","v":0.73612867842813945}]
[null,null,"Calculated Relative to Design Standards (Column E)",{"$f":"+D187/$E$187","v":{"$error":"#VALUE!"}},{"$f":"+E187/$E$187","v":1},{"$f":"+F187/$E$187","v":{"$error":"#VALUE!"}},{"$f":"+G187/$E$187","v":{"$error":"#VALUE!"}},1,{"$f":"+I187/$E$187","v":0.88830473507039431}]
[null,null,"P(Crash)",{"$f":"+D188/(D188+1)","v":{"$error":"#VALUE!"}},{"$f":"+E188/(E188+1)","v":0.5},{"$f":"+F188/(F188+1)","v":{"$error":"#VALUE!"}},{"$f":"+G188/(G188+1)","v":{"$error":"#VALUE!"}},0.5,{"$f":"+I188/(I188+1)","v":0.47042445987261644}]
[null,null,"Factor Change on S curve",{"$f":"+D189/$E$189","v":{"$error":"#VALUE!"}},{"$f":"+E189/$E$189","v":1},{"$f":"+F189/$E$189","v":{"$error":"#VALUE!"}},{"$f":"+G189/$E$189","v":{"$error":"#VALUE!"}},1,{"$f":"+I189/$E$189","v":0.94084891974523288}]
[null,null,"Adjust to Scale of 100",{"$f":"+$I$114/D190*100","v":{"$error":"#VALUE!"}},{"$f":"+$I$114/E190*100","v":{"$error":"#VALUE!"}},{"$f":"+$I$114/F190*100","v":{"$error":"#VALUE!"}},{"$f":"+$I$114/G190*100","v":{"$error":"#VALUE!"}},{"$error":"#VALUE!"},{"$f":"+$I$114/I190*100","v":{"$error":"#VALUE!"}}]
[null,null,"Unadjusted Combined Relative to Standard",{"$f":"+D187/$E$187","v":{"$error":"#VALUE!"}},{"$f":"+E187/$E$187","v":1},{"$f":"+F187/$E$187","v":{"$error":"#VALUE!"}},{"$f":"+G187/$E$187","v":{"$error":"#VALUE!"}},1,{"$f":"+I187/$E$187","v":0.88830473507039431}]
[null,null,null,null,null,null,null,null,null,{"$f":"I198/E198","v":1.1111111111111112}]
[null,null,"Adjusted for PA Basis",{"$f":"+D187*(1+1)/(1+D187*1)","v":{"$error":"#VALUE!"}},{"$f":"+E187*(1+1)/(1+E187*1)","v":0.90632053282226321},{"$f":"+F187*(1+1)/(1+F187*1)","v":{"$error":"#VALUE!"}},{"$f":"+G187*(1+1)/(1+G187*1)","v":{"$error":"#VALUE!"}},{"$f":"IF($I$2=\"Existing\",(D194),(IF($I$2=\"Design 1\",(F194),(IF($I$2=\"Design 2\",(G194),(IF($I$2=\"Optimal\",(I194),E194)))))))","v":0.90632053282226321},{"$f":"+I187*(1+1)/(1+I187*1)","v":0.84801165671039724}]
[null,null,"Corrected by Odds Ratio",{"$f":"+D187/$E$187","v":{"$error":"#VALUE!"}},{"$f":"+E187/$E$187","v":1},{"$f":"+F187/$E$187","v":{"$error":"#VALUE!"}},{"$f":"+G187/$E$187","v":{"$error":"#VALUE!"}},{"$f":"IF($I$2=\"Existing\",(D195),(IF($I$2=\"Design 1\",(F195),(IF($I$2=\"Design 2\",(G195),(IF($I$2=\"Optimal\",(I195),E195)))))))","v":1},{"$f":"+I187/$E$187","v":0.88830473507039431}]
[null,null,null,{"$f":"(1/D195)^$D199","v":{"$error":"#VALUE!"}},1,{"$error":"#VALUE!"},{"$error":"#VALUE!"},1,998.99999999999955,{"$f":"I201/E201","v":1.4814814814814814}]
[null,null,null,{"$f":"(D196+$F200-1)/(1+(D196+$F200-1))","v":{"$error":"#VALUE!"}},0.66666666666666663,{"$error":"#VALUE!"},{"$error":"#VALUE!"},0.66666666666666663,0.99900099900099903]
[null,null,"Score Odds Ratio with Optimal as 100 (old)",{"$f":"MIN(ROUND($I$195/D195*Construction!$I$10,0),$I198)","v":{"$error":"#VALUE!"}},{"$f":"MIN(ROUND($I$195/E195*Construction!$I$10,0),$I198)","v":36},{"$f":"MIN(ROUND($I$195/F195*Construction!$I$10,0),$I198)","v":{"$error":"#VALUE!"}},{"$f":"MIN(ROUND($I$195/G195*Construction!$I$10,0),$I198)","v":{"$error":"#VALUE!"}},null,{"$f":"ROUND($I$195/I195*Construction!$I$10,0)","v":40}]
[null,null,"Logistic1",{"$f":"LN((D200/(1-D200))/(0.5/0.5))/LN($E195/I195)","v":58.314167600285003}]
[null,null,"Logistic Param",0.999,null,2]
[null,null,"Score ",{"$f":"MIN(ROUND(D197*Construction!$I$10,0),$I198)","v":{"$error":"#VALUE!"}},{"$f":"MIN(ROUND(E197*Construction!$I$10,0),$I198)","v":27},{"$f":"MIN(ROUND(F197*Construction!$I$10,0),$I198)","v":{"$error":"#VALUE!"}},{"$f":"MIN(ROUND(G197*Construction!$I$10,0),$I198)","v":{"$error":"#VALUE!"}},null,{"$f":"MIN(ROUND(I197*Construction!$I$10,0),$I198)","v":40}]
[]
[]
[]
[]
[null,null,{"$f":"D84/D179","v":{"$error":"#VALUE!"}},null,{"$f":"ROUNDUP((MIN($I$14,$I$15)-E24-E25)/$C$206,0)","v":{"$error":"#VALUE!"}},{"$f":"ROUNDUP((MIN($I$14,$I$15)-F24-F25)/$C$206,0)","v":{"$error":"#VALUE!"}},{"$f":"ROUNDUP((MIN($I$14,$I$15)-G24-G25)/$C$206,0)","v":{"$error":"#VALUE!"}},null,{"$f":"ROUNDUP((MIN($I$14,$I$15)-I24-I25)/$C$206,0)","v":{"$error":"#VALUE!"}}]
[]
[]
[null,null,"Distance to low point","Distance to low point",{"$f":"$C$206*E179","v":{"$error":"#VALUE!"}},{"$f":"$C$206*F179","v":{"$error":"#VALUE!"}},{"$f":"$C$206*G179","v":{"$error":"#VALUE!"}},null,{"$f":"$C$206*I179","v":{"$error":"#VALUE!"}}]
[null,null,null,"Additional ROW1 Needed for Foreslope",{"$f":"IF(E209>($I$14-E24-E25),E209-($I$14-E24-E25),0)","v":{"$error":"#VALUE!"}},{"$f":"IF(F209>($I$14-F24-F25),F209-($I$14-F24-F25),0)","v":{"$error":"#VALUE!"}},{"$f":"IF(G209>($I$14-G24-G25),G209-($I$14-G24-G25),0)","v":{"$error":"#VALUE!"}},null,{"$f":"IF(I209>($I$14-I24-I25),I209-($I$14-I24-I25),0)","v":{"$error":"#VALUE!"}}]
[null,null,null,"Additional ROW2 Needed for Foreslope",{"$f":"IF(E209>($I$15-E24-E25),E209-($I$15-E24-E25),0)","v":{"$error":"#VALUE!"}},{"$f":"IF(F209>($I$15-F24-F25),F209-($I$15-F24-F25),0)","v":{"$error":"#VALUE!"}},{"$f":"IF(G209>($I$15-G24-G25),G209-($I$15-G24-G25),0)","v":{"$error":"#VALUE!"}},null,{"$f":"IF(I209>($I$15-I24-I25),I209-($I$15-I24-I25),0)","v":{"$error":"#VALUE!"}}]
[]
[null,null,null,"Additional ROW1 Needed for Lateral Clearance",{"$f":"IF((CL248+E26)-$I$14<0,0,(CL248+E26)-$I$14)","v":8},{"$f":"IF((CM248+F26)-$I$14<0,0,(CM248+F26)-$I$14)","v":0},{"$f":"IF((CN248+G26)-$I$14<0,0,(CN248+G26)-$I$14)","v":0},null,{"$f":"IF((CP248+I26)-$I$14<0,0,(CP248+I26)-$I$14)","v":0}]
[null,null,null,"Additional ROW2 Needed for Lateral Clearance",{"$f":"IF((CL248+E26)-$I$15<0,0,(CL248+E26)-$I$15)","v":8},{"$f":"IF((CM248+F26)-$I$15<0,0,(CM248+F26)-$I$15)","v":0},{"$f":"IF((CN248+G26)-$I$15<0,0,(CN248+G26)-$I$15)","v":0},null,{"$f":"IF((CP248+I26)-$I$15<0,0,(CP248+I26)-$I$15)","v":0}]
[]
[]
[]
[]
[]
[]
[]
[]
[]
[]
[]
[null,null,"For Vertical Opt Use when Yes Vertical:"]
[null,null,"G1",{"$f":"D36","v":0},null,{"$f":"F36","v":0},{"$f":"G36","v":0},null,{"$f":"IF(ISERROR($E$234),\"\",INDEX(D227:G227,$E$234))","v":""}]
[null,null,"G2",{"$f":"D37","v":0},null,{"$f":"F37","v":0},{"$f":"G37","v":0},null,{"$f":"IF(ISERROR($E$234),\"\",INDEX(D228:G228,$E$234))","v":""}]
[null,null,"abs(G2-G1)",{"$f":"ABS(D36-D37)","v":0},null,{"$f":"ABS(F36-F37)","v":0},{"$f":"ABS(G36-G37)","v":0}]
[null,null,"Count in indicator (K no change; or K change but accept)",{"$f":"IF(D39<>\"\",1,\"\")","v":""},null,{"$f":"IF(OR(AND($B$34 = \"Yes\", $D$39 <> F39, F39 <>\"\", $D$39 <> \"\", F41=\"Yes.\"),AND($B$34 = \"Yes\", $D$39 = F39, F39 <>\"\", $D$39 <> \"\")), 1,\"\")","v":""},{"$f":"IF(OR(AND($B$34 = \"Yes\", $D$39 <> G39, G39 <>\"\", $D$39 <> \"\", G41=\"Yes.\"),AND($B$34 = \"Yes\", $D$39 = G39, G39 <>\"\", $D$39 <> \"\")), 1,\"\")","v":""}]
[]
[null,null,"Valid abs(G2-G1)",{"$f":"IF(ISERROR(D229*D230),\"\",D229*D230)","v":""},null,{"$f":"IF(ISERROR(F229*F230),\"\",F229*F230)","v":""},{"$f":"IF(ISERROR(G229*G230),\"\",G229*G230)","v":""}]
[null,null,"The min valid abs(G2-G1)",null,{"$f":"MIN(D232,F232,G232)","v":0}]
[null,null,"Index",null,{"$f":"MATCH(E233,D232:G232,0)","v":{"$error":"#N/A"}}]
[]
[null,null,"For Vertical Opt Use When No Vertical:"]
[null,null,"G1",{"$f":"IF(ISBLANK(D36), 999, D36)","v":999},null,{"$f":"IF(ISBLANK(F36), 999, F36)","v":999},{"$f":"IF(ISBLANK(G36), 999, G36)","v":999},null,{"$f":"IF(E242=999,\"\",E242)","v":""}]
[null,null,"Sign of G1",{"$f":"IF(D237>=0,1,-1)","v":1},null,{"$f":"IF(F237>=0,1,-1)","v":1},{"$f":"IF(G237>=0,1,-1)","v":1}]
[null,null,"Abs G1",{"$f":"ABS(D237)","v":999},null,{"$f":"ABS(F237)","v":999},{"$f":"ABS(G237)","v":999}]
[null,null,"Min Abs G1",null,{"$f":"MIN(D239:G239)","v":999}]
[null,null,"Which is the Best G1",null,{"$f":"MATCH(E240,D239:G239,0)","v":1}]
[null,null,"Best G1 Value",null,{"$f":"INDEX(D237:G237,1,E241)","v":999}]
[]
[]
[]
[]
[]
[]
[null,null,"Check if all cells filled",{"$f":"SUM(D251:D311)","v":18},{"$f":"SUM(E251:E311)","v":1},18,18,null,1]
[]
[null,null,{"$f":"C24","v":"Lane Width (feet)"},{"$f":"IF(ISBLANK(D24),1,0)","v":1},{"$f":"IF(ISBLANK(E24),1,0)","v":0},1,1,null,0]
[null,null,{"$f":"C25","v":"Shoulder Width (feet)"},{"$f":"IF(ISBLANK(D25),1,0)","v":1},0,1,1,null,0]
[null,null,"Cross-slope or Superelevation (%)",{"$f":"IF(ISBLANK(D26),1,0)","v":1},0,1,1,null,0]
[null,null,"Horizontal Curve Present?"]
[null,null,"Horizontal Curve Data for Controlling Element:"]
[null,null,"  Radius (feet)",{"$f":"IF(AND($B$27=\"Yes\", ISBLANK(D29)),1,0)","v":0},{"$f":"IF(AND($B$27=\"Yes\", ISBLANK(E29)),1,0)","v":0},0,0,null,0]
[null,null,"Length of Horizontal Curve (feet)",{"$f":"IF(AND($B$27=\"Yes\", ISBLANK(D30)),1,0)","v":0},0,0,0,null,0]
[null,null,"Calculated Deflection Angle ∆"]
[]
[null,null,null,null,null,{"$f":"IF(AND($B$27 = \"Yes\", $D$31 <> F31, F31<>\"\",ISBLANK(F33)),1,0)","v":0},{"$f":"IF(AND($B$27 = \"Yes\", $D$31 <> G31, G31<>\"\",ISBLANK(G33)),1,0)","v":0}]
[null,null,"Vertical Curve Present?"]
[null,null,"Vertical Curve Data for Controlling Element:"]
[null,null,"  Approach (Entry) Grade, G1 (%)",{"$f":"IF(ISBLANK(D36),1,0)","v":1},{"$f":"IF(ISBLANK(E36),1,0)","v":0},1,1,null,0]
[null,null,"  Departure (Exit) Grade, G2 (%)",{"$f":"IF(AND($B$34=\"Yes\", ISBLANK(D37)),1,0)","v":0},{"$f":"IF(AND($B$34=\"Yes\", ISBLANK(E37)),1,0)","v":0},0,0,null,0]
[null,null,"  Length (feet)",{"$f":"IF(AND($B$34=\"Yes\", ISBLANK(D38)),1,0)","v":0},0,0,0,null,0]
[null,null,"  Calculated Rate of Change, K (ft/ft)"]
[]
[]
[]
[null,null,"TWLTL (two-way left-turn lane)",{"$f":"IF(ISBLANK(D43),1,0)","v":1},{"$f":"IF(ISBLANK(E43),1,0)","v":0},1,1,null,0]
[null,null,"Passing Lane Type",{"$f":"IF(ISBLANK(D44),1,0)","v":1},0,1,1,null,0]
[]
[]
[]
[]
[]
[]
[]
[null,null,"Advance Static Curve Warning Signs",{"$f":"IF(AND($B$27=\"Yes\", ISBLANK(D52)),1,0)","v":0},{"$f":"IF(AND($B$27=\"Yes\", ISBLANK(E52)),1,0)","v":0},0,0,null,{"$f":"IF(ISBLANK(I52),1,0)","v":0}]
[null,null,"Chevron Signs on Horizontal Curves",{"$f":"IF(AND($B$27=\"Yes\", ISBLANK(D53)),1,0)","v":0},0,0,0,null,0]
[null,null,"Post-Mounted Delineators",0,0,0,0,null,0]
[null,null,"Edgeline Pavement Markings or Profile Markings",{"$f":"IF(ISBLANK(D55),1,0)","v":1},0,1,1,null,0]
[null,null,"Shoulder Rumble Strips",1,0,1,1,null,0]
[null,null,"Centerline Rumble Strips",1,0,1,1,null,0]
[null,null,"Driveway Density (driveways per mile)",1,0,1,1,null,0]
[null,null,"Lighting",1,0,1,1,null,0]
[null,null,"Pavement Friction (skid number) ***",1,0,1,1,null,0]
[]
[]
[]
[]
[]
[]
[]
[]
[]
[]
[]
[null,null,"Sideslope (Foreslope)",{"$f":"IF(ISBLANK(D72),1,0)","v":1},0,1,1,null,0]
[null,null,"Backslope",1,0,1,1,null,0]
[null,null,"SafetyEdge",1,0,1,1,null,0]
[null,null,"Lateral Clearance to obstruction (ft)",1,0,1,1,null,0]
[null,null,"Obstruction Type",1,0,1,1,null,0]
[]
[]
[]
[]
[]
[]
[]
[null,null,"Distance to Slope Toe from Shoulder (ft)",1,{"$f":"$D$311","v":1},{"$f":"$D$311","v":1},1,null,1]
[]
[]
[]
[null,null,null,null,null,null,null,null,{"$f":"SUM(I316:I324)","v":9}]
[null,null,null,null,null,null,null,{"$f":"F9","v":"Location "},{"$f":"IF(ISBLANK(I9),1,0)","v":1}]
[null,null,null,null,null,null,null,{"$f":"F10","v":"Design Speed (mph)"},{"$f":"IF(ISBLANK(I10),1,0)","v":1}]
[null,null,null,null,null,null,null,"Posted Speed (mph)",1]
[null,null,null,null,null,null,null,"E max (%)",1]
[null,null,null,null,null,null,null,"Design Year AADT (vehicles per day)",1]
[null,null,null,null,null,null,null,"Dist. from Centerline to Left   ROW (feet)",1]
[null,null,null,null,null,null,null,"Dist. from Centerline to Right ROW (feet)",1]
[null,null,null,null,null,null,null,"H Curve Indicator",{"$f":"IF(ISBLANK(B27),1,0)","v":1}]
[null,null,null,null,null,null,null,"V Curve Indicator",{"$f":"IF(ISBLANK(B34),1,0)","v":1}]
[]
[]
[]
[]
[]
[]
[]
[]
[]
[]
[]
[]
[]
[]
[]
[]
[]
[]
[]
[]
[]
[]
[]
[]
[]
[]
[]
[]
[]
[]
[]
[]
[]
[]
[]
[]
[]
[]
[]
[]
[]
[]
[]
[]
[]
[]
[]
[]
[]
[]
[]
[1]
[22]
[21]
[20,null,null,{"$f":"Constraints!P174","v":"Emax=6%"}]
[19]
[18,null,{"$f":"HLOOKUP($I$10,Constraints!$Q$176:AD197,A376,TRUE)","v":{"$error":"#N/A"}},{"$f":"Constraints!P176","v":"super"}]
[17,null,{"$f":"HLOOKUP($I$10,Constraints!$Q$176:AD198,A377,TRUE)","v":{"$error":"#N/A"}},{"$f":"Constraints!P197","v":6},1050]
[16,null,{"$f":"HLOOKUP($I$10,Constraints!$Q$176:AD199,A378,TRUE)","v":{"$error":"#N/A"}},{"$f":"Constraints!P196","v":5.8}]
[15,null,{"$f":"HLOOKUP($I$10,Constraints!$Q$176:AD200,A379,TRUE)","v":{"$error":"#N/A"}},{"$f":"Constraints!P195","v":5.6}]
[14,null,{"$f":"HLOOKUP($I$10,Constraints!$Q$176:AD201,A380,TRUE)","v":{"$error":"#N/A"}},{"$f":"Constraints!P194","v":5.4}]
[13,null,{"$f":"HLOOKUP($I$10,Constraints!$Q$176:AD202,A381,TRUE)","v":{"$error":"#N/A"}},{"$f":"Constraints!P193","v":5.2}]
[12,null,{"$f":"HLOOKUP($I$10,Constraints!$Q$176:AD203,A382,TRUE)","v":{"$error":"#N/A"}},{"$f":"Constraints!P192","v":5}]
[11,null,{"$f":"HLOOKUP($I$10,Constraints!$Q$176:AD204,A383,TRUE)","v":{"$error":"#N/A"}},{"$f":"Constraints!P191","v":4.8}]
[10,null,{"$f":"HLOOKUP($I$10,Constraints!$Q$176:AD205,A384,TRUE)","v":{"$error":"#N/A"}},{"$f":"Constraints!P190","v":4.5999999999999996}]
[9,null,{"$f":"HLOOKUP($I$10,Constraints!$Q$176:AD206,A385,TRUE)","v":{"$error":"#N/A"}},{"$f":"Constraints!P189","v":4.4000000000000004}]
[8,null,{"$f":"HLOOKUP($I$10,Constraints!$Q$176:AD207,A386,TRUE)","v":{"$error":"#N/A"}},{"$f":"Constraints!P188","v":4.2}]
[7,null,{"$f":"HLOOKUP($I$10,Constraints!$Q$176:AD208,A387,TRUE)","v":{"$error":"#N/A"}},{"$f":"Constraints!P187","v":4}]
[6,null,{"$f":"HLOOKUP($I$10,Constraints!$Q$176:AD209,A388,TRUE)","v":{"$error":"#N/A"}},{"$f":"Constraints!P186","v":3.8}]
[5,null,{"$f":"HLOOKUP($I$10,Constraints!$Q$176:AD210,A389,TRUE)","v":{"$error":"#N/A"}},{"$f":"Constraints!P185","v":3.6}]
[4,null,{"$f":"HLOOKUP($I$10,Constraints!$Q$176:AD211,A390,TRUE)","v":{"$error":"#N/A"}},{"$f":"Constraints!P184","v":3.4}]
[3,null,{"$f":"HLOOKUP($I$10,Constraints!$Q$176:AD212,A391,TRUE)","v":{"$error":"#N/A"}},{"$f":"Constraints!P183","v":3.2}]
[2,null,{"$f":"HLOOKUP($I$10,Constraints!$Q$176:AD213,A392,TRUE)","v":{"$error":"#N/A"}},{"$f":"Constraints!P182","v":3}]
[null,null,{"$f":"HLOOKUP($I$10,Constraints!$Q$176:AD214,A393,TRUE)","v":{"$error":"#N/A"}},{"$f":"Constraints!P181","v":2.8}]
[null,null,{"$f":"HLOOKUP($I$10,Constraints!$Q$176:AD215,A394,TRUE)","v":{"$error":"#N/A"}},{"$f":"Constraints!P180","v":2.6}]
[null,null,{"$f":"HLOOKUP($I$10,Constraints!$Q$176:AD216,A395,TRUE)","v":{"$error":"#N/A"}},{"$f":"Constraints!P179","v":2.4}]
[null,null,{"$f":"HLOOKUP($I$10,Constraints!$Q$176:AD217,A396,TRUE)","v":{"$error":"#N/A"}},{"$f":"Constraints!P178","v":2.2000000000000002}]
[null,null,{"$f":"HLOOKUP($I$10,Constraints!$Q$176:AD218,A397,TRUE)","v":{"$error":"#N/A"}},{"$f":"Constraints!P177","v":2}]
[1]
[32]
[31]
[30,null,null,{"$f":"Constraints!P201","v":"Emax=8%"}]
[29]
[28,null,{"$f":"HLOOKUP($I$10,Constraints!$Q$203:AD234,A403,TRUE)","v":{"$error":"#N/A"}},{"$f":"Constraints!P203","v":"super"}]
[27,null,{"$f":"HLOOKUP($I$10,Constraints!$Q$203:AD235,A404,TRUE)","v":{"$error":"#N/A"}},{"$f":"INDEX(Constraints!$P$203:$P$234,A404,)","v":8}]
[26,null,{"$f":"HLOOKUP($I$10,Constraints!$Q$203:AD236,A405,TRUE)","v":{"$error":"#N/A"}},{"$f":"INDEX(Constraints!$P$203:$P$234,A405,)","v":7.8}]
[25,null,{"$f":"HLOOKUP($I$10,Constraints!$Q$203:AD237,A406,TRUE)","v":{"$error":"#N/A"}},{"$f":"INDEX(Constraints!$P$203:$P$234,A406,)","v":7.6}]
[24,null,{"$f":"HLOOKUP($I$10,Constraints!$Q$203:AD238,A407,TRUE)","v":{"$error":"#N/A"}},{"$f":"INDEX(Constraints!$P$203:$P$234,A407,)","v":7.4}]
[23,null,{"$f":"HLOOKUP($I$10,Constraints!$Q$203:AD239,A408,TRUE)","v":{"$error":"#N/A"}},{"$f":"INDEX(Constraints!$P$203:$P$234,A408,)","v":7.2}]
[22,null,{"$f":"HLOOKUP($I$10,Constraints!$Q$203:AD240,A409,TRUE)","v":{"$error":"#N/A"}},{"$f":"INDEX(Constraints!$P$203:$P$234,A409,)","v":7}]
[21,null,{"$f":"HLOOKUP($I$10,Constraints!$Q$203:AD241,A410,TRUE)","v":{"$error":"#N/A"}},{"$f":"INDEX(Constraints!$P$203:$P$234,A410,)","v":6.8}]
[20,null,{"$f":"HLOOKUP($I$10,Constraints!$Q$203:AD242,A411,TRUE)","v":{"$error":"#N/A"}},{"$f":"INDEX(Constraints!$P$203:$P$234,A411,)","v":6.6}]
[19,null,{"$f":"HLOOKUP($I$10,Constraints!$Q$203:AD243,A412,TRUE)","v":{"$error":"#N/A"}},{"$f":"INDEX(Constraints!$P$203:$P$234,A412,)","v":6.4}]
[18,null,{"$f":"HLOOKUP($I$10,Constraints!$Q$203:AD244,A413,TRUE)","v":{"$error":"#N/A"}},{"$f":"INDEX(Constraints!$P$203:$P$234,A413,)","v":6.2}]
[17,null,{"$f":"HLOOKUP($I$10,Constraints!$Q$203:AD245,A414,TRUE)","v":{"$error":"#N/A"}},{"$f":"INDEX(Constraints!$P$203:$P$234,A414,)","v":6}]
[16,null,{"$f":"HLOOKUP($I$10,Constraints!$Q$203:AD246,A415,TRUE)","v":{"$error":"#N/A"}},{"$f":"INDEX(Constraints!$P$203:$P$234,A415,)","v":5.8}]
[15,null,{"$f":"HLOOKUP($I$10,Constraints!$Q$203:AD247,A416,TRUE)","v":{"$error":"#N/A"}},{"$f":"INDEX(Constraints!$P$203:$P$234,A416,)","v":5.6}]
[14,null,{"$f":"HLOOKUP($I$10,Constraints!$Q$203:AD248,A417,TRUE)","v":{"$error":"#N/A"}},{"$f":"INDEX(Constraints!$P$203:$P$234,A417,)","v":5.4}]
[13,null,{"$f":"HLOOKUP($I$10,Constraints!$Q$203:AD249,A418,TRUE)","v":{"$error":"#N/A"}},{"$f":"INDEX(Constraints!$P$203:$P$234,A418,)","v":5.2}]
[12,null,{"$f":"HLOOKUP($I$10,Constraints!$Q$203:AD250,A419,TRUE)","v":{"$error":"#N/A"}},{"$f":"INDEX(Constraints!$P$203:$P$234,A419,)","v":5}]
[11,null,{"$f":"HLOOKUP($I$10,Constraints!$Q$203:AD251,A420,TRUE)","v":{"$error":"#N/A"}},{"$f":"INDEX(Constraints!$P$203:$P$234,A420,)","v":4.8}]
[10,null,{"$f":"HLOOKUP($I$10,Constraints!$Q$203:AD252,A421,TRUE)","v":{"$error":"#N/A"}},{"$f":"INDEX(Constraints!$P$203:$P$234,A421,)","v":4.5999999999999996}]
[9,null,{"$f":"HLOOKUP($I$10,Constraints!$Q$203:AD253,A422,TRUE)","v":{"$error":"#N/A"}},{"$f":"INDEX(Constraints!$P$203:$P$234,A422,)","v":4.4000000000000004}]
[8,null,{"$f":"HLOOKUP($I$10,Constraints!$Q$203:AD254,A423,TRUE)","v":{"$error":"#N/A"}},{"$f":"INDEX(Constraints!$P$203:$P$234,A423,)","v":4.2}]
[7,null,{"$f":"HLOOKUP($I$10,Constraints!$Q$203:AD255,A424,TRUE)","v":{"$error":"#N/A"}},{"$f":"INDEX(Constraints!$P$203:$P$234,A424,)","v":4}]
[6,null,{"$f":"HLOOKUP($I$10,Constraints!$Q$203:AD256,A425,TRUE)","v":{"$error":"#N/A"}},{"$f":"INDEX(Constraints!$P$203:$P$234,A425,)","v":3.8}]
[5,null,{"$f":"HLOOKUP($I$10,Constraints!$Q$203:AD257,A426,TRUE)","v":{"$error":"#N/A"}},{"$f":"INDEX(Constraints!$P$203:$P$234,A426,)","v":3.6}]
[4,null,{"$f":"HLOOKUP($I$10,Constraints!$Q$203:AD258,A427,TRUE)","v":{"$error":"#N/A"}},{"$f":"INDEX(Constraints!$P$203:$P$234,A427,)","v":3.4}]
[3,null,{"$f":"HLOOKUP($I$10,Constraints!$Q$203:AD259,A428,TRUE)","v":{"$error":"#N/A"}},{"$f":"INDEX(Constraints!$P$203:$P$234,A428,)","v":3.2}]
[2,null,{"$f":"HLOOKUP($I$10,Constraints!$Q$203:AD260,A429,TRUE)","v":{"$error":"#N/A"}},{"$f":"INDEX(Constraints!$P$203:$P$234,A429,)","v":3}]
[null,null,{"$f":"HLOOKUP($I$10,Constraints!$Q$203:AD261,A430,TRUE)","v":{"$error":"#N/A"}},{"$f":"INDEX(Constraints!$P$203:$P$234,A430,)","v":2.8}]
[null,null,{"$f":"HLOOKUP($I$10,Constraints!$Q$203:AD262,A431,TRUE)","v":{"$error":"#N/A"}},{"$f":"INDEX(Constraints!$P$203:$P$234,A431,)","v":2.6}]
[null,null,{"$f":"HLOOKUP($I$10,Constraints!$Q$203:AD263,A432,TRUE)","v":{"$error":"#N/A"}},{"$f":"INDEX(Constraints!$P$203:$P$234,A432,)","v":2.4}]
[null,null,{"$f":"HLOOKUP($I$10,Constraints!$Q$203:AD264,A433,TRUE)","v":{"$error":"#N/A"}},{"$f":"INDEX(Constraints!$P$203:$P$234,A433,)","v":2.2000000000000002}]
[null,null,{"$f":"HLOOKUP($I$10,Constraints!$Q$203:AD265,A434,TRUE)","v":{"$error":"#N/A"}},{"$f":"INDEX(Constraints!$P$203:$P$234,A434,)","v":2}]

{"sheet":"Configuration 8","index":18,"n_rows":439,"n_cols":113,"rows_kept":439,"cut":false,"hidden":false,"merged":[[1,6,2,7],[1,8,2,8],[1,21,1,37],[2,1,2,4],[2,21,3,28],[2,30,3,37],[3,1,3,4],[3,6,4,7],[3,8,4,8],[4,1,4,2],[4,3,4,4],[4,21,44,28],[4,30,44,37],[5,1,5,2],[5,3,5,4],[6,1,6,7],[7,1,7,4],[7,7,7,8],[8,3,8,4],[8,5,8,6],[75,16,75,21],[75,22,75,23],[9,3,9,4],[9,5,9,6],[10,3,10,4],[10,5,10,6],[11,5,11,6],[12,2,15,4],[12,5,12,6],[13,5,13,6],[14,5,14,6],[17,2,18,8],[20,5,20,7],[38,9,38,10],[45,12,45,19],[74,16,74,23],[76,22,76,23],[77,16,77,21],[77,22,77,23],[78,16,78,21],[78,22,78,23],[84,1,84,2],[85,1,85,2],[86,1,86,2],[95,10,95,12],[76,16,76,21]]}
[]
[null,null,null,null,null,null,"Preferred Schematic View to Display",null,"Standard",null,null,null,null,null,null,null,null,null,null,null,null,"NOTES: "]
[null,"CHARACTERISTICS TO CONSIDER FOR ANALYSIS",null,null,null,null,null,null,null,null,null,null,null,null,null,null,null,null,null,null,null,"ELEMENTS INCREASING SAFETY",null,null,null,null,null,null,null,null,"COMMENTS ON PRIMARY CONSTRAINTS"]
[null,"INPUT INSTRUCTIONS",null,null,null,null,"Relative to",null,"Existing"]
[null,"Blue Boxes -- Select from pulldown options",null,"Select from Pulldown"]
[null,"Yellow Boxes -- Type input information into box",null,"Type Input Value"]
[null," Rural Two-Lane Road Segment -- Safety Score Input",null,null,null,null,null,null,null,null,null,null,null,null,null,null,null,null,null,null,null,null,null,null,null,null,null,null,null,null,null,null,null,null,null,null,null,null,null,null,null,null,null,null,null,null,null,null,null,null,null,null,null,null,null,null,null,null,null,null,null,null,null,null,null,null,null,null,null,null,null,null,null,null,null,null,null,null,null,null,null,null,null,"Unadjusted Marginal Safety"]
[null,"General Information:",null,null,null,"General Site Features",null,{"$f":"I315 & \" Missing Features and Curves\"","v":"9 Missing Features and Curves"},null,null,null,null,null,null,null,null,null,null,null,null,null,null,null,null,null,null,null,null,null,null,null,null,null,null,null,null,null,null,null,null,null,null,null,null,null,null,null,null,null,null,null,null,null,null,null,null,null,null,null,null,null,null,null,null,null,null,null,null,null,null,null,null,null,null,null,null,null,null,null,null,null,null,null,{"$f":"I2&\" relative to \" &I4","v":"Standard relative to Existing"}]
[null,null,"Analyst:",{"$f":"+'Start Here'!J7","v":0},null,"Location "]
[null,null,"Agency or Company:",{"$f":"+'Start Here'!J8","v":0},null,"Design Speed (mph)"]
[null,null,"Date:",{"$f":"+'Start Here'!J9","v":"00:00:00"},null,"Posted Speed (mph)"]
[null,null,"Description:",null,null,"E max (%)"]
[null,null,null,null,null,"Design Year AADT (vehicles per day)"]
[null,null,null,null,null,"Dist. from Centerline to Left   ROW (feet)"]
[null,null,null,null,null,"Dist. from Centerline to Right ROW (feet)"]
[]
[null,"Warning:"]
[null,null,{"$f":"+IF(+I11>I10,\"Posted speed exceeds design speed. Optimal safety will only be achieved if design speed exceeds posted speed. The Safety Assessment Score is based on the higher of the two speed values.\",\"No warnings identified\")","v":"No warnings identified"}]
[null,null,null,null,null,null,null,null,null,null,null,null,null,null,null,{"$f":"\"Unadjusted Marginal Safety of elements in \"&I2&\" from Design Standards\"","v":"Unadjusted Marginal Safety of elements in Standard from Design Standards"},null,null,null,null,null,null,null,null,null,null,null,null,null,null,null,null,null,null,null,null,null,null,null,null,null,null,null,null,null,null,null,null,null,null,null,null,null,null,null,null,null,null,null,null,null,null,null,null,null,null,null,null,null,null,null,null,null,null,null,null,null,null,null,null,null,null,null,null,null,null,null,null,null,null,null,null,null,null,null,null,null,null,null,null,null,null,null,null,null,{"$f":"COUNTIF(DB23:DB41,DB20)","v":1}]
[null,null,null,null,null,null,null,null,null,null,null,null,null,null,null,null,null,null,null,null,null,null,null,null,null,null,null,null,null,null,null,null,null,null,null,null,null,null,null,null,null,null,null,null,null,null,null,null,null,null,null,null,null,null,null,null,null,null,null,null,null,null,null,null,null,null,null,null,null,null,null,null,null,null,null,null,null,null,null,null,null,null,null,null,null,null,null,null,null,null,null,null,null,null,null,null,null,null,null,null,null,null,null,null,null,{"$f":"VLOOKUP(0,CZ23:DB41,3,)","v":10.01}]
[null,null,null,"Fill all elements",null,"To enter notes, use boxes to the right of the vortex ",null,null,null,null," "]
[null,{"$f":"+Construction!$I$8&\"  Total Available Points\"","v":"40  Total Available Points"},null,{"$f":"D249 & \" Missing Elements\"","v":"18 Missing Elements"},null,{"$f":"F249 & \" Missing Elements\"","v":"18 Missing Elements"},{"$f":"G249 & \" Missing Elements\"","v":"18 Missing Elements"},null,null,null,null,null,null,null,null,null,null,null,null,null,null,null,null,null,null,null,null,null,null,null,null,null,null,null,null,null,null,null,null,null,null,null,null,null,null,null,null,null,null,null,null,null,null,null,null,null,null,null,null,null,null,null,null,null,null,null,null,null,null,null,null,null,null,null,null,null,null,null,null,null,null,null,null,null,null,null,null,null,null,null,null,null,null,null,null,null,null,null,null,null,null,"Ranked element","CRF","abs","Re-rank","Rank","Ranked CRF","Element","New Element","crf.abs","rank","Sorted Element","Sorted CRF"]
[null,"Geometric Design Elements",null,"Existing","Standard","Design 1","Design 2",{"$f":"\"Marginal Safety for \"&$I$2&\" (compared to \" & $I$4 & \")\"","v":"Marginal Safety for Standard (compared to Existing)"},"Optimal",null,null,null,null,null,null,null,null,null,null,null,null,null,null,null,null,null,null,null,null,null,null,null,null,null,null,null,null,null,null,null,null,null,null,null,null,null,null,null,null,null,null,null,null,null,null,null,null,null,null,null,null,null,null,null,null,null,null,null,null,null,null,null,null,null,null,null,null,null,null,null,null,null,null,null,null,null,null,null,null,null,null,null,null,null,null,null,null,null,null,null,null,{"$f":"IF(CY23=0,\"\",DB23&\". \"&DD23)","v":""},{"$f":"H24","v":0},{"$f":"ABS(CY23)","v":0},{"$f":"RANK(DB23,$DB$23:$DB$41,1)","v":10},{"$f":"_xlfn.RANK.EQ(CZ23,$CZ$23:$CZ$41)+DG23/100","v":10.01},{"$f":"CY23","v":0},{"$f":"IF(ROUND(DF23,2)=0,\"\",C24)","v":""},{"$f":"DD23","v":""},{"$f":"CZ23","v":0},1,{"$f":"IFERROR(IF(IFERROR(VLOOKUP(DG23,$DA$23:$DF$41,4,)&\", \"&CY23=0,\"\"),\"\",IFERROR(VLOOKUP(DG23,$DA$23:$DE$41,4,),\"\")),\"\")","v":"TWLTL (two-way left-turn lane)"},{"$f":"IFERROR(IF(IFERROR(VLOOKUP(DG23,$DA$23:$DF$41,3,)&\", \"&CY23=0,\"\"),\"\",IFERROR(VLOOKUP(DG23,$DA$23:$DE$41,3,),\"\")),\"\")","v":-0.40845070422535223}]
[null,null,"Lane Width (feet)",null,12,null,null,{"$f":"M100","v":0},12,null,null,null,null,null,null,null,null,null,null,null,null,null,null,null,null,null,null,null,null,null,null,null,null,null,null,null,null,null,null,null,null,null,null,null,null,null,null,null,null,null,null,null,null,null,null,null,null,null,null,null,null,null,null,null,null,null,null,null,null,null,null,null,null,null,null,null,null,null,null,null,null,null,null,null,null,null,null,null,null,null,null,null,null,null,null,null,null,null,null,null,null,"5.02. Shoulder Width (feet)",{"$f":"H25","v":0.15503875968992242},0.15503875968992242,{"$f":"RANK(DB24,$DB$23:$DB$41,1)","v":5},{"$f":"_xlfn.RANK.EQ(CZ24,$CZ$23:$CZ$41)+DG24/100","v":5.0199999999999996},{"$f":"CY24","v":0.15503875968992242},{"$f":"IF(ROUND(DF24,2)=0,\"\",C25)","v":"Shoulder Width (feet)"},{"$f":"DD24","v":"Shoulder Width (feet)"},0.15503875968992242,2,"Pavement Friction (skid number) ***",{"$f":"IFERROR(IF(IFERROR(VLOOKUP(DG24,$DA$23:$DF$41,3,)&\", \"&CY24=0,\"\"),\"\",IFERROR(VLOOKUP(DG24,$DA$23:$DE$41,3,),\"\")),\"\")","v":0.28430956017940245}]
[null,null,"Shoulder Width (feet)",null,{"$f":"IF('Start Here'!$J$12=\"4R\",8,4)","v":4},null,null,{"$f":"M101","v":0.15503875968992242},10,null,null,null,null,null,null,null,null,null,null,null,null,null,null,null,null,null,null,null,null,null,null,null,null,null,null,null,null,null,null,null,null,null,null,null,null,null,null,null,null,null,null,null,null,null,null,null,null,null,null,null,null,null,null,null,null,null,null,null,null,null,null,null,null,null,null,null,null,null,null,null,null,null,null,null,null,null,null,null,null,null,null,null,null,null,null,null,null,null,null,null,null,"",{"$f":"H29","v":0},0,11,10.029999999999999,0,{"$f":"IF(ROUND(DF25,2)=0,\"\",\"Hz and Vt Alignment\")","v":""},"",0,3,"Driveway Density (driveways per mile)",-0.22388114201141129]
[null,null,"Cross-slope or Superelevation (%)",null,{"$f":"IF($I$12=6,IFERROR(VLOOKUP(E29,$C$382:$D$402,2,TRUE),6),IFERROR(VLOOKUP(E29,$C$409:$D$439,2,TRUE),8))","v":8},null,null,null,{"$f":"I12","v":0},null,null,null,null,null,null,null,null,null,null,null,null,null,null,null,null,null,null,null,null,null,null,null,null,null,null,null,null,null,null,null,null,null,null,null,null,null,null,null,null,null,null,null,null,null,null,null,null,null,null,null,null,null,null,null,null,null,null,null,null,null,null,null,null,null,null,null,null,null,null,null,null,null,null,null,null,null,null,null,null,null,null,null,null,null,null,null,null,null,null,null,null,"1.04. TWLTL (two-way left-turn lane)",{"$f":"H43","v":-0.40845070422535223},0.40845070422535223,1,1.04,-0.40845070422535223,{"$f":"IF(ROUND(DF26,2)=0,\"\",C43)","v":"TWLTL (two-way left-turn lane)"},"TWLTL (two-way left-turn lane)",0.40845070422535223,4,"Centerline Rumble Strips",-0.16279069767441867]
["",null,"Horizontal Curve Present?","--","--","--","--",null,"--",null,null,null,null,null,null,null,null,null,null,null,null,null,null,null,null,null,null,null,null,null,null,null,null,null,null,null,null,null,null,null,null,null,null,null,null,null,null,null,null,null,null,null,null,null,null,null,null,null,null,null,null,null,null,null,null,null,null,null,null,null,null,null,null,null,null,null,null,null,null,null,null,null,null,null,null,null,null,null,null,null,null,null,null,null,null,null,null,null,null,null,null,"",{"$f":"H44","v":0},0,12,10.050000000000001,0,{"$f":"IF(ROUND(DF27,2)=0,\"\",C44)","v":""},"",0,5,"Shoulder Width (feet)",0.15503875968992242]
[null,null,"Horizontal Curve Data for Controlling Element:","--","--","--","--",null,"--",null,null,null,null,null,null,null,null,null,null,null,null,null,null,null,null,null,null,null,null,null,null,null,null,null,null,null,null,null,null,null,null,null,null,null,null,null,null,null,null,null,null,null,null,null,null,null,null,null,null,null,null,null,null,null,null,null,null,null,null,null,null,null,null,null,null,null,null,null,null,null,null,null,null,null,null,null,null,null,null,null,null,null,null,null,null,null,null,null,null,null,null,"",{"$f":"H52","v":0},0,13,10.06,0,{"$f":"IF(ROUND(DF28,2)=0,\"\",C52)","v":""},"",0,6,"Edgeline Pavement Markings or Profile Markings",0.13824118691351761]
[null,null,"  Radius (feet)",null,{"$f":"IF(MAX($I$10,$I$11)<45,590,IF($I$12=6,VLOOKUP(MAX($I$10,$I$11),Construction!$B$29:$D$36,2,TRUE),VLOOKUP(MAX($I$10,$I$11),Construction!$G$29:$I$36,2,TRUE)))","v":590},null,null,{"$f":"M140","v":0},{"$f":"IF(MAX($I$10,$I$11)<45,590,IF($I$12=6,VLOOKUP(MAX($I$10,$I$11),Construction!$B$45:$C$52,2,TRUE),VLOOKUP(MAX($I$10,$I$11),Construction!$G$45:$H$52,2,TRUE)))","v":590},null,null,null,null,null,null,null,null,null,null,null,null,null,null,null,null,null,null,null,null,null,null,null,null,null,null,null,null,null,null,null,null,null,null,null,null,null,null,null,null,null,null,null,null,null,null,null,null,null,null,null,null,null,null,null,null,null,null,null,null,null,null,null,null,null,null,null,null,null,null,null,null,null,null,null,null,null,null,null,null,null,null,null,null,null,null,null,null,null,null,null,null,"",0,0,14,10.07,0,"","",0,7,"Lateral Clearance to obstruction (ft)",9.0307162971216326E-2]
[null,null,"Length of Horizontal Curve (feet)",null,{"$f":"IF(D31=\"\", \"\", E29*E31/57.296)","v":""},null,null,null,{"$f":"I29*I31/57.296","v":3758.5520804244625},null,null,null,null,null,null,null,null,null,null,null,null,null,null,null,null,null,null,null,null,null,null,null,null,null,null,null,null,null,null,null,null,null,null,null,null,null,null,null,null,null,null,null,null,null,null,null,null,null,null,null,null,null,null,null,null,null,null,null,null,null,null,null,null,null,null,null,null,null,null,null,null,null,null,null,null,null,null,null,null,null,null,null,null,null,null,null,null,null,null,null,null,"",0,0,15,10.08,0,"","",0,8,"SafetyEdge",-2.8188991921691331E-2]
[null,null,"Calculated Deflection Angle ∆",{"$f":"IF(OR(ISBLANK(D29),ISBLANK(D30),$B$27=\"No\",ISBLANK($B$27)),\"\",ROUND(D30/D29*57.296,1))","v":""},{"$f":"IF(ISBLANK(D31), \"\",D31)","v":""},{"$f":"IF(OR(ISBLANK(F29),ISBLANK(F30),$B$27=\"No\",ISBLANK($B$27)),\"\",ROUND(F30/F29*57.296,1))","v":""},{"$f":"IF(OR(ISBLANK(G29),ISBLANK(G30),$B$27=\"No\",ISBLANK($B$27)),\"\",ROUND(G30/G29*57.296,1))","v":""},null,{"$f":"MIN(D31,IF(F33=INDEX(HCurveChange,1,0), F31, 365),IF(G33=INDEX(HCurveChange,1,0), G31, 365))","v":365},null,null,null,null,null,null,null,null,null,null,null,null,null,null,null,null,null,null,null,null,null,null,null,null,null,null,null,null,null,null,null,null,null,null,null,null,null,null,null,null,null,null,null,null,null,null,null,null,null,null,null,null,null,null,null,null,null,null,null,null,null,null,null,null,null,null,null,null,null,null,null,null,null,null,null,null,null,null,null,null,null,null,null,null,null,null,null,null,null,null,null,null,"6.09. Edgeline Pavement Markings or Profile Markings",0.13824118691351761,0.13824118691351761,6,6.09,0.13824118691351761,"Edgeline Pavement Markings or Profile Markings","Edgeline Pavement Markings or Profile Markings",0.13824118691351761,9,"Lighting",-2.3499081529478438E-2]
[null,null,null,null,null,"∆ has changed. \nAre you changing the ∆?","∆ has changed. \nAre you changing the ∆?",null,null,null,null,null,null,null,null,null,null,null,null,null,null,null,null,null,null,null,null,null,null,null,null,null,null,null,null,null,null,null,null,null,null,null,null,null,null,null,null,null,null,null,null,null,null,null,null,null,null,null,null,null,null,null,null,null,null,null,null,null,null,null,null,null,null,null,null,null,null,null,null,null,null,null,null,null,null,null,null,null,null,null,null,null,null,null,null,null,null,null,null,null,null,"",0,0,16,10.1,0,"","",0,10,"",0]
[null,null,null,null,null,null,null,null,null,null,null,null,null,null,null,null,null,null,null,null,null,null,null,null,null,null,null,null,null,null,null,null,null,null,null,null,null,null,null,null,null,null,null,null,null,null,null,null,null,null,null,null,null,null,null,null,null,null,null,null,null,null,null,null,null,null,null,null,null,null,null,null,null,null,null,null,null,null,null,null,null,null,null,null,null,null,null,null,null,null,null,null,null,null,null,null,null,null,null,null,null,"4.11. Centerline Rumble Strips",-0.16279069767441867,0.16279069767441867,4,4.1100000000000003,-0.16279069767441867,"Centerline Rumble Strips","Centerline Rumble Strips",0.16279069767441867,11,"",0]
[null,null,"Vertical Curve Present?","--","--","--","--",null,{"$f":"E34","v":"--"},null,null,null,null,null,null,null,null,null,null,null,null,null,null,null,null,null,null,null,null,null,null,null,null,null,null,null,null,null,null,null,null,null,null,null,null,null,null,null,null,null,null,null,null,null,null,null,null,null,null,null,null,null,null,null,null,null,null,null,null,null,null,null,null,null,null,null,null,null,null,null,null,null,null,null,null,null,null,null,null,null,null,null,null,null,null,null,null,null,null,null,null,"3.12. Driveway Density (driveways per mile)",-0.22388114201141129,0.22388114201141129,3,3.12,-0.22388114201141129,{"$f":"IF(DF34=0,\"\",C58)","v":"Driveway Density (driveways per mile)"},"Driveway Density (driveways per mile)",0.22388114201141129,12,"",0]
[null,null,"Vertical Curve Data for Controlling Element:","--","--","--","--",null,"--",null,null,null,null,null,null,null,null,null,null,null,null,null,null,null,null,null,null,null,null,null,null,null,null,null,null,null,null,null,null,null,null,null,null,null,null,null,null,null,null,null,null,null,null,null,null,null,null,null,null,null,null,null,null,null,null,null,null,null,null,null,null,null,null,null,null,null,null,null,null,null,null,null,null,null,null,null,null,null,null,null,null,null,null,null,null,null,null,null,null,null,null,"9.13. Lighting",-2.3499081529478438E-2,2.3499081529478438E-2,9,9.1300000000000008,-2.3499081529478438E-2,{"$f":"IF(DF35=0,\"\",C59)","v":"Lighting"},"Lighting",2.3499081529478438E-2,13,"",0]
[null,null,"  Approach (Entry) Grade, G1 (%)",null,{"$f":"IF(ISBLANK(D36),\"\", D36)","v":""},null,null,null,{"$f":"IF(B34=\"Yes\",I227,I237)","v":""},null,null,null,null,null,null,null,null,null,null,null,null,null,null,null,null,null,null,null,null,null,null,null,null,null,null,null,null,null,null,null,null,null,null,null,null,null,null,null,null,null,null,null,null,null,null,null,null,null,null,null,null,null,null,null,null,null,null,null,null,null,null,null,null,null,null,null,null,null,null,null,null,null,null,null,null,null,null,null,null,null,null,null,null,null,null,null,null,null,null,null,null,"2.14. Pavement Friction (skid number) ***",0.28430956017940245,0.28430956017940245,2,2.14,0.28430956017940245,{"$f":"IF(DF36=0,\"\",C60)","v":"Pavement Friction (skid number) ***"},"Pavement Friction (skid number) ***",0.28430956017940245,14,"",0]
[null,null,"  Departure (Exit) Grade, G2 (%)",null,{"$f":"IF(ISBLANK(D37),\"\", D37)","v":""},null,null,null,{"$f":"IF($B$34=\"Yes\",I228,\"\")","v":""},null,null,null,null,null,null,null,null,null,null,null,null,null,null,null,null,null,null,null,null,null,null,null,null,null,null,null,null,null,null,null,null,null,null,null,null,null,null,null,null,null,null,null,null,null,null,null,null,null,null,null,null,null,null,null,null,null,null,null,null,null,null,null,null,null,null,null,null,null,null,null,null,null,null,null,null,null,null,null,null,null,null,null,null,null,null,null,null,null,null,null,null,"",{"$f":"H72","v":0},0,17,10.15,0,{"$f":"IF(DF37=0,\"\",C72)","v":""},"",0,15,"",0]
[null,null,"  Length (feet)",null,{"$f":"IF(AND($B$34=\"Yes\", D39<>\"\"), ABS(E36-E37)*D39, \"\")","v":""},null,null,null,{"$f":"IF(AND($B$34=\"Yes\",I36<>\"\",I37<>\"\", NOT(ISBLANK($I$10)), NOT(ISBLANK($I$11))),ABS(I37-I36)*I39,\"\")","v":""},null,null,null,null,null,null,null,null,null,null,null,null,null,null,null,null,null,null,null,null,null,null,null,null,null,null,null,null,null,null,null,null,null,null,null,null,null,null,null,null,null,null,null,null,null,null,null,null,null,null,null,null,null,null,null,null,null,null,null,null,null,null,null,null,null,null,null,null,null,null,null,null,null,null,null,null,null,null,null,null,null,null,null,null,null,null,null,null,null,null,null,null,"",{"$f":"H73","v":0},{"$f":"ABS(CY38)","v":0},18,10.16,0,{"$f":"IF(DF38=0,\"\",C73)","v":""},"",0,16,"",0]
[null,null,"  Calculated Rate of Change, K (ft/ft)",{"$f":"IF(OR($B$34=\"No\",ISBLANK($B$34), ISBLANK(D36), ISBLANK(D37),ISBLANK(D38), D36=D37), \"\", ROUND(D38/(ABS(D37-D36)),1))","v":""},{"$f":"IF(AND($B$34=\"Yes\", NOT(ISBLANK($I$10)), NOT(ISBLANK($I$11)), D39<>\"\"), IF($E$42=\"Crest\",  VLOOKUP(MAX($I$10,$I$11),Construction!$B$159:$D$171,2,TRUE), VLOOKUP(MAX($I$10,$I$11),Construction!$B$159:$D$171,3,TRUE)), \"\")","v":""},{"$f":"IF(AND($B$34=\"Yes\", SUM(F263:F265)=0),ROUND(F38/(ABS(F37-F36)),1),\"\")","v":""},{"$f":"IF(AND($B$34=\"Yes\", SUM(G263:G265)=0),ROUND(G38/(ABS(G37-G36)),1),\"\")","v":""},null,{"$f":"IF(OR($B$34<>\"Yes\", ISBLANK($I$10), ISBLANK($I$11), $I$36=\"\", $I$37=\"\", $I$42=\"--\", ISBLANK($I$42)),\"\",IF($I$42=\"Crest\",VLOOKUP(MAX($I$10,$I$11),Construction!$B$179:$D$191,2,TRUE),VLOOKUP(MAX($I$10,$I$11),Construction!$B$179:$D$191,3,TRUE)))","v":""},null,null,null,null,null,null,null,null,null,null,null,null,null,null,null,null,null,null,null,null,null,null,null,null,null,null,null,null,null,null,null,null,null,null,null,null,null,null,null,null,null,null,null,null,null,null,null,null,null,null,null,null,null,null,null,null,null,null,null,null,null,null,null,null,null,null,null,null,null,null,null,null,null,null,null,null,null,null,null,null,null,null,null,null,null,null,null,null,null,null,null,null,"8.17. SafetyEdge",{"$f":"H74","v":-2.8188991921691331E-2},{"$f":"ABS(CY39)","v":2.8188991921691331E-2},8,8.17,-2.8188991921691331E-2,{"$f":"IF(DF39=0,\"\",C74)","v":"SafetyEdge"},"SafetyEdge",2.8188991921691331E-2,17,"",0]
[null,null,null,null,null,"Are you changing the geometry?","Are you changing the geometry?",null,null,null,null,null,null,null,null,null,null,null,null,null,null,null,null,null,null,null,null,null,null,null,null,null,null,null,null,null,null,null,null,null,null,null,null,null,null,null,null,null,null,null,null,null,null,null,null,null,null,null,null,null,null,null,null,null,null,null,null,null,null,null,null,null,null,null,null,null,null,null,null,null,null,null,null,null,null,null,null,null,null,null,null,null,null,null,null,null,null,null,null,null,null,"7.18. Lateral Clearance to obstruction (ft)",{"$f":"H75","v":9.0307162971216326E-2},{"$f":"ABS(CY40)","v":9.0307162971216326E-2},7,7.18,9.0307162971216326E-2,{"$f":"IF(DF40=0,\"\",C75)","v":"Lateral Clearance to obstruction (ft)"},"Lateral Clearance to obstruction (ft)",9.0307162971216326E-2,18,"",0]
[null,null,null,null,null,null,null,null,null,null,null,null,null,null,null,null,null,null,null,null,null,null,null,null,null,null,null,null,null,null,null,null,null,null,null,null,null,null,null,null,null,null,null,null,null,null,null,null,null,null,null,null,null,null,null,null,null,null,null,null,null,null,null,null,null,null,null,null,null,null,null,null,null,null,null,null,null,null,null,null,null,null,null,null,null,null,null,null,null,null,null,null,null,null,null,null,null,null,null,null,null,"",{"$f":"H76","v":0},{"$f":"ABS(CY41)","v":0},19,10.19,0,{"$f":"IF(DF41=0,\"\",C76)","v":""},"",0,19,"",0]
[null,null,"  Calculated Sag or Crest?",{"$f":"IF(AND($B$34=\"Yes\", SUM(D263:D265)=0),IF(D36>D37,\"Crest\",\"Sag\"),\"--\")","v":"--"},{"$f":"IF(AND($B$34=\"Yes\", SUM(D263:D265)=0),IF(E36>E37,\"Crest\",\"Sag\"),\"--\")","v":"--"},{"$f":"IF(AND($B$34=\"Yes\", SUM(F263:F265)=0),IF(F36>F37,\"Crest\",\"Sag\"),\"--\")","v":"--"},{"$f":"IF(AND($B$34=\"Yes\", SUM(G263:G265)=0),IF(G36>G37,\"Crest\",\"Sag\"),\"--\")","v":"--"},null,{"$f":"IF($B$34=\"Yes\",IF(I36>I37,\"Crest\",\"Sag\"),\"--\")","v":"--"}]
[null,null,"TWLTL (two-way left-turn lane)",null,"No",null,null,{"$f":"M108","v":-0.40845070422535223},{"$f":"IF(OR($D$43=\"Yes\", $F$43=\"Yes\",$G$43=\"Yes\"), \"Yes\", \"No\")","v":"No"}]
[null,null,"Passing Lane Type",null,"No Passing Lane",null,null,{"$f":"M109","v":0},"Super 2"]
[null,null,"Geometric Design Element (Partial Score)",{"$f":"IF(OR(SUM(D251:D253,D256:D257,D263:D265,D270:D271)>0, ISERR(D125)),\"\",D125)","v":""},{"$f":"IF(OR(SUM(E251:E253,E256:E257,E263:E265,E270:E271)>0, ISERR(E125)),\"\",E125)","v":""},"","",null,{"$f":"IF(OR(SUM(I251:I253,I256:I257,I263:I265,I270:I271)>0, ISERR(I125)),\"\",I125)","v":""}]
[null,null,"Total Safety Score",{"$f":"IF(OR(D$249>0, $I$315>0,ISERROR(D$201+D$171+D$125)),\"\",D$201+D$171+D$125)","v":""},{"$f":"IF(OR(E$249>0, $I$315>0,ISERROR(E$201+E$171+E$125)),\"\",E$201+E$171+E$125)","v":""},"","",null,"",null,null,null,"SCHEMATIC REPRESENTING INPUT DATA FOR ",null,null,null,null,null,null,null,{"$f":"IF($I$2=\"Existing\",\"EXISTING CONFIGURATION\",IF($I$2=\"Standard\",\"STANDARD OPTION\",IF($I$2=\"Design 1\",\"DESIGN 1 OPTION\",IF($I$2=\"Design 2\",\"DESIGN 2 OPTION\",\"OPTIMAL OPTION\"))))","v":"STANDARD OPTION"}]
[]
[null,null,null,null,null,null,null,null,null,null,null,"LT",null,null,null,null,null,null,null,null,null,null,null,null,null,null,"RT"]
[null,null,null,null,null,null,null,null,null,null,null,"R/W",null,null,null,null,null,null,null,null,null,null,null,null,null,null,"R/W"]
[null,{"$f":"+Construction!$I$9&\"  Total Available Points\"","v":"20  Total Available Points"}]
[null,"Traffic Elements",null,"Existing","Standard","Design 1","Design 2",{"$f":"$H$23","v":"Marginal Safety for Standard (compared to Existing)"},"Optimal",null,null,null,null,null,{"$f":"+$I$14","v":0},null,null,null,null,null,null,null,{"$f":"+$I$15","v":0}]
[null,null,"Advance Static Curve Warning Signs",null,"No",null,null,{"$f":"M145","v":0},"Yes"]
[null,null,"Chevron Signs on Horizontal Curves",null,"No",null,null,{"$f":"M146","v":0},"Yes",null,null,{"$f":"+O51-N53-Q53","v":-16},null,{"$f":"IF(+$I$2=\"Existing\",D25,IF($I$2=\"Standard\",E25,IF($I$2=\"Design 1\",F25,IF($I$2=\"Design 2\",G25,I25))))","v":4},null,null,{"$f":"IF(+$I$2=\"Existing\",D24,IF($I$2=\"Standard\",E24,IF($I$2=\"Design 1\",F24,IF($I$2=\"Design 2\",G24,I24))))","v":12},null,null,null,null,{"$f":"+Q53","v":12},null,null,{"$f":"+N53","v":4},{"$f":"+W51-V53-Y53","v":-16}]
[null,null,"Post-Mounted Delineators",null,"No",null,null,0,"Yes"]
[null,null,"Edgeline Pavement Markings or Profile Markings",null,"Yes",null,null,0.13824118691351761,"Yes"]
[null,null,"Shoulder Rumble Strips",null,"Yes",null,null,{"$f":"M150","v":0},"Yes"]
[null,null,"Centerline Rumble Strips",null,"No",null,null,{"$f":"M151","v":-0.16279069767441867},"Yes"]
[null,null,"Driveway Density (driveways per mile)",null,10,null,null,{"$f":"M152","v":-0.22388114201141129},0]
[null,null,"Lighting",null,"No",null,null,{"$f":"M153","v":-2.3499081529478438E-2},"Yes",null,null,null,null,null,null,null,null,null,"Tangent X-Section"]
[null,null,"Pavement Friction (skid number) ***",null,37,null,null,{"$f":"M154","v":0.28430956017940245},54]
[]
[null,null,"Traffic Control Element (Partial Score):",{"$f":"IF(ISERROR(D171), \"\", D171)","v":12},{"$f":"IF(ISERROR(E171), \"\", E171)","v":14},{"$f":"IF(ISERROR(F171), \"\", F171)","v":""},{"$f":"IF(ISERROR(G171), \"\", G171)","v":""},null,{"$f":"IF(ISERROR(I171), \"\", I171)","v":20}]
[null,null,"Total Safety Score",{"$f":"IF(OR(D$249>0, $I$315>0,ISERROR(D$201+D$171+D$125)),\"\",D$201+D$171+D$125)","v":""},{"$f":"IF(OR(E$249>0, $I$315>0,ISERROR(E$201+E$171+E$125)),\"\",E$201+E$171+E$125)","v":""},"","",null,""]
[]
[null,null,"*** Pavement friction/skid numbers will not be subject to open records requests ***",null,null,null,null,null,null,null," "]
[]
[]
[]
[null,null,null,null,null,null,null,null,null,null,null,null,null,null,null,null,null,null,"Curved X-Section"]
[null,{"$f":"+Construction!$I$10&\"  Total Available Points\"","v":"40  Total Available Points"}]
[null,"Roadside  Elements",null,"Existing","Standard","Design 1","Design 2",{"$f":"$H$23","v":"Marginal Safety for Standard (compared to Existing)"},"Optimal"]
[null,null,"Sideslope (Foreslope)",null,"1V:4H",null,null,{"$f":"M180","v":0},"1V:6H"]
[null,null,"Backslope",null,{"$f":"E72","v":"1V:4H"},null,null,{"$f":"M181","v":0},"1V:4H"]
[null,null,"SafetyEdge",null,"No",null,null,{"$f":"M182","v":-2.8188991921691331E-2},"Yes"]
[null,null,"Lateral Clearance to obstruction (ft)",null,30,null,null,{"$f":"M183","v":9.0307162971216326E-2},40,null,null,null,null,null,null,null,{"$f":"IF($I$2=\"Existing\",\"SCORE SUMMARY FOR EXISTING CONFIGURATION\", IF($I$2=\"Standard\",\"SCORE SUMMARY FOR STANDARD OPTION\",IF($I$2=\"Design 1\",\"SCORE SUMMARY FOR DESIGN 1 OPTION\",IF($I$2=\"Design 2\",\"SCORE SUMMARY FOR DESIGN 2 OPTION\", \"SCORE SUMMARY FOR OPTIMAL OPTION\"))))","v":"SCORE SUMMARY FOR STANDARD OPTION"}]
[null,null,"Obstruction Type",null,"Other Fixed Object",null,null,{"$f":"M184","v":0},"None",null,null,null,null,null,null,null,"GEOMETRIC DESIGN:",null,null,null,null,null,{"$f":"IF($I$2=\"Existing\",D45,IF($I$2=\"Standard\",E45,IF($I$2=\"Design 1\",F45,IF($I$2=\"Design 2\",G45,I45))))","v":""}]
[null,null,"Roadside Element (Partial Score):",{"$f":"IF(ISERR(D201),\"\",D201)","v":""},{"$f":"IF(ISERR(E201),\"\",E201)","v":27},{"$f":"IF(ISERR(F201),\"\",F201)","v":""},{"$f":"IF(ISERR(G201),\"\",G201)","v":""},null,{"$f":"IF(ISERR(I201),\"\",I201)","v":40},null,null,null,null,null,null,null,"TRAFFIC CONTROL:",null,null,null,null,null,{"$f":"IF($I$2=\"Existing\",D62,IF($I$2=\"Standard\",E62,IF($I$2=\"Design 1\",F62,IF($I$2=\"Design 2\",G62,I62))))","v":14}]
[null,null,"Total Safety Score",{"$f":"IF(OR(D$249>0, $I$315>0,ISERROR(D$201+D$171+D$125)),\"\",D$201+D$171+D$125)","v":""},{"$f":"IF(OR(E$249>0, $I$315>0,ISERROR(E$201+E$171+E$125)),\"\",E$201+E$171+E$125)","v":""},"","",null,"",null,null,null,null,null,null,null,"ROADSIDE:",null,null,null,null,null,{"$f":"IF($I$2=\"Existing\",D77,IF($I$2=\"Standard\",E77,IF($I$2=\"Design 1\",F77,IF($I$2=\"Design 2\",G77,I77))))","v":27}]
[null,null,null,null,null,null,null,null,null,null,null,null,null,null,null,null,"OVERALL SAFETY SCORE:",null,null,null,null,null,{"$f":"SUM(W76:X78)","v":41}]
[]
[]
[]
[null,"ADDITIONAL SIDESLOPE INFORMATION"]
[null,null,"Distance to Slope Toe from Shoulder (ft)",null,{"$f":"D84","v":0},{"$f":"E84","v":0},{"$f":"F84","v":0},null,{"$f":"G84","v":0}]
[null,"Minimum foreslope feasible within current ROW",null,null,{"$f":"IF(OR(ISBLANK($D$84), ISERROR(E206)), \"\", \"1V:\"&E206&\"H\")","v":""},{"$f":"IF(OR(ISBLANK($D$84), ISERROR(F206)), \"\", \"1V:\"&F206&\"H\")","v":""},{"$f":"IF(OR(ISBLANK($D$84), ISERROR(G206)), \"\", \"1V:\"&G206&\"H\")","v":""},null,{"$f":"IF(OR(ISBLANK($D$84), ISERROR(I206)), \"\", \"1V:\"&I206&\"H\")","v":""}]
[null,"Additional R/W needed on left side",null,null,{"$f":"IF(OR(ISBLANK($D$84), ISERROR(E210)),\"\", MAX(E210,E213))","v":""},{"$f":"IF(OR(ISBLANK($D$84), ISERROR(F210)), \"\", MAX(F210,F213))","v":""},{"$f":"IF(OR(ISBLANK($D$84), ISERROR(G210)),\"\", MAX(G210,G213))","v":""},null,{"$f":"IF(OR(ISBLANK($D$84), ISERROR(I210)),\"\", MAX(I210,I213))","v":""}]
[null,"Additional R/W needed on right side",null,null,{"$f":"IF(OR(ISBLANK($D$84), ISERROR(E211)), \"\", MAX(E211,E214))","v":""},{"$f":"IF(OR(ISBLANK($D$84), ISERROR(F211)), \"\", MAX(F211,F214))","v":""},{"$f":"IF(OR(ISBLANK($D$84), ISERROR(G211)),\"\", MAX(G211,G214))","v":""},null,{"$f":"IF(OR(ISBLANK($D$84), ISERROR(I211)),\"\", MAX(I211,I214))","v":""}]
[]
[]
[]
[]
[]
[]
[]
[null,null,null,null,null,null,null,null,null,{"$f":"1-I100/E100","v":0}]
[null,null,null,null,null,null,null,null,null,{"$f":"1-I101/E101","v":0.17431192660550465},"For Plot"]
[null,null,null,{"$f":"MAX(SUM(D103:D107)-5,$I$97)","v":{"$error":"#VALUE!"}},{"$f":"MAX(SUM(E103:E107)-5,$I$97)","v":{"$error":"#VALUE!"}},{"$f":"MAX(SUM(F103:F107)-5,$I$97)","v":{"$error":"#VALUE!"}},{"$f":"MAX(SUM(G103:G107)-5,$I$97)","v":{"$error":"#VALUE!"}},null,{"$f":"SUM(I103:I107)-5","v":{"$error":"#VALUE!"}},{"$f":"1-I102/E102","v":0},"relative to","Prefer"]
[null,null,null,null,null,null,null,null,null,{"$f":"1-I103/E103","v":{"$error":"#VALUE!"}},{"$f":"MATCH(K99,ModView,0)","v":1},{"$f":"MATCH(L99,ModView,0)","v":2}]
[null,"Geometric",null,null,null,null,null,null,null,null,{"$f":"I4","v":"Existing"},{"$f":"I2","v":"Standard"},"%"]
[null,null,"LW CMF",{"$f":"VLOOKUP(+D24,Construction!$C$3:$D$9,2)","v":{"$error":"#N/A"}},{"$f":"VLOOKUP(+E24,Construction!$C$3:$D$9,2)","v":1},{"$f":"VLOOKUP(+F24,Construction!$C$3:$D$9,2)","v":{"$error":"#N/A"}},{"$f":"VLOOKUP(+G24,Construction!$C$3:$D$9,2)","v":{"$error":"#N/A"}},{"$f":"H24","v":0},{"$f":"VLOOKUP(+I24,Construction!$C$3:$D$9,2)","v":1},null,{"$f":"INDEX($D100:$I100,K$98)","v":{"$error":"#N/A"}},{"$f":"INDEX($D100:$I100,L$98)","v":1},{"$f":"IF(ISERROR(1-L100/K100), 0, 1-L100/K100)","v":0}]
[null,null,"SW CMF",{"$f":"VLOOKUP(D25,Construction!$C$13:D23,2)","v":1.29},{"$f":"VLOOKUP(E25,Construction!$C$13:E23,2)","v":1.0900000000000001},{"$f":"VLOOKUP(F25,Construction!$C$13:F23,2)","v":1.29},{"$f":"VLOOKUP(G25,Construction!$C$13:G23,2)","v":1.29},{"$f":"IF($I$2=\"Existing\",(1-D101/E101),(IF($I$2=\"Design 1\",(1-F101/E101),(IF($I$2=\"Design 2\",(1-G101/E101),(IF($I$2=\"Optimal\",(1-I101/E101),0)))))))","v":0},{"$f":"VLOOKUP(I25,Construction!$C$13:I23,2)","v":0.9},null,{"$f":"INDEX($D101:$I101,K$98)","v":1.29},{"$f":"INDEX($D101:$I101,L$98)","v":1.0900000000000001},{"$f":"IF(ISERROR(1-L101/K101), 0, 1-L101/K101)","v":0.15503875968992242}]
[null,null,"Placeholder for super deficincy",1,1,1,1,0,1,null,{"$f":"INDEX($D102:$I102,K$98)","v":1},{"$f":"INDEX($D102:$I102,L$98)","v":1},0]
[null,null,"HC and Grade",{"$f":"D$134^D$127","v":1},{"$f":"E$134^E$127","v":{"$error":"#VALUE!"}},{"$f":"F$134^F$127","v":1},{"$f":"G$134^G$127","v":1},0,{"$f":"I$134^I$127","v":{"$error":"#VALUE!"}},null,{"$f":"INDEX($D103:$I103,K$98)","v":1},{"$f":"INDEX($D103:$I103,L$98)","v":{"$error":"#VALUE!"}},0]
[null,null,"HC and VC Crest type I",{"$f":"D$135^D$128","v":1},{"$f":"E$135^E$128","v":1},{"$f":"F$135^F$128","v":1},{"$f":"G$135^G$128","v":1},0,{"$f":"I$135^I$128","v":{"$error":"#VALUE!"}},null,{"$f":"INDEX($D104:$I104,K$98)","v":1},{"$f":"INDEX($D104:$I104,L$98)","v":1},0]
[null,null,"HC and VC Sag type I",{"$f":"D$136^D$129","v":1},{"$f":"E$136^E$129","v":1},{"$f":"F$136^F$129","v":1},{"$f":"G$136^G$129","v":1},0,{"$f":"I$136^I$129","v":{"$error":"#VALUE!"}},null,{"$f":"INDEX($D105:$I105,K$98)","v":1},{"$f":"INDEX($D105:$I105,L$98)","v":1},0]
[null,null,"HC and VC Crest type II",{"$f":"D$137^D$130","v":1},{"$f":"E$137^E$130","v":1},{"$f":"F$137^F$130","v":1},{"$f":"G$137^G$130","v":1},0,{"$f":"I$137^I$130","v":{"$error":"#VALUE!"}},{"$f":"1-I111/E111","v":{"$error":"#VALUE!"}},{"$f":"INDEX($D106:$I106,K$98)","v":1},{"$f":"INDEX($D106:$I106,L$98)","v":1},0]
[null,null,"HC and VC Sag type II",{"$f":"D$138^D$131","v":1},{"$f":"E$138^E$131","v":1},{"$f":"F$138^F$131","v":1},{"$f":"G$138^G$131","v":1},0,{"$f":"I$138^I$131","v":{"$error":"#VALUE!"}},{"$f":"1-I112/E112","v":{"$error":"#VALUE!"}},{"$f":"INDEX($D107:$I107,K$98)","v":1},{"$f":"INDEX($D107:$I107,L$98)","v":1},0]
[null,null,"Add TWLTL",{"$f":"IF(D$43=\"No\",1,CMFs!$F$17)","v":0.71},{"$f":"IF(E$43=\"No\",1,CMFs!$F$17)","v":1},{"$f":"IF(F$43=\"No\",1,CMFs!$F$17)","v":0.71},{"$f":"IF(G$43=\"No\",1,CMFs!$F$17)","v":0.71},0,{"$f":"IF(I$43=\"No\",1,CMFs!$F$17)","v":1},{"$f":"1-I113/E113","v":{"$error":"#VALUE!"}},{"$f":"INDEX($D108:$I108,K$98)","v":0.71},{"$f":"INDEX($D108:$I108,L$98)","v":1},-0.40845070422535223]
[null,null,"Passing Lane Type",{"$f":"IF(ISNUMBER(INDEX(PassLNCMF, MATCH(D44,Passing_Lane_Type,0))),INDEX(PassLNCMF, MATCH(D44,Passing_Lane_Type,0)),1)","v":1},{"$f":"IF(ISNUMBER(INDEX(PassLNCMF, MATCH(E44,Passing_Lane_Type,0))),INDEX(PassLNCMF, MATCH(E44,Passing_Lane_Type,0)),1)","v":1},{"$f":"IF(ISNUMBER(INDEX(PassLNCMF, MATCH(F44,Passing_Lane_Type,0))),INDEX(PassLNCMF, MATCH(F44,Passing_Lane_Type,0)),1)","v":1},{"$f":"IF(ISNUMBER(INDEX(PassLNCMF, MATCH(G44,Passing_Lane_Type,0))),INDEX(PassLNCMF, MATCH(G44,Passing_Lane_Type,0)),1)","v":1},0,{"$f":"IF(ISNUMBER(INDEX(PassLNCMF, MATCH(I44,Passing_Lane_Type,0))),INDEX(PassLNCMF, MATCH(I44,Passing_Lane_Type,0)),1)","v":0.65},{"$f":"1-I114/E114","v":{"$error":"#VALUE!"}},{"$f":"INDEX($D109:$I109,K$98)","v":1},{"$f":"INDEX($D109:$I109,L$98)","v":1},0]
[null,null,null,null,null,null,null,null,null,{"$f":"I115/E115","v":{"$error":"#VALUE!"}}]
[null,null,"COMBINED Calculated CMF",{"$f":"+D100*D101*D102*D103*D104*D105*D106*D107*D108*D109","v":{"$error":"#N/A"}},{"$f":"+E100*E101*E102*E103*E104*E105*E106*E107*E108*E109","v":{"$error":"#VALUE!"}},{"$f":"+F100*F101*F102*F103*F104*F105*F106*F107*F108*F109","v":{"$error":"#N/A"}},{"$f":"+G100*G101*G102*G103*G104*G105*G106*G107*G108*G109","v":{"$error":"#N/A"}},{"$f":"IF($I$2=\"Existing\",(D111),(IF($I$2=\"Design 1\",(F111),(IF($I$2=\"Design 2\",(G111),(IF($I$2=\"Optimal\",(I111),E111)))))))","v":{"$error":"#VALUE!"}},{"$f":"+I100*I101*I102*I103*I104*I105*I106*I107*I108*I109","v":{"$error":"#VALUE!"}},null,{"$f":"INDEX($D111:$I111,K$98)","v":{"$error":"#N/A"}},{"$f":"INDEX($D111:$I111,L$98)","v":{"$error":"#VALUE!"}},{"$f":"IF(ISERROR(1-L111/K111), 0, 1-L111/K111)","v":0}]
[null,null,"Calculated Relative to Design Standards (Column E)",{"$f":"+D111/$E$111","v":{"$error":"#N/A"}},{"$error":"#VALUE!"},{"$error":"#N/A"},{"$error":"#N/A"},{"$error":"#VALUE!"},{"$error":"#VALUE!"},null,{"$f":"INDEX($D112:$I112,K$98)","v":{"$error":"#N/A"}},{"$f":"INDEX($D112:$I112,L$98)","v":{"$error":"#VALUE!"}},0]
[null,null,"P(Crash)",{"$f":"+D112/(D112+1)","v":{"$error":"#N/A"}},{"$error":"#VALUE!"},{"$error":"#N/A"},{"$error":"#N/A"},{"$error":"#VALUE!"},{"$error":"#VALUE!"},null,{"$f":"INDEX($D113:$I113,K$98)","v":{"$error":"#N/A"}},{"$f":"INDEX($D113:$I113,L$98)","v":{"$error":"#VALUE!"}},0]
[null,null,"Factor Change on S curve",{"$f":"+D113/$E$113","v":{"$error":"#N/A"}},{"$error":"#VALUE!"},{"$error":"#N/A"},{"$error":"#N/A"},{"$error":"#VALUE!"},{"$error":"#VALUE!"},null,{"$f":"INDEX($D114:$I114,K$98)","v":{"$error":"#N/A"}},{"$f":"INDEX($D114:$I114,L$98)","v":{"$error":"#VALUE!"}},0]
[null,null,"Adjust to Scale of 100",{"$f":"+$I$114/D114*100","v":{"$error":"#VALUE!"}},{"$error":"#VALUE!"},{"$error":"#VALUE!"},{"$error":"#VALUE!"},{"$error":"#VALUE!"},{"$error":"#VALUE!"}]
[null,null,"Unadjusted Combined Relative to Standard",{"$f":"+D111/$E$111","v":{"$error":"#N/A"}},{"$error":"#VALUE!"},{"$error":"#N/A"},{"$error":"#N/A"},{"$error":"#VALUE!"},{"$error":"#VALUE!"},null,{"$f":"INDEX($D116:$I116,K$98)","v":{"$error":"#N/A"}},{"$f":"INDEX($D116:$I116,L$98)","v":{"$error":"#VALUE!"}},{"$f":"IF(ISERROR(1-L116/K116), 0, 1-L116/K116)","v":0}]
[null,null,null,null,null,null,null,null,null,{"$f":"I122/E122","v":{"$error":"#VALUE!"}}]
[null,null,"Adjusted for PA Basis",{"$f":"+D111*(1+1)/(1+D111*1)","v":{"$error":"#N/A"}},{"$error":"#VALUE!"},{"$error":"#N/A"},{"$error":"#N/A"},{"$f":"IF($I$2=\"Existing\",(D118),(IF($I$2=\"Design 1\",(F118),(IF($I$2=\"Design 2\",(G118),(IF($I$2=\"Optimal\",(I118),E118)))))))","v":{"$error":"#VALUE!"}},{"$error":"#VALUE!"},null,{"$f":"INDEX($D118:$I118,K$98)","v":{"$error":"#N/A"}},{"$f":"INDEX($D118:$I118,L$98)","v":{"$error":"#VALUE!"}},{"$f":"IF(ISERROR(1-L118/K118), 0, 1-L118/K118)","v":0}]
[null,null,"Corrected by Odds Ratio",{"$f":"+D118/$E$118","v":{"$error":"#N/A"}},{"$error":"#VALUE!"},{"$error":"#N/A"},{"$error":"#N/A"},{"$f":"IF($I$2=\"Existing\",(D119),(IF($I$2=\"Design 1\",(F119),(IF($I$2=\"Design 2\",(G119),(IF($I$2=\"Optimal\",(I119),E119)))))))","v":{"$error":"#VALUE!"}},{"$error":"#VALUE!"},null,{"$f":"INDEX($D119:$I119,K$98)","v":{"$error":"#N/A"}},{"$f":"INDEX($D119:$I119,L$98)","v":{"$error":"#VALUE!"}},0]
[null,null,"Pinned s",{"$f":"(1/D119)^$D123","v":{"$error":"#N/A"}},{"$error":"#VALUE!"},{"$error":"#N/A"},{"$error":"#N/A"},{"$error":"#VALUE!"},{"$error":"#VALUE!"},{"$f":"I125/E125","v":{"$error":"#VALUE!"}},{"$f":"INDEX($D120:$I120,K$98)","v":{"$error":"#N/A"}},{"$f":"INDEX($D120:$I120,L$98)","v":{"$error":"#VALUE!"}},0]
[null,null,null,{"$f":"(D120+$F124-1)/(1+(D120+$F124-1))","v":{"$error":"#N/A"}},{"$error":"#VALUE!"},{"$error":"#N/A"},{"$error":"#N/A"},{"$error":"#VALUE!"},{"$error":"#VALUE!"},null,{"$f":"INDEX($D121:$I121,K$98)","v":{"$error":"#N/A"}},{"$f":"INDEX($D121:$I121,L$98)","v":{"$error":"#VALUE!"}},0]
[null,null,"Score Odds Ratio with Optimal (old)",{"$f":"MIN(ROUND($I$119/D119*Construction!$I$8,0),$I122)","v":{"$error":"#VALUE!"}},{"$f":"MIN(ROUND($I$119/E119*Construction!$I$8,0),$I122)","v":{"$error":"#VALUE!"}},{"$f":"MIN(ROUND($I$119/F119*Construction!$I$8,0),$I122)","v":{"$error":"#VALUE!"}},{"$f":"MIN(ROUND($I$119/G119*Construction!$I$8,0),$I122)","v":{"$error":"#VALUE!"}},{"$f":"IF($I$2=\"Existing\",(D122),(IF($I$2=\"Design 1\",(F122),(IF($I$2=\"Design 2\",(G122),(IF($I$2=\"Optimal\",(I122),E122)))))))","v":{"$error":"#VALUE!"}},{"$f":"ROUND($I$119/I119*Construction!$I$8,0)","v":{"$error":"#VALUE!"}}]
[null,null,"Logistic1",{"$f":"LN((D124/(1-D124))/(0.5/0.5))/LN($E119/I119)","v":{"$error":"#VALUE!"}}]
[null,null,"Logistic Param",0.999,null,{"$f":"0.7/0.3","v":2.3333333333333335}]
[null,null,"Score ",{"$f":"MIN(ROUND(D121*Construction!$I$8,0),$I122)","v":{"$error":"#N/A"}},{"$f":"MIN(ROUND(E121*Construction!$I$8,0),$I122)","v":{"$error":"#VALUE!"}},{"$f":"MIN(ROUND(F121*Construction!$I$8,0),$I122)","v":{"$error":"#N/A"}},{"$f":"MIN(ROUND(G121*Construction!$I$8,0),$I122)","v":{"$error":"#N/A"}},{"$f":"MIN(ROUND(H121*Construction!$I$8,0),$I122)","v":{"$error":"#VALUE!"}},{"$f":"MIN(ROUND(I121*Construction!$I$8,0),$I122)","v":{"$error":"#VALUE!"}}]
[]
[null,null,"HC and Grade",{"$f":"IF($B$135,0,1)","v":1},{"$f":"IF($B$135,0,1)","v":1},{"$f":"IF($B$135,0,1)","v":1},{"$f":"IF($B$135,0,1)","v":1},{"$f":"IF($I$2=\"Existing\",(D127),(IF($I$2=\"Design 1\",(F127),(IF($I$2=\"Design 2\",(G127),(IF($I$2=\"Optimal\",(I127),E127)))))))","v":1},{"$f":"IF($B$135,0,1)","v":1}]
[null,null,"HC and VC Crest type I",{"$f":"IF(AND($B$135=1,SIGN(D$36)=1,ABS(D$36)<=ABS(D$36-D$37),D$42=\"Crest\"),1,0)","v":0},{"$f":"IF(AND($B$135=1, SIGN(IF(ISNUMBER(E$36),E$36,0))=1,ABS(IF(ISNUMBER(E$36),E$36,0)) <= ABS(IF(ISNUMBER(E$36),E$36,0)-IF(ISNUMBER(E$37),E$37,0)),E$42=\"Crest\"),1,0)","v":0},{"$f":"IF(AND($B$135=1,SIGN(F$36)=1,ABS(F$36)<=ABS(F$36-F$37),F$42=\"Crest\"),1,0)","v":0},{"$f":"IF(AND($B$135=1,SIGN(G$36)=1,ABS(G$36)<=ABS(G$36-G$37),G$42=\"Crest\"),1,0)","v":0},{"$f":"IF($I$2=\"Existing\",(D128),(IF($I$2=\"Design 1\",(F128),(IF($I$2=\"Design 2\",(G128),(IF($I$2=\"Optimal\",(I128),E128)))))))","v":0},{"$f":"IF(AND($B$135=1,SIGN(I$36)=1,ABS(I$36)<=ABS(I$36-IF(ISNUMBER(I$37), I$37,0)),I$42=\"Crest\"),1,0)","v":{"$error":"#VALUE!"}}]
["HC?",null,"HC and VC Sag type I",{"$f":"IF(AND($B$135=1,SIGN(D$36)=1,ABS(D$36)<=ABS(D$36-D$37),D$42=\"Sag\"),1,0)","v":0},{"$f":"IF(AND($B$135=1, SIGN(IF(ISNUMBER(E$36),E$36,0))=1,ABS(IF(ISNUMBER(E$36),E$36,0)) <= ABS(IF(ISNUMBER(E$36),E$36,0)-IF(ISNUMBER(E$37),E$37,0)),E$42=\"Sag\"),1,0)","v":0},{"$f":"IF(AND($B$135=1,SIGN(F$36)=1,ABS(F$36)<=ABS(F$36-F$37),F$42=\"Sag\"),1,0)","v":0},{"$f":"IF(AND($B$135=1,SIGN(G$36)=1,ABS(G$36)<=ABS(G$36-G$37),G$42=\"Sag\"),1,0)","v":0},{"$f":"IF($I$2=\"Existing\",(D129),(IF($I$2=\"Design 1\",(F129),(IF($I$2=\"Design 2\",(G129),(IF($I$2=\"Optimal\",(I129),E129)))))))","v":0},{"$f":"IF(AND($B$135=1,SIGN(I$36)=1,ABS(I$36)<=ABS(I$36-IF(ISNUMBER(I$37), I$37,0)),I$42=\"Sag\"),1,0)","v":{"$error":"#VALUE!"}}]
["VC?",null,"HC and VC Crest type II",{"$f":"IF(AND($B$135=1,D$42=\"Crest\",D$128=0),1,0)","v":0},{"$f":"IF(AND($B$135=1,E$42=\"Crest\",E$128=0),1,0)","v":0},{"$f":"IF(AND($B$135=1,F$42=\"Crest\",F$128=0),1,0)","v":0},{"$f":"IF(AND($B$135=1,G$42=\"Crest\",G$128=0),1,0)","v":0},{"$f":"IF($I$2=\"Existing\",(D130),(IF($I$2=\"Design 1\",(F130),(IF($I$2=\"Design 2\",(G130),(IF($I$2=\"Optimal\",(I130),E130)))))))","v":0},{"$f":"IF(AND($B$135=1,I$42=\"Crest\",I$128=0),1,0)","v":{"$error":"#VALUE!"}}]
[null,null,"HC and VC Sag type II",{"$f":"IF(AND($B$135=1,D$42=\"Sag\",D$129=0),1,0)","v":0},{"$f":"IF(AND($B$135=1,E$42=\"Sag\",E$129=0),1,0)","v":0},{"$f":"IF(AND($B$135=1,F$42=\"Sag\",F$129=0),1,0)","v":0},{"$f":"IF(AND($B$135=1,G$42=\"Sag\",G$129=0),1,0)","v":0},{"$f":"IF($I$2=\"Existing\",(D131),(IF($I$2=\"Design 1\",(F131),(IF($I$2=\"Design 2\",(G131),(IF($I$2=\"Optimal\",(I131),E131)))))))","v":0},{"$f":"IF(AND($B$135=1,I$42=\"Sag\",I$129=0),1,0)","v":{"$error":"#VALUE!"}}]
[null,"Yes/No"]
[null,null,"HC and VC:",null,{"$f":"EXP(0.042*ABS(D$36)+$B$134*0.16*LN(2*5730/IF(ISNUMBER(E$29),E$29,1)))","v":1}]
[null,{"$f":"IF(B27=\"Yes\",1,0)","v":0},"HC and Grade",{"$f":"IF($B$135=0,EXP(0.042*ABS(D$36)+$B$134*0.16*LN(2*5730/D$141)+4.16*$B$134/D$141/IF(ISNUMBER(D$30),D$30,999999)),1)","v":1},{"$f":"IF($B$135=0,EXP(0.042*ABS(E$36)+$B$134*0.16*LN(2*5730/E$141)+4.16*$B$134/E$141/IF(ISNUMBER(E$30),E$30,999999)),1)","v":{"$error":"#VALUE!"}},1,1,{"$f":"IF($B$135=0,EXP(0.042*ABS(H$36)+$B$134*0.16*LN(2*5730/IF(ISNUMBER(H$29),H$29,1))+4.16*$B$134/IF(ISNUMBER(H$29),H$29,1)/IF(ISNUMBER(H$30),H$30,1)),1)","v":{"$error":"#DIV/0!"}},{"$error":"#VALUE!"},null,{"$f":"INDEX($D134:$I134,K$98)","v":1},{"$f":"INDEX($D134:$I134,L$98)","v":{"$error":"#VALUE!"}},{"$f":"IF(ISERROR(1-L134/K134), 0, 1-L134/K134)","v":0}]
[null,{"$f":"IF(B34=\"Yes\",1,0)","v":0},"HC and VC Crest type I",{"$f":"IF($B$135=0,1,EXP(0.005648908*5730*ABS(+D$36-D$37)*$B$135/D$141*$B$134))","v":1},{"$f":"IF($B$135=0,1,EXP(0.005648908*5730*ABS(+E$36-E$37)*$B$135/E$141*$B$134))","v":1},1,1,{"$f":"IF($I$2=\"Existing\",(D135),(IF($I$2=\"Design 1\",(F135),(IF($I$2=\"Design 2\",(G135),(IF($I$2=\"Optimal\",(I135),E135)))))))","v":1},1,null,{"$f":"INDEX($D135:$I135,K$98)","v":1},{"$f":"INDEX($D135:$I135,L$98)","v":1},0]
[null,null,"HC and VC Sag type I",{"$f":"IF($B$135=0,1,EXP(9.15857042*$B$135/D$142+0.010284958*5730*$B$135*$B$134*ABS(+D$36-D$37)/D$141))","v":1},{"$f":"IF($B$135=0,1,EXP(9.15857042*$B$135/E$142+0.010284958*5730*$B$135*$B$134*ABS(+E$36-E$37)/E$141))","v":1},1,1,{"$f":"IF($I$2=\"Existing\",(D136),(IF($I$2=\"Design 1\",(F136),(IF($I$2=\"Design 2\",(G136),(IF($I$2=\"Optimal\",(I136),E136)))))))","v":1},1,null,{"$f":"INDEX($D136:$I136,K$98)","v":1},{"$f":"INDEX($D136:$I136,L$98)","v":1},0]
[null,null,"HC and VC Crest type II",{"$f":"IF($B$135=0,1,EXP(0.005648908*5730*ABS(+D$36-D$37)*$B$135/D$141*$B$134))","v":1},{"$f":"IF($B$135=0,1,EXP(0.005648908*5730*ABS(+E$36-E$37)*$B$135/E$141*$B$134))","v":1},1,1,{"$f":"IF($I$2=\"Existing\",(D137),(IF($I$2=\"Design 1\",(F137),(IF($I$2=\"Design 2\",(G137),(IF($I$2=\"Optimal\",(I137),E137)))))))","v":1},1,null,{"$f":"INDEX($D137:$I137,K$98)","v":1},{"$f":"INDEX($D137:$I137,L$98)","v":1},0]
[null,null,"HC and VC Sag type II",{"$f":"IF($B$135=0,1,(0.246011284*EXP(LN(0.188*2*5730/D$141)*$B$134)+0.7514288716*EXP(0.022*5730/D$141*ABS(D$36-D$37)*$B$135*$B$134)))","v":1},{"$f":"IF($B$135=0,1,(0.246011284*EXP(LN(0.188*2*5730/E$141)*$B$134)+0.7514288716*EXP(0.022*5730/E$141*ABS(E$36-E$37)*$B$135*$B$134)))","v":1},1,1,{"$f":"IF($I$2=\"Existing\",(D138),(IF($I$2=\"Design 1\",(F138),(IF($I$2=\"Design 2\",(G138),(IF($I$2=\"Optimal\",(I138),E138)))))))","v":1},1,null,{"$f":"INDEX($D138:$I138,K$98)","v":1},{"$f":"INDEX($D138:$I138,L$98)","v":1},0]
[]
[null,null,"Combined HZ and VT",{"$f":"MMULT(TRANSPOSE(D127:D131),D134:D138)","v":1},{"$f":"MMULT(TRANSPOSE(E127:E131),E134:E138)","v":{"$error":"#VALUE!"}},{"$f":"MMULT(TRANSPOSE(F127:F131),F134:F138)","v":1},{"$f":"MMULT(TRANSPOSE(G127:G131),G134:G138)","v":1},{"$f":"IF($I$2=\"Existing\",(D140),(IF($I$2=\"Design 1\",(F140),(IF($I$2=\"Design 2\",(G140),(IF($I$2=\"Optimal\",(I140),E140)))))))","v":{"$error":"#VALUE!"}},{"$f":"MMULT(TRANSPOSE(I127:I131),I134:I138)","v":{"$error":"#VALUE!"}},null,{"$f":"INDEX($D140:$I140,K$98)","v":1},{"$f":"INDEX($D140:$I140,L$98)","v":{"$error":"#VALUE!"}},{"$f":"IF(ISERROR(1-L140/K140), 0, 1-L140/K140)","v":0}]
[null,null,"effective R for calculation",{"$f":"IF(ISNUMBER(D29), D29, 99999999)","v":99999999},{"$f":"IF(ISNUMBER(E29), E29, 99999999)","v":590},99999999,99999999,null,590]
[null,null,"effective K for calculation",{"$f":"IF(ISNUMBER(D39), D39, 9999999)","v":9999999},{"$f":"IF(ISNUMBER(E39), E39, 9999999)","v":9999999},9999999,9999999,null,9999999]
[null,"Traffic"]
[null,null,null,"Existing","Standard","Design 1","Design 2"]
[null,null,"Advance static curve warning signs",{"$f":"IF(AND($B$27=\"Yes\",D$52=\"Yes\"),(Traffic!$F$4-1)*AVERAGE(Constraints!$F$37,Constraints!$H$37)/Constraints!$D$37+1,1)","v":1},{"$f":"IF(AND($B$27=\"Yes\",E$52=\"Yes\"),(Traffic!$F$4-1)*AVERAGE(Constraints!$F$37,Constraints!$H$37)/Constraints!$D$37+1,1)","v":1},{"$f":"IF(AND($B$27=\"Yes\",F$52=\"Yes\"),(Traffic!$F$4-1)*AVERAGE(Constraints!$F$37,Constraints!$H$37)/Constraints!$D$37+1,1)","v":1},{"$f":"IF(AND($B$27=\"Yes\",G$52=\"Yes\"),(Traffic!$F$4-1)*AVERAGE(Constraints!$F$37,Constraints!$H$37)/Constraints!$D$37+1,1)","v":1},{"$f":"IF($I$2=\"Existing\",(D145),(IF($I$2=\"Design 1\",(F145),(IF($I$2=\"Design 2\",(G145),(IF($I$2=\"Optimal\",(I145),E145)))))))","v":1},{"$f":"IF(AND($B$27=\"Yes\",I$52=\"Yes\"),(Traffic!$F$4-1)*AVERAGE(Constraints!$F$37,Constraints!$H$37)/Constraints!$D$37+1,1)","v":1},null,{"$f":"INDEX($D145:$I145,K$98)","v":1},{"$f":"INDEX($D145:$I145,L$98)","v":1},{"$f":"IF(ISERROR(1-L145/K145), 0, 1-L145/K145)","v":0}]
[null,null,"Install chevron signs on horizontal curves",{"$f":"IF(D$53=\"No\",1,(IF(AND($B$27=\"Yes\",D$24<11.5),((Traffic!$F$6-1)*(Constraints!$E$35+Constraints!$E$31))+1,1)))","v":1},{"$f":"IF(E$53=\"No\",1,(IF(AND($B$27=\"Yes\",E$24<11.5),((Traffic!$F$6-1)*(Constraints!$E$35+Constraints!$E$31))+1,1)))","v":1},{"$f":"IF(F$53=\"No\",1,(IF(AND($B$27=\"Yes\",F$24<11.5),((Traffic!$F$6-1)*(Constraints!$E$35+Constraints!$E$31))+1,1)))","v":1},{"$f":"IF(G$53=\"No\",1,(IF(AND($B$27=\"Yes\",G$24<11.5),((Traffic!$F$6-1)*(Constraints!$E$35+Constraints!$E$31))+1,1)))","v":1},{"$f":"IF($I$2=\"Existing\",(D146),(IF($I$2=\"Design 1\",(F146),(IF($I$2=\"Design 2\",(G146),(IF($I$2=\"Optimal\",(I146),E146)))))))","v":1},{"$f":"IF(I$53=\"No\",1,(IF(AND($B$27=\"Yes\",I$24<11.5),((Traffic!$F$6-1)*(Constraints!$E$35+Constraints!$E$31))+1,1)))","v":1},null,{"$f":"INDEX($D146:$I146,K$98)","v":1},{"$f":"INDEX($D146:$I146,L$98)","v":1},0]
[null,null,"Install post-mounted delineators",{"$f":"IF(AND($B$27=\"Yes\",D$54=\"Yes\"),(Traffic!$F$12-1)*Constraints!$E$36+1,1)","v":1},{"$f":"IF(AND($B$27=\"Yes\",E$54=\"Yes\"),(Traffic!$F$12-1)*Constraints!$E$36+1,1)","v":1},{"$f":"IF(AND($B$27=\"Yes\",F$54=\"Yes\"),(Traffic!$F$12-1)*Constraints!$E$36+1,1)","v":1},{"$f":"IF(AND($B$27=\"Yes\",G$54=\"Yes\"),(Traffic!$F$12-1)*Constraints!$E$36+1,1)","v":1},{"$f":"IF($I$2=\"Existing\",(D147),(IF($I$2=\"Design 1\",(F147),(IF($I$2=\"Design 2\",(G147),(IF($I$2=\"Optimal\",(I147),E147)))))))","v":1},{"$f":"IF(AND($B$27=\"Yes\",I$54=\"Yes\"),(Traffic!$F$12-1)*Constraints!$E$36+1,1)","v":1},null,{"$f":"INDEX($D147:$I147,K$98)","v":1},{"$f":"INDEX($D147:$I147,L$98)","v":1},0]
[null,null,"Install edgeline  or Profile pavement markings ",{"$f":"IF(D$55=\"Yes\",Traffic!$F$18*0.5+((Traffic!$F$20*(Constraints!$H$36+Constraints!$H$32)+1*(Constraints!$H$37-(Constraints!$H$36+Constraints!$H$32)))/Constraints!$H$37)*0.5,1)","v":1},{"$f":"IF(E$55=\"Yes\",Traffic!$F$18*0.5+((Traffic!$F$20*(Constraints!$H$36+Constraints!$H$32)+1*(Constraints!$H$37-(Constraints!$H$36+Constraints!$H$32)))/Constraints!$H$37)*0.5,1)","v":0.86175881308648239},{"$f":"IF(F$55=\"Yes\",Traffic!$F$18*0.5+((Traffic!$F$20*(Constraints!$H$36+Constraints!$H$32)+1*(Constraints!$H$37-(Constraints!$H$36+Constraints!$H$32)))/Constraints!$H$37)*0.5,1)","v":1},{"$f":"IF(G$55=\"Yes\",Traffic!$F$18*0.5+((Traffic!$F$20*(Constraints!$H$36+Constraints!$H$32)+1*(Constraints!$H$37-(Constraints!$H$36+Constraints!$H$32)))/Constraints!$H$37)*0.5,1)","v":1},{"$f":"IF($I$2=\"Existing\",(D148),(IF($I$2=\"Design 1\",(F148),(IF($I$2=\"Design 2\",(G148),(IF($I$2=\"Optimal\",(I148),E148)))))))","v":0.86175881308648239},{"$f":"IF(I$55=\"Yes\",Traffic!$F$18*0.5+((Traffic!$F$20*(Constraints!$H$36+Constraints!$H$32)+1*(Constraints!$H$37-(Constraints!$H$36+Constraints!$H$32)))/Constraints!$H$37)*0.5,1)","v":0.86175881308648239},null,{"$f":"INDEX($D148:$I148,K$98)","v":1},{"$f":"INDEX($D148:$I148,L$98)","v":0.86175881308648239},0.13824118691351761]
[null,null,"Profiles",1,1,1,1,1,1,null,{"$f":"INDEX($D149:$I149,K$98)","v":1},{"$f":"INDEX($D149:$I149,L$98)","v":1},0]
[null,null,"Shoulder rumble strips",{"$f":"IF(D$56=\"No\",1,(Traffic!$F$27*(Constraints!$H$36+Constraints!$H$32)+1*(Constraints!$H$37-(Constraints!$H$36+Constraints!$H$32)))/Constraints!$H$37)","v":0.89760950690192376},{"$f":"IF(E$56=\"No\",1,(Traffic!$F$27*(Constraints!$H$36+Constraints!$H$32)+1*(Constraints!$H$37-(Constraints!$H$36+Constraints!$H$32)))/Constraints!$H$37)","v":0.89760950690192376},{"$f":"IF(F$56=\"No\",1,(Traffic!$F$27*(Constraints!$H$36+Constraints!$H$32)+1*(Constraints!$H$37-(Constraints!$H$36+Constraints!$H$32)))/Constraints!$H$37)","v":0.89760950690192376},{"$f":"IF(G$56=\"No\",1,(Traffic!$F$27*(Constraints!$H$36+Constraints!$H$32)+1*(Constraints!$H$37-(Constraints!$H$36+Constraints!$H$32)))/Constraints!$H$37)","v":0.89760950690192376},{"$f":"IF($I$2=\"Existing\",(D150),(IF($I$2=\"Design 1\",(F150),(IF($I$2=\"Design 2\",(G150),(IF($I$2=\"Optimal\",(I150),E150)))))))","v":0.89760950690192376},{"$f":"IF(I$56=\"No\",1,(Traffic!$F$27*(Constraints!$H$36+Constraints!$H$32)+1*(Constraints!$H$37-(Constraints!$H$36+Constraints!$H$32)))/Constraints!$H$37)","v":0.89760950690192376},null,{"$f":"INDEX($D150:$I150,K$98)","v":0.89760950690192376},{"$f":"INDEX($D150:$I150,L$98)","v":0.89760950690192376},0]
[null,null,"Install centerline rumble strips",{"$f":"IF(D$57=\"No\",1,Traffic!$F$30)","v":0.86},{"$f":"IF(E$57=\"No\",1,Traffic!$F$30)","v":1},{"$f":"IF(F$57=\"No\",1,Traffic!$F$30)","v":0.86},{"$f":"IF(G$57=\"No\",1,Traffic!$F$30)","v":0.86},{"$f":"IF($I$2=\"Existing\",(D151),(IF($I$2=\"Design 1\",(F151),(IF($I$2=\"Design 2\",(G151),(IF($I$2=\"Optimal\",(I151),E151)))))))","v":1},{"$f":"IF(I$57=\"No\",1,Traffic!$F$30)","v":0.86},null,{"$f":"INDEX($D151:$I151,K$98)","v":0.86},{"$f":"INDEX($D151:$I151,L$98)","v":1},-0.16279069767441867]
[null,null,"Driveway Density (driveways per mile)",{"$f":"EXP(-LN(Traffic!$F$32)*(D$58-$E$58))","v":0.81707280688754669},{"$f":"EXP(-LN(Traffic!$F$32)*(E$58-$E$58))","v":1},{"$f":"EXP(-LN(Traffic!$F$32)*(F$58-$E$58))","v":0.81707280688754669},{"$f":"EXP(-LN(Traffic!$F$32)*(G$58-$E$58))","v":0.81707280688754669},{"$f":"IF($I$2=\"Existing\",(D152),(IF($I$2=\"Design 1\",(F152),(IF($I$2=\"Design 2\",(G152),(IF($I$2=\"Optimal\",(I152),E152)))))))","v":1},{"$f":"EXP(-LN(Traffic!$F$32)*(I$58-$E$58))","v":0.81707280688754669},null,{"$f":"INDEX($D152:$I152,K$98)","v":0.81707280688754669},{"$f":"INDEX($D152:$I152,L$98)","v":1},-0.22388114201141129]
[null,null,"Install lighting",{"$f":"IF(D$59=\"No\",1,1-(((1-Traffic!$F$55*Constraints!$H$37-Constraints!$F$37/3)+((1-Traffic!$F$55*Constraints!$D$37-Constraints!$H$37)))*$S$19+((1-Traffic!$F$57)*Constraints!$F$37/3))/Constraints!$D$37)","v":0.977040446881142},{"$f":"IF(E$59=\"No\",1,1-(((1-Traffic!$F$55*Constraints!$H$37-Constraints!$F$37/3)+((1-Traffic!$F$55*Constraints!$D$37-Constraints!$H$37)))*$S$19+((1-Traffic!$F$57)*Constraints!$F$37/3))/Constraints!$D$37)","v":1},{"$f":"IF(F$59=\"No\",1,1-(((1-Traffic!$F$55*Constraints!$H$37-Constraints!$F$37/3)+((1-Traffic!$F$55*Constraints!$D$37-Constraints!$H$37)))*$S$19+((1-Traffic!$F$57)*Constraints!$F$37/3))/Constraints!$D$37)","v":0.977040446881142},{"$f":"IF(G$59=\"No\",1,1-(((1-Traffic!$F$55*Constraints!$H$37-Constraints!$F$37/3)+((1-Traffic!$F$55*Constraints!$D$37-Constraints!$H$37)))*$S$19+((1-Traffic!$F$57)*Constraints!$F$37/3))/Constraints!$D$37)","v":0.977040446881142},{"$f":"IF($I$2=\"Existing\",(D153),(IF($I$2=\"Design 1\",(F153),(IF($I$2=\"Design 2\",(G153),(IF($I$2=\"Optimal\",(I153),E153)))))))","v":1},{"$f":"IF(I$59=\"No\",1,1-(((1-Traffic!$F$55*Constraints!$H$37-Constraints!$F$37/3)+((1-Traffic!$F$55*Constraints!$D$37-Constraints!$H$37)))*$S$19+((1-Traffic!$F$57)*Constraints!$F$37/3))/Constraints!$D$37)","v":0.977040446881142},null,{"$f":"INDEX($D153:$I153,K$98)","v":0.977040446881142},{"$f":"INDEX($D153:$I153,L$98)","v":1},-2.3499081529478438E-2]
[null,null,"Pavement friction (skid number)",{"$f":"EXP(LN(Traffic!$F$49)*(D$60-$E$60))","v":1.3972521419325798},{"$f":"EXP(LN(Traffic!$F$49)*(E$60-$E$60))","v":1},{"$f":"IF(MATCH(F60,SkidNums,0)=3, $D154,EXP(LN(Traffic!$F$49)*(RIGHT(F$60,2)-$E$60)))","v":{"$error":"#N/A"}},{"$f":"IF(MATCH(G60,SkidNums,0)=3, $D154,EXP(LN(Traffic!$F$49)*(RIGHT(G$60,2)-$E$60)))","v":{"$error":"#N/A"}},{"$f":"IF($I$2=\"Existing\",(D154),(IF($I$2=\"Design 1\",(F154),(IF($I$2=\"Design 2\",(G154),(IF($I$2=\"Optimal\",(I154),E154)))))))","v":1},{"$f":"EXP(LN(Traffic!$F$49)*(I$60-$E$60))","v":0.85753553626991963},null,{"$f":"INDEX($D154:$I154,K$98)","v":1.3972521419325798},{"$f":"INDEX($D154:$I154,L$98)","v":1},0.28430956017940245]
[]
[]
[null,null,"COMBINED Calculated CMF",{"$f":"+D145*D146*D147*D148*D149*D150*D151*D152*D153*D154","v":0.86106111787419426},{"$f":"+E145*E146*E147*E148*E149*E150*E151*E152*E153*E154","v":0.7735229032829446},{"$f":"+F145*F146*F147*F148*F149*F150*F151*F152*F153*F154","v":{"$error":"#N/A"}},{"$f":"+G145*G146*G147*G148*G149*G150*G151*G152*G153*G154","v":{"$error":"#N/A"}},{"$f":"IF($I$2=\"Existing\",(D157),(IF($I$2=\"Design 1\",(F157),(IF($I$2=\"Design 2\",(G157),(IF($I$2=\"Optimal\",(I157),E157)))))))","v":0.7735229032829446},{"$f":"+I145*I146*I147*I148*I149*I150*I151*I152*I153*I154","v":0.45540422392050506},null,{"$f":"INDEX($D157:$I157,K$98)","v":0.86106111787419426},{"$f":"INDEX($D157:$I157,L$98)","v":0.7735229032829446},{"$f":"IF(ISERROR(1-L157/K157), 0, 1-L157/K157)","v":0.10166318368592209}]
[null,null,"Calculated Relative to Design Standards (Column E)",{"$f":"+D157/$E$157","v":1.1131682258142903},{"$f":"+E157/$E$157","v":1},{"$f":"+F157/$E$157","v":{"$error":"#N/A"}},{"$f":"+G157/$E$157","v":{"$error":"#N/A"}},1,{"$f":"+I157/$E$157","v":0.58874045227064742},null,{"$f":"INDEX($D158:$I158,K$98)","v":1.1131682258142903},{"$f":"INDEX($D158:$I158,L$98)","v":1},0.1016631836859222]
[null,null,"P(Crash)",{"$f":"+D158/(D158+1)","v":0.52677690882151185},{"$f":"+E158/(E158+1)","v":0.5},{"$f":"+F158/(F158+1)","v":{"$error":"#N/A"}},{"$f":"+G158/(G158+1)","v":{"$error":"#N/A"}},0.5,{"$f":"+I158/(I158+1)","v":0.37057056829465901}]
[null,null,"Factor Change on S curve",{"$f":"+D159/$E$159","v":1.0535538176430237},{"$f":"+E159/$E$159","v":1},{"$f":"+F159/$E$159","v":{"$error":"#N/A"}},{"$f":"+G159/$E$159","v":{"$error":"#N/A"}},1,{"$f":"+I159/$E$159","v":0.74114113658931802}]
[null,null,"Adjust to Scale of 100",{"$f":"+$I$114/D160*100","v":{"$error":"#VALUE!"}},{"$f":"+$I$114/E160*100","v":{"$error":"#VALUE!"}},{"$f":"+$I$114/F160*100","v":{"$error":"#VALUE!"}},{"$f":"+$I$114/G160*100","v":{"$error":"#VALUE!"}},{"$error":"#VALUE!"},{"$f":"+$I$114/I160*100","v":{"$error":"#VALUE!"}}]
[null,null,"Unadjusted Combined Relative to Standard",{"$f":"+D157/$E$157","v":1.1131682258142903},{"$f":"+E157/$E$157","v":1},{"$f":"+F157/$E$157","v":{"$error":"#N/A"}},{"$f":"+G157/$E$157","v":{"$error":"#N/A"}},1,{"$f":"+I157/$E$157","v":0.58874045227064742}]
[null,null,null,null,null,null,null,0,null,{"$f":"I168/E168","v":1.4285714285714286}]
[null,null,"Adjusted for PA Basis",{"$f":"+D157*(1+1)/(1+D157*1)","v":0.92534426688549098},{"$f":"+E157*(1+1)/(1+E157*1)","v":0.8723010025425515},{"$f":"+F157*(1+1)/(1+F157*1)","v":{"$error":"#N/A"}},{"$f":"+G157*(1+1)/(1+G157*1)","v":{"$error":"#N/A"}},0.8723010025425515,{"$f":"+I157*(1+1)/(1+I157*1)","v":0.62581132641453641}]
[null,null,"Corrected by Odds Ratio",{"$f":"+D164/$E$164","v":1.0608084413388623},{"$f":"+E164/$E$164","v":1},{"$f":"+F164/$E$164","v":{"$error":"#N/A"}},{"$f":"+G164/$E$164","v":{"$error":"#N/A"}},1,{"$f":"+I164/$E$164","v":0.71742589380322175}]
[null,null,null,{"$f":"(1/D165)^$D169","v":0.29295399474123779},1,{"$error":"#N/A"},{"$error":"#N/A"},1,998.99999999999955,{"$f":"I171/E171","v":1.4285714285714286}]
[null,null,null,{"$f":"(D166+$F170-1)/(1+(D166+$F170-1))","v":0.61923435059440457},0.70000000000000007,{"$error":"#N/A"},{"$error":"#N/A"},0.70000000000000007,0.99900133155792281]
[null,null,"Score Odds Ratio with Optimal as 100 (old)",{"$f":"MIN(ROUND($I$165/D165*Construction!$I$9,0),$I168)","v":14},{"$f":"MIN(ROUND($I$165/E165*Construction!$I$9,0),$I168)","v":14},{"$f":"MIN(ROUND($I$165/F165*Construction!$I$9,0),$I168)","v":{"$error":"#N/A"}},{"$f":"MIN(ROUND($I$165/G165*Construction!$I$9,0),$I168)","v":{"$error":"#N/A"}},null,{"$f":"ROUND($I$165/I165*Construction!$I$9,0)","v":20}]
[null,null,"Logistic1",{"$f":"LN((D170/(1-D170))/(0.5/0.5))/LN($E165/I165)","v":20.798114554240879}]
[null,null,"Logistic Param",0.999,null,{"$f":"0.7/0.3","v":2.3333333333333335}]
[null,null,"Score ",{"$f":"MIN(ROUND(D167*Construction!$I$9,0),$I168)","v":12},{"$f":"MIN(ROUND(E167*Construction!$I$9,0),$I168)","v":14},{"$f":"MIN(ROUND(F167*Construction!$I$9,0),$I168)","v":{"$error":"#N/A"}},{"$f":"MIN(ROUND(G167*Construction!$I$9,0),$I168)","v":{"$error":"#N/A"}},null,{"$f":"MIN(ROUND(I167*Construction!$I$9,0),$I168)","v":20}]
[]
[]
[]
[]
[]
[]
[null,"Roadsde",null,"Existing","Standard","Design 1","Design 2"]
[null,null,null,{"$f":"MID(D72,FIND(\":\",D72,1)+1,FIND(\"H\",D72,1)-FIND(\":\",D72,1)-1)+0","v":{"$error":"#VALUE!"}},{"$f":"MID(E72,FIND(\":\",E72,1)+1,FIND(\"H\",E72,1)-FIND(\":\",E72,1)-1)+0","v":4},{"$f":"MID(F72,FIND(\":\",F72,1)+1,FIND(\"H\",F72,1)-FIND(\":\",F72,1)-1)+0","v":{"$error":"#VALUE!"}},{"$f":"MID(G72,FIND(\":\",G72,1)+1,FIND(\"H\",G72,1)-FIND(\":\",G72,1)-1)+0","v":{"$error":"#VALUE!"}},null,{"$f":"MID(I72,FIND(\":\",I72,1)+1,FIND(\"H\",I72,1)-FIND(\":\",I72,1)-1)+0","v":6},null,{"$f":"INDEX($D179:$I179,K$98)","v":{"$error":"#VALUE!"}},{"$f":"INDEX($D179:$I179,L$98)","v":4},{"$f":"IF(ISERROR(1-L179/K179), 0, 1-L179/K179)","v":0}]
[null,null,"Sideslope (Foreslope)",{"$f":"IF(D179<=3,1,IF(OR(D179=4,D179=5),(Roadside!$F$15-1)*Constraints!$H$37/Constraints!$D$37+1,(Roadside!$F$15*Roadside!$F$16-1)*Constraints!$H$37/Constraints!$D$37+1))","v":{"$error":"#VALUE!"}},{"$f":"IF(E179<=3,1,IF(OR(E179=4,E179=5),(Roadside!$F$15-1)*Constraints!$H$37/Constraints!$D$37+1,(Roadside!$F$15*Roadside!$F$16-1)*Constraints!$H$37/Constraints!$D$37+1))","v":0.8286893555394641},{"$f":"IF(F179<=3,1,IF(OR(F179=4,F179=5),(Roadside!$F$15-1)*Constraints!$H$37/Constraints!$D$37+1,(Roadside!$F$15*Roadside!$F$16-1)*Constraints!$H$37/Constraints!$D$37+1))","v":{"$error":"#VALUE!"}},{"$f":"IF(G179<=3,1,IF(OR(G179=4,G179=5),(Roadside!$F$15-1)*Constraints!$H$37/Constraints!$D$37+1,(Roadside!$F$15*Roadside!$F$16-1)*Constraints!$H$37/Constraints!$D$37+1))","v":{"$error":"#VALUE!"}},{"$f":"IF($I$2=\"Existing\",(D180),(IF($I$2=\"Design 1\",(F180),(IF($I$2=\"Design 2\",(G180),(IF($I$2=\"Optimal\",(I180),E180)))))))","v":0.8286893555394641},{"$f":"IF(I179<=3,1,IF(OR(I179=4,I179=5),(Roadside!$F$15-1)*Constraints!$H$37/Constraints!$D$37+1,(Roadside!$F$15*Roadside!$F$16-1)*Constraints!$H$37/Constraints!$D$37+1))","v":0.77664355022240605},null,{"$f":"INDEX($D180:$I180,K$98)","v":{"$error":"#VALUE!"}},{"$f":"INDEX($D180:$I180,L$98)","v":0.8286893555394641},0]
[null,null,"Backslope",1,1,1,1,{"$f":"IF($I$2=\"Existing\",(D181),(IF($I$2=\"Design 1\",(F181),(IF($I$2=\"Design 2\",(G181),(IF($I$2=\"Optimal\",(I181),E181)))))))","v":1},1,null,{"$f":"INDEX($D181:$I181,K$98)","v":1},{"$f":"INDEX($D181:$I181,L$98)","v":1},0]
[null,null,"SafetyEdge",{"$f":"IF(D$74=\"No\",1,(Roadside!$F$23-1)*AVERAGE(Constraints!$H$37,Constraints!$F$37)/Constraints!$D$37+1)","v":0.97258384193648495},{"$f":"IF(E$74=\"No\",1,(Roadside!$F$23-1)*AVERAGE(Constraints!$H$37,Constraints!$F$37)/Constraints!$D$37+1)","v":1},{"$f":"IF(F$74=\"No\",1,(Roadside!$F$23-1)*AVERAGE(Constraints!$H$37,Constraints!$F$37)/Constraints!$D$37+1)","v":0.97258384193648495},{"$f":"IF(G$74=\"No\",1,(Roadside!$F$23-1)*AVERAGE(Constraints!$H$37,Constraints!$F$37)/Constraints!$D$37+1)","v":0.97258384193648495},{"$f":"IF($I$2=\"Existing\",(D182),(IF($I$2=\"Design 1\",(F182),(IF($I$2=\"Design 2\",(G182),(IF($I$2=\"Optimal\",(I182),E182)))))))","v":1},{"$f":"IF(I$74=\"No\",1,(Roadside!$F$23-1)*AVERAGE(Constraints!$H$37,Constraints!$F$37)/Constraints!$D$37+1)","v":0.97258384193648495},null,{"$f":"INDEX($D182:$I182,K$98)","v":0.97258384193648495},{"$f":"INDEX($D182:$I182,L$98)","v":1},-2.8188991921691331E-2]
[null,null,"Lateral Clearance (ft)",{"$f":"IF($B$27=\"Yes\",((EXP(LN(Roadside!$F$11)*(IF(D$76=\"None\",40,D$75)-30)/30)-1))*Constraints!$H$36/Constraints!$D$37+1,((EXP(LN(Roadside!$F$10)*(IF(D$76=\"None\",40,D$75)-30)/30)-1))*Constraints!$H$36/Constraints!$D$37+1)","v":1.0992721491203288},{"$f":"IF($B$27=\"Yes\",((EXP(LN(Roadside!$F$11)*(IF(E$76=\"None\",40,E$75)-30)/30)-1))*Constraints!$H$36/Constraints!$D$37+1,((EXP(LN(Roadside!$F$10)*(IF(E$76=\"None\",40,E$75)-30)/30)-1))*Constraints!$H$36/Constraints!$D$37+1)","v":1},{"$f":"IF($B$27=\"Yes\",((EXP(LN(Roadside!$F$11)*(IF(F$76=\"None\",40,F$75)-30)/30)-1))*Constraints!$H$36/Constraints!$D$37+1,((EXP(LN(Roadside!$F$10)*(IF(F$76=\"None\",40,F$75)-30)/30)-1))*Constraints!$H$36/Constraints!$D$37+1)","v":1.0992721491203288},{"$f":"IF($B$27=\"Yes\",((EXP(LN(Roadside!$F$11)*(IF(G$76=\"None\",40,G$75)-30)/30)-1))*Constraints!$H$36/Constraints!$D$37+1,((EXP(LN(Roadside!$F$10)*(IF(G$76=\"None\",40,G$75)-30)/30)-1))*Constraints!$H$36/Constraints!$D$37+1)","v":1.0992721491203288},{"$f":"IF($I$2=\"Existing\",(D183),(IF($I$2=\"Design 1\",(F183),(IF($I$2=\"Design 2\",(G183),(IF($I$2=\"Optimal\",(I183),E183)))))))","v":1},{"$f":"IF($B$27=\"Yes\",((EXP(LN(Roadside!$F$11)*(IF(I$76=\"None\",40,I$75)-30)/30)-1))*Constraints!$H$36/Constraints!$D$37+1,((EXP(LN(Roadside!$F$10)*(IF(I$76=\"None\",40,I$75)-30)/30)-1))*Constraints!$H$36/Constraints!$D$37+1)","v":0.97455184373954995},null,{"$f":"INDEX($D183:$I183,K$98)","v":1.0992721491203288},{"$f":"INDEX($D183:$I183,L$98)","v":1},9.0307162971216326E-2]
[null,null,"Fixed Object Type",{"$f":"IF(D$76=\"Guardrail\",(Roadside!$F$25-1)*(($I$75-D$75)/$I$75)^2*Constraints!$H$36/Constraints!$D$37+1,1)","v":1},{"$f":"IF(E$76=\"Guardrail\",(Roadside!$F$25-1)*(($I$75-E$75)/$I$75)^2*Constraints!$H$36/Constraints!$D$37+1,1)","v":1},{"$f":"IF(F$76=\"Guardrail\",(Roadside!$F$25-1)*(($I$75-F$75)/$I$75)^2*Constraints!$H$36/Constraints!$D$37+1,1)","v":1},{"$f":"IF(G$76=\"Guardrail\",(Roadside!$F$25-1)*(($I$75-G$75)/$I$75)^2*Constraints!$H$36/Constraints!$D$37+1,1)","v":1},{"$f":"IF($I$2=\"Existing\",(D184),(IF($I$2=\"Design 1\",(F184),(IF($I$2=\"Design 2\",(G184),(IF($I$2=\"Optimal\",(I184),E184)))))))","v":1},{"$f":"IF(I$76=\"Guardrail\",(Roadside!$F$25-1)*(($I$75-I$75)/$I$75)^2*Constraints!$H$36/Constraints!$D$37+1,1)","v":1},null,{"$f":"INDEX($D184:$I184,K$98)","v":1},{"$f":"INDEX($D184:$I184,L$98)","v":1},0]
[]
[]
[null,null,"COMBINED Calculated CMF",{"$f":"+D180*D181*D182*D183*D184","v":{"$error":"#VALUE!"}},{"$f":"+E180*E181*E182*E183*E184","v":0.8286893555394641},{"$f":"+F180*F181*F182*F183*F184","v":{"$error":"#VALUE!"}},{"$f":"+G180*G181*G182*G183*G184","v":{"$error":"#VALUE!"}},{"$f":"IF($I$2=\"Existing\",(D187),(IF($I$2=\"Design 1\",(F187),(IF($I$2=\"Design 2\",(G187),(IF($I$2=\"Optimal\",(I187),E187)))))))","v":0.8286893555394641},{"$f":"+I180*I181*I182*I183*I184","v":0.73612867842813945}]
[null,null,"Calculated Relative to Design Standards (Column E)",{"$f":"+D187/$E$187","v":{"$error":"#VALUE!"}},{"$f":"+E187/$E$187","v":1},{"$f":"+F187/$E$187","v":{"$error":"#VALUE!"}},{"$f":"+G187/$E$187","v":{"$error":"#VALUE!"}},1,{"$f":"+I187/$E$187","v":0.88830473507039431}]
[null,null,"P(Crash)",{"$f":"+D188/(D188+1)","v":{"$error":"#VALUE!"}},{"$f":"+E188/(E188+1)","v":0.5},{"$f":"+F188/(F188+1)","v":{"$error":"#VALUE!"}},{"$f":"+G188/(G188+1)","v":{"$error":"#VALUE!"}},0.5,{"$f":"+I188/(I188+1)","v":0.47042445987261644}]
[null,null,"Factor Change on S curve",{"$f":"+D189/$E$189","v":{"$error":"#VALUE!"}},{"$f":"+E189/$E$189","v":1},{"$f":"+F189/$E$189","v":{"$error":"#VALUE!"}},{"$f":"+G189/$E$189","v":{"$error":"#VALUE!"}},1,{"$f":"+I189/$E$189","v":0.94084891974523288}]
[null,null,"Adjust to Scale of 100",{"$f":"+$I$114/D190*100","v":{"$error":"#VALUE!"}},{"$f":"+$I$114/E190*100","v":{"$error":"#VALUE!"}},{"$f":"+$I$114/F190*100","v":{"$error":"#VALUE!"}},{"$f":"+$I$114/G190*100","v":{"$error":"#VALUE!"}},{"$error":"#VALUE!"},{"$f":"+$I$114/I190*100","v":{"$error":"#VALUE!"}}]
[null,null,"Unadjusted Combined Relative to Standard",{"$f":"+D187/$E$187","v":{"$error":"#VALUE!"}},{"$f":"+E187/$E$187","v":1},{"$f":"+F187/$E$187","v":{"$error":"#VALUE!"}},{"$f":"+G187/$E$187","v":{"$error":"#VALUE!"}},1,{"$f":"+I187/$E$187","v":0.88830473507039431}]
[null,null,null,null,null,null,null,null,null,{"$f":"I198/E198","v":1.1111111111111112}]
[null,null,"Adjusted for PA Basis",{"$f":"+D187*(1+1)/(1+D187*1)","v":{"$error":"#VALUE!"}},{"$f":"+E187*(1+1)/(1+E187*1)","v":0.90632053282226321},{"$f":"+F187*(1+1)/(1+F187*1)","v":{"$error":"#VALUE!"}},{"$f":"+G187*(1+1)/(1+G187*1)","v":{"$error":"#VALUE!"}},{"$f":"IF($I$2=\"Existing\",(D194),(IF($I$2=\"Design 1\",(F194),(IF($I$2=\"Design 2\",(G194),(IF($I$2=\"Optimal\",(I194),E194)))))))","v":0.90632053282226321},{"$f":"+I187*(1+1)/(1+I187*1)","v":0.84801165671039724}]
[null,null,"Corrected by Odds Ratio",{"$f":"+D187/$E$187","v":{"$error":"#VALUE!"}},{"$f":"+E187/$E$187","v":1},{"$f":"+F187/$E$187","v":{"$error":"#VALUE!"}},{"$f":"+G187/$E$187","v":{"$error":"#VALUE!"}},{"$f":"IF($I$2=\"Existing\",(D195),(IF($I$2=\"Design 1\",(F195),(IF($I$2=\"Design 2\",(G195),(IF($I$2=\"Optimal\",(I195),E195)))))))","v":1},{"$f":"+I187/$E$187","v":0.88830473507039431}]
[null,null,null,{"$f":"(1/D195)^$D199","v":{"$error":"#VALUE!"}},1,{"$error":"#VALUE!"},{"$error":"#VALUE!"},1,998.99999999999955,{"$f":"I201/E201","v":1.4814814814814814}]
[null,null,null,{"$f":"(D196+$F200-1)/(1+(D196+$F200-1))","v":{"$error":"#VALUE!"}},0.66666666666666663,{"$error":"#VALUE!"},{"$error":"#VALUE!"},0.66666666666666663,0.99900099900099903]
[null,null,"Score Odds Ratio with Optimal as 100 (old)",{"$f":"MIN(ROUND($I$195/D195*Construction!$I$10,0),$I198)","v":{"$error":"#VALUE!"}},{"$f":"MIN(ROUND($I$195/E195*Construction!$I$10,0),$I198)","v":36},{"$f":"MIN(ROUND($I$195/F195*Construction!$I$10,0),$I198)","v":{"$error":"#VALUE!"}},{"$f":"MIN(ROUND($I$195/G195*Construction!$I$10,0),$I198)","v":{"$error":"#VALUE!"}},null,{"$f":"ROUND($I$195/I195*Construction!$I$10,0)","v":40}]
[null,null,"Logistic1",{"$f":"LN((D200/(1-D200))/(0.5/0.5))/LN($E195/I195)","v":58.314167600285003}]
[null,null,"Logistic Param",0.999,null,2]
[null,null,"Score ",{"$f":"MIN(ROUND(D197*Construction!$I$10,0),$I198)","v":{"$error":"#VALUE!"}},{"$f":"MIN(ROUND(E197*Construction!$I$10,0),$I198)","v":27},{"$f":"MIN(ROUND(F197*Construction!$I$10,0),$I198)","v":{"$error":"#VALUE!"}},{"$f":"MIN(ROUND(G197*Construction!$I$10,0),$I198)","v":{"$error":"#VALUE!"}},null,{"$f":"MIN(ROUND(I197*Construction!$I$10,0),$I198)","v":40}]
[]
[]
[]
[]
[null,null,{"$f":"D84/D179","v":{"$error":"#VALUE!"}},null,{"$f":"ROUNDUP((MIN($I$14,$I$15)-E24-E25)/$C$206,0)","v":{"$error":"#VALUE!"}},{"$f":"ROUNDUP((MIN($I$14,$I$15)-F24-F25)/$C$206,0)","v":{"$error":"#VALUE!"}},{"$f":"ROUNDUP((MIN($I$14,$I$15)-G24-G25)/$C$206,0)","v":{"$error":"#VALUE!"}},null,{"$f":"ROUNDUP((MIN($I$14,$I$15)-I24-I25)/$C$206,0)","v":{"$error":"#VALUE!"}}]
[]
[]
[null,null,"Distance to low point","Distance to low point",{"$f":"$C$206*E179","v":{"$error":"#VALUE!"}},{"$f":"$C$206*F179","v":{"$error":"#VALUE!"}},{"$f":"$C$206*G179","v":{"$error":"#VALUE!"}},null,{"$f":"$C$206*I179","v":{"$error":"#VALUE!"}}]
[null,null,null,"Additional ROW1 Needed for Foreslope",{"$f":"IF(E209>($I$14-E24-E25),E209-($I$14-E24-E25),0)","v":{"$error":"#VALUE!"}},{"$f":"IF(F209>($I$14-F24-F25),F209-($I$14-F24-F25),0)","v":{"$error":"#VALUE!"}},{"$f":"IF(G209>($I$14-G24-G25),G209-($I$14-G24-G25),0)","v":{"$error":"#VALUE!"}},null,{"$f":"IF(I209>($I$14-I24-I25),I209-($I$14-I24-I25),0)","v":{"$error":"#VALUE!"}}]
[null,null,null,"Additional ROW2 Needed for Foreslope",{"$f":"IF(E209>($I$15-E24-E25),E209-($I$15-E24-E25),0)","v":{"$error":"#VALUE!"}},{"$f":"IF(F209>($I$15-F24-F25),F209-($I$15-F24-F25),0)","v":{"$error":"#VALUE!"}},{"$f":"IF(G209>($I$15-G24-G25),G209-($I$15-G24-G25),0)","v":{"$error":"#VALUE!"}},null,{"$f":"IF(I209>($I$15-I24-I25),I209-($I$15-I24-I25),0)","v":{"$error":"#VALUE!"}}]
[]
[null,null,null,"Additional ROW1 Needed for Lateral Clearance",{"$f":"IF((CL248+E26)-$I$14<0,0,(CL248+E26)-$I$14)","v":8},{"$f":"IF((CM248+F26)-$I$14<0,0,(CM248+F26)-$I$14)","v":0},{"$f":"IF((CN248+G26)-$I$14<0,0,(CN248+G26)-$I$14)","v":0},null,{"$f":"IF((CP248+I26)-$I$14<0,0,(CP248+I26)-$I$14)","v":0}]
[null,null,null,"Additional ROW2 Needed for Lateral Clearance",{"$f":"IF((CL248+E26)-$I$15<0,0,(CL248+E26)-$I$15)","v":8},{"$f":"IF((CM248+F26)-$I$15<0,0,(CM248+F26)-$I$15)","v":0},{"$f":"IF((CN248+G26)-$I$15<0,0,(CN248+G26)-$I$15)","v":0},null,{"$f":"IF((CP248+I26)-$I$15<0,0,(CP248+I26)-$I$15)","v":0}]
[]
[]
[]
[]
[]
[]
[]
[]
[]
[]
[]
[null,null,"For Vertical Opt Use when Yes Vertical:"]
[null,null,"G1",{"$f":"D36","v":0},null,{"$f":"F36","v":0},{"$f":"G36","v":0},null,{"$f":"IF(ISERROR($E$234),\"\",INDEX(D227:G227,$E$234))","v":""}]
[null,null,"G2",{"$f":"D37","v":0},null,{"$f":"F37","v":0},{"$f":"G37","v":0},null,{"$f":"IF(ISERROR($E$234),\"\",INDEX(D228:G228,$E$234))","v":""}]
[null,null,"abs(G2-G1)",{"$f":"ABS(D36-D37)","v":0},null,{"$f":"ABS(F36-F37)","v":0},{"$f":"ABS(G36-G37)","v":0}]
[null,null,"Count in indicator (K no change; or K change but accept)",{"$f":"IF(D39<>\"\",1,\"\")","v":""},null,{"$f":"IF(OR(AND($B$34 = \"Yes\", $D$39 <> F39, F39 <>\"\", $D$39 <> \"\", F41=\"Yes.\"),AND($B$34 = \"Yes\", $D$39 = F39, F39 <>\"\", $D$39 <> \"\")), 1,\"\")","v":""},{"$f":"IF(OR(AND($B$34 = \"Yes\", $D$39 <> G39, G39 <>\"\", $D$39 <> \"\", G41=\"Yes.\"),AND($B$34 = \"Yes\", $D$39 = G39, G39 <>\"\", $D$39 <> \"\")), 1,\"\")","v":""}]
[]
[null,null,"Valid abs(G2-G1)",{"$f":"IF(ISERROR(D229*D230),\"\",D229*D230)","v":""},null,{"$f":"IF(ISERROR(F229*F230),\"\",F229*F230)","v":""},{"$f":"IF(ISERROR(G229*G230),\"\",G229*G230)","v":""}]
[null,null,"The min valid abs(G2-G1)",null,{"$f":"MIN(D232,F232,G232)","v":0}]
[null,null,"Index",null,{"$f":"MATCH(E233,D232:G232,0)","v":{"$error":"#N/A"}}]
[]
[null,null,"For Vertical Opt Use When No Vertical:"]
[null,null,"G1",{"$f":"IF(ISBLANK(D36), 999, D36)","v":999},null,{"$f":"IF(ISBLANK(F36), 999, F36)","v":999},{"$f":"IF(ISBLANK(G36), 999, G36)","v":999},null,{"$f":"IF(E242=999,\"\",E242)","v":""}]
[null,null,"Sign of G1",{"$f":"IF(D237>=0,1,-1)","v":1},null,{"$f":"IF(F237>=0,1,-1)","v":1},{"$f":"IF(G237>=0,1,-1)","v":1}]
[null,null,"Abs G1",{"$f":"ABS(D237)","v":999},null,{"$f":"ABS(F237)","v":999},{"$f":"ABS(G237)","v":999}]
[null,null,"Min Abs G1",null,{"$f":"MIN(D239:G239)","v":999}]
[null,null,"Which is the Best G1",null,{"$f":"MATCH(E240,D239:G239,0)","v":1}]
[null,null,"Best G1 Value",null,{"$f":"INDEX(D237:G237,1,E241)","v":999}]
[]
[]
[]
[]
[]
[]
[null,null,"Check if all cells filled",{"$f":"SUM(D251:D311)","v":18},{"$f":"SUM(E251:E311)","v":1},18,18,null,1]
[]
[null,null,{"$f":"C24","v":"Lane Width (feet)"},{"$f":"IF(ISBLANK(D24),1,0)","v":1},{"$f":"IF(ISBLANK(E24),1,0)","v":0},1,1,null,0]
[null,null,{"$f":"C25","v":"Shoulder Width (feet)"},{"$f":"IF(ISBLANK(D25),1,0)","v":1},0,1,1,null,0]
[null,null,"Cross-slope or Superelevation (%)",{"$f":"IF(ISBLANK(D26),1,0)","v":1},0,1,1,null,0]
[null,null,"Horizontal Curve Present?"]
[null,null,"Horizontal Curve Data for Controlling Element:"]
[null,null,"  Radius (feet)",{"$f":"IF(AND($B$27=\"Yes\", ISBLANK(D29)),1,0)","v":0},{"$f":"IF(AND($B$27=\"Yes\", ISBLANK(E29)),1,0)","v":0},0,0,null,0]
[null,null,"Length of Horizontal Curve (feet)",{"$f":"IF(AND($B$27=\"Yes\", ISBLANK(D30)),1,0)","v":0},0,0,0,null,0]
[null,null,"Calculated Deflection Angle ∆"]
[]
[null,null,null,null,null,{"$f":"IF(AND($B$27 = \"Yes\", $D$31 <> F31, F31<>\"\",ISBLANK(F33)),1,0)","v":0},{"$f":"IF(AND($B$27 = \"Yes\", $D$31 <> G31, G31<>\"\",ISBLANK(G33)),1,0)","v":0}]
[null,null,"Vertical Curve Present?"]
[null,null,"Vertical Curve Data for Controlling Element:"]
[null,null,"  Approach (Entry) Grade, G1 (%)",{"$f":"IF(ISBLANK(D36),1,0)","v":1},{"$f":"IF(ISBLANK(E36),1,0)","v":0},1,1,null,0]
[null,null,"  Departure (Exit) Grade, G2 (%)",{"$f":"IF(AND($B$34=\"Yes\", ISBLANK(D37)),1,0)","v":0},{"$f":"IF(AND($B$34=\"Yes\", ISBLANK(E37)),1,0)","v":0},0,0,null,0]
[null,null,"  Length (feet)",{"$f":"IF(AND($B$34=\"Yes\", ISBLANK(D38)),1,0)","v":0},0,0,0,null,0]
[null,null,"  Calculated Rate of Change, K (ft/ft)"]
[]
[]
[]
[null,null,"TWLTL (two-way left-turn lane)",{"$f":"IF(ISBLANK(D43),1,0)","v":1},{"$f":"IF(ISBLANK(E43),1,0)","v":0},1,1,null,0]
[null,null,"Passing Lane Type",{"$f":"IF(ISBLANK(D44),1,0)","v":1},0,1,1,null,0]
[]
[]
[]
[]
[]
[]
[]
[null,null,"Advance Static Curve Warning Signs",{"$f":"IF(AND($B$27=\"Yes\", ISBLANK(D52)),1,0)","v":0},{"$f":"IF(AND($B$27=\"Yes\", ISBLANK(E52)),1,0)","v":0},0,0,null,{"$f":"IF(ISBLANK(I52),1,0)","v":0}]
[null,null,"Chevron Signs on Horizontal Curves",{"$f":"IF(AND($B$27=\"Yes\", ISBLANK(D53)),1,0)","v":0},0,0,0,null,0]
[null,null,"Post-Mounted Delineators",0,0,0,0,null,0]
[null,null,"Edgeline Pavement Markings or Profile Markings",{"$f":"IF(ISBLANK(D55),1,0)","v":1},0,1,1,null,0]
[null,null,"Shoulder Rumble Strips",1,0,1,1,null,0]
[null,null,"Centerline Rumble Strips",1,0,1,1,null,0]
[null,null,"Driveway Density (driveways per mile)",1,0,1,1,null,0]
[null,null,"Lighting",1,0,1,1,null,0]
[null,null,"Pavement Friction (skid number) ***",1,0,1,1,null,0]
[]
[]
[]
[]
[]
[]
[]
[]
[]
[]
[]
[null,null,"Sideslope (Foreslope)",{"$f":"IF(ISBLANK(D72),1,0)","v":1},0,1,1,null,0]
[null,null,"Backslope",1,0,1,1,null,0]
[null,null,"SafetyEdge",1,0,1,1,null,0]
[null,null,"Lateral Clearance to obstruction (ft)",1,0,1,1,null,0]
[null,null,"Obstruction Type",1,0,1,1,null,0]
[]
[]
[]
[]
[]
[]
[]
[null,null,"Distance to Slope Toe from Shoulder (ft)",1,{"$f":"$D$311","v":1},{"$f":"$D$311","v":1},1,null,1]
[]
[]
[]
[null,null,null,null,null,null,null,null,{"$f":"SUM(I316:I324)","v":9}]
[null,null,null,null,null,null,null,{"$f":"F9","v":"Location "},{"$f":"IF(ISBLANK(I9),1,0)","v":1}]
[null,null,null,null,null,null,null,{"$f":"F10","v":"Design Speed (mph)"},{"$f":"IF(ISBLANK(I10),1,0)","v":1}]
[null,null,null,null,null,null,null,"Posted Speed (mph)",1]
[null,null,null,null,null,null,null,"E max (%)",1]
[null,null,null,null,null,null,null,"Design Year AADT (vehicles per day)",1]
[null,null,null,null,null,null,null,"Dist. from Centerline to Left   ROW (feet)",1]
[null,null,null,null,null,null,null,"Dist. from Centerline to Right ROW (feet)",1]
[null,null,null,null,null,null,null,"H Curve Indicator",{"$f":"IF(ISBLANK(B27),1,0)","v":1}]
[null,null,null,null,null,null,null,"V Curve Indicator",{"$f":"IF(ISBLANK(B34),1,0)","v":1}]
[]
[]
[]
[]
[]
[]
[]
[]
[]
[]
[]
[]
[]
[]
[]
[]
[]
[]
[]
[]
[]
[]
[]
[]
[]
[]
[]
[]
[]
[]
[]
[]
[]
[]
[]
[]
[]
[]
[]
[]
[]
[]
[]
[]
[]
[]
[]
[]
[]
[]
[]
[1]
[22]
[21]
[20,null,null,{"$f":"Constraints!P174","v":"Emax=6%"}]
[19]
[18,null,{"$f":"HLOOKUP($I$10,Constraints!$Q$176:AD197,A376,TRUE)","v":{"$error":"#N/A"}},{"$f":"Constraints!P176","v":"super"}]
[17,null,{"$f":"HLOOKUP($I$10,Constraints!$Q$176:AD198,A377,TRUE)","v":{"$error":"#N/A"}},{"$f":"Constraints!P197","v":6},1050]
[16,null,{"$f":"HLOOKUP($I$10,Constraints!$Q$176:AD199,A378,TRUE)","v":{"$error":"#N/A"}},{"$f":"Constraints!P196","v":5.8}]
[15,null,{"$f":"HLOOKUP($I$10,Constraints!$Q$176:AD200,A379,TRUE)","v":{"$error":"#N/A"}},{"$f":"Constraints!P195","v":5.6}]
[14,null,{"$f":"HLOOKUP($I$10,Constraints!$Q$176:AD201,A380,TRUE)","v":{"$error":"#N/A"}},{"$f":"Constraints!P194","v":5.4}]
[13,null,{"$f":"HLOOKUP($I$10,Constraints!$Q$176:AD202,A381,TRUE)","v":{"$error":"#N/A"}},{"$f":"Constraints!P193","v":5.2}]
[12,null,{"$f":"HLOOKUP($I$10,Constraints!$Q$176:AD203,A382,TRUE)","v":{"$error":"#N/A"}},{"$f":"Constraints!P192","v":5}]
[11,null,{"$f":"HLOOKUP($I$10,Constraints!$Q$176:AD204,A383,TRUE)","v":{"$error":"#N/A"}},{"$f":"Constraints!P191","v":4.8}]
[10,null,{"$f":"HLOOKUP($I$10,Constraints!$Q$176:AD205,A384,TRUE)","v":{"$error":"#N/A"}},{"$f":"Constraints!P190","v":4.5999999999999996}]
[9,null,{"$f":"HLOOKUP($I$10,Constraints!$Q$176:AD206,A385,TRUE)","v":{"$error":"#N/A"}},{"$f":"Constraints!P189","v":4.4000000000000004}]
[8,null,{"$f":"HLOOKUP($I$10,Constraints!$Q$176:AD207,A386,TRUE)","v":{"$error":"#N/A"}},{"$f":"Constraints!P188","v":4.2}]
[7,null,{"$f":"HLOOKUP($I$10,Constraints!$Q$176:AD208,A387,TRUE)","v":{"$error":"#N/A"}},{"$f":"Constraints!P187","v":4}]
[6,null,{"$f":"HLOOKUP($I$10,Constraints!$Q$176:AD209,A388,TRUE)","v":{"$error":"#N/A"}},{"$f":"Constraints!P186","v":3.8}]
[5,null,{"$f":"HLOOKUP($I$10,Constraints!$Q$176:AD210,A389,TRUE)","v":{"$error":"#N/A"}},{"$f":"Constraints!P185","v":3.6}]
[4,null,{"$f":"HLOOKUP($I$10,Constraints!$Q$176:AD211,A390,TRUE)","v":{"$error":"#N/A"}},{"$f":"Constraints!P184","v":3.4}]
[3,null,{"$f":"HLOOKUP($I$10,Constraints!$Q$176:AD212,A391,TRUE)","v":{"$error":"#N/A"}},{"$f":"Constraints!P183","v":3.2}]
[2,null,{"$f":"HLOOKUP($I$10,Constraints!$Q$176:AD213,A392,TRUE)","v":{"$error":"#N/A"}},{"$f":"Constraints!P182","v":3}]
[null,null,{"$f":"HLOOKUP($I$10,Constraints!$Q$176:AD214,A393,TRUE)","v":{"$error":"#N/A"}},{"$f":"Constraints!P181","v":2.8}]
[null,null,{"$f":"HLOOKUP($I$10,Constraints!$Q$176:AD215,A394,TRUE)","v":{"$error":"#N/A"}},{"$f":"Constraints!P180","v":2.6}]
[null,null,{"$f":"HLOOKUP($I$10,Constraints!$Q$176:AD216,A395,TRUE)","v":{"$error":"#N/A"}},{"$f":"Constraints!P179","v":2.4}]
[null,null,{"$f":"HLOOKUP($I$10,Constraints!$Q$176:AD217,A396,TRUE)","v":{"$error":"#N/A"}},{"$f":"Constraints!P178","v":2.2000000000000002}]
[null,null,{"$f":"HLOOKUP($I$10,Constraints!$Q$176:AD218,A397,TRUE)","v":{"$error":"#N/A"}},{"$f":"Constraints!P177","v":2}]
[1]
[32]
[31]
[30,null,null,{"$f":"Constraints!P201","v":"Emax=8%"}]
[29]
[28,null,{"$f":"HLOOKUP($I$10,Constraints!$Q$203:AD234,A403,TRUE)","v":{"$error":"#N/A"}},{"$f":"Constraints!P203","v":"super"}]
[27,null,{"$f":"HLOOKUP($I$10,Constraints!$Q$203:AD235,A404,TRUE)","v":{"$error":"#N/A"}},{"$f":"INDEX(Constraints!$P$203:$P$234,A404,)","v":8}]
[26,null,{"$f":"HLOOKUP($I$10,Constraints!$Q$203:AD236,A405,TRUE)","v":{"$error":"#N/A"}},{"$f":"INDEX(Constraints!$P$203:$P$234,A405,)","v":7.8}]
[25,null,{"$f":"HLOOKUP($I$10,Constraints!$Q$203:AD237,A406,TRUE)","v":{"$error":"#N/A"}},{"$f":"INDEX(Constraints!$P$203:$P$234,A406,)","v":7.6}]
[24,null,{"$f":"HLOOKUP($I$10,Constraints!$Q$203:AD238,A407,TRUE)","v":{"$error":"#N/A"}},{"$f":"INDEX(Constraints!$P$203:$P$234,A407,)","v":7.4}]
[23,null,{"$f":"HLOOKUP($I$10,Constraints!$Q$203:AD239,A408,TRUE)","v":{"$error":"#N/A"}},{"$f":"INDEX(Constraints!$P$203:$P$234,A408,)","v":7.2}]
[22,null,{"$f":"HLOOKUP($I$10,Constraints!$Q$203:AD240,A409,TRUE)","v":{"$error":"#N/A"}},{"$f":"INDEX(Constraints!$P$203:$P$234,A409,)","v":7}]
[21,null,{"$f":"HLOOKUP($I$10,Constraints!$Q$203:AD241,A410,TRUE)","v":{"$error":"#N/A"}},{"$f":"INDEX(Constraints!$P$203:$P$234,A410,)","v":6.8}]
[20,null,{"$f":"HLOOKUP($I$10,Constraints!$Q$203:AD242,A411,TRUE)","v":{"$error":"#N/A"}},{"$f":"INDEX(Constraints!$P$203:$P$234,A411,)","v":6.6}]
[19,null,{"$f":"HLOOKUP($I$10,Constraints!$Q$203:AD243,A412,TRUE)","v":{"$error":"#N/A"}},{"$f":"INDEX(Constraints!$P$203:$P$234,A412,)","v":6.4}]
[18,null,{"$f":"HLOOKUP($I$10,Constraints!$Q$203:AD244,A413,TRUE)","v":{"$error":"#N/A"}},{"$f":"INDEX(Constraints!$P$203:$P$234,A413,)","v":6.2}]
[17,null,{"$f":"HLOOKUP($I$10,Constraints!$Q$203:AD245,A414,TRUE)","v":{"$error":"#N/A"}},{"$f":"INDEX(Constraints!$P$203:$P$234,A414,)","v":6}]
[16,null,{"$f":"HLOOKUP($I$10,Constraints!$Q$203:AD246,A415,TRUE)","v":{"$error":"#N/A"}},{"$f":"INDEX(Constraints!$P$203:$P$234,A415,)","v":5.8}]
[15,null,{"$f":"HLOOKUP($I$10,Constraints!$Q$203:AD247,A416,TRUE)","v":{"$error":"#N/A"}},{"$f":"INDEX(Constraints!$P$203:$P$234,A416,)","v":5.6}]
[14,null,{"$f":"HLOOKUP($I$10,Constraints!$Q$203:AD248,A417,TRUE)","v":{"$error":"#N/A"}},{"$f":"INDEX(Constraints!$P$203:$P$234,A417,)","v":5.4}]
[13,null,{"$f":"HLOOKUP($I$10,Constraints!$Q$203:AD249,A418,TRUE)","v":{"$error":"#N/A"}},{"$f":"INDEX(Constraints!$P$203:$P$234,A418,)","v":5.2}]
[12,null,{"$f":"HLOOKUP($I$10,Constraints!$Q$203:AD250,A419,TRUE)","v":{"$error":"#N/A"}},{"$f":"INDEX(Constraints!$P$203:$P$234,A419,)","v":5}]
[11,null,{"$f":"HLOOKUP($I$10,Constraints!$Q$203:AD251,A420,TRUE)","v":{"$error":"#N/A"}},{"$f":"INDEX(Constraints!$P$203:$P$234,A420,)","v":4.8}]
[10,null,{"$f":"HLOOKUP($I$10,Constraints!$Q$203:AD252,A421,TRUE)","v":{"$error":"#N/A"}},{"$f":"INDEX(Constraints!$P$203:$P$234,A421,)","v":4.5999999999999996}]
[9,null,{"$f":"HLOOKUP($I$10,Constraints!$Q$203:AD253,A422,TRUE)","v":{"$error":"#N/A"}},{"$f":"INDEX(Constraints!$P$203:$P$234,A422,)","v":4.4000000000000004}]
[8,null,{"$f":"HLOOKUP($I$10,Constraints!$Q$203:AD254,A423,TRUE)","v":{"$error":"#N/A"}},{"$f":"INDEX(Constraints!$P$203:$P$234,A423,)","v":4.2}]
[7,null,{"$f":"HLOOKUP($I$10,Constraints!$Q$203:AD255,A424,TRUE)","v":{"$error":"#N/A"}},{"$f":"INDEX(Constraints!$P$203:$P$234,A424,)","v":4}]
[6,null,{"$f":"HLOOKUP($I$10,Constraints!$Q$203:AD256,A425,TRUE)","v":{"$error":"#N/A"}},{"$f":"INDEX(Constraints!$P$203:$P$234,A425,)","v":3.8}]
[5,null,{"$f":"HLOOKUP($I$10,Constraints!$Q$203:AD257,A426,TRUE)","v":{"$error":"#N/A"}},{"$f":"INDEX(Constraints!$P$203:$P$234,A426,)","v":3.6}]
[4,null,{"$f":"HLOOKUP($I$10,Constraints!$Q$203:AD258,A427,TRUE)","v":{"$error":"#N/A"}},{"$f":"INDEX(Constraints!$P$203:$P$234,A427,)","v":3.4}]
[3,null,{"$f":"HLOOKUP($I$10,Constraints!$Q$203:AD259,A428,TRUE)","v":{"$error":"#N/A"}},{"$f":"INDEX(Constraints!$P$203:$P$234,A428,)","v":3.2}]
[2,null,{"$f":"HLOOKUP($I$10,Constraints!$Q$203:AD260,A429,TRUE)","v":{"$error":"#N/A"}},{"$f":"INDEX(Constraints!$P$203:$P$234,A429,)","v":3}]
[null,null,{"$f":"HLOOKUP($I$10,Constraints!$Q$203:AD261,A430,TRUE)","v":{"$error":"#N/A"}},{"$f":"INDEX(Constraints!$P$203:$P$234,A430,)","v":2.8}]
[null,null,{"$f":"HLOOKUP($I$10,Constraints!$Q$203:AD262,A431,TRUE)","v":{"$error":"#N/A"}},{"$f":"INDEX(Constraints!$P$203:$P$234,A431,)","v":2.6}]
[null,null,{"$f":"HLOOKUP($I$10,Constraints!$Q$203:AD263,A432,TRUE)","v":{"$error":"#N/A"}},{"$f":"INDEX(Constraints!$P$203:$P$234,A432,)","v":2.4}]
[null,null,{"$f":"HLOOKUP($I$10,Constraints!$Q$203:AD264,A433,TRUE)","v":{"$error":"#N/A"}},{"$f":"INDEX(Constraints!$P$203:$P$234,A433,)","v":2.2000000000000002}]
[null,null,{"$f":"HLOOKUP($I$10,Constraints!$Q$203:AD265,A434,TRUE)","v":{"$error":"#N/A"}},{"$f":"INDEX(Constraints!$P$203:$P$234,A434,)","v":2}]

{"sheet":"Configuration 9","index":19,"n_rows":439,"n_cols":113,"rows_kept":439,"cut":false,"hidden":false,"merged":[[1,6,2,7],[1,8,2,8],[1,21,1,37],[2,1,2,4],[2,21,3,28],[2,30,3,37],[3,1,3,4],[3,6,4,7],[3,8,4,8],[4,1,4,2],[4,3,4,4],[4,21,44,28],[4,30,44,37],[5,1,5,2],[5,3,5,4],[6,1,6,7],[7,1,7,4],[7,7,7,8],[8,3,8,4],[8,5,8,6],[75,16,75,21],[75,22,75,23],[9,3,9,4],[9,5,9,6],[10,3,10,4],[10,5,10,6],[11,5,11,6],[12,2,15,4],[12,5,12,6],[13,5,13,6],[14,5,14,6],[17,2,18,8],[20,5,20,7],[38,9,38,10],[45,12,45,19],[74,16,74,23],[76,22,76,23],[77,16,77,21],[77,22,77,23],[78,16,78,21],[78,22,78,23],[84,1,84,2],[85,1,85,2],[86,1,86,2],[95,10,95,12],[76,16,76,21]]}
[]
[null,null,null,null,null,null,"Preferred Schematic View to Display",null,"Standard",null,null,null,null,null,null,null,null,null,null,null,null,"NOTES: "]
[null,"CHARACTERISTICS TO CONSIDER FOR ANALYSIS",null,null,null,null,null,null,null,null,null,null,null,null,null,null,null,null,null,null,null,"ELEMENTS INCREASING SAFETY",null,null,null,null,null,null,null,null,"COMMENTS ON PRIMARY CONSTRAINTS"]
[null,"INPUT INSTRUCTIONS",null,null,null,null,"Relative to",null,"Existing"]
[null,"Blue Boxes -- Select from pulldown options",null,"Select from Pulldown"]
[null,"Yellow Boxes -- Type input information into box",null,"Type Input Value"]
[null," Rural Two-Lane Road Segment -- Safety Score Input",null,null,null,null,null,null,null,null,null,null,null,null,null,null,null,null,null,null,null,null,null,null,null,null,null,null,null,null,null,null,null,null,null,null,null,null,null,null,null,null,null,null,null,null,null,null,null,null,null,null,null,null,null,null,null,null,null,null,null,null,null,null,null,null,null,null,null,null,null,null,null,null,null,null,null,null,null,null,null,null,null,"Unadjusted Marginal Safety"]
[null,"General Information:",null,null,null,"General Site Features",null,{"$f":"I315 & \" Missing Features and Curves\"","v":"9 Missing Features and Curves"},null,null,null,null,null,null,null,null,null,null,null,null,null,null,null,null,null,null,null,null,null,null,null,null,null,null,null,null,null,null,null,null,null,null,null,null,null,null,null,null,null,null,null,null,null,null,null,null,null,null,null,null,null,null,null,null,null,null,null,null,null,null,null,null,null,null,null,null,null,null,null,null,null,null,null,{"$f":"I2&\" relative to \" &I4","v":"Standard relative to Existing"}]
[null,null,"Analyst:",{"$f":"+'Start Here'!J7","v":0},null,"Location "]
[null,null,"Agency or Company:",{"$f":"+'Start Here'!J8","v":0},null,"Design Speed (mph)"]
[null,null,"Date:",{"$f":"+'Start Here'!J9","v":"00:00:00"},null,"Posted Speed (mph)"]
[null,null,"Description:",null,null,"E max (%)"]
[null,null,null,null,null,"Design Year AADT (vehicles per day)"]
[null,null,null,null,null,"Dist. from Centerline to Left   ROW (feet)"]
[null,null,null,null,null,"Dist. from Centerline to Right ROW (feet)"]
[]
[null,"Warning:"]
[null,null,{"$f":"+IF(+I11>I10,\"Posted speed exceeds design speed. Optimal safety will only be achieved if design speed exceeds posted speed. The Safety Assessment Score is based on the higher of the two speed values.\",\"No warnings identified\")","v":"No warnings identified"}]
[null,null,null,null,null,null,null,null,null,null,null,null,null,null,null,{"$f":"\"Unadjusted Marginal Safety of elements in \"&I2&\" from Design Standards\"","v":"Unadjusted Marginal Safety of elements in Standard from Design Standards"},null,null,null,null,null,null,null,null,null,null,null,null,null,null,null,null,null,null,null,null,null,null,null,null,null,null,null,null,null,null,null,null,null,null,null,null,null,null,null,null,null,null,null,null,null,null,null,null,null,null,null,null,null,null,null,null,null,null,null,null,null,null,null,null,null,null,null,null,null,null,null,null,null,null,null,null,null,null,null,null,null,null,null,null,null,null,null,null,null,{"$f":"COUNTIF(DB23:DB41,DB20)","v":1}]
[null,null,null,null,null,null,null,null,null,null,null,null,null,null,null,null,null,null,null,null,null,null,null,null,null,null,null,null,null,null,null,null,null,null,null,null,null,null,null,null,null,null,null,null,null,null,null,null,null,null,null,null,null,null,null,null,null,null,null,null,null,null,null,null,null,null,null,null,null,null,null,null,null,null,null,null,null,null,null,null,null,null,null,null,null,null,null,null,null,null,null,null,null,null,null,null,null,null,null,null,null,null,null,null,null,{"$f":"VLOOKUP(0,CZ23:DB41,3,)","v":10.01}]
[null,null,null,"Fill all elements",null,"To enter notes, use boxes to the right of the vortex ",null,null,null,null," "]
[null,{"$f":"+Construction!$I$8&\"  Total Available Points\"","v":"40  Total Available Points"},null,{"$f":"D249 & \" Missing Elements\"","v":"18 Missing Elements"},null,{"$f":"F249 & \" Missing Elements\"","v":"18 Missing Elements"},{"$f":"G249 & \" Missing Elements\"","v":"18 Missing Elements"},null,null,null,null,null,null,null,null,null,null,null,null,null,null,null,null,null,null,null,null,null,null,null,null,null,null,null,null,null,null,null,null,null,null,null,null,null,null,null,null,null,null,null,null,null,null,null,null,null,null,null,null,null,null,null,null,null,null,null,null,null,null,null,null,null,null,null,null,null,null,null,null,null,null,null,null,null,null,null,null,null,null,null,null,null,null,null,null,null,null,null,null,null,null,"Ranked element","CRF","abs","Re-rank","Rank","Ranked CRF","Element","New Element","crf.abs","rank","Sorted Element","Sorted CRF"]
[null,"Geometric Design Elements",null,"Existing","Standard","Design 1","Design 2",{"$f":"\"Marginal Safety for \"&$I$2&\" (compared to \" & $I$4 & \")\"","v":"Marginal Safety for Standard (compared to Existing)"},"Optimal",null,null,null,null,null,null,null,null,null,null,null,null,null,null,null,null,null,null,null,null,null,null,null,null,null,null,null,null,null,null,null,null,null,null,null,null,null,null,null,null,null,null,null,null,null,null,null,null,null,null,null,null,null,null,null,null,null,null,null,null,null,null,null,null,null,null,null,null,null,null,null,null,null,null,null,null,null,null,null,null,null,null,null,null,null,null,null,null,null,null,null,null,{"$f":"IF(CY23=0,\"\",DB23&\". \"&DD23)","v":""},{"$f":"H24","v":0},{"$f":"ABS(CY23)","v":0},{"$f":"RANK(DB23,$DB$23:$DB$41,1)","v":10},{"$f":"_xlfn.RANK.EQ(CZ23,$CZ$23:$CZ$41)+DG23/100","v":10.01},{"$f":"CY23","v":0},{"$f":"IF(ROUND(DF23,2)=0,\"\",C24)","v":""},{"$f":"DD23","v":""},{"$f":"CZ23","v":0},1,{"$f":"IFERROR(IF(IFERROR(VLOOKUP(DG23,$DA$23:$DF$41,4,)&\", \"&CY23=0,\"\"),\"\",IFERROR(VLOOKUP(DG23,$DA$23:$DE$41,4,),\"\")),\"\")","v":"TWLTL (two-way left-turn lane)"},{"$f":"IFERROR(IF(IFERROR(VLOOKUP(DG23,$DA$23:$DF$41,3,)&\", \"&CY23=0,\"\"),\"\",IFERROR(VLOOKUP(DG23,$DA$23:$DE$41,3,),\"\")),\"\")","v":-0.40845070422535223}]
[null,null,"Lane Width (feet)",null,12,null,null,{"$f":"M100","v":0},12,null,null,null,null,null,null,null,null,null,null,null,null,null,null,null,null,null,null,null,null,null,null,null,null,null,null,null,null,null,null,null,null,null,null,null,null,null,null,null,null,null,null,null,null,null,null,null,null,null,null,null,null,null,null,null,null,null,null,null,null,null,null,null,null,null,null,null,null,null,null,null,null,null,null,null,null,null,null,null,null,null,null,null,null,null,null,null,null,null,null,null,null,"5.02. Shoulder Width (feet)",{"$f":"H25","v":0.15503875968992242},0.15503875968992242,{"$f":"RANK(DB24,$DB$23:$DB$41,1)","v":5},{"$f":"_xlfn.RANK.EQ(CZ24,$CZ$23:$CZ$41)+DG24/100","v":5.0199999999999996},{"$f":"CY24","v":0.15503875968992242},{"$f":"IF(ROUND(DF24,2)=0,\"\",C25)","v":"Shoulder Width (feet)"},{"$f":"DD24","v":"Shoulder Width (feet)"},0.15503875968992242,2,"Pavement Friction (skid number) ***",{"$f":"IFERROR(IF(IFERROR(VLOOKUP(DG24,$DA$23:$DF$41,3,)&\", \"&CY24=0,\"\"),\"\",IFERROR(VLOOKUP(DG24,$DA$23:$DE$41,3,),\"\")),\"\")","v":0.28430956017940245}]
[null,null,"Shoulder Width (feet)",null,{"$f":"IF('Start Here'!$J$12=\"4R\",8,4)","v":4},null,null,{"$f":"M101","v":0.15503875968992242},10,null,null,null,null,null,null,null,null,null,null,null,null,null,null,null,null,null,null,null,null,null,null,null,null,null,null,null,null,null,null,null,null,null,null,null,null,null,null,null,null,null,null,null,null,null,null,null,null,null,null,null,null,null,null,null,null,null,null,null,null,null,null,null,null,null,null,null,null,null,null,null,null,null,null,null,null,null,null,null,null,null,null,null,null,null,null,null,null,null,null,null,null,"",{"$f":"H29","v":0},0,11,10.029999999999999,0,{"$f":"IF(ROUND(DF25,2)=0,\"\",\"Hz and Vt Alignment\")","v":""},"",0,3,"Driveway Density (driveways per mile)",-0.22388114201141129]
[null,null,"Cross-slope or Superelevation (%)",null,{"$f":"IF($I$12=6,IFERROR(VLOOKUP(E29,$C$382:$D$402,2,TRUE),6),IFERROR(VLOOKUP(E29,$C$409:$D$439,2,TRUE),8))","v":8},null,null,null,{"$f":"I12","v":0},null,null,null,null,null,null,null,null,null,null,null,null,null,null,null,null,null,null,null,null,null,null,null,null,null,null,null,null,null,null,null,null,null,null,null,null,null,null,null,null,null,null,null,null,null,null,null,null,null,null,null,null,null,null,null,null,null,null,null,null,null,null,null,null,null,null,null,null,null,null,null,null,null,null,null,null,null,null,null,null,null,null,null,null,null,null,null,null,null,null,null,null,"1.04. TWLTL (two-way left-turn lane)",{"$f":"H43","v":-0.40845070422535223},0.40845070422535223,1,1.04,-0.40845070422535223,{"$f":"IF(ROUND(DF26,2)=0,\"\",C43)","v":"TWLTL (two-way left-turn lane)"},"TWLTL (two-way left-turn lane)",0.40845070422535223,4,"Centerline Rumble Strips",-0.16279069767441867]
["",null,"Horizontal Curve Present?","--","--","--","--",null,"--",null,null,null,null,null,null,null,null,null,null,null,null,null,null,null,null,null,null,null,null,null,null,null,null,null,null,null,null,null,null,null,null,null,null,null,null,null,null,null,null,null,null,null,null,null,null,null,null,null,null,null,null,null,null,null,null,null,null,null,null,null,null,null,null,null,null,null,null,null,null,null,null,null,null,null,null,null,null,null,null,null,null,null,null,null,null,null,null,null,null,null,null,"",{"$f":"H44","v":0},0,12,10.050000000000001,0,{"$f":"IF(ROUND(DF27,2)=0,\"\",C44)","v":""},"",0,5,"Shoulder Width (feet)",0.15503875968992242]
[null,null,"Horizontal Curve Data for Controlling Element:","--","--","--","--",null,"--",null,null,null,null,null,null,null,null,null,null,null,null,null,null,null,null,null,null,null,null,null,null,null,null,null,null,null,null,null,null,null,null,null,null,null,null,null,null,null,null,null,null,null,null,null,null,null,null,null,null,null,null,null,null,null,null,null,null,null,null,null,null,null,null,null,null,null,null,null,null,null,null,null,null,null,null,null,null,null,null,null,null,null,null,null,null,null,null,null,null,null,null,"",{"$f":"H52","v":0},0,13,10.06,0,{"$f":"IF(ROUND(DF28,2)=0,\"\",C52)","v":""},"",0,6,"Edgeline Pavement Markings or Profile Markings",0.13824118691351761]
[null,null,"  Radius (feet)",null,{"$f":"IF(MAX($I$10,$I$11)<45,590,IF($I$12=6,VLOOKUP(MAX($I$10,$I$11),Construction!$B$29:$D$36,2,TRUE),VLOOKUP(MAX($I$10,$I$11),Construction!$G$29:$I$36,2,TRUE)))","v":590},null,null,{"$f":"M140","v":0},{"$f":"IF(MAX($I$10,$I$11)<45,590,IF($I$12=6,VLOOKUP(MAX($I$10,$I$11),Construction!$B$45:$C$52,2,TRUE),VLOOKUP(MAX($I$10,$I$11),Construction!$G$45:$H$52,2,TRUE)))","v":590},null,null,null,null,null,null,null,null,null,null,null,null,null,null,null,null,null,null,null,null,null,null,null,null,null,null,null,null,null,null,null,null,null,null,null,null,null,null,null,null,null,null,null,null,null,null,null,null,null,null,null,null,null,null,null,null,null,null,null,null,null,null,null,null,null,null,null,null,null,null,null,null,null,null,null,null,null,null,null,null,null,null,null,null,null,null,null,null,null,null,null,null,"",0,0,14,10.07,0,"","",0,7,"Lateral Clearance to obstruction (ft)",9.0307162971216326E-2]
[null,null,"Length of Horizontal Curve (feet)",null,{"$f":"IF(D31=\"\", \"\", E29*E31/57.296)","v":""},null,null,null,{"$f":"I29*I31/57.296","v":3758.5520804244625},null,null,null,null,null,null,null,null,null,null,null,null,null,null,null,null,null,null,null,null,null,null,null,null,null,null,null,null,null,null,null,null,null,null,null,null,null,null,null,null,null,null,null,null,null,null,null,null,null,null,null,null,null,null,null,null,null,null,null,null,null,null,null,null,null,null,null,null,null,null,null,null,null,null,null,null,null,null,null,null,null,null,null,null,null,null,null,null,null,null,null,null,"",0,0,15,10.08,0,"","",0,8,"SafetyEdge",-2.8188991921691331E-2]
[null,null,"Calculated Deflection Angle ∆",{"$f":"IF(OR(ISBLANK(D29),ISBLANK(D30),$B$27=\"No\",ISBLANK($B$27)),\"\",ROUND(D30/D29*57.296,1))","v":""},{"$f":"IF(ISBLANK(D31), \"\",D31)","v":""},{"$f":"IF(OR(ISBLANK(F29),ISBLANK(F30),$B$27=\"No\",ISBLANK($B$27)),\"\",ROUND(F30/F29*57.296,1))","v":""},{"$f":"IF(OR(ISBLANK(G29),ISBLANK(G30),$B$27=\"No\",ISBLANK($B$27)),\"\",ROUND(G30/G29*57.296,1))","v":""},null,{"$f":"MIN(D31,IF(F33=INDEX(HCurveChange,1,0), F31, 365),IF(G33=INDEX(HCurveChange,1,0), G31, 365))","v":365},null,null,null,null,null,null,null,null,null,null,null,null,null,null,null,null,null,null,null,null,null,null,null,null,null,null,null,null,null,null,null,null,null,null,null,null,null,null,null,null,null,null,null,null,null,null,null,null,null,null,null,null,null,null,null,null,null,null,null,null,null,null,null,null,null,null,null,null,null,null,null,null,null,null,null,null,null,null,null,null,null,null,null,null,null,null,null,null,null,null,null,null,"6.09. Edgeline Pavement Markings or Profile Markings",0.13824118691351761,0.13824118691351761,6,6.09,0.13824118691351761,"Edgeline Pavement Markings or Profile Markings","Edgeline Pavement Markings or Profile Markings",0.13824118691351761,9,"Lighting",-2.3499081529478438E-2]
[null,null,null,null,null,"∆ has changed. \nAre you changing the ∆?","∆ has changed. \nAre you changing the ∆?",null,null,null,null,null,null,null,null,null,null,null,null,null,null,null,null,null,null,null,null,null,null,null,null,null,null,null,null,null,null,null,null,null,null,null,null,null,null,null,null,null,null,null,null,null,null,null,null,null,null,null,null,null,null,null,null,null,null,null,null,null,null,null,null,null,null,null,null,null,null,null,null,null,null,null,null,null,null,null,null,null,null,null,null,null,null,null,null,null,null,null,null,null,null,"",0,0,16,10.1,0,"","",0,10,"",0]
[null,null,null,null,null,null,null,null,null,null,null,null,null,null,null,null,null,null,null,null,null,null,null,null,null,null,null,null,null,null,null,null,null,null,null,null,null,null,null,null,null,null,null,null,null,null,null,null,null,null,null,null,null,null,null,null,null,null,null,null,null,null,null,null,null,null,null,null,null,null,null,null,null,null,null,null,null,null,null,null,null,null,null,null,null,null,null,null,null,null,null,null,null,null,null,null,null,null,null,null,null,"4.11. Centerline Rumble Strips",-0.16279069767441867,0.16279069767441867,4,4.1100000000000003,-0.16279069767441867,"Centerline Rumble Strips","Centerline Rumble Strips",0.16279069767441867,11,"",0]
[null,null,"Vertical Curve Present?","--","--","--","--",null,{"$f":"E34","v":"--"},null,null,null,null,null,null,null,null,null,null,null,null,null,null,null,null,null,null,null,null,null,null,null,null,null,null,null,null,null,null,null,null,null,null,null,null,null,null,null,null,null,null,null,null,null,null,null,null,null,null,null,null,null,null,null,null,null,null,null,null,null,null,null,null,null,null,null,null,null,null,null,null,null,null,null,null,null,null,null,null,null,null,null,null,null,null,null,null,null,null,null,null,"3.12. Driveway Density (driveways per mile)",-0.22388114201141129,0.22388114201141129,3,3.12,-0.22388114201141129,{"$f":"IF(DF34=0,\"\",C58)","v":"Driveway Density (driveways per mile)"},"Driveway Density (driveways per mile)",0.22388114201141129,12,"",0]
[null,null,"Vertical Curve Data for Controlling Element:","--","--","--","--",null,"--",null,null,null,null,null,null,null,null,null,null,null,null,null,null,null,null,null,null,null,null,null,null,null,null,null,null,null,null,null,null,null,null,null,null,null,null,null,null,null,null,null,null,null,null,null,null,null,null,null,null,null,null,null,null,null,null,null,null,null,null,null,null,null,null,null,null,null,null,null,null,null,null,null,null,null,null,null,null,null,null,null,null,null,null,null,null,null,null,null,null,null,null,"9.13. Lighting",-2.3499081529478438E-2,2.3499081529478438E-2,9,9.1300000000000008,-2.3499081529478438E-2,{"$f":"IF(DF35=0,\"\",C59)","v":"Lighting"},"Lighting",2.3499081529478438E-2,13,"",0]
[null,null,"  Approach (Entry) Grade, G1 (%)",null,{"$f":"IF(ISBLANK(D36),\"\", D36)","v":""},null,null,null,{"$f":"IF(B34=\"Yes\",I227,I237)","v":""},null,null,null,null,null,null,null,null,null,null,null,null,null,null,null,null,null,null,null,null,null,null,null,null,null,null,null,null,null,null,null,null,null,null,null,null,null,null,null,null,null,null,null,null,null,null,null,null,null,null,null,null,null,null,null,null,null,null,null,null,null,null,null,null,null,null,null,null,null,null,null,null,null,null,null,null,null,null,null,null,null,null,null,null,null,null,null,null,null,null,null,null,"2.14. Pavement Friction (skid number) ***",0.28430956017940245,0.28430956017940245,2,2.14,0.28430956017940245,{"$f":"IF(DF36=0,\"\",C60)","v":"Pavement Friction (skid number) ***"},"Pavement Friction (skid number) ***",0.28430956017940245,14,"",0]
[null,null,"  Departure (Exit) Grade, G2 (%)",null,{"$f":"IF(ISBLANK(D37),\"\", D37)","v":""},null,null,null,{"$f":"IF($B$34=\"Yes\",I228,\"\")","v":""},null,null,null,null,null,null,null,null,null,null,null,null,null,null,null,null,null,null,null,null,null,null,null,null,null,null,null,null,null,null,null,null,null,null,null,null,null,null,null,null,null,null,null,null,null,null,null,null,null,null,null,null,null,null,null,null,null,null,null,null,null,null,null,null,null,null,null,null,null,null,null,null,null,null,null,null,null,null,null,null,null,null,null,null,null,null,null,null,null,null,null,null,"",{"$f":"H72","v":0},0,17,10.15,0,{"$f":"IF(DF37=0,\"\",C72)","v":""},"",0,15,"",0]
[null,null,"  Length (feet)",null,{"$f":"IF(AND($B$34=\"Yes\", D39<>\"\"), ABS(E36-E37)*D39, \"\")","v":""},null,null,null,{"$f":"IF(AND($B$34=\"Yes\",I36<>\"\",I37<>\"\", NOT(ISBLANK($I$10)), NOT(ISBLANK($I$11))),ABS(I37-I36)*I39,\"\")","v":""},null,null,null,null,null,null,null,null,null,null,null,null,null,null,null,null,null,null,null,null,null,null,null,null,null,null,null,null,null,null,null,null,null,null,null,null,null,null,null,null,null,null,null,null,null,null,null,null,null,null,null,null,null,null,null,null,null,null,null,null,null,null,null,null,null,null,null,null,null,null,null,null,null,null,null,null,null,null,null,null,null,null,null,null,null,null,null,null,null,null,null,null,"",{"$f":"H73","v":0},{"$f":"ABS(CY38)","v":0},18,10.16,0,{"$f":"IF(DF38=0,\"\",C73)","v":""},"",0,16,"",0]
[null,null,"  Calculated Rate of Change, K (ft/ft)",{"$f":"IF(OR($B$34=\"No\",ISBLANK($B$34), ISBLANK(D36), ISBLANK(D37),ISBLANK(D38), D36=D37), \"\", ROUND(D38/(ABS(D37-D36)),1))","v":""},{"$f":"IF(AND($B$34=\"Yes\", NOT(ISBLANK($I$10)), NOT(ISBLANK($I$11)), D39<>\"\"), IF($E$42=\"Crest\",  VLOOKUP(MAX($I$10,$I$11),Construction!$B$159:$D$171,2,TRUE), VLOOKUP(MAX($I$10,$I$11),Construction!$B$159:$D$171,3,TRUE)), \"\")","v":""},{"$f":"IF(AND($B$34=\"Yes\", SUM(F263:F265)=0),ROUND(F38/(ABS(F37-F36)),1),\"\")","v":""},{"$f":"IF(AND($B$34=\"Yes\", SUM(G263:G265)=0),ROUND(G38/(ABS(G37-G36)),1),\"\")","v":""},null,{"$f":"IF(OR($B$34<>\"Yes\", ISBLANK($I$10), ISBLANK($I$11), $I$36=\"\", $I$37=\"\", $I$42=\"--\", ISBLANK($I$42)),\"\",IF($I$42=\"Crest\",VLOOKUP(MAX($I$10,$I$11),Construction!$B$179:$D$191,2,TRUE),VLOOKUP(MAX($I$10,$I$11),Construction!$B$179:$D$191,3,TRUE)))","v":""},null,null,null,null,null,null,null,null,null,null,null,null,null,null,null,null,null,null,null,null,null,null,null,null,null,null,null,null,null,null,null,null,null,null,null,null,null,null,null,null,null,null,null,null,null,null,null,null,null,null,null,null,null,null,null,null,null,null,null,null,null,null,null,null,null,null,null,null,null,null,null,null,null,null,null,null,null,null,null,null,null,null,null,null,null,null,null,null,null,null,null,null,"8.17. SafetyEdge",{"$f":"H74","v":-2.8188991921691331E-2},{"$f":"ABS(CY39)","v":2.8188991921691331E-2},8,8.17,-2.8188991921691331E-2,{"$f":"IF(DF39=0,\"\",C74)","v":"SafetyEdge"},"SafetyEdge",2.8188991921691331E-2,17,"",0]
[null,null,null,null,null,"Are you changing the geometry?","Are you changing the geometry?",null,null,null,null,null,null,null,null,null,null,null,null,null,null,null,null,null,null,null,null,null,null,null,null,null,null,null,null,null,null,null,null,null,null,null,null,null,null,null,null,null,null,null,null,null,null,null,null,null,null,null,null,null,null,null,null,null,null,null,null,null,null,null,null,null,null,null,null,null,null,null,null,null,null,null,null,null,null,null,null,null,null,null,null,null,null,null,null,null,null,null,null,null,null,"7.18. Lateral Clearance to obstruction (ft)",{"$f":"H75","v":9.0307162971216326E-2},{"$f":"ABS(CY40)","v":9.0307162971216326E-2},7,7.18,9.0307162971216326E-2,{"$f":"IF(DF40=0,\"\",C75)","v":"Lateral Clearance to obstruction (ft)"},"Lateral Clearance to obstruction (ft)",9.0307162971216326E-2,18,"",0]
[null,null,null,null,null,null,null,null,null,null,null,null,null,null,null,null,null,null,null,null,null,null,null,null,null,null,null,null,null,null,null,null,null,null,null,null,null,null,null,null,null,null,null,null,null,null,null,null,null,null,null,null,null,null,null,null,null,null,null,null,null,null,null,null,null,null,null,null,null,null,null,null,null,null,null,null,null,null,null,null,null,null,null,null,null,null,null,null,null,null,null,null,null,null,null,null,null,null,null,null,null,"",{"$f":"H76","v":0},{"$f":"ABS(CY41)","v":0},19,10.19,0,{"$f":"IF(DF41=0,\"\",C76)","v":""},"",0,19,"",0]
[null,null,"  Calculated Sag or Crest?",{"$f":"IF(AND($B$34=\"Yes\", SUM(D263:D265)=0),IF(D36>D37,\"Crest\",\"Sag\"),\"--\")","v":"--"},{"$f":"IF(AND($B$34=\"Yes\", SUM(D263:D265)=0),IF(E36>E37,\"Crest\",\"Sag\"),\"--\")","v":"--"},{"$f":"IF(AND($B$34=\"Yes\", SUM(F263:F265)=0),IF(F36>F37,\"Crest\",\"Sag\"),\"--\")","v":"--"},{"$f":"IF(AND($B$34=\"Yes\", SUM(G263:G265)=0),IF(G36>G37,\"Crest\",\"Sag\"),\"--\")","v":"--"},null,{"$f":"IF($B$34=\"Yes\",IF(I36>I37,\"Crest\",\"Sag\"),\"--\")","v":"--"}]
[null,null,"TWLTL (two-way left-turn lane)",null,"No",null,null,{"$f":"M108","v":-0.40845070422535223},{"$f":"IF(OR($D$43=\"Yes\", $F$43=\"Yes\",$G$43=\"Yes\"), \"Yes\", \"No\")","v":"No"}]
[null,null,"Passing Lane Type",null,"No Passing Lane",null,null,{"$f":"M109","v":0},"Super 2"]
[null,null,"Geometric Design Element (Partial Score)",{"$f":"IF(OR(SUM(D251:D253,D256:D257,D263:D265,D270:D271)>0, ISERR(D125)),\"\",D125)","v":""},{"$f":"IF(OR(SUM(E251:E253,E256:E257,E263:E265,E270:E271)>0, ISERR(E125)),\"\",E125)","v":""},"","",null,{"$f":"IF(OR(SUM(I251:I253,I256:I257,I263:I265,I270:I271)>0, ISERR(I125)),\"\",I125)","v":""}]
[null,null,"Total Safety Score",{"$f":"IF(OR(D$249>0, $I$315>0,ISERROR(D$201+D$171+D$125)),\"\",D$201+D$171+D$125)","v":""},{"$f":"IF(OR(E$249>0, $I$315>0,ISERROR(E$201+E$171+E$125)),\"\",E$201+E$171+E$125)","v":""},"","",null,"",null,null,null,"SCHEMATIC REPRESENTING INPUT DATA FOR ",null,null,null,null,null,null,null,{"$f":"IF($I$2=\"Existing\",\"EXISTING CONFIGURATION\",IF($I$2=\"Standard\",\"STANDARD OPTION\",IF($I$2=\"Design 1\",\"DESIGN 1 OPTION\",IF($I$2=\"Design 2\",\"DESIGN 2 OPTION\",\"OPTIMAL OPTION\"))))","v":"STANDARD OPTION"}]
[]
[null,null,null,null,null,null,null,null,null,null,null,"LT",null,null,null,null,null,null,null,null,null,null,null,null,null,null,"RT"]
[null,null,null,null,null,null,null,null,null,null,null,"R/W",null,null,null,null,null,null,null,null,null,null,null,null,null,null,"R/W"]
[null,{"$f":"+Construction!$I$9&\"  Total Available Points\"","v":"20  Total Available Points"}]
[null,"Traffic Elements",null,"Existing","Standard","Design 1","Design 2",{"$f":"$H$23","v":"Marginal Safety for Standard (compared to Existing)"},"Optimal",null,null,null,null,null,{"$f":"+$I$14","v":0},null,null,null,null,null,null,null,{"$f":"+$I$15","v":0}]
[null,null,"Advance Static Curve Warning Signs",null,"No",null,null,{"$f":"M145","v":0},"Yes"]
[null,null,"Chevron Signs on Horizontal Curves",null,"No",null,null,{"$f":"M146","v":0},"Yes",null,null,{"$f":"+O51-N53-Q53","v":-16},null,{"$f":"IF(+$I$2=\"Existing\",D25,IF($I$2=\"Standard\",E25,IF($I$2=\"Design 1\",F25,IF($I$2=\"Design 2\",G25,I25))))","v":4},null,null,{"$f":"IF(+$I$2=\"Existing\",D24,IF($I$2=\"Standard\",E24,IF($I$2=\"Design 1\",F24,IF($I$2=\"Design 2\",G24,I24))))","v":12},null,null,null,null,{"$f":"+Q53","v":12},null,null,{"$f":"+N53","v":4},{"$f":"+W51-V53-Y53","v":-16}]
[null,null,"Post-Mounted Delineators",null,"No",null,null,0,"Yes"]
[null,null,"Edgeline Pavement Markings or Profile Markings",null,"Yes",null,null,0.13824118691351761,"Yes"]
[null,null,"Shoulder Rumble Strips",null,"Yes",null,null,{"$f":"M150","v":0},"Yes"]
[null,null,"Centerline Rumble Strips",null,"No",null,null,{"$f":"M151","v":-0.16279069767441867},"Yes"]
[null,null,"Driveway Density (driveways per mile)",null,10,null,null,{"$f":"M152","v":-0.22388114201141129},0]
[null,null,"Lighting",null,"No",null,null,{"$f":"M153","v":-2.3499081529478438E-2},"Yes",null,null,null,null,null,null,null,null,null,"Tangent X-Section"]
[null,null,"Pavement Friction (skid number) ***",null,37,null,null,{"$f":"M154","v":0.28430956017940245},54]
[]
[null,null,"Traffic Control Element (Partial Score):",{"$f":"IF(ISERROR(D171), \"\", D171)","v":12},{"$f":"IF(ISERROR(E171), \"\", E171)","v":14},{"$f":"IF(ISERROR(F171), \"\", F171)","v":""},{"$f":"IF(ISERROR(G171), \"\", G171)","v":""},null,{"$f":"IF(ISERROR(I171), \"\", I171)","v":20}]
[null,null,"Total Safety Score",{"$f":"IF(OR(D$249>0, $I$315>0,ISERROR(D$201+D$171+D$125)),\"\",D$201+D$171+D$125)","v":""},{"$f":"IF(OR(E$249>0, $I$315>0,ISERROR(E$201+E$171+E$125)),\"\",E$201+E$171+E$125)","v":""},"","",null,""]
[]
[null,null,"*** Pavement friction/skid numbers will not be subject to open records requests ***",null,null,null,null,null,null,null," "]
[]
[]
[]
[null,null,null,null,null,null,null,null,null,null,null,null,null,null,null,null,null,null,"Curved X-Section"]
[null,{"$f":"+Construction!$I$10&\"  Total Available Points\"","v":"40  Total Available Points"}]
[null,"Roadside  Elements",null,"Existing","Standard","Design 1","Design 2",{"$f":"$H$23","v":"Marginal Safety for Standard (compared to Existing)"},"Optimal"]
[null,null,"Sideslope (Foreslope)",null,"1V:4H",null,null,{"$f":"M180","v":0},"1V:6H"]
[null,null,"Backslope",null,{"$f":"E72","v":"1V:4H"},null,null,{"$f":"M181","v":0},"1V:4H"]
[null,null,"SafetyEdge",null,"No",null,null,{"$f":"M182","v":-2.8188991921691331E-2},"Yes"]
[null,null,"Lateral Clearance to obstruction (ft)",null,30,null,null,{"$f":"M183","v":9.0307162971216326E-2},40,null,null,null,null,null,null,null,{"$f":"IF($I$2=\"Existing\",\"SCORE SUMMARY FOR EXISTING CONFIGURATION\", IF($I$2=\"Standard\",\"SCORE SUMMARY FOR STANDARD OPTION\",IF($I$2=\"Design 1\",\"SCORE SUMMARY FOR DESIGN 1 OPTION\",IF($I$2=\"Design 2\",\"SCORE SUMMARY FOR DESIGN 2 OPTION\", \"SCORE SUMMARY FOR OPTIMAL OPTION\"))))","v":"SCORE SUMMARY FOR STANDARD OPTION"}]
[null,null,"Obstruction Type",null,"Other Fixed Object",null,null,{"$f":"M184","v":0},"None",null,null,null,null,null,null,null,"GEOMETRIC DESIGN:",null,null,null,null,null,{"$f":"IF($I$2=\"Existing\",D45,IF($I$2=\"Standard\",E45,IF($I$2=\"Design 1\",F45,IF($I$2=\"Design 2\",G45,I45))))","v":""}]
[null,null,"Roadside Element (Partial Score):",{"$f":"IF(ISERR(D201),\"\",D201)","v":""},{"$f":"IF(ISERR(E201),\"\",E201)","v":27},{"$f":"IF(ISERR(F201),\"\",F201)","v":""},{"$f":"IF(ISERR(G201),\"\",G201)","v":""},null,{"$f":"IF(ISERR(I201),\"\",I201)","v":40},null,null,null,null,null,null,null,"TRAFFIC CONTROL:",null,null,null,null,null,{"$f":"IF($I$2=\"Existing\",D62,IF($I$2=\"Standard\",E62,IF($I$2=\"Design 1\",F62,IF($I$2=\"Design 2\",G62,I62))))","v":14}]
[null,null,"Total Safety Score",{"$f":"IF(OR(D$249>0, $I$315>0,ISERROR(D$201+D$171+D$125)),\"\",D$201+D$171+D$125)","v":""},{"$f":"IF(OR(E$249>0, $I$315>0,ISERROR(E$201+E$171+E$125)),\"\",E$201+E$171+E$125)","v":""},"","",null,"",null,null,null,null,null,null,null,"ROADSIDE:",null,null,null,null,null,{"$f":"IF($I$2=\"Existing\",D77,IF($I$2=\"Standard\",E77,IF($I$2=\"Design 1\",F77,IF($I$2=\"Design 2\",G77,I77))))","v":27}]
[null,null,null,null,null,null,null,null,null,null,null,null,null,null,null,null,"OVERALL SAFETY SCORE:",null,null,null,null,null,{"$f":"SUM(W76:X78)","v":41}]
[]
[]
[]
[null,"ADDITIONAL SIDESLOPE INFORMATION"]
[null,null,"Distance to Slope Toe from Shoulder (ft)",null,{"$f":"D84","v":0},{"$f":"E84","v":0},{"$f":"F84","v":0},null,{"$f":"G84","v":0}]
[null,"Minimum foreslope feasible within current ROW",null,null,{"$f":"IF(OR(ISBLANK($D$84), ISERROR(E206)), \"\", \"1V:\"&E206&\"H\")","v":""},{"$f":"IF(OR(ISBLANK($D$84), ISERROR(F206)), \"\", \"1V:\"&F206&\"H\")","v":""},{"$f":"IF(OR(ISBLANK($D$84), ISERROR(G206)), \"\", \"1V:\"&G206&\"H\")","v":""},null,{"$f":"IF(OR(ISBLANK($D$84), ISERROR(I206)), \"\", \"1V:\"&I206&\"H\")","v":""}]
[null,"Additional R/W needed on left side",null,null,{"$f":"IF(OR(ISBLANK($D$84), ISERROR(E210)),\"\", MAX(E210,E213))","v":""},{"$f":"IF(OR(ISBLANK($D$84), ISERROR(F210)), \"\", MAX(F210,F213))","v":""},{"$f":"IF(OR(ISBLANK($D$84), ISERROR(G210)),\"\", MAX(G210,G213))","v":""},null,{"$f":"IF(OR(ISBLANK($D$84), ISERROR(I210)),\"\", MAX(I210,I213))","v":""}]
[null,"Additional R/W needed on right side",null,null,{"$f":"IF(OR(ISBLANK($D$84), ISERROR(E211)), \"\", MAX(E211,E214))","v":""},{"$f":"IF(OR(ISBLANK($D$84), ISERROR(F211)), \"\", MAX(F211,F214))","v":""},{"$f":"IF(OR(ISBLANK($D$84), ISERROR(G211)),\"\", MAX(G211,G214))","v":""},null,{"$f":"IF(OR(ISBLANK($D$84), ISERROR(I211)),\"\", MAX(I211,I214))","v":""}]
[]
[]
[]
[]
[]
[]
[]
[null,null,null,null,null,null,null,null,null,{"$f":"1-I100/E100","v":0}]
[null,null,null,null,null,null,null,null,null,{"$f":"1-I101/E101","v":0.17431192660550465},"For Plot"]
[null,null,null,{"$f":"MAX(SUM(D103:D107)-5,$I$97)","v":{"$error":"#VALUE!"}},{"$f":"MAX(SUM(E103:E107)-5,$I$97)","v":{"$error":"#VALUE!"}},{"$f":"MAX(SUM(F103:F107)-5,$I$97)","v":{"$error":"#VALUE!"}},{"$f":"MAX(SUM(G103:G107)-5,$I$97)","v":{"$error":"#VALUE!"}},null,{"$f":"SUM(I103:I107)-5","v":{"$error":"#VALUE!"}},{"$f":"1-I102/E102","v":0},"relative to","Prefer"]
[null,null,null,null,null,null,null,null,null,{"$f":"1-I103/E103","v":{"$error":"#VALUE!"}},{"$f":"MATCH(K99,ModView,0)","v":1},{"$f":"MATCH(L99,ModView,0)","v":2}]
[null,"Geometric",null,null,null,null,null,null,null,null,{"$f":"I4","v":"Existing"},{"$f":"I2","v":"Standard"},"%"]
[null,null,"LW CMF",{"$f":"VLOOKUP(+D24,Construction!$C$3:$D$9,2)","v":{"$error":"#N/A"}},{"$f":"VLOOKUP(+E24,Construction!$C$3:$D$9,2)","v":1},{"$f":"VLOOKUP(+F24,Construction!$C$3:$D$9,2)","v":{"$error":"#N/A"}},{"$f":"VLOOKUP(+G24,Construction!$C$3:$D$9,2)","v":{"$error":"#N/A"}},{"$f":"H24","v":0},{"$f":"VLOOKUP(+I24,Construction!$C$3:$D$9,2)","v":1},null,{"$f":"INDEX($D100:$I100,K$98)","v":{"$error":"#N/A"}},{"$f":"INDEX($D100:$I100,L$98)","v":1},{"$f":"IF(ISERROR(1-L100/K100), 0, 1-L100/K100)","v":0}]
[null,null,"SW CMF",{"$f":"VLOOKUP(D25,Construction!$C$13:D23,2)","v":1.29},{"$f":"VLOOKUP(E25,Construction!$C$13:E23,2)","v":1.0900000000000001},{"$f":"VLOOKUP(F25,Construction!$C$13:F23,2)","v":1.29},{"$f":"VLOOKUP(G25,Construction!$C$13:G23,2)","v":1.29},{"$f":"IF($I$2=\"Existing\",(1-D101/E101),(IF($I$2=\"Design 1\",(1-F101/E101),(IF($I$2=\"Design 2\",(1-G101/E101),(IF($I$2=\"Optimal\",(1-I101/E101),0)))))))","v":0},{"$f":"VLOOKUP(I25,Construction!$C$13:I23,2)","v":0.9},null,{"$f":"INDEX($D101:$I101,K$98)","v":1.29},{"$f":"INDEX($D101:$I101,L$98)","v":1.0900000000000001},{"$f":"IF(ISERROR(1-L101/K101), 0, 1-L101/K101)","v":0.15503875968992242}]
[null,null,"Placeholder for super deficincy",1,1,1,1,0,1,null,{"$f":"INDEX($D102:$I102,K$98)","v":1},{"$f":"INDEX($D102:$I102,L$98)","v":1},0]
[null,null,"HC and Grade",{"$f":"D$134^D$127","v":1},{"$f":"E$134^E$127","v":{"$error":"#VALUE!"}},{"$f":"F$134^F$127","v":1},{"$f":"G$134^G$127","v":1},0,{"$f":"I$134^I$127","v":{"$error":"#VALUE!"}},null,{"$f":"INDEX($D103:$I103,K$98)","v":1},{"$f":"INDEX($D103:$I103,L$98)","v":{"$error":"#VALUE!"}},0]
[null,null,"HC and VC Crest type I",{"$f":"D$135^D$128","v":1},{"$f":"E$135^E$128","v":1},{"$f":"F$135^F$128","v":1},{"$f":"G$135^G$128","v":1},0,{"$f":"I$135^I$128","v":{"$error":"#VALUE!"}},null,{"$f":"INDEX($D104:$I104,K$98)","v":1},{"$f":"INDEX($D104:$I104,L$98)","v":1},0]
[null,null,"HC and VC Sag type I",{"$f":"D$136^D$129","v":1},{"$f":"E$136^E$129","v":1},{"$f":"F$136^F$129","v":1},{"$f":"G$136^G$129","v":1},0,{"$f":"I$136^I$129","v":{"$error":"#VALUE!"}},null,{"$f":"INDEX($D105:$I105,K$98)","v":1},{"$f":"INDEX($D105:$I105,L$98)","v":1},0]
[null,null,"HC and VC Crest type II",{"$f":"D$137^D$130","v":1},{"$f":"E$137^E$130","v":1},{"$f":"F$137^F$130","v":1},{"$f":"G$137^G$130","v":1},0,{"$f":"I$137^I$130","v":{"$error":"#VALUE!"}},{"$f":"1-I111/E111","v":{"$error":"#VALUE!"}},{"$f":"INDEX($D106:$I106,K$98)","v":1},{"$f":"INDEX($D106:$I106,L$98)","v":1},0]
[null,null,"HC and VC Sag type II",{"$f":"D$138^D$131","v":1},{"$f":"E$138^E$131","v":1},{"$f":"F$138^F$131","v":1},{"$f":"G$138^G$131","v":1},0,{"$f":"I$138^I$131","v":{"$error":"#VALUE!"}},{"$f":"1-I112/E112","v":{"$error":"#VALUE!"}},{"$f":"INDEX($D107:$I107,K$98)","v":1},{"$f":"INDEX($D107:$I107,L$98)","v":1},0]
[null,null,"Add TWLTL",{"$f":"IF(D$43=\"No\",1,CMFs!$F$17)","v":0.71},{"$f":"IF(E$43=\"No\",1,CMFs!$F$17)","v":1},{"$f":"IF(F$43=\"No\",1,CMFs!$F$17)","v":0.71},{"$f":"IF(G$43=\"No\",1,CMFs!$F$17)","v":0.71},0,{"$f":"IF(I$43=\"No\",1,CMFs!$F$17)","v":1},{"$f":"1-I113/E113","v":{"$error":"#VALUE!"}},{"$f":"INDEX($D108:$I108,K$98)","v":0.71},{"$f":"INDEX($D108:$I108,L$98)","v":1},-0.40845070422535223]
[null,null,"Passing Lane Type",{"$f":"IF(ISNUMBER(INDEX(PassLNCMF, MATCH(D44,Passing_Lane_Type,0))),INDEX(PassLNCMF, MATCH(D44,Passing_Lane_Type,0)),1)","v":1},{"$f":"IF(ISNUMBER(INDEX(PassLNCMF, MATCH(E44,Passing_Lane_Type,0))),INDEX(PassLNCMF, MATCH(E44,Passing_Lane_Type,0)),1)","v":1},{"$f":"IF(ISNUMBER(INDEX(PassLNCMF, MATCH(F44,Passing_Lane_Type,0))),INDEX(PassLNCMF, MATCH(F44,Passing_Lane_Type,0)),1)","v":1},{"$f":"IF(ISNUMBER(INDEX(PassLNCMF, MATCH(G44,Passing_Lane_Type,0))),INDEX(PassLNCMF, MATCH(G44,Passing_Lane_Type,0)),1)","v":1},0,{"$f":"IF(ISNUMBER(INDEX(PassLNCMF, MATCH(I44,Passing_Lane_Type,0))),INDEX(PassLNCMF, MATCH(I44,Passing_Lane_Type,0)),1)","v":0.65},{"$f":"1-I114/E114","v":{"$error":"#VALUE!"}},{"$f":"INDEX($D109:$I109,K$98)","v":1},{"$f":"INDEX($D109:$I109,L$98)","v":1},0]
[null,null,null,null,null,null,null,null,null,{"$f":"I115/E115","v":{"$error":"#VALUE!"}}]
[null,null,"COMBINED Calculated CMF",{"$f":"+D100*D101*D102*D103*D104*D105*D106*D107*D108*D109","v":{"$error":"#N/A"}},{"$f":"+E100*E101*E102*E103*E104*E105*E106*E107*E108*E109","v":{"$error":"#VALUE!"}},{"$f":"+F100*F101*F102*F103*F104*F105*F106*F107*F108*F109","v":{"$error":"#N/A"}},{"$f":"+G100*G101*G102*G103*G104*G105*G106*G107*G108*G109","v":{"$error":"#N/A"}},{"$f":"IF($I$2=\"Existing\",(D111),(IF($I$2=\"Design 1\",(F111),(IF($I$2=\"Design 2\",(G111),(IF($I$2=\"Optimal\",(I111),E111)))))))","v":{"$error":"#VALUE!"}},{"$f":"+I100*I101*I102*I103*I104*I105*I106*I107*I108*I109","v":{"$error":"#VALUE!"}},null,{"$f":"INDEX($D111:$I111,K$98)","v":{"$error":"#N/A"}},{"$f":"INDEX($D111:$I111,L$98)","v":{"$error":"#VALUE!"}},{"$f":"IF(ISERROR(1-L111/K111), 0, 1-L111/K111)","v":0}]
[null,null,"Calculated Relative to Design Standards (Column E)",{"$f":"+D111/$E$111","v":{"$error":"#N/A"}},{"$error":"#VALUE!"},{"$error":"#N/A"},{"$error":"#N/A"},{"$error":"#VALUE!"},{"$error":"#VALUE!"},null,{"$f":"INDEX($D112:$I112,K$98)","v":{"$error":"#N/A"}},{"$f":"INDEX($D112:$I112,L$98)","v":{"$error":"#VALUE!"}},0]
[null,null,"P(Crash)",{"$f":"+D112/(D112+1)","v":{"$error":"#N/A"}},{"$error":"#VALUE!"},{"$error":"#N/A"},{"$error":"#N/A"},{"$error":"#VALUE!"},{"$error":"#VALUE!"},null,{"$f":"INDEX($D113:$I113,K$98)","v":{"$error":"#N/A"}},{"$f":"INDEX($D113:$I113,L$98)","v":{"$error":"#VALUE!"}},0]
[null,null,"Factor Change on S curve",{"$f":"+D113/$E$113","v":{"$error":"#N/A"}},{"$error":"#VALUE!"},{"$error":"#N/A"},{"$error":"#N/A"},{"$error":"#VALUE!"},{"$error":"#VALUE!"},null,{"$f":"INDEX($D114:$I114,K$98)","v":{"$error":"#N/A"}},{"$f":"INDEX($D114:$I114,L$98)","v":{"$error":"#VALUE!"}},0]
[null,null,"Adjust to Scale of 100",{"$f":"+$I$114/D114*100","v":{"$error":"#VALUE!"}},{"$error":"#VALUE!"},{"$error":"#VALUE!"},{"$error":"#VALUE!"},{"$error":"#VALUE!"},{"$error":"#VALUE!"}]
[null,null,"Unadjusted Combined Relative to Standard",{"$f":"+D111/$E$111","v":{"$error":"#N/A"}},{"$error":"#VALUE!"},{"$error":"#N/A"},{"$error":"#N/A"},{"$error":"#VALUE!"},{"$error":"#VALUE!"},null,{"$f":"INDEX($D116:$I116,K$98)","v":{"$error":"#N/A"}},{"$f":"INDEX($D116:$I116,L$98)","v":{"$error":"#VALUE!"}},{"$f":"IF(ISERROR(1-L116/K116), 0, 1-L116/K116)","v":0}]
[null,null,null,null,null,null,null,null,null,{"$f":"I122/E122","v":{"$error":"#VALUE!"}}]
[null,null,"Adjusted for PA Basis",{"$f":"+D111*(1+1)/(1+D111*1)","v":{"$error":"#N/A"}},{"$error":"#VALUE!"},{"$error":"#N/A"},{"$error":"#N/A"},{"$f":"IF($I$2=\"Existing\",(D118),(IF($I$2=\"Design 1\",(F118),(IF($I$2=\"Design 2\",(G118),(IF($I$2=\"Optimal\",(I118),E118)))))))","v":{"$error":"#VALUE!"}},{"$error":"#VALUE!"},null,{"$f":"INDEX($D118:$I118,K$98)","v":{"$error":"#N/A"}},{"$f":"INDEX($D118:$I118,L$98)","v":{"$error":"#VALUE!"}},{"$f":"IF(ISERROR(1-L118/K118), 0, 1-L118/K118)","v":0}]
[null,null,"Corrected by Odds Ratio",{"$f":"+D118/$E$118","v":{"$error":"#N/A"}},{"$error":"#VALUE!"},{"$error":"#N/A"},{"$error":"#N/A"},{"$f":"IF($I$2=\"Existing\",(D119),(IF($I$2=\"Design 1\",(F119),(IF($I$2=\"Design 2\",(G119),(IF($I$2=\"Optimal\",(I119),E119)))))))","v":{"$error":"#VALUE!"}},{"$error":"#VALUE!"},null,{"$f":"INDEX($D119:$I119,K$98)","v":{"$error":"#N/A"}},{"$f":"INDEX($D119:$I119,L$98)","v":{"$error":"#VALUE!"}},0]
[null,null,"Pinned s",{"$f":"(1/D119)^$D123","v":{"$error":"#N/A"}},{"$error":"#VALUE!"},{"$error":"#N/A"},{"$error":"#N/A"},{"$error":"#VALUE!"},{"$error":"#VALUE!"},{"$f":"I125/E125","v":{"$error":"#VALUE!"}},{"$f":"INDEX($D120:$I120,K$98)","v":{"$error":"#N/A"}},{"$f":"INDEX($D120:$I120,L$98)","v":{"$error":"#VALUE!"}},0]
[null,null,null,{"$f":"(D120+$F124-1)/(1+(D120+$F124-1))","v":{"$error":"#N/A"}},{"$error":"#VALUE!"},{"$error":"#N/A"},{"$error":"#N/A"},{"$error":"#VALUE!"},{"$error":"#VALUE!"},null,{"$f":"INDEX($D121:$I121,K$98)","v":{"$error":"#N/A"}},{"$f":"INDEX($D121:$I121,L$98)","v":{"$error":"#VALUE!"}},0]
[null,null,"Score Odds Ratio with Optimal (old)",{"$f":"MIN(ROUND($I$119/D119*Construction!$I$8,0),$I122)","v":{"$error":"#VALUE!"}},{"$f":"MIN(ROUND($I$119/E119*Construction!$I$8,0),$I122)","v":{"$error":"#VALUE!"}},{"$f":"MIN(ROUND($I$119/F119*Construction!$I$8,0),$I122)","v":{"$error":"#VALUE!"}},{"$f":"MIN(ROUND($I$119/G119*Construction!$I$8,0),$I122)","v":{"$error":"#VALUE!"}},{"$f":"IF($I$2=\"Existing\",(D122),(IF($I$2=\"Design 1\",(F122),(IF($I$2=\"Design 2\",(G122),(IF($I$2=\"Optimal\",(I122),E122)))))))","v":{"$error":"#VALUE!"}},{"$f":"ROUND($I$119/I119*Construction!$I$8,0)","v":{"$error":"#VALUE!"}}]
[null,null,"Logistic1",{"$f":"LN((D124/(1-D124))/(0.5/0.5))/LN($E119/I119)","v":{"$error":"#VALUE!"}}]
[null,null,"Logistic Param",0.999,null,{"$f":"0.7/0.3","v":2.3333333333333335}]
[null,null,"Score ",{"$f":"MIN(ROUND(D121*Construction!$I$8,0),$I122)","v":{"$error":"#N/A"}},{"$f":"MIN(ROUND(E121*Construction!$I$8,0),$I122)","v":{"$error":"#VALUE!"}},{"$f":"MIN(ROUND(F121*Construction!$I$8,0),$I122)","v":{"$error":"#N/A"}},{"$f":"MIN(ROUND(G121*Construction!$I$8,0),$I122)","v":{"$error":"#N/A"}},{"$f":"MIN(ROUND(H121*Construction!$I$8,0),$I122)","v":{"$error":"#VALUE!"}},{"$f":"MIN(ROUND(I121*Construction!$I$8,0),$I122)","v":{"$error":"#VALUE!"}}]
[]
[null,null,"HC and Grade",{"$f":"IF($B$135,0,1)","v":1},{"$f":"IF($B$135,0,1)","v":1},{"$f":"IF($B$135,0,1)","v":1},{"$f":"IF($B$135,0,1)","v":1},{"$f":"IF($I$2=\"Existing\",(D127),(IF($I$2=\"Design 1\",(F127),(IF($I$2=\"Design 2\",(G127),(IF($I$2=\"Optimal\",(I127),E127)))))))","v":1},{"$f":"IF($B$135,0,1)","v":1}]
[null,null,"HC and VC Crest type I",{"$f":"IF(AND($B$135=1,SIGN(D$36)=1,ABS(D$36)<=ABS(D$36-D$37),D$42=\"Crest\"),1,0)","v":0},{"$f":"IF(AND($B$135=1, SIGN(IF(ISNUMBER(E$36),E$36,0))=1,ABS(IF(ISNUMBER(E$36),E$36,0)) <= ABS(IF(ISNUMBER(E$36),E$36,0)-IF(ISNUMBER(E$37),E$37,0)),E$42=\"Crest\"),1,0)","v":0},{"$f":"IF(AND($B$135=1,SIGN(F$36)=1,ABS(F$36)<=ABS(F$36-F$37),F$42=\"Crest\"),1,0)","v":0},{"$f":"IF(AND($B$135=1,SIGN(G$36)=1,ABS(G$36)<=ABS(G$36-G$37),G$42=\"Crest\"),1,0)","v":0},{"$f":"IF($I$2=\"Existing\",(D128),(IF($I$2=\"Design 1\",(F128),(IF($I$2=\"Design 2\",(G128),(IF($I$2=\"Optimal\",(I128),E128)))))))","v":0},{"$f":"IF(AND($B$135=1,SIGN(I$36)=1,ABS(I$36)<=ABS(I$36-IF(ISNUMBER(I$37), I$37,0)),I$42=\"Crest\"),1,0)","v":{"$error":"#VALUE!"}}]
["HC?",null,"HC and VC Sag type I",{"$f":"IF(AND($B$135=1,SIGN(D$36)=1,ABS(D$36)<=ABS(D$36-D$37),D$42=\"Sag\"),1,0)","v":0},{"$f":"IF(AND($B$135=1, SIGN(IF(ISNUMBER(E$36),E$36,0))=1,ABS(IF(ISNUMBER(E$36),E$36,0)) <= ABS(IF(ISNUMBER(E$36),E$36,0)-IF(ISNUMBER(E$37),E$37,0)),E$42=\"Sag\"),1,0)","v":0},{"$f":"IF(AND($B$135=1,SIGN(F$36)=1,ABS(F$36)<=ABS(F$36-F$37),F$42=\"Sag\"),1,0)","v":0},{"$f":"IF(AND($B$135=1,SIGN(G$36)=1,ABS(G$36)<=ABS(G$36-G$37),G$42=\"Sag\"),1,0)","v":0},{"$f":"IF($I$2=\"Existing\",(D129),(IF($I$2=\"Design 1\",(F129),(IF($I$2=\"Design 2\",(G129),(IF($I$2=\"Optimal\",(I129),E129)))))))","v":0},{"$f":"IF(AND($B$135=1,SIGN(I$36)=1,ABS(I$36)<=ABS(I$36-IF(ISNUMBER(I$37), I$37,0)),I$42=\"Sag\"),1,0)","v":{"$error":"#VALUE!"}}]
["VC?",null,"HC and VC Crest type II",{"$f":"IF(AND($B$135=1,D$42=\"Crest\",D$128=0),1,0)","v":0},{"$f":"IF(AND($B$135=1,E$42=\"Crest\",E$128=0),1,0)","v":0},{"$f":"IF(AND($B$135=1,F$42=\"Crest\",F$128=0),1,0)","v":0},{"$f":"IF(AND($B$135=1,G$42=\"Crest\",G$128=0),1,0)","v":0},{"$f":"IF($I$2=\"Existing\",(D130),(IF($I$2=\"Design 1\",(F130),(IF($I$2=\"Design 2\",(G130),(IF($I$2=\"Optimal\",(I130),E130)))))))","v":0},{"$f":"IF(AND($B$135=1,I$42=\"Crest\",I$128=0),1,0)","v":{"$error":"#VALUE!"}}]
[null,null,"HC and VC Sag type II",{"$f":"IF(AND($B$135=1,D$42=\"Sag\",D$129=0),1,0)","v":0},{"$f":"IF(AND($B$135=1,E$42=\"Sag\",E$129=0),1,0)","v":0},{"$f":"IF(AND($B$135=1,F$42=\"Sag\",F$129=0),1,0)","v":0},{"$f":"IF(AND($B$135=1,G$42=\"Sag\",G$129=0),1,0)","v":0},{"$f":"IF($I$2=\"Existing\",(D131),(IF($I$2=\"Design 1\",(F131),(IF($I$2=\"Design 2\",(G131),(IF($I$2=\"Optimal\",(I131),E131)))))))","v":0},{"$f":"IF(AND($B$135=1,I$42=\"Sag\",I$129=0),1,0)","v":{"$error":"#VALUE!"}}]
[null,"Yes/No"]
[null,null,"HC and VC:",null,{"$f":"EXP(0.042*ABS(D$36)+$B$134*0.16*LN(2*5730/IF(ISNUMBER(E$29),E$29,1)))","v":1}]
[null,{"$f":"IF(B27=\"Yes\",1,0)","v":0},"HC and Grade",{"$f":"IF($B$135=0,EXP(0.042*ABS(D$36)+$B$134*0.16*LN(2*5730/D$141)+4.16*$B$134/D$141/IF(ISNUMBER(D$30),D$30,999999)),1)","v":1},{"$f":"IF($B$135=0,EXP(0.042*ABS(E$36)+$B$134*0.16*LN(2*5730/E$141)+4.16*$B$134/E$141/IF(ISNUMBER(E$30),E$30,999999)),1)","v":{"$error":"#VALUE!"}},1,1,{"$f":"IF($B$135=0,EXP(0.042*ABS(H$36)+$B$134*0.16*LN(2*5730/IF(ISNUMBER(H$29),H$29,1))+4.16*$B$134/IF(ISNUMBER(H$29),H$29,1)/IF(ISNUMBER(H$30),H$30,1)),1)","v":{"$error":"#DIV/0!"}},{"$error":"#VALUE!"},null,{"$f":"INDEX($D134:$I134,K$98)","v":1},{"$f":"INDEX($D134:$I134,L$98)","v":{"$error":"#VALUE!"}},{"$f":"IF(ISERROR(1-L134/K134), 0, 1-L134/K134)","v":0}]
[null,{"$f":"IF(B34=\"Yes\",1,0)","v":0},"HC and VC Crest type I",{"$f":"IF($B$135=0,1,EXP(0.005648908*5730*ABS(+D$36-D$37)*$B$135/D$141*$B$134))","v":1},{"$f":"IF($B$135=0,1,EXP(0.005648908*5730*ABS(+E$36-E$37)*$B$135/E$141*$B$134))","v":1},1,1,{"$f":"IF($I$2=\"Existing\",(D135),(IF($I$2=\"Design 1\",(F135),(IF($I$2=\"Design 2\",(G135),(IF($I$2=\"Optimal\",(I135),E135)))))))","v":1},1,null,{"$f":"INDEX($D135:$I135,K$98)","v":1},{"$f":"INDEX($D135:$I135,L$98)","v":1},0]
[null,null,"HC and VC Sag type I",{"$f":"IF($B$135=0,1,EXP(9.15857042*$B$135/D$142+0.010284958*5730*$B$135*$B$134*ABS(+D$36-D$37)/D$141))","v":1},{"$f":"IF($B$135=0,1,EXP(9.15857042*$B$135/E$142+0.010284958*5730*$B$135*$B$134*ABS(+E$36-E$37)/E$141))","v":1},1,1,{"$f":"IF($I$2=\"Existing\",(D136),(IF($I$2=\"Design 1\",(F136),(IF($I$2=\"Design 2\",(G136),(IF($I$2=\"Optimal\",(I136),E136)))))))","v":1},1,null,{"$f":"INDEX($D136:$I136,K$98)","v":1},{"$f":"INDEX($D136:$I136,L$98)","v":1},0]
[null,null,"HC and VC Crest type II",{"$f":"IF($B$135=0,1,EXP(0.005648908*5730*ABS(+D$36-D$37)*$B$135/D$141*$B$134))","v":1},{"$f":"IF($B$135=0,1,EXP(0.005648908*5730*ABS(+E$36-E$37)*$B$135/E$141*$B$134))","v":1},1,1,{"$f":"IF($I$2=\"Existing\",(D137),(IF($I$2=\"Design 1\",(F137),(IF($I$2=\"Design 2\",(G137),(IF($I$2=\"Optimal\",(I137),E137)))))))","v":1},1,null,{"$f":"INDEX($D137:$I137,K$98)","v":1},{"$f":"INDEX($D137:$I137,L$98)","v":1},0]
[null,null,"HC and VC Sag type II",{"$f":"IF($B$135=0,1,(0.246011284*EXP(LN(0.188*2*5730/D$141)*$B$134)+0.7514288716*EXP(0.022*5730/D$141*ABS(D$36-D$37)*$B$135*$B$134)))","v":1},{"$f":"IF($B$135=0,1,(0.246011284*EXP(LN(0.188*2*5730/E$141)*$B$134)+0.7514288716*EXP(0.022*5730/E$141*ABS(E$36-E$37)*$B$135*$B$134)))","v":1},1,1,{"$f":"IF($I$2=\"Existing\",(D138),(IF($I$2=\"Design 1\",(F138),(IF($I$2=\"Design 2\",(G138),(IF($I$2=\"Optimal\",(I138),E138)))))))","v":1},1,null,{"$f":"INDEX($D138:$I138,K$98)","v":1},{"$f":"INDEX($D138:$I138,L$98)","v":1},0]
[]
[null,null,"Combined HZ and VT",{"$f":"MMULT(TRANSPOSE(D127:D131),D134:D138)","v":1},{"$f":"MMULT(TRANSPOSE(E127:E131),E134:E138)","v":{"$error":"#VALUE!"}},{"$f":"MMULT(TRANSPOSE(F127:F131),F134:F138)","v":1},{"$f":"MMULT(TRANSPOSE(G127:G131),G134:G138)","v":1},{"$f":"IF($I$2=\"Existing\",(D140),(IF($I$2=\"Design 1\",(F140),(IF($I$2=\"Design 2\",(G140),(IF($I$2=\"Optimal\",(I140),E140)))))))","v":{"$error":"#VALUE!"}},{"$f":"MMULT(TRANSPOSE(I127:I131),I134:I138)","v":{"$error":"#VALUE!"}},null,{"$f":"INDEX($D140:$I140,K$98)","v":1},{"$f":"INDEX($D140:$I140,L$98)","v":{"$error":"#VALUE!"}},{"$f":"IF(ISERROR(1-L140/K140), 0, 1-L140/K140)","v":0}]
[null,null,"effective R for calculation",{"$f":"IF(ISNUMBER(D29), D29, 99999999)","v":99999999},{"$f":"IF(ISNUMBER(E29), E29, 99999999)","v":590},99999999,99999999,null,590]
[null,null,"effective K for calculation",{"$f":"IF(ISNUMBER(D39), D39, 9999999)","v":9999999},{"$f":"IF(ISNUMBER(E39), E39, 9999999)","v":9999999},9999999,9999999,null,9999999]
[null,"Traffic"]
[null,null,null,"Existing","Standard","Design 1","Design 2"]
[null,null,"Advance static curve warning signs",{"$f":"IF(AND($B$27=\"Yes\",D$52=\"Yes\"),(Traffic!$F$4-1)*AVERAGE(Constraints!$F$37,Constraints!$H$37)/Constraints!$D$37+1,1)","v":1},{"$f":"IF(AND($B$27=\"Yes\",E$52=\"Yes\"),(Traffic!$F$4-1)*AVERAGE(Constraints!$F$37,Constraints!$H$37)/Constraints!$D$37+1,1)","v":1},{"$f":"IF(AND($B$27=\"Yes\",F$52=\"Yes\"),(Traffic!$F$4-1)*AVERAGE(Constraints!$F$37,Constraints!$H$37)/Constraints!$D$37+1,1)","v":1},{"$f":"IF(AND($B$27=\"Yes\",G$52=\"Yes\"),(Traffic!$F$4-1)*AVERAGE(Constraints!$F$37,Constraints!$H$37)/Constraints!$D$37+1,1)","v":1},{"$f":"IF($I$2=\"Existing\",(D145),(IF($I$2=\"Design 1\",(F145),(IF($I$2=\"Design 2\",(G145),(IF($I$2=\"Optimal\",(I145),E145)))))))","v":1},{"$f":"IF(AND($B$27=\"Yes\",I$52=\"Yes\"),(Traffic!$F$4-1)*AVERAGE(Constraints!$F$37,Constraints!$H$37)/Constraints!$D$37+1,1)","v":1},null,{"$f":"INDEX($D145:$I145,K$98)","v":1},{"$f":"INDEX($D145:$I145,L$98)","v":1},{"$f":"IF(ISERROR(1-L145/K145), 0, 1-L145/K145)","v":0}]
[null,null,"Install chevron signs on horizontal curves",{"$f":"IF(D$53=\"No\",1,(IF(AND($B$27=\"Yes\",D$24<11.5),((Traffic!$F$6-1)*(Constraints!$E$35+Constraints!$E$31))+1,1)))","v":1},{"$f":"IF(E$53=\"No\",1,(IF(AND($B$27=\"Yes\",E$24<11.5),((Traffic!$F$6-1)*(Constraints!$E$35+Constraints!$E$31))+1,1)))","v":1},{"$f":"IF(F$53=\"No\",1,(IF(AND($B$27=\"Yes\",F$24<11.5),((Traffic!$F$6-1)*(Constraints!$E$35+Constraints!$E$31))+1,1)))","v":1},{"$f":"IF(G$53=\"No\",1,(IF(AND($B$27=\"Yes\",G$24<11.5),((Traffic!$F$6-1)*(Constraints!$E$35+Constraints!$E$31))+1,1)))","v":1},{"$f":"IF($I$2=\"Existing\",(D146),(IF($I$2=\"Design 1\",(F146),(IF($I$2=\"Design 2\",(G146),(IF($I$2=\"Optimal\",(I146),E146)))))))","v":1},{"$f":"IF(I$53=\"No\",1,(IF(AND($B$27=\"Yes\",I$24<11.5),((Traffic!$F$6-1)*(Constraints!$E$35+Constraints!$E$31))+1,1)))","v":1},null,{"$f":"INDEX($D146:$I146,K$98)","v":1},{"$f":"INDEX($D146:$I146,L$98)","v":1},0]
[null,null,"Install post-mounted delineators",{"$f":"IF(AND($B$27=\"Yes\",D$54=\"Yes\"),(Traffic!$F$12-1)*Constraints!$E$36+1,1)","v":1},{"$f":"IF(AND($B$27=\"Yes\",E$54=\"Yes\"),(Traffic!$F$12-1)*Constraints!$E$36+1,1)","v":1},{"$f":"IF(AND($B$27=\"Yes\",F$54=\"Yes\"),(Traffic!$F$12-1)*Constraints!$E$36+1,1)","v":1},{"$f":"IF(AND($B$27=\"Yes\",G$54=\"Yes\"),(Traffic!$F$12-1)*Constraints!$E$36+1,1)","v":1},{"$f":"IF($I$2=\"Existing\",(D147),(IF($I$2=\"Design 1\",(F147),(IF($I$2=\"Design 2\",(G147),(IF($I$2=\"Optimal\",(I147),E147)))))))","v":1},{"$f":"IF(AND($B$27=\"Yes\",I$54=\"Yes\"),(Traffic!$F$12-1)*Constraints!$E$36+1,1)","v":1},null,{"$f":"INDEX($D147:$I147,K$98)","v":1},{"$f":"INDEX($D147:$I147,L$98)","v":1},0]
[null,null,"Install edgeline  or Profile pavement markings ",{"$f":"IF(D$55=\"Yes\",Traffic!$F$18*0.5+((Traffic!$F$20*(Constraints!$H$36+Constraints!$H$32)+1*(Constraints!$H$37-(Constraints!$H$36+Constraints!$H$32)))/Constraints!$H$37)*0.5,1)","v":1},{"$f":"IF(E$55=\"Yes\",Traffic!$F$18*0.5+((Traffic!$F$20*(Constraints!$H$36+Constraints!$H$32)+1*(Constraints!$H$37-(Constraints!$H$36+Constraints!$H$32)))/Constraints!$H$37)*0.5,1)","v":0.86175881308648239},{"$f":"IF(F$55=\"Yes\",Traffic!$F$18*0.5+((Traffic!$F$20*(Constraints!$H$36+Constraints!$H$32)+1*(Constraints!$H$37-(Constraints!$H$36+Constraints!$H$32)))/Constraints!$H$37)*0.5,1)","v":1},{"$f":"IF(G$55=\"Yes\",Traffic!$F$18*0.5+((Traffic!$F$20*(Constraints!$H$36+Constraints!$H$32)+1*(Constraints!$H$37-(Constraints!$H$36+Constraints!$H$32)))/Constraints!$H$37)*0.5,1)","v":1},{"$f":"IF($I$2=\"Existing\",(D148),(IF($I$2=\"Design 1\",(F148),(IF($I$2=\"Design 2\",(G148),(IF($I$2=\"Optimal\",(I148),E148)))))))","v":0.86175881308648239},{"$f":"IF(I$55=\"Yes\",Traffic!$F$18*0.5+((Traffic!$F$20*(Constraints!$H$36+Constraints!$H$32)+1*(Constraints!$H$37-(Constraints!$H$36+Constraints!$H$32)))/Constraints!$H$37)*0.5,1)","v":0.86175881308648239},null,{"$f":"INDEX($D148:$I148,K$98)","v":1},{"$f":"INDEX($D148:$I148,L$98)","v":0.86175881308648239},0.13824118691351761]
[null,null,"Profiles",1,1,1,1,1,1,null,{"$f":"INDEX($D149:$I149,K$98)","v":1},{"$f":"INDEX($D149:$I149,L$98)","v":1},0]
[null,null,"Shoulder rumble strips",{"$f":"IF(D$56=\"No\",1,(Traffic!$F$27*(Constraints!$H$36+Constraints!$H$32)+1*(Constraints!$H$37-(Constraints!$H$36+Constraints!$H$32)))/Constraints!$H$37)","v":0.89760950690192376},{"$f":"IF(E$56=\"No\",1,(Traffic!$F$27*(Constraints!$H$36+Constraints!$H$32)+1*(Constraints!$H$37-(Constraints!$H$36+Constraints!$H$32)))/Constraints!$H$37)","v":0.89760950690192376},{"$f":"IF(F$56=\"No\",1,(Traffic!$F$27*(Constraints!$H$36+Constraints!$H$32)+1*(Constraints!$H$37-(Constraints!$H$36+Constraints!$H$32)))/Constraints!$H$37)","v":0.89760950690192376},{"$f":"IF(G$56=\"No\",1,(Traffic!$F$27*(Constraints!$H$36+Constraints!$H$32)+1*(Constraints!$H$37-(Constraints!$H$36+Constraints!$H$32)))/Constraints!$H$37)","v":0.89760950690192376},{"$f":"IF($I$2=\"Existing\",(D150),(IF($I$2=\"Design 1\",(F150),(IF($I$2=\"Design 2\",(G150),(IF($I$2=\"Optimal\",(I150),E150)))))))","v":0.89760950690192376},{"$f":"IF(I$56=\"No\",1,(Traffic!$F$27*(Constraints!$H$36+Constraints!$H$32)+1*(Constraints!$H$37-(Constraints!$H$36+Constraints!$H$32)))/Constraints!$H$37)","v":0.89760950690192376},null,{"$f":"INDEX($D150:$I150,K$98)","v":0.89760950690192376},{"$f":"INDEX($D150:$I150,L$98)","v":0.89760950690192376},0]
[null,null,"Install centerline rumble strips",{"$f":"IF(D$57=\"No\",1,Traffic!$F$30)","v":0.86},{"$f":"IF(E$57=\"No\",1,Traffic!$F$30)","v":1},{"$f":"IF(F$57=\"No\",1,Traffic!$F$30)","v":0.86},{"$f":"IF(G$57=\"No\",1,Traffic!$F$30)","v":0.86},{"$f":"IF($I$2=\"Existing\",(D151),(IF($I$2=\"Design 1\",(F151),(IF($I$2=\"Design 2\",(G151),(IF($I$2=\"Optimal\",(I151),E151)))))))","v":1},{"$f":"IF(I$57=\"No\",1,Traffic!$F$30)","v":0.86},null,{"$f":"INDEX($D151:$I151,K$98)","v":0.86},{"$f":"INDEX($D151:$I151,L$98)","v":1},-0.16279069767441867]
[null,null,"Driveway Density (driveways per mile)",{"$f":"EXP(-LN(Traffic!$F$32)*(D$58-$E$58))","v":0.81707280688754669},{"$f":"EXP(-LN(Traffic!$F$32)*(E$58-$E$58))","v":1},{"$f":"EXP(-LN(Traffic!$F$32)*(F$58-$E$58))","v":0.81707280688754669},{"$f":"EXP(-LN(Traffic!$F$32)*(G$58-$E$58))","v":0.81707280688754669},{"$f":"IF($I$2=\"Existing\",(D152),(IF($I$2=\"Design 1\",(F152),(IF($I$2=\"Design 2\",(G152),(IF($I$2=\"Optimal\",(I152),E152)))))))","v":1},{"$f":"EXP(-LN(Traffic!$F$32)*(I$58-$E$58))","v":0.81707280688754669},null,{"$f":"INDEX($D152:$I152,K$98)","v":0.81707280688754669},{"$f":"INDEX($D152:$I152,L$98)","v":1},-0.22388114201141129]
[null,null,"Install lighting",{"$f":"IF(D$59=\"No\",1,1-(((1-Traffic!$F$55*Constraints!$H$37-Constraints!$F$37/3)+((1-Traffic!$F$55*Constraints!$D$37-Constraints!$H$37)))*$S$19+((1-Traffic!$F$57)*Constraints!$F$37/3))/Constraints!$D$37)","v":0.977040446881142},{"$f":"IF(E$59=\"No\",1,1-(((1-Traffic!$F$55*Constraints!$H$37-Constraints!$F$37/3)+((1-Traffic!$F$55*Constraints!$D$37-Constraints!$H$37)))*$S$19+((1-Traffic!$F$57)*Constraints!$F$37/3))/Constraints!$D$37)","v":1},{"$f":"IF(F$59=\"No\",1,1-(((1-Traffic!$F$55*Constraints!$H$37-Constraints!$F$37/3)+((1-Traffic!$F$55*Constraints!$D$37-Constraints!$H$37)))*$S$19+((1-Traffic!$F$57)*Constraints!$F$37/3))/Constraints!$D$37)","v":0.977040446881142},{"$f":"IF(G$59=\"No\",1,1-(((1-Traffic!$F$55*Constraints!$H$37-Constraints!$F$37/3)+((1-Traffic!$F$55*Constraints!$D$37-Constraints!$H$37)))*$S$19+((1-Traffic!$F$57)*Constraints!$F$37/3))/Constraints!$D$37)","v":0.977040446881142},{"$f":"IF($I$2=\"Existing\",(D153),(IF($I$2=\"Design 1\",(F153),(IF($I$2=\"Design 2\",(G153),(IF($I$2=\"Optimal\",(I153),E153)))))))","v":1},{"$f":"IF(I$59=\"No\",1,1-(((1-Traffic!$F$55*Constraints!$H$37-Constraints!$F$37/3)+((1-Traffic!$F$55*Constraints!$D$37-Constraints!$H$37)))*$S$19+((1-Traffic!$F$57)*Constraints!$F$37/3))/Constraints!$D$37)","v":0.977040446881142},null,{"$f":"INDEX($D153:$I153,K$98)","v":0.977040446881142},{"$f":"INDEX($D153:$I153,L$98)","v":1},-2.3499081529478438E-2]
[null,null,"Pavement friction (skid number)",{"$f":"EXP(LN(Traffic!$F$49)*(D$60-$E$60))","v":1.3972521419325798},{"$f":"EXP(LN(Traffic!$F$49)*(E$60-$E$60))","v":1},{"$f":"IF(MATCH(F60,SkidNums,0)=3, $D154,EXP(LN(Traffic!$F$49)*(RIGHT(F$60,2)-$E$60)))","v":{"$error":"#N/A"}},{"$f":"IF(MATCH(G60,SkidNums,0)=3, $D154,EXP(LN(Traffic!$F$49)*(RIGHT(G$60,2)-$E$60)))","v":{"$error":"#N/A"}},{"$f":"IF($I$2=\"Existing\",(D154),(IF($I$2=\"Design 1\",(F154),(IF($I$2=\"Design 2\",(G154),(IF($I$2=\"Optimal\",(I154),E154)))))))","v":1},{"$f":"EXP(LN(Traffic!$F$49)*(I$60-$E$60))","v":0.85753553626991963},null,{"$f":"INDEX($D154:$I154,K$98)","v":1.3972521419325798},{"$f":"INDEX($D154:$I154,L$98)","v":1},0.28430956017940245]
[]
[]
[null,null,"COMBINED Calculated CMF",{"$f":"+D145*D146*D147*D148*D149*D150*D151*D152*D153*D154","v":0.86106111787419426},{"$f":"+E145*E146*E147*E148*E149*E150*E151*E152*E153*E154","v":0.7735229032829446},{"$f":"+F145*F146*F147*F148*F149*F150*F151*F152*F153*F154","v":{"$error":"#N/A"}},{"$f":"+G145*G146*G147*G148*G149*G150*G151*G152*G153*G154","v":{"$error":"#N/A"}},{"$f":"IF($I$2=\"Existing\",(D157),(IF($I$2=\"Design 1\",(F157),(IF($I$2=\"Design 2\",(G157),(IF($I$2=\"Optimal\",(I157),E157)))))))","v":0.7735229032829446},{"$f":"+I145*I146*I147*I148*I149*I150*I151*I152*I153*I154","v":0.45540422392050506},null,{"$f":"INDEX($D157:$I157,K$98)","v":0.86106111787419426},{"$f":"INDEX($D157:$I157,L$98)","v":0.7735229032829446},{"$f":"IF(ISERROR(1-L157/K157), 0, 1-L157/K157)","v":0.10166318368592209}]
[null,null,"Calculated Relative to Design Standards (Column E)",{"$f":"+D157/$E$157","v":1.1131682258142903},{"$f":"+E157/$E$157","v":1},{"$f":"+F157/$E$157","v":{"$error":"#N/A"}},{"$f":"+G157/$E$157","v":{"$error":"#N/A"}},1,{"$f":"+I157/$E$157","v":0.58874045227064742},null,{"$f":"INDEX($D158:$I158,K$98)","v":1.1131682258142903},{"$f":"INDEX($D158:$I158,L$98)","v":1},0.1016631836859222]
[null,null,"P(Crash)",{"$f":"+D158/(D158+1)","v":0.52677690882151185},{"$f":"+E158/(E158+1)","v":0.5},{"$f":"+F158/(F158+1)","v":{"$error":"#N/A"}},{"$f":"+G158/(G158+1)","v":{"$error":"#N/A"}},0.5,{"$f":"+I158/(I158+1)","v":0.37057056829465901}]
[null,null,"Factor Change on S curve",{"$f":"+D159/$E$159","v":1.0535538176430237},{"$f":"+E159/$E$159","v":1},{"$f":"+F159/$E$159","v":{"$error":"#N/A"}},{"$f":"+G159/$E$159","v":{"$error":"#N/A"}},1,{"$f":"+I159/$E$159","v":0.74114113658931802}]
[null,null,"Adjust to Scale of 100",{"$f":"+$I$114/D160*100","v":{"$error":"#VALUE!"}},{"$f":"+$I$114/E160*100","v":{"$error":"#VALUE!"}},{"$f":"+$I$114/F160*100","v":{"$error":"#VALUE!"}},{"$f":"+$I$114/G160*100","v":{"$error":"#VALUE!"}},{"$error":"#VALUE!"},{"$f":"+$I$114/I160*100","v":{"$error":"#VALUE!"}}]
[null,null,"Unadjusted Combined Relative to Standard",{"$f":"+D157/$E$157","v":1.1131682258142903},{"$f":"+E157/$E$157","v":1},{"$f":"+F157/$E$157","v":{"$error":"#N/A"}},{"$f":"+G157/$E$157","v":{"$error":"#N/A"}},1,{"$f":"+I157/$E$157","v":0.58874045227064742}]
[null,null,null,null,null,null,null,0,null,{"$f":"I168/E168","v":1.4285714285714286}]
[null,null,"Adjusted for PA Basis",{"$f":"+D157*(1+1)/(1+D157*1)","v":0.92534426688549098},{"$f":"+E157*(1+1)/(1+E157*1)","v":0.8723010025425515},{"$f":"+F157*(1+1)/(1+F157*1)","v":{"$error":"#N/A"}},{"$f":"+G157*(1+1)/(1+G157*1)","v":{"$error":"#N/A"}},0.8723010025425515,{"$f":"+I157*(1+1)/(1+I157*1)","v":0.62581132641453641}]
[null,null,"Corrected by Odds Ratio",{"$f":"+D164/$E$164","v":1.0608084413388623},{"$f":"+E164/$E$164","v":1},{"$f":"+F164/$E$164","v":{"$error":"#N/A"}},{"$f":"+G164/$E$164","v":{"$error":"#N/A"}},1,{"$f":"+I164/$E$164","v":0.71742589380322175}]
[null,null,null,{"$f":"(1/D165)^$D169","v":0.29295399474123779},1,{"$error":"#N/A"},{"$error":"#N/A"},1,998.99999999999955,{"$f":"I171/E171","v":1.4285714285714286}]
[null,null,null,{"$f":"(D166+$F170-1)/(1+(D166+$F170-1))","v":0.61923435059440457},0.70000000000000007,{"$error":"#N/A"},{"$error":"#N/A"},0.70000000000000007,0.99900133155792281]
[null,null,"Score Odds Ratio with Optimal as 100 (old)",{"$f":"MIN(ROUND($I$165/D165*Construction!$I$9,0),$I168)","v":14},{"$f":"MIN(ROUND($I$165/E165*Construction!$I$9,0),$I168)","v":14},{"$f":"MIN(ROUND($I$165/F165*Construction!$I$9,0),$I168)","v":{"$error":"#N/A"}},{"$f":"MIN(ROUND($I$165/G165*Construction!$I$9,0),$I168)","v":{"$error":"#N/A"}},null,{"$f":"ROUND($I$165/I165*Construction!$I$9,0)","v":20}]
[null,null,"Logistic1",{"$f":"LN((D170/(1-D170))/(0.5/0.5))/LN($E165/I165)","v":20.798114554240879}]
[null,null,"Logistic Param",0.999,null,{"$f":"0.7/0.3","v":2.3333333333333335}]
[null,null,"Score ",{"$f":"MIN(ROUND(D167*Construction!$I$9,0),$I168)","v":12},{"$f":"MIN(ROUND(E167*Construction!$I$9,0),$I168)","v":14},{"$f":"MIN(ROUND(F167*Construction!$I$9,0),$I168)","v":{"$error":"#N/A"}},{"$f":"MIN(ROUND(G167*Construction!$I$9,0),$I168)","v":{"$error":"#N/A"}},null,{"$f":"MIN(ROUND(I167*Construction!$I$9,0),$I168)","v":20}]
[]
[]
[]
[]
[]
[]
[null,"Roadsde",null,"Existing","Standard","Design 1","Design 2"]
[null,null,null,{"$f":"MID(D72,FIND(\":\",D72,1)+1,FIND(\"H\",D72,1)-FIND(\":\",D72,1)-1)+0","v":{"$error":"#VALUE!"}},{"$f":"MID(E72,FIND(\":\",E72,1)+1,FIND(\"H\",E72,1)-FIND(\":\",E72,1)-1)+0","v":4},{"$f":"MID(F72,FIND(\":\",F72,1)+1,FIND(\"H\",F72,1)-FIND(\":\",F72,1)-1)+0","v":{"$error":"#VALUE!"}},{"$f":"MID(G72,FIND(\":\",G72,1)+1,FIND(\"H\",G72,1)-FIND(\":\",G72,1)-1)+0","v":{"$error":"#VALUE!"}},null,{"$f":"MID(I72,FIND(\":\",I72,1)+1,FIND(\"H\",I72,1)-FIND(\":\",I72,1)-1)+0","v":6},null,{"$f":"INDEX($D179:$I179,K$98)","v":{"$error":"#VALUE!"}},{"$f":"INDEX($D179:$I179,L$98)","v":4},{"$f":"IF(ISERROR(1-L179/K179), 0, 1-L179/K179)","v":0}]
[null,null,"Sideslope (Foreslope)",{"$f":"IF(D179<=3,1,IF(OR(D179=4,D179=5),(Roadside!$F$15-1)*Constraints!$H$37/Constraints!$D$37+1,(Roadside!$F$15*Roadside!$F$16-1)*Constraints!$H$37/Constraints!$D$37+1))","v":{"$error":"#VALUE!"}},{"$f":"IF(E179<=3,1,IF(OR(E179=4,E179=5),(Roadside!$F$15-1)*Constraints!$H$37/Constraints!$D$37+1,(Roadside!$F$15*Roadside!$F$16-1)*Constraints!$H$37/Constraints!$D$37+1))","v":0.8286893555394641},{"$f":"IF(F179<=3,1,IF(OR(F179=4,F179=5),(Roadside!$F$15-1)*Constraints!$H$37/Constraints!$D$37+1,(Roadside!$F$15*Roadside!$F$16-1)*Constraints!$H$37/Constraints!$D$37+1))","v":{"$error":"#VALUE!"}},{"$f":"IF(G179<=3,1,IF(OR(G179=4,G179=5),(Roadside!$F$15-1)*Constraints!$H$37/Constraints!$D$37+1,(Roadside!$F$15*Roadside!$F$16-1)*Constraints!$H$37/Constraints!$D$37+1))","v":{"$error":"#VALUE!"}},{"$f":"IF($I$2=\"Existing\",(D180),(IF($I$2=\"Design 1\",(F180),(IF($I$2=\"Design 2\",(G180),(IF($I$2=\"Optimal\",(I180),E180)))))))","v":0.8286893555394641},{"$f":"IF(I179<=3,1,IF(OR(I179=4,I179=5),(Roadside!$F$15-1)*Constraints!$H$37/Constraints!$D$37+1,(Roadside!$F$15*Roadside!$F$16-1)*Constraints!$H$37/Constraints!$D$37+1))","v":0.77664355022240605},null,{"$f":"INDEX($D180:$I180,K$98)","v":{"$error":"#VALUE!"}},{"$f":"INDEX($D180:$I180,L$98)","v":0.8286893555394641},0]
[null,null,"Backslope",1,1,1,1,{"$f":"IF($I$2=\"Existing\",(D181),(IF($I$2=\"Design 1\",(F181),(IF($I$2=\"Design 2\",(G181),(IF($I$2=\"Optimal\",(I181),E181)))))))","v":1},1,null,{"$f":"INDEX($D181:$I181,K$98)","v":1},{"$f":"INDEX($D181:$I181,L$98)","v":1},0]
[null,null,"SafetyEdge",{"$f":"IF(D$74=\"No\",1,(Roadside!$F$23-1)*AVERAGE(Constraints!$H$37,Constraints!$F$37)/Constraints!$D$37+1)","v":0.97258384193648495},{"$f":"IF(E$74=\"No\",1,(Roadside!$F$23-1)*AVERAGE(Constraints!$H$37,Constraints!$F$37)/Constraints!$D$37+1)","v":1},{"$f":"IF(F$74=\"No\",1,(Roadside!$F$23-1)*AVERAGE(Constraints!$H$37,Constraints!$F$37)/Constraints!$D$37+1)","v":0.97258384193648495},{"$f":"IF(G$74=\"No\",1,(Roadside!$F$23-1)*AVERAGE(Constraints!$H$37,Constraints!$F$37)/Constraints!$D$37+1)","v":0.97258384193648495},{"$f":"IF($I$2=\"Existing\",(D182),(IF($I$2=\"Design 1\",(F182),(IF($I$2=\"Design 2\",(G182),(IF($I$2=\"Optimal\",(I182),E182)))))))","v":1},{"$f":"IF(I$74=\"No\",1,(Roadside!$F$23-1)*AVERAGE(Constraints!$H$37,Constraints!$F$37)/Constraints!$D$37+1)","v":0.97258384193648495},null,{"$f":"INDEX($D182:$I182,K$98)","v":0.97258384193648495},{"$f":"INDEX($D182:$I182,L$98)","v":1},-2.8188991921691331E-2]
[null,null,"Lateral Clearance (ft)",{"$f":"IF($B$27=\"Yes\",((EXP(LN(Roadside!$F$11)*(IF(D$76=\"None\",40,D$75)-30)/30)-1))*Constraints!$H$36/Constraints!$D$37+1,((EXP(LN(Roadside!$F$10)*(IF(D$76=\"None\",40,D$75)-30)/30)-1))*Constraints!$H$36/Constraints!$D$37+1)","v":1.0992721491203288},{"$f":"IF($B$27=\"Yes\",((EXP(LN(Roadside!$F$11)*(IF(E$76=\"None\",40,E$75)-30)/30)-1))*Constraints!$H$36/Constraints!$D$37+1,((EXP(LN(Roadside!$F$10)*(IF(E$76=\"None\",40,E$75)-30)/30)-1))*Constraints!$H$36/Constraints!$D$37+1)","v":1},{"$f":"IF($B$27=\"Yes\",((EXP(LN(Roadside!$F$11)*(IF(F$76=\"None\",40,F$75)-30)/30)-1))*Constraints!$H$36/Constraints!$D$37+1,((EXP(LN(Roadside!$F$10)*(IF(F$76=\"None\",40,F$75)-30)/30)-1))*Constraints!$H$36/Constraints!$D$37+1)","v":1.0992721491203288},{"$f":"IF($B$27=\"Yes\",((EXP(LN(Roadside!$F$11)*(IF(G$76=\"None\",40,G$75)-30)/30)-1))*Constraints!$H$36/Constraints!$D$37+1,((EXP(LN(Roadside!$F$10)*(IF(G$76=\"None\",40,G$75)-30)/30)-1))*Constraints!$H$36/Constraints!$D$37+1)","v":1.0992721491203288},{"$f":"IF($I$2=\"Existing\",(D183),(IF($I$2=\"Design 1\",(F183),(IF($I$2=\"Design 2\",(G183),(IF($I$2=\"Optimal\",(I183),E183)))))))","v":1},{"$f":"IF($B$27=\"Yes\",((EXP(LN(Roadside!$F$11)*(IF(I$76=\"None\",40,I$75)-30)/30)-1))*Constraints!$H$36/Constraints!$D$37+1,((EXP(LN(Roadside!$F$10)*(IF(I$76=\"None\",40,I$75)-30)/30)-1))*Constraints!$H$36/Constraints!$D$37+1)","v":0.97455184373954995},null,{"$f":"INDEX($D183:$I183,K$98)","v":1.0992721491203288},{"$f":"INDEX($D183:$I183,L$98)","v":1},9.0307162971216326E-2]
[null,null,"Fixed Object Type",{"$f":"IF(D$76=\"Guardrail\",(Roadside!$F$25-1)*(($I$75-D$75)/$I$75)^2*Constraints!$H$36/Constraints!$D$37+1,1)","v":1},{"$f":"IF(E$76=\"Guardrail\",(Roadside!$F$25-1)*(($I$75-E$75)/$I$75)^2*Constraints!$H$36/Constraints!$D$37+1,1)","v":1},{"$f":"IF(F$76=\"Guardrail\",(Roadside!$F$25-1)*(($I$75-F$75)/$I$75)^2*Constraints!$H$36/Constraints!$D$37+1,1)","v":1},{"$f":"IF(G$76=\"Guardrail\",(Roadside!$F$25-1)*(($I$75-G$75)/$I$75)^2*Constraints!$H$36/Constraints!$D$37+1,1)","v":1},{"$f":"IF($I$2=\"Existing\",(D184),(IF($I$2=\"Design 1\",(F184),(IF($I$2=\"Design 2\",(G184),(IF($I$2=\"Optimal\",(I184),E184)))))))","v":1},{"$f":"IF(I$76=\"Guardrail\",(Roadside!$F$25-1)*(($I$75-I$75)/$I$75)^2*Constraints!$H$36/Constraints!$D$37+1,1)","v":1},null,{"$f":"INDEX($D184:$I184,K$98)","v":1},{"$f":"INDEX($D184:$I184,L$98)","v":1},0]
[]
[]
[null,null,"COMBINED Calculated CMF",{"$f":"+D180*D181*D182*D183*D184","v":{"$error":"#VALUE!"}},{"$f":"+E180*E181*E182*E183*E184","v":0.8286893555394641},{"$f":"+F180*F181*F182*F183*F184","v":{"$error":"#VALUE!"}},{"$f":"+G180*G181*G182*G183*G184","v":{"$error":"#VALUE!"}},{"$f":"IF($I$2=\"Existing\",(D187),(IF($I$2=\"Design 1\",(F187),(IF($I$2=\"Design 2\",(G187),(IF($I$2=\"Optimal\",(I187),E187)))))))","v":0.8286893555394641},{"$f":"+I180*I181*I182*I183*I184","v":0.73612867842813945}]
[null,null,"Calculated Relative to Design Standards (Column E)",{"$f":"+D187/$E$187","v":{"$error":"#VALUE!"}},{"$f":"+E187/$E$187","v":1},{"$f":"+F187/$E$187","v":{"$error":"#VALUE!"}},{"$f":"+G187/$E$187","v":{"$error":"#VALUE!"}},1,{"$f":"+I187/$E$187","v":0.88830473507039431}]
[null,null,"P(Crash)",{"$f":"+D188/(D188+1)","v":{"$error":"#VALUE!"}},{"$f":"+E188/(E188+1)","v":0.5},{"$f":"+F188/(F188+1)","v":{"$error":"#VALUE!"}},{"$f":"+G188/(G188+1)","v":{"$error":"#VALUE!"}},0.5,{"$f":"+I188/(I188+1)","v":0.47042445987261644}]
[null,null,"Factor Change on S curve",{"$f":"+D189/$E$189","v":{"$error":"#VALUE!"}},{"$f":"+E189/$E$189","v":1},{"$f":"+F189/$E$189","v":{"$error":"#VALUE!"}},{"$f":"+G189/$E$189","v":{"$error":"#VALUE!"}},1,{"$f":"+I189/$E$189","v":0.94084891974523288}]
[null,null,"Adjust to Scale of 100",{"$f":"+$I$114/D190*100","v":{"$error":"#VALUE!"}},{"$f":"+$I$114/E190*100","v":{"$error":"#VALUE!"}},{"$f":"+$I$114/F190*100","v":{"$error":"#VALUE!"}},{"$f":"+$I$114/G190*100","v":{"$error":"#VALUE!"}},{"$error":"#VALUE!"},{"$f":"+$I$114/I190*100","v":{"$error":"#VALUE!"}}]
[null,null,"Unadjusted Combined Relative to Standard",{"$f":"+D187/$E$187","v":{"$error":"#VALUE!"}},{"$f":"+E187/$E$187","v":1},{"$f":"+F187/$E$187","v":{"$error":"#VALUE!"}},{"$f":"+G187/$E$187","v":{"$error":"#VALUE!"}},1,{"$f":"+I187/$E$187","v":0.88830473507039431}]
[null,null,null,null,null,null,null,null,null,{"$f":"I198/E198","v":1.1111111111111112}]
[null,null,"Adjusted for PA Basis",{"$f":"+D187*(1+1)/(1+D187*1)","v":{"$error":"#VALUE!"}},{"$f":"+E187*(1+1)/(1+E187*1)","v":0.90632053282226321},{"$f":"+F187*(1+1)/(1+F187*1)","v":{"$error":"#VALUE!"}},{"$f":"+G187*(1+1)/(1+G187*1)","v":{"$error":"#VALUE!"}},{"$f":"IF($I$2=\"Existing\",(D194),(IF($I$2=\"Design 1\",(F194),(IF($I$2=\"Design 2\",(G194),(IF($I$2=\"Optimal\",(I194),E194)))))))","v":0.90632053282226321},{"$f":"+I187*(1+1)/(1+I187*1)","v":0.84801165671039724}]
[null,null,"Corrected by Odds Ratio",{"$f":"+D187/$E$187","v":{"$error":"#VALUE!"}},{"$f":"+E187/$E$187","v":1},{"$f":"+F187/$E$187","v":{"$error":"#VALUE!"}},{"$f":"+G187/$E$187","v":{"$error":"#VALUE!"}},{"$f":"IF($I$2=\"Existing\",(D195),(IF($I$2=\"Design 1\",(F195),(IF($I$2=\"Design 2\",(G195),(IF($I$2=\"Optimal\",(I195),E195)))))))","v":1},{"$f":"+I187/$E$187","v":0.88830473507039431}]
[null,null,null,{"$f":"(1/D195)^$D199","v":{"$error":"#VALUE!"}},1,{"$error":"#VALUE!"},{"$error":"#VALUE!"},1,998.99999999999955,{"$f":"I201/E201","v":1.4814814814814814}]
[null,null,null,{"$f":"(D196+$F200-1)/(1+(D196+$F200-1))","v":{"$error":"#VALUE!"}},0.66666666666666663,{"$error":"#VALUE!"},{"$error":"#VALUE!"},0.66666666666666663,0.99900099900099903]
[null,null,"Score Odds Ratio with Optimal as 100 (old)",{"$f":"MIN(ROUND($I$195/D195*Construction!$I$10,0),$I198)","v":{"$error":"#VALUE!"}},{"$f":"MIN(ROUND($I$195/E195*Construction!$I$10,0),$I198)","v":36},{"$f":"MIN(ROUND($I$195/F195*Construction!$I$10,0),$I198)","v":{"$error":"#VALUE!"}},{"$f":"MIN(ROUND($I$195/G195*Construction!$I$10,0),$I198)","v":{"$error":"#VALUE!"}},null,{"$f":"ROUND($I$195/I195*Construction!$I$10,0)","v":40}]
[null,null,"Logistic1",{"$f":"LN((D200/(1-D200))/(0.5/0.5))/LN($E195/I195)","v":58.314167600285003}]
[null,null,"Logistic Param",0.999,null,2]
[null,null,"Score ",{"$f":"MIN(ROUND(D197*Construction!$I$10,0),$I198)","v":{"$error":"#VALUE!"}},{"$f":"MIN(ROUND(E197*Construction!$I$10,0),$I198)","v":27},{"$f":"MIN(ROUND(F197*Construction!$I$10,0),$I198)","v":{"$error":"#VALUE!"}},{"$f":"MIN(ROUND(G197*Construction!$I$10,0),$I198)","v":{"$error":"#VALUE!"}},null,{"$f":"MIN(ROUND(I197*Construction!$I$10,0),$I198)","v":40}]
[]
[]
[]
[]
[null,null,{"$f":"D84/D179","v":{"$error":"#VALUE!"}},null,{"$f":"ROUNDUP((MIN($I$14,$I$15)-E24-E25)/$C$206,0)","v":{"$error":"#VALUE!"}},{"$f":"ROUNDUP((MIN($I$14,$I$15)-F24-F25)/$C$206,0)","v":{"$error":"#VALUE!"}},{"$f":"ROUNDUP((MIN($I$14,$I$15)-G24-G25)/$C$206,0)","v":{"$error":"#VALUE!"}},null,{"$f":"ROUNDUP((MIN($I$14,$I$15)-I24-I25)/$C$206,0)","v":{"$error":"#VALUE!"}}]
[]
[]
[null,null,"Distance to low point","Distance to low point",{"$f":"$C$206*E179","v":{"$error":"#VALUE!"}},{"$f":"$C$206*F179","v":{"$error":"#VALUE!"}},{"$f":"$C$206*G179","v":{"$error":"#VALUE!"}},null,{"$f":"$C$206*I179","v":{"$error":"#VALUE!"}}]
[null,null,null,"Additional ROW1 Needed for Foreslope",{"$f":"IF(E209>($I$14-E24-E25),E209-($I$14-E24-E25),0)","v":{"$error":"#VALUE!"}},{"$f":"IF(F209>($I$14-F24-F25),F209-($I$14-F24-F25),0)","v":{"$error":"#VALUE!"}},{"$f":"IF(G209>($I$14-G24-G25),G209-($I$14-G24-G25),0)","v":{"$error":"#VALUE!"}},null,{"$f":"IF(I209>($I$14-I24-I25),I209-($I$14-I24-I25),0)","v":{"$error":"#VALUE!"}}]
[null,null,null,"Additional ROW2 Needed for Foreslope",{"$f":"IF(E209>($I$15-E24-E25),E209-($I$15-E24-E25),0)","v":{"$error":"#VALUE!"}},{"$f":"IF(F209>($I$15-F24-F25),F209-($I$15-F24-F25),0)","v":{"$error":"#VALUE!"}},{"$f":"IF(G209>($I$15-G24-G25),G209-($I$15-G24-G25),0)","v":{"$error":"#VALUE!"}},null,{"$f":"IF(I209>($I$15-I24-I25),I209-($I$15-I24-I25),0)","v":{"$error":"#VALUE!"}}]
[]
[null,null,null,"Additional ROW1 Needed for Lateral Clearance",{"$f":"IF((CL248+E26)-$I$14<0,0,(CL248+E26)-$I$14)","v":8},{"$f":"IF((CM248+F26)-$I$14<0,0,(CM248+F26)-$I$14)","v":0},{"$f":"IF((CN248+G26)-$I$14<0,0,(CN248+G26)-$I$14)","v":0},null,{"$f":"IF((CP248+I26)-$I$14<0,0,(CP248+I26)-$I$14)","v":0}]
[null,null,null,"Additional ROW2 Needed for Lateral Clearance",{"$f":"IF((CL248+E26)-$I$15<0,0,(CL248+E26)-$I$15)","v":8},{"$f":"IF((CM248+F26)-$I$15<0,0,(CM248+F26)-$I$15)","v":0},{"$f":"IF((CN248+G26)-$I$15<0,0,(CN248+G26)-$I$15)","v":0},null,{"$f":"IF((CP248+I26)-$I$15<0,0,(CP248+I26)-$I$15)","v":0}]
[]
[]
[]
[]
[]
[]
[]
[]
[]
[]
[]
[null,null,"For Vertical Opt Use when Yes Vertical:"]
[null,null,"G1",{"$f":"D36","v":0},null,{"$f":"F36","v":0},{"$f":"G36","v":0},null,{"$f":"IF(ISERROR($E$234),\"\",INDEX(D227:G227,$E$234))","v":""}]
[null,null,"G2",{"$f":"D37","v":0},null,{"$f":"F37","v":0},{"$f":"G37","v":0},null,{"$f":"IF(ISERROR($E$234),\"\",INDEX(D228:G228,$E$234))","v":""}]
[null,null,"abs(G2-G1)",{"$f":"ABS(D36-D37)","v":0},null,{"$f":"ABS(F36-F37)","v":0},{"$f":"ABS(G36-G37)","v":0}]
[null,null,"Count in indicator (K no change; or K change but accept)",{"$f":"IF(D39<>\"\",1,\"\")","v":""},null,{"$f":"IF(OR(AND($B$34 = \"Yes\", $D$39 <> F39, F39 <>\"\", $D$39 <> \"\", F41=\"Yes.\"),AND($B$34 = \"Yes\", $D$39 = F39, F39 <>\"\", $D$39 <> \"\")), 1,\"\")","v":""},{"$f":"IF(OR(AND($B$34 = \"Yes\", $D$39 <> G39, G39 <>\"\", $D$39 <> \"\", G41=\"Yes.\"),AND($B$34 = \"Yes\", $D$39 = G39, G39 <>\"\", $D$39 <> \"\")), 1,\"\")","v":""}]
[]
[null,null,"Valid abs(G2-G1)",{"$f":"IF(ISERROR(D229*D230),\"\",D229*D230)","v":""},null,{"$f":"IF(ISERROR(F229*F230),\"\",F229*F230)","v":""},{"$f":"IF(ISERROR(G229*G230),\"\",G229*G230)","v":""}]
[null,null,"The min valid abs(G2-G1)",null,{"$f":"MIN(D232,F232,G232)","v":0}]
[null,null,"Index",null,{"$f":"MATCH(E233,D232:G232,0)","v":{"$error":"#N/A"}}]
[]
[null,null,"For Vertical Opt Use When No Vertical:"]
[null,null,"G1",{"$f":"IF(ISBLANK(D36), 999, D36)","v":999},null,{"$f":"IF(ISBLANK(F36), 999, F36)","v":999},{"$f":"IF(ISBLANK(G36), 999, G36)","v":999},null,{"$f":"IF(E242=999,\"\",E242)","v":""}]
[null,null,"Sign of G1",{"$f":"IF(D237>=0,1,-1)","v":1},null,{"$f":"IF(F237>=0,1,-1)","v":1},{"$f":"IF(G237>=0,1,-1)","v":1}]
[null,null,"Abs G1",{"$f":"ABS(D237)","v":999},null,{"$f":"ABS(F237)","v":999},{"$f":"ABS(G237)","v":999}]
[null,null,"Min Abs G1",null,{"$f":"MIN(D239:G239)","v":999}]
[null,null,"Which is the Best G1",null,{"$f":"MATCH(E240,D239:G239,0)","v":1}]
[null,null,"Best G1 Value",null,{"$f":"INDEX(D237:G237,1,E241)","v":999}]
[]
[]
[]
[]
[]
[]
[null,null,"Check if all cells filled",{"$f":"SUM(D251:D311)","v":18},{"$f":"SUM(E251:E311)","v":1},18,18,null,1]
[]
[null,null,{"$f":"C24","v":"Lane Width (feet)"},{"$f":"IF(ISBLANK(D24),1,0)","v":1},{"$f":"IF(ISBLANK(E24),1,0)","v":0},1,1,null,0]
[null,null,{"$f":"C25","v":"Shoulder Width (feet)"},{"$f":"IF(ISBLANK(D25),1,0)","v":1},0,1,1,null,0]
[null,null,"Cross-slope or Superelevation (%)",{"$f":"IF(ISBLANK(D26),1,0)","v":1},0,1,1,null,0]
[null,null,"Horizontal Curve Present?"]
[null,null,"Horizontal Curve Data for Controlling Element:"]
[null,null,"  Radius (feet)",{"$f":"IF(AND($B$27=\"Yes\", ISBLANK(D29)),1,0)","v":0},{"$f":"IF(AND($B$27=\"Yes\", ISBLANK(E29)),1,0)","v":0},0,0,null,0]
[null,null,"Length of Horizontal Curve (feet)",{"$f":"IF(AND($B$27=\"Yes\", ISBLANK(D30)),1,0)","v":0},0,0,0,null,0]
[null,null,"Calculated Deflection Angle ∆"]
[]
[null,null,null,null,null,{"$f":"IF(AND($B$27 = \"Yes\", $D$31 <> F31, F31<>\"\",ISBLANK(F33)),1,0)","v":0},{"$f":"IF(AND($B$27 = \"Yes\", $D$31 <> G31, G31<>\"\",ISBLANK(G33)),1,0)","v":0}]
[null,null,"Vertical Curve Present?"]
[null,null,"Vertical Curve Data for Controlling Element:"]
[null,null,"  Approach (Entry) Grade, G1 (%)",{"$f":"IF(ISBLANK(D36),1,0)","v":1},{"$f":"IF(ISBLANK(E36),1,0)","v":0},1,1,null,0]
[null,null,"  Departure (Exit) Grade, G2 (%)",{"$f":"IF(AND($B$34=\"Yes\", ISBLANK(D37)),1,0)","v":0},{"$f":"IF(AND($B$34=\"Yes\", ISBLANK(E37)),1,0)","v":0},0,0,null,0]
[null,null,"  Length (feet)",{"$f":"IF(AND($B$34=\"Yes\", ISBLANK(D38)),1,0)","v":0},0,0,0,null,0]
[null,null,"  Calculated Rate of Change, K (ft/ft)"]
[]
[]
[]
[null,null,"TWLTL (two-way left-turn lane)",{"$f":"IF(ISBLANK(D43),1,0)","v":1},{"$f":"IF(ISBLANK(E43),1,0)","v":0},1,1,null,0]
[null,null,"Passing Lane Type",{"$f":"IF(ISBLANK(D44),1,0)","v":1},0,1,1,null,0]
[]
[]
[]
[]
[]
[]
[]
[null,null,"Advance Static Curve Warning Signs",{"$f":"IF(AND($B$27=\"Yes\", ISBLANK(D52)),1,0)","v":0},{"$f":"IF(AND($B$27=\"Yes\", ISBLANK(E52)),1,0)","v":0},0,0,null,{"$f":"IF(ISBLANK(I52),1,0)","v":0}]
[null,null,"Chevron Signs on Horizontal Curves",{"$f":"IF(AND($B$27=\"Yes\", ISBLANK(D53)),1,0)","v":0},0,0,0,null,0]
[null,null,"Post-Mounted Delineators",0,0,0,0,null,0]
[null,null,"Edgeline Pavement Markings or Profile Markings",{"$f":"IF(ISBLANK(D55),1,0)","v":1},0,1,1,null,0]
[null,null,"Shoulder Rumble Strips",1,0,1,1,null,0]
[null,null,"Centerline Rumble Strips",1,0,1,1,null,0]
[null,null,"Driveway Density (driveways per mile)",1,0,1,1,null,0]
[null,null,"Lighting",1,0,1,1,null,0]
[null,null,"Pavement Friction (skid number) ***",1,0,1,1,null,0]
[]
[]
[]
[]
[]
[]
[]
[]
[]
[]
[]
[null,null,"Sideslope (Foreslope)",{"$f":"IF(ISBLANK(D72),1,0)","v":1},0,1,1,null,0]
[null,null,"Backslope",1,0,1,1,null,0]
[null,null,"SafetyEdge",1,0,1,1,null,0]
[null,null,"Lateral Clearance to obstruction (ft)",1,0,1,1,null,0]
[null,null,"Obstruction Type",1,0,1,1,null,0]
[]
[]
[]
[]
[]
[]
[]
[null,null,"Distance to Slope Toe from Shoulder (ft)",1,{"$f":"$D$311","v":1},{"$f":"$D$311","v":1},1,null,1]
[]
[]
[]
[null,null,null,null,null,null,null,null,{"$f":"SUM(I316:I324)","v":9}]
[null,null,null,null,null,null,null,{"$f":"F9","v":"Location "},{"$f":"IF(ISBLANK(I9),1,0)","v":1}]
[null,null,null,null,null,null,null,{"$f":"F10","v":"Design Speed (mph)"},{"$f":"IF(ISBLANK(I10),1,0)","v":1}]
[null,null,null,null,null,null,null,"Posted Speed (mph)",1]
[null,null,null,null,null,null,null,"E max (%)",1]
[null,null,null,null,null,null,null,"Design Year AADT (vehicles per day)",1]
[null,null,null,null,null,null,null,"Dist. from Centerline to Left   ROW (feet)",1]
[null,null,null,null,null,null,null,"Dist. from Centerline to Right ROW (feet)",1]
[null,null,null,null,null,null,null,"H Curve Indicator",{"$f":"IF(ISBLANK(B27),1,0)","v":1}]
[null,null,null,null,null,null,null,"V Curve Indicator",{"$f":"IF(ISBLANK(B34),1,0)","v":1}]
[]
[]
[]
[]
[]
[]
[]
[]
[]
[]
[]
[]
[]
[]
[]
[]
[]
[]
[]
[]
[]
[]
[]
[]
[]
[]
[]
[]
[]
[]
[]
[]
[]
[]
[]
[]
[]
[]
[]
[]
[]
[]
[]
[]
[]
[]
[]
[]
[]
[]
[]
[1]
[22]
[21]
[20,null,null,{"$f":"Constraints!P174","v":"Emax=6%"}]
[19]
[18,null,{"$f":"HLOOKUP($I$10,Constraints!$Q$176:AD197,A376,TRUE)","v":{"$error":"#N/A"}},{"$f":"Constraints!P176","v":"super"}]
[17,null,{"$f":"HLOOKUP($I$10,Constraints!$Q$176:AD198,A377,TRUE)","v":{"$error":"#N/A"}},{"$f":"Constraints!P197","v":6},1050]
[16,null,{"$f":"HLOOKUP($I$10,Constraints!$Q$176:AD199,A378,TRUE)","v":{"$error":"#N/A"}},{"$f":"Constraints!P196","v":5.8}]
[15,null,{"$f":"HLOOKUP($I$10,Constraints!$Q$176:AD200,A379,TRUE)","v":{"$error":"#N/A"}},{"$f":"Constraints!P195","v":5.6}]
[14,null,{"$f":"HLOOKUP($I$10,Constraints!$Q$176:AD201,A380,TRUE)","v":{"$error":"#N/A"}},{"$f":"Constraints!P194","v":5.4}]
[13,null,{"$f":"HLOOKUP($I$10,Constraints!$Q$176:AD202,A381,TRUE)","v":{"$error":"#N/A"}},{"$f":"Constraints!P193","v":5.2}]
[12,null,{"$f":"HLOOKUP($I$10,Constraints!$Q$176:AD203,A382,TRUE)","v":{"$error":"#N/A"}},{"$f":"Constraints!P192","v":5}]
[11,null,{"$f":"HLOOKUP($I$10,Constraints!$Q$176:AD204,A383,TRUE)","v":{"$error":"#N/A"}},{"$f":"Constraints!P191","v":4.8}]
[10,null,{"$f":"HLOOKUP($I$10,Constraints!$Q$176:AD205,A384,TRUE)","v":{"$error":"#N/A"}},{"$f":"Constraints!P190","v":4.5999999999999996}]
[9,null,{"$f":"HLOOKUP($I$10,Constraints!$Q$176:AD206,A385,TRUE)","v":{"$error":"#N/A"}},{"$f":"Constraints!P189","v":4.4000000000000004}]
[8,null,{"$f":"HLOOKUP($I$10,Constraints!$Q$176:AD207,A386,TRUE)","v":{"$error":"#N/A"}},{"$f":"Constraints!P188","v":4.2}]
[7,null,{"$f":"HLOOKUP($I$10,Constraints!$Q$176:AD208,A387,TRUE)","v":{"$error":"#N/A"}},{"$f":"Constraints!P187","v":4}]
[6,null,{"$f":"HLOOKUP($I$10,Constraints!$Q$176:AD209,A388,TRUE)","v":{"$error":"#N/A"}},{"$f":"Constraints!P186","v":3.8}]
[5,null,{"$f":"HLOOKUP($I$10,Constraints!$Q$176:AD210,A389,TRUE)","v":{"$error":"#N/A"}},{"$f":"Constraints!P185","v":3.6}]
[4,null,{"$f":"HLOOKUP($I$10,Constraints!$Q$176:AD211,A390,TRUE)","v":{"$error":"#N/A"}},{"$f":"Constraints!P184","v":3.4}]
[3,null,{"$f":"HLOOKUP($I$10,Constraints!$Q$176:AD212,A391,TRUE)","v":{"$error":"#N/A"}},{"$f":"Constraints!P183","v":3.2}]
[2,null,{"$f":"HLOOKUP($I$10,Constraints!$Q$176:AD213,A392,TRUE)","v":{"$error":"#N/A"}},{"$f":"Constraints!P182","v":3}]
[null,null,{"$f":"HLOOKUP($I$10,Constraints!$Q$176:AD214,A393,TRUE)","v":{"$error":"#N/A"}},{"$f":"Constraints!P181","v":2.8}]
[null,null,{"$f":"HLOOKUP($I$10,Constraints!$Q$176:AD215,A394,TRUE)","v":{"$error":"#N/A"}},{"$f":"Constraints!P180","v":2.6}]
[null,null,{"$f":"HLOOKUP($I$10,Constraints!$Q$176:AD216,A395,TRUE)","v":{"$error":"#N/A"}},{"$f":"Constraints!P179","v":2.4}]
[null,null,{"$f":"HLOOKUP($I$10,Constraints!$Q$176:AD217,A396,TRUE)","v":{"$error":"#N/A"}},{"$f":"Constraints!P178","v":2.2000000000000002}]
[null,null,{"$f":"HLOOKUP($I$10,Constraints!$Q$176:AD218,A397,TRUE)","v":{"$error":"#N/A"}},{"$f":"Constraints!P177","v":2}]
[1]
[32]
[31]
[30,null,null,{"$f":"Constraints!P201","v":"Emax=8%"}]
[29]
[28,null,{"$f":"HLOOKUP($I$10,Constraints!$Q$203:AD234,A403,TRUE)","v":{"$error":"#N/A"}},{"$f":"Constraints!P203","v":"super"}]
[27,null,{"$f":"HLOOKUP($I$10,Constraints!$Q$203:AD235,A404,TRUE)","v":{"$error":"#N/A"}},{"$f":"INDEX(Constraints!$P$203:$P$234,A404,)","v":8}]
[26,null,{"$f":"HLOOKUP($I$10,Constraints!$Q$203:AD236,A405,TRUE)","v":{"$error":"#N/A"}},{"$f":"INDEX(Constraints!$P$203:$P$234,A405,)","v":7.8}]
[25,null,{"$f":"HLOOKUP($I$10,Constraints!$Q$203:AD237,A406,TRUE)","v":{"$error":"#N/A"}},{"$f":"INDEX(Constraints!$P$203:$P$234,A406,)","v":7.6}]
[24,null,{"$f":"HLOOKUP($I$10,Constraints!$Q$203:AD238,A407,TRUE)","v":{"$error":"#N/A"}},{"$f":"INDEX(Constraints!$P$203:$P$234,A407,)","v":7.4}]
[23,null,{"$f":"HLOOKUP($I$10,Constraints!$Q$203:AD239,A408,TRUE)","v":{"$error":"#N/A"}},{"$f":"INDEX(Constraints!$P$203:$P$234,A408,)","v":7.2}]
[22,null,{"$f":"HLOOKUP($I$10,Constraints!$Q$203:AD240,A409,TRUE)","v":{"$error":"#N/A"}},{"$f":"INDEX(Constraints!$P$203:$P$234,A409,)","v":7}]
[21,null,{"$f":"HLOOKUP($I$10,Constraints!$Q$203:AD241,A410,TRUE)","v":{"$error":"#N/A"}},{"$f":"INDEX(Constraints!$P$203:$P$234,A410,)","v":6.8}]
[20,null,{"$f":"HLOOKUP($I$10,Constraints!$Q$203:AD242,A411,TRUE)","v":{"$error":"#N/A"}},{"$f":"INDEX(Constraints!$P$203:$P$234,A411,)","v":6.6}]
[19,null,{"$f":"HLOOKUP($I$10,Constraints!$Q$203:AD243,A412,TRUE)","v":{"$error":"#N/A"}},{"$f":"INDEX(Constraints!$P$203:$P$234,A412,)","v":6.4}]
[18,null,{"$f":"HLOOKUP($I$10,Constraints!$Q$203:AD244,A413,TRUE)","v":{"$error":"#N/A"}},{"$f":"INDEX(Constraints!$P$203:$P$234,A413,)","v":6.2}]
[17,null,{"$f":"HLOOKUP($I$10,Constraints!$Q$203:AD245,A414,TRUE)","v":{"$error":"#N/A"}},{"$f":"INDEX(Constraints!$P$203:$P$234,A414,)","v":6}]
[16,null,{"$f":"HLOOKUP($I$10,Constraints!$Q$203:AD246,A415,TRUE)","v":{"$error":"#N/A"}},{"$f":"INDEX(Constraints!$P$203:$P$234,A415,)","v":5.8}]
[15,null,{"$f":"HLOOKUP($I$10,Constraints!$Q$203:AD247,A416,TRUE)","v":{"$error":"#N/A"}},{"$f":"INDEX(Constraints!$P$203:$P$234,A416,)","v":5.6}]
[14,null,{"$f":"HLOOKUP($I$10,Constraints!$Q$203:AD248,A417,TRUE)","v":{"$error":"#N/A"}},{"$f":"INDEX(Constraints!$P$203:$P$234,A417,)","v":5.4}]
[13,null,{"$f":"HLOOKUP($I$10,Constraints!$Q$203:AD249,A418,TRUE)","v":{"$error":"#N/A"}},{"$f":"INDEX(Constraints!$P$203:$P$234,A418,)","v":5.2}]
[12,null,{"$f":"HLOOKUP($I$10,Constraints!$Q$203:AD250,A419,TRUE)","v":{"$error":"#N/A"}},{"$f":"INDEX(Constraints!$P$203:$P$234,A419,)","v":5}]
[11,null,{"$f":"HLOOKUP($I$10,Constraints!$Q$203:AD251,A420,TRUE)","v":{"$error":"#N/A"}},{"$f":"INDEX(Constraints!$P$203:$P$234,A420,)","v":4.8}]
[10,null,{"$f":"HLOOKUP($I$10,Constraints!$Q$203:AD252,A421,TRUE)","v":{"$error":"#N/A"}},{"$f":"INDEX(Constraints!$P$203:$P$234,A421,)","v":4.5999999999999996}]
[9,null,{"$f":"HLOOKUP($I$10,Constraints!$Q$203:AD253,A422,TRUE)","v":{"$error":"#N/A"}},{"$f":"INDEX(Constraints!$P$203:$P$234,A422,)","v":4.4000000000000004}]
[8,null,{"$f":"HLOOKUP($I$10,Constraints!$Q$203:AD254,A423,TRUE)","v":{"$error":"#N/A"}},{"$f":"INDEX(Constraints!$P$203:$P$234,A423,)","v":4.2}]
[7,null,{"$f":"HLOOKUP($I$10,Constraints!$Q$203:AD255,A424,TRUE)","v":{"$error":"#N/A"}},{"$f":"INDEX(Constraints!$P$203:$P$234,A424,)","v":4}]
[6,null,{"$f":"HLOOKUP($I$10,Constraints!$Q$203:AD256,A425,TRUE)","v":{"$error":"#N/A"}},{"$f":"INDEX(Constraints!$P$203:$P$234,A425,)","v":3.8}]
[5,null,{"$f":"HLOOKUP($I$10,Constraints!$Q$203:AD257,A426,TRUE)","v":{"$error":"#N/A"}},{"$f":"INDEX(Constraints!$P$203:$P$234,A426,)","v":3.6}]
[4,null,{"$f":"HLOOKUP($I$10,Constraints!$Q$203:AD258,A427,TRUE)","v":{"$error":"#N/A"}},{"$f":"INDEX(Constraints!$P$203:$P$234,A427,)","v":3.4}]
[3,null,{"$f":"HLOOKUP($I$10,Constraints!$Q$203:AD259,A428,TRUE)","v":{"$error":"#N/A"}},{"$f":"INDEX(Constraints!$P$203:$P$234,A428,)","v":3.2}]
[2,null,{"$f":"HLOOKUP($I$10,Constraints!$Q$203:AD260,A429,TRUE)","v":{"$error":"#N/A"}},{"$f":"INDEX(Constraints!$P$203:$P$234,A429,)","v":3}]
[null,null,{"$f":"HLOOKUP($I$10,Constraints!$Q$203:AD261,A430,TRUE)","v":{"$error":"#N/A"}},{"$f":"INDEX(Constraints!$P$203:$P$234,A430,)","v":2.8}]
[null,null,{"$f":"HLOOKUP($I$10,Constraints!$Q$203:AD262,A431,TRUE)","v":{"$error":"#N/A"}},{"$f":"INDEX(Constraints!$P$203:$P$234,A431,)","v":2.6}]
[null,null,{"$f":"HLOOKUP($I$10,Constraints!$Q$203:AD263,A432,TRUE)","v":{"$error":"#N/A"}},{"$f":"INDEX(Constraints!$P$203:$P$234,A432,)","v":2.4}]
[null,null,{"$f":"HLOOKUP($I$10,Constraints!$Q$203:AD264,A433,TRUE)","v":{"$error":"#N/A"}},{"$f":"INDEX(Constraints!$P$203:$P$234,A433,)","v":2.2000000000000002}]
[null,null,{"$f":"HLOOKUP($I$10,Constraints!$Q$203:AD265,A434,TRUE)","v":{"$error":"#N/A"}},{"$f":"INDEX(Constraints!$P$203:$P$234,A434,)","v":2}]

{"sheet":"Configuration 10","index":20,"n_rows":439,"n_cols":113,"rows_kept":439,"cut":false,"hidden":false,"merged":[[1,6,2,7],[1,8,2,8],[1,21,1,37],[2,1,2,4],[2,21,3,28],[2,30,3,37],[3,1,3,4],[3,6,4,7],[3,8,4,8],[4,1,4,2],[4,3,4,4],[4,21,44,28],[4,30,44,37],[5,1,5,2],[5,3,5,4],[6,1,6,7],[7,1,7,4],[7,7,7,8],[8,3,8,4],[8,5,8,6],[75,16,75,21],[75,22,75,23],[9,3,9,4],[9,5,9,6],[10,3,10,4],[10,5,10,6],[11,5,11,6],[12,2,15,4],[12,5,12,6],[13,5,13,6],[14,5,14,6],[17,2,18,8],[20,5,20,7],[38,9,38,10],[45,12,45,19],[74,16,74,23],[76,22,76,23],[77,16,77,21],[77,22,77,23],[78,16,78,21],[78,22,78,23],[84,1,84,2],[85,1,85,2],[86,1,86,2],[95,10,95,12],[76,16,76,21]]}
[]
[null,null,null,null,null,null,"Preferred Schematic View to Display",null,"Standard",null,null,null,null,null,null,null,null,null,null,null,null,"NOTES: "]
[null,"CHARACTERISTICS TO CONSIDER FOR ANALYSIS",null,null,null,null,null,null,null,null,null,null,null,null,null,null,null,null,null,null,null,"ELEMENTS INCREASING SAFETY",null,null,null,null,null,null,null,null,"COMMENTS ON PRIMARY CONSTRAINTS"]
[null,"INPUT INSTRUCTIONS",null,null,null,null,"Relative to",null,"Existing"]
[null,"Blue Boxes -- Select from pulldown options",null,"Select from Pulldown"]
[null,"Yellow Boxes -- Type input information into box",null,"Type Input Value"]
[null," Rural Two-Lane Road Segment -- Safety Score Input",null,null,null,null,null,null,null,null,null,null,null,null,null,null,null,null,null,null,null,null,null,null,null,null,null,null,null,null,null,null,null,null,null,null,null,null,null,null,null,null,null,null,null,null,null,null,null,null,null,null,null,null,null,null,null,null,null,null,null,null,null,null,null,null,null,null,null,null,null,null,null,null,null,null,null,null,null,null,null,null,null,"Unadjusted Marginal Safety"]
[null,"General Information:",null,null,null,"General Site Features",null,{"$f":"I315 & \" Missing Features and Curves\"","v":"9 Missing Features and Curves"},null,null,null,null,null,null,null,null,null,null,null,null,null,null,null,null,null,null,null,null,null,null,null,null,null,null,null,null,null,null,null,null,null,null,null,null,null,null,null,null,null,null,null,null,null,null,null,null,null,null,null,null,null,null,null,null,null,null,null,null,null,null,null,null,null,null,null,null,null,null,null,null,null,null,null,{"$f":"I2&\" relative to \" &I4","v":"Standard relative to Existing"}]
[null,null,"Analyst:",{"$f":"+'Start Here'!J7","v":0},null,"Location "]
[null,null,"Agency or Company:",{"$f":"+'Start Here'!J8","v":0},null,"Design Speed (mph)"]
[null,null,"Date:",{"$f":"+'Start Here'!J9","v":"00:00:00"},null,"Posted Speed (mph)"]
[null,null,"Description:",null,null,"E max (%)"]
[null,null,null,null,null,"Design Year AADT (vehicles per day)"]
[null,null,null,null,null,"Dist. from Centerline to Left   ROW (feet)"]
[null,null,null,null,null,"Dist. from Centerline to Right ROW (feet)"]
[]
[null,"Warning:"]
[null,null,{"$f":"+IF(+I11>I10,\"Posted speed exceeds design speed. Optimal safety will only be achieved if design speed exceeds posted speed. The Safety Assessment Score is based on the higher of the two speed values.\",\"No warnings identified\")","v":"No warnings identified"}]
[null,null,null,null,null,null,null,null,null,null,null,null,null,null,null,{"$f":"\"Unadjusted Marginal Safety of elements in \"&I2&\" from Design Standards\"","v":"Unadjusted Marginal Safety of elements in Standard from Design Standards"},null,null,null,null,null,null,null,null,null,null,null,null,null,null,null,null,null,null,null,null,null,null,null,null,null,null,null,null,null,null,null,null,null,null,null,null,null,null,null,null,null,null,null,null,null,null,null,null,null,null,null,null,null,null,null,null,null,null,null,null,null,null,null,null,null,null,null,null,null,null,null,null,null,null,null,null,null,null,null,null,null,null,null,null,null,null,null,null,null,{"$f":"COUNTIF(DB23:DB41,DB20)","v":1}]
[null,null,null,null,null,null,null,null,null,null,null,null,null,null,null,null,null,null,null,null,null,null,null,null,null,null,null,null,null,null,null,null,null,null,null,null,null,null,null,null,null,null,null,null,null,null,null,null,null,null,null,null,null,null,null,null,null,null,null,null,null,null,null,null,null,null,null,null,null,null,null,null,null,null,null,null,null,null,null,null,null,null,null,null,null,null,null,null,null,null,null,null,null,null,null,null,null,null,null,null,null,null,null,null,null,{"$f":"VLOOKUP(0,CZ23:DB41,3,)","v":10.01}]
[null,null,null,"Fill all elements",null,"To enter notes, use boxes to the right of the vortex ",null,null,null,null," "]
[null,{"$f":"+Construction!$I$8&\"  Total Available Points\"","v":"40  Total Available Points"},null,{"$f":"D249 & \" Missing Elements\"","v":"18 Missing Elements"},null,{"$f":"F249 & \" Missing Elements\"","v":"18 Missing Elements"},{"$f":"G249 & \" Missing Elements\"","v":"18 Missing Elements"},null,null,null,null,null,null,null,null,null,null,null,null,null,null,null,null,null,null,null,null,null,null,null,null,null,null,null,null,null,null,null,null,null,null,null,null,null,null,null,null,null,null,null,null,null,null,null,null,null,null,null,null,null,null,null,null,null,null,null,null,null,null,null,null,null,null,null,null,null,null,null,null,null,null,null,null,null,null,null,null,null,null,null,null,null,null,null,null,null,null,null,null,null,null,"Ranked element","CRF","abs","Re-rank","Rank","Ranked CRF","Element","New Element","crf.abs","rank","Sorted Element","Sorted CRF"]
[null,"Geometric Design Elements",null,"Existing","Standard","Design 1","Design 2",{"$f":"\"Marginal Safety for \"&$I$2&\" (compared to \" & $I$4 & \")\"","v":"Marginal Safety for Standard (compared to Existing)"},"Optimal",null,null,null,null,null,null,null,null,null,null,null,null,null,null,null,null,null,null,null,null,null,null,null,null,null,null,null,null,null,null,null,null,null,null,null,null,null,null,null,null,null,null,null,null,null,null,null,null,null,null,null,null,null,null,null,null,null,null,null,null,null,null,null,null,null,null,null,null,null,null,null,null,null,null,null,null,null,null,null,null,null,null,null,null,null,null,null,null,null,null,null,null,{"$f":"IF(CY23=0,\"\",DB23&\". \"&DD23)","v":""},{"$f":"H24","v":0},{"$f":"ABS(CY23)","v":0},{"$f":"RANK(DB23,$DB$23:$DB$41,1)","v":10},{"$f":"_xlfn.RANK.EQ(CZ23,$CZ$23:$CZ$41)+DG23/100","v":10.01},{"$f":"CY23","v":0},{"$f":"IF(ROUND(DF23,2)=0,\"\",C24)","v":""},{"$f":"DD23","v":""},{"$f":"CZ23","v":0},1,{"$f":"IFERROR(IF(IFERROR(VLOOKUP(DG23,$DA$23:$DF$41,4,)&\", \"&CY23=0,\"\"),\"\",IFERROR(VLOOKUP(DG23,$DA$23:$DE$41,4,),\"\")),\"\")","v":"TWLTL (two-way left-turn lane)"},{"$f":"IFERROR(IF(IFERROR(VLOOKUP(DG23,$DA$23:$DF$41,3,)&\", \"&CY23=0,\"\"),\"\",IFERROR(VLOOKUP(DG23,$DA$23:$DE$41,3,),\"\")),\"\")","v":-0.40845070422535223}]
[null,null,"Lane Width (feet)",null,12,null,null,{"$f":"M100","v":0},12,null,null,null,null,null,null,null,null,null,null,null,null,null,null,null,null,null,null,null,null,null,null,null,null,null,null,null,null,null,null,null,null,null,null,null,null,null,null,null,null,null,null,null,null,null,null,null,null,null,null,null,null,null,null,null,null,null,null,null,null,null,null,null,null,null,null,null,null,null,null,null,null,null,null,null,null,null,null,null,null,null,null,null,null,null,null,null,null,null,null,null,null,"5.02. Shoulder Width (feet)",{"$f":"H25","v":0.15503875968992242},0.15503875968992242,{"$f":"RANK(DB24,$DB$23:$DB$41,1)","v":5},{"$f":"_xlfn.RANK.EQ(CZ24,$CZ$23:$CZ$41)+DG24/100","v":5.0199999999999996},{"$f":"CY24","v":0.15503875968992242},{"$f":"IF(ROUND(DF24,2)=0,\"\",C25)","v":"Shoulder Width (feet)"},{"$f":"DD24","v":"Shoulder Width (feet)"},0.15503875968992242,2,"Pavement Friction (skid number) ***",{"$f":"IFERROR(IF(IFERROR(VLOOKUP(DG24,$DA$23:$DF$41,3,)&\", \"&CY24=0,\"\"),\"\",IFERROR(VLOOKUP(DG24,$DA$23:$DE$41,3,),\"\")),\"\")","v":0.28430956017940245}]
[null,null,"Shoulder Width (feet)",null,{"$f":"IF('Start Here'!$J$12=\"4R\",8,4)","v":4},null,null,{"$f":"M101","v":0.15503875968992242},10,null,null,null,null,null,null,null,null,null,null,null,null,null,null,null,null,null,null,null,null,null,null,null,null,null,null,null,null,null,null,null,null,null,null,null,null,null,null,null,null,null,null,null,null,null,null,null,null,null,null,null,null,null,null,null,null,null,null,null,null,null,null,null,null,null,null,null,null,null,null,null,null,null,null,null,null,null,null,null,null,null,null,null,null,null,null,null,null,null,null,null,null,"",{"$f":"H29","v":0},0,11,10.029999999999999,0,{"$f":"IF(ROUND(DF25,2)=0,\"\",\"Hz and Vt Alignment\")","v":""},"",0,3,"Driveway Density (driveways per mile)",-0.22388114201141129]
[null,null,"Cross-slope or Superelevation (%)",null,{"$f":"IF($I$12=6,IFERROR(VLOOKUP(E29,$C$382:$D$402,2,TRUE),6),IFERROR(VLOOKUP(E29,$C$409:$D$439,2,TRUE),8))","v":8},null,null,null,{"$f":"I12","v":0},null,null,null,null,null,null,null,null,null,null,null,null,null,null,null,null,null,null,null,null,null,null,null,null,null,null,null,null,null,null,null,null,null,null,null,null,null,null,null,null,null,null,null,null,null,null,null,null,null,null,null,null,null,null,null,null,null,null,null,null,null,null,null,null,null,null,null,null,null,null,null,null,null,null,null,null,null,null,null,null,null,null,null,null,null,null,null,null,null,null,null,null,"1.04. TWLTL (two-way left-turn lane)",{"$f":"H43","v":-0.40845070422535223},0.40845070422535223,1,1.04,-0.40845070422535223,{"$f":"IF(ROUND(DF26,2)=0,\"\",C43)","v":"TWLTL (two-way left-turn lane)"},"TWLTL (two-way left-turn lane)",0.40845070422535223,4,"Centerline Rumble Strips",-0.16279069767441867]
["",null,"Horizontal Curve Present?","--","--","--","--",null,"--",null,null,null,null,null,null,null,null,null,null,null,null,null,null,null,null,null,null,null,null,null,null,null,null,null,null,null,null,null,null,null,null,null,null,null,null,null,null,null,null,null,null,null,null,null,null,null,null,null,null,null,null,null,null,null,null,null,null,null,null,null,null,null,null,null,null,null,null,null,null,null,null,null,null,null,null,null,null,null,null,null,null,null,null,null,null,null,null,null,null,null,null,"",{"$f":"H44","v":0},0,12,10.050000000000001,0,{"$f":"IF(ROUND(DF27,2)=0,\"\",C44)","v":""},"",0,5,"Shoulder Width (feet)",0.15503875968992242]
[null,null,"Horizontal Curve Data for Controlling Element:","--","--","--","--",null,"--",null,null,null,null,null,null,null,null,null,null,null,null,null,null,null,null,null,null,null,null,null,null,null,null,null,null,null,null,null,null,null,null,null,null,null,null,null,null,null,null,null,null,null,null,null,null,null,null,null,null,null,null,null,null,null,null,null,null,null,null,null,null,null,null,null,null,null,null,null,null,null,null,null,null,null,null,null,null,null,null,null,null,null,null,null,null,null,null,null,null,null,null,"",{"$f":"H52","v":0},0,13,10.06,0,{"$f":"IF(ROUND(DF28,2)=0,\"\",C52)","v":""},"",0,6,"Edgeline Pavement Markings or Profile Markings",0.13824118691351761]
[null,null,"  Radius (feet)",null,{"$f":"IF(MAX($I$10,$I$11)<45,590,IF($I$12=6,VLOOKUP(MAX($I$10,$I$11),Construction!$B$29:$D$36,2,TRUE),VLOOKUP(MAX($I$10,$I$11),Construction!$G$29:$I$36,2,TRUE)))","v":590},null,null,{"$f":"M140","v":0},{"$f":"IF(MAX($I$10,$I$11)<45,590,IF($I$12=6,VLOOKUP(MAX($I$10,$I$11),Construction!$B$45:$C$52,2,TRUE),VLOOKUP(MAX($I$10,$I$11),Construction!$G$45:$H$52,2,TRUE)))","v":590},null,null,null,null,null,null,null,null,null,null,null,null,null,null,null,null,null,null,null,null,null,null,null,null,null,null,null,null,null,null,null,null,null,null,null,null,null,null,null,null,null,null,null,null,null,null,null,null,null,null,null,null,null,null,null,null,null,null,null,null,null,null,null,null,null,null,null,null,null,null,null,null,null,null,null,null,null,null,null,null,null,null,null,null,null,null,null,null,null,null,null,null,"",0,0,14,10.07,0,"","",0,7,"Lateral Clearance to obstruction (ft)",9.0307162971216326E-2]
[null,null,"Length of Horizontal Curve (feet)",null,{"$f":"IF(D31=\"\", \"\", E29*E31/57.296)","v":""},null,null,null,{"$f":"I29*I31/57.296","v":3758.5520804244625},null,null,null,null,null,null,null,null,null,null,null,null,null,null,null,null,null,null,null,null,null,null,null,null,null,null,null,null,null,null,null,null,null,null,null,null,null,null,null,null,null,null,null,null,null,null,null,null,null,null,null,null,null,null,null,null,null,null,null,null,null,null,null,null,null,null,null,null,null,null,null,null,null,null,null,null,null,null,null,null,null,null,null,null,null,null,null,null,null,null,null,null,"",0,0,15,10.08,0,"","",0,8,"SafetyEdge",-2.8188991921691331E-2]
[null,null,"Calculated Deflection Angle ∆",{"$f":"IF(OR(ISBLANK(D29),ISBLANK(D30),$B$27=\"No\",ISBLANK($B$27)),\"\",ROUND(D30/D29*57.296,1))","v":""},{"$f":"IF(ISBLANK(D31), \"\",D31)","v":""},{"$f":"IF(OR(ISBLANK(F29),ISBLANK(F30),$B$27=\"No\",ISBLANK($B$27)),\"\",ROUND(F30/F29*57.296,1))","v":""},{"$f":"IF(OR(ISBLANK(G29),ISBLANK(G30),$B$27=\"No\",ISBLANK($B$27)),\"\",ROUND(G30/G29*57.296,1))","v":""},null,{"$f":"MIN(D31,IF(F33=INDEX(HCurveChange,1,0), F31, 365),IF(G33=INDEX(HCurveChange,1,0), G31, 365))","v":365},null,null,null,null,null,null,null,null,null,null,null,null,null,null,null,null,null,null,null,null,null,null,null,null,null,null,null,null,null,null,null,null,null,null,null,null,null,null,null,null,null,null,null,null,null,null,null,null,null,null,null,null,null,null,null,null,null,null,null,null,null,null,null,null,null,null,null,null,null,null,null,null,null,null,null,null,null,null,null,null,null,null,null,null,null,null,null,null,null,null,null,null,"6.09. Edgeline Pavement Markings or Profile Markings",0.13824118691351761,0.13824118691351761,6,6.09,0.13824118691351761,"Edgeline Pavement Markings or Profile Markings","Edgeline Pavement Markings or Profile Markings",0.13824118691351761,9,"Lighting",-2.3499081529478438E-2]
[null,null,null,null,null,"∆ has changed. \nAre you changing the ∆?","∆ has changed. \nAre you changing the ∆?",null,null,null,null,null,null,null,null,null,null,null,null,null,null,null,null,null,null,null,null,null,null,null,null,null,null,null,null,null,null,null,null,null,null,null,null,null,null,null,null,null,null,null,null,null,null,null,null,null,null,null,null,null,null,null,null,null,null,null,null,null,null,null,null,null,null,null,null,null,null,null,null,null,null,null,null,null,null,null,null,null,null,null,null,null,null,null,null,null,null,null,null,null,null,"",0,0,16,10.1,0,"","",0,10,"",0]
[null,null,null,null,null,null,null,null,null,null,null,null,null,null,null,null,null,null,null,null,null,null,null,null,null,null,null,null,null,null,null,null,null,null,null,null,null,null,null,null,null,null,null,null,null,null,null,null,null,null,null,null,null,null,null,null,null,null,null,null,null,null,null,null,null,null,null,null,null,null,null,null,null,null,null,null,null,null,null,null,null,null,null,null,null,null,null,null,null,null,null,null,null,null,null,null,null,null,null,null,null,"4.11. Centerline Rumble Strips",-0.16279069767441867,0.16279069767441867,4,4.1100000000000003,-0.16279069767441867,"Centerline Rumble Strips","Centerline Rumble Strips",0.16279069767441867,11,"",0]
[null,null,"Vertical Curve Present?","--","--","--","--",null,{"$f":"E34","v":"--"},null,null,null,null,null,null,null,null,null,null,null,null,null,null,null,null,null,null,null,null,null,null,null,null,null,null,null,null,null,null,null,null,null,null,null,null,null,null,null,null,null,null,null,null,null,null,null,null,null,null,null,null,null,null,null,null,null,null,null,null,null,null,null,null,null,null,null,null,null,null,null,null,null,null,null,null,null,null,null,null,null,null,null,null,null,null,null,null,null,null,null,null,"3.12. Driveway Density (driveways per mile)",-0.22388114201141129,0.22388114201141129,3,3.12,-0.22388114201141129,{"$f":"IF(DF34=0,\"\",C58)","v":"Driveway Density (driveways per mile)"},"Driveway Density (driveways per mile)",0.22388114201141129,12,"",0]
[null,null,"Vertical Curve Data for Controlling Element:","--","--","--","--",null,"--",null,null,null,null,null,null,null,null,null,null,null,null,null,null,null,null,null,null,null,null,null,null,null,null,null,null,null,null,null,null,null,null,null,null,null,null,null,null,null,null,null,null,null,null,null,null,null,null,null,null,null,null,null,null,null,null,null,null,null,null,null,null,null,null,null,null,null,null,null,null,null,null,null,null,null,null,null,null,null,null,null,null,null,null,null,null,null,null,null,null,null,null,"9.13. Lighting",-2.3499081529478438E-2,2.3499081529478438E-2,9,9.1300000000000008,-2.3499081529478438E-2,{"$f":"IF(DF35=0,\"\",C59)","v":"Lighting"},"Lighting",2.3499081529478438E-2,13,"",0]
[null,null,"  Approach (Entry) Grade, G1 (%)",null,{"$f":"IF(ISBLANK(D36),\"\", D36)","v":""},null,null,null,{"$f":"IF(B34=\"Yes\",I227,I237)","v":""},null,null,null,null,null,null,null,null,null,null,null,null,null,null,null,null,null,null,null,null,null,null,null,null,null,null,null,null,null,null,null,null,null,null,null,null,null,null,null,null,null,null,null,null,null,null,null,null,null,null,null,null,null,null,null,null,null,null,null,null,null,null,null,null,null,null,null,null,null,null,null,null,null,null,null,null,null,null,null,null,null,null,null,null,null,null,null,null,null,null,null,null,"2.14. Pavement Friction (skid number) ***",0.28430956017940245,0.28430956017940245,2,2.14,0.28430956017940245,{"$f":"IF(DF36=0,\"\",C60)","v":"Pavement Friction (skid number) ***"},"Pavement Friction (skid number) ***",0.28430956017940245,14,"",0]
[null,null,"  Departure (Exit) Grade, G2 (%)",null,{"$f":"IF(ISBLANK(D37),\"\", D37)","v":""},null,null,null,{"$f":"IF($B$34=\"Yes\",I228,\"\")","v":""},null,null,null,null,null,null,null,null,null,null,null,null,null,null,null,null,null,null,null,null,null,null,null,null,null,null,null,null,null,null,null,null,null,null,null,null,null,null,null,null,null,null,null,null,null,null,null,null,null,null,null,null,null,null,null,null,null,null,null,null,null,null,null,null,null,null,null,null,null,null,null,null,null,null,null,null,null,null,null,null,null,null,null,null,null,null,null,null,null,null,null,null,"",{"$f":"H72","v":0},0,17,10.15,0,{"$f":"IF(DF37=0,\"\",C72)","v":""},"",0,15,"",0]
[null,null,"  Length (feet)",null,{"$f":"IF(AND($B$34=\"Yes\", D39<>\"\"), ABS(E36-E37)*D39, \"\")","v":""},null,null,null,{"$f":"IF(AND($B$34=\"Yes\",I36<>\"\",I37<>\"\", NOT(ISBLANK($I$10)), NOT(ISBLANK($I$11))),ABS(I37-I36)*I39,\"\")","v":""},null,null,null,null,null,null,null,null,null,null,null,null,null,null,null,null,null,null,null,null,null,null,null,null,null,null,null,null,null,null,null,null,null,null,null,null,null,null,null,null,null,null,null,null,null,null,null,null,null,null,null,null,null,null,null,null,null,null,null,null,null,null,null,null,null,null,null,null,null,null,null,null,null,null,null,null,null,null,null,null,null,null,null,null,null,null,null,null,null,null,null,null,"",{"$f":"H73","v":0},{"$f":"ABS(CY38)","v":0},18,10.16,0,{"$f":"IF(DF38=0,\"\",C73)","v":""},"",0,16,"",0]
[null,null,"  Calculated Rate of Change, K (ft/ft)",{"$f":"IF(OR($B$34=\"No\",ISBLANK($B$34), ISBLANK(D36), ISBLANK(D37),ISBLANK(D38), D36=D37), \"\", ROUND(D38/(ABS(D37-D36)),1))","v":""},{"$f":"IF(AND($B$34=\"Yes\", NOT(ISBLANK($I$10)), NOT(ISBLANK($I$11)), D39<>\"\"), IF($E$42=\"Crest\",  VLOOKUP(MAX($I$10,$I$11),Construction!$B$159:$D$171,2,TRUE), VLOOKUP(MAX($I$10,$I$11),Construction!$B$159:$D$171,3,TRUE)), \"\")","v":""},{"$f":"IF(AND($B$34=\"Yes\", SUM(F263:F265)=0),ROUND(F38/(ABS(F37-F36)),1),\"\")","v":""},{"$f":"IF(AND($B$34=\"Yes\", SUM(G263:G265)=0),ROUND(G38/(ABS(G37-G36)),1),\"\")","v":""},null,{"$f":"IF(OR($B$34<>\"Yes\", ISBLANK($I$10), ISBLANK($I$11), $I$36=\"\", $I$37=\"\", $I$42=\"--\", ISBLANK($I$42)),\"\",IF($I$42=\"Crest\",VLOOKUP(MAX($I$10,$I$11),Construction!$B$179:$D$191,2,TRUE),VLOOKUP(MAX($I$10,$I$11),Construction!$B$179:$D$191,3,TRUE)))","v":""},null,null,null,null,null,null,null,null,null,null,null,null,null,null,null,null,null,null,null,null,null,null,null,null,null,null,null,null,null,null,null,null,null,null,null,null,null,null,null,null,null,null,null,null,null,null,null,null,null,null,null,null,null,null,null,null,null,null,null,null,null,null,null,null,null,null,null,null,null,null,null,null,null,null,null,null,null,null,null,null,null,null,null,null,null,null,null,null,null,null,null,null,"8.17. SafetyEdge",{"$f":"H74","v":-2.8188991921691331E-2},{"$f":"ABS(CY39)","v":2.8188991921691331E-2},8,8.17,-2.8188991921691331E-2,{"$f":"IF(DF39=0,\"\",C74)","v":"SafetyEdge"},"SafetyEdge",2.8188991921691331E-2,17,"",0]
[null,null,null,null,null,"Are you changing the geometry?","Are you changing the geometry?",null,null,null,null,null,null,null,null,null,null,null,null,null,null,null,null,null,null,null,null,null,null,null,null,null,null,null,null,null,null,null,null,null,null,null,null,null,null,null,null,null,null,null,null,null,null,null,null,null,null,null,null,null,null,null,null,null,null,null,null,null,null,null,null,null,null,null,null,null,null,null,null,null,null,null,null,null,null,null,null,null,null,null,null,null,null,null,null,null,null,null,null,null,null,"7.18. Lateral Clearance to obstruction (ft)",{"$f":"H75","v":9.0307162971216326E-2},{"$f":"ABS(CY40)","v":9.0307162971216326E-2},7,7.18,9.0307162971216326E-2,{"$f":"IF(DF40=0,\"\",C75)","v":"Lateral Clearance to obstruction (ft)"},"Lateral Clearance to obstruction (ft)",9.0307162971216326E-2,18,"",0]
[null,null,null,null,null,null,null,null,null,null,null,null,null,null,null,null,null,null,null,null,null,null,null,null,null,null,null,null,null,null,null,null,null,null,null,null,null,null,null,null,null,null,null,null,null,null,null,null,null,null,null,null,null,null,null,null,null,null,null,null,null,null,null,null,null,null,null,null,null,null,null,null,null,null,null,null,null,null,null,null,null,null,null,null,null,null,null,null,null,null,null,null,null,null,null,null,null,null,null,null,null,"",{"$f":"H76","v":0},{"$f":"ABS(CY41)","v":0},19,10.19,0,{"$f":"IF(DF41=0,\"\",C76)","v":""},"",0,19,"",0]
[null,null,"  Calculated Sag or Crest?",{"$f":"IF(AND($B$34=\"Yes\", SUM(D263:D265)=0),IF(D36>D37,\"Crest\",\"Sag\"),\"--\")","v":"--"},{"$f":"IF(AND($B$34=\"Yes\", SUM(D263:D265)=0),IF(E36>E37,\"Crest\",\"Sag\"),\"--\")","v":"--"},{"$f":"IF(AND($B$34=\"Yes\", SUM(F263:F265)=0),IF(F36>F37,\"Crest\",\"Sag\"),\"--\")","v":"--"},{"$f":"IF(AND($B$34=\"Yes\", SUM(G263:G265)=0),IF(G36>G37,\"Crest\",\"Sag\"),\"--\")","v":"--"},null,{"$f":"IF($B$34=\"Yes\",IF(I36>I37,\"Crest\",\"Sag\"),\"--\")","v":"--"}]
[null,null,"TWLTL (two-way left-turn lane)",null,"No",null,null,{"$f":"M108","v":-0.40845070422535223},{"$f":"IF(OR($D$43=\"Yes\", $F$43=\"Yes\",$G$43=\"Yes\"), \"Yes\", \"No\")","v":"No"}]
[null,null,"Passing Lane Type",null,"No Passing Lane",null,null,{"$f":"M109","v":0},"Super 2"]
[null,null,"Geometric Design Element (Partial Score)",{"$f":"IF(OR(SUM(D251:D253,D256:D257,D263:D265,D270:D271)>0, ISERR(D125)),\"\",D125)","v":""},{"$f":"IF(OR(SUM(E251:E253,E256:E257,E263:E265,E270:E271)>0, ISERR(E125)),\"\",E125)","v":""},"","",null,{"$f":"IF(OR(SUM(I251:I253,I256:I257,I263:I265,I270:I271)>0, ISERR(I125)),\"\",I125)","v":""}]
[null,null,"Total Safety Score",{"$f":"IF(OR(D$249>0, $I$315>0,ISERROR(D$201+D$171+D$125)),\"\",D$201+D$171+D$125)","v":""},{"$f":"IF(OR(E$249>0, $I$315>0,ISERROR(E$201+E$171+E$125)),\"\",E$201+E$171+E$125)","v":""},"","",null,"",null,null,null,"SCHEMATIC REPRESENTING INPUT DATA FOR ",null,null,null,null,null,null,null,{"$f":"IF($I$2=\"Existing\",\"EXISTING CONFIGURATION\",IF($I$2=\"Standard\",\"STANDARD OPTION\",IF($I$2=\"Design 1\",\"DESIGN 1 OPTION\",IF($I$2=\"Design 2\",\"DESIGN 2 OPTION\",\"OPTIMAL OPTION\"))))","v":"STANDARD OPTION"}]
[]
[null,null,null,null,null,null,null,null,null,null,null,"LT",null,null,null,null,null,null,null,null,null,null,null,null,null,null,"RT"]
[null,null,null,null,null,null,null,null,null,null,null,"R/W",null,null,null,null,null,null,null,null,null,null,null,null,null,null,"R/W"]
[null,{"$f":"+Construction!$I$9&\"  Total Available Points\"","v":"20  Total Available Points"}]
[null,"Traffic Elements",null,"Existing","Standard","Design 1","Design 2",{"$f":"$H$23","v":"Marginal Safety for Standard (compared to Existing)"},"Optimal",null,null,null,null,null,{"$f":"+$I$14","v":0},null,null,null,null,null,null,null,{"$f":"+$I$15","v":0}]
[null,null,"Advance Static Curve Warning Signs",null,"No",null,null,{"$f":"M145","v":0},"Yes"]
[null,null,"Chevron Signs on Horizontal Curves",null,"No",null,null,{"$f":"M146","v":0},"Yes",null,null,{"$f":"+O51-N53-Q53","v":-16},null,{"$f":"IF(+$I$2=\"Existing\",D25,IF($I$2=\"Standard\",E25,IF($I$2=\"Design 1\",F25,IF($I$2=\"Design 2\",G25,I25))))","v":4},null,null,{"$f":"IF(+$I$2=\"Existing\",D24,IF($I$2=\"Standard\",E24,IF($I$2=\"Design 1\",F24,IF($I$2=\"Design 2\",G24,I24))))","v":12},null,null,null,null,{"$f":"+Q53","v":12},null,null,{"$f":"+N53","v":4},{"$f":"+W51-V53-Y53","v":-16}]
[null,null,"Post-Mounted Delineators",null,"No",null,null,0,"Yes"]
[null,null,"Edgeline Pavement Markings or Profile Markings",null,"Yes",null,null,0.13824118691351761,"Yes"]
[null,null,"Shoulder Rumble Strips",null,"Yes",null,null,{"$f":"M150","v":0},"Yes"]
[null,null,"Centerline Rumble Strips",null,"No",null,null,{"$f":"M151","v":-0.16279069767441867},"Yes"]
[null,null,"Driveway Density (driveways per mile)",null,10,null,null,{"$f":"M152","v":-0.22388114201141129},0]
[null,null,"Lighting",null,"No",null,null,{"$f":"M153","v":-2.3499081529478438E-2},"Yes",null,null,null,null,null,null,null,null,null,"Tangent X-Section"]
[null,null,"Pavement Friction (skid number) ***",null,37,null,null,{"$f":"M154","v":0.28430956017940245},54]
[]
[null,null,"Traffic Control Element (Partial Score):",{"$f":"IF(ISERROR(D171), \"\", D171)","v":12},{"$f":"IF(ISERROR(E171), \"\", E171)","v":14},{"$f":"IF(ISERROR(F171), \"\", F171)","v":""},{"$f":"IF(ISERROR(G171), \"\", G171)","v":""},null,{"$f":"IF(ISERROR(I171), \"\", I171)","v":20}]
[null,null,"Total Safety Score",{"$f":"IF(OR(D$249>0, $I$315>0,ISERROR(D$201+D$171+D$125)),\"\",D$201+D$171+D$125)","v":""},{"$f":"IF(OR(E$249>0, $I$315>0,ISERROR(E$201+E$171+E$125)),\"\",E$201+E$171+E$125)","v":""},"","",null,""]
[]
[null,null,"*** Pavement friction/skid numbers will not be subject to open records requests ***",null,null,null,null,null,null,null," "]
[]
[]
[]
[null,null,null,null,null,null,null,null,null,null,null,null,null,null,null,null,null,null,"Curved X-Section"]
[null,{"$f":"+Construction!$I$10&\"  Total Available Points\"","v":"40  Total Available Points"}]
[null,"Roadside  Elements",null,"Existing","Standard","Design 1","Design 2",{"$f":"$H$23","v":"Marginal Safety for Standard (compared to Existing)"},"Optimal"]
[null,null,"Sideslope (Foreslope)",null,"1V:4H",null,null,{"$f":"M180","v":0},"1V:6H"]
[null,null,"Backslope",null,{"$f":"E72","v":"1V:4H"},null,null,{"$f":"M181","v":0},"1V:4H"]
[null,null,"SafetyEdge",null,"No",null,null,{"$f":"M182","v":-2.8188991921691331E-2},"Yes"]
[null,null,"Lateral Clearance to obstruction (ft)",null,30,null,null,{"$f":"M183","v":9.0307162971216326E-2},40,null,null,null,null,null,null,null,{"$f":"IF($I$2=\"Existing\",\"SCORE SUMMARY FOR EXISTING CONFIGURATION\", IF($I$2=\"Standard\",\"SCORE SUMMARY FOR STANDARD OPTION\",IF($I$2=\"Design 1\",\"SCORE SUMMARY FOR DESIGN 1 OPTION\",IF($I$2=\"Design 2\",\"SCORE SUMMARY FOR DESIGN 2 OPTION\", \"SCORE SUMMARY FOR OPTIMAL OPTION\"))))","v":"SCORE SUMMARY FOR STANDARD OPTION"}]
[null,null,"Obstruction Type",null,"Other Fixed Object",null,null,{"$f":"M184","v":0},"None",null,null,null,null,null,null,null,"GEOMETRIC DESIGN:",null,null,null,null,null,{"$f":"IF($I$2=\"Existing\",D45,IF($I$2=\"Standard\",E45,IF($I$2=\"Design 1\",F45,IF($I$2=\"Design 2\",G45,I45))))","v":""}]
[null,null,"Roadside Element (Partial Score):",{"$f":"IF(ISERR(D201),\"\",D201)","v":""},{"$f":"IF(ISERR(E201),\"\",E201)","v":27},{"$f":"IF(ISERR(F201),\"\",F201)","v":""},{"$f":"IF(ISERR(G201),\"\",G201)","v":""},null,{"$f":"IF(ISERR(I201),\"\",I201)","v":40},null,null,null,null,null,null,null,"TRAFFIC CONTROL:",null,null,null,null,null,{"$f":"IF($I$2=\"Existing\",D62,IF($I$2=\"Standard\",E62,IF($I$2=\"Design 1\",F62,IF($I$2=\"Design 2\",G62,I62))))","v":14}]
[null,null,"Total Safety Score",{"$f":"IF(OR(D$249>0, $I$315>0,ISERROR(D$201+D$171+D$125)),\"\",D$201+D$171+D$125)","v":""},{"$f":"IF(OR(E$249>0, $I$315>0,ISERROR(E$201+E$171+E$125)),\"\",E$201+E$171+E$125)","v":""},"","",null,"",null,null,null,null,null,null,null,"ROADSIDE:",null,null,null,null,null,{"$f":"IF($I$2=\"Existing\",D77,IF($I$2=\"Standard\",E77,IF($I$2=\"Design 1\",F77,IF($I$2=\"Design 2\",G77,I77))))","v":27}]
[null,null,null,null,null,null,null,null,null,null,null,null,null,null,null,null,"OVERALL SAFETY SCORE:",null,null,null,null,null,{"$f":"SUM(W76:X78)","v":41}]
[]
[]
[]
[null,"ADDITIONAL SIDESLOPE INFORMATION"]
[null,null,"Distance to Slope Toe from Shoulder (ft)",null,{"$f":"D84","v":0},{"$f":"E84","v":0},{"$f":"F84","v":0},null,{"$f":"G84","v":0}]
[null,"Minimum foreslope feasible within current ROW",null,null,{"$f":"IF(OR(ISBLANK($D$84), ISERROR(E206)), \"\", \"1V:\"&E206&\"H\")","v":""},{"$f":"IF(OR(ISBLANK($D$84), ISERROR(F206)), \"\", \"1V:\"&F206&\"H\")","v":""},{"$f":"IF(OR(ISBLANK($D$84), ISERROR(G206)), \"\", \"1V:\"&G206&\"H\")","v":""},null,{"$f":"IF(OR(ISBLANK($D$84), ISERROR(I206)), \"\", \"1V:\"&I206&\"H\")","v":""}]
[null,"Additional R/W needed on left side",null,null,{"$f":"IF(OR(ISBLANK($D$84), ISERROR(E210)),\"\", MAX(E210,E213))","v":""},{"$f":"IF(OR(ISBLANK($D$84), ISERROR(F210)), \"\", MAX(F210,F213))","v":""},{"$f":"IF(OR(ISBLANK($D$84), ISERROR(G210)),\"\", MAX(G210,G213))","v":""},null,{"$f":"IF(OR(ISBLANK($D$84), ISERROR(I210)),\"\", MAX(I210,I213))","v":""}]
[null,"Additional R/W needed on right side",null,null,{"$f":"IF(OR(ISBLANK($D$84), ISERROR(E211)), \"\", MAX(E211,E214))","v":""},{"$f":"IF(OR(ISBLANK($D$84), ISERROR(F211)), \"\", MAX(F211,F214))","v":""},{"$f":"IF(OR(ISBLANK($D$84), ISERROR(G211)),\"\", MAX(G211,G214))","v":""},null,{"$f":"IF(OR(ISBLANK($D$84), ISERROR(I211)),\"\", MAX(I211,I214))","v":""}]
[]
[]
[]
[]
[]
[]
[]
[null,null,null,null,null,null,null,null,null,{"$f":"1-I100/E100","v":0}]
[null,null,null,null,null,null,null,null,null,{"$f":"1-I101/E101","v":0.17431192660550465},"For Plot"]
[null,null,null,{"$f":"MAX(SUM(D103:D107)-5,$I$97)","v":{"$error":"#VALUE!"}},{"$f":"MAX(SUM(E103:E107)-5,$I$97)","v":{"$error":"#VALUE!"}},{"$f":"MAX(SUM(F103:F107)-5,$I$97)","v":{"$error":"#VALUE!"}},{"$f":"MAX(SUM(G103:G107)-5,$I$97)","v":{"$error":"#VALUE!"}},null,{"$f":"SUM(I103:I107)-5","v":{"$error":"#VALUE!"}},{"$f":"1-I102/E102","v":0},"relative to","Prefer"]
[null,null,null,null,null,null,null,null,null,{"$f":"1-I103/E103","v":{"$error":"#VALUE!"}},{"$f":"MATCH(K99,ModView,0)","v":1},{"$f":"MATCH(L99,ModView,0)","v":2}]
[null,"Geometric",null,null,null,null,null,null,null,null,{"$f":"I4","v":"Existing"},{"$f":"I2","v":"Standard"},"%"]
[null,null,"LW CMF",{"$f":"VLOOKUP(+D24,Construction!$C$3:$D$9,2)","v":{"$error":"#N/A"}},{"$f":"VLOOKUP(+E24,Construction!$C$3:$D$9,2)","v":1},{"$f":"VLOOKUP(+F24,Construction!$C$3:$D$9,2)","v":{"$error":"#N/A"}},{"$f":"VLOOKUP(+G24,Construction!$C$3:$D$9,2)","v":{"$error":"#N/A"}},{"$f":"H24","v":0},{"$f":"VLOOKUP(+I24,Construction!$C$3:$D$9,2)","v":1},null,{"$f":"INDEX($D100:$I100,K$98)","v":{"$error":"#N/A"}},{"$f":"INDEX($D100:$I100,L$98)","v":1},{"$f":"IF(ISERROR(1-L100/K100), 0, 1-L100/K100)","v":0}]
[null,null,"SW CMF",{"$f":"VLOOKUP(D25,Construction!$C$13:D23,2)","v":1.29},{"$f":"VLOOKUP(E25,Construction!$C$13:E23,2)","v":1.0900000000000001},{"$f":"VLOOKUP(F25,Construction!$C$13:F23,2)","v":1.29},{"$f":"VLOOKUP(G25,Construction!$C$13:G23,2)","v":1.29},{"$f":"IF($I$2=\"Existing\",(1-D101/E101),(IF($I$2=\"Design 1\",(1-F101/E101),(IF($I$2=\"Design 2\",(1-G101/E101),(IF($I$2=\"Optimal\",(1-I101/E101),0)))))))","v":0},{"$f":"VLOOKUP(I25,Construction!$C$13:I23,2)","v":0.9},null,{"$f":"INDEX($D101:$I101,K$98)","v":1.29},{"$f":"INDEX($D101:$I101,L$98)","v":1.0900000000000001},{"$f":"IF(ISERROR(1-L101/K101), 0, 1-L101/K101)","v":0.15503875968992242}]
[null,null,"Placeholder for super deficincy",1,1,1,1,0,1,null,{"$f":"INDEX($D102:$I102,K$98)","v":1},{"$f":"INDEX($D102:$I102,L$98)","v":1},0]
[null,null,"HC and Grade",{"$f":"D$134^D$127","v":1},{"$f":"E$134^E$127","v":{"$error":"#VALUE!"}},{"$f":"F$134^F$127","v":1},{"$f":"G$134^G$127","v":1},0,{"$f":"I$134^I$127","v":{"$error":"#VALUE!"}},null,{"$f":"INDEX($D103:$I103,K$98)","v":1},{"$f":"INDEX($D103:$I103,L$98)","v":{"$error":"#VALUE!"}},0]
[null,null,"HC and VC Crest type I",{"$f":"D$135^D$128","v":1},{"$f":"E$135^E$128","v":1},{"$f":"F$135^F$128","v":1},{"$f":"G$135^G$128","v":1},0,{"$f":"I$135^I$128","v":{"$error":"#VALUE!"}},null,{"$f":"INDEX($D104:$I104,K$98)","v":1},{"$f":"INDEX($D104:$I104,L$98)","v":1},0]
[null,null,"HC and VC Sag type I",{"$f":"D$136^D$129","v":1},{"$f":"E$136^E$129","v":1},{"$f":"F$136^F$129","v":1},{"$f":"G$136^G$129","v":1},0,{"$f":"I$136^I$129","v":{"$error":"#VALUE!"}},null,{"$f":"INDEX($D105:$I105,K$98)","v":1},{"$f":"INDEX($D105:$I105,L$98)","v":1},0]
[null,null,"HC and VC Crest type II",{"$f":"D$137^D$130","v":1},{"$f":"E$137^E$130","v":1},{"$f":"F$137^F$130","v":1},{"$f":"G$137^G$130","v":1},0,{"$f":"I$137^I$130","v":{"$error":"#VALUE!"}},{"$f":"1-I111/E111","v":{"$error":"#VALUE!"}},{"$f":"INDEX($D106:$I106,K$98)","v":1},{"$f":"INDEX($D106:$I106,L$98)","v":1},0]
[null,null,"HC and VC Sag type II",{"$f":"D$138^D$131","v":1},{"$f":"E$138^E$131","v":1},{"$f":"F$138^F$131","v":1},{"$f":"G$138^G$131","v":1},0,{"$f":"I$138^I$131","v":{"$error":"#VALUE!"}},{"$f":"1-I112/E112","v":{"$error":"#VALUE!"}},{"$f":"INDEX($D107:$I107,K$98)","v":1},{"$f":"INDEX($D107:$I107,L$98)","v":1},0]
[null,null,"Add TWLTL",{"$f":"IF(D$43=\"No\",1,CMFs!$F$17)","v":0.71},{"$f":"IF(E$43=\"No\",1,CMFs!$F$17)","v":1},{"$f":"IF(F$43=\"No\",1,CMFs!$F$17)","v":0.71},{"$f":"IF(G$43=\"No\",1,CMFs!$F$17)","v":0.71},0,{"$f":"IF(I$43=\"No\",1,CMFs!$F$17)","v":1},{"$f":"1-I113/E113","v":{"$error":"#VALUE!"}},{"$f":"INDEX($D108:$I108,K$98)","v":0.71},{"$f":"INDEX($D108:$I108,L$98)","v":1},-0.40845070422535223]
[null,null,"Passing Lane Type",{"$f":"IF(ISNUMBER(INDEX(PassLNCMF, MATCH(D44,Passing_Lane_Type,0))),INDEX(PassLNCMF, MATCH(D44,Passing_Lane_Type,0)),1)","v":1},{"$f":"IF(ISNUMBER(INDEX(PassLNCMF, MATCH(E44,Passing_Lane_Type,0))),INDEX(PassLNCMF, MATCH(E44,Passing_Lane_Type,0)),1)","v":1},{"$f":"IF(ISNUMBER(INDEX(PassLNCMF, MATCH(F44,Passing_Lane_Type,0))),INDEX(PassLNCMF, MATCH(F44,Passing_Lane_Type,0)),1)","v":1},{"$f":"IF(ISNUMBER(INDEX(PassLNCMF, MATCH(G44,Passing_Lane_Type,0))),INDEX(PassLNCMF, MATCH(G44,Passing_Lane_Type,0)),1)","v":1},0,{"$f":"IF(ISNUMBER(INDEX(PassLNCMF, MATCH(I44,Passing_Lane_Type,0))),INDEX(PassLNCMF, MATCH(I44,Passing_Lane_Type,0)),1)","v":0.65},{"$f":"1-I114/E114","v":{"$error":"#VALUE!"}},{"$f":"INDEX($D109:$I109,K$98)","v":1},{"$f":"INDEX($D109:$I109,L$98)","v":1},0]
[null,null,null,null,null,null,null,null,null,{"$f":"I115/E115","v":{"$error":"#VALUE!"}}]
[null,null,"COMBINED Calculated CMF",{"$f":"+D100*D101*D102*D103*D104*D105*D106*D107*D108*D109","v":{"$error":"#N/A"}},{"$f":"+E100*E101*E102*E103*E104*E105*E106*E107*E108*E109","v":{"$error":"#VALUE!"}},{"$f":"+F100*F101*F102*F103*F104*F105*F106*F107*F108*F109","v":{"$error":"#N/A"}},{"$f":"+G100*G101*G102*G103*G104*G105*G106*G107*G108*G109","v":{"$error":"#N/A"}},{"$f":"IF($I$2=\"Existing\",(D111),(IF($I$2=\"Design 1\",(F111),(IF($I$2=\"Design 2\",(G111),(IF($I$2=\"Optimal\",(I111),E111)))))))","v":{"$error":"#VALUE!"}},{"$f":"+I100*I101*I102*I103*I104*I105*I106*I107*I108*I109","v":{"$error":"#VALUE!"}},null,{"$f":"INDEX($D111:$I111,K$98)","v":{"$error":"#N/A"}},{"$f":"INDEX($D111:$I111,L$98)","v":{"$error":"#VALUE!"}},{"$f":"IF(ISERROR(1-L111/K111), 0, 1-L111/K111)","v":0}]
[null,null,"Calculated Relative to Design Standards (Column E)",{"$f":"+D111/$E$111","v":{"$error":"#N/A"}},{"$error":"#VALUE!"},{"$error":"#N/A"},{"$error":"#N/A"},{"$error":"#VALUE!"},{"$error":"#VALUE!"},null,{"$f":"INDEX($D112:$I112,K$98)","v":{"$error":"#N/A"}},{"$f":"INDEX($D112:$I112,L$98)","v":{"$error":"#VALUE!"}},0]
[null,null,"P(Crash)",{"$f":"+D112/(D112+1)","v":{"$error":"#N/A"}},{"$error":"#VALUE!"},{"$error":"#N/A"},{"$error":"#N/A"},{"$error":"#VALUE!"},{"$error":"#VALUE!"},null,{"$f":"INDEX($D113:$I113,K$98)","v":{"$error":"#N/A"}},{"$f":"INDEX($D113:$I113,L$98)","v":{"$error":"#VALUE!"}},0]
[null,null,"Factor Change on S curve",{"$f":"+D113/$E$113","v":{"$error":"#N/A"}},{"$error":"#VALUE!"},{"$error":"#N/A"},{"$error":"#N/A"},{"$error":"#VALUE!"},{"$error":"#VALUE!"},null,{"$f":"INDEX($D114:$I114,K$98)","v":{"$error":"#N/A"}},{"$f":"INDEX($D114:$I114,L$98)","v":{"$error":"#VALUE!"}},0]
[null,null,"Adjust to Scale of 100",{"$f":"+$I$114/D114*100","v":{"$error":"#VALUE!"}},{"$error":"#VALUE!"},{"$error":"#VALUE!"},{"$error":"#VALUE!"},{"$error":"#VALUE!"},{"$error":"#VALUE!"}]
[null,null,"Unadjusted Combined Relative to Standard",{"$f":"+D111/$E$111","v":{"$error":"#N/A"}},{"$error":"#VALUE!"},{"$error":"#N/A"},{"$error":"#N/A"},{"$error":"#VALUE!"},{"$error":"#VALUE!"},null,{"$f":"INDEX($D116:$I116,K$98)","v":{"$error":"#N/A"}},{"$f":"INDEX($D116:$I116,L$98)","v":{"$error":"#VALUE!"}},{"$f":"IF(ISERROR(1-L116/K116), 0, 1-L116/K116)","v":0}]
[null,null,null,null,null,null,null,null,null,{"$f":"I122/E122","v":{"$error":"#VALUE!"}}]
[null,null,"Adjusted for PA Basis",{"$f":"+D111*(1+1)/(1+D111*1)","v":{"$error":"#N/A"}},{"$error":"#VALUE!"},{"$error":"#N/A"},{"$error":"#N/A"},{"$f":"IF($I$2=\"Existing\",(D118),(IF($I$2=\"Design 1\",(F118),(IF($I$2=\"Design 2\",(G118),(IF($I$2=\"Optimal\",(I118),E118)))))))","v":{"$error":"#VALUE!"}},{"$error":"#VALUE!"},null,{"$f":"INDEX($D118:$I118,K$98)","v":{"$error":"#N/A"}},{"$f":"INDEX($D118:$I118,L$98)","v":{"$error":"#VALUE!"}},{"$f":"IF(ISERROR(1-L118/K118), 0, 1-L118/K118)","v":0}]
[null,null,"Corrected by Odds Ratio",{"$f":"+D118/$E$118","v":{"$error":"#N/A"}},{"$error":"#VALUE!"},{"$error":"#N/A"},{"$error":"#N/A"},{"$f":"IF($I$2=\"Existing\",(D119),(IF($I$2=\"Design 1\",(F119),(IF($I$2=\"Design 2\",(G119),(IF($I$2=\"Optimal\",(I119),E119)))))))","v":{"$error":"#VALUE!"}},{"$error":"#VALUE!"},null,{"$f":"INDEX($D119:$I119,K$98)","v":{"$error":"#N/A"}},{"$f":"INDEX($D119:$I119,L$98)","v":{"$error":"#VALUE!"}},0]
[null,null,"Pinned s",{"$f":"(1/D119)^$D123","v":{"$error":"#N/A"}},{"$error":"#VALUE!"},{"$error":"#N/A"},{"$error":"#N/A"},{"$error":"#VALUE!"},{"$error":"#VALUE!"},{"$f":"I125/E125","v":{"$error":"#VALUE!"}},{"$f":"INDEX($D120:$I120,K$98)","v":{"$error":"#N/A"}},{"$f":"INDEX($D120:$I120,L$98)","v":{"$error":"#VALUE!"}},0]
[null,null,null,{"$f":"(D120+$F124-1)/(1+(D120+$F124-1))","v":{"$error":"#N/A"}},{"$error":"#VALUE!"},{"$error":"#N/A"},{"$error":"#N/A"},{"$error":"#VALUE!"},{"$error":"#VALUE!"},null,{"$f":"INDEX($D121:$I121,K$98)","v":{"$error":"#N/A"}},{"$f":"INDEX($D121:$I121,L$98)","v":{"$error":"#VALUE!"}},0]
[null,null,"Score Odds Ratio with Optimal (old)",{"$f":"MIN(ROUND($I$119/D119*Construction!$I$8,0),$I122)","v":{"$error":"#VALUE!"}},{"$f":"MIN(ROUND($I$119/E119*Construction!$I$8,0),$I122)","v":{"$error":"#VALUE!"}},{"$f":"MIN(ROUND($I$119/F119*Construction!$I$8,0),$I122)","v":{"$error":"#VALUE!"}},{"$f":"MIN(ROUND($I$119/G119*Construction!$I$8,0),$I122)","v":{"$error":"#VALUE!"}},{"$f":"IF($I$2=\"Existing\",(D122),(IF($I$2=\"Design 1\",(F122),(IF($I$2=\"Design 2\",(G122),(IF($I$2=\"Optimal\",(I122),E122)))))))","v":{"$error":"#VALUE!"}},{"$f":"ROUND($I$119/I119*Construction!$I$8,0)","v":{"$error":"#VALUE!"}}]
[null,null,"Logistic1",{"$f":"LN((D124/(1-D124))/(0.5/0.5))/LN($E119/I119)","v":{"$error":"#VALUE!"}}]
[null,null,"Logistic Param",0.999,null,{"$f":"0.7/0.3","v":2.3333333333333335}]
[null,null,"Score ",{"$f":"MIN(ROUND(D121*Construction!$I$8,0),$I122)","v":{"$error":"#N/A"}},{"$f":"MIN(ROUND(E121*Construction!$I$8,0),$I122)","v":{"$error":"#VALUE!"}},{"$f":"MIN(ROUND(F121*Construction!$I$8,0),$I122)","v":{"$error":"#N/A"}},{"$f":"MIN(ROUND(G121*Construction!$I$8,0),$I122)","v":{"$error":"#N/A"}},{"$f":"MIN(ROUND(H121*Construction!$I$8,0),$I122)","v":{"$error":"#VALUE!"}},{"$f":"MIN(ROUND(I121*Construction!$I$8,0),$I122)","v":{"$error":"#VALUE!"}}]
[]
[null,null,"HC and Grade",{"$f":"IF($B$135,0,1)","v":1},{"$f":"IF($B$135,0,1)","v":1},{"$f":"IF($B$135,0,1)","v":1},{"$f":"IF($B$135,0,1)","v":1},{"$f":"IF($I$2=\"Existing\",(D127),(IF($I$2=\"Design 1\",(F127),(IF($I$2=\"Design 2\",(G127),(IF($I$2=\"Optimal\",(I127),E127)))))))","v":1},{"$f":"IF($B$135,0,1)","v":1}]
[null,null,"HC and VC Crest type I",{"$f":"IF(AND($B$135=1,SIGN(D$36)=1,ABS(D$36)<=ABS(D$36-D$37),D$42=\"Crest\"),1,0)","v":0},{"$f":"IF(AND($B$135=1, SIGN(IF(ISNUMBER(E$36),E$36,0))=1,ABS(IF(ISNUMBER(E$36),E$36,0)) <= ABS(IF(ISNUMBER(E$36),E$36,0)-IF(ISNUMBER(E$37),E$37,0)),E$42=\"Crest\"),1,0)","v":0},{"$f":"IF(AND($B$135=1,SIGN(F$36)=1,ABS(F$36)<=ABS(F$36-F$37),F$42=\"Crest\"),1,0)","v":0},{"$f":"IF(AND($B$135=1,SIGN(G$36)=1,ABS(G$36)<=ABS(G$36-G$37),G$42=\"Crest\"),1,0)","v":0},{"$f":"IF($I$2=\"Existing\",(D128),(IF($I$2=\"Design 1\",(F128),(IF($I$2=\"Design 2\",(G128),(IF($I$2=\"Optimal\",(I128),E128)))))))","v":0},{"$f":"IF(AND($B$135=1,SIGN(I$36)=1,ABS(I$36)<=ABS(I$36-IF(ISNUMBER(I$37), I$37,0)),I$42=\"Crest\"),1,0)","v":{"$error":"#VALUE!"}}]
["HC?",null,"HC and VC Sag type I",{"$f":"IF(AND($B$135=1,SIGN(D$36)=1,ABS(D$36)<=ABS(D$36-D$37),D$42=\"Sag\"),1,0)","v":0},{"$f":"IF(AND($B$135=1, SIGN(IF(ISNUMBER(E$36),E$36,0))=1,ABS(IF(ISNUMBER(E$36),E$36,0)) <= ABS(IF(ISNUMBER(E$36),E$36,0)-IF(ISNUMBER(E$37),E$37,0)),E$42=\"Sag\"),1,0)","v":0},{"$f":"IF(AND($B$135=1,SIGN(F$36)=1,ABS(F$36)<=ABS(F$36-F$37),F$42=\"Sag\"),1,0)","v":0},{"$f":"IF(AND($B$135=1,SIGN(G$36)=1,ABS(G$36)<=ABS(G$36-G$37),G$42=\"Sag\"),1,0)","v":0},{"$f":"IF($I$2=\"Existing\",(D129),(IF($I$2=\"Design 1\",(F129),(IF($I$2=\"Design 2\",(G129),(IF($I$2=\"Optimal\",(I129),E129)))))))","v":0},{"$f":"IF(AND($B$135=1,SIGN(I$36)=1,ABS(I$36)<=ABS(I$36-IF(ISNUMBER(I$37), I$37,0)),I$42=\"Sag\"),1,0)","v":{"$error":"#VALUE!"}}]
["VC?",null,"HC and VC Crest type II",{"$f":"IF(AND($B$135=1,D$42=\"Crest\",D$128=0),1,0)","v":0},{"$f":"IF(AND($B$135=1,E$42=\"Crest\",E$128=0),1,0)","v":0},{"$f":"IF(AND($B$135=1,F$42=\"Crest\",F$128=0),1,0)","v":0},{"$f":"IF(AND($B$135=1,G$42=\"Crest\",G$128=0),1,0)","v":0},{"$f":"IF($I$2=\"Existing\",(D130),(IF($I$2=\"Design 1\",(F130),(IF($I$2=\"Design 2\",(G130),(IF($I$2=\"Optimal\",(I130),E130)))))))","v":0},{"$f":"IF(AND($B$135=1,I$42=\"Crest\",I$128=0),1,0)","v":{"$error":"#VALUE!"}}]
[null,null,"HC and VC Sag type II",{"$f":"IF(AND($B$135=1,D$42=\"Sag\",D$129=0),1,0)","v":0},{"$f":"IF(AND($B$135=1,E$42=\"Sag\",E$129=0),1,0)","v":0},{"$f":"IF(AND($B$135=1,F$42=\"Sag\",F$129=0),1,0)","v":0},{"$f":"IF(AND($B$135=1,G$42=\"Sag\",G$129=0),1,0)","v":0},{"$f":"IF($I$2=\"Existing\",(D131),(IF($I$2=\"Design 1\",(F131),(IF($I$2=\"Design 2\",(G131),(IF($I$2=\"Optimal\",(I131),E131)))))))","v":0},{"$f":"IF(AND($B$135=1,I$42=\"Sag\",I$129=0),1,0)","v":{"$error":"#VALUE!"}}]
[null,"Yes/No"]
[null,null,"HC and VC:",null,{"$f":"EXP(0.042*ABS(D$36)+$B$134*0.16*LN(2*5730/IF(ISNUMBER(E$29),E$29,1)))","v":1}]
[null,{"$f":"IF(B27=\"Yes\",1,0)","v":0},"HC and Grade",{"$f":"IF($B$135=0,EXP(0.042*ABS(D$36)+$B$134*0.16*LN(2*5730/D$141)+4.16*$B$134/D$141/IF(ISNUMBER(D$30),D$30,999999)),1)","v":1},{"$f":"IF($B$135=0,EXP(0.042*ABS(E$36)+$B$134*0.16*LN(2*5730/E$141)+4.16*$B$134/E$141/IF(ISNUMBER(E$30),E$30,999999)),1)","v":{"$error":"#VALUE!"}},1,1,{"$f":"IF($B$135=0,EXP(0.042*ABS(H$36)+$B$134*0.16*LN(2*5730/IF(ISNUMBER(H$29),H$29,1))+4.16*$B$134/IF(ISNUMBER(H$29),H$29,1)/IF(ISNUMBER(H$30),H$30,1)),1)","v":{"$error":"#DIV/0!"}},{"$error":"#VALUE!"},null,{"$f":"INDEX($D134:$I134,K$98)","v":1},{"$f":"INDEX($D134:$I134,L$98)","v":{"$error":"#VALUE!"}},{"$f":"IF(ISERROR(1-L134/K134), 0, 1-L134/K134)","v":0}]
[null,{"$f":"IF(B34=\"Yes\",1,0)","v":0},"HC and VC Crest type I",{"$f":"IF($B$135=0,1,EXP(0.005648908*5730*ABS(+D$36-D$37)*$B$135/D$141*$B$134))","v":1},{"$f":"IF($B$135=0,1,EXP(0.005648908*5730*ABS(+E$36-E$37)*$B$135/E$141*$B$134))","v":1},1,1,{"$f":"IF($I$2=\"Existing\",(D135),(IF($I$2=\"Design 1\",(F135),(IF($I$2=\"Design 2\",(G135),(IF($I$2=\"Optimal\",(I135),E135)))))))","v":1},1,null,{"$f":"INDEX($D135:$I135,K$98)","v":1},{"$f":"INDEX($D135:$I135,L$98)","v":1},0]
[null,null,"HC and VC Sag type I",{"$f":"IF($B$135=0,1,EXP(9.15857042*$B$135/D$142+0.010284958*5730*$B$135*$B$134*ABS(+D$36-D$37)/D$141))","v":1},{"$f":"IF($B$135=0,1,EXP(9.15857042*$B$135/E$142+0.010284958*5730*$B$135*$B$134*ABS(+E$36-E$37)/E$141))","v":1},1,1,{"$f":"IF($I$2=\"Existing\",(D136),(IF($I$2=\"Design 1\",(F136),(IF($I$2=\"Design 2\",(G136),(IF($I$2=\"Optimal\",(I136),E136)))))))","v":1},1,null,{"$f":"INDEX($D136:$I136,K$98)","v":1},{"$f":"INDEX($D136:$I136,L$98)","v":1},0]
[null,null,"HC and VC Crest type II",{"$f":"IF($B$135=0,1,EXP(0.005648908*5730*ABS(+D$36-D$37)*$B$135/D$141*$B$134))","v":1},{"$f":"IF($B$135=0,1,EXP(0.005648908*5730*ABS(+E$36-E$37)*$B$135/E$141*$B$134))","v":1},1,1,{"$f":"IF($I$2=\"Existing\",(D137),(IF($I$2=\"Design 1\",(F137),(IF($I$2=\"Design 2\",(G137),(IF($I$2=\"Optimal\",(I137),E137)))))))","v":1},1,null,{"$f":"INDEX($D137:$I137,K$98)","v":1},{"$f":"INDEX($D137:$I137,L$98)","v":1},0]
[null,null,"HC and VC Sag type II",{"$f":"IF($B$135=0,1,(0.246011284*EXP(LN(0.188*2*5730/D$141)*$B$134)+0.7514288716*EXP(0.022*5730/D$141*ABS(D$36-D$37)*$B$135*$B$134)))","v":1},{"$f":"IF($B$135=0,1,(0.246011284*EXP(LN(0.188*2*5730/E$141)*$B$134)+0.7514288716*EXP(0.022*5730/E$141*ABS(E$36-E$37)*$B$135*$B$134)))","v":1},1,1,{"$f":"IF($I$2=\"Existing\",(D138),(IF($I$2=\"Design 1\",(F138),(IF($I$2=\"Design 2\",(G138),(IF($I$2=\"Optimal\",(I138),E138)))))))","v":1},1,null,{"$f":"INDEX($D138:$I138,K$98)","v":1},{"$f":"INDEX($D138:$I138,L$98)","v":1},0]
[]
[null,null,"Combined HZ and VT",{"$f":"MMULT(TRANSPOSE(D127:D131),D134:D138)","v":1},{"$f":"MMULT(TRANSPOSE(E127:E131),E134:E138)","v":{"$error":"#VALUE!"}},{"$f":"MMULT(TRANSPOSE(F127:F131),F134:F138)","v":1},{"$f":"MMULT(TRANSPOSE(G127:G131),G134:G138)","v":1},{"$f":"IF($I$2=\"Existing\",(D140),(IF($I$2=\"Design 1\",(F140),(IF($I$2=\"Design 2\",(G140),(IF($I$2=\"Optimal\",(I140),E140)))))))","v":{"$error":"#VALUE!"}},{"$f":"MMULT(TRANSPOSE(I127:I131),I134:I138)","v":{"$error":"#VALUE!"}},null,{"$f":"INDEX($D140:$I140,K$98)","v":1},{"$f":"INDEX($D140:$I140,L$98)","v":{"$error":"#VALUE!"}},{"$f":"IF(ISERROR(1-L140/K140), 0, 1-L140/K140)","v":0}]
[null,null,"effective R for calculation",{"$f":"IF(ISNUMBER(D29), D29, 99999999)","v":99999999},{"$f":"IF(ISNUMBER(E29), E29, 99999999)","v":590},99999999,99999999,null,590]
[null,null,"effective K for calculation",{"$f":"IF(ISNUMBER(D39), D39, 9999999)","v":9999999},{"$f":"IF(ISNUMBER(E39), E39, 9999999)","v":9999999},9999999,9999999,null,9999999]
[null,"Traffic"]
[null,null,null,"Existing","Standard","Design 1","Design 2"]
[null,null,"Advance static curve warning signs",{"$f":"IF(AND($B$27=\"Yes\",D$52=\"Yes\"),(Traffic!$F$4-1)*AVERAGE(Constraints!$F$37,Constraints!$H$37)/Constraints!$D$37+1,1)","v":1},{"$f":"IF(AND($B$27=\"Yes\",E$52=\"Yes\"),(Traffic!$F$4-1)*AVERAGE(Constraints!$F$37,Constraints!$H$37)/Constraints!$D$37+1,1)","v":1},{"$f":"IF(AND($B$27=\"Yes\",F$52=\"Yes\"),(Traffic!$F$4-1)*AVERAGE(Constraints!$F$37,Constraints!$H$37)/Constraints!$D$37+1,1)","v":1},{"$f":"IF(AND($B$27=\"Yes\",G$52=\"Yes\"),(Traffic!$F$4-1)*AVERAGE(Constraints!$F$37,Constraints!$H$37)/Constraints!$D$37+1,1)","v":1},{"$f":"IF($I$2=\"Existing\",(D145),(IF($I$2=\"Design 1\",(F145),(IF($I$2=\"Design 2\",(G145),(IF($I$2=\"Optimal\",(I145),E145)))))))","v":1},{"$f":"IF(AND($B$27=\"Yes\",I$52=\"Yes\"),(Traffic!$F$4-1)*AVERAGE(Constraints!$F$37,Constraints!$H$37)/Constraints!$D$37+1,1)","v":1},null,{"$f":"INDEX($D145:$I145,K$98)","v":1},{"$f":"INDEX($D145:$I145,L$98)","v":1},{"$f":"IF(ISERROR(1-L145/K145), 0, 1-L145/K145)","v":0}]
[null,null,"Install chevron signs on horizontal curves",{"$f":"IF(D$53=\"No\",1,(IF(AND($B$27=\"Yes\",D$24<11.5),((Traffic!$F$6-1)*(Constraints!$E$35+Constraints!$E$31))+1,1)))","v":1},{"$f":"IF(E$53=\"No\",1,(IF(AND($B$27=\"Yes\",E$24<11.5),((Traffic!$F$6-1)*(Constraints!$E$35+Constraints!$E$31))+1,1)))","v":1},{"$f":"IF(F$53=\"No\",1,(IF(AND($B$27=\"Yes\",F$24<11.5),((Traffic!$F$6-1)*(Constraints!$E$35+Constraints!$E$31))+1,1)))","v":1},{"$f":"IF(G$53=\"No\",1,(IF(AND($B$27=\"Yes\",G$24<11.5),((Traffic!$F$6-1)*(Constraints!$E$35+Constraints!$E$31))+1,1)))","v":1},{"$f":"IF($I$2=\"Existing\",(D146),(IF($I$2=\"Design 1\",(F146),(IF($I$2=\"Design 2\",(G146),(IF($I$2=\"Optimal\",(I146),E146)))))))","v":1},{"$f":"IF(I$53=\"No\",1,(IF(AND($B$27=\"Yes\",I$24<11.5),((Traffic!$F$6-1)*(Constraints!$E$35+Constraints!$E$31))+1,1)))","v":1},null,{"$f":"INDEX($D146:$I146,K$98)","v":1},{"$f":"INDEX($D146:$I146,L$98)","v":1},0]
[null,null,"Install post-mounted delineators",{"$f":"IF(AND($B$27=\"Yes\",D$54=\"Yes\"),(Traffic!$F$12-1)*Constraints!$E$36+1,1)","v":1},{"$f":"IF(AND($B$27=\"Yes\",E$54=\"Yes\"),(Traffic!$F$12-1)*Constraints!$E$36+1,1)","v":1},{"$f":"IF(AND($B$27=\"Yes\",F$54=\"Yes\"),(Traffic!$F$12-1)*Constraints!$E$36+1,1)","v":1},{"$f":"IF(AND($B$27=\"Yes\",G$54=\"Yes\"),(Traffic!$F$12-1)*Constraints!$E$36+1,1)","v":1},{"$f":"IF($I$2=\"Existing\",(D147),(IF($I$2=\"Design 1\",(F147),(IF($I$2=\"Design 2\",(G147),(IF($I$2=\"Optimal\",(I147),E147)))))))","v":1},{"$f":"IF(AND($B$27=\"Yes\",I$54=\"Yes\"),(Traffic!$F$12-1)*Constraints!$E$36+1,1)","v":1},null,{"$f":"INDEX($D147:$I147,K$98)","v":1},{"$f":"INDEX($D147:$I147,L$98)","v":1},0]
[null,null,"Install edgeline  or Profile pavement markings ",{"$f":"IF(D$55=\"Yes\",Traffic!$F$18*0.5+((Traffic!$F$20*(Constraints!$H$36+Constraints!$H$32)+1*(Constraints!$H$37-(Constraints!$H$36+Constraints!$H$32)))/Constraints!$H$37)*0.5,1)","v":1},{"$f":"IF(E$55=\"Yes\",Traffic!$F$18*0.5+((Traffic!$F$20*(Constraints!$H$36+Constraints!$H$32)+1*(Constraints!$H$37-(Constraints!$H$36+Constraints!$H$32)))/Constraints!$H$37)*0.5,1)","v":0.86175881308648239},{"$f":"IF(F$55=\"Yes\",Traffic!$F$18*0.5+((Traffic!$F$20*(Constraints!$H$36+Constraints!$H$32)+1*(Constraints!$H$37-(Constraints!$H$36+Constraints!$H$32)))/Constraints!$H$37)*0.5,1)","v":1},{"$f":"IF(G$55=\"Yes\",Traffic!$F$18*0.5+((Traffic!$F$20*(Constraints!$H$36+Constraints!$H$32)+1*(Constraints!$H$37-(Constraints!$H$36+Constraints!$H$32)))/Constraints!$H$37)*0.5,1)","v":1},{"$f":"IF($I$2=\"Existing\",(D148),(IF($I$2=\"Design 1\",(F148),(IF($I$2=\"Design 2\",(G148),(IF($I$2=\"Optimal\",(I148),E148)))))))","v":0.86175881308648239},{"$f":"IF(I$55=\"Yes\",Traffic!$F$18*0.5+((Traffic!$F$20*(Constraints!$H$36+Constraints!$H$32)+1*(Constraints!$H$37-(Constraints!$H$36+Constraints!$H$32)))/Constraints!$H$37)*0.5,1)","v":0.86175881308648239},null,{"$f":"INDEX($D148:$I148,K$98)","v":1},{"$f":"INDEX($D148:$I148,L$98)","v":0.86175881308648239},0.13824118691351761]
[null,null,"Profiles",1,1,1,1,1,1,null,{"$f":"INDEX($D149:$I149,K$98)","v":1},{"$f":"INDEX($D149:$I149,L$98)","v":1},0]
[null,null,"Shoulder rumble strips",{"$f":"IF(D$56=\"No\",1,(Traffic!$F$27*(Constraints!$H$36+Constraints!$H$32)+1*(Constraints!$H$37-(Constraints!$H$36+Constraints!$H$32)))/Constraints!$H$37)","v":0.89760950690192376},{"$f":"IF(E$56=\"No\",1,(Traffic!$F$27*(Constraints!$H$36+Constraints!$H$32)+1*(Constraints!$H$37-(Constraints!$H$36+Constraints!$H$32)))/Constraints!$H$37)","v":0.89760950690192376},{"$f":"IF(F$56=\"No\",1,(Traffic!$F$27*(Constraints!$H$36+Constraints!$H$32)+1*(Constraints!$H$37-(Constraints!$H$36+Constraints!$H$32)))/Constraints!$H$37)","v":0.89760950690192376},{"$f":"IF(G$56=\"No\",1,(Traffic!$F$27*(Constraints!$H$36+Constraints!$H$32)+1*(Constraints!$H$37-(Constraints!$H$36+Constraints!$H$32)))/Constraints!$H$37)","v":0.89760950690192376},{"$f":"IF($I$2=\"Existing\",(D150),(IF($I$2=\"Design 1\",(F150),(IF($I$2=\"Design 2\",(G150),(IF($I$2=\"Optimal\",(I150),E150)))))))","v":0.89760950690192376},{"$f":"IF(I$56=\"No\",1,(Traffic!$F$27*(Constraints!$H$36+Constraints!$H$32)+1*(Constraints!$H$37-(Constraints!$H$36+Constraints!$H$32)))/Constraints!$H$37)","v":0.89760950690192376},null,{"$f":"INDEX($D150:$I150,K$98)","v":0.89760950690192376},{"$f":"INDEX($D150:$I150,L$98)","v":0.89760950690192376},0]
[null,null,"Install centerline rumble strips",{"$f":"IF(D$57=\"No\",1,Traffic!$F$30)","v":0.86},{"$f":"IF(E$57=\"No\",1,Traffic!$F$30)","v":1},{"$f":"IF(F$57=\"No\",1,Traffic!$F$30)","v":0.86},{"$f":"IF(G$57=\"No\",1,Traffic!$F$30)","v":0.86},{"$f":"IF($I$2=\"Existing\",(D151),(IF($I$2=\"Design 1\",(F151),(IF($I$2=\"Design 2\",(G151),(IF($I$2=\"Optimal\",(I151),E151)))))))","v":1},{"$f":"IF(I$57=\"No\",1,Traffic!$F$30)","v":0.86},null,{"$f":"INDEX($D151:$I151,K$98)","v":0.86},{"$f":"INDEX($D151:$I151,L$98)","v":1},-0.16279069767441867]
[null,null,"Driveway Density (driveways per mile)",{"$f":"EXP(-LN(Traffic!$F$32)*(D$58-$E$58))","v":0.81707280688754669},{"$f":"EXP(-LN(Traffic!$F$32)*(E$58-$E$58))","v":1},{"$f":"EXP(-LN(Traffic!$F$32)*(F$58-$E$58))","v":0.81707280688754669},{"$f":"EXP(-LN(Traffic!$F$32)*(G$58-$E$58))","v":0.81707280688754669},{"$f":"IF($I$2=\"Existing\",(D152),(IF($I$2=\"Design 1\",(F152),(IF($I$2=\"Design 2\",(G152),(IF($I$2=\"Optimal\",(I152),E152)))))))","v":1},{"$f":"EXP(-LN(Traffic!$F$32)*(I$58-$E$58))","v":0.81707280688754669},null,{"$f":"INDEX($D152:$I152,K$98)","v":0.81707280688754669},{"$f":"INDEX($D152:$I152,L$98)","v":1},-0.22388114201141129]
[null,null,"Install lighting",{"$f":"IF(D$59=\"No\",1,1-(((1-Traffic!$F$55*Constraints!$H$37-Constraints!$F$37/3)+((1-Traffic!$F$55*Constraints!$D$37-Constraints!$H$37)))*$S$19+((1-Traffic!$F$57)*Constraints!$F$37/3))/Constraints!$D$37)","v":0.977040446881142},{"$f":"IF(E$59=\"No\",1,1-(((1-Traffic!$F$55*Constraints!$H$37-Constraints!$F$37/3)+((1-Traffic!$F$55*Constraints!$D$37-Constraints!$H$37)))*$S$19+((1-Traffic!$F$57)*Constraints!$F$37/3))/Constraints!$D$37)","v":1},{"$f":"IF(F$59=\"No\",1,1-(((1-Traffic!$F$55*Constraints!$H$37-Constraints!$F$37/3)+((1-Traffic!$F$55*Constraints!$D$37-Constraints!$H$37)))*$S$19+((1-Traffic!$F$57)*Constraints!$F$37/3))/Constraints!$D$37)","v":0.977040446881142},{"$f":"IF(G$59=\"No\",1,1-(((1-Traffic!$F$55*Constraints!$H$37-Constraints!$F$37/3)+((1-Traffic!$F$55*Constraints!$D$37-Constraints!$H$37)))*$S$19+((1-Traffic!$F$57)*Constraints!$F$37/3))/Constraints!$D$37)","v":0.977040446881142},{"$f":"IF($I$2=\"Existing\",(D153),(IF($I$2=\"Design 1\",(F153),(IF($I$2=\"Design 2\",(G153),(IF($I$2=\"Optimal\",(I153),E153)))))))","v":1},{"$f":"IF(I$59=\"No\",1,1-(((1-Traffic!$F$55*Constraints!$H$37-Constraints!$F$37/3)+((1-Traffic!$F$55*Constraints!$D$37-Constraints!$H$37)))*$S$19+((1-Traffic!$F$57)*Constraints!$F$37/3))/Constraints!$D$37)","v":0.977040446881142},null,{"$f":"INDEX($D153:$I153,K$98)","v":0.977040446881142},{"$f":"INDEX($D153:$I153,L$98)","v":1},-2.3499081529478438E-2]
[null,null,"Pavement friction (skid number)",{"$f":"EXP(LN(Traffic!$F$49)*(D$60-$E$60))","v":1.3972521419325798},{"$f":"EXP(LN(Traffic!$F$49)*(E$60-$E$60))","v":1},{"$f":"IF(MATCH(F60,SkidNums,0)=3, $D154,EXP(LN(Traffic!$F$49)*(RIGHT(F$60,2)-$E$60)))","v":{"$error":"#N/A"}},{"$f":"IF(MATCH(G60,SkidNums,0)=3, $D154,EXP(LN(Traffic!$F$49)*(RIGHT(G$60,2)-$E$60)))","v":{"$error":"#N/A"}},{"$f":"IF($I$2=\"Existing\",(D154),(IF($I$2=\"Design 1\",(F154),(IF($I$2=\"Design 2\",(G154),(IF($I$2=\"Optimal\",(I154),E154)))))))","v":1},{"$f":"EXP(LN(Traffic!$F$49)*(I$60-$E$60))","v":0.85753553626991963},null,{"$f":"INDEX($D154:$I154,K$98)","v":1.3972521419325798},{"$f":"INDEX($D154:$I154,L$98)","v":1},0.28430956017940245]
[]
[]
[null,null,"COMBINED Calculated CMF",{"$f":"+D145*D146*D147*D148*D149*D150*D151*D152*D153*D154","v":0.86106111787419426},{"$f":"+E145*E146*E147*E148*E149*E150*E151*E152*E153*E154","v":0.7735229032829446},{"$f":"+F145*F146*F147*F148*F149*F150*F151*F152*F153*F154","v":{"$error":"#N/A"}},{"$f":"+G145*G146*G147*G148*G149*G150*G151*G152*G153*G154","v":{"$error":"#N/A"}},{"$f":"IF($I$2=\"Existing\",(D157),(IF($I$2=\"Design 1\",(F157),(IF($I$2=\"Design 2\",(G157),(IF($I$2=\"Optimal\",(I157),E157)))))))","v":0.7735229032829446},{"$f":"+I145*I146*I147*I148*I149*I150*I151*I152*I153*I154","v":0.45540422392050506},null,{"$f":"INDEX($D157:$I157,K$98)","v":0.86106111787419426},{"$f":"INDEX($D157:$I157,L$98)","v":0.7735229032829446},{"$f":"IF(ISERROR(1-L157/K157), 0, 1-L157/K157)","v":0.10166318368592209}]
[null,null,"Calculated Relative to Design Standards (Column E)",{"$f":"+D157/$E$157","v":1.1131682258142903},{"$f":"+E157/$E$157","v":1},{"$f":"+F157/$E$157","v":{"$error":"#N/A"}},{"$f":"+G157/$E$157","v":{"$error":"#N/A"}},1,{"$f":"+I157/$E$157","v":0.58874045227064742},null,{"$f":"INDEX($D158:$I158,K$98)","v":1.1131682258142903},{"$f":"INDEX($D158:$I158,L$98)","v":1},0.1016631836859222]
[null,null,"P(Crash)",{"$f":"+D158/(D158+1)","v":0.52677690882151185},{"$f":"+E158/(E158+1)","v":0.5},{"$f":"+F158/(F158+1)","v":{"$error":"#N/A"}},{"$f":"+G158/(G158+1)","v":{"$error":"#N/A"}},0.5,{"$f":"+I158/(I158+1)","v":0.37057056829465901}]
[null,null,"Factor Change on S curve",{"$f":"+D159/$E$159","v":1.0535538176430237},{"$f":"+E159/$E$159","v":1},{"$f":"+F159/$E$159","v":{"$error":"#N/A"}},{"$f":"+G159/$E$159","v":{"$error":"#N/A"}},1,{"$f":"+I159/$E$159","v":0.74114113658931802}]
[null,null,"Adjust to Scale of 100",{"$f":"+$I$114/D160*100","v":{"$error":"#VALUE!"}},{"$f":"+$I$114/E160*100","v":{"$error":"#VALUE!"}},{"$f":"+$I$114/F160*100","v":{"$error":"#VALUE!"}},{"$f":"+$I$114/G160*100","v":{"$error":"#VALUE!"}},{"$error":"#VALUE!"},{"$f":"+$I$114/I160*100","v":{"$error":"#VALUE!"}}]
[null,null,"Unadjusted Combined Relative to Standard",{"$f":"+D157/$E$157","v":1.1131682258142903},{"$f":"+E157/$E$157","v":1},{"$f":"+F157/$E$157","v":{"$error":"#N/A"}},{"$f":"+G157/$E$157","v":{"$error":"#N/A"}},1,{"$f":"+I157/$E$157","v":0.58874045227064742}]
[null,null,null,null,null,null,null,0,null,{"$f":"I168/E168","v":1.4285714285714286}]
[null,null,"Adjusted for PA Basis",{"$f":"+D157*(1+1)/(1+D157*1)","v":0.92534426688549098},{"$f":"+E157*(1+1)/(1+E157*1)","v":0.8723010025425515},{"$f":"+F157*(1+1)/(1+F157*1)","v":{"$error":"#N/A"}},{"$f":"+G157*(1+1)/(1+G157*1)","v":{"$error":"#N/A"}},0.8723010025425515,{"$f":"+I157*(1+1)/(1+I157*1)","v":0.62581132641453641}]
[null,null,"Corrected by Odds Ratio",{"$f":"+D164/$E$164","v":1.0608084413388623},{"$f":"+E164/$E$164","v":1},{"$f":"+F164/$E$164","v":{"$error":"#N/A"}},{"$f":"+G164/$E$164","v":{"$error":"#N/A"}},1,{"$f":"+I164/$E$164","v":0.71742589380322175}]
[null,null,null,{"$f":"(1/D165)^$D169","v":0.29295399474123779},1,{"$error":"#N/A"},{"$error":"#N/A"},1,998.99999999999955,{"$f":"I171/E171","v":1.4285714285714286}]
[null,null,null,{"$f":"(D166+$F170-1)/(1+(D166+$F170-1))","v":0.61923435059440457},0.70000000000000007,{"$error":"#N/A"},{"$error":"#N/A"},0.70000000000000007,0.99900133155792281]
[null,null,"Score Odds Ratio with Optimal as 100 (old)",{"$f":"MIN(ROUND($I$165/D165*Construction!$I$9,0),$I168)","v":14},{"$f":"MIN(ROUND($I$165/E165*Construction!$I$9,0),$I168)","v":14},{"$f":"MIN(ROUND($I$165/F165*Construction!$I$9,0),$I168)","v":{"$error":"#N/A"}},{"$f":"MIN(ROUND($I$165/G165*Construction!$I$9,0),$I168)","v":{"$error":"#N/A"}},null,{"$f":"ROUND($I$165/I165*Construction!$I$9,0)","v":20}]
[null,null,"Logistic1",{"$f":"LN((D170/(1-D170))/(0.5/0.5))/LN($E165/I165)","v":20.798114554240879}]
[null,null,"Logistic Param",0.999,null,{"$f":"0.7/0.3","v":2.3333333333333335}]
[null,null,"Score ",{"$f":"MIN(ROUND(D167*Construction!$I$9,0),$I168)","v":12},{"$f":"MIN(ROUND(E167*Construction!$I$9,0),$I168)","v":14},{"$f":"MIN(ROUND(F167*Construction!$I$9,0),$I168)","v":{"$error":"#N/A"}},{"$f":"MIN(ROUND(G167*Construction!$I$9,0),$I168)","v":{"$error":"#N/A"}},null,{"$f":"MIN(ROUND(I167*Construction!$I$9,0),$I168)","v":20}]
[]
[]
[]
[]
[]
[]
[null,"Roadsde",null,"Existing","Standard","Design 1","Design 2"]
[null,null,null,{"$f":"MID(D72,FIND(\":\",D72,1)+1,FIND(\"H\",D72,1)-FIND(\":\",D72,1)-1)+0","v":{"$error":"#VALUE!"}},{"$f":"MID(E72,FIND(\":\",E72,1)+1,FIND(\"H\",E72,1)-FIND(\":\",E72,1)-1)+0","v":4},{"$f":"MID(F72,FIND(\":\",F72,1)+1,FIND(\"H\",F72,1)-FIND(\":\",F72,1)-1)+0","v":{"$error":"#VALUE!"}},{"$f":"MID(G72,FIND(\":\",G72,1)+1,FIND(\"H\",G72,1)-FIND(\":\",G72,1)-1)+0","v":{"$error":"#VALUE!"}},null,{"$f":"MID(I72,FIND(\":\",I72,1)+1,FIND(\"H\",I72,1)-FIND(\":\",I72,1)-1)+0","v":6},null,{"$f":"INDEX($D179:$I179,K$98)","v":{"$error":"#VALUE!"}},{"$f":"INDEX($D179:$I179,L$98)","v":4},{"$f":"IF(ISERROR(1-L179/K179), 0, 1-L179/K179)","v":0}]
[null,null,"Sideslope (Foreslope)",{"$f":"IF(D179<=3,1,IF(OR(D179=4,D179=5),(Roadside!$F$15-1)*Constraints!$H$37/Constraints!$D$37+1,(Roadside!$F$15*Roadside!$F$16-1)*Constraints!$H$37/Constraints!$D$37+1))","v":{"$error":"#VALUE!"}},{"$f":"IF(E179<=3,1,IF(OR(E179=4,E179=5),(Roadside!$F$15-1)*Constraints!$H$37/Constraints!$D$37+1,(Roadside!$F$15*Roadside!$F$16-1)*Constraints!$H$37/Constraints!$D$37+1))","v":0.8286893555394641},{"$f":"IF(F179<=3,1,IF(OR(F179=4,F179=5),(Roadside!$F$15-1)*Constraints!$H$37/Constraints!$D$37+1,(Roadside!$F$15*Roadside!$F$16-1)*Constraints!$H$37/Constraints!$D$37+1))","v":{"$error":"#VALUE!"}},{"$f":"IF(G179<=3,1,IF(OR(G179=4,G179=5),(Roadside!$F$15-1)*Constraints!$H$37/Constraints!$D$37+1,(Roadside!$F$15*Roadside!$F$16-1)*Constraints!$H$37/Constraints!$D$37+1))","v":{"$error":"#VALUE!"}},{"$f":"IF($I$2=\"Existing\",(D180),(IF($I$2=\"Design 1\",(F180),(IF($I$2=\"Design 2\",(G180),(IF($I$2=\"Optimal\",(I180),E180)))))))","v":0.8286893555394641},{"$f":"IF(I179<=3,1,IF(OR(I179=4,I179=5),(Roadside!$F$15-1)*Constraints!$H$37/Constraints!$D$37+1,(Roadside!$F$15*Roadside!$F$16-1)*Constraints!$H$37/Constraints!$D$37+1))","v":0.77664355022240605},null,{"$f":"INDEX($D180:$I180,K$98)","v":{"$error":"#VALUE!"}},{"$f":"INDEX($D180:$I180,L$98)","v":0.8286893555394641},0]
[null,null,"Backslope",1,1,1,1,{"$f":"IF($I$2=\"Existing\",(D181),(IF($I$2=\"Design 1\",(F181),(IF($I$2=\"Design 2\",(G181),(IF($I$2=\"Optimal\",(I181),E181)))))))","v":1},1,null,{"$f":"INDEX($D181:$I181,K$98)","v":1},{"$f":"INDEX($D181:$I181,L$98)","v":1},0]
[null,null,"SafetyEdge",{"$f":"IF(D$74=\"No\",1,(Roadside!$F$23-1)*AVERAGE(Constraints!$H$37,Constraints!$F$37)/Constraints!$D$37+1)","v":0.97258384193648495},{"$f":"IF(E$74=\"No\",1,(Roadside!$F$23-1)*AVERAGE(Constraints!$H$37,Constraints!$F$37)/Constraints!$D$37+1)","v":1},{"$f":"IF(F$74=\"No\",1,(Roadside!$F$23-1)*AVERAGE(Constraints!$H$37,Constraints!$F$37)/Constraints!$D$37+1)","v":0.97258384193648495},{"$f":"IF(G$74=\"No\",1,(Roadside!$F$23-1)*AVERAGE(Constraints!$H$37,Constraints!$F$37)/Constraints!$D$37+1)","v":0.97258384193648495},{"$f":"IF($I$2=\"Existing\",(D182),(IF($I$2=\"Design 1\",(F182),(IF($I$2=\"Design 2\",(G182),(IF($I$2=\"Optimal\",(I182),E182)))))))","v":1},{"$f":"IF(I$74=\"No\",1,(Roadside!$F$23-1)*AVERAGE(Constraints!$H$37,Constraints!$F$37)/Constraints!$D$37+1)","v":0.97258384193648495},null,{"$f":"INDEX($D182:$I182,K$98)","v":0.97258384193648495},{"$f":"INDEX($D182:$I182,L$98)","v":1},-2.8188991921691331E-2]
[null,null,"Lateral Clearance (ft)",{"$f":"IF($B$27=\"Yes\",((EXP(LN(Roadside!$F$11)*(IF(D$76=\"None\",40,D$75)-30)/30)-1))*Constraints!$H$36/Constraints!$D$37+1,((EXP(LN(Roadside!$F$10)*(IF(D$76=\"None\",40,D$75)-30)/30)-1))*Constraints!$H$36/Constraints!$D$37+1)","v":1.0992721491203288},{"$f":"IF($B$27=\"Yes\",((EXP(LN(Roadside!$F$11)*(IF(E$76=\"None\",40,E$75)-30)/30)-1))*Constraints!$H$36/Constraints!$D$37+1,((EXP(LN(Roadside!$F$10)*(IF(E$76=\"None\",40,E$75)-30)/30)-1))*Constraints!$H$36/Constraints!$D$37+1)","v":1},{"$f":"IF($B$27=\"Yes\",((EXP(LN(Roadside!$F$11)*(IF(F$76=\"None\",40,F$75)-30)/30)-1))*Constraints!$H$36/Constraints!$D$37+1,((EXP(LN(Roadside!$F$10)*(IF(F$76=\"None\",40,F$75)-30)/30)-1))*Constraints!$H$36/Constraints!$D$37+1)","v":1.0992721491203288},{"$f":"IF($B$27=\"Yes\",((EXP(LN(Roadside!$F$11)*(IF(G$76=\"None\",40,G$75)-30)/30)-1))*Constraints!$H$36/Constraints!$D$37+1,((EXP(LN(Roadside!$F$10)*(IF(G$76=\"None\",40,G$75)-30)/30)-1))*Constraints!$H$36/Constraints!$D$37+1)","v":1.0992721491203288},{"$f":"IF($I$2=\"Existing\",(D183),(IF($I$2=\"Design 1\",(F183),(IF($I$2=\"Design 2\",(G183),(IF($I$2=\"Optimal\",(I183),E183)))))))","v":1},{"$f":"IF($B$27=\"Yes\",((EXP(LN(Roadside!$F$11)*(IF(I$76=\"None\",40,I$75)-30)/30)-1))*Constraints!$H$36/Constraints!$D$37+1,((EXP(LN(Roadside!$F$10)*(IF(I$76=\"None\",40,I$75)-30)/30)-1))*Constraints!$H$36/Constraints!$D$37+1)","v":0.97455184373954995},null,{"$f":"INDEX($D183:$I183,K$98)","v":1.0992721491203288},{"$f":"INDEX($D183:$I183,L$98)","v":1},9.0307162971216326E-2]
[null,null,"Fixed Object Type",{"$f":"IF(D$76=\"Guardrail\",(Roadside!$F$25-1)*(($I$75-D$75)/$I$75)^2*Constraints!$H$36/Constraints!$D$37+1,1)","v":1},{"$f":"IF(E$76=\"Guardrail\",(Roadside!$F$25-1)*(($I$75-E$75)/$I$75)^2*Constraints!$H$36/Constraints!$D$37+1,1)","v":1},{"$f":"IF(F$76=\"Guardrail\",(Roadside!$F$25-1)*(($I$75-F$75)/$I$75)^2*Constraints!$H$36/Constraints!$D$37+1,1)","v":1},{"$f":"IF(G$76=\"Guardrail\",(Roadside!$F$25-1)*(($I$75-G$75)/$I$75)^2*Constraints!$H$36/Constraints!$D$37+1,1)","v":1},{"$f":"IF($I$2=\"Existing\",(D184),(IF($I$2=\"Design 1\",(F184),(IF($I$2=\"Design 2\",(G184),(IF($I$2=\"Optimal\",(I184),E184)))))))","v":1},{"$f":"IF(I$76=\"Guardrail\",(Roadside!$F$25-1)*(($I$75-I$75)/$I$75)^2*Constraints!$H$36/Constraints!$D$37+1,1)","v":1},null,{"$f":"INDEX($D184:$I184,K$98)","v":1},{"$f":"INDEX($D184:$I184,L$98)","v":1},0]
[]
[]
[null,null,"COMBINED Calculated CMF",{"$f":"+D180*D181*D182*D183*D184","v":{"$error":"#VALUE!"}},{"$f":"+E180*E181*E182*E183*E184","v":0.8286893555394641},{"$f":"+F180*F181*F182*F183*F184","v":{"$error":"#VALUE!"}},{"$f":"+G180*G181*G182*G183*G184","v":{"$error":"#VALUE!"}},{"$f":"IF($I$2=\"Existing\",(D187),(IF($I$2=\"Design 1\",(F187),(IF($I$2=\"Design 2\",(G187),(IF($I$2=\"Optimal\",(I187),E187)))))))","v":0.8286893555394641},{"$f":"+I180*I181*I182*I183*I184","v":0.73612867842813945}]
[null,null,"Calculated Relative to Design Standards (Column E)",{"$f":"+D187/$E$187","v":{"$error":"#VALUE!"}},{"$f":"+E187/$E$187","v":1},{"$f":"+F187/$E$187","v":{"$error":"#VALUE!"}},{"$f":"+G187/$E$187","v":{"$error":"#VALUE!"}},1,{"$f":"+I187/$E$187","v":0.88830473507039431}]
[null,null,"P(Crash)",{"$f":"+D188/(D188+1)","v":{"$error":"#VALUE!"}},{"$f":"+E188/(E188+1)","v":0.5},{"$f":"+F188/(F188+1)","v":{"$error":"#VALUE!"}},{"$f":"+G188/(G188+1)","v":{"$error":"#VALUE!"}},0.5,{"$f":"+I188/(I188+1)","v":0.47042445987261644}]
[null,null,"Factor Change on S curve",{"$f":"+D189/$E$189","v":{"$error":"#VALUE!"}},{"$f":"+E189/$E$189","v":1},{"$f":"+F189/$E$189","v":{"$error":"#VALUE!"}},{"$f":"+G189/$E$189","v":{"$error":"#VALUE!"}},1,{"$f":"+I189/$E$189","v":0.94084891974523288}]
[null,null,"Adjust to Scale of 100",{"$f":"+$I$114/D190*100","v":{"$error":"#VALUE!"}},{"$f":"+$I$114/E190*100","v":{"$error":"#VALUE!"}},{"$f":"+$I$114/F190*100","v":{"$error":"#VALUE!"}},{"$f":"+$I$114/G190*100","v":{"$error":"#VALUE!"}},{"$error":"#VALUE!"},{"$f":"+$I$114/I190*100","v":{"$error":"#VALUE!"}}]
[null,null,"Unadjusted Combined Relative to Standard",{"$f":"+D187/$E$187","v":{"$error":"#VALUE!"}},{"$f":"+E187/$E$187","v":1},{"$f":"+F187/$E$187","v":{"$error":"#VALUE!"}},{"$f":"+G187/$E$187","v":{"$error":"#VALUE!"}},1,{"$f":"+I187/$E$187","v":0.88830473507039431}]
[null,null,null,null,null,null,null,null,null,{"$f":"I198/E198","v":1.1111111111111112}]
[null,null,"Adjusted for PA Basis",{"$f":"+D187*(1+1)/(1+D187*1)","v":{"$error":"#VALUE!"}},{"$f":"+E187*(1+1)/(1+E187*1)","v":0.90632053282226321},{"$f":"+F187*(1+1)/(1+F187*1)","v":{"$error":"#VALUE!"}},{"$f":"+G187*(1+1)/(1+G187*1)","v":{"$error":"#VALUE!"}},{"$f":"IF($I$2=\"Existing\",(D194),(IF($I$2=\"Design 1\",(F194),(IF($I$2=\"Design 2\",(G194),(IF($I$2=\"Optimal\",(I194),E194)))))))","v":0.90632053282226321},{"$f":"+I187*(1+1)/(1+I187*1)","v":0.84801165671039724}]
[null,null,"Corrected by Odds Ratio",{"$f":"+D187/$E$187","v":{"$error":"#VALUE!"}},{"$f":"+E187/$E$187","v":1},{"$f":"+F187/$E$187","v":{"$error":"#VALUE!"}},{"$f":"+G187/$E$187","v":{"$error":"#VALUE!"}},{"$f":"IF($I$2=\"Existing\",(D195),(IF($I$2=\"Design 1\",(F195),(IF($I$2=\"Design 2\",(G195),(IF($I$2=\"Optimal\",(I195),E195)))))))","v":1},{"$f":"+I187/$E$187","v":0.88830473507039431}]
[null,null,null,{"$f":"(1/D195)^$D199","v":{"$error":"#VALUE!"}},1,{"$error":"#VALUE!"},{"$error":"#VALUE!"},1,998.99999999999955,{"$f":"I201/E201","v":1.4814814814814814}]
[null,null,null,{"$f":"(D196+$F200-1)/(1+(D196+$F200-1))","v":{"$error":"#VALUE!"}},0.66666666666666663,{"$error":"#VALUE!"},{"$error":"#VALUE!"},0.66666666666666663,0.99900099900099903]
[null,null,"Score Odds Ratio with Optimal as 100 (old)",{"$f":"MIN(ROUND($I$195/D195*Construction!$I$10,0),$I198)","v":{"$error":"#VALUE!"}},{"$f":"MIN(ROUND($I$195/E195*Construction!$I$10,0),$I198)","v":36},{"$f":"MIN(ROUND($I$195/F195*Construction!$I$10,0),$I198)","v":{"$error":"#VALUE!"}},{"$f":"MIN(ROUND($I$195/G195*Construction!$I$10,0),$I198)","v":{"$error":"#VALUE!"}},null,{"$f":"ROUND($I$195/I195*Construction!$I$10,0)","v":40}]
[null,null,"Logistic1",{"$f":"LN((D200/(1-D200))/(0.5/0.5))/LN($E195/I195)","v":58.314167600285003}]
[null,null,"Logistic Param",0.999,null,2]
[null,null,"Score ",{"$f":"MIN(ROUND(D197*Construction!$I$10,0),$I198)","v":{"$error":"#VALUE!"}},{"$f":"MIN(ROUND(E197*Construction!$I$10,0),$I198)","v":27},{"$f":"MIN(ROUND(F197*Construction!$I$10,0),$I198)","v":{"$error":"#VALUE!"}},{"$f":"MIN(ROUND(G197*Construction!$I$10,0),$I198)","v":{"$error":"#VALUE!"}},null,{"$f":"MIN(ROUND(I197*Construction!$I$10,0),$I198)","v":40}]
[]
[]
[]
[]
[null,null,{"$f":"D84/D179","v":{"$error":"#VALUE!"}},null,{"$f":"ROUNDUP((MIN($I$14,$I$15)-E24-E25)/$C$206,0)","v":{"$error":"#VALUE!"}},{"$f":"ROUNDUP((MIN($I$14,$I$15)-F24-F25)/$C$206,0)","v":{"$error":"#VALUE!"}},{"$f":"ROUNDUP((MIN($I$14,$I$15)-G24-G25)/$C$206,0)","v":{"$error":"#VALUE!"}},null,{"$f":"ROUNDUP((MIN($I$14,$I$15)-I24-I25)/$C$206,0)","v":{"$error":"#VALUE!"}}]
[]
[]
[null,null,"Distance to low point","Distance to low point",{"$f":"$C$206*E179","v":{"$error":"#VALUE!"}},{"$f":"$C$206*F179","v":{"$error":"#VALUE!"}},{"$f":"$C$206*G179","v":{"$error":"#VALUE!"}},null,{"$f":"$C$206*I179","v":{"$error":"#VALUE!"}}]
[null,null,null,"Additional ROW1 Needed for Foreslope",{"$f":"IF(E209>($I$14-E24-E25),E209-($I$14-E24-E25),0)","v":{"$error":"#VALUE!"}},{"$f":"IF(F209>($I$14-F24-F25),F209-($I$14-F24-F25),0)","v":{"$error":"#VALUE!"}},{"$f":"IF(G209>($I$14-G24-G25),G209-($I$14-G24-G25),0)","v":{"$error":"#VALUE!"}},null,{"$f":"IF(I209>($I$14-I24-I25),I209-($I$14-I24-I25),0)","v":{"$error":"#VALUE!"}}]
[null,null,null,"Additional ROW2 Needed for Foreslope",{"$f":"IF(E209>($I$15-E24-E25),E209-($I$15-E24-E25),0)","v":{"$error":"#VALUE!"}},{"$f":"IF(F209>($I$15-F24-F25),F209-($I$15-F24-F25),0)","v":{"$error":"#VALUE!"}},{"$f":"IF(G209>($I$15-G24-G25),G209-($I$15-G24-G25),0)","v":{"$error":"#VALUE!"}},null,{"$f":"IF(I209>($I$15-I24-I25),I209-($I$15-I24-I25),0)","v":{"$error":"#VALUE!"}}]
[]
[null,null,null,"Additional ROW1 Needed for Lateral Clearance",{"$f":"IF((CL248+E26)-$I$14<0,0,(CL248+E26)-$I$14)","v":8},{"$f":"IF((CM248+F26)-$I$14<0,0,(CM248+F26)-$I$14)","v":0},{"$f":"IF((CN248+G26)-$I$14<0,0,(CN248+G26)-$I$14)","v":0},null,{"$f":"IF((CP248+I26)-$I$14<0,0,(CP248+I26)-$I$14)","v":0}]
[null,null,null,"Additional ROW2 Needed for Lateral Clearance",{"$f":"IF((CL248+E26)-$I$15<0,0,(CL248+E26)-$I$15)","v":8},{"$f":"IF((CM248+F26)-$I$15<0,0,(CM248+F26)-$I$15)","v":0},{"$f":"IF((CN248+G26)-$I$15<0,0,(CN248+G26)-$I$15)","v":0},null,{"$f":"IF((CP248+I26)-$I$15<0,0,(CP248+I26)-$I$15)","v":0}]
[]
[]
[]
[]
[]
[]
[]
[]
[]
[]
[]
[null,null,"For Vertical Opt Use when Yes Vertical:"]
[null,null,"G1",{"$f":"D36","v":0},null,{"$f":"F36","v":0},{"$f":"G36","v":0},null,{"$f":"IF(ISERROR($E$234),\"\",INDEX(D227:G227,$E$234))","v":""}]
[null,null,"G2",{"$f":"D37","v":0},null,{"$f":"F37","v":0},{"$f":"G37","v":0},null,{"$f":"IF(ISERROR($E$234),\"\",INDEX(D228:G228,$E$234))","v":""}]
[null,null,"abs(G2-G1)",{"$f":"ABS(D36-D37)","v":0},null,{"$f":"ABS(F36-F37)","v":0},{"$f":"ABS(G36-G37)","v":0}]
[null,null,"Count in indicator (K no change; or K change but accept)",{"$f":"IF(D39<>\"\",1,\"\")","v":""},null,{"$f":"IF(OR(AND($B$34 = \"Yes\", $D$39 <> F39, F39 <>\"\", $D$39 <> \"\", F41=\"Yes.\"),AND($B$34 = \"Yes\", $D$39 = F39, F39 <>\"\", $D$39 <> \"\")), 1,\"\")","v":""},{"$f":"IF(OR(AND($B$34 = \"Yes\", $D$39 <> G39, G39 <>\"\", $D$39 <> \"\", G41=\"Yes.\"),AND($B$34 = \"Yes\", $D$39 = G39, G39 <>\"\", $D$39 <> \"\")), 1,\"\")","v":""}]
[]
[null,null,"Valid abs(G2-G1)",{"$f":"IF(ISERROR(D229*D230),\"\",D229*D230)","v":""},null,{"$f":"IF(ISERROR(F229*F230),\"\",F229*F230)","v":""},{"$f":"IF(ISERROR(G229*G230),\"\",G229*G230)","v":""}]
[null,null,"The min valid abs(G2-G1)",null,{"$f":"MIN(D232,F232,G232)","v":0}]
[null,null,"Index",null,{"$f":"MATCH(E233,D232:G232,0)","v":{"$error":"#N/A"}}]
[]
[null,null,"For Vertical Opt Use When No Vertical:"]
[null,null,"G1",{"$f":"IF(ISBLANK(D36), 999, D36)","v":999},null,{"$f":"IF(ISBLANK(F36), 999, F36)","v":999},{"$f":"IF(ISBLANK(G36), 999, G36)","v":999},null,{"$f":"IF(E242=999,\"\",E242)","v":""}]
[null,null,"Sign of G1",{"$f":"IF(D237>=0,1,-1)","v":1},null,{"$f":"IF(F237>=0,1,-1)","v":1},{"$f":"IF(G237>=0,1,-1)","v":1}]
[null,null,"Abs G1",{"$f":"ABS(D237)","v":999},null,{"$f":"ABS(F237)","v":999},{"$f":"ABS(G237)","v":999}]
[null,null,"Min Abs G1",null,{"$f":"MIN(D239:G239)","v":999}]
[null,null,"Which is the Best G1",null,{"$f":"MATCH(E240,D239:G239,0)","v":1}]
[null,null,"Best G1 Value",null,{"$f":"INDEX(D237:G237,1,E241)","v":999}]
[]
[]
[]
[]
[]
[]
[null,null,"Check if all cells filled",{"$f":"SUM(D251:D311)","v":18},{"$f":"SUM(E251:E311)","v":1},18,18,null,1]
[]
[null,null,{"$f":"C24","v":"Lane Width (feet)"},{"$f":"IF(ISBLANK(D24),1,0)","v":1},{"$f":"IF(ISBLANK(E24),1,0)","v":0},1,1,null,0]
[null,null,{"$f":"C25","v":"Shoulder Width (feet)"},{"$f":"IF(ISBLANK(D25),1,0)","v":1},0,1,1,null,0]
[null,null,"Cross-slope or Superelevation (%)",{"$f":"IF(ISBLANK(D26),1,0)","v":1},0,1,1,null,0]
[null,null,"Horizontal Curve Present?"]
[null,null,"Horizontal Curve Data for Controlling Element:"]
[null,null,"  Radius (feet)",{"$f":"IF(AND($B$27=\"Yes\", ISBLANK(D29)),1,0)","v":0},{"$f":"IF(AND($B$27=\"Yes\", ISBLANK(E29)),1,0)","v":0},0,0,null,0]
[null,null,"Length of Horizontal Curve (feet)",{"$f":"IF(AND($B$27=\"Yes\", ISBLANK(D30)),1,0)","v":0},0,0,0,null,0]
[null,null,"Calculated Deflection Angle ∆"]
[]
[null,null,null,null,null,{"$f":"IF(AND($B$27 = \"Yes\", $D$31 <> F31, F31<>\"\",ISBLANK(F33)),1,0)","v":0},{"$f":"IF(AND($B$27 = \"Yes\", $D$31 <> G31, G31<>\"\",ISBLANK(G33)),1,0)","v":0}]
[null,null,"Vertical Curve Present?"]
[null,null,"Vertical Curve Data for Controlling Element:"]
[null,null,"  Approach (Entry) Grade, G1 (%)",{"$f":"IF(ISBLANK(D36),1,0)","v":1},{"$f":"IF(ISBLANK(E36),1,0)","v":0},1,1,null,0]
[null,null,"  Departure (Exit) Grade, G2 (%)",{"$f":"IF(AND($B$34=\"Yes\", ISBLANK(D37)),1,0)","v":0},{"$f":"IF(AND($B$34=\"Yes\", ISBLANK(E37)),1,0)","v":0},0,0,null,0]
[null,null,"  Length (feet)",{"$f":"IF(AND($B$34=\"Yes\", ISBLANK(D38)),1,0)","v":0},0,0,0,null,0]
[null,null,"  Calculated Rate of Change, K (ft/ft)"]
[]
[]
[]
[null,null,"TWLTL (two-way left-turn lane)",{"$f":"IF(ISBLANK(D43),1,0)","v":1},{"$f":"IF(ISBLANK(E43),1,0)","v":0},1,1,null,0]
[null,null,"Passing Lane Type",{"$f":"IF(ISBLANK(D44),1,0)","v":1},0,1,1,null,0]
[]
[]
[]
[]
[]
[]
[]
[null,null,"Advance Static Curve Warning Signs",{"$f":"IF(AND($B$27=\"Yes\", ISBLANK(D52)),1,0)","v":0},{"$f":"IF(AND($B$27=\"Yes\", ISBLANK(E52)),1,0)","v":0},0,0,null,{"$f":"IF(ISBLANK(I52),1,0)","v":0}]
[null,null,"Chevron Signs on Horizontal Curves",{"$f":"IF(AND($B$27=\"Yes\", ISBLANK(D53)),1,0)","v":0},0,0,0,null,0]
[null,null,"Post-Mounted Delineators",0,0,0,0,null,0]
[null,null,"Edgeline Pavement Markings or Profile Markings",{"$f":"IF(ISBLANK(D55),1,0)","v":1},0,1,1,null,0]
[null,null,"Shoulder Rumble Strips",1,0,1,1,null,0]
[null,null,"Centerline Rumble Strips",1,0,1,1,null,0]
[null,null,"Driveway Density (driveways per mile)",1,0,1,1,null,0]
[null,null,"Lighting",1,0,1,1,null,0]
[null,null,"Pavement Friction (skid number) ***",1,0,1,1,null,0]
[]
[]
[]
[]
[]
[]
[]
[]
[]
[]
[]
[null,null,"Sideslope (Foreslope)",{"$f":"IF(ISBLANK(D72),1,0)","v":1},0,1,1,null,0]
[null,null,"Backslope",1,0,1,1,null,0]
[null,null,"SafetyEdge",1,0,1,1,null,0]
[null,null,"Lateral Clearance to obstruction (ft)",1,0,1,1,null,0]
[null,null,"Obstruction Type",1,0,1,1,null,0]
[]
[]
[]
[]
[]
[]
[]
[null,null,"Distance to Slope Toe from Shoulder (ft)",1,{"$f":"$D$311","v":1},{"$f":"$D$311","v":1},1,null,1]
[]
[]
[]
[null,null,null,null,null,null,null,null,{"$f":"SUM(I316:I324)","v":9}]
[null,null,null,null,null,null,null,{"$f":"F9","v":"Location "},{"$f":"IF(ISBLANK(I9),1,0)","v":1}]
[null,null,null,null,null,null,null,{"$f":"F10","v":"Design Speed (mph)"},{"$f":"IF(ISBLANK(I10),1,0)","v":1}]
[null,null,null,null,null,null,null,"Posted Speed (mph)",1]
[null,null,null,null,null,null,null,"E max (%)",1]
[null,null,null,null,null,null,null,"Design Year AADT (vehicles per day)",1]
[null,null,null,null,null,null,null,"Dist. from Centerline to Left   ROW (feet)",1]
[null,null,null,null,null,null,null,"Dist. from Centerline to Right ROW (feet)",1]
[null,null,null,null,null,null,null,"H Curve Indicator",{"$f":"IF(ISBLANK(B27),1,0)","v":1}]
[null,null,null,null,null,null,null,"V Curve Indicator",{"$f":"IF(ISBLANK(B34),1,0)","v":1}]
[]
[]
[]
[]
[]
[]
[]
[]
[]
[]
[]
[]
[]
[]
[]
[]
[]
[]
[]
[]
[]
[]
[]
[]
[]
[]
[]
[]
[]
[]
[]
[]
[]
[]
[]
[]
[]
[]
[]
[]
[]
[]
[]
[]
[]
[]
[]
[]
[]
[]
[]
[1]
[22]
[21]
[20,null,null,{"$f":"Constraints!P174","v":"Emax=6%"}]
[19]
[18,null,{"$f":"HLOOKUP($I$10,Constraints!$Q$176:AD197,A376,TRUE)","v":{"$error":"#N/A"}},{"$f":"Constraints!P176","v":"super"}]
[17,null,{"$f":"HLOOKUP($I$10,Constraints!$Q$176:AD198,A377,TRUE)","v":{"$error":"#N/A"}},{"$f":"Constraints!P197","v":6},1050]
[16,null,{"$f":"HLOOKUP($I$10,Constraints!$Q$176:AD199,A378,TRUE)","v":{"$error":"#N/A"}},{"$f":"Constraints!P196","v":5.8}]
[15,null,{"$f":"HLOOKUP($I$10,Constraints!$Q$176:AD200,A379,TRUE)","v":{"$error":"#N/A"}},{"$f":"Constraints!P195","v":5.6}]
[14,null,{"$f":"HLOOKUP($I$10,Constraints!$Q$176:AD201,A380,TRUE)","v":{"$error":"#N/A"}},{"$f":"Constraints!P194","v":5.4}]
[13,null,{"$f":"HLOOKUP($I$10,Constraints!$Q$176:AD202,A381,TRUE)","v":{"$error":"#N/A"}},{"$f":"Constraints!P193","v":5.2}]
[12,null,{"$f":"HLOOKUP($I$10,Constraints!$Q$176:AD203,A382,TRUE)","v":{"$error":"#N/A"}},{"$f":"Constraints!P192","v":5}]
[11,null,{"$f":"HLOOKUP($I$10,Constraints!$Q$176:AD204,A383,TRUE)","v":{"$error":"#N/A"}},{"$f":"Constraints!P191","v":4.8}]
[10,null,{"$f":"HLOOKUP($I$10,Constraints!$Q$176:AD205,A384,TRUE)","v":{"$error":"#N/A"}},{"$f":"Constraints!P190","v":4.5999999999999996}]
[9,null,{"$f":"HLOOKUP($I$10,Constraints!$Q$176:AD206,A385,TRUE)","v":{"$error":"#N/A"}},{"$f":"Constraints!P189","v":4.4000000000000004}]
[8,null,{"$f":"HLOOKUP($I$10,Constraints!$Q$176:AD207,A386,TRUE)","v":{"$error":"#N/A"}},{"$f":"Constraints!P188","v":4.2}]
[7,null,{"$f":"HLOOKUP($I$10,Constraints!$Q$176:AD208,A387,TRUE)","v":{"$error":"#N/A"}},{"$f":"Constraints!P187","v":4}]
[6,null,{"$f":"HLOOKUP($I$10,Constraints!$Q$176:AD209,A388,TRUE)","v":{"$error":"#N/A"}},{"$f":"Constraints!P186","v":3.8}]
[5,null,{"$f":"HLOOKUP($I$10,Constraints!$Q$176:AD210,A389,TRUE)","v":{"$error":"#N/A"}},{"$f":"Constraints!P185","v":3.6}]
[4,null,{"$f":"HLOOKUP($I$10,Constraints!$Q$176:AD211,A390,TRUE)","v":{"$error":"#N/A"}},{"$f":"Constraints!P184","v":3.4}]
[3,null,{"$f":"HLOOKUP($I$10,Constraints!$Q$176:AD212,A391,TRUE)","v":{"$error":"#N/A"}},{"$f":"Constraints!P183","v":3.2}]
[2,null,{"$f":"HLOOKUP($I$10,Constraints!$Q$176:AD213,A392,TRUE)","v":{"$error":"#N/A"}},{"$f":"Constraints!P182","v":3}]
[null,null,{"$f":"HLOOKUP($I$10,Constraints!$Q$176:AD214,A393,TRUE)","v":{"$error":"#N/A"}},{"$f":"Constraints!P181","v":2.8}]
[null,null,{"$f":"HLOOKUP($I$10,Constraints!$Q$176:AD215,A394,TRUE)","v":{"$error":"#N/A"}},{"$f":"Constraints!P180","v":2.6}]
[null,null,{"$f":"HLOOKUP($I$10,Constraints!$Q$176:AD216,A395,TRUE)","v":{"$error":"#N/A"}},{"$f":"Constraints!P179","v":2.4}]
[null,null,{"$f":"HLOOKUP($I$10,Constraints!$Q$176:AD217,A396,TRUE)","v":{"$error":"#N/A"}},{"$f":"Constraints!P178","v":2.2000000000000002}]
[null,null,{"$f":"HLOOKUP($I$10,Constraints!$Q$176:AD218,A397,TRUE)","v":{"$error":"#N/A"}},{"$f":"Constraints!P177","v":2}]
[1]
[32]
[31]
[30,null,null,{"$f":"Constraints!P201","v":"Emax=8%"}]
[29]
[28,null,{"$f":"HLOOKUP($I$10,Constraints!$Q$203:AD234,A403,TRUE)","v":{"$error":"#N/A"}},{"$f":"Constraints!P203","v":"super"}]
[27,null,{"$f":"HLOOKUP($I$10,Constraints!$Q$203:AD235,A404,TRUE)","v":{"$error":"#N/A"}},{"$f":"INDEX(Constraints!$P$203:$P$234,A404,)","v":8}]
[26,null,{"$f":"HLOOKUP($I$10,Constraints!$Q$203:AD236,A405,TRUE)","v":{"$error":"#N/A"}},{"$f":"INDEX(Constraints!$P$203:$P$234,A405,)","v":7.8}]
[25,null,{"$f":"HLOOKUP($I$10,Constraints!$Q$203:AD237,A406,TRUE)","v":{"$error":"#N/A"}},{"$f":"INDEX(Constraints!$P$203:$P$234,A406,)","v":7.6}]
[24,null,{"$f":"HLOOKUP($I$10,Constraints!$Q$203:AD238,A407,TRUE)","v":{"$error":"#N/A"}},{"$f":"INDEX(Constraints!$P$203:$P$234,A407,)","v":7.4}]
[23,null,{"$f":"HLOOKUP($I$10,Constraints!$Q$203:AD239,A408,TRUE)","v":{"$error":"#N/A"}},{"$f":"INDEX(Constraints!$P$203:$P$234,A408,)","v":7.2}]
[22,null,{"$f":"HLOOKUP($I$10,Constraints!$Q$203:AD240,A409,TRUE)","v":{"$error":"#N/A"}},{"$f":"INDEX(Constraints!$P$203:$P$234,A409,)","v":7}]
[21,null,{"$f":"HLOOKUP($I$10,Constraints!$Q$203:AD241,A410,TRUE)","v":{"$error":"#N/A"}},{"$f":"INDEX(Constraints!$P$203:$P$234,A410,)","v":6.8}]
[20,null,{"$f":"HLOOKUP($I$10,Constraints!$Q$203:AD242,A411,TRUE)","v":{"$error":"#N/A"}},{"$f":"INDEX(Constraints!$P$203:$P$234,A411,)","v":6.6}]
[19,null,{"$f":"HLOOKUP($I$10,Constraints!$Q$203:AD243,A412,TRUE)","v":{"$error":"#N/A"}},{"$f":"INDEX(Constraints!$P$203:$P$234,A412,)","v":6.4}]
[18,null,{"$f":"HLOOKUP($I$10,Constraints!$Q$203:AD244,A413,TRUE)","v":{"$error":"#N/A"}},{"$f":"INDEX(Constraints!$P$203:$P$234,A413,)","v":6.2}]
[17,null,{"$f":"HLOOKUP($I$10,Constraints!$Q$203:AD245,A414,TRUE)","v":{"$error":"#N/A"}},{"$f":"INDEX(Constraints!$P$203:$P$234,A414,)","v":6}]
[16,null,{"$f":"HLOOKUP($I$10,Constraints!$Q$203:AD246,A415,TRUE)","v":{"$error":"#N/A"}},{"$f":"INDEX(Constraints!$P$203:$P$234,A415,)","v":5.8}]
[15,null,{"$f":"HLOOKUP($I$10,Constraints!$Q$203:AD247,A416,TRUE)","v":{"$error":"#N/A"}},{"$f":"INDEX(Constraints!$P$203:$P$234,A416,)","v":5.6}]
[14,null,{"$f":"HLOOKUP($I$10,Constraints!$Q$203:AD248,A417,TRUE)","v":{"$error":"#N/A"}},{"$f":"INDEX(Constraints!$P$203:$P$234,A417,)","v":5.4}]
[13,null,{"$f":"HLOOKUP($I$10,Constraints!$Q$203:AD249,A418,TRUE)","v":{"$error":"#N/A"}},{"$f":"INDEX(Constraints!$P$203:$P$234,A418,)","v":5.2}]
[12,null,{"$f":"HLOOKUP($I$10,Constraints!$Q$203:AD250,A419,TRUE)","v":{"$error":"#N/A"}},{"$f":"INDEX(Constraints!$P$203:$P$234,A419,)","v":5}]
[11,null,{"$f":"HLOOKUP($I$10,Constraints!$Q$203:AD251,A420,TRUE)","v":{"$error":"#N/A"}},{"$f":"INDEX(Constraints!$P$203:$P$234,A420,)","v":4.8}]
[10,null,{"$f":"HLOOKUP($I$10,Constraints!$Q$203:AD252,A421,TRUE)","v":{"$error":"#N/A"}},{"$f":"INDEX(Constraints!$P$203:$P$234,A421,)","v":4.5999999999999996}]
[9,null,{"$f":"HLOOKUP($I$10,Constraints!$Q$203:AD253,A422,TRUE)","v":{"$error":"#N/A"}},{"$f":"INDEX(Constraints!$P$203:$P$234,A422,)","v":4.4000000000000004}]
[8,null,{"$f":"HLOOKUP($I$10,Constraints!$Q$203:AD254,A423,TRUE)","v":{"$error":"#N/A"}},{"$f":"INDEX(Constraints!$P$203:$P$234,A423,)","v":4.2}]
[7,null,{"$f":"HLOOKUP($I$10,Constraints!$Q$203:AD255,A424,TRUE)","v":{"$error":"#N/A"}},{"$f":"INDEX(Constraints!$P$203:$P$234,A424,)","v":4}]
[6,null,{"$f":"HLOOKUP($I$10,Constraints!$Q$203:AD256,A425,TRUE)","v":{"$error":"#N/A"}},{"$f":"INDEX(Constraints!$P$203:$P$234,A425,)","v":3.8}]
[5,null,{"$f":"HLOOKUP($I$10,Constraints!$Q$203:AD257,A426,TRUE)","v":{"$error":"#N/A"}},{"$f":"INDEX(Constraints!$P$203:$P$234,A426,)","v":3.6}]
[4,null,{"$f":"HLOOKUP($I$10,Constraints!$Q$203:AD258,A427,TRUE)","v":{"$error":"#N/A"}},{"$f":"INDEX(Constraints!$P$203:$P$234,A427,)","v":3.4}]
[3,null,{"$f":"HLOOKUP($I$10,Constraints!$Q$203:AD259,A428,TRUE)","v":{"$error":"#N/A"}},{"$f":"INDEX(Constraints!$P$203:$P$234,A428,)","v":3.2}]
[2,null,{"$f":"HLOOKUP($I$10,Constraints!$Q$203:AD260,A429,TRUE)","v":{"$error":"#N/A"}},{"$f":"INDEX(Constraints!$P$203:$P$234,A429,)","v":3}]
[null,null,{"$f":"HLOOKUP($I$10,Constraints!$Q$203:AD261,A430,TRUE)","v":{"$error":"#N/A"}},{"$f":"INDEX(Constraints!$P$203:$P$234,A430,)","v":2.8}]
[null,null,{"$f":"HLOOKUP($I$10,Constraints!$Q$203:AD262,A431,TRUE)","v":{"$error":"#N/A"}},{"$f":"INDEX(Constraints!$P$203:$P$234,A431,)","v":2.6}]
[null,null,{"$f":"HLOOKUP($I$10,Constraints!$Q$203:AD263,A432,TRUE)","v":{"$error":"#N/A"}},{"$f":"INDEX(Constraints!$P$203:$P$234,A432,)","v":2.4}]
[null,null,{"$f":"HLOOKUP($I$10,Constraints!$Q$203:AD264,A433,TRUE)","v":{"$error":"#N/A"}},{"$f":"INDEX(Constraints!$P$203:$P$234,A433,)","v":2.2000000000000002}]
[null,null,{"$f":"HLOOKUP($I$10,Constraints!$Q$203:AD265,A434,TRUE)","v":{"$error":"#N/A"}},{"$f":"INDEX(Constraints!$P$203:$P$234,A434,)","v":2}]

{"sheet":"Configuration 11","index":21,"n_rows":439,"n_cols":113,"rows_kept":439,"cut":false,"hidden":false,"merged":[[1,6,2,7],[1,8,2,8],[1,21,1,37],[2,1,2,4],[2,21,3,28],[2,30,3,37],[3,1,3,4],[3,6,4,7],[3,8,4,8],[4,1,4,2],[4,3,4,4],[4,21,44,28],[4,30,44,37],[5,1,5,2],[5,3,5,4],[6,1,6,7],[7,1,7,4],[7,7,7,8],[8,3,8,4],[8,5,8,6],[75,16,75,21],[75,22,75,23],[9,3,9,4],[9,5,9,6],[10,3,10,4],[10,5,10,6],[11,5,11,6],[12,2,15,4],[12,5,12,6],[13,5,13,6],[14,5,14,6],[17,2,18,8],[20,5,20,7],[38,9,38,10],[45,12,45,19],[74,16,74,23],[76,22,76,23],[77,16,77,21],[77,22,77,23],[78,16,78,21],[78,22,78,23],[84,1,84,2],[85,1,85,2],[86,1,86,2],[95,10,95,12],[76,16,76,21]]}
[]
[null,null,null,null,null,null,"Preferred Schematic View to Display",null,"Standard",null,null,null,null,null,null,null,null,null,null,null,null,"NOTES: "]
[null,"CHARACTERISTICS TO CONSIDER FOR ANALYSIS",null,null,null,null,null,null,null,null,null,null,null,null,null,null,null,null,null,null,null,"ELEMENTS INCREASING SAFETY",null,null,null,null,null,null,null,null,"COMMENTS ON PRIMARY CONSTRAINTS"]
[null,"INPUT INSTRUCTIONS",null,null,null,null,"Relative to",null,"Existing"]
[null,"Blue Boxes -- Select from pulldown options",null,"Select from Pulldown"]
[null,"Yellow Boxes -- Type input information into box",null,"Type Input Value"]
[null," Rural Two-Lane Road Segment -- Safety Score Input",null,null,null,null,null,null,null,null,null,null,null,null,null,null,null,null,null,null,null,null,null,null,null,null,null,null,null,null,null,null,null,null,null,null,null,null,null,null,null,null,null,null,null,null,null,null,null,null,null,null,null,null,null,null,null,null,null,null,null,null,null,null,null,null,null,null,null,null,null,null,null,null,null,null,null,null,null,null,null,null,null,"Unadjusted Marginal Safety"]
[null,"General Information:",null,null,null,"General Site Features",null,{"$f":"I315 & \" Missing Features and Curves\"","v":"9 Missing Features and Curves"},null,null,null,null,null,null,null,null,null,null,null,null,null,null,null,null,null,null,null,null,null,null,null,null,null,null,null,null,null,null,null,null,null,null,null,null,null,null,null,null,null,null,null,null,null,null,null,null,null,null,null,null,null,null,null,null,null,null,null,null,null,null,null,null,null,null,null,null,null,null,null,null,null,null,null,{"$f":"I2&\" relative to \" &I4","v":"Standard relative to Existing"}]
[null,null,"Analyst:",{"$f":"+'Start Here'!J7","v":0},null,"Location "]
[null,null,"Agency or Company:",{"$f":"+'Start Here'!J8","v":0},null,"Design Speed (mph)"]
[null,null,"Date:",{"$f":"+'Start Here'!J9","v":"00:00:00"},null,"Posted Speed (mph)"]
[null,null,"Description:",null,null,"E max (%)"]
[null,null,null,null,null,"Design Year AADT (vehicles per day)"]
[null,null,null,null,null,"Dist. from Centerline to Left   ROW (feet)"]
[null,null,null,null,null,"Dist. from Centerline to Right ROW (feet)"]
[]
[null,"Warning:"]
[null,null,{"$f":"+IF(+I11>I10,\"Posted speed exceeds design speed. Optimal safety will only be achieved if design speed exceeds posted speed. The Safety Assessment Score is based on the higher of the two speed values.\",\"No warnings identified\")","v":"No warnings identified"}]
[null,null,null,null,null,null,null,null,null,null,null,null,null,null,null,{"$f":"\"Unadjusted Marginal Safety of elements in \"&I2&\" from Design Standards\"","v":"Unadjusted Marginal Safety of elements in Standard from Design Standards"},null,null,null,null,null,null,null,null,null,null,null,null,null,null,null,null,null,null,null,null,null,null,null,null,null,null,null,null,null,null,null,null,null,null,null,null,null,null,null,null,null,null,null,null,null,null,null,null,null,null,null,null,null,null,null,null,null,null,null,null,null,null,null,null,null,null,null,null,null,null,null,null,null,null,null,null,null,null,null,null,null,null,null,null,null,null,null,null,null,{"$f":"COUNTIF(DB23:DB41,DB20)","v":1}]
[null,null,null,null,null,null,null,null,null,null,null,null,null,null,null,null,null,null,null,null,null,null,null,null,null,null,null,null,null,null,null,null,null,null,null,null,null,null,null,null,null,null,null,null,null,null,null,null,null,null,null,null,null,null,null,null,null,null,null,null,null,null,null,null,null,null,null,null,null,null,null,null,null,null,null,null,null,null,null,null,null,null,null,null,null,null,null,null,null,null,null,null,null,null,null,null,null,null,null,null,null,null,null,null,null,{"$f":"VLOOKUP(0,CZ23:DB41,3,)","v":10.01}]
[null,null,null,"Fill all elements",null,"To enter notes, use boxes to the right of the vortex ",null,null,null,null," "]
[null,{"$f":"+Construction!$I$8&\"  Total Available Points\"","v":"40  Total Available Points"},null,{"$f":"D249 & \" Missing Elements\"","v":"18 Missing Elements"},null,{"$f":"F249 & \" Missing Elements\"","v":"18 Missing Elements"},{"$f":"G249 & \" Missing Elements\"","v":"18 Missing Elements"},null,null,null,null,null,null,null,null,null,null,null,null,null,null,null,null,null,null,null,null,null,null,null,null,null,null,null,null,null,null,null,null,null,null,null,null,null,null,null,null,null,null,null,null,null,null,null,null,null,null,null,null,null,null,null,null,null,null,null,null,null,null,null,null,null,null,null,null,null,null,null,null,null,null,null,null,null,null,null,null,null,null,null,null,null,null,null,null,null,null,null,null,null,null,"Ranked element","CRF","abs","Re-rank","Rank","Ranked CRF","Element","New Element","crf.abs","rank","Sorted Element","Sorted CRF"]
[null,"Geometric Design Elements",null,"Existing","Standard","Design 1","Design 2",{"$f":"\"Marginal Safety for \"&$I$2&\" (compared to \" & $I$4 & \")\"","v":"Marginal Safety for Standard (compared to Existing)"},"Optimal",null,null,null,null,null,null,null,null,null,null,null,null,null,null,null,null,null,null,null,null,null,null,null,null,null,null,null,null,null,null,null,null,null,null,null,null,null,null,null,null,null,null,null,null,null,null,null,null,null,null,null,null,null,null,null,null,null,null,null,null,null,null,null,null,null,null,null,null,null,null,null,null,null,null,null,null,null,null,null,null,null,null,null,null,null,null,null,null,null,null,null,null,{"$f":"IF(CY23=0,\"\",DB23&\". \"&DD23)","v":""},{"$f":"H24","v":0},{"$f":"ABS(CY23)","v":0},{"$f":"RANK(DB23,$DB$23:$DB$41,1)","v":10},{"$f":"_xlfn.RANK.EQ(CZ23,$CZ$23:$CZ$41)+DG23/100","v":10.01},{"$f":"CY23","v":0},{"$f":"IF(ROUND(DF23,2)=0,\"\",C24)","v":""},{"$f":"DD23","v":""},{"$f":"CZ23","v":0},1,{"$f":"IFERROR(IF(IFERROR(VLOOKUP(DG23,$DA$23:$DF$41,4,)&\", \"&CY23=0,\"\"),\"\",IFERROR(VLOOKUP(DG23,$DA$23:$DE$41,4,),\"\")),\"\")","v":"TWLTL (two-way left-turn lane)"},{"$f":"IFERROR(IF(IFERROR(VLOOKUP(DG23,$DA$23:$DF$41,3,)&\", \"&CY23=0,\"\"),\"\",IFERROR(VLOOKUP(DG23,$DA$23:$DE$41,3,),\"\")),\"\")","v":-0.40845070422535223}]
[null,null,"Lane Width (feet)",null,12,null,null,{"$f":"M100","v":0},12,null,null,null,null,null,null,null,null,null,null,null,null,null,null,null,null,null,null,null,null,null,null,null,null,null,null,null,null,null,null,null,null,null,null,null,null,null,null,null,null,null,null,null,null,null,null,null,null,null,null,null,null,null,null,null,null,null,null,null,null,null,null,null,null,null,null,null,null,null,null,null,null,null,null,null,null,null,null,null,null,null,null,null,null,null,null,null,null,null,null,null,null,"5.02. Shoulder Width (feet)",{"$f":"H25","v":0.15503875968992242},0.15503875968992242,{"$f":"RANK(DB24,$DB$23:$DB$41,1)","v":5},{"$f":"_xlfn.RANK.EQ(CZ24,$CZ$23:$CZ$41)+DG24/100","v":5.0199999999999996},{"$f":"CY24","v":0.15503875968992242},{"$f":"IF(ROUND(DF24,2)=0,\"\",C25)","v":"Shoulder Width (feet)"},{"$f":"DD24","v":"Shoulder Width (feet)"},0.15503875968992242,2,"Pavement Friction (skid number) ***",{"$f":"IFERROR(IF(IFERROR(VLOOKUP(DG24,$DA$23:$DF$41,3,)&\", \"&CY24=0,\"\"),\"\",IFERROR(VLOOKUP(DG24,$DA$23:$DE$41,3,),\"\")),\"\")","v":0.28430956017940245}]
[null,null,"Shoulder Width (feet)",null,{"$f":"IF('Start Here'!$J$12=\"4R\",8,4)","v":4},null,null,{"$f":"M101","v":0.15503875968992242},10,null,null,null,null,null,null,null,null,null,null,null,null,null,null,null,null,null,null,null,null,null,null,null,null,null,null,null,null,null,null,null,null,null,null,null,null,null,null,null,null,null,null,null,null,null,null,null,null,null,null,null,null,null,null,null,null,null,null,null,null,null,null,null,null,null,null,null,null,null,null,null,null,null,null,null,null,null,null,null,null,null,null,null,null,null,null,null,null,null,null,null,null,"",{"$f":"H29","v":0},0,11,10.029999999999999,0,{"$f":"IF(ROUND(DF25,2)=0,\"\",\"Hz and Vt Alignment\")","v":""},"",0,3,"Driveway Density (driveways per mile)",-0.22388114201141129]
[null,null,"Cross-slope or Superelevation (%)",null,{"$f":"IF($I$12=6,IFERROR(VLOOKUP(E29,$C$382:$D$402,2,TRUE),6),IFERROR(VLOOKUP(E29,$C$409:$D$439,2,TRUE),8))","v":8},null,null,null,{"$f":"I12","v":0},null,null,null,null,null,null,null,null,null,null,null,null,null,null,null,null,null,null,null,null,null,null,null,null,null,null,null,null,null,null,null,null,null,null,null,null,null,null,null,null,null,null,null,null,null,null,null,null,null,null,null,null,null,null,null,null,null,null,null,null,null,null,null,null,null,null,null,null,null,null,null,null,null,null,null,null,null,null,null,null,null,null,null,null,null,null,null,null,null,null,null,null,"1.04. TWLTL (two-way left-turn lane)",{"$f":"H43","v":-0.40845070422535223},0.40845070422535223,1,1.04,-0.40845070422535223,{"$f":"IF(ROUND(DF26,2)=0,\"\",C43)","v":"TWLTL (two-way left-turn lane)"},"TWLTL (two-way left-turn lane)",0.40845070422535223,4,"Centerline Rumble Strips",-0.16279069767441867]
["",null,"Horizontal Curve Present?","--","--","--","--",null,"--",null,null,null,null,null,null,null,null,null,null,null,null,null,null,null,null,null,null,null,null,null,null,null,null,null,null,null,null,null,null,null,null,null,null,null,null,null,null,null,null,null,null,null,null,null,null,null,null,null,null,null,null,null,null,null,null,null,null,null,null,null,null,null,null,null,null,null,null,null,null,null,null,null,null,null,null,null,null,null,null,null,null,null,null,null,null,null,null,null,null,null,null,"",{"$f":"H44","v":0},0,12,10.050000000000001,0,{"$f":"IF(ROUND(DF27,2)=0,\"\",C44)","v":""},"",0,5,"Shoulder Width (feet)",0.15503875968992242]
[null,null,"Horizontal Curve Data for Controlling Element:","--","--","--","--",null,"--",null,null,null,null,null,null,null,null,null,null,null,null,null,null,null,null,null,null,null,null,null,null,null,null,null,null,null,null,null,null,null,null,null,null,null,null,null,null,null,null,null,null,null,null,null,null,null,null,null,null,null,null,null,null,null,null,null,null,null,null,null,null,null,null,null,null,null,null,null,null,null,null,null,null,null,null,null,null,null,null,null,null,null,null,null,null,null,null,null,null,null,null,"",{"$f":"H52","v":0},0,13,10.06,0,{"$f":"IF(ROUND(DF28,2)=0,\"\",C52)","v":""},"",0,6,"Edgeline Pavement Markings or Profile Markings",0.13824118691351761]
[null,null,"  Radius (feet)",null,{"$f":"IF(MAX($I$10,$I$11)<45,590,IF($I$12=6,VLOOKUP(MAX($I$10,$I$11),Construction!$B$29:$D$36,2,TRUE),VLOOKUP(MAX($I$10,$I$11),Construction!$G$29:$I$36,2,TRUE)))","v":590},null,null,{"$f":"M140","v":0},{"$f":"IF(MAX($I$10,$I$11)<45,590,IF($I$12=6,VLOOKUP(MAX($I$10,$I$11),Construction!$B$45:$C$52,2,TRUE),VLOOKUP(MAX($I$10,$I$11),Construction!$G$45:$H$52,2,TRUE)))","v":590},null,null,null,null,null,null,null,null,null,null,null,null,null,null,null,null,null,null,null,null,null,null,null,null,null,null,null,null,null,null,null,null,null,null,null,null,null,null,null,null,null,null,null,null,null,null,null,null,null,null,null,null,null,null,null,null,null,null,null,null,null,null,null,null,null,null,null,null,null,null,null,null,null,null,null,null,null,null,null,null,null,null,null,null,null,null,null,null,null,null,null,null,"",0,0,14,10.07,0,"","",0,7,"Lateral Clearance to obstruction (ft)",9.0307162971216326E-2]
[null,null,"Length of Horizontal Curve (feet)",null,{"$f":"IF(D31=\"\", \"\", E29*E31/57.296)","v":""},null,null,null,{"$f":"I29*I31/57.296","v":3758.5520804244625},null,null,null,null,null,null,null,null,null,null,null,null,null,null,null,null,null,null,null,null,null,null,null,null,null,null,null,null,null,null,null,null,null,null,null,null,null,null,null,null,null,null,null,null,null,null,null,null,null,null,null,null,null,null,null,null,null,null,null,null,null,null,null,null,null,null,null,null,null,null,null,null,null,null,null,null,null,null,null,null,null,null,null,null,null,null,null,null,null,null,null,null,"",0,0,15,10.08,0,"","",0,8,"SafetyEdge",-2.8188991921691331E-2]
[null,null,"Calculated Deflection Angle ∆",{"$f":"IF(OR(ISBLANK(D29),ISBLANK(D30),$B$27=\"No\",ISBLANK($B$27)),\"\",ROUND(D30/D29*57.296,1))","v":""},{"$f":"IF(ISBLANK(D31), \"\",D31)","v":""},{"$f":"IF(OR(ISBLANK(F29),ISBLANK(F30),$B$27=\"No\",ISBLANK($B$27)),\"\",ROUND(F30/F29*57.296,1))","v":""},{"$f":"IF(OR(ISBLANK(G29),ISBLANK(G30),$B$27=\"No\",ISBLANK($B$27)),\"\",ROUND(G30/G29*57.296,1))","v":""},null,{"$f":"MIN(D31,IF(F33=INDEX(HCurveChange,1,0), F31, 365),IF(G33=INDEX(HCurveChange,1,0), G31, 365))","v":365},null,null,null,null,null,null,null,null,null,null,null,null,null,null,null,null,null,null,null,null,null,null,null,null,null,null,null,null,null,null,null,null,null,null,null,null,null,null,null,null,null,null,null,null,null,null,null,null,null,null,null,null,null,null,null,null,null,null,null,null,null,null,null,null,null,null,null,null,null,null,null,null,null,null,null,null,null,null,null,null,null,null,null,null,null,null,null,null,null,null,null,null,"6.09. Edgeline Pavement Markings or Profile Markings",0.13824118691351761,0.13824118691351761,6,6.09,0.13824118691351761,"Edgeline Pavement Markings or Profile Markings","Edgeline Pavement Markings or Profile Markings",0.13824118691351761,9,"Lighting",-2.3499081529478438E-2]
[null,null,null,null,null,"∆ has changed. \nAre you changing the ∆?","∆ has changed. \nAre you changing the ∆?",null,null,null,null,null,null,null,null,null,null,null,null,null,null,null,null,null,null,null,null,null,null,null,null,null,null,null,null,null,null,null,null,null,null,null,null,null,null,null,null,null,null,null,null,null,null,null,null,null,null,null,null,null,null,null,null,null,null,null,null,null,null,null,null,null,null,null,null,null,null,null,null,null,null,null,null,null,null,null,null,null,null,null,null,null,null,null,null,null,null,null,null,null,null,"",0,0,16,10.1,0,"","",0,10,"",0]
[null,null,null,null,null,null,null,null,null,null,null,null,null,null,null,null,null,null,null,null,null,null,null,null,null,null,null,null,null,null,null,null,null,null,null,null,null,null,null,null,null,null,null,null,null,null,null,null,null,null,null,null,null,null,null,null,null,null,null,null,null,null,null,null,null,null,null,null,null,null,null,null,null,null,null,null,null,null,null,null,null,null,null,null,null,null,null,null,null,null,null,null,null,null,null,null,null,null,null,null,null,"4.11. Centerline Rumble Strips",-0.16279069767441867,0.16279069767441867,4,4.1100000000000003,-0.16279069767441867,"Centerline Rumble Strips","Centerline Rumble Strips",0.16279069767441867,11,"",0]
[null,null,"Vertical Curve Present?","--","--","--","--",null,{"$f":"E34","v":"--"},null,null,null,null,null,null,null,null,null,null,null,null,null,null,null,null,null,null,null,null,null,null,null,null,null,null,null,null,null,null,null,null,null,null,null,null,null,null,null,null,null,null,null,null,null,null,null,null,null,null,null,null,null,null,null,null,null,null,null,null,null,null,null,null,null,null,null,null,null,null,null,null,null,null,null,null,null,null,null,null,null,null,null,null,null,null,null,null,null,null,null,null,"3.12. Driveway Density (driveways per mile)",-0.22388114201141129,0.22388114201141129,3,3.12,-0.22388114201141129,{"$f":"IF(DF34=0,\"\",C58)","v":"Driveway Density (driveways per mile)"},"Driveway Density (driveways per mile)",0.22388114201141129,12,"",0]
[null,null,"Vertical Curve Data for Controlling Element:","--","--","--","--",null,"--",null,null,null,null,null,null,null,null,null,null,null,null,null,null,null,null,null,null,null,null,null,null,null,null,null,null,null,null,null,null,null,null,null,null,null,null,null,null,null,null,null,null,null,null,null,null,null,null,null,null,null,null,null,null,null,null,null,null,null,null,null,null,null,null,null,null,null,null,null,null,null,null,null,null,null,null,null,null,null,null,null,null,null,null,null,null,null,null,null,null,null,null,"9.13. Lighting",-2.3499081529478438E-2,2.3499081529478438E-2,9,9.1300000000000008,-2.3499081529478438E-2,{"$f":"IF(DF35=0,\"\",C59)","v":"Lighting"},"Lighting",2.3499081529478438E-2,13,"",0]
[null,null,"  Approach (Entry) Grade, G1 (%)",null,{"$f":"IF(ISBLANK(D36),\"\", D36)","v":""},null,null,null,{"$f":"IF(B34=\"Yes\",I227,I237)","v":""},null,null,null,null,null,null,null,null,null,null,null,null,null,null,null,null,null,null,null,null,null,null,null,null,null,null,null,null,null,null,null,null,null,null,null,null,null,null,null,null,null,null,null,null,null,null,null,null,null,null,null,null,null,null,null,null,null,null,null,null,null,null,null,null,null,null,null,null,null,null,null,null,null,null,null,null,null,null,null,null,null,null,null,null,null,null,null,null,null,null,null,null,"2.14. Pavement Friction (skid number) ***",0.28430956017940245,0.28430956017940245,2,2.14,0.28430956017940245,{"$f":"IF(DF36=0,\"\",C60)","v":"Pavement Friction (skid number) ***"},"Pavement Friction (skid number) ***",0.28430956017940245,14,"",0]
[null,null,"  Departure (Exit) Grade, G2 (%)",null,{"$f":"IF(ISBLANK(D37),\"\", D37)","v":""},null,null,null,{"$f":"IF($B$34=\"Yes\",I228,\"\")","v":""},null,null,null,null,null,null,null,null,null,null,null,null,null,null,null,null,null,null,null,null,null,null,null,null,null,null,null,null,null,null,null,null,null,null,null,null,null,null,null,null,null,null,null,null,null,null,null,null,null,null,null,null,null,null,null,null,null,null,null,null,null,null,null,null,null,null,null,null,null,null,null,null,null,null,null,null,null,null,null,null,null,null,null,null,null,null,null,null,null,null,null,null,"",{"$f":"H72","v":0},0,17,10.15,0,{"$f":"IF(DF37=0,\"\",C72)","v":""},"",0,15,"",0]
[null,null,"  Length (feet)",null,{"$f":"IF(AND($B$34=\"Yes\", D39<>\"\"), ABS(E36-E37)*D39, \"\")","v":""},null,null,null,{"$f":"IF(AND($B$34=\"Yes\",I36<>\"\",I37<>\"\", NOT(ISBLANK($I$10)), NOT(ISBLANK($I$11))),ABS(I37-I36)*I39,\"\")","v":""},null,null,null,null,null,null,null,null,null,null,null,null,null,null,null,null,null,null,null,null,null,null,null,null,null,null,null,null,null,null,null,null,null,null,null,null,null,null,null,null,null,null,null,null,null,null,null,null,null,null,null,null,null,null,null,null,null,null,null,null,null,null,null,null,null,null,null,null,null,null,null,null,null,null,null,null,null,null,null,null,null,null,null,null,null,null,null,null,null,null,null,null,"",{"$f":"H73","v":0},{"$f":"ABS(CY38)","v":0},18,10.16,0,{"$f":"IF(DF38=0,\"\",C73)","v":""},"",0,16,"",0]
[null,null,"  Calculated Rate of Change, K (ft/ft)",{"$f":"IF(OR($B$34=\"No\",ISBLANK($B$34), ISBLANK(D36), ISBLANK(D37),ISBLANK(D38), D36=D37), \"\", ROUND(D38/(ABS(D37-D36)),1))","v":""},{"$f":"IF(AND($B$34=\"Yes\", NOT(ISBLANK($I$10)), NOT(ISBLANK($I$11)), D39<>\"\"), IF($E$42=\"Crest\",  VLOOKUP(MAX($I$10,$I$11),Construction!$B$159:$D$171,2,TRUE), VLOOKUP(MAX($I$10,$I$11),Construction!$B$159:$D$171,3,TRUE)), \"\")","v":""},{"$f":"IF(AND($B$34=\"Yes\", SUM(F263:F265)=0),ROUND(F38/(ABS(F37-F36)),1),\"\")","v":""},{"$f":"IF(AND($B$34=\"Yes\", SUM(G263:G265)=0),ROUND(G38/(ABS(G37-G36)),1),\"\")","v":""},null,{"$f":"IF(OR($B$34<>\"Yes\", ISBLANK($I$10), ISBLANK($I$11), $I$36=\"\", $I$37=\"\", $I$42=\"--\", ISBLANK($I$42)),\"\",IF($I$42=\"Crest\",VLOOKUP(MAX($I$10,$I$11),Construction!$B$179:$D$191,2,TRUE),VLOOKUP(MAX($I$10,$I$11),Construction!$B$179:$D$191,3,TRUE)))","v":""},null,null,null,null,null,null,null,null,null,null,null,null,null,null,null,null,null,null,null,null,null,null,null,null,null,null,null,null,null,null,null,null,null,null,null,null,null,null,null,null,null,null,null,null,null,null,null,null,null,null,null,null,null,null,null,null,null,null,null,null,null,null,null,null,null,null,null,null,null,null,null,null,null,null,null,null,null,null,null,null,null,null,null,null,null,null,null,null,null,null,null,null,"8.17. SafetyEdge",{"$f":"H74","v":-2.8188991921691331E-2},{"$f":"ABS(CY39)","v":2.8188991921691331E-2},8,8.17,-2.8188991921691331E-2,{"$f":"IF(DF39=0,\"\",C74)","v":"SafetyEdge"},"SafetyEdge",2.8188991921691331E-2,17,"",0]
[null,null,null,null,null,"Are you changing the geometry?","Are you changing the geometry?",null,null,null,null,null,null,null,null,null,null,null,null,null,null,null,null,null,null,null,null,null,null,null,null,null,null,null,null,null,null,null,null,null,null,null,null,null,null,null,null,null,null,null,null,null,null,null,null,null,null,null,null,null,null,null,null,null,null,null,null,null,null,null,null,null,null,null,null,null,null,null,null,null,null,null,null,null,null,null,null,null,null,null,null,null,null,null,null,null,null,null,null,null,null,"7.18. Lateral Clearance to obstruction (ft)",{"$f":"H75","v":9.0307162971216326E-2},{"$f":"ABS(CY40)","v":9.0307162971216326E-2},7,7.18,9.0307162971216326E-2,{"$f":"IF(DF40=0,\"\",C75)","v":"Lateral Clearance to obstruction (ft)"},"Lateral Clearance to obstruction (ft)",9.0307162971216326E-2,18,"",0]
[null,null,null,null,null,null,null,null,null,null,null,null,null,null,null,null,null,null,null,null,null,null,null,null,null,null,null,null,null,null,null,null,null,null,null,null,null,null,null,null,null,null,null,null,null,null,null,null,null,null,null,null,null,null,null,null,null,null,null,null,null,null,null,null,null,null,null,null,null,null,null,null,null,null,null,null,null,null,null,null,null,null,null,null,null,null,null,null,null,null,null,null,null,null,null,null,null,null,null,null,null,"",{"$f":"H76","v":0},{"$f":"ABS(CY41)","v":0},19,10.19,0,{"$f":"IF(DF41=0,\"\",C76)","v":""},"",0,19,"",0]
[null,null,"  Calculated Sag or Crest?",{"$f":"IF(AND($B$34=\"Yes\", SUM(D263:D265)=0),IF(D36>D37,\"Crest\",\"Sag\"),\"--\")","v":"--"},{"$f":"IF(AND($B$34=\"Yes\", SUM(D263:D265)=0),IF(E36>E37,\"Crest\",\"Sag\"),\"--\")","v":"--"},{"$f":"IF(AND($B$34=\"Yes\", SUM(F263:F265)=0),IF(F36>F37,\"Crest\",\"Sag\"),\"--\")","v":"--"},{"$f":"IF(AND($B$34=\"Yes\", SUM(G263:G265)=0),IF(G36>G37,\"Crest\",\"Sag\"),\"--\")","v":"--"},null,{"$f":"IF($B$34=\"Yes\",IF(I36>I37,\"Crest\",\"Sag\"),\"--\")","v":"--"}]
[null,null,"TWLTL (two-way left-turn lane)",null,"No",null,null,{"$f":"M108","v":-0.40845070422535223},{"$f":"IF(OR($D$43=\"Yes\", $F$43=\"Yes\",$G$43=\"Yes\"), \"Yes\", \"No\")","v":"No"}]
[null,null,"Passing Lane Type",null,"No Passing Lane",null,null,{"$f":"M109","v":0},"Super 2"]
[null,null,"Geometric Design Element (Partial Score)",{"$f":"IF(OR(SUM(D251:D253,D256:D257,D263:D265,D270:D271)>0, ISERR(D125)),\"\",D125)","v":""},{"$f":"IF(OR(SUM(E251:E253,E256:E257,E263:E265,E270:E271)>0, ISERR(E125)),\"\",E125)","v":""},"","",null,{"$f":"IF(OR(SUM(I251:I253,I256:I257,I263:I265,I270:I271)>0, ISERR(I125)),\"\",I125)","v":""}]
[null,null,"Total Safety Score",{"$f":"IF(OR(D$249>0, $I$315>0,ISERROR(D$201+D$171+D$125)),\"\",D$201+D$171+D$125)","v":""},{"$f":"IF(OR(E$249>0, $I$315>0,ISERROR(E$201+E$171+E$125)),\"\",E$201+E$171+E$125)","v":""},"","",null,"",null,null,null,"SCHEMATIC REPRESENTING INPUT DATA FOR ",null,null,null,null,null,null,null,{"$f":"IF($I$2=\"Existing\",\"EXISTING CONFIGURATION\",IF($I$2=\"Standard\",\"STANDARD OPTION\",IF($I$2=\"Design 1\",\"DESIGN 1 OPTION\",IF($I$2=\"Design 2\",\"DESIGN 2 OPTION\",\"OPTIMAL OPTION\"))))","v":"STANDARD OPTION"}]
[]
[null,null,null,null,null,null,null,null,null,null,null,"LT",null,null,null,null,null,null,null,null,null,null,null,null,null,null,"RT"]
[null,null,null,null,null,null,null,null,null,null,null,"R/W",null,null,null,null,null,null,null,null,null,null,null,null,null,null,"R/W"]
[null,{"$f":"+Construction!$I$9&\"  Total Available Points\"","v":"20  Total Available Points"}]
[null,"Traffic Elements",null,"Existing","Standard","Design 1","Design 2",{"$f":"$H$23","v":"Marginal Safety for Standard (compared to Existing)"},"Optimal",null,null,null,null,null,{"$f":"+$I$14","v":0},null,null,null,null,null,null,null,{"$f":"+$I$15","v":0}]
[null,null,"Advance Static Curve Warning Signs",null,"No",null,null,{"$f":"M145","v":0},"Yes"]
[null,null,"Chevron Signs on Horizontal Curves",null,"No",null,null,{"$f":"M146","v":0},"Yes",null,null,{"$f":"+O51-N53-Q53","v":-16},null,{"$f":"IF(+$I$2=\"Existing\",D25,IF($I$2=\"Standard\",E25,IF($I$2=\"Design 1\",F25,IF($I$2=\"Design 2\",G25,I25))))","v":4},null,null,{"$f":"IF(+$I$2=\"Existing\",D24,IF($I$2=\"Standard\",E24,IF($I$2=\"Design 1\",F24,IF($I$2=\"Design 2\",G24,I24))))","v":12},null,null,null,null,{"$f":"+Q53","v":12},null,null,{"$f":"+N53","v":4},{"$f":"+W51-V53-Y53","v":-16}]
[null,null,"Post-Mounted Delineators",null,"No",null,null,0,"Yes"]
[null,null,"Edgeline Pavement Markings or Profile Markings",null,"Yes",null,null,0.13824118691351761,"Yes"]
[null,null,"Shoulder Rumble Strips",null,"Yes",null,null,{"$f":"M150","v":0},"Yes"]
[null,null,"Centerline Rumble Strips",null,"No",null,null,{"$f":"M151","v":-0.16279069767441867},"Yes"]
[null,null,"Driveway Density (driveways per mile)",null,10,null,null,{"$f":"M152","v":-0.22388114201141129},0]
[null,null,"Lighting",null,"No",null,null,{"$f":"M153","v":-2.3499081529478438E-2},"Yes",null,null,null,null,null,null,null,null,null,"Tangent X-Section"]
[null,null,"Pavement Friction (skid number) ***",null,37,null,null,{"$f":"M154","v":0.28430956017940245},54]
[]
[null,null,"Traffic Control Element (Partial Score):",{"$f":"IF(ISERROR(D171), \"\", D171)","v":12},{"$f":"IF(ISERROR(E171), \"\", E171)","v":14},{"$f":"IF(ISERROR(F171), \"\", F171)","v":""},{"$f":"IF(ISERROR(G171), \"\", G171)","v":""},null,{"$f":"IF(ISERROR(I171), \"\", I171)","v":20}]
[null,null,"Total Safety Score",{"$f":"IF(OR(D$249>0, $I$315>0,ISERROR(D$201+D$171+D$125)),\"\",D$201+D$171+D$125)","v":""},{"$f":"IF(OR(E$249>0, $I$315>0,ISERROR(E$201+E$171+E$125)),\"\",E$201+E$171+E$125)","v":""},"","",null,""]
[]
[null,null,"*** Pavement friction/skid numbers will not be subject to open records requests ***",null,null,null,null,null,null,null," "]
[]
[]
[]
[null,null,null,null,null,null,null,null,null,null,null,null,null,null,null,null,null,null,"Curved X-Section"]
[null,{"$f":"+Construction!$I$10&\"  Total Available Points\"","v":"40  Total Available Points"}]
[null,"Roadside  Elements",null,"Existing","Standard","Design 1","Design 2",{"$f":"$H$23","v":"Marginal Safety for Standard (compared to Existing)"},"Optimal"]
[null,null,"Sideslope (Foreslope)",null,"1V:4H",null,null,{"$f":"M180","v":0},"1V:6H"]
[null,null,"Backslope",null,{"$f":"E72","v":"1V:4H"},null,null,{"$f":"M181","v":0},"1V:4H"]
[null,null,"SafetyEdge",null,"No",null,null,{"$f":"M182","v":-2.8188991921691331E-2},"Yes"]
[null,null,"Lateral Clearance to obstruction (ft)",null,30,null,null,{"$f":"M183","v":9.0307162971216326E-2},40,null,null,null,null,null,null,null,{"$f":"IF($I$2=\"Existing\",\"SCORE SUMMARY FOR EXISTING CONFIGURATION\", IF($I$2=\"Standard\",\"SCORE SUMMARY FOR STANDARD OPTION\",IF($I$2=\"Design 1\",\"SCORE SUMMARY FOR DESIGN 1 OPTION\",IF($I$2=\"Design 2\",\"SCORE SUMMARY FOR DESIGN 2 OPTION\", \"SCORE SUMMARY FOR OPTIMAL OPTION\"))))","v":"SCORE SUMMARY FOR STANDARD OPTION"}]
[null,null,"Obstruction Type",null,"Other Fixed Object",null,null,{"$f":"M184","v":0},"None",null,null,null,null,null,null,null,"GEOMETRIC DESIGN:",null,null,null,null,null,{"$f":"IF($I$2=\"Existing\",D45,IF($I$2=\"Standard\",E45,IF($I$2=\"Design 1\",F45,IF($I$2=\"Design 2\",G45,I45))))","v":""}]
[null,null,"Roadside Element (Partial Score):",{"$f":"IF(ISERR(D201),\"\",D201)","v":""},{"$f":"IF(ISERR(E201),\"\",E201)","v":27},{"$f":"IF(ISERR(F201),\"\",F201)","v":""},{"$f":"IF(ISERR(G201),\"\",G201)","v":""},null,{"$f":"IF(ISERR(I201),\"\",I201)","v":40},null,null,null,null,null,null,null,"TRAFFIC CONTROL:",null,null,null,null,null,{"$f":"IF($I$2=\"Existing\",D62,IF($I$2=\"Standard\",E62,IF($I$2=\"Design 1\",F62,IF($I$2=\"Design 2\",G62,I62))))","v":14}]
[null,null,"Total Safety Score",{"$f":"IF(OR(D$249>0, $I$315>0,ISERROR(D$201+D$171+D$125)),\"\",D$201+D$171+D$125)","v":""},{"$f":"IF(OR(E$249>0, $I$315>0,ISERROR(E$201+E$171+E$125)),\"\",E$201+E$171+E$125)","v":""},"","",null,"",null,null,null,null,null,null,null,"ROADSIDE:",null,null,null,null,null,{"$f":"IF($I$2=\"Existing\",D77,IF($I$2=\"Standard\",E77,IF($I$2=\"Design 1\",F77,IF($I$2=\"Design 2\",G77,I77))))","v":27}]
[null,null,null,null,null,null,null,null,null,null,null,null,null,null,null,null,"OVERALL SAFETY SCORE:",null,null,null,null,null,{"$f":"SUM(W76:X78)","v":41}]
[]
[]
[]
[null,"ADDITIONAL SIDESLOPE INFORMATION"]
[null,null,"Distance to Slope Toe from Shoulder (ft)",null,{"$f":"D84","v":0},{"$f":"E84","v":0},{"$f":"F84","v":0},null,{"$f":"G84","v":0}]
[null,"Minimum foreslope feasible within current ROW",null,null,{"$f":"IF(OR(ISBLANK($D$84), ISERROR(E206)), \"\", \"1V:\"&E206&\"H\")","v":""},{"$f":"IF(OR(ISBLANK($D$84), ISERROR(F206)), \"\", \"1V:\"&F206&\"H\")","v":""},{"$f":"IF(OR(ISBLANK($D$84), ISERROR(G206)), \"\", \"1V:\"&G206&\"H\")","v":""},null,{"$f":"IF(OR(ISBLANK($D$84), ISERROR(I206)), \"\", \"1V:\"&I206&\"H\")","v":""}]
[null,"Additional R/W needed on left side",null,null,{"$f":"IF(OR(ISBLANK($D$84), ISERROR(E210)),\"\", MAX(E210,E213))","v":""},{"$f":"IF(OR(ISBLANK($D$84), ISERROR(F210)), \"\", MAX(F210,F213))","v":""},{"$f":"IF(OR(ISBLANK($D$84), ISERROR(G210)),\"\", MAX(G210,G213))","v":""},null,{"$f":"IF(OR(ISBLANK($D$84), ISERROR(I210)),\"\", MAX(I210,I213))","v":""}]
[null,"Additional R/W needed on right side",null,null,{"$f":"IF(OR(ISBLANK($D$84), ISERROR(E211)), \"\", MAX(E211,E214))","v":""},{"$f":"IF(OR(ISBLANK($D$84), ISERROR(F211)), \"\", MAX(F211,F214))","v":""},{"$f":"IF(OR(ISBLANK($D$84), ISERROR(G211)),\"\", MAX(G211,G214))","v":""},null,{"$f":"IF(OR(ISBLANK($D$84), ISERROR(I211)),\"\", MAX(I211,I214))","v":""}]
[]
[]
[]
[]
[]
[]
[]
[null,null,null,null,null,null,null,null,null,{"$f":"1-I100/E100","v":0}]
[null,null,null,null,null,null,null,null,null,{"$f":"1-I101/E101","v":0.17431192660550465},"For Plot"]
[null,null,null,{"$f":"MAX(SUM(D103:D107)-5,$I$97)","v":{"$error":"#VALUE!"}},{"$f":"MAX(SUM(E103:E107)-5,$I$97)","v":{"$error":"#VALUE!"}},{"$f":"MAX(SUM(F103:F107)-5,$I$97)","v":{"$error":"#VALUE!"}},{"$f":"MAX(SUM(G103:G107)-5,$I$97)","v":{"$error":"#VALUE!"}},null,{"$f":"SUM(I103:I107)-5","v":{"$error":"#VALUE!"}},{"$f":"1-I102/E102","v":0},"relative to","Prefer"]
[null,null,null,null,null,null,null,null,null,{"$f":"1-I103/E103","v":{"$error":"#VALUE!"}},{"$f":"MATCH(K99,ModView,0)","v":1},{"$f":"MATCH(L99,ModView,0)","v":2}]
[null,"Geometric",null,null,null,null,null,null,null,null,{"$f":"I4","v":"Existing"},{"$f":"I2","v":"Standard"},"%"]
[null,null,"LW CMF",{"$f":"VLOOKUP(+D24,Construction!$C$3:$D$9,2)","v":{"$error":"#N/A"}},{"$f":"VLOOKUP(+E24,Construction!$C$3:$D$9,2)","v":1},{"$f":"VLOOKUP(+F24,Construction!$C$3:$D$9,2)","v":{"$error":"#N/A"}},{"$f":"VLOOKUP(+G24,Construction!$C$3:$D$9,2)","v":{"$error":"#N/A"}},{"$f":"H24","v":0},{"$f":"VLOOKUP(+I24,Construction!$C$3:$D$9,2)","v":1},null,{"$f":"INDEX($D100:$I100,K$98)","v":{"$error":"#N/A"}},{"$f":"INDEX($D100:$I100,L$98)","v":1},{"$f":"IF(ISERROR(1-L100/K100), 0, 1-L100/K100)","v":0}]
[null,null,"SW CMF",{"$f":"VLOOKUP(D25,Construction!$C$13:D23,2)","v":1.29},{"$f":"VLOOKUP(E25,Construction!$C$13:E23,2)","v":1.0900000000000001},{"$f":"VLOOKUP(F25,Construction!$C$13:F23,2)","v":1.29},{"$f":"VLOOKUP(G25,Construction!$C$13:G23,2)","v":1.29},{"$f":"IF($I$2=\"Existing\",(1-D101/E101),(IF($I$2=\"Design 1\",(1-F101/E101),(IF($I$2=\"Design 2\",(1-G101/E101),(IF($I$2=\"Optimal\",(1-I101/E101),0)))))))","v":0},{"$f":"VLOOKUP(I25,Construction!$C$13:I23,2)","v":0.9},null,{"$f":"INDEX($D101:$I101,K$98)","v":1.29},{"$f":"INDEX($D101:$I101,L$98)","v":1.0900000000000001},{"$f":"IF(ISERROR(1-L101/K101), 0, 1-L101/K101)","v":0.15503875968992242}]
[null,null,"Placeholder for super deficincy",1,1,1,1,0,1,null,{"$f":"INDEX($D102:$I102,K$98)","v":1},{"$f":"INDEX($D102:$I102,L$98)","v":1},0]
[null,null,"HC and Grade",{"$f":"D$134^D$127","v":1},{"$f":"E$134^E$127","v":{"$error":"#VALUE!"}},{"$f":"F$134^F$127","v":1},{"$f":"G$134^G$127","v":1},0,{"$f":"I$134^I$127","v":{"$error":"#VALUE!"}},null,{"$f":"INDEX($D103:$I103,K$98)","v":1},{"$f":"INDEX($D103:$I103,L$98)","v":{"$error":"#VALUE!"}},0]
[null,null,"HC and VC Crest type I",{"$f":"D$135^D$128","v":1},{"$f":"E$135^E$128","v":1},{"$f":"F$135^F$128","v":1},{"$f":"G$135^G$128","v":1},0,{"$f":"I$135^I$128","v":{"$error":"#VALUE!"}},null,{"$f":"INDEX($D104:$I104,K$98)","v":1},{"$f":"INDEX($D104:$I104,L$98)","v":1},0]
[null,null,"HC and VC Sag type I",{"$f":"D$136^D$129","v":1},{"$f":"E$136^E$129","v":1},{"$f":"F$136^F$129","v":1},{"$f":"G$136^G$129","v":1},0,{"$f":"I$136^I$129","v":{"$error":"#VALUE!"}},null,{"$f":"INDEX($D105:$I105,K$98)","v":1},{"$f":"INDEX($D105:$I105,L$98)","v":1},0]
[null,null,"HC and VC Crest type II",{"$f":"D$137^D$130","v":1},{"$f":"E$137^E$130","v":1},{"$f":"F$137^F$130","v":1},{"$f":"G$137^G$130","v":1},0,{"$f":"I$137^I$130","v":{"$error":"#VALUE!"}},{"$f":"1-I111/E111","v":{"$error":"#VALUE!"}},{"$f":"INDEX($D106:$I106,K$98)","v":1},{"$f":"INDEX($D106:$I106,L$98)","v":1},0]
[null,null,"HC and VC Sag type II",{"$f":"D$138^D$131","v":1},{"$f":"E$138^E$131","v":1},{"$f":"F$138^F$131","v":1},{"$f":"G$138^G$131","v":1},0,{"$f":"I$138^I$131","v":{"$error":"#VALUE!"}},{"$f":"1-I112/E112","v":{"$error":"#VALUE!"}},{"$f":"INDEX($D107:$I107,K$98)","v":1},{"$f":"INDEX($D107:$I107,L$98)","v":1},0]
[null,null,"Add TWLTL",{"$f":"IF(D$43=\"No\",1,CMFs!$F$17)","v":0.71},{"$f":"IF(E$43=\"No\",1,CMFs!$F$17)","v":1},{"$f":"IF(F$43=\"No\",1,CMFs!$F$17)","v":0.71},{"$f":"IF(G$43=\"No\",1,CMFs!$F$17)","v":0.71},0,{"$f":"IF(I$43=\"No\",1,CMFs!$F$17)","v":1},{"$f":"1-I113/E113","v":{"$error":"#VALUE!"}},{"$f":"INDEX($D108:$I108,K$98)","v":0.71},{"$f":"INDEX($D108:$I108,L$98)","v":1},-0.40845070422535223]
[null,null,"Passing Lane Type",{"$f":"IF(ISNUMBER(INDEX(PassLNCMF, MATCH(D44,Passing_Lane_Type,0))),INDEX(PassLNCMF, MATCH(D44,Passing_Lane_Type,0)),1)","v":1},{"$f":"IF(ISNUMBER(INDEX(PassLNCMF, MATCH(E44,Passing_Lane_Type,0))),INDEX(PassLNCMF, MATCH(E44,Passing_Lane_Type,0)),1)","v":1},{"$f":"IF(ISNUMBER(INDEX(PassLNCMF, MATCH(F44,Passing_Lane_Type,0))),INDEX(PassLNCMF, MATCH(F44,Passing_Lane_Type,0)),1)","v":1},{"$f":"IF(ISNUMBER(INDEX(PassLNCMF, MATCH(G44,Passing_Lane_Type,0))),INDEX(PassLNCMF, MATCH(G44,Passing_Lane_Type,0)),1)","v":1},0,{"$f":"IF(ISNUMBER(INDEX(PassLNCMF, MATCH(I44,Passing_Lane_Type,0))),INDEX(PassLNCMF, MATCH(I44,Passing_Lane_Type,0)),1)","v":0.65},{"$f":"1-I114/E114","v":{"$error":"#VALUE!"}},{"$f":"INDEX($D109:$I109,K$98)","v":1},{"$f":"INDEX($D109:$I109,L$98)","v":1},0]
[null,null,null,null,null,null,null,null,null,{"$f":"I115/E115","v":{"$error":"#VALUE!"}}]
[null,null,"COMBINED Calculated CMF",{"$f":"+D100*D101*D102*D103*D104*D105*D106*D107*D108*D109","v":{"$error":"#N/A"}},{"$f":"+E100*E101*E102*E103*E104*E105*E106*E107*E108*E109","v":{"$error":"#VALUE!"}},{"$f":"+F100*F101*F102*F103*F104*F105*F106*F107*F108*F109","v":{"$error":"#N/A"}},{"$f":"+G100*G101*G102*G103*G104*G105*G106*G107*G108*G109","v":{"$error":"#N/A"}},{"$f":"IF($I$2=\"Existing\",(D111),(IF($I$2=\"Design 1\",(F111),(IF($I$2=\"Design 2\",(G111),(IF($I$2=\"Optimal\",(I111),E111)))))))","v":{"$error":"#VALUE!"}},{"$f":"+I100*I101*I102*I103*I104*I105*I106*I107*I108*I109","v":{"$error":"#VALUE!"}},null,{"$f":"INDEX($D111:$I111,K$98)","v":{"$error":"#N/A"}},{"$f":"INDEX($D111:$I111,L$98)","v":{"$error":"#VALUE!"}},{"$f":"IF(ISERROR(1-L111/K111), 0, 1-L111/K111)","v":0}]
[null,null,"Calculated Relative to Design Standards (Column E)",{"$f":"+D111/$E$111","v":{"$error":"#N/A"}},{"$error":"#VALUE!"},{"$error":"#N/A"},{"$error":"#N/A"},{"$error":"#VALUE!"},{"$error":"#VALUE!"},null,{"$f":"INDEX($D112:$I112,K$98)","v":{"$error":"#N/A"}},{"$f":"INDEX($D112:$I112,L$98)","v":{"$error":"#VALUE!"}},0]
[null,null,"P(Crash)",{"$f":"+D112/(D112+1)","v":{"$error":"#N/A"}},{"$error":"#VALUE!"},{"$error":"#N/A"},{"$error":"#N/A"},{"$error":"#VALUE!"},{"$error":"#VALUE!"},null,{"$f":"INDEX($D113:$I113,K$98)","v":{"$error":"#N/A"}},{"$f":"INDEX($D113:$I113,L$98)","v":{"$error":"#VALUE!"}},0]
[null,null,"Factor Change on S curve",{"$f":"+D113/$E$113","v":{"$error":"#N/A"}},{"$error":"#VALUE!"},{"$error":"#N/A"},{"$error":"#N/A"},{"$error":"#VALUE!"},{"$error":"#VALUE!"},null,{"$f":"INDEX($D114:$I114,K$98)","v":{"$error":"#N/A"}},{"$f":"INDEX($D114:$I114,L$98)","v":{"$error":"#VALUE!"}},0]
[null,null,"Adjust to Scale of 100",{"$f":"+$I$114/D114*100","v":{"$error":"#VALUE!"}},{"$error":"#VALUE!"},{"$error":"#VALUE!"},{"$error":"#VALUE!"},{"$error":"#VALUE!"},{"$error":"#VALUE!"}]
[null,null,"Unadjusted Combined Relative to Standard",{"$f":"+D111/$E$111","v":{"$error":"#N/A"}},{"$error":"#VALUE!"},{"$error":"#N/A"},{"$error":"#N/A"},{"$error":"#VALUE!"},{"$error":"#VALUE!"},null,{"$f":"INDEX($D116:$I116,K$98)","v":{"$error":"#N/A"}},{"$f":"INDEX($D116:$I116,L$98)","v":{"$error":"#VALUE!"}},{"$f":"IF(ISERROR(1-L116/K116), 0, 1-L116/K116)","v":0}]
[null,null,null,null,null,null,null,null,null,{"$f":"I122/E122","v":{"$error":"#VALUE!"}}]
[null,null,"Adjusted for PA Basis",{"$f":"+D111*(1+1)/(1+D111*1)","v":{"$error":"#N/A"}},{"$error":"#VALUE!"},{"$error":"#N/A"},{"$error":"#N/A"},{"$f":"IF($I$2=\"Existing\",(D118),(IF($I$2=\"Design 1\",(F118),(IF($I$2=\"Design 2\",(G118),(IF($I$2=\"Optimal\",(I118),E118)))))))","v":{"$error":"#VALUE!"}},{"$error":"#VALUE!"},null,{"$f":"INDEX($D118:$I118,K$98)","v":{"$error":"#N/A"}},{"$f":"INDEX($D118:$I118,L$98)","v":{"$error":"#VALUE!"}},{"$f":"IF(ISERROR(1-L118/K118), 0, 1-L118/K118)","v":0}]
[null,null,"Corrected by Odds Ratio",{"$f":"+D118/$E$118","v":{"$error":"#N/A"}},{"$error":"#VALUE!"},{"$error":"#N/A"},{"$error":"#N/A"},{"$f":"IF($I$2=\"Existing\",(D119),(IF($I$2=\"Design 1\",(F119),(IF($I$2=\"Design 2\",(G119),(IF($I$2=\"Optimal\",(I119),E119)))))))","v":{"$error":"#VALUE!"}},{"$error":"#VALUE!"},null,{"$f":"INDEX($D119:$I119,K$98)","v":{"$error":"#N/A"}},{"$f":"INDEX($D119:$I119,L$98)","v":{"$error":"#VALUE!"}},0]
[null,null,"Pinned s",{"$f":"(1/D119)^$D123","v":{"$error":"#N/A"}},{"$error":"#VALUE!"},{"$error":"#N/A"},{"$error":"#N/A"},{"$error":"#VALUE!"},{"$error":"#VALUE!"},{"$f":"I125/E125","v":{"$error":"#VALUE!"}},{"$f":"INDEX($D120:$I120,K$98)","v":{"$error":"#N/A"}},{"$f":"INDEX($D120:$I120,L$98)","v":{"$error":"#VALUE!"}},0]
[null,null,null,{"$f":"(D120+$F124-1)/(1+(D120+$F124-1))","v":{"$error":"#N/A"}},{"$error":"#VALUE!"},{"$error":"#N/A"},{"$error":"#N/A"},{"$error":"#VALUE!"},{"$error":"#VALUE!"},null,{"$f":"INDEX($D121:$I121,K$98)","v":{"$error":"#N/A"}},{"$f":"INDEX($D121:$I121,L$98)","v":{"$error":"#VALUE!"}},0]
[null,null,"Score Odds Ratio with Optimal (old)",{"$f":"MIN(ROUND($I$119/D119*Construction!$I$8,0),$I122)","v":{"$error":"#VALUE!"}},{"$f":"MIN(ROUND($I$119/E119*Construction!$I$8,0),$I122)","v":{"$error":"#VALUE!"}},{"$f":"MIN(ROUND($I$119/F119*Construction!$I$8,0),$I122)","v":{"$error":"#VALUE!"}},{"$f":"MIN(ROUND($I$119/G119*Construction!$I$8,0),$I122)","v":{"$error":"#VALUE!"}},{"$f":"IF($I$2=\"Existing\",(D122),(IF($I$2=\"Design 1\",(F122),(IF($I$2=\"Design 2\",(G122),(IF($I$2=\"Optimal\",(I122),E122)))))))","v":{"$error":"#VALUE!"}},{"$f":"ROUND($I$119/I119*Construction!$I$8,0)","v":{"$error":"#VALUE!"}}]
[null,null,"Logistic1",{"$f":"LN((D124/(1-D124))/(0.5/0.5))/LN($E119/I119)","v":{"$error":"#VALUE!"}}]
[null,null,"Logistic Param",0.999,null,{"$f":"0.7/0.3","v":2.3333333333333335}]
[null,null,"Score ",{"$f":"MIN(ROUND(D121*Construction!$I$8,0),$I122)","v":{"$error":"#N/A"}},{"$f":"MIN(ROUND(E121*Construction!$I$8,0),$I122)","v":{"$error":"#VALUE!"}},{"$f":"MIN(ROUND(F121*Construction!$I$8,0),$I122)","v":{"$error":"#N/A"}},{"$f":"MIN(ROUND(G121*Construction!$I$8,0),$I122)","v":{"$error":"#N/A"}},{"$f":"MIN(ROUND(H121*Construction!$I$8,0),$I122)","v":{"$error":"#VALUE!"}},{"$f":"MIN(ROUND(I121*Construction!$I$8,0),$I122)","v":{"$error":"#VALUE!"}}]
[]
[null,null,"HC and Grade",{"$f":"IF($B$135,0,1)","v":1},{"$f":"IF($B$135,0,1)","v":1},{"$f":"IF($B$135,0,1)","v":1},{"$f":"IF($B$135,0,1)","v":1},{"$f":"IF($I$2=\"Existing\",(D127),(IF($I$2=\"Design 1\",(F127),(IF($I$2=\"Design 2\",(G127),(IF($I$2=\"Optimal\",(I127),E127)))))))","v":1},{"$f":"IF($B$135,0,1)","v":1}]
[null,null,"HC and VC Crest type I",{"$f":"IF(AND($B$135=1,SIGN(D$36)=1,ABS(D$36)<=ABS(D$36-D$37),D$42=\"Crest\"),1,0)","v":0},{"$f":"IF(AND($B$135=1, SIGN(IF(ISNUMBER(E$36),E$36,0))=1,ABS(IF(ISNUMBER(E$36),E$36,0)) <= ABS(IF(ISNUMBER(E$36),E$36,0)-IF(ISNUMBER(E$37),E$37,0)),E$42=\"Crest\"),1,0)","v":0},{"$f":"IF(AND($B$135=1,SIGN(F$36)=1,ABS(F$36)<=ABS(F$36-F$37),F$42=\"Crest\"),1,0)","v":0},{"$f":"IF(AND($B$135=1,SIGN(G$36)=1,ABS(G$36)<=ABS(G$36-G$37),G$42=\"Crest\"),1,0)","v":0},{"$f":"IF($I$2=\"Existing\",(D128),(IF($I$2=\"Design 1\",(F128),(IF($I$2=\"Design 2\",(G128),(IF($I$2=\"Optimal\",(I128),E128)))))))","v":0},{"$f":"IF(AND($B$135=1,SIGN(I$36)=1,ABS(I$36)<=ABS(I$36-IF(ISNUMBER(I$37), I$37,0)),I$42=\"Crest\"),1,0)","v":{"$error":"#VALUE!"}}]
["HC?",null,"HC and VC Sag type I",{"$f":"IF(AND($B$135=1,SIGN(D$36)=1,ABS(D$36)<=ABS(D$36-D$37),D$42=\"Sag\"),1,0)","v":0},{"$f":"IF(AND($B$135=1, SIGN(IF(ISNUMBER(E$36),E$36,0))=1,ABS(IF(ISNUMBER(E$36),E$36,0)) <= ABS(IF(ISNUMBER(E$36),E$36,0)-IF(ISNUMBER(E$37),E$37,0)),E$42=\"Sag\"),1,0)","v":0},{"$f":"IF(AND($B$135=1,SIGN(F$36)=1,ABS(F$36)<=ABS(F$36-F$37),F$42=\"Sag\"),1,0)","v":0},{"$f":"IF(AND($B$135=1,SIGN(G$36)=1,ABS(G$36)<=ABS(G$36-G$37),G$42=\"Sag\"),1,0)","v":0},{"$f":"IF($I$2=\"Existing\",(D129),(IF($I$2=\"Design 1\",(F129),(IF($I$2=\"Design 2\",(G129),(IF($I$2=\"Optimal\",(I129),E129)))))))","v":0},{"$f":"IF(AND($B$135=1,SIGN(I$36)=1,ABS(I$36)<=ABS(I$36-IF(ISNUMBER(I$37), I$37,0)),I$42=\"Sag\"),1,0)","v":{"$error":"#VALUE!"}}]
["VC?",null,"HC and VC Crest type II",{"$f":"IF(AND($B$135=1,D$42=\"Crest\",D$128=0),1,0)","v":0},{"$f":"IF(AND($B$135=1,E$42=\"Crest\",E$128=0),1,0)","v":0},{"$f":"IF(AND($B$135=1,F$42=\"Crest\",F$128=0),1,0)","v":0},{"$f":"IF(AND($B$135=1,G$42=\"Crest\",G$128=0),1,0)","v":0},{"$f":"IF($I$2=\"Existing\",(D130),(IF($I$2=\"Design 1\",(F130),(IF($I$2=\"Design 2\",(G130),(IF($I$2=\"Optimal\",(I130),E130)))))))","v":0},{"$f":"IF(AND($B$135=1,I$42=\"Crest\",I$128=0),1,0)","v":{"$error":"#VALUE!"}}]
[null,null,"HC and VC Sag type II",{"$f":"IF(AND($B$135=1,D$42=\"Sag\",D$129=0),1,0)","v":0},{"$f":"IF(AND($B$135=1,E$42=\"Sag\",E$129=0),1,0)","v":0},{"$f":"IF(AND($B$135=1,F$42=\"Sag\",F$129=0),1,0)","v":0},{"$f":"IF(AND($B$135=1,G$42=\"Sag\",G$129=0),1,0)","v":0},{"$f":"IF($I$2=\"Existing\",(D131),(IF($I$2=\"Design 1\",(F131),(IF($I$2=\"Design 2\",(G131),(IF($I$2=\"Optimal\",(I131),E131)))))))","v":0},{"$f":"IF(AND($B$135=1,I$42=\"Sag\",I$129=0),1,0)","v":{"$error":"#VALUE!"}}]
[null,"Yes/No"]
[null,null,"HC and VC:",null,{"$f":"EXP(0.042*ABS(D$36)+$B$134*0.16*LN(2*5730/IF(ISNUMBER(E$29),E$29,1)))","v":1}]
[null,{"$f":"IF(B27=\"Yes\",1,0)","v":0},"HC and Grade",{"$f":"IF($B$135=0,EXP(0.042*ABS(D$36)+$B$134*0.16*LN(2*5730/D$141)+4.16*$B$134/D$141/IF(ISNUMBER(D$30),D$30,999999)),1)","v":1},{"$f":"IF($B$135=0,EXP(0.042*ABS(E$36)+$B$134*0.16*LN(2*5730/E$141)+4.16*$B$134/E$141/IF(ISNUMBER(E$30),E$30,999999)),1)","v":{"$error":"#VALUE!"}},1,1,{"$f":"IF($B$135=0,EXP(0.042*ABS(H$36)+$B$134*0.16*LN(2*5730/IF(ISNUMBER(H$29),H$29,1))+4.16*$B$134/IF(ISNUMBER(H$29),H$29,1)/IF(ISNUMBER(H$30),H$30,1)),1)","v":{"$error":"#DIV/0!"}},{"$error":"#VALUE!"},null,{"$f":"INDEX($D134:$I134,K$98)","v":1},{"$f":"INDEX($D134:$I134,L$98)","v":{"$error":"#VALUE!"}},{"$f":"IF(ISERROR(1-L134/K134), 0, 1-L134/K134)","v":0}]
[null,{"$f":"IF(B34=\"Yes\",1,0)","v":0},"HC and VC Crest type I",{"$f":"IF($B$135=0,1,EXP(0.005648908*5730*ABS(+D$36-D$37)*$B$135/D$141*$B$134))","v":1},{"$f":"IF($B$135=0,1,EXP(0.005648908*5730*ABS(+E$36-E$37)*$B$135/E$141*$B$134))","v":1},1,1,{"$f":"IF($I$2=\"Existing\",(D135),(IF($I$2=\"Design 1\",(F135),(IF($I$2=\"Design 2\",(G135),(IF($I$2=\"Optimal\",(I135),E135)))))))","v":1},1,null,{"$f":"INDEX($D135:$I135,K$98)","v":1},{"$f":"INDEX($D135:$I135,L$98)","v":1},0]
[null,null,"HC and VC Sag type I",{"$f":"IF($B$135=0,1,EXP(9.15857042*$B$135/D$142+0.010284958*5730*$B$135*$B$134*ABS(+D$36-D$37)/D$141))","v":1},{"$f":"IF($B$135=0,1,EXP(9.15857042*$B$135/E$142+0.010284958*5730*$B$135*$B$134*ABS(+E$36-E$37)/E$141))","v":1},1,1,{"$f":"IF($I$2=\"Existing\",(D136),(IF($I$2=\"Design 1\",(F136),(IF($I$2=\"Design 2\",(G136),(IF($I$2=\"Optimal\",(I136),E136)))))))","v":1},1,null,{"$f":"INDEX($D136:$I136,K$98)","v":1},{"$f":"INDEX($D136:$I136,L$98)","v":1},0]
[null,null,"HC and VC Crest type II",{"$f":"IF($B$135=0,1,EXP(0.005648908*5730*ABS(+D$36-D$37)*$B$135/D$141*$B$134))","v":1},{"$f":"IF($B$135=0,1,EXP(0.005648908*5730*ABS(+E$36-E$37)*$B$135/E$141*$B$134))","v":1},1,1,{"$f":"IF($I$2=\"Existing\",(D137),(IF($I$2=\"Design 1\",(F137),(IF($I$2=\"Design 2\",(G137),(IF($I$2=\"Optimal\",(I137),E137)))))))","v":1},1,null,{"$f":"INDEX($D137:$I137,K$98)","v":1},{"$f":"INDEX($D137:$I137,L$98)","v":1},0]
[null,null,"HC and VC Sag type II",{"$f":"IF($B$135=0,1,(0.246011284*EXP(LN(0.188*2*5730/D$141)*$B$134)+0.7514288716*EXP(0.022*5730/D$141*ABS(D$36-D$37)*$B$135*$B$134)))","v":1},{"$f":"IF($B$135=0,1,(0.246011284*EXP(LN(0.188*2*5730/E$141)*$B$134)+0.7514288716*EXP(0.022*5730/E$141*ABS(E$36-E$37)*$B$135*$B$134)))","v":1},1,1,{"$f":"IF($I$2=\"Existing\",(D138),(IF($I$2=\"Design 1\",(F138),(IF($I$2=\"Design 2\",(G138),(IF($I$2=\"Optimal\",(I138),E138)))))))","v":1},1,null,{"$f":"INDEX($D138:$I138,K$98)","v":1},{"$f":"INDEX($D138:$I138,L$98)","v":1},0]
[]
[null,null,"Combined HZ and VT",{"$f":"MMULT(TRANSPOSE(D127:D131),D134:D138)","v":1},{"$f":"MMULT(TRANSPOSE(E127:E131),E134:E138)","v":{"$error":"#VALUE!"}},{"$f":"MMULT(TRANSPOSE(F127:F131),F134:F138)","v":1},{"$f":"MMULT(TRANSPOSE(G127:G131),G134:G138)","v":1},{"$f":"IF($I$2=\"Existing\",(D140),(IF($I$2=\"Design 1\",(F140),(IF($I$2=\"Design 2\",(G140),(IF($I$2=\"Optimal\",(I140),E140)))))))","v":{"$error":"#VALUE!"}},{"$f":"MMULT(TRANSPOSE(I127:I131),I134:I138)","v":{"$error":"#VALUE!"}},null,{"$f":"INDEX($D140:$I140,K$98)","v":1},{"$f":"INDEX($D140:$I140,L$98)","v":{"$error":"#VALUE!"}},{"$f":"IF(ISERROR(1-L140/K140), 0, 1-L140/K140)","v":0}]
[null,null,"effective R for calculation",{"$f":"IF(ISNUMBER(D29), D29, 99999999)","v":99999999},{"$f":"IF(ISNUMBER(E29), E29, 99999999)","v":590},99999999,99999999,null,590]
[null,null,"effective K for calculation",{"$f":"IF(ISNUMBER(D39), D39, 9999999)","v":9999999},{"$f":"IF(ISNUMBER(E39), E39, 9999999)","v":9999999},9999999,9999999,null,9999999]
[null,"Traffic"]
[null,null,null,"Existing","Standard","Design 1","Design 2"]
[null,null,"Advance static curve warning signs",{"$f":"IF(AND($B$27=\"Yes\",D$52=\"Yes\"),(Traffic!$F$4-1)*AVERAGE(Constraints!$F$37,Constraints!$H$37)/Constraints!$D$37+1,1)","v":1},{"$f":"IF(AND($B$27=\"Yes\",E$52=\"Yes\"),(Traffic!$F$4-1)*AVERAGE(Constraints!$F$37,Constraints!$H$37)/Constraints!$D$37+1,1)","v":1},{"$f":"IF(AND($B$27=\"Yes\",F$52=\"Yes\"),(Traffic!$F$4-1)*AVERAGE(Constraints!$F$37,Constraints!$H$37)/Constraints!$D$37+1,1)","v":1},{"$f":"IF(AND($B$27=\"Yes\",G$52=\"Yes\"),(Traffic!$F$4-1)*AVERAGE(Constraints!$F$37,Constraints!$H$37)/Constraints!$D$37+1,1)","v":1},{"$f":"IF($I$2=\"Existing\",(D145),(IF($I$2=\"Design 1\",(F145),(IF($I$2=\"Design 2\",(G145),(IF($I$2=\"Optimal\",(I145),E145)))))))","v":1},{"$f":"IF(AND($B$27=\"Yes\",I$52=\"Yes\"),(Traffic!$F$4-1)*AVERAGE(Constraints!$F$37,Constraints!$H$37)/Constraints!$D$37+1,1)","v":1},null,{"$f":"INDEX($D145:$I145,K$98)","v":1},{"$f":"INDEX($D145:$I145,L$98)","v":1},{"$f":"IF(ISERROR(1-L145/K145), 0, 1-L145/K145)","v":0}]
[null,null,"Install chevron signs on horizontal curves",{"$f":"IF(D$53=\"No\",1,(IF(AND($B$27=\"Yes\",D$24<11.5),((Traffic!$F$6-1)*(Constraints!$E$35+Constraints!$E$31))+1,1)))","v":1},{"$f":"IF(E$53=\"No\",1,(IF(AND($B$27=\"Yes\",E$24<11.5),((Traffic!$F$6-1)*(Constraints!$E$35+Constraints!$E$31))+1,1)))","v":1},{"$f":"IF(F$53=\"No\",1,(IF(AND($B$27=\"Yes\",F$24<11.5),((Traffic!$F$6-1)*(Constraints!$E$35+Constraints!$E$31))+1,1)))","v":1},{"$f":"IF(G$53=\"No\",1,(IF(AND($B$27=\"Yes\",G$24<11.5),((Traffic!$F$6-1)*(Constraints!$E$35+Constraints!$E$31))+1,1)))","v":1},{"$f":"IF($I$2=\"Existing\",(D146),(IF($I$2=\"Design 1\",(F146),(IF($I$2=\"Design 2\",(G146),(IF($I$2=\"Optimal\",(I146),E146)))))))","v":1},{"$f":"IF(I$53=\"No\",1,(IF(AND($B$27=\"Yes\",I$24<11.5),((Traffic!$F$6-1)*(Constraints!$E$35+Constraints!$E$31))+1,1)))","v":1},null,{"$f":"INDEX($D146:$I146,K$98)","v":1},{"$f":"INDEX($D146:$I146,L$98)","v":1},0]
[null,null,"Install post-mounted delineators",{"$f":"IF(AND($B$27=\"Yes\",D$54=\"Yes\"),(Traffic!$F$12-1)*Constraints!$E$36+1,1)","v":1},{"$f":"IF(AND($B$27=\"Yes\",E$54=\"Yes\"),(Traffic!$F$12-1)*Constraints!$E$36+1,1)","v":1},{"$f":"IF(AND($B$27=\"Yes\",F$54=\"Yes\"),(Traffic!$F$12-1)*Constraints!$E$36+1,1)","v":1},{"$f":"IF(AND($B$27=\"Yes\",G$54=\"Yes\"),(Traffic!$F$12-1)*Constraints!$E$36+1,1)","v":1},{"$f":"IF($I$2=\"Existing\",(D147),(IF($I$2=\"Design 1\",(F147),(IF($I$2=\"Design 2\",(G147),(IF($I$2=\"Optimal\",(I147),E147)))))))","v":1},{"$f":"IF(AND($B$27=\"Yes\",I$54=\"Yes\"),(Traffic!$F$12-1)*Constraints!$E$36+1,1)","v":1},null,{"$f":"INDEX($D147:$I147,K$98)","v":1},{"$f":"INDEX($D147:$I147,L$98)","v":1},0]
[null,null,"Install edgeline  or Profile pavement markings ",{"$f":"IF(D$55=\"Yes\",Traffic!$F$18*0.5+((Traffic!$F$20*(Constraints!$H$36+Constraints!$H$32)+1*(Constraints!$H$37-(Constraints!$H$36+Constraints!$H$32)))/Constraints!$H$37)*0.5,1)","v":1},{"$f":"IF(E$55=\"Yes\",Traffic!$F$18*0.5+((Traffic!$F$20*(Constraints!$H$36+Constraints!$H$32)+1*(Constraints!$H$37-(Constraints!$H$36+Constraints!$H$32)))/Constraints!$H$37)*0.5,1)","v":0.86175881308648239},{"$f":"IF(F$55=\"Yes\",Traffic!$F$18*0.5+((Traffic!$F$20*(Constraints!$H$36+Constraints!$H$32)+1*(Constraints!$H$37-(Constraints!$H$36+Constraints!$H$32)))/Constraints!$H$37)*0.5,1)","v":1},{"$f":"IF(G$55=\"Yes\",Traffic!$F$18*0.5+((Traffic!$F$20*(Constraints!$H$36+Constraints!$H$32)+1*(Constraints!$H$37-(Constraints!$H$36+Constraints!$H$32)))/Constraints!$H$37)*0.5,1)","v":1},{"$f":"IF($I$2=\"Existing\",(D148),(IF($I$2=\"Design 1\",(F148),(IF($I$2=\"Design 2\",(G148),(IF($I$2=\"Optimal\",(I148),E148)))))))","v":0.86175881308648239},{"$f":"IF(I$55=\"Yes\",Traffic!$F$18*0.5+((Traffic!$F$20*(Constraints!$H$36+Constraints!$H$32)+1*(Constraints!$H$37-(Constraints!$H$36+Constraints!$H$32)))/Constraints!$H$37)*0.5,1)","v":0.86175881308648239},null,{"$f":"INDEX($D148:$I148,K$98)","v":1},{"$f":"INDEX($D148:$I148,L$98)","v":0.86175881308648239},0.13824118691351761]
[null,null,"Profiles",1,1,1,1,1,1,null,{"$f":"INDEX($D149:$I149,K$98)","v":1},{"$f":"INDEX($D149:$I149,L$98)","v":1},0]
[null,null,"Shoulder rumble strips",{"$f":"IF(D$56=\"No\",1,(Traffic!$F$27*(Constraints!$H$36+Constraints!$H$32)+1*(Constraints!$H$37-(Constraints!$H$36+Constraints!$H$32)))/Constraints!$H$37)","v":0.89760950690192376},{"$f":"IF(E$56=\"No\",1,(Traffic!$F$27*(Constraints!$H$36+Constraints!$H$32)+1*(Constraints!$H$37-(Constraints!$H$36+Constraints!$H$32)))/Constraints!$H$37)","v":0.89760950690192376},{"$f":"IF(F$56=\"No\",1,(Traffic!$F$27*(Constraints!$H$36+Constraints!$H$32)+1*(Constraints!$H$37-(Constraints!$H$36+Constraints!$H$32)))/Constraints!$H$37)","v":0.89760950690192376},{"$f":"IF(G$56=\"No\",1,(Traffic!$F$27*(Constraints!$H$36+Constraints!$H$32)+1*(Constraints!$H$37-(Constraints!$H$36+Constraints!$H$32)))/Constraints!$H$37)","v":0.89760950690192376},{"$f":"IF($I$2=\"Existing\",(D150),(IF($I$2=\"Design 1\",(F150),(IF($I$2=\"Design 2\",(G150),(IF($I$2=\"Optimal\",(I150),E150)))))))","v":0.89760950690192376},{"$f":"IF(I$56=\"No\",1,(Traffic!$F$27*(Constraints!$H$36+Constraints!$H$32)+1*(Constraints!$H$37-(Constraints!$H$36+Constraints!$H$32)))/Constraints!$H$37)","v":0.89760950690192376},null,{"$f":"INDEX($D150:$I150,K$98)","v":0.89760950690192376},{"$f":"INDEX($D150:$I150,L$98)","v":0.89760950690192376},0]
[null,null,"Install centerline rumble strips",{"$f":"IF(D$57=\"No\",1,Traffic!$F$30)","v":0.86},{"$f":"IF(E$57=\"No\",1,Traffic!$F$30)","v":1},{"$f":"IF(F$57=\"No\",1,Traffic!$F$30)","v":0.86},{"$f":"IF(G$57=\"No\",1,Traffic!$F$30)","v":0.86},{"$f":"IF($I$2=\"Existing\",(D151),(IF($I$2=\"Design 1\",(F151),(IF($I$2=\"Design 2\",(G151),(IF($I$2=\"Optimal\",(I151),E151)))))))","v":1},{"$f":"IF(I$57=\"No\",1,Traffic!$F$30)","v":0.86},null,{"$f":"INDEX($D151:$I151,K$98)","v":0.86},{"$f":"INDEX($D151:$I151,L$98)","v":1},-0.16279069767441867]
[null,null,"Driveway Density (driveways per mile)",{"$f":"EXP(-LN(Traffic!$F$32)*(D$58-$E$58))","v":0.81707280688754669},{"$f":"EXP(-LN(Traffic!$F$32)*(E$58-$E$58))","v":1},{"$f":"EXP(-LN(Traffic!$F$32)*(F$58-$E$58))","v":0.81707280688754669},{"$f":"EXP(-LN(Traffic!$F$32)*(G$58-$E$58))","v":0.81707280688754669},{"$f":"IF($I$2=\"Existing\",(D152),(IF($I$2=\"Design 1\",(F152),(IF($I$2=\"Design 2\",(G152),(IF($I$2=\"Optimal\",(I152),E152)))))))","v":1},{"$f":"EXP(-LN(Traffic!$F$32)*(I$58-$E$58))","v":0.81707280688754669},null,{"$f":"INDEX($D152:$I152,K$98)","v":0.81707280688754669},{"$f":"INDEX($D152:$I152,L$98)","v":1},-0.22388114201141129]
[null,null,"Install lighting",{"$f":"IF(D$59=\"No\",1,1-(((1-Traffic!$F$55*Constraints!$H$37-Constraints!$F$37/3)+((1-Traffic!$F$55*Constraints!$D$37-Constraints!$H$37)))*$S$19+((1-Traffic!$F$57)*Constraints!$F$37/3))/Constraints!$D$37)","v":0.977040446881142},{"$f":"IF(E$59=\"No\",1,1-(((1-Traffic!$F$55*Constraints!$H$37-Constraints!$F$37/3)+((1-Traffic!$F$55*Constraints!$D$37-Constraints!$H$37)))*$S$19+((1-Traffic!$F$57)*Constraints!$F$37/3))/Constraints!$D$37)","v":1},{"$f":"IF(F$59=\"No\",1,1-(((1-Traffic!$F$55*Constraints!$H$37-Constraints!$F$37/3)+((1-Traffic!$F$55*Constraints!$D$37-Constraints!$H$37)))*$S$19+((1-Traffic!$F$57)*Constraints!$F$37/3))/Constraints!$D$37)","v":0.977040446881142},{"$f":"IF(G$59=\"No\",1,1-(((1-Traffic!$F$55*Constraints!$H$37-Constraints!$F$37/3)+((1-Traffic!$F$55*Constraints!$D$37-Constraints!$H$37)))*$S$19+((1-Traffic!$F$57)*Constraints!$F$37/3))/Constraints!$D$37)","v":0.977040446881142},{"$f":"IF($I$2=\"Existing\",(D153),(IF($I$2=\"Design 1\",(F153),(IF($I$2=\"Design 2\",(G153),(IF($I$2=\"Optimal\",(I153),E153)))))))","v":1},{"$f":"IF(I$59=\"No\",1,1-(((1-Traffic!$F$55*Constraints!$H$37-Constraints!$F$37/3)+((1-Traffic!$F$55*Constraints!$D$37-Constraints!$H$37)))*$S$19+((1-Traffic!$F$57)*Constraints!$F$37/3))/Constraints!$D$37)","v":0.977040446881142},null,{"$f":"INDEX($D153:$I153,K$98)","v":0.977040446881142},{"$f":"INDEX($D153:$I153,L$98)","v":1},-2.3499081529478438E-2]
[null,null,"Pavement friction (skid number)",{"$f":"EXP(LN(Traffic!$F$49)*(D$60-$E$60))","v":1.3972521419325798},{"$f":"EXP(LN(Traffic!$F$49)*(E$60-$E$60))","v":1},{"$f":"IF(MATCH(F60,SkidNums,0)=3, $D154,EXP(LN(Traffic!$F$49)*(RIGHT(F$60,2)-$E$60)))","v":{"$error":"#N/A"}},{"$f":"IF(MATCH(G60,SkidNums,0)=3, $D154,EXP(LN(Traffic!$F$49)*(RIGHT(G$60,2)-$E$60)))","v":{"$error":"#N/A"}},{"$f":"IF($I$2=\"Existing\",(D154),(IF($I$2=\"Design 1\",(F154),(IF($I$2=\"Design 2\",(G154),(IF($I$2=\"Optimal\",(I154),E154)))))))","v":1},{"$f":"EXP(LN(Traffic!$F$49)*(I$60-$E$60))","v":0.85753553626991963},null,{"$f":"INDEX($D154:$I154,K$98)","v":1.3972521419325798},{"$f":"INDEX($D154:$I154,L$98)","v":1},0.28430956017940245]
[]
[]
[null,null,"COMBINED Calculated CMF",{"$f":"+D145*D146*D147*D148*D149*D150*D151*D152*D153*D154","v":0.86106111787419426},{"$f":"+E145*E146*E147*E148*E149*E150*E151*E152*E153*E154","v":0.7735229032829446},{"$f":"+F145*F146*F147*F148*F149*F150*F151*F152*F153*F154","v":{"$error":"#N/A"}},{"$f":"+G145*G146*G147*G148*G149*G150*G151*G152*G153*G154","v":{"$error":"#N/A"}},{"$f":"IF($I$2=\"Existing\",(D157),(IF($I$2=\"Design 1\",(F157),(IF($I$2=\"Design 2\",(G157),(IF($I$2=\"Optimal\",(I157),E157)))))))","v":0.7735229032829446},{"$f":"+I145*I146*I147*I148*I149*I150*I151*I152*I153*I154","v":0.45540422392050506},null,{"$f":"INDEX($D157:$I157,K$98)","v":0.86106111787419426},{"$f":"INDEX($D157:$I157,L$98)","v":0.7735229032829446},{"$f":"IF(ISERROR(1-L157/K157), 0, 1-L157/K157)","v":0.10166318368592209}]
[null,null,"Calculated Relative to Design Standards (Column E)",{"$f":"+D157/$E$157","v":1.1131682258142903},{"$f":"+E157/$E$157","v":1},{"$f":"+F157/$E$157","v":{"$error":"#N/A"}},{"$f":"+G157/$E$157","v":{"$error":"#N/A"}},1,{"$f":"+I157/$E$157","v":0.58874045227064742},null,{"$f":"INDEX($D158:$I158,K$98)","v":1.1131682258142903},{"$f":"INDEX($D158:$I158,L$98)","v":1},0.1016631836859222]
[null,null,"P(Crash)",{"$f":"+D158/(D158+1)","v":0.52677690882151185},{"$f":"+E158/(E158+1)","v":0.5},{"$f":"+F158/(F158+1)","v":{"$error":"#N/A"}},{"$f":"+G158/(G158+1)","v":{"$error":"#N/A"}},0.5,{"$f":"+I158/(I158+1)","v":0.37057056829465901}]
[null,null,"Factor Change on S curve",{"$f":"+D159/$E$159","v":1.0535538176430237},{"$f":"+E159/$E$159","v":1},{"$f":"+F159/$E$159","v":{"$error":"#N/A"}},{"$f":"+G159/$E$159","v":{"$error":"#N/A"}},1,{"$f":"+I159/$E$159","v":0.74114113658931802}]
[null,null,"Adjust to Scale of 100",{"$f":"+$I$114/D160*100","v":{"$error":"#VALUE!"}},{"$f":"+$I$114/E160*100","v":{"$error":"#VALUE!"}},{"$f":"+$I$114/F160*100","v":{"$error":"#VALUE!"}},{"$f":"+$I$114/G160*100","v":{"$error":"#VALUE!"}},{"$error":"#VALUE!"},{"$f":"+$I$114/I160*100","v":{"$error":"#VALUE!"}}]
[null,null,"Unadjusted Combined Relative to Standard",{"$f":"+D157/$E$157","v":1.1131682258142903},{"$f":"+E157/$E$157","v":1},{"$f":"+F157/$E$157","v":{"$error":"#N/A"}},{"$f":"+G157/$E$157","v":{"$error":"#N/A"}},1,{"$f":"+I157/$E$157","v":0.58874045227064742}]
[null,null,null,null,null,null,null,0,null,{"$f":"I168/E168","v":1.4285714285714286}]
[null,null,"Adjusted for PA Basis",{"$f":"+D157*(1+1)/(1+D157*1)","v":0.92534426688549098},{"$f":"+E157*(1+1)/(1+E157*1)","v":0.8723010025425515},{"$f":"+F157*(1+1)/(1+F157*1)","v":{"$error":"#N/A"}},{"$f":"+G157*(1+1)/(1+G157*1)","v":{"$error":"#N/A"}},0.8723010025425515,{"$f":"+I157*(1+1)/(1+I157*1)","v":0.62581132641453641}]
[null,null,"Corrected by Odds Ratio",{"$f":"+D164/$E$164","v":1.0608084413388623},{"$f":"+E164/$E$164","v":1},{"$f":"+F164/$E$164","v":{"$error":"#N/A"}},{"$f":"+G164/$E$164","v":{"$error":"#N/A"}},1,{"$f":"+I164/$E$164","v":0.71742589380322175}]
[null,null,null,{"$f":"(1/D165)^$D169","v":0.29295399474123779},1,{"$error":"#N/A"},{"$error":"#N/A"},1,998.99999999999955,{"$f":"I171/E171","v":1.4285714285714286}]
[null,null,null,{"$f":"(D166+$F170-1)/(1+(D166+$F170-1))","v":0.61923435059440457},0.70000000000000007,{"$error":"#N/A"},{"$error":"#N/A"},0.70000000000000007,0.99900133155792281]
[null,null,"Score Odds Ratio with Optimal as 100 (old)",{"$f":"MIN(ROUND($I$165/D165*Construction!$I$9,0),$I168)","v":14},{"$f":"MIN(ROUND($I$165/E165*Construction!$I$9,0),$I168)","v":14},{"$f":"MIN(ROUND($I$165/F165*Construction!$I$9,0),$I168)","v":{"$error":"#N/A"}},{"$f":"MIN(ROUND($I$165/G165*Construction!$I$9,0),$I168)","v":{"$error":"#N/A"}},null,{"$f":"ROUND($I$165/I165*Construction!$I$9,0)","v":20}]
[null,null,"Logistic1",{"$f":"LN((D170/(1-D170))/(0.5/0.5))/LN($E165/I165)","v":20.798114554240879}]
[null,null,"Logistic Param",0.999,null,{"$f":"0.7/0.3","v":2.3333333333333335}]
[null,null,"Score ",{"$f":"MIN(ROUND(D167*Construction!$I$9,0),$I168)","v":12},{"$f":"MIN(ROUND(E167*Construction!$I$9,0),$I168)","v":14},{"$f":"MIN(ROUND(F167*Construction!$I$9,0),$I168)","v":{"$error":"#N/A"}},{"$f":"MIN(ROUND(G167*Construction!$I$9,0),$I168)","v":{"$error":"#N/A"}},null,{"$f":"MIN(ROUND(I167*Construction!$I$9,0),$I168)","v":20}]
[]
[]
[]
[]
[]
[]
[null,"Roadsde",null,"Existing","Standard","Design 1","Design 2"]
[null,null,null,{"$f":"MID(D72,FIND(\":\",D72,1)+1,FIND(\"H\",D72,1)-FIND(\":\",D72,1)-1)+0","v":{"$error":"#VALUE!"}},{"$f":"MID(E72,FIND(\":\",E72,1)+1,FIND(\"H\",E72,1)-FIND(\":\",E72,1)-1)+0","v":4},{"$f":"MID(F72,FIND(\":\",F72,1)+1,FIND(\"H\",F72,1)-FIND(\":\",F72,1)-1)+0","v":{"$error":"#VALUE!"}},{"$f":"MID(G72,FIND(\":\",G72,1)+1,FIND(\"H\",G72,1)-FIND(\":\",G72,1)-1)+0","v":{"$error":"#VALUE!"}},null,{"$f":"MID(I72,FIND(\":\",I72,1)+1,FIND(\"H\",I72,1)-FIND(\":\",I72,1)-1)+0","v":6},null,{"$f":"INDEX($D179:$I179,K$98)","v":{"$error":"#VALUE!"}},{"$f":"INDEX($D179:$I179,L$98)","v":4},{"$f":"IF(ISERROR(1-L179/K179), 0, 1-L179/K179)","v":0}]
[null,null,"Sideslope (Foreslope)",{"$f":"IF(D179<=3,1,IF(OR(D179=4,D179=5),(Roadside!$F$15-1)*Constraints!$H$37/Constraints!$D$37+1,(Roadside!$F$15*Roadside!$F$16-1)*Constraints!$H$37/Constraints!$D$37+1))","v":{"$error":"#VALUE!"}},{"$f":"IF(E179<=3,1,IF(OR(E179=4,E179=5),(Roadside!$F$15-1)*Constraints!$H$37/Constraints!$D$37+1,(Roadside!$F$15*Roadside!$F$16-1)*Constraints!$H$37/Constraints!$D$37+1))","v":0.8286893555394641},{"$f":"IF(F179<=3,1,IF(OR(F179=4,F179=5),(Roadside!$F$15-1)*Constraints!$H$37/Constraints!$D$37+1,(Roadside!$F$15*Roadside!$F$16-1)*Constraints!$H$37/Constraints!$D$37+1))","v":{"$error":"#VALUE!"}},{"$f":"IF(G179<=3,1,IF(OR(G179=4,G179=5),(Roadside!$F$15-1)*Constraints!$H$37/Constraints!$D$37+1,(Roadside!$F$15*Roadside!$F$16-1)*Constraints!$H$37/Constraints!$D$37+1))","v":{"$error":"#VALUE!"}},{"$f":"IF($I$2=\"Existing\",(D180),(IF($I$2=\"Design 1\",(F180),(IF($I$2=\"Design 2\",(G180),(IF($I$2=\"Optimal\",(I180),E180)))))))","v":0.8286893555394641},{"$f":"IF(I179<=3,1,IF(OR(I179=4,I179=5),(Roadside!$F$15-1)*Constraints!$H$37/Constraints!$D$37+1,(Roadside!$F$15*Roadside!$F$16-1)*Constraints!$H$37/Constraints!$D$37+1))","v":0.77664355022240605},null,{"$f":"INDEX($D180:$I180,K$98)","v":{"$error":"#VALUE!"}},{"$f":"INDEX($D180:$I180,L$98)","v":0.8286893555394641},0]
[null,null,"Backslope",1,1,1,1,{"$f":"IF($I$2=\"Existing\",(D181),(IF($I$2=\"Design 1\",(F181),(IF($I$2=\"Design 2\",(G181),(IF($I$2=\"Optimal\",(I181),E181)))))))","v":1},1,null,{"$f":"INDEX($D181:$I181,K$98)","v":1},{"$f":"INDEX($D181:$I181,L$98)","v":1},0]
[null,null,"SafetyEdge",{"$f":"IF(D$74=\"No\",1,(Roadside!$F$23-1)*AVERAGE(Constraints!$H$37,Constraints!$F$37)/Constraints!$D$37+1)","v":0.97258384193648495},{"$f":"IF(E$74=\"No\",1,(Roadside!$F$23-1)*AVERAGE(Constraints!$H$37,Constraints!$F$37)/Constraints!$D$37+1)","v":1},{"$f":"IF(F$74=\"No\",1,(Roadside!$F$23-1)*AVERAGE(Constraints!$H$37,Constraints!$F$37)/Constraints!$D$37+1)","v":0.97258384193648495},{"$f":"IF(G$74=\"No\",1,(Roadside!$F$23-1)*AVERAGE(Constraints!$H$37,Constraints!$F$37)/Constraints!$D$37+1)","v":0.97258384193648495},{"$f":"IF($I$2=\"Existing\",(D182),(IF($I$2=\"Design 1\",(F182),(IF($I$2=\"Design 2\",(G182),(IF($I$2=\"Optimal\",(I182),E182)))))))","v":1},{"$f":"IF(I$74=\"No\",1,(Roadside!$F$23-1)*AVERAGE(Constraints!$H$37,Constraints!$F$37)/Constraints!$D$37+1)","v":0.97258384193648495},null,{"$f":"INDEX($D182:$I182,K$98)","v":0.97258384193648495},{"$f":"INDEX($D182:$I182,L$98)","v":1},-2.8188991921691331E-2]
[null,null,"Lateral Clearance (ft)",{"$f":"IF($B$27=\"Yes\",((EXP(LN(Roadside!$F$11)*(IF(D$76=\"None\",40,D$75)-30)/30)-1))*Constraints!$H$36/Constraints!$D$37+1,((EXP(LN(Roadside!$F$10)*(IF(D$76=\"None\",40,D$75)-30)/30)-1))*Constraints!$H$36/Constraints!$D$37+1)","v":1.0992721491203288},{"$f":"IF($B$27=\"Yes\",((EXP(LN(Roadside!$F$11)*(IF(E$76=\"None\",40,E$75)-30)/30)-1))*Constraints!$H$36/Constraints!$D$37+1,((EXP(LN(Roadside!$F$10)*(IF(E$76=\"None\",40,E$75)-30)/30)-1))*Constraints!$H$36/Constraints!$D$37+1)","v":1},{"$f":"IF($B$27=\"Yes\",((EXP(LN(Roadside!$F$11)*(IF(F$76=\"None\",40,F$75)-30)/30)-1))*Constraints!$H$36/Constraints!$D$37+1,((EXP(LN(Roadside!$F$10)*(IF(F$76=\"None\",40,F$75)-30)/30)-1))*Constraints!$H$36/Constraints!$D$37+1)","v":1.0992721491203288},{"$f":"IF($B$27=\"Yes\",((EXP(LN(Roadside!$F$11)*(IF(G$76=\"None\",40,G$75)-30)/30)-1))*Constraints!$H$36/Constraints!$D$37+1,((EXP(LN(Roadside!$F$10)*(IF(G$76=\"None\",40,G$75)-30)/30)-1))*Constraints!$H$36/Constraints!$D$37+1)","v":1.0992721491203288},{"$f":"IF($I$2=\"Existing\",(D183),(IF($I$2=\"Design 1\",(F183),(IF($I$2=\"Design 2\",(G183),(IF($I$2=\"Optimal\",(I183),E183)))))))","v":1},{"$f":"IF($B$27=\"Yes\",((EXP(LN(Roadside!$F$11)*(IF(I$76=\"None\",40,I$75)-30)/30)-1))*Constraints!$H$36/Constraints!$D$37+1,((EXP(LN(Roadside!$F$10)*(IF(I$76=\"None\",40,I$75)-30)/30)-1))*Constraints!$H$36/Constraints!$D$37+1)","v":0.97455184373954995},null,{"$f":"INDEX($D183:$I183,K$98)","v":1.0992721491203288},{"$f":"INDEX($D183:$I183,L$98)","v":1},9.0307162971216326E-2]
[null,null,"Fixed Object Type",{"$f":"IF(D$76=\"Guardrail\",(Roadside!$F$25-1)*(($I$75-D$75)/$I$75)^2*Constraints!$H$36/Constraints!$D$37+1,1)","v":1},{"$f":"IF(E$76=\"Guardrail\",(Roadside!$F$25-1)*(($I$75-E$75)/$I$75)^2*Constraints!$H$36/Constraints!$D$37+1,1)","v":1},{"$f":"IF(F$76=\"Guardrail\",(Roadside!$F$25-1)*(($I$75-F$75)/$I$75)^2*Constraints!$H$36/Constraints!$D$37+1,1)","v":1},{"$f":"IF(G$76=\"Guardrail\",(Roadside!$F$25-1)*(($I$75-G$75)/$I$75)^2*Constraints!$H$36/Constraints!$D$37+1,1)","v":1},{"$f":"IF($I$2=\"Existing\",(D184),(IF($I$2=\"Design 1\",(F184),(IF($I$2=\"Design 2\",(G184),(IF($I$2=\"Optimal\",(I184),E184)))))))","v":1},{"$f":"IF(I$76=\"Guardrail\",(Roadside!$F$25-1)*(($I$75-I$75)/$I$75)^2*Constraints!$H$36/Constraints!$D$37+1,1)","v":1},null,{"$f":"INDEX($D184:$I184,K$98)","v":1},{"$f":"INDEX($D184:$I184,L$98)","v":1},0]
[]
[]
[null,null,"COMBINED Calculated CMF",{"$f":"+D180*D181*D182*D183*D184","v":{"$error":"#VALUE!"}},{"$f":"+E180*E181*E182*E183*E184","v":0.8286893555394641},{"$f":"+F180*F181*F182*F183*F184","v":{"$error":"#VALUE!"}},{"$f":"+G180*G181*G182*G183*G184","v":{"$error":"#VALUE!"}},{"$f":"IF($I$2=\"Existing\",(D187),(IF($I$2=\"Design 1\",(F187),(IF($I$2=\"Design 2\",(G187),(IF($I$2=\"Optimal\",(I187),E187)))))))","v":0.8286893555394641},{"$f":"+I180*I181*I182*I183*I184","v":0.73612867842813945}]
[null,null,"Calculated Relative to Design Standards (Column E)",{"$f":"+D187/$E$187","v":{"$error":"#VALUE!"}},{"$f":"+E187/$E$187","v":1},{"$f":"+F187/$E$187","v":{"$error":"#VALUE!"}},{"$f":"+G187/$E$187","v":{"$error":"#VALUE!"}},1,{"$f":"+I187/$E$187","v":0.88830473507039431}]
[null,null,"P(Crash)",{"$f":"+D188/(D188+1)","v":{"$error":"#VALUE!"}},{"$f":"+E188/(E188+1)","v":0.5},{"$f":"+F188/(F188+1)","v":{"$error":"#VALUE!"}},{"$f":"+G188/(G188+1)","v":{"$error":"#VALUE!"}},0.5,{"$f":"+I188/(I188+1)","v":0.47042445987261644}]
[null,null,"Factor Change on S curve",{"$f":"+D189/$E$189","v":{"$error":"#VALUE!"}},{"$f":"+E189/$E$189","v":1},{"$f":"+F189/$E$189","v":{"$error":"#VALUE!"}},{"$f":"+G189/$E$189","v":{"$error":"#VALUE!"}},1,{"$f":"+I189/$E$189","v":0.94084891974523288}]
[null,null,"Adjust to Scale of 100",{"$f":"+$I$114/D190*100","v":{"$error":"#VALUE!"}},{"$f":"+$I$114/E190*100","v":{"$error":"#VALUE!"}},{"$f":"+$I$114/F190*100","v":{"$error":"#VALUE!"}},{"$f":"+$I$114/G190*100","v":{"$error":"#VALUE!"}},{"$error":"#VALUE!"},{"$f":"+$I$114/I190*100","v":{"$error":"#VALUE!"}}]
[null,null,"Unadjusted Combined Relative to Standard",{"$f":"+D187/$E$187","v":{"$error":"#VALUE!"}},{"$f":"+E187/$E$187","v":1},{"$f":"+F187/$E$187","v":{"$error":"#VALUE!"}},{"$f":"+G187/$E$187","v":{"$error":"#VALUE!"}},1,{"$f":"+I187/$E$187","v":0.88830473507039431}]
[null,null,null,null,null,null,null,null,null,{"$f":"I198/E198","v":1.1111111111111112}]
[null,null,"Adjusted for PA Basis",{"$f":"+D187*(1+1)/(1+D187*1)","v":{"$error":"#VALUE!"}},{"$f":"+E187*(1+1)/(1+E187*1)","v":0.90632053282226321},{"$f":"+F187*(1+1)/(1+F187*1)","v":{"$error":"#VALUE!"}},{"$f":"+G187*(1+1)/(1+G187*1)","v":{"$error":"#VALUE!"}},{"$f":"IF($I$2=\"Existing\",(D194),(IF($I$2=\"Design 1\",(F194),(IF($I$2=\"Design 2\",(G194),(IF($I$2=\"Optimal\",(I194),E194)))))))","v":0.90632053282226321},{"$f":"+I187*(1+1)/(1+I187*1)","v":0.84801165671039724}]
[null,null,"Corrected by Odds Ratio",{"$f":"+D187/$E$187","v":{"$error":"#VALUE!"}},{"$f":"+E187/$E$187","v":1},{"$f":"+F187/$E$187","v":{"$error":"#VALUE!"}},{"$f":"+G187/$E$187","v":{"$error":"#VALUE!"}},{"$f":"IF($I$2=\"Existing\",(D195),(IF($I$2=\"Design 1\",(F195),(IF($I$2=\"Design 2\",(G195),(IF($I$2=\"Optimal\",(I195),E195)))))))","v":1},{"$f":"+I187/$E$187","v":0.88830473507039431}]
[null,null,null,{"$f":"(1/D195)^$D199","v":{"$error":"#VALUE!"}},1,{"$error":"#VALUE!"},{"$error":"#VALUE!"},1,998.99999999999955,{"$f":"I201/E201","v":1.4814814814814814}]
[null,null,null,{"$f":"(D196+$F200-1)/(1+(D196+$F200-1))","v":{"$error":"#VALUE!"}},0.66666666666666663,{"$error":"#VALUE!"},{"$error":"#VALUE!"},0.66666666666666663,0.99900099900099903]
[null,null,"Score Odds Ratio with Optimal as 100 (old)",{"$f":"MIN(ROUND($I$195/D195*Construction!$I$10,0),$I198)","v":{"$error":"#VALUE!"}},{"$f":"MIN(ROUND($I$195/E195*Construction!$I$10,0),$I198)","v":36},{"$f":"MIN(ROUND($I$195/F195*Construction!$I$10,0),$I198)","v":{"$error":"#VALUE!"}},{"$f":"MIN(ROUND($I$195/G195*Construction!$I$10,0),$I198)","v":{"$error":"#VALUE!"}},null,{"$f":"ROUND($I$195/I195*Construction!$I$10,0)","v":40}]
[null,null,"Logistic1",{"$f":"LN((D200/(1-D200))/(0.5/0.5))/LN($E195/I195)","v":58.314167600285003}]
[null,null,"Logistic Param",0.999,null,2]
[null,null,"Score ",{"$f":"MIN(ROUND(D197*Construction!$I$10,0),$I198)","v":{"$error":"#VALUE!"}},{"$f":"MIN(ROUND(E197*Construction!$I$10,0),$I198)","v":27},{"$f":"MIN(ROUND(F197*Construction!$I$10,0),$I198)","v":{"$error":"#VALUE!"}},{"$f":"MIN(ROUND(G197*Construction!$I$10,0),$I198)","v":{"$error":"#VALUE!"}},null,{"$f":"MIN(ROUND(I197*Construction!$I$10,0),$I198)","v":40}]
[]
[]
[]
[]
[null,null,{"$f":"D84/D179","v":{"$error":"#VALUE!"}},null,{"$f":"ROUNDUP((MIN($I$14,$I$15)-E24-E25)/$C$206,0)","v":{"$error":"#VALUE!"}},{"$f":"ROUNDUP((MIN($I$14,$I$15)-F24-F25)/$C$206,0)","v":{"$error":"#VALUE!"}},{"$f":"ROUNDUP((MIN($I$14,$I$15)-G24-G25)/$C$206,0)","v":{"$error":"#VALUE!"}},null,{"$f":"ROUNDUP((MIN($I$14,$I$15)-I24-I25)/$C$206,0)","v":{"$error":"#VALUE!"}}]
[]
[]
[null,null,"Distance to low point","Distance to low point",{"$f":"$C$206*E179","v":{"$error":"#VALUE!"}},{"$f":"$C$206*F179","v":{"$error":"#VALUE!"}},{"$f":"$C$206*G179","v":{"$error":"#VALUE!"}},null,{"$f":"$C$206*I179","v":{"$error":"#VALUE!"}}]
[null,null,null,"Additional ROW1 Needed for Foreslope",{"$f":"IF(E209>($I$14-E24-E25),E209-($I$14-E24-E25),0)","v":{"$error":"#VALUE!"}},{"$f":"IF(F209>($I$14-F24-F25),F209-($I$14-F24-F25),0)","v":{"$error":"#VALUE!"}},{"$f":"IF(G209>($I$14-G24-G25),G209-($I$14-G24-G25),0)","v":{"$error":"#VALUE!"}},null,{"$f":"IF(I209>($I$14-I24-I25),I209-($I$14-I24-I25),0)","v":{"$error":"#VALUE!"}}]
[null,null,null,"Additional ROW2 Needed for Foreslope",{"$f":"IF(E209>($I$15-E24-E25),E209-($I$15-E24-E25),0)","v":{"$error":"#VALUE!"}},{"$f":"IF(F209>($I$15-F24-F25),F209-($I$15-F24-F25),0)","v":{"$error":"#VALUE!"}},{"$f":"IF(G209>($I$15-G24-G25),G209-($I$15-G24-G25),0)","v":{"$error":"#VALUE!"}},null,{"$f":"IF(I209>($I$15-I24-I25),I209-($I$15-I24-I25),0)","v":{"$error":"#VALUE!"}}]
[]
[null,null,null,"Additional ROW1 Needed for Lateral Clearance",{"$f":"IF((CL248+E26)-$I$14<0,0,(CL248+E26)-$I$14)","v":8},{"$f":"IF((CM248+F26)-$I$14<0,0,(CM248+F26)-$I$14)","v":0},{"$f":"IF((CN248+G26)-$I$14<0,0,(CN248+G26)-$I$14)","v":0},null,{"$f":"IF((CP248+I26)-$I$14<0,0,(CP248+I26)-$I$14)","v":0}]
[null,null,null,"Additional ROW2 Needed for Lateral Clearance",{"$f":"IF((CL248+E26)-$I$15<0,0,(CL248+E26)-$I$15)","v":8},{"$f":"IF((CM248+F26)-$I$15<0,0,(CM248+F26)-$I$15)","v":0},{"$f":"IF((CN248+G26)-$I$15<0,0,(CN248+G26)-$I$15)","v":0},null,{"$f":"IF((CP248+I26)-$I$15<0,0,(CP248+I26)-$I$15)","v":0}]
[]
[]
[]
[]
[]
[]
[]
[]
[]
[]
[]
[null,null,"For Vertical Opt Use when Yes Vertical:"]
[null,null,"G1",{"$f":"D36","v":0},null,{"$f":"F36","v":0},{"$f":"G36","v":0},null,{"$f":"IF(ISERROR($E$234),\"\",INDEX(D227:G227,$E$234))","v":""}]
[null,null,"G2",{"$f":"D37","v":0},null,{"$f":"F37","v":0},{"$f":"G37","v":0},null,{"$f":"IF(ISERROR($E$234),\"\",INDEX(D228:G228,$E$234))","v":""}]
[null,null,"abs(G2-G1)",{"$f":"ABS(D36-D37)","v":0},null,{"$f":"ABS(F36-F37)","v":0},{"$f":"ABS(G36-G37)","v":0}]
[null,null,"Count in indicator (K no change; or K change but accept)",{"$f":"IF(D39<>\"\",1,\"\")","v":""},null,{"$f":"IF(OR(AND($B$34 = \"Yes\", $D$39 <> F39, F39 <>\"\", $D$39 <> \"\", F41=\"Yes.\"),AND($B$34 = \"Yes\", $D$39 = F39, F39 <>\"\", $D$39 <> \"\")), 1,\"\")","v":""},{"$f":"IF(OR(AND($B$34 = \"Yes\", $D$39 <> G39, G39 <>\"\", $D$39 <> \"\", G41=\"Yes.\"),AND($B$34 = \"Yes\", $D$39 = G39, G39 <>\"\", $D$39 <> \"\")), 1,\"\")","v":""}]
[]
[null,null,"Valid abs(G2-G1)",{"$f":"IF(ISERROR(D229*D230),\"\",D229*D230)","v":""},null,{"$f":"IF(ISERROR(F229*F230),\"\",F229*F230)","v":""},{"$f":"IF(ISERROR(G229*G230),\"\",G229*G230)","v":""}]
[null,null,"The min valid abs(G2-G1)",null,{"$f":"MIN(D232,F232,G232)","v":0}]
[null,null,"Index",null,{"$f":"MATCH(E233,D232:G232,0)","v":{"$error":"#N/A"}}]
[]
[null,null,"For Vertical Opt Use When No Vertical:"]
[null,null,"G1",{"$f":"IF(ISBLANK(D36), 999, D36)","v":999},null,{"$f":"IF(ISBLANK(F36), 999, F36)","v":999},{"$f":"IF(ISBLANK(G36), 999, G36)","v":999},null,{"$f":"IF(E242=999,\"\",E242)","v":""}]
[null,null,"Sign of G1",{"$f":"IF(D237>=0,1,-1)","v":1},null,{"$f":"IF(F237>=0,1,-1)","v":1},{"$f":"IF(G237>=0,1,-1)","v":1}]
[null,null,"Abs G1",{"$f":"ABS(D237)","v":999},null,{"$f":"ABS(F237)","v":999},{"$f":"ABS(G237)","v":999}]
[null,null,"Min Abs G1",null,{"$f":"MIN(D239:G239)","v":999}]
[null,null,"Which is the Best G1",null,{"$f":"MATCH(E240,D239:G239,0)","v":1}]
[null,null,"Best G1 Value",null,{"$f":"INDEX(D237:G237,1,E241)","v":999}]
[]
[]
[]
[]
[]
[]
[null,null,"Check if all cells filled",{"$f":"SUM(D251:D311)","v":18},{"$f":"SUM(E251:E311)","v":1},18,18,null,1]
[]
[null,null,{"$f":"C24","v":"Lane Width (feet)"},{"$f":"IF(ISBLANK(D24),1,0)","v":1},{"$f":"IF(ISBLANK(E24),1,0)","v":0},1,1,null,0]
[null,null,{"$f":"C25","v":"Shoulder Width (feet)"},{"$f":"IF(ISBLANK(D25),1,0)","v":1},0,1,1,null,0]
[null,null,"Cross-slope or Superelevation (%)",{"$f":"IF(ISBLANK(D26),1,0)","v":1},0,1,1,null,0]
[null,null,"Horizontal Curve Present?"]
[null,null,"Horizontal Curve Data for Controlling Element:"]
[null,null,"  Radius (feet)",{"$f":"IF(AND($B$27=\"Yes\", ISBLANK(D29)),1,0)","v":0},{"$f":"IF(AND($B$27=\"Yes\", ISBLANK(E29)),1,0)","v":0},0,0,null,0]
[null,null,"Length of Horizontal Curve (feet)",{"$f":"IF(AND($B$27=\"Yes\", ISBLANK(D30)),1,0)","v":0},0,0,0,null,0]
[null,null,"Calculated Deflection Angle ∆"]
[]
[null,null,null,null,null,{"$f":"IF(AND($B$27 = \"Yes\", $D$31 <> F31, F31<>\"\",ISBLANK(F33)),1,0)","v":0},{"$f":"IF(AND($B$27 = \"Yes\", $D$31 <> G31, G31<>\"\",ISBLANK(G33)),1,0)","v":0}]
[null,null,"Vertical Curve Present?"]
[null,null,"Vertical Curve Data for Controlling Element:"]
[null,null,"  Approach (Entry) Grade, G1 (%)",{"$f":"IF(ISBLANK(D36),1,0)","v":1},{"$f":"IF(ISBLANK(E36),1,0)","v":0},1,1,null,0]
[null,null,"  Departure (Exit) Grade, G2 (%)",{"$f":"IF(AND($B$34=\"Yes\", ISBLANK(D37)),1,0)","v":0},{"$f":"IF(AND($B$34=\"Yes\", ISBLANK(E37)),1,0)","v":0},0,0,null,0]
[null,null,"  Length (feet)",{"$f":"IF(AND($B$34=\"Yes\", ISBLANK(D38)),1,0)","v":0},0,0,0,null,0]
[null,null,"  Calculated Rate of Change, K (ft/ft)"]
[]
[]
[]
[null,null,"TWLTL (two-way left-turn lane)",{"$f":"IF(ISBLANK(D43),1,0)","v":1},{"$f":"IF(ISBLANK(E43),1,0)","v":0},1,1,null,0]
[null,null,"Passing Lane Type",{"$f":"IF(ISBLANK(D44),1,0)","v":1},0,1,1,null,0]
[]
[]
[]
[]
[]
[]
[]
[null,null,"Advance Static Curve Warning Signs",{"$f":"IF(AND($B$27=\"Yes\", ISBLANK(D52)),1,0)","v":0},{"$f":"IF(AND($B$27=\"Yes\", ISBLANK(E52)),1,0)","v":0},0,0,null,{"$f":"IF(ISBLANK(I52),1,0)","v":0}]
[null,null,"Chevron Signs on Horizontal Curves",{"$f":"IF(AND($B$27=\"Yes\", ISBLANK(D53)),1,0)","v":0},0,0,0,null,0]
[null,null,"Post-Mounted Delineators",0,0,0,0,null,0]
[null,null,"Edgeline Pavement Markings or Profile Markings",{"$f":"IF(ISBLANK(D55),1,0)","v":1},0,1,1,null,0]
[null,null,"Shoulder Rumble Strips",1,0,1,1,null,0]
[null,null,"Centerline Rumble Strips",1,0,1,1,null,0]
[null,null,"Driveway Density (driveways per mile)",1,0,1,1,null,0]
[null,null,"Lighting",1,0,1,1,null,0]
[null,null,"Pavement Friction (skid number) ***",1,0,1,1,null,0]
[]
[]
[]
[]
[]
[]
[]
[]
[]
[]
[]
[null,null,"Sideslope (Foreslope)",{"$f":"IF(ISBLANK(D72),1,0)","v":1},0,1,1,null,0]
[null,null,"Backslope",1,0,1,1,null,0]
[null,null,"SafetyEdge",1,0,1,1,null,0]
[null,null,"Lateral Clearance to obstruction (ft)",1,0,1,1,null,0]
[null,null,"Obstruction Type",1,0,1,1,null,0]
[]
[]
[]
[]
[]
[]
[]
[null,null,"Distance to Slope Toe from Shoulder (ft)",1,{"$f":"$D$311","v":1},{"$f":"$D$311","v":1},1,null,1]
[]
[]
[]
[null,null,null,null,null,null,null,null,{"$f":"SUM(I316:I324)","v":9}]
[null,null,null,null,null,null,null,{"$f":"F9","v":"Location "},{"$f":"IF(ISBLANK(I9),1,0)","v":1}]
[null,null,null,null,null,null,null,{"$f":"F10","v":"Design Speed (mph)"},{"$f":"IF(ISBLANK(I10),1,0)","v":1}]
[null,null,null,null,null,null,null,"Posted Speed (mph)",1]
[null,null,null,null,null,null,null,"E max (%)",1]
[null,null,null,null,null,null,null,"Design Year AADT (vehicles per day)",1]
[null,null,null,null,null,null,null,"Dist. from Centerline to Left   ROW (feet)",1]
[null,null,null,null,null,null,null,"Dist. from Centerline to Right ROW (feet)",1]
[null,null,null,null,null,null,null,"H Curve Indicator",{"$f":"IF(ISBLANK(B27),1,0)","v":1}]
[null,null,null,null,null,null,null,"V Curve Indicator",{"$f":"IF(ISBLANK(B34),1,0)","v":1}]
[]
[]
[]
[]
[]
[]
[]
[]
[]
[]
[]
[]
[]
[]
[]
[]
[]
[]
[]
[]
[]
[]
[]
[]
[]
[]
[]
[]
[]
[]
[]
[]
[]
[]
[]
[]
[]
[]
[]
[]
[]
[]
[]
[]
[]
[]
[]
[]
[]
[]
[]
[1]
[22]
[21]
[20,null,null,{"$f":"Constraints!P174","v":"Emax=6%"}]
[19]
[18,null,{"$f":"HLOOKUP($I$10,Constraints!$Q$176:AD197,A376,TRUE)","v":{"$error":"#N/A"}},{"$f":"Constraints!P176","v":"super"}]
[17,null,{"$f":"HLOOKUP($I$10,Constraints!$Q$176:AD198,A377,TRUE)","v":{"$error":"#N/A"}},{"$f":"Constraints!P197","v":6},1050]
[16,null,{"$f":"HLOOKUP($I$10,Constraints!$Q$176:AD199,A378,TRUE)","v":{"$error":"#N/A"}},{"$f":"Constraints!P196","v":5.8}]
[15,null,{"$f":"HLOOKUP($I$10,Constraints!$Q$176:AD200,A379,TRUE)","v":{"$error":"#N/A"}},{"$f":"Constraints!P195","v":5.6}]
[14,null,{"$f":"HLOOKUP($I$10,Constraints!$Q$176:AD201,A380,TRUE)","v":{"$error":"#N/A"}},{"$f":"Constraints!P194","v":5.4}]
[13,null,{"$f":"HLOOKUP($I$10,Constraints!$Q$176:AD202,A381,TRUE)","v":{"$error":"#N/A"}},{"$f":"Constraints!P193","v":5.2}]
[12,null,{"$f":"HLOOKUP($I$10,Constraints!$Q$176:AD203,A382,TRUE)","v":{"$error":"#N/A"}},{"$f":"Constraints!P192","v":5}]
[11,null,{"$f":"HLOOKUP($I$10,Constraints!$Q$176:AD204,A383,TRUE)","v":{"$error":"#N/A"}},{"$f":"Constraints!P191","v":4.8}]
[10,null,{"$f":"HLOOKUP($I$10,Constraints!$Q$176:AD205,A384,TRUE)","v":{"$error":"#N/A"}},{"$f":"Constraints!P190","v":4.5999999999999996}]
[9,null,{"$f":"HLOOKUP($I$10,Constraints!$Q$176:AD206,A385,TRUE)","v":{"$error":"#N/A"}},{"$f":"Constraints!P189","v":4.4000000000000004}]
[8,null,{"$f":"HLOOKUP($I$10,Constraints!$Q$176:AD207,A386,TRUE)","v":{"$error":"#N/A"}},{"$f":"Constraints!P188","v":4.2}]
[7,null,{"$f":"HLOOKUP($I$10,Constraints!$Q$176:AD208,A387,TRUE)","v":{"$error":"#N/A"}},{"$f":"Constraints!P187","v":4}]
[6,null,{"$f":"HLOOKUP($I$10,Constraints!$Q$176:AD209,A388,TRUE)","v":{"$error":"#N/A"}},{"$f":"Constraints!P186","v":3.8}]
[5,null,{"$f":"HLOOKUP($I$10,Constraints!$Q$176:AD210,A389,TRUE)","v":{"$error":"#N/A"}},{"$f":"Constraints!P185","v":3.6}]
[4,null,{"$f":"HLOOKUP($I$10,Constraints!$Q$176:AD211,A390,TRUE)","v":{"$error":"#N/A"}},{"$f":"Constraints!P184","v":3.4}]
[3,null,{"$f":"HLOOKUP($I$10,Constraints!$Q$176:AD212,A391,TRUE)","v":{"$error":"#N/A"}},{"$f":"Constraints!P183","v":3.2}]
[2,null,{"$f":"HLOOKUP($I$10,Constraints!$Q$176:AD213,A392,TRUE)","v":{"$error":"#N/A"}},{"$f":"Constraints!P182","v":3}]
[null,null,{"$f":"HLOOKUP($I$10,Constraints!$Q$176:AD214,A393,TRUE)","v":{"$error":"#N/A"}},{"$f":"Constraints!P181","v":2.8}]
[null,null,{"$f":"HLOOKUP($I$10,Constraints!$Q$176:AD215,A394,TRUE)","v":{"$error":"#N/A"}},{"$f":"Constraints!P180","v":2.6}]
[null,null,{"$f":"HLOOKUP($I$10,Constraints!$Q$176:AD216,A395,TRUE)","v":{"$error":"#N/A"}},{"$f":"Constraints!P179","v":2.4}]
[null,null,{"$f":"HLOOKUP($I$10,Constraints!$Q$176:AD217,A396,TRUE)","v":{"$error":"#N/A"}},{"$f":"Constraints!P178","v":2.2000000000000002}]
[null,null,{"$f":"HLOOKUP($I$10,Constraints!$Q$176:AD218,A397,TRUE)","v":{"$error":"#N/A"}},{"$f":"Constraints!P177","v":2}]
[1]
[32]
[31]
[30,null,null,{"$f":"Constraints!P201","v":"Emax=8%"}]
[29]
[28,null,{"$f":"HLOOKUP($I$10,Constraints!$Q$203:AD234,A403,TRUE)","v":{"$error":"#N/A"}},{"$f":"Constraints!P203","v":"super"}]
[27,null,{"$f":"HLOOKUP($I$10,Constraints!$Q$203:AD235,A404,TRUE)","v":{"$error":"#N/A"}},{"$f":"INDEX(Constraints!$P$203:$P$234,A404,)","v":8}]
[26,null,{"$f":"HLOOKUP($I$10,Constraints!$Q$203:AD236,A405,TRUE)","v":{"$error":"#N/A"}},{"$f":"INDEX(Constraints!$P$203:$P$234,A405,)","v":7.8}]
[25,null,{"$f":"HLOOKUP($I$10,Constraints!$Q$203:AD237,A406,TRUE)","v":{"$error":"#N/A"}},{"$f":"INDEX(Constraints!$P$203:$P$234,A406,)","v":7.6}]
[24,null,{"$f":"HLOOKUP($I$10,Constraints!$Q$203:AD238,A407,TRUE)","v":{"$error":"#N/A"}},{"$f":"INDEX(Constraints!$P$203:$P$234,A407,)","v":7.4}]
[23,null,{"$f":"HLOOKUP($I$10,Constraints!$Q$203:AD239,A408,TRUE)","v":{"$error":"#N/A"}},{"$f":"INDEX(Constraints!$P$203:$P$234,A408,)","v":7.2}]
[22,null,{"$f":"HLOOKUP($I$10,Constraints!$Q$203:AD240,A409,TRUE)","v":{"$error":"#N/A"}},{"$f":"INDEX(Constraints!$P$203:$P$234,A409,)","v":7}]
[21,null,{"$f":"HLOOKUP($I$10,Constraints!$Q$203:AD241,A410,TRUE)","v":{"$error":"#N/A"}},{"$f":"INDEX(Constraints!$P$203:$P$234,A410,)","v":6.8}]
[20,null,{"$f":"HLOOKUP($I$10,Constraints!$Q$203:AD242,A411,TRUE)","v":{"$error":"#N/A"}},{"$f":"INDEX(Constraints!$P$203:$P$234,A411,)","v":6.6}]
[19,null,{"$f":"HLOOKUP($I$10,Constraints!$Q$203:AD243,A412,TRUE)","v":{"$error":"#N/A"}},{"$f":"INDEX(Constraints!$P$203:$P$234,A412,)","v":6.4}]
[18,null,{"$f":"HLOOKUP($I$10,Constraints!$Q$203:AD244,A413,TRUE)","v":{"$error":"#N/A"}},{"$f":"INDEX(Constraints!$P$203:$P$234,A413,)","v":6.2}]
[17,null,{"$f":"HLOOKUP($I$10,Constraints!$Q$203:AD245,A414,TRUE)","v":{"$error":"#N/A"}},{"$f":"INDEX(Constraints!$P$203:$P$234,A414,)","v":6}]
[16,null,{"$f":"HLOOKUP($I$10,Constraints!$Q$203:AD246,A415,TRUE)","v":{"$error":"#N/A"}},{"$f":"INDEX(Constraints!$P$203:$P$234,A415,)","v":5.8}]
[15,null,{"$f":"HLOOKUP($I$10,Constraints!$Q$203:AD247,A416,TRUE)","v":{"$error":"#N/A"}},{"$f":"INDEX(Constraints!$P$203:$P$234,A416,)","v":5.6}]
[14,null,{"$f":"HLOOKUP($I$10,Constraints!$Q$203:AD248,A417,TRUE)","v":{"$error":"#N/A"}},{"$f":"INDEX(Constraints!$P$203:$P$234,A417,)","v":5.4}]
[13,null,{"$f":"HLOOKUP($I$10,Constraints!$Q$203:AD249,A418,TRUE)","v":{"$error":"#N/A"}},{"$f":"INDEX(Constraints!$P$203:$P$234,A418,)","v":5.2}]
[12,null,{"$f":"HLOOKUP($I$10,Constraints!$Q$203:AD250,A419,TRUE)","v":{"$error":"#N/A"}},{"$f":"INDEX(Constraints!$P$203:$P$234,A419,)","v":5}]
[11,null,{"$f":"HLOOKUP($I$10,Constraints!$Q$203:AD251,A420,TRUE)","v":{"$error":"#N/A"}},{"$f":"INDEX(Constraints!$P$203:$P$234,A420,)","v":4.8}]
[10,null,{"$f":"HLOOKUP($I$10,Constraints!$Q$203:AD252,A421,TRUE)","v":{"$error":"#N/A"}},{"$f":"INDEX(Constraints!$P$203:$P$234,A421,)","v":4.5999999999999996}]
[9,null,{"$f":"HLOOKUP($I$10,Constraints!$Q$203:AD253,A422,TRUE)","v":{"$error":"#N/A"}},{"$f":"INDEX(Constraints!$P$203:$P$234,A422,)","v":4.4000000000000004}]
[8,null,{"$f":"HLOOKUP($I$10,Constraints!$Q$203:AD254,A423,TRUE)","v":{"$error":"#N/A"}},{"$f":"INDEX(Constraints!$P$203:$P$234,A423,)","v":4.2}]
[7,null,{"$f":"HLOOKUP($I$10,Constraints!$Q$203:AD255,A424,TRUE)","v":{"$error":"#N/A"}},{"$f":"INDEX(Constraints!$P$203:$P$234,A424,)","v":4}]
[6,null,{"$f":"HLOOKUP($I$10,Constraints!$Q$203:AD256,A425,TRUE)","v":{"$error":"#N/A"}},{"$f":"INDEX(Constraints!$P$203:$P$234,A425,)","v":3.8}]
[5,null,{"$f":"HLOOKUP($I$10,Constraints!$Q$203:AD257,A426,TRUE)","v":{"$error":"#N/A"}},{"$f":"INDEX(Constraints!$P$203:$P$234,A426,)","v":3.6}]
[4,null,{"$f":"HLOOKUP($I$10,Constraints!$Q$203:AD258,A427,TRUE)","v":{"$error":"#N/A"}},{"$f":"INDEX(Constraints!$P$203:$P$234,A427,)","v":3.4}]
[3,null,{"$f":"HLOOKUP($I$10,Constraints!$Q$203:AD259,A428,TRUE)","v":{"$error":"#N/A"}},{"$f":"INDEX(Constraints!$P$203:$P$234,A428,)","v":3.2}]
[2,null,{"$f":"HLOOKUP($I$10,Constraints!$Q$203:AD260,A429,TRUE)","v":{"$error":"#N/A"}},{"$f":"INDEX(Constraints!$P$203:$P$234,A429,)","v":3}]
[null,null,{"$f":"HLOOKUP($I$10,Constraints!$Q$203:AD261,A430,TRUE)","v":{"$error":"#N/A"}},{"$f":"INDEX(Constraints!$P$203:$P$234,A430,)","v":2.8}]
[null,null,{"$f":"HLOOKUP($I$10,Constraints!$Q$203:AD262,A431,TRUE)","v":{"$error":"#N/A"}},{"$f":"INDEX(Constraints!$P$203:$P$234,A431,)","v":2.6}]
[null,null,{"$f":"HLOOKUP($I$10,Constraints!$Q$203:AD263,A432,TRUE)","v":{"$error":"#N/A"}},{"$f":"INDEX(Constraints!$P$203:$P$234,A432,)","v":2.4}]
[null,null,{"$f":"HLOOKUP($I$10,Constraints!$Q$203:AD264,A433,TRUE)","v":{"$error":"#N/A"}},{"$f":"INDEX(Constraints!$P$203:$P$234,A433,)","v":2.2000000000000002}]
[null,null,{"$f":"HLOOKUP($I$10,Constraints!$Q$203:AD265,A434,TRUE)","v":{"$error":"#N/A"}},{"$f":"INDEX(Constraints!$P$203:$P$234,A434,)","v":2}]

{"sheet":"Configuration 12","index":22,"n_rows":439,"n_cols":113,"rows_kept":439,"cut":false,"hidden":false,"merged":[[1,6,2,7],[1,8,2,8],[1,21,1,37],[2,1,2,4],[2,21,3,28],[2,30,3,37],[3,1,3,4],[3,6,4,7],[3,8,4,8],[4,1,4,2],[4,3,4,4],[4,21,44,28],[4,30,44,37],[5,1,5,2],[5,3,5,4],[6,1,6,7],[7,1,7,4],[7,7,7,8],[8,3,8,4],[8,5,8,6],[75,16,75,21],[75,22,75,23],[9,3,9,4],[9,5,9,6],[10,3,10,4],[10,5,10,6],[11,5,11,6],[12,2,15,4],[12,5,12,6],[13,5,13,6],[14,5,14,6],[17,2,18,8],[20,5,20,7],[38,9,38,10],[45,12,45,19],[74,16,74,23],[76,22,76,23],[77,16,77,21],[77,22,77,23],[78,16,78,21],[78,22,78,23],[84,1,84,2],[85,1,85,2],[86,1,86,2],[95,10,95,12],[76,16,76,21]]}
[]
[null,null,null,null,null,null,"Preferred Schematic View to Display",null,"Standard",null,null,null,null,null,null,null,null,null,null,null,null,"NOTES: "]
[null,"CHARACTERISTICS TO CONSIDER FOR ANALYSIS",null,null,null,null,null,null,null,null,null,null,null,null,null,null,null,null,null,null,null,"ELEMENTS INCREASING SAFETY",null,null,null,null,null,null,null,null,"COMMENTS ON PRIMARY CONSTRAINTS"]
[null,"INPUT INSTRUCTIONS",null,null,null,null,"Relative to",null,"Existing"]
[null,"Blue Boxes -- Select from pulldown options",null,"Select from Pulldown"]
[null,"Yellow Boxes -- Type input information into box",null,"Type Input Value"]
[null," Rural Two-Lane Road Segment -- Safety Score Input",null,null,null,null,null,null,null,null,null,null,null,null,null,null,null,null,null,null,null,null,null,null,null,null,null,null,null,null,null,null,null,null,null,null,null,null,null,null,null,null,null,null,null,null,null,null,null,null,null,null,null,null,null,null,null,null,null,null,null,null,null,null,null,null,null,null,null,null,null,null,null,null,null,null,null,null,null,null,null,null,null,"Unadjusted Marginal Safety"]
[null,"General Information:",null,null,null,"General Site Features",null,{"$f":"I315 & \" Missing Features and Curves\"","v":"9 Missing Features and Curves"},null,null,null,null,null,null,null,null,null,null,null,null,null,null,null,null,null,null,null,null,null,null,null,null,null,null,null,null,null,null,null,null,null,null,null,null,null,null,null,null,null,null,null,null,null,null,null,null,null,null,null,null,null,null,null,null,null,null,null,null,null,null,null,null,null,null,null,null,null,null,null,null,null,null,null,{"$f":"I2&\" relative to \" &I4","v":"Standard relative to Existing"}]
[null,null,"Analyst:",{"$f":"+'Start Here'!J7","v":0},null,"Location "]
[null,null,"Agency or Company:",{"$f":"+'Start Here'!J8","v":0},null,"Design Speed (mph)"]
[null,null,"Date:",{"$f":"+'Start Here'!J9","v":"00:00:00"},null,"Posted Speed (mph)"]
[null,null,"Description:",null,null,"E max (%)"]
[null,null,null,null,null,"Design Year AADT (vehicles per day)"]
[null,null,null,null,null,"Dist. from Centerline to Left   ROW (feet)"]
[null,null,null,null,null,"Dist. from Centerline to Right ROW (feet)"]
[]
[null,"Warning:"]
[null,null,{"$f":"+IF(+I11>I10,\"Posted speed exceeds design speed. Optimal safety will only be achieved if design speed exceeds posted speed. The Safety Assessment Score is based on the higher of the two speed values.\",\"No warnings identified\")","v":"No warnings identified"}]
[null,null,null,null,null,null,null,null,null,null,null,null,null,null,null,{"$f":"\"Unadjusted Marginal Safety of elements in \"&I2&\" from Design Standards\"","v":"Unadjusted Marginal Safety of elements in Standard from Design Standards"},null,null,null,null,null,null,null,null,null,null,null,null,null,null,null,null,null,null,null,null,null,null,null,null,null,null,null,null,null,null,null,null,null,null,null,null,null,null,null,null,null,null,null,null,null,null,null,null,null,null,null,null,null,null,null,null,null,null,null,null,null,null,null,null,null,null,null,null,null,null,null,null,null,null,null,null,null,null,null,null,null,null,null,null,null,null,null,null,null,{"$f":"COUNTIF(DB23:DB41,DB20)","v":1}]
[null,null,null,null,null,null,null,null,null,null,null,null,null,null,null,null,null,null,null,null,null,null,null,null,null,null,null,null,null,null,null,null,null,null,null,null,null,null,null,null,null,null,null,null,null,null,null,null,null,null,null,null,null,null,null,null,null,null,null,null,null,null,null,null,null,null,null,null,null,null,null,null,null,null,null,null,null,null,null,null,null,null,null,null,null,null,null,null,null,null,null,null,null,null,null,null,null,null,null,null,null,null,null,null,null,{"$f":"VLOOKUP(0,CZ23:DB41,3,)","v":10.01}]
[null,null,null,"Fill all elements",null,"To enter notes, use boxes to the right of the vortex ",null,null,null,null," "]
[null,{"$f":"+Construction!$I$8&\"  Total Available Points\"","v":"40  Total Available Points"},null,{"$f":"D249 & \" Missing Elements\"","v":"18 Missing Elements"},null,{"$f":"F249 & \" Missing Elements\"","v":"18 Missing Elements"},{"$f":"G249 & \" Missing Elements\"","v":"18 Missing Elements"},null,null,null,null,null,null,null,null,null,null,null,null,null,null,null,null,null,null,null,null,null,null,null,null,null,null,null,null,null,null,null,null,null,null,null,null,null,null,null,null,null,null,null,null,null,null,null,null,null,null,null,null,null,null,null,null,null,null,null,null,null,null,null,null,null,null,null,null,null,null,null,null,null,null,null,null,null,null,null,null,null,null,null,null,null,null,null,null,null,null,null,null,null,null,"Ranked element","CRF","abs","Re-rank","Rank","Ranked CRF","Element","New Element","crf.abs","rank","Sorted Element","Sorted CRF"]
[null,"Geometric Design Elements",null,"Existing","Standard","Design 1","Design 2",{"$f":"\"Marginal Safety for \"&$I$2&\" (compared to \" & $I$4 & \")\"","v":"Marginal Safety for Standard (compared to Existing)"},"Optimal",null,null,null,null,null,null,null,null,null,null,null,null,null,null,null,null,null,null,null,null,null,null,null,null,null,null,null,null,null,null,null,null,null,null,null,null,null,null,null,null,null,null,null,null,null,null,null,null,null,null,null,null,null,null,null,null,null,null,null,null,null,null,null,null,null,null,null,null,null,null,null,null,null,null,null,null,null,null,null,null,null,null,null,null,null,null,null,null,null,null,null,null,{"$f":"IF(CY23=0,\"\",DB23&\". \"&DD23)","v":""},{"$f":"H24","v":0},{"$f":"ABS(CY23)","v":0},{"$f":"RANK(DB23,$DB$23:$DB$41,1)","v":10},{"$f":"_xlfn.RANK.EQ(CZ23,$CZ$23:$CZ$41)+DG23/100","v":10.01},{"$f":"CY23","v":0},{"$f":"IF(ROUND(DF23,2)=0,\"\",C24)","v":""},{"$f":"DD23","v":""},{"$f":"CZ23","v":0},1,{"$f":"IFERROR(IF(IFERROR(VLOOKUP(DG23,$DA$23:$DF$41,4,)&\", \"&CY23=0,\"\"),\"\",IFERROR(VLOOKUP(DG23,$DA$23:$DE$41,4,),\"\")),\"\")","v":"TWLTL (two-way left-turn lane)"},{"$f":"IFERROR(IF(IFERROR(VLOOKUP(DG23,$DA$23:$DF$41,3,)&\", \"&CY23=0,\"\"),\"\",IFERROR(VLOOKUP(DG23,$DA$23:$DE$41,3,),\"\")),\"\")","v":-0.40845070422535223}]
[null,null,"Lane Width (feet)",null,12,null,null,{"$f":"M100","v":0},12,null,null,null,null,null,null,null,null,null,null,null,null,null,null,null,null,null,null,null,null,null,null,null,null,null,null,null,null,null,null,null,null,null,null,null,null,null,null,null,null,null,null,null,null,null,null,null,null,null,null,null,null,null,null,null,null,null,null,null,null,null,null,null,null,null,null,null,null,null,null,null,null,null,null,null,null,null,null,null,null,null,null,null,null,null,null,null,null,null,null,null,null,"5.02. Shoulder Width (feet)",{"$f":"H25","v":0.15503875968992242},0.15503875968992242,{"$f":"RANK(DB24,$DB$23:$DB$41,1)","v":5},{"$f":"_xlfn.RANK.EQ(CZ24,$CZ$23:$CZ$41)+DG24/100","v":5.0199999999999996},{"$f":"CY24","v":0.15503875968992242},{"$f":"IF(ROUND(DF24,2)=0,\"\",C25)","v":"Shoulder Width (feet)"},{"$f":"DD24","v":"Shoulder Width (feet)"},0.15503875968992242,2,"Pavement Friction (skid number) ***",{"$f":"IFERROR(IF(IFERROR(VLOOKUP(DG24,$DA$23:$DF$41,3,)&\", \"&CY24=0,\"\"),\"\",IFERROR(VLOOKUP(DG24,$DA$23:$DE$41,3,),\"\")),\"\")","v":0.28430956017940245}]
[null,null,"Shoulder Width (feet)",null,{"$f":"IF('Start Here'!$J$12=\"4R\",8,4)","v":4},null,null,{"$f":"M101","v":0.15503875968992242},10,null,null,null,null,null,null,null,null,null,null,null,null,null,null,null,null,null,null,null,null,null,null,null,null,null,null,null,null,null,null,null,null,null,null,null,null,null,null,null,null,null,null,null,null,null,null,null,null,null,null,null,null,null,null,null,null,null,null,null,null,null,null,null,null,null,null,null,null,null,null,null,null,null,null,null,null,null,null,null,null,null,null,null,null,null,null,null,null,null,null,null,null,"",{"$f":"H29","v":0},0,11,10.029999999999999,0,{"$f":"IF(ROUND(DF25,2)=0,\"\",\"Hz and Vt Alignment\")","v":""},"",0,3,"Driveway Density (driveways per mile)",-0.22388114201141129]
[null,null,"Cross-slope or Superelevation (%)",null,{"$f":"IF($I$12=6,IFERROR(VLOOKUP(E29,$C$382:$D$402,2,TRUE),6),IFERROR(VLOOKUP(E29,$C$409:$D$439,2,TRUE),8))","v":8},null,null,null,{"$f":"I12","v":0},null,null,null,null,null,null,null,null,null,null,null,null,null,null,null,null,null,null,null,null,null,null,null,null,null,null,null,null,null,null,null,null,null,null,null,null,null,null,null,null,null,null,null,null,null,null,null,null,null,null,null,null,null,null,null,null,null,null,null,null,null,null,null,null,null,null,null,null,null,null,null,null,null,null,null,null,null,null,null,null,null,null,null,null,null,null,null,null,null,null,null,null,"1.04. TWLTL (two-way left-turn lane)",{"$f":"H43","v":-0.40845070422535223},0.40845070422535223,1,1.04,-0.40845070422535223,{"$f":"IF(ROUND(DF26,2)=0,\"\",C43)","v":"TWLTL (two-way left-turn lane)"},"TWLTL (two-way left-turn lane)",0.40845070422535223,4,"Centerline Rumble Strips",-0.16279069767441867]
["",null,"Horizontal Curve Present?","--","--","--","--",null,"--",null,null,null,null,null,null,null,null,null,null,null,null,null,null,null,null,null,null,null,null,null,null,null,null,null,null,null,null,null,null,null,null,null,null,null,null,null,null,null,null,null,null,null,null,null,null,null,null,null,null,null,null,null,null,null,null,null,null,null,null,null,null,null,null,null,null,null,null,null,null,null,null,null,null,null,null,null,null,null,null,null,null,null,null,null,null,null,null,null,null,null,null,"",{"$f":"H44","v":0},0,12,10.050000000000001,0,{"$f":"IF(ROUND(DF27,2)=0,\"\",C44)","v":""},"",0,5,"Shoulder Width (feet)",0.15503875968992242]
[null,null,"Horizontal Curve Data for Controlling Element:","--","--","--","--",null,"--",null,null,null,null,null,null,null,null,null,null,null,null,null,null,null,null,null,null,null,null,null,null,null,null,null,null,null,null,null,null,null,null,null,null,null,null,null,null,null,null,null,null,null,null,null,null,null,null,null,null,null,null,null,null,null,null,null,null,null,null,null,null,null,null,null,null,null,null,null,null,null,null,null,null,null,null,null,null,null,null,null,null,null,null,null,null,null,null,null,null,null,null,"",{"$f":"H52","v":0},0,13,10.06,0,{"$f":"IF(ROUND(DF28,2)=0,\"\",C52)","v":""},"",0,6,"Edgeline Pavement Markings or Profile Markings",0.13824118691351761]
[null,null,"  Radius (feet)",null,{"$f":"IF(MAX($I$10,$I$11)<45,590,IF($I$12=6,VLOOKUP(MAX($I$10,$I$11),Construction!$B$29:$D$36,2,TRUE),VLOOKUP(MAX($I$10,$I$11),Construction!$G$29:$I$36,2,TRUE)))","v":590},null,null,{"$f":"M140","v":0},{"$f":"IF(MAX($I$10,$I$11)<45,590,IF($I$12=6,VLOOKUP(MAX($I$10,$I$11),Construction!$B$45:$C$52,2,TRUE),VLOOKUP(MAX($I$10,$I$11),Construction!$G$45:$H$52,2,TRUE)))","v":590},null,null,null,null,null,null,null,null,null,null,null,null,null,null,null,null,null,null,null,null,null,null,null,null,null,null,null,null,null,null,null,null,null,null,null,null,null,null,null,null,null,null,null,null,null,null,null,null,null,null,null,null,null,null,null,null,null,null,null,null,null,null,null,null,null,null,null,null,null,null,null,null,null,null,null,null,null,null,null,null,null,null,null,null,null,null,null,null,null,null,null,null,"",0,0,14,10.07,0,"","",0,7,"Lateral Clearance to obstruction (ft)",9.0307162971216326E-2]
[null,null,"Length of Horizontal Curve (feet)",null,{"$f":"IF(D31=\"\", \"\", E29*E31/57.296)","v":""},null,null,null,{"$f":"I29*I31/57.296","v":3758.5520804244625},null,null,null,null,null,null,null,null,null,null,null,null,null,null,null,null,null,null,null,null,null,null,null,null,null,null,null,null,null,null,null,null,null,null,null,null,null,null,null,null,null,null,null,null,null,null,null,null,null,null,null,null,null,null,null,null,null,null,null,null,null,null,null,null,null,null,null,null,null,null,null,null,null,null,null,null,null,null,null,null,null,null,null,null,null,null,null,null,null,null,null,null,"",0,0,15,10.08,0,"","",0,8,"SafetyEdge",-2.8188991921691331E-2]
[null,null,"Calculated Deflection Angle ∆",{"$f":"IF(OR(ISBLANK(D29),ISBLANK(D30),$B$27=\"No\",ISBLANK($B$27)),\"\",ROUND(D30/D29*57.296,1))","v":""},{"$f":"IF(ISBLANK(D31), \"\",D31)","v":""},{"$f":"IF(OR(ISBLANK(F29),ISBLANK(F30),$B$27=\"No\",ISBLANK($B$27)),\"\",ROUND(F30/F29*57.296,1))","v":""},{"$f":"IF(OR(ISBLANK(G29),ISBLANK(G30),$B$27=\"No\",ISBLANK($B$27)),\"\",ROUND(G30/G29*57.296,1))","v":""},null,{"$f":"MIN(D31,IF(F33=INDEX(HCurveChange,1,0), F31, 365),IF(G33=INDEX(HCurveChange,1,0), G31, 365))","v":365},null,null,null,null,null,null,null,null,null,null,null,null,null,null,null,null,null,null,null,null,null,null,null,null,null,null,null,null,null,null,null,null,null,null,null,null,null,null,null,null,null,null,null,null,null,null,null,null,null,null,null,null,null,null,null,null,null,null,null,null,null,null,null,null,null,null,null,null,null,null,null,null,null,null,null,null,null,null,null,null,null,null,null,null,null,null,null,null,null,null,null,null,"6.09. Edgeline Pavement Markings or Profile Markings",0.13824118691351761,0.13824118691351761,6,6.09,0.13824118691351761,"Edgeline Pavement Markings or Profile Markings","Edgeline Pavement Markings or Profile Markings",0.13824118691351761,9,"Lighting",-2.3499081529478438E-2]
[null,null,null,null,null,"∆ has changed. \nAre you changing the ∆?","∆ has changed. \nAre you changing the ∆?",null,null,null,null,null,null,null,null,null,null,null,null,null,null,null,null,null,null,null,null,null,null,null,null,null,null,null,null,null,null,null,null,null,null,null,null,null,null,null,null,null,null,null,null,null,null,null,null,null,null,null,null,null,null,null,null,null,null,null,null,null,null,null,null,null,null,null,null,null,null,null,null,null,null,null,null,null,null,null,null,null,null,null,null,null,null,null,null,null,null,null,null,null,null,"",0,0,16,10.1,0,"","",0,10,"",0]
[null,null,null,null,null,null,null,null,null,null,null,null,null,null,null,null,null,null,null,null,null,null,null,null,null,null,null,null,null,null,null,null,null,null,null,null,null,null,null,null,null,null,null,null,null,null,null,null,null,null,null,null,null,null,null,null,null,null,null,null,null,null,null,null,null,null,null,null,null,null,null,null,null,null,null,null,null,null,null,null,null,null,null,null,null,null,null,null,null,null,null,null,null,null,null,null,null,null,null,null,null,"4.11. Centerline Rumble Strips",-0.16279069767441867,0.16279069767441867,4,4.1100000000000003,-0.16279069767441867,"Centerline Rumble Strips","Centerline Rumble Strips",0.16279069767441867,11,"",0]
[null,null,"Vertical Curve Present?","--","--","--","--",null,{"$f":"E34","v":"--"},null,null,null,null,null,null,null,null,null,null,null,null,null,null,null,null,null,null,null,null,null,null,null,null,null,null,null,null,null,null,null,null,null,null,null,null,null,null,null,null,null,null,null,null,null,null,null,null,null,null,null,null,null,null,null,null,null,null,null,null,null,null,null,null,null,null,null,null,null,null,null,null,null,null,null,null,null,null,null,null,null,null,null,null,null,null,null,null,null,null,null,null,"3.12. Driveway Density (driveways per mile)",-0.22388114201141129,0.22388114201141129,3,3.12,-0.22388114201141129,{"$f":"IF(DF34=0,\"\",C58)","v":"Driveway Density (driveways per mile)"},"Driveway Density (driveways per mile)",0.22388114201141129,12,"",0]
[null,null,"Vertical Curve Data for Controlling Element:","--","--","--","--",null,"--",null,null,null,null,null,null,null,null,null,null,null,null,null,null,null,null,null,null,null,null,null,null,null,null,null,null,null,null,null,null,null,null,null,null,null,null,null,null,null,null,null,null,null,null,null,null,null,null,null,null,null,null,null,null,null,null,null,null,null,null,null,null,null,null,null,null,null,null,null,null,null,null,null,null,null,null,null,null,null,null,null,null,null,null,null,null,null,null,null,null,null,null,"9.13. Lighting",-2.3499081529478438E-2,2.3499081529478438E-2,9,9.1300000000000008,-2.3499081529478438E-2,{"$f":"IF(DF35=0,\"\",C59)","v":"Lighting"},"Lighting",2.3499081529478438E-2,13,"",0]
[null,null,"  Approach (Entry) Grade, G1 (%)",null,{"$f":"IF(ISBLANK(D36),\"\", D36)","v":""},null,null,null,{"$f":"IF(B34=\"Yes\",I227,I237)","v":""},null,null,null,null,null,null,null,null,null,null,null,null,null,null,null,null,null,null,null,null,null,null,null,null,null,null,null,null,null,null,null,null,null,null,null,null,null,null,null,null,null,null,null,null,null,null,null,null,null,null,null,null,null,null,null,null,null,null,null,null,null,null,null,null,null,null,null,null,null,null,null,null,null,null,null,null,null,null,null,null,null,null,null,null,null,null,null,null,null,null,null,null,"2.14. Pavement Friction (skid number) ***",0.28430956017940245,0.28430956017940245,2,2.14,0.28430956017940245,{"$f":"IF(DF36=0,\"\",C60)","v":"Pavement Friction (skid number) ***"},"Pavement Friction (skid number) ***",0.28430956017940245,14,"",0]
[null,null,"  Departure (Exit) Grade, G2 (%)",null,{"$f":"IF(ISBLANK(D37),\"\", D37)","v":""},null,null,null,{"$f":"IF($B$34=\"Yes\",I228,\"\")","v":""},null,null,null,null,null,null,null,null,null,null,null,null,null,null,null,null,null,null,null,null,null,null,null,null,null,null,null,null,null,null,null,null,null,null,null,null,null,null,null,null,null,null,null,null,null,null,null,null,null,null,null,null,null,null,null,null,null,null,null,null,null,null,null,null,null,null,null,null,null,null,null,null,null,null,null,null,null,null,null,null,null,null,null,null,null,null,null,null,null,null,null,null,"",{"$f":"H72","v":0},0,17,10.15,0,{"$f":"IF(DF37=0,\"\",C72)","v":""},"",0,15,"",0]
[null,null,"  Length (feet)",null,{"$f":"IF(AND($B$34=\"Yes\", D39<>\"\"), ABS(E36-E37)*D39, \"\")","v":""},null,null,null,{"$f":"IF(AND($B$34=\"Yes\",I36<>\"\",I37<>\"\", NOT(ISBLANK($I$10)), NOT(ISBLANK($I$11))),ABS(I37-I36)*I39,\"\")","v":""},null,null,null,null,null,null,null,null,null,null,null,null,null,null,null,null,null,null,null,null,null,null,null,null,null,null,null,null,null,null,null,null,null,null,null,null,null,null,null,null,null,null,null,null,null,null,null,null,null,null,null,null,null,null,null,null,null,null,null,null,null,null,null,null,null,null,null,null,null,null,null,null,null,null,null,null,null,null,null,null,null,null,null,null,null,null,null,null,null,null,null,null,"",{"$f":"H73","v":0},{"$f":"ABS(CY38)","v":0},18,10.16,0,{"$f":"IF(DF38=0,\"\",C73)","v":""},"",0,16,"",0]
[null,null,"  Calculated Rate of Change, K (ft/ft)",{"$f":"IF(OR($B$34=\"No\",ISBLANK($B$34), ISBLANK(D36), ISBLANK(D37),ISBLANK(D38), D36=D37), \"\", ROUND(D38/(ABS(D37-D36)),1))","v":""},{"$f":"IF(AND($B$34=\"Yes\", NOT(ISBLANK($I$10)), NOT(ISBLANK($I$11)), D39<>\"\"), IF($E$42=\"Crest\",  VLOOKUP(MAX($I$10,$I$11),Construction!$B$159:$D$171,2,TRUE), VLOOKUP(MAX($I$10,$I$11),Construction!$B$159:$D$171,3,TRUE)), \"\")","v":""},{"$f":"IF(AND($B$34=\"Yes\", SUM(F263:F265)=0),ROUND(F38/(ABS(F37-F36)),1),\"\")","v":""},{"$f":"IF(AND($B$34=\"Yes\", SUM(G263:G265)=0),ROUND(G38/(ABS(G37-G36)),1),\"\")","v":""},null,{"$f":"IF(OR($B$34<>\"Yes\", ISBLANK($I$10), ISBLANK($I$11), $I$36=\"\", $I$37=\"\", $I$42=\"--\", ISBLANK($I$42)),\"\",IF($I$42=\"Crest\",VLOOKUP(MAX($I$10,$I$11),Construction!$B$179:$D$191,2,TRUE),VLOOKUP(MAX($I$10,$I$11),Construction!$B$179:$D$191,3,TRUE)))","v":""},null,null,null,null,null,null,null,null,null,null,null,null,null,null,null,null,null,null,null,null,null,null,null,null,null,null,null,null,null,null,null,null,null,null,null,null,null,null,null,null,null,null,null,null,null,null,null,null,null,null,null,null,null,null,null,null,null,null,null,null,null,null,null,null,null,null,null,null,null,null,null,null,null,null,null,null,null,null,null,null,null,null,null,null,null,null,null,null,null,null,null,null,"8.17. SafetyEdge",{"$f":"H74","v":-2.8188991921691331E-2},{"$f":"ABS(CY39)","v":2.8188991921691331E-2},8,8.17,-2.8188991921691331E-2,{"$f":"IF(DF39=0,\"\",C74)","v":"SafetyEdge"},"SafetyEdge",2.8188991921691331E-2,17,"",0]
[null,null,null,null,null,"Are you changing the geometry?","Are you changing the geometry?",null,null,null,null,null,null,null,null,null,null,null,null,null,null,null,null,null,null,null,null,null,null,null,null,null,null,null,null,null,null,null,null,null,null,null,null,null,null,null,null,null,null,null,null,null,null,null,null,null,null,null,null,null,null,null,null,null,null,null,null,null,null,null,null,null,null,null,null,null,null,null,null,null,null,null,null,null,null,null,null,null,null,null,null,null,null,null,null,null,null,null,null,null,null,"7.18. Lateral Clearance to obstruction (ft)",{"$f":"H75","v":9.0307162971216326E-2},{"$f":"ABS(CY40)","v":9.0307162971216326E-2},7,7.18,9.0307162971216326E-2,{"$f":"IF(DF40=0,\"\",C75)","v":"Lateral Clearance to obstruction (ft)"},"Lateral Clearance to obstruction (ft)",9.0307162971216326E-2,18,"",0]
[null,null,null,null,null,null,null,null,null,null,null,null,null,null,null,null,null,null,null,null,null,null,null,null,null,null,null,null,null,null,null,null,null,null,null,null,null,null,null,null,null,null,null,null,null,null,null,null,null,null,null,null,null,null,null,null,null,null,null,null,null,null,null,null,null,null,null,null,null,null,null,null,null,null,null,null,null,null,null,null,null,null,null,null,null,null,null,null,null,null,null,null,null,null,null,null,null,null,null,null,null,"",{"$f":"H76","v":0},{"$f":"ABS(CY41)","v":0},19,10.19,0,{"$f":"IF(DF41=0,\"\",C76)","v":""},"",0,19,"",0]
[null,null,"  Calculated Sag or Crest?",{"$f":"IF(AND($B$34=\"Yes\", SUM(D263:D265)=0),IF(D36>D37,\"Crest\",\"Sag\"),\"--\")","v":"--"},{"$f":"IF(AND($B$34=\"Yes\", SUM(D263:D265)=0),IF(E36>E37,\"Crest\",\"Sag\"),\"--\")","v":"--"},{"$f":"IF(AND($B$34=\"Yes\", SUM(F263:F265)=0),IF(F36>F37,\"Crest\",\"Sag\"),\"--\")","v":"--"},{"$f":"IF(AND($B$34=\"Yes\", SUM(G263:G265)=0),IF(G36>G37,\"Crest\",\"Sag\"),\"--\")","v":"--"},null,{"$f":"IF($B$34=\"Yes\",IF(I36>I37,\"Crest\",\"Sag\"),\"--\")","v":"--"}]
[null,null,"TWLTL (two-way left-turn lane)",null,"No",null,null,{"$f":"M108","v":-0.40845070422535223},{"$f":"IF(OR($D$43=\"Yes\", $F$43=\"Yes\",$G$43=\"Yes\"), \"Yes\", \"No\")","v":"No"}]
[null,null,"Passing Lane Type",null,"No Passing Lane",null,null,{"$f":"M109","v":0},"Super 2"]
[null,null,"Geometric Design Element (Partial Score)",{"$f":"IF(OR(SUM(D251:D253,D256:D257,D263:D265,D270:D271)>0, ISERR(D125)),\"\",D125)","v":""},{"$f":"IF(OR(SUM(E251:E253,E256:E257,E263:E265,E270:E271)>0, ISERR(E125)),\"\",E125)","v":""},"","",null,{"$f":"IF(OR(SUM(I251:I253,I256:I257,I263:I265,I270:I271)>0, ISERR(I125)),\"\",I125)","v":""}]
[null,null,"Total Safety Score",{"$f":"IF(OR(D$249>0, $I$315>0,ISERROR(D$201+D$171+D$125)),\"\",D$201+D$171+D$125)","v":""},{"$f":"IF(OR(E$249>0, $I$315>0,ISERROR(E$201+E$171+E$125)),\"\",E$201+E$171+E$125)","v":""},"","",null,"",null,null,null,"SCHEMATIC REPRESENTING INPUT DATA FOR ",null,null,null,null,null,null,null,{"$f":"IF($I$2=\"Existing\",\"EXISTING CONFIGURATION\",IF($I$2=\"Standard\",\"STANDARD OPTION\",IF($I$2=\"Design 1\",\"DESIGN 1 OPTION\",IF($I$2=\"Design 2\",\"DESIGN 2 OPTION\",\"OPTIMAL OPTION\"))))","v":"STANDARD OPTION"}]
[]
[null,null,null,null,null,null,null,null,null,null,null,"LT",null,null,null,null,null,null,null,null,null,null,null,null,null,null,"RT"]
[null,null,null,null,null,null,null,null,null,null,null,"R/W",null,null,null,null,null,null,null,null,null,null,null,null,null,null,"R/W"]
[null,{"$f":"+Construction!$I$9&\"  Total Available Points\"","v":"20  Total Available Points"}]
[null,"Traffic Elements",null,"Existing","Standard","Design 1","Design 2",{"$f":"$H$23","v":"Marginal Safety for Standard (compared to Existing)"},"Optimal",null,null,null,null,null,{"$f":"+$I$14","v":0},null,null,null,null,null,null,null,{"$f":"+$I$15","v":0}]
[null,null,"Advance Static Curve Warning Signs",null,"No",null,null,{"$f":"M145","v":0},"Yes"]
[null,null,"Chevron Signs on Horizontal Curves",null,"No",null,null,{"$f":"M146","v":0},"Yes",null,null,{"$f":"+O51-N53-Q53","v":-16},null,{"$f":"IF(+$I$2=\"Existing\",D25,IF($I$2=\"Standard\",E25,IF($I$2=\"Design 1\",F25,IF($I$2=\"Design 2\",G25,I25))))","v":4},null,null,{"$f":"IF(+$I$2=\"Existing\",D24,IF($I$2=\"Standard\",E24,IF($I$2=\"Design 1\",F24,IF($I$2=\"Design 2\",G24,I24))))","v":12},null,null,null,null,{"$f":"+Q53","v":12},null,null,{"$f":"+N53","v":4},{"$f":"+W51-V53-Y53","v":-16}]
[null,null,"Post-Mounted Delineators",null,"No",null,null,0,"Yes"]
[null,null,"Edgeline Pavement Markings or Profile Markings",null,"Yes",null,null,0.13824118691351761,"Yes"]
[null,null,"Shoulder Rumble Strips",null,"Yes",null,null,{"$f":"M150","v":0},"Yes"]
[null,null,"Centerline Rumble Strips",null,"No",null,null,{"$f":"M151","v":-0.16279069767441867},"Yes"]
[null,null,"Driveway Density (driveways per mile)",null,10,null,null,{"$f":"M152","v":-0.22388114201141129},0]
[null,null,"Lighting",null,"No",null,null,{"$f":"M153","v":-2.3499081529478438E-2},"Yes",null,null,null,null,null,null,null,null,null,"Tangent X-Section"]
[null,null,"Pavement Friction (skid number) ***",null,37,null,null,{"$f":"M154","v":0.28430956017940245},54]
[]
[null,null,"Traffic Control Element (Partial Score):",{"$f":"IF(ISERROR(D171), \"\", D171)","v":12},{"$f":"IF(ISERROR(E171), \"\", E171)","v":14},{"$f":"IF(ISERROR(F171), \"\", F171)","v":""},{"$f":"IF(ISERROR(G171), \"\", G171)","v":""},null,{"$f":"IF(ISERROR(I171), \"\", I171)","v":20}]
[null,null,"Total Safety Score",{"$f":"IF(OR(D$249>0, $I$315>0,ISERROR(D$201+D$171+D$125)),\"\",D$201+D$171+D$125)","v":""},{"$f":"IF(OR(E$249>0, $I$315>0,ISERROR(E$201+E$171+E$125)),\"\",E$201+E$171+E$125)","v":""},"","",null,""]
[]
[null,null,"*** Pavement friction/skid numbers will not be subject to open records requests ***",null,null,null,null,null,null,null," "]
[]
[]
[]
[null,null,null,null,null,null,null,null,null,null,null,null,null,null,null,null,null,null,"Curved X-Section"]
[null,{"$f":"+Construction!$I$10&\"  Total Available Points\"","v":"40  Total Available Points"}]
[null,"Roadside  Elements",null,"Existing","Standard","Design 1","Design 2",{"$f":"$H$23","v":"Marginal Safety for Standard (compared to Existing)"},"Optimal"]
[null,null,"Sideslope (Foreslope)",null,"1V:4H",null,null,{"$f":"M180","v":0},"1V:6H"]
[null,null,"Backslope",null,{"$f":"E72","v":"1V:4H"},null,null,{"$f":"M181","v":0},"1V:4H"]
[null,null,"SafetyEdge",null,"No",null,null,{"$f":"M182","v":-2.8188991921691331E-2},"Yes"]
[null,null,"Lateral Clearance to obstruction (ft)",null,30,null,null,{"$f":"M183","v":9.0307162971216326E-2},40,null,null,null,null,null,null,null,{"$f":"IF($I$2=\"Existing\",\"SCORE SUMMARY FOR EXISTING CONFIGURATION\", IF($I$2=\"Standard\",\"SCORE SUMMARY FOR STANDARD OPTION\",IF($I$2=\"Design 1\",\"SCORE SUMMARY FOR DESIGN 1 OPTION\",IF($I$2=\"Design 2\",\"SCORE SUMMARY FOR DESIGN 2 OPTION\", \"SCORE SUMMARY FOR OPTIMAL OPTION\"))))","v":"SCORE SUMMARY FOR STANDARD OPTION"}]
[null,null,"Obstruction Type",null,"Other Fixed Object",null,null,{"$f":"M184","v":0},"None",null,null,null,null,null,null,null,"GEOMETRIC DESIGN:",null,null,null,null,null,{"$f":"IF($I$2=\"Existing\",D45,IF($I$2=\"Standard\",E45,IF($I$2=\"Design 1\",F45,IF($I$2=\"Design 2\",G45,I45))))","v":""}]
[null,null,"Roadside Element (Partial Score):",{"$f":"IF(ISERR(D201),\"\",D201)","v":""},{"$f":"IF(ISERR(E201),\"\",E201)","v":27},{"$f":"IF(ISERR(F201),\"\",F201)","v":""},{"$f":"IF(ISERR(G201),\"\",G201)","v":""},null,{"$f":"IF(ISERR(I201),\"\",I201)","v":40},null,null,null,null,null,null,null,"TRAFFIC CONTROL:",null,null,null,null,null,{"$f":"IF($I$2=\"Existing\",D62,IF($I$2=\"Standard\",E62,IF($I$2=\"Design 1\",F62,IF($I$2=\"Design 2\",G62,I62))))","v":14}]
[null,null,"Total Safety Score",{"$f":"IF(OR(D$249>0, $I$315>0,ISERROR(D$201+D$171+D$125)),\"\",D$201+D$171+D$125)","v":""},{"$f":"IF(OR(E$249>0, $I$315>0,ISERROR(E$201+E$171+E$125)),\"\",E$201+E$171+E$125)","v":""},"","",null,"",null,null,null,null,null,null,null,"ROADSIDE:",null,null,null,null,null,{"$f":"IF($I$2=\"Existing\",D77,IF($I$2=\"Standard\",E77,IF($I$2=\"Design 1\",F77,IF($I$2=\"Design 2\",G77,I77))))","v":27}]
[null,null,null,null,null,null,null,null,null,null,null,null,null,null,null,null,"OVERALL SAFETY SCORE:",null,null,null,null,null,{"$f":"SUM(W76:X78)","v":41}]
[]
[]
[]
[null,"ADDITIONAL SIDESLOPE INFORMATION"]
[null,null,"Distance to Slope Toe from Shoulder (ft)",null,{"$f":"D84","v":0},{"$f":"E84","v":0},{"$f":"F84","v":0},null,{"$f":"G84","v":0}]
[null,"Minimum foreslope feasible within current ROW",null,null,{"$f":"IF(OR(ISBLANK($D$84), ISERROR(E206)), \"\", \"1V:\"&E206&\"H\")","v":""},{"$f":"IF(OR(ISBLANK($D$84), ISERROR(F206)), \"\", \"1V:\"&F206&\"H\")","v":""},{"$f":"IF(OR(ISBLANK($D$84), ISERROR(G206)), \"\", \"1V:\"&G206&\"H\")","v":""},null,{"$f":"IF(OR(ISBLANK($D$84), ISERROR(I206)), \"\", \"1V:\"&I206&\"H\")","v":""}]
[null,"Additional R/W needed on left side",null,null,{"$f":"IF(OR(ISBLANK($D$84), ISERROR(E210)),\"\", MAX(E210,E213))","v":""},{"$f":"IF(OR(ISBLANK($D$84), ISERROR(F210)), \"\", MAX(F210,F213))","v":""},{"$f":"IF(OR(ISBLANK($D$84), ISERROR(G210)),\"\", MAX(G210,G213))","v":""},null,{"$f":"IF(OR(ISBLANK($D$84), ISERROR(I210)),\"\", MAX(I210,I213))","v":""}]
[null,"Additional R/W needed on right side",null,null,{"$f":"IF(OR(ISBLANK($D$84), ISERROR(E211)), \"\", MAX(E211,E214))","v":""},{"$f":"IF(OR(ISBLANK($D$84), ISERROR(F211)), \"\", MAX(F211,F214))","v":""},{"$f":"IF(OR(ISBLANK($D$84), ISERROR(G211)),\"\", MAX(G211,G214))","v":""},null,{"$f":"IF(OR(ISBLANK($D$84), ISERROR(I211)),\"\", MAX(I211,I214))","v":""}]
[]
[]
[]
[]
[]
[]
[]
[null,null,null,null,null,null,null,null,null,{"$f":"1-I100/E100","v":0}]
[null,null,null,null,null,null,null,null,null,{"$f":"1-I101/E101","v":0.17431192660550465},"For Plot"]
[null,null,null,{"$f":"MAX(SUM(D103:D107)-5,$I$97)","v":{"$error":"#VALUE!"}},{"$f":"MAX(SUM(E103:E107)-5,$I$97)","v":{"$error":"#VALUE!"}},{"$f":"MAX(SUM(F103:F107)-5,$I$97)","v":{"$error":"#VALUE!"}},{"$f":"MAX(SUM(G103:G107)-5,$I$97)","v":{"$error":"#VALUE!"}},null,{"$f":"SUM(I103:I107)-5","v":{"$error":"#VALUE!"}},{"$f":"1-I102/E102","v":0},"relative to","Prefer"]
[null,null,null,null,null,null,null,null,null,{"$f":"1-I103/E103","v":{"$error":"#VALUE!"}},{"$f":"MATCH(K99,ModView,0)","v":1},{"$f":"MATCH(L99,ModView,0)","v":2}]
[null,"Geometric",null,null,null,null,null,null,null,null,{"$f":"I4","v":"Existing"},{"$f":"I2","v":"Standard"},"%"]
[null,null,"LW CMF",{"$f":"VLOOKUP(+D24,Construction!$C$3:$D$9,2)","v":{"$error":"#N/A"}},{"$f":"VLOOKUP(+E24,Construction!$C$3:$D$9,2)","v":1},{"$f":"VLOOKUP(+F24,Construction!$C$3:$D$9,2)","v":{"$error":"#N/A"}},{"$f":"VLOOKUP(+G24,Construction!$C$3:$D$9,2)","v":{"$error":"#N/A"}},{"$f":"H24","v":0},{"$f":"VLOOKUP(+I24,Construction!$C$3:$D$9,2)","v":1},null,{"$f":"INDEX($D100:$I100,K$98)","v":{"$error":"#N/A"}},{"$f":"INDEX($D100:$I100,L$98)","v":1},{"$f":"IF(ISERROR(1-L100/K100), 0, 1-L100/K100)","v":0}]
[null,null,"SW CMF",{"$f":"VLOOKUP(D25,Construction!$C$13:D23,2)","v":1.29},{"$f":"VLOOKUP(E25,Construction!$C$13:E23,2)","v":1.0900000000000001},{"$f":"VLOOKUP(F25,Construction!$C$13:F23,2)","v":1.29},{"$f":"VLOOKUP(G25,Construction!$C$13:G23,2)","v":1.29},{"$f":"IF($I$2=\"Existing\",(1-D101/E101),(IF($I$2=\"Design 1\",(1-F101/E101),(IF($I$2=\"Design 2\",(1-G101/E101),(IF($I$2=\"Optimal\",(1-I101/E101),0)))))))","v":0},{"$f":"VLOOKUP(I25,Construction!$C$13:I23,2)","v":0.9},null,{"$f":"INDEX($D101:$I101,K$98)","v":1.29},{"$f":"INDEX($D101:$I101,L$98)","v":1.0900000000000001},{"$f":"IF(ISERROR(1-L101/K101), 0, 1-L101/K101)","v":0.15503875968992242}]
[null,null,"Placeholder for super deficincy",1,1,1,1,0,1,null,{"$f":"INDEX($D102:$I102,K$98)","v":1},{"$f":"INDEX($D102:$I102,L$98)","v":1},0]
[null,null,"HC and Grade",{"$f":"D$134^D$127","v":1},{"$f":"E$134^E$127","v":{"$error":"#VALUE!"}},{"$f":"F$134^F$127","v":1},{"$f":"G$134^G$127","v":1},0,{"$f":"I$134^I$127","v":{"$error":"#VALUE!"}},null,{"$f":"INDEX($D103:$I103,K$98)","v":1},{"$f":"INDEX($D103:$I103,L$98)","v":{"$error":"#VALUE!"}},0]
[null,null,"HC and VC Crest type I",{"$f":"D$135^D$128","v":1},{"$f":"E$135^E$128","v":1},{"$f":"F$135^F$128","v":1},{"$f":"G$135^G$128","v":1},0,{"$f":"I$135^I$128","v":{"$error":"#VALUE!"}},null,{"$f":"INDEX($D104:$I104,K$98)","v":1},{"$f":"INDEX($D104:$I104,L$98)","v":1},0]
[null,null,"HC and VC Sag type I",{"$f":"D$136^D$129","v":1},{"$f":"E$136^E$129","v":1},{"$f":"F$136^F$129","v":1},{"$f":"G$136^G$129","v":1},0,{"$f":"I$136^I$129","v":{"$error":"#VALUE!"}},null,{"$f":"INDEX($D105:$I105,K$98)","v":1},{"$f":"INDEX($D105:$I105,L$98)","v":1},0]
[null,null,"HC and VC Crest type II",{"$f":"D$137^D$130","v":1},{"$f":"E$137^E$130","v":1},{"$f":"F$137^F$130","v":1},{"$f":"G$137^G$130","v":1},0,{"$f":"I$137^I$130","v":{"$error":"#VALUE!"}},{"$f":"1-I111/E111","v":{"$error":"#VALUE!"}},{"$f":"INDEX($D106:$I106,K$98)","v":1},{"$f":"INDEX($D106:$I106,L$98)","v":1},0]
[null,null,"HC and VC Sag type II",{"$f":"D$138^D$131","v":1},{"$f":"E$138^E$131","v":1},{"$f":"F$138^F$131","v":1},{"$f":"G$138^G$131","v":1},0,{"$f":"I$138^I$131","v":{"$error":"#VALUE!"}},{"$f":"1-I112/E112","v":{"$error":"#VALUE!"}},{"$f":"INDEX($D107:$I107,K$98)","v":1},{"$f":"INDEX($D107:$I107,L$98)","v":1},0]
[null,null,"Add TWLTL",{"$f":"IF(D$43=\"No\",1,CMFs!$F$17)","v":0.71},{"$f":"IF(E$43=\"No\",1,CMFs!$F$17)","v":1},{"$f":"IF(F$43=\"No\",1,CMFs!$F$17)","v":0.71},{"$f":"IF(G$43=\"No\",1,CMFs!$F$17)","v":0.71},0,{"$f":"IF(I$43=\"No\",1,CMFs!$F$17)","v":1},{"$f":"1-I113/E113","v":{"$error":"#VALUE!"}},{"$f":"INDEX($D108:$I108,K$98)","v":0.71},{"$f":"INDEX($D108:$I108,L$98)","v":1},-0.40845070422535223]
[null,null,"Passing Lane Type",{"$f":"IF(ISNUMBER(INDEX(PassLNCMF, MATCH(D44,Passing_Lane_Type,0))),INDEX(PassLNCMF, MATCH(D44,Passing_Lane_Type,0)),1)","v":1},{"$f":"IF(ISNUMBER(INDEX(PassLNCMF, MATCH(E44,Passing_Lane_Type,0))),INDEX(PassLNCMF, MATCH(E44,Passing_Lane_Type,0)),1)","v":1},{"$f":"IF(ISNUMBER(INDEX(PassLNCMF, MATCH(F44,Passing_Lane_Type,0))),INDEX(PassLNCMF, MATCH(F44,Passing_Lane_Type,0)),1)","v":1},{"$f":"IF(ISNUMBER(INDEX(PassLNCMF, MATCH(G44,Passing_Lane_Type,0))),INDEX(PassLNCMF, MATCH(G44,Passing_Lane_Type,0)),1)","v":1},0,{"$f":"IF(ISNUMBER(INDEX(PassLNCMF, MATCH(I44,Passing_Lane_Type,0))),INDEX(PassLNCMF, MATCH(I44,Passing_Lane_Type,0)),1)","v":0.65},{"$f":"1-I114/E114","v":{"$error":"#VALUE!"}},{"$f":"INDEX($D109:$I109,K$98)","v":1},{"$f":"INDEX($D109:$I109,L$98)","v":1},0]
[null,null,null,null,null,null,null,null,null,{"$f":"I115/E115","v":{"$error":"#VALUE!"}}]
[null,null,"COMBINED Calculated CMF",{"$f":"+D100*D101*D102*D103*D104*D105*D106*D107*D108*D109","v":{"$error":"#N/A"}},{"$f":"+E100*E101*E102*E103*E104*E105*E106*E107*E108*E109","v":{"$error":"#VALUE!"}},{"$f":"+F100*F101*F102*F103*F104*F105*F106*F107*F108*F109","v":{"$error":"#N/A"}},{"$f":"+G100*G101*G102*G103*G104*G105*G106*G107*G108*G109","v":{"$error":"#N/A"}},{"$f":"IF($I$2=\"Existing\",(D111),(IF($I$2=\"Design 1\",(F111),(IF($I$2=\"Design 2\",(G111),(IF($I$2=\"Optimal\",(I111),E111)))))))","v":{"$error":"#VALUE!"}},{"$f":"+I100*I101*I102*I103*I104*I105*I106*I107*I108*I109","v":{"$error":"#VALUE!"}},null,{"$f":"INDEX($D111:$I111,K$98)","v":{"$error":"#N/A"}},{"$f":"INDEX($D111:$I111,L$98)","v":{"$error":"#VALUE!"}},{"$f":"IF(ISERROR(1-L111/K111), 0, 1-L111/K111)","v":0}]
[null,null,"Calculated Relative to Design Standards (Column E)",{"$f":"+D111/$E$111","v":{"$error":"#N/A"}},{"$error":"#VALUE!"},{"$error":"#N/A"},{"$error":"#N/A"},{"$error":"#VALUE!"},{"$error":"#VALUE!"},null,{"$f":"INDEX($D112:$I112,K$98)","v":{"$error":"#N/A"}},{"$f":"INDEX($D112:$I112,L$98)","v":{"$error":"#VALUE!"}},0]
[null,null,"P(Crash)",{"$f":"+D112/(D112+1)","v":{"$error":"#N/A"}},{"$error":"#VALUE!"},{"$error":"#N/A"},{"$error":"#N/A"},{"$error":"#VALUE!"},{"$error":"#VALUE!"},null,{"$f":"INDEX($D113:$I113,K$98)","v":{"$error":"#N/A"}},{"$f":"INDEX($D113:$I113,L$98)","v":{"$error":"#VALUE!"}},0]
[null,null,"Factor Change on S curve",{"$f":"+D113/$E$113","v":{"$error":"#N/A"}},{"$error":"#VALUE!"},{"$error":"#N/A"},{"$error":"#N/A"},{"$error":"#VALUE!"},{"$error":"#VALUE!"},null,{"$f":"INDEX($D114:$I114,K$98)","v":{"$error":"#N/A"}},{"$f":"INDEX($D114:$I114,L$98)","v":{"$error":"#VALUE!"}},0]
[null,null,"Adjust to Scale of 100",{"$f":"+$I$114/D114*100","v":{"$error":"#VALUE!"}},{"$error":"#VALUE!"},{"$error":"#VALUE!"},{"$error":"#VALUE!"},{"$error":"#VALUE!"},{"$error":"#VALUE!"}]
[null,null,"Unadjusted Combined Relative to Standard",{"$f":"+D111/$E$111","v":{"$error":"#N/A"}},{"$error":"#VALUE!"},{"$error":"#N/A"},{"$error":"#N/A"},{"$error":"#VALUE!"},{"$error":"#VALUE!"},null,{"$f":"INDEX($D116:$I116,K$98)","v":{"$error":"#N/A"}},{"$f":"INDEX($D116:$I116,L$98)","v":{"$error":"#VALUE!"}},{"$f":"IF(ISERROR(1-L116/K116), 0, 1-L116/K116)","v":0}]
[null,null,null,null,null,null,null,null,null,{"$f":"I122/E122","v":{"$error":"#VALUE!"}}]
[null,null,"Adjusted for PA Basis",{"$f":"+D111*(1+1)/(1+D111*1)","v":{"$error":"#N/A"}},{"$error":"#VALUE!"},{"$error":"#N/A"},{"$error":"#N/A"},{"$f":"IF($I$2=\"Existing\",(D118),(IF($I$2=\"Design 1\",(F118),(IF($I$2=\"Design 2\",(G118),(IF($I$2=\"Optimal\",(I118),E118)))))))","v":{"$error":"#VALUE!"}},{"$error":"#VALUE!"},null,{"$f":"INDEX($D118:$I118,K$98)","v":{"$error":"#N/A"}},{"$f":"INDEX($D118:$I118,L$98)","v":{"$error":"#VALUE!"}},{"$f":"IF(ISERROR(1-L118/K118), 0, 1-L118/K118)","v":0}]
[null,null,"Corrected by Odds Ratio",{"$f":"+D118/$E$118","v":{"$error":"#N/A"}},{"$error":"#VALUE!"},{"$error":"#N/A"},{"$error":"#N/A"},{"$f":"IF($I$2=\"Existing\",(D119),(IF($I$2=\"Design 1\",(F119),(IF($I$2=\"Design 2\",(G119),(IF($I$2=\"Optimal\",(I119),E119)))))))","v":{"$error":"#VALUE!"}},{"$error":"#VALUE!"},null,{"$f":"INDEX($D119:$I119,K$98)","v":{"$error":"#N/A"}},{"$f":"INDEX($D119:$I119,L$98)","v":{"$error":"#VALUE!"}},0]
[null,null,"Pinned s",{"$f":"(1/D119)^$D123","v":{"$error":"#N/A"}},{"$error":"#VALUE!"},{"$error":"#N/A"},{"$error":"#N/A"},{"$error":"#VALUE!"},{"$error":"#VALUE!"},{"$f":"I125/E125","v":{"$error":"#VALUE!"}},{"$f":"INDEX($D120:$I120,K$98)","v":{"$error":"#N/A"}},{"$f":"INDEX($D120:$I120,L$98)","v":{"$error":"#VALUE!"}},0]
[null,null,null,{"$f":"(D120+$F124-1)/(1+(D120+$F124-1))","v":{"$error":"#N/A"}},{"$error":"#VALUE!"},{"$error":"#N/A"},{"$error":"#N/A"},{"$error":"#VALUE!"},{"$error":"#VALUE!"},null,{"$f":"INDEX($D121:$I121,K$98)","v":{"$error":"#N/A"}},{"$f":"INDEX($D121:$I121,L$98)","v":{"$error":"#VALUE!"}},0]
[null,null,"Score Odds Ratio with Optimal (old)",{"$f":"MIN(ROUND($I$119/D119*Construction!$I$8,0),$I122)","v":{"$error":"#VALUE!"}},{"$f":"MIN(ROUND($I$119/E119*Construction!$I$8,0),$I122)","v":{"$error":"#VALUE!"}},{"$f":"MIN(ROUND($I$119/F119*Construction!$I$8,0),$I122)","v":{"$error":"#VALUE!"}},{"$f":"MIN(ROUND($I$119/G119*Construction!$I$8,0),$I122)","v":{"$error":"#VALUE!"}},{"$f":"IF($I$2=\"Existing\",(D122),(IF($I$2=\"Design 1\",(F122),(IF($I$2=\"Design 2\",(G122),(IF($I$2=\"Optimal\",(I122),E122)))))))","v":{"$error":"#VALUE!"}},{"$f":"ROUND($I$119/I119*Construction!$I$8,0)","v":{"$error":"#VALUE!"}}]
[null,null,"Logistic1",{"$f":"LN((D124/(1-D124))/(0.5/0.5))/LN($E119/I119)","v":{"$error":"#VALUE!"}}]
[null,null,"Logistic Param",0.999,null,{"$f":"0.7/0.3","v":2.3333333333333335}]
[null,null,"Score ",{"$f":"MIN(ROUND(D121*Construction!$I$8,0),$I122)","v":{"$error":"#N/A"}},{"$f":"MIN(ROUND(E121*Construction!$I$8,0),$I122)","v":{"$error":"#VALUE!"}},{"$f":"MIN(ROUND(F121*Construction!$I$8,0),$I122)","v":{"$error":"#N/A"}},{"$f":"MIN(ROUND(G121*Construction!$I$8,0),$I122)","v":{"$error":"#N/A"}},{"$f":"MIN(ROUND(H121*Construction!$I$8,0),$I122)","v":{"$error":"#VALUE!"}},{"$f":"MIN(ROUND(I121*Construction!$I$8,0),$I122)","v":{"$error":"#VALUE!"}}]
[]
[null,null,"HC and Grade",{"$f":"IF($B$135,0,1)","v":1},{"$f":"IF($B$135,0,1)","v":1},{"$f":"IF($B$135,0,1)","v":1},{"$f":"IF($B$135,0,1)","v":1},{"$f":"IF($I$2=\"Existing\",(D127),(IF($I$2=\"Design 1\",(F127),(IF($I$2=\"Design 2\",(G127),(IF($I$2=\"Optimal\",(I127),E127)))))))","v":1},{"$f":"IF($B$135,0,1)","v":1}]
[null,null,"HC and VC Crest type I",{"$f":"IF(AND($B$135=1,SIGN(D$36)=1,ABS(D$36)<=ABS(D$36-D$37),D$42=\"Crest\"),1,0)","v":0},{"$f":"IF(AND($B$135=1, SIGN(IF(ISNUMBER(E$36),E$36,0))=1,ABS(IF(ISNUMBER(E$36),E$36,0)) <= ABS(IF(ISNUMBER(E$36),E$36,0)-IF(ISNUMBER(E$37),E$37,0)),E$42=\"Crest\"),1,0)","v":0},{"$f":"IF(AND($B$135=1,SIGN(F$36)=1,ABS(F$36)<=ABS(F$36-F$37),F$42=\"Crest\"),1,0)","v":0},{"$f":"IF(AND($B$135=1,SIGN(G$36)=1,ABS(G$36)<=ABS(G$36-G$37),G$42=\"Crest\"),1,0)","v":0},{"$f":"IF($I$2=\"Existing\",(D128),(IF($I$2=\"Design 1\",(F128),(IF($I$2=\"Design 2\",(G128),(IF($I$2=\"Optimal\",(I128),E128)))))))","v":0},{"$f":"IF(AND($B$135=1,SIGN(I$36)=1,ABS(I$36)<=ABS(I$36-IF(ISNUMBER(I$37), I$37,0)),I$42=\"Crest\"),1,0)","v":{"$error":"#VALUE!"}}]
["HC?",null,"HC and VC Sag type I",{"$f":"IF(AND($B$135=1,SIGN(D$36)=1,ABS(D$36)<=ABS(D$36-D$37),D$42=\"Sag\"),1,0)","v":0},{"$f":"IF(AND($B$135=1, SIGN(IF(ISNUMBER(E$36),E$36,0))=1,ABS(IF(ISNUMBER(E$36),E$36,0)) <= ABS(IF(ISNUMBER(E$36),E$36,0)-IF(ISNUMBER(E$37),E$37,0)),E$42=\"Sag\"),1,0)","v":0},{"$f":"IF(AND($B$135=1,SIGN(F$36)=1,ABS(F$36)<=ABS(F$36-F$37),F$42=\"Sag\"),1,0)","v":0},{"$f":"IF(AND($B$135=1,SIGN(G$36)=1,ABS(G$36)<=ABS(G$36-G$37),G$42=\"Sag\"),1,0)","v":0},{"$f":"IF($I$2=\"Existing\",(D129),(IF($I$2=\"Design 1\",(F129),(IF($I$2=\"Design 2\",(G129),(IF($I$2=\"Optimal\",(I129),E129)))))))","v":0},{"$f":"IF(AND($B$135=1,SIGN(I$36)=1,ABS(I$36)<=ABS(I$36-IF(ISNUMBER(I$37), I$37,0)),I$42=\"Sag\"),1,0)","v":{"$error":"#VALUE!"}}]
["VC?",null,"HC and VC Crest type II",{"$f":"IF(AND($B$135=1,D$42=\"Crest\",D$128=0),1,0)","v":0},{"$f":"IF(AND($B$135=1,E$42=\"Crest\",E$128=0),1,0)","v":0},{"$f":"IF(AND($B$135=1,F$42=\"Crest\",F$128=0),1,0)","v":0},{"$f":"IF(AND($B$135=1,G$42=\"Crest\",G$128=0),1,0)","v":0},{"$f":"IF($I$2=\"Existing\",(D130),(IF($I$2=\"Design 1\",(F130),(IF($I$2=\"Design 2\",(G130),(IF($I$2=\"Optimal\",(I130),E130)))))))","v":0},{"$f":"IF(AND($B$135=1,I$42=\"Crest\",I$128=0),1,0)","v":{"$error":"#VALUE!"}}]
[null,null,"HC and VC Sag type II",{"$f":"IF(AND($B$135=1,D$42=\"Sag\",D$129=0),1,0)","v":0},{"$f":"IF(AND($B$135=1,E$42=\"Sag\",E$129=0),1,0)","v":0},{"$f":"IF(AND($B$135=1,F$42=\"Sag\",F$129=0),1,0)","v":0},{"$f":"IF(AND($B$135=1,G$42=\"Sag\",G$129=0),1,0)","v":0},{"$f":"IF($I$2=\"Existing\",(D131),(IF($I$2=\"Design 1\",(F131),(IF($I$2=\"Design 2\",(G131),(IF($I$2=\"Optimal\",(I131),E131)))))))","v":0},{"$f":"IF(AND($B$135=1,I$42=\"Sag\",I$129=0),1,0)","v":{"$error":"#VALUE!"}}]
[null,"Yes/No"]
[null,null,"HC and VC:",null,{"$f":"EXP(0.042*ABS(D$36)+$B$134*0.16*LN(2*5730/IF(ISNUMBER(E$29),E$29,1)))","v":1}]
[null,{"$f":"IF(B27=\"Yes\",1,0)","v":0},"HC and Grade",{"$f":"IF($B$135=0,EXP(0.042*ABS(D$36)+$B$134*0.16*LN(2*5730/D$141)+4.16*$B$134/D$141/IF(ISNUMBER(D$30),D$30,999999)),1)","v":1},{"$f":"IF($B$135=0,EXP(0.042*ABS(E$36)+$B$134*0.16*LN(2*5730/E$141)+4.16*$B$134/E$141/IF(ISNUMBER(E$30),E$30,999999)),1)","v":{"$error":"#VALUE!"}},1,1,{"$f":"IF($B$135=0,EXP(0.042*ABS(H$36)+$B$134*0.16*LN(2*5730/IF(ISNUMBER(H$29),H$29,1))+4.16*$B$134/IF(ISNUMBER(H$29),H$29,1)/IF(ISNUMBER(H$30),H$30,1)),1)","v":{"$error":"#DIV/0!"}},{"$error":"#VALUE!"},null,{"$f":"INDEX($D134:$I134,K$98)","v":1},{"$f":"INDEX($D134:$I134,L$98)","v":{"$error":"#VALUE!"}},{"$f":"IF(ISERROR(1-L134/K134), 0, 1-L134/K134)","v":0}]
[null,{"$f":"IF(B34=\"Yes\",1,0)","v":0},"HC and VC Crest type I",{"$f":"IF($B$135=0,1,EXP(0.005648908*5730*ABS(+D$36-D$37)*$B$135/D$141*$B$134))","v":1},{"$f":"IF($B$135=0,1,EXP(0.005648908*5730*ABS(+E$36-E$37)*$B$135/E$141*$B$134))","v":1},1,1,{"$f":"IF($I$2=\"Existing\",(D135),(IF($I$2=\"Design 1\",(F135),(IF($I$2=\"Design 2\",(G135),(IF($I$2=\"Optimal\",(I135),E135)))))))","v":1},1,null,{"$f":"INDEX($D135:$I135,K$98)","v":1},{"$f":"INDEX($D135:$I135,L$98)","v":1},0]
[null,null,"HC and VC Sag type I",{"$f":"IF($B$135=0,1,EXP(9.15857042*$B$135/D$142+0.010284958*5730*$B$135*$B$134*ABS(+D$36-D$37)/D$141))","v":1},{"$f":"IF($B$135=0,1,EXP(9.15857042*$B$135/E$142+0.010284958*5730*$B$135*$B$134*ABS(+E$36-E$37)/E$141))","v":1},1,1,{"$f":"IF($I$2=\"Existing\",(D136),(IF($I$2=\"Design 1\",(F136),(IF($I$2=\"Design 2\",(G136),(IF($I$2=\"Optimal\",(I136),E136)))))))","v":1},1,null,{"$f":"INDEX($D136:$I136,K$98)","v":1},{"$f":"INDEX($D136:$I136,L$98)","v":1},0]
[null,null,"HC and VC Crest type II",{"$f":"IF($B$135=0,1,EXP(0.005648908*5730*ABS(+D$36-D$37)*$B$135/D$141*$B$134))","v":1},{"$f":"IF($B$135=0,1,EXP(0.005648908*5730*ABS(+E$36-E$37)*$B$135/E$141*$B$134))","v":1},1,1,{"$f":"IF($I$2=\"Existing\",(D137),(IF($I$2=\"Design 1\",(F137),(IF($I$2=\"Design 2\",(G137),(IF($I$2=\"Optimal\",(I137),E137)))))))","v":1},1,null,{"$f":"INDEX($D137:$I137,K$98)","v":1},{"$f":"INDEX($D137:$I137,L$98)","v":1},0]
[null,null,"HC and VC Sag type II",{"$f":"IF($B$135=0,1,(0.246011284*EXP(LN(0.188*2*5730/D$141)*$B$134)+0.7514288716*EXP(0.022*5730/D$141*ABS(D$36-D$37)*$B$135*$B$134)))","v":1},{"$f":"IF($B$135=0,1,(0.246011284*EXP(LN(0.188*2*5730/E$141)*$B$134)+0.7514288716*EXP(0.022*5730/E$141*ABS(E$36-E$37)*$B$135*$B$134)))","v":1},1,1,{"$f":"IF($I$2=\"Existing\",(D138),(IF($I$2=\"Design 1\",(F138),(IF($I$2=\"Design 2\",(G138),(IF($I$2=\"Optimal\",(I138),E138)))))))","v":1},1,null,{"$f":"INDEX($D138:$I138,K$98)","v":1},{"$f":"INDEX($D138:$I138,L$98)","v":1},0]
[]
[null,null,"Combined HZ and VT",{"$f":"MMULT(TRANSPOSE(D127:D131),D134:D138)","v":1},{"$f":"MMULT(TRANSPOSE(E127:E131),E134:E138)","v":{"$error":"#VALUE!"}},{"$f":"MMULT(TRANSPOSE(F127:F131),F134:F138)","v":1},{"$f":"MMULT(TRANSPOSE(G127:G131),G134:G138)","v":1},{"$f":"IF($I$2=\"Existing\",(D140),(IF($I$2=\"Design 1\",(F140),(IF($I$2=\"Design 2\",(G140),(IF($I$2=\"Optimal\",(I140),E140)))))))","v":{"$error":"#VALUE!"}},{"$f":"MMULT(TRANSPOSE(I127:I131),I134:I138)","v":{"$error":"#VALUE!"}},null,{"$f":"INDEX($D140:$I140,K$98)","v":1},{"$f":"INDEX($D140:$I140,L$98)","v":{"$error":"#VALUE!"}},{"$f":"IF(ISERROR(1-L140/K140), 0, 1-L140/K140)","v":0}]
[null,null,"effective R for calculation",{"$f":"IF(ISNUMBER(D29), D29, 99999999)","v":99999999},{"$f":"IF(ISNUMBER(E29), E29, 99999999)","v":590},99999999,99999999,null,590]
[null,null,"effective K for calculation",{"$f":"IF(ISNUMBER(D39), D39, 9999999)","v":9999999},{"$f":"IF(ISNUMBER(E39), E39, 9999999)","v":9999999},9999999,9999999,null,9999999]
[null,"Traffic"]
[null,null,null,"Existing","Standard","Design 1","Design 2"]
[null,null,"Advance static curve warning signs",{"$f":"IF(AND($B$27=\"Yes\",D$52=\"Yes\"),(Traffic!$F$4-1)*AVERAGE(Constraints!$F$37,Constraints!$H$37)/Constraints!$D$37+1,1)","v":1},{"$f":"IF(AND($B$27=\"Yes\",E$52=\"Yes\"),(Traffic!$F$4-1)*AVERAGE(Constraints!$F$37,Constraints!$H$37)/Constraints!$D$37+1,1)","v":1},{"$f":"IF(AND($B$27=\"Yes\",F$52=\"Yes\"),(Traffic!$F$4-1)*AVERAGE(Constraints!$F$37,Constraints!$H$37)/Constraints!$D$37+1,1)","v":1},{"$f":"IF(AND($B$27=\"Yes\",G$52=\"Yes\"),(Traffic!$F$4-1)*AVERAGE(Constraints!$F$37,Constraints!$H$37)/Constraints!$D$37+1,1)","v":1},{"$f":"IF($I$2=\"Existing\",(D145),(IF($I$2=\"Design 1\",(F145),(IF($I$2=\"Design 2\",(G145),(IF($I$2=\"Optimal\",(I145),E145)))))))","v":1},{"$f":"IF(AND($B$27=\"Yes\",I$52=\"Yes\"),(Traffic!$F$4-1)*AVERAGE(Constraints!$F$37,Constraints!$H$37)/Constraints!$D$37+1,1)","v":1},null,{"$f":"INDEX($D145:$I145,K$98)","v":1},{"$f":"INDEX($D145:$I145,L$98)","v":1},{"$f":"IF(ISERROR(1-L145/K145), 0, 1-L145/K145)","v":0}]
[null,null,"Install chevron signs on horizontal curves",{"$f":"IF(D$53=\"No\",1,(IF(AND($B$27=\"Yes\",D$24<11.5),((Traffic!$F$6-1)*(Constraints!$E$35+Constraints!$E$31))+1,1)))","v":1},{"$f":"IF(E$53=\"No\",1,(IF(AND($B$27=\"Yes\",E$24<11.5),((Traffic!$F$6-1)*(Constraints!$E$35+Constraints!$E$31))+1,1)))","v":1},{"$f":"IF(F$53=\"No\",1,(IF(AND($B$27=\"Yes\",F$24<11.5),((Traffic!$F$6-1)*(Constraints!$E$35+Constraints!$E$31))+1,1)))","v":1},{"$f":"IF(G$53=\"No\",1,(IF(AND($B$27=\"Yes\",G$24<11.5),((Traffic!$F$6-1)*(Constraints!$E$35+Constraints!$E$31))+1,1)))","v":1},{"$f":"IF($I$2=\"Existing\",(D146),(IF($I$2=\"Design 1\",(F146),(IF($I$2=\"Design 2\",(G146),(IF($I$2=\"Optimal\",(I146),E146)))))))","v":1},{"$f":"IF(I$53=\"No\",1,(IF(AND($B$27=\"Yes\",I$24<11.5),((Traffic!$F$6-1)*(Constraints!$E$35+Constraints!$E$31))+1,1)))","v":1},null,{"$f":"INDEX($D146:$I146,K$98)","v":1},{"$f":"INDEX($D146:$I146,L$98)","v":1},0]
[null,null,"Install post-mounted delineators",{"$f":"IF(AND($B$27=\"Yes\",D$54=\"Yes\"),(Traffic!$F$12-1)*Constraints!$E$36+1,1)","v":1},{"$f":"IF(AND($B$27=\"Yes\",E$54=\"Yes\"),(Traffic!$F$12-1)*Constraints!$E$36+1,1)","v":1},{"$f":"IF(AND($B$27=\"Yes\",F$54=\"Yes\"),(Traffic!$F$12-1)*Constraints!$E$36+1,1)","v":1},{"$f":"IF(AND($B$27=\"Yes\",G$54=\"Yes\"),(Traffic!$F$12-1)*Constraints!$E$36+1,1)","v":1},{"$f":"IF($I$2=\"Existing\",(D147),(IF($I$2=\"Design 1\",(F147),(IF($I$2=\"Design 2\",(G147),(IF($I$2=\"Optimal\",(I147),E147)))))))","v":1},{"$f":"IF(AND($B$27=\"Yes\",I$54=\"Yes\"),(Traffic!$F$12-1)*Constraints!$E$36+1,1)","v":1},null,{"$f":"INDEX($D147:$I147,K$98)","v":1},{"$f":"INDEX($D147:$I147,L$98)","v":1},0]
[null,null,"Install edgeline  or Profile pavement markings ",{"$f":"IF(D$55=\"Yes\",Traffic!$F$18*0.5+((Traffic!$F$20*(Constraints!$H$36+Constraints!$H$32)+1*(Constraints!$H$37-(Constraints!$H$36+Constraints!$H$32)))/Constraints!$H$37)*0.5,1)","v":1},{"$f":"IF(E$55=\"Yes\",Traffic!$F$18*0.5+((Traffic!$F$20*(Constraints!$H$36+Constraints!$H$32)+1*(Constraints!$H$37-(Constraints!$H$36+Constraints!$H$32)))/Constraints!$H$37)*0.5,1)","v":0.86175881308648239},{"$f":"IF(F$55=\"Yes\",Traffic!$F$18*0.5+((Traffic!$F$20*(Constraints!$H$36+Constraints!$H$32)+1*(Constraints!$H$37-(Constraints!$H$36+Constraints!$H$32)))/Constraints!$H$37)*0.5,1)","v":1},{"$f":"IF(G$55=\"Yes\",Traffic!$F$18*0.5+((Traffic!$F$20*(Constraints!$H$36+Constraints!$H$32)+1*(Constraints!$H$37-(Constraints!$H$36+Constraints!$H$32)))/Constraints!$H$37)*0.5,1)","v":1},{"$f":"IF($I$2=\"Existing\",(D148),(IF($I$2=\"Design 1\",(F148),(IF($I$2=\"Design 2\",(G148),(IF($I$2=\"Optimal\",(I148),E148)))))))","v":0.86175881308648239},{"$f":"IF(I$55=\"Yes\",Traffic!$F$18*0.5+((Traffic!$F$20*(Constraints!$H$36+Constraints!$H$32)+1*(Constraints!$H$37-(Constraints!$H$36+Constraints!$H$32)))/Constraints!$H$37)*0.5,1)","v":0.86175881308648239},null,{"$f":"INDEX($D148:$I148,K$98)","v":1},{"$f":"INDEX($D148:$I148,L$98)","v":0.86175881308648239},0.13824118691351761]
[null,null,"Profiles",1,1,1,1,1,1,null,{"$f":"INDEX($D149:$I149,K$98)","v":1},{"$f":"INDEX($D149:$I149,L$98)","v":1},0]
[null,null,"Shoulder rumble strips",{"$f":"IF(D$56=\"No\",1,(Traffic!$F$27*(Constraints!$H$36+Constraints!$H$32)+1*(Constraints!$H$37-(Constraints!$H$36+Constraints!$H$32)))/Constraints!$H$37)","v":0.89760950690192376},{"$f":"IF(E$56=\"No\",1,(Traffic!$F$27*(Constraints!$H$36+Constraints!$H$32)+1*(Constraints!$H$37-(Constraints!$H$36+Constraints!$H$32)))/Constraints!$H$37)","v":0.89760950690192376},{"$f":"IF(F$56=\"No\",1,(Traffic!$F$27*(Constraints!$H$36+Constraints!$H$32)+1*(Constraints!$H$37-(Constraints!$H$36+Constraints!$H$32)))/Constraints!$H$37)","v":0.89760950690192376},{"$f":"IF(G$56=\"No\",1,(Traffic!$F$27*(Constraints!$H$36+Constraints!$H$32)+1*(Constraints!$H$37-(Constraints!$H$36+Constraints!$H$32)))/Constraints!$H$37)","v":0.89760950690192376},{"$f":"IF($I$2=\"Existing\",(D150),(IF($I$2=\"Design 1\",(F150),(IF($I$2=\"Design 2\",(G150),(IF($I$2=\"Optimal\",(I150),E150)))))))","v":0.89760950690192376},{"$f":"IF(I$56=\"No\",1,(Traffic!$F$27*(Constraints!$H$36+Constraints!$H$32)+1*(Constraints!$H$37-(Constraints!$H$36+Constraints!$H$32)))/Constraints!$H$37)","v":0.89760950690192376},null,{"$f":"INDEX($D150:$I150,K$98)","v":0.89760950690192376},{"$f":"INDEX($D150:$I150,L$98)","v":0.89760950690192376},0]
[null,null,"Install centerline rumble strips",{"$f":"IF(D$57=\"No\",1,Traffic!$F$30)","v":0.86},{"$f":"IF(E$57=\"No\",1,Traffic!$F$30)","v":1},{"$f":"IF(F$57=\"No\",1,Traffic!$F$30)","v":0.86},{"$f":"IF(G$57=\"No\",1,Traffic!$F$30)","v":0.86},{"$f":"IF($I$2=\"Existing\",(D151),(IF($I$2=\"Design 1\",(F151),(IF($I$2=\"Design 2\",(G151),(IF($I$2=\"Optimal\",(I151),E151)))))))","v":1},{"$f":"IF(I$57=\"No\",1,Traffic!$F$30)","v":0.86},null,{"$f":"INDEX($D151:$I151,K$98)","v":0.86},{"$f":"INDEX($D151:$I151,L$98)","v":1},-0.16279069767441867]
[null,null,"Driveway Density (driveways per mile)",{"$f":"EXP(-LN(Traffic!$F$32)*(D$58-$E$58))","v":0.81707280688754669},{"$f":"EXP(-LN(Traffic!$F$32)*(E$58-$E$58))","v":1},{"$f":"EXP(-LN(Traffic!$F$32)*(F$58-$E$58))","v":0.81707280688754669},{"$f":"EXP(-LN(Traffic!$F$32)*(G$58-$E$58))","v":0.81707280688754669},{"$f":"IF($I$2=\"Existing\",(D152),(IF($I$2=\"Design 1\",(F152),(IF($I$2=\"Design 2\",(G152),(IF($I$2=\"Optimal\",(I152),E152)))))))","v":1},{"$f":"EXP(-LN(Traffic!$F$32)*(I$58-$E$58))","v":0.81707280688754669},null,{"$f":"INDEX($D152:$I152,K$98)","v":0.81707280688754669},{"$f":"INDEX($D152:$I152,L$98)","v":1},-0.22388114201141129]
[null,null,"Install lighting",{"$f":"IF(D$59=\"No\",1,1-(((1-Traffic!$F$55*Constraints!$H$37-Constraints!$F$37/3)+((1-Traffic!$F$55*Constraints!$D$37-Constraints!$H$37)))*$S$19+((1-Traffic!$F$57)*Constraints!$F$37/3))/Constraints!$D$37)","v":0.977040446881142},{"$f":"IF(E$59=\"No\",1,1-(((1-Traffic!$F$55*Constraints!$H$37-Constraints!$F$37/3)+((1-Traffic!$F$55*Constraints!$D$37-Constraints!$H$37)))*$S$19+((1-Traffic!$F$57)*Constraints!$F$37/3))/Constraints!$D$37)","v":1},{"$f":"IF(F$59=\"No\",1,1-(((1-Traffic!$F$55*Constraints!$H$37-Constraints!$F$37/3)+((1-Traffic!$F$55*Constraints!$D$37-Constraints!$H$37)))*$S$19+((1-Traffic!$F$57)*Constraints!$F$37/3))/Constraints!$D$37)","v":0.977040446881142},{"$f":"IF(G$59=\"No\",1,1-(((1-Traffic!$F$55*Constraints!$H$37-Constraints!$F$37/3)+((1-Traffic!$F$55*Constraints!$D$37-Constraints!$H$37)))*$S$19+((1-Traffic!$F$57)*Constraints!$F$37/3))/Constraints!$D$37)","v":0.977040446881142},{"$f":"IF($I$2=\"Existing\",(D153),(IF($I$2=\"Design 1\",(F153),(IF($I$2=\"Design 2\",(G153),(IF($I$2=\"Optimal\",(I153),E153)))))))","v":1},{"$f":"IF(I$59=\"No\",1,1-(((1-Traffic!$F$55*Constraints!$H$37-Constraints!$F$37/3)+((1-Traffic!$F$55*Constraints!$D$37-Constraints!$H$37)))*$S$19+((1-Traffic!$F$57)*Constraints!$F$37/3))/Constraints!$D$37)","v":0.977040446881142},null,{"$f":"INDEX($D153:$I153,K$98)","v":0.977040446881142},{"$f":"INDEX($D153:$I153,L$98)","v":1},-2.3499081529478438E-2]
[null,null,"Pavement friction (skid number)",{"$f":"EXP(LN(Traffic!$F$49)*(D$60-$E$60))","v":1.3972521419325798},{"$f":"EXP(LN(Traffic!$F$49)*(E$60-$E$60))","v":1},{"$f":"IF(MATCH(F60,SkidNums,0)=3, $D154,EXP(LN(Traffic!$F$49)*(RIGHT(F$60,2)-$E$60)))","v":{"$error":"#N/A"}},{"$f":"IF(MATCH(G60,SkidNums,0)=3, $D154,EXP(LN(Traffic!$F$49)*(RIGHT(G$60,2)-$E$60)))","v":{"$error":"#N/A"}},{"$f":"IF($I$2=\"Existing\",(D154),(IF($I$2=\"Design 1\",(F154),(IF($I$2=\"Design 2\",(G154),(IF($I$2=\"Optimal\",(I154),E154)))))))","v":1},{"$f":"EXP(LN(Traffic!$F$49)*(I$60-$E$60))","v":0.85753553626991963},null,{"$f":"INDEX($D154:$I154,K$98)","v":1.3972521419325798},{"$f":"INDEX($D154:$I154,L$98)","v":1},0.28430956017940245]
[]
[]
[null,null,"COMBINED Calculated CMF",{"$f":"+D145*D146*D147*D148*D149*D150*D151*D152*D153*D154","v":0.86106111787419426},{"$f":"+E145*E146*E147*E148*E149*E150*E151*E152*E153*E154","v":0.7735229032829446},{"$f":"+F145*F146*F147*F148*F149*F150*F151*F152*F153*F154","v":{"$error":"#N/A"}},{"$f":"+G145*G146*G147*G148*G149*G150*G151*G152*G153*G154","v":{"$error":"#N/A"}},{"$f":"IF($I$2=\"Existing\",(D157),(IF($I$2=\"Design 1\",(F157),(IF($I$2=\"Design 2\",(G157),(IF($I$2=\"Optimal\",(I157),E157)))))))","v":0.7735229032829446},{"$f":"+I145*I146*I147*I148*I149*I150*I151*I152*I153*I154","v":0.45540422392050506},null,{"$f":"INDEX($D157:$I157,K$98)","v":0.86106111787419426},{"$f":"INDEX($D157:$I157,L$98)","v":0.7735229032829446},{"$f":"IF(ISERROR(1-L157/K157), 0, 1-L157/K157)","v":0.10166318368592209}]
[null,null,"Calculated Relative to Design Standards (Column E)",{"$f":"+D157/$E$157","v":1.1131682258142903},{"$f":"+E157/$E$157","v":1},{"$f":"+F157/$E$157","v":{"$error":"#N/A"}},{"$f":"+G157/$E$157","v":{"$error":"#N/A"}},1,{"$f":"+I157/$E$157","v":0.58874045227064742},null,{"$f":"INDEX($D158:$I158,K$98)","v":1.1131682258142903},{"$f":"INDEX($D158:$I158,L$98)","v":1},0.1016631836859222]
[null,null,"P(Crash)",{"$f":"+D158/(D158+1)","v":0.52677690882151185},{"$f":"+E158/(E158+1)","v":0.5},{"$f":"+F158/(F158+1)","v":{"$error":"#N/A"}},{"$f":"+G158/(G158+1)","v":{"$error":"#N/A"}},0.5,{"$f":"+I158/(I158+1)","v":0.37057056829465901}]
[null,null,"Factor Change on S curve",{"$f":"+D159/$E$159","v":1.0535538176430237},{"$f":"+E159/$E$159","v":1},{"$f":"+F159/$E$159","v":{"$error":"#N/A"}},{"$f":"+G159/$E$159","v":{"$error":"#N/A"}},1,{"$f":"+I159/$E$159","v":0.74114113658931802}]
[null,null,"Adjust to Scale of 100",{"$f":"+$I$114/D160*100","v":{"$error":"#VALUE!"}},{"$f":"+$I$114/E160*100","v":{"$error":"#VALUE!"}},{"$f":"+$I$114/F160*100","v":{"$error":"#VALUE!"}},{"$f":"+$I$114/G160*100","v":{"$error":"#VALUE!"}},{"$error":"#VALUE!"},{"$f":"+$I$114/I160*100","v":{"$error":"#VALUE!"}}]
[null,null,"Unadjusted Combined Relative to Standard",{"$f":"+D157/$E$157","v":1.1131682258142903},{"$f":"+E157/$E$157","v":1},{"$f":"+F157/$E$157","v":{"$error":"#N/A"}},{"$f":"+G157/$E$157","v":{"$error":"#N/A"}},1,{"$f":"+I157/$E$157","v":0.58874045227064742}]
[null,null,null,null,null,null,null,0,null,{"$f":"I168/E168","v":1.4285714285714286}]
[null,null,"Adjusted for PA Basis",{"$f":"+D157*(1+1)/(1+D157*1)","v":0.92534426688549098},{"$f":"+E157*(1+1)/(1+E157*1)","v":0.8723010025425515},{"$f":"+F157*(1+1)/(1+F157*1)","v":{"$error":"#N/A"}},{"$f":"+G157*(1+1)/(1+G157*1)","v":{"$error":"#N/A"}},0.8723010025425515,{"$f":"+I157*(1+1)/(1+I157*1)","v":0.62581132641453641}]
[null,null,"Corrected by Odds Ratio",{"$f":"+D164/$E$164","v":1.0608084413388623},{"$f":"+E164/$E$164","v":1},{"$f":"+F164/$E$164","v":{"$error":"#N/A"}},{"$f":"+G164/$E$164","v":{"$error":"#N/A"}},1,{"$f":"+I164/$E$164","v":0.71742589380322175}]
[null,null,null,{"$f":"(1/D165)^$D169","v":0.29295399474123779},1,{"$error":"#N/A"},{"$error":"#N/A"},1,998.99999999999955,{"$f":"I171/E171","v":1.4285714285714286}]
[null,null,null,{"$f":"(D166+$F170-1)/(1+(D166+$F170-1))","v":0.61923435059440457},0.70000000000000007,{"$error":"#N/A"},{"$error":"#N/A"},0.70000000000000007,0.99900133155792281]
[null,null,"Score Odds Ratio with Optimal as 100 (old)",{"$f":"MIN(ROUND($I$165/D165*Construction!$I$9,0),$I168)","v":14},{"$f":"MIN(ROUND($I$165/E165*Construction!$I$9,0),$I168)","v":14},{"$f":"MIN(ROUND($I$165/F165*Construction!$I$9,0),$I168)","v":{"$error":"#N/A"}},{"$f":"MIN(ROUND($I$165/G165*Construction!$I$9,0),$I168)","v":{"$error":"#N/A"}},null,{"$f":"ROUND($I$165/I165*Construction!$I$9,0)","v":20}]
[null,null,"Logistic1",{"$f":"LN((D170/(1-D170))/(0.5/0.5))/LN($E165/I165)","v":20.798114554240879}]
[null,null,"Logistic Param",0.999,null,{"$f":"0.7/0.3","v":2.3333333333333335}]
[null,null,"Score ",{"$f":"MIN(ROUND(D167*Construction!$I$9,0),$I168)","v":12},{"$f":"MIN(ROUND(E167*Construction!$I$9,0),$I168)","v":14},{"$f":"MIN(ROUND(F167*Construction!$I$9,0),$I168)","v":{"$error":"#N/A"}},{"$f":"MIN(ROUND(G167*Construction!$I$9,0),$I168)","v":{"$error":"#N/A"}},null,{"$f":"MIN(ROUND(I167*Construction!$I$9,0),$I168)","v":20}]
[]
[]
[]
[]
[]
[]
[null,"Roadsde",null,"Existing","Standard","Design 1","Design 2"]
[null,null,null,{"$f":"MID(D72,FIND(\":\",D72,1)+1,FIND(\"H\",D72,1)-FIND(\":\",D72,1)-1)+0","v":{"$error":"#VALUE!"}},{"$f":"MID(E72,FIND(\":\",E72,1)+1,FIND(\"H\",E72,1)-FIND(\":\",E72,1)-1)+0","v":4},{"$f":"MID(F72,FIND(\":\",F72,1)+1,FIND(\"H\",F72,1)-FIND(\":\",F72,1)-1)+0","v":{"$error":"#VALUE!"}},{"$f":"MID(G72,FIND(\":\",G72,1)+1,FIND(\"H\",G72,1)-FIND(\":\",G72,1)-1)+0","v":{"$error":"#VALUE!"}},null,{"$f":"MID(I72,FIND(\":\",I72,1)+1,FIND(\"H\",I72,1)-FIND(\":\",I72,1)-1)+0","v":6},null,{"$f":"INDEX($D179:$I179,K$98)","v":{"$error":"#VALUE!"}},{"$f":"INDEX($D179:$I179,L$98)","v":4},{"$f":"IF(ISERROR(1-L179/K179), 0, 1-L179/K179)","v":0}]
[null,null,"Sideslope (Foreslope)",{"$f":"IF(D179<=3,1,IF(OR(D179=4,D179=5),(Roadside!$F$15-1)*Constraints!$H$37/Constraints!$D$37+1,(Roadside!$F$15*Roadside!$F$16-1)*Constraints!$H$37/Constraints!$D$37+1))","v":{"$error":"#VALUE!"}},{"$f":"IF(E179<=3,1,IF(OR(E179=4,E179=5),(Roadside!$F$15-1)*Constraints!$H$37/Constraints!$D$37+1,(Roadside!$F$15*Roadside!$F$16-1)*Constraints!$H$37/Constraints!$D$37+1))","v":0.8286893555394641},{"$f":"IF(F179<=3,1,IF(OR(F179=4,F179=5),(Roadside!$F$15-1)*Constraints!$H$37/Constraints!$D$37+1,(Roadside!$F$15*Roadside!$F$16-1)*Constraints!$H$37/Constraints!$D$37+1))","v":{"$error":"#VALUE!"}},{"$f":"IF(G179<=3,1,IF(OR(G179=4,G179=5),(Roadside!$F$15-1)*Constraints!$H$37/Constraints!$D$37+1,(Roadside!$F$15*Roadside!$F$16-1)*Constraints!$H$37/Constraints!$D$37+1))","v":{"$error":"#VALUE!"}},{"$f":"IF($I$2=\"Existing\",(D180),(IF($I$2=\"Design 1\",(F180),(IF($I$2=\"Design 2\",(G180),(IF($I$2=\"Optimal\",(I180),E180)))))))","v":0.8286893555394641},{"$f":"IF(I179<=3,1,IF(OR(I179=4,I179=5),(Roadside!$F$15-1)*Constraints!$H$37/Constraints!$D$37+1,(Roadside!$F$15*Roadside!$F$16-1)*Constraints!$H$37/Constraints!$D$37+1))","v":0.77664355022240605},null,{"$f":"INDEX($D180:$I180,K$98)","v":{"$error":"#VALUE!"}},{"$f":"INDEX($D180:$I180,L$98)","v":0.8286893555394641},0]
[null,null,"Backslope",1,1,1,1,{"$f":"IF($I$2=\"Existing\",(D181),(IF($I$2=\"Design 1\",(F181),(IF($I$2=\"Design 2\",(G181),(IF($I$2=\"Optimal\",(I181),E181)))))))","v":1},1,null,{"$f":"INDEX($D181:$I181,K$98)","v":1},{"$f":"INDEX($D181:$I181,L$98)","v":1},0]
[null,null,"SafetyEdge",{"$f":"IF(D$74=\"No\",1,(Roadside!$F$23-1)*AVERAGE(Constraints!$H$37,Constraints!$F$37)/Constraints!$D$37+1)","v":0.97258384193648495},{"$f":"IF(E$74=\"No\",1,(Roadside!$F$23-1)*AVERAGE(Constraints!$H$37,Constraints!$F$37)/Constraints!$D$37+1)","v":1},{"$f":"IF(F$74=\"No\",1,(Roadside!$F$23-1)*AVERAGE(Constraints!$H$37,Constraints!$F$37)/Constraints!$D$37+1)","v":0.97258384193648495},{"$f":"IF(G$74=\"No\",1,(Roadside!$F$23-1)*AVERAGE(Constraints!$H$37,Constraints!$F$37)/Constraints!$D$37+1)","v":0.97258384193648495},{"$f":"IF($I$2=\"Existing\",(D182),(IF($I$2=\"Design 1\",(F182),(IF($I$2=\"Design 2\",(G182),(IF($I$2=\"Optimal\",(I182),E182)))))))","v":1},{"$f":"IF(I$74=\"No\",1,(Roadside!$F$23-1)*AVERAGE(Constraints!$H$37,Constraints!$F$37)/Constraints!$D$37+1)","v":0.97258384193648495},null,{"$f":"INDEX($D182:$I182,K$98)","v":0.97258384193648495},{"$f":"INDEX($D182:$I182,L$98)","v":1},-2.8188991921691331E-2]
[null,null,"Lateral Clearance (ft)",{"$f":"IF($B$27=\"Yes\",((EXP(LN(Roadside!$F$11)*(IF(D$76=\"None\",40,D$75)-30)/30)-1))*Constraints!$H$36/Constraints!$D$37+1,((EXP(LN(Roadside!$F$10)*(IF(D$76=\"None\",40,D$75)-30)/30)-1))*Constraints!$H$36/Constraints!$D$37+1)","v":1.0992721491203288},{"$f":"IF($B$27=\"Yes\",((EXP(LN(Roadside!$F$11)*(IF(E$76=\"None\",40,E$75)-30)/30)-1))*Constraints!$H$36/Constraints!$D$37+1,((EXP(LN(Roadside!$F$10)*(IF(E$76=\"None\",40,E$75)-30)/30)-1))*Constraints!$H$36/Constraints!$D$37+1)","v":1},{"$f":"IF($B$27=\"Yes\",((EXP(LN(Roadside!$F$11)*(IF(F$76=\"None\",40,F$75)-30)/30)-1))*Constraints!$H$36/Constraints!$D$37+1,((EXP(LN(Roadside!$F$10)*(IF(F$76=\"None\",40,F$75)-30)/30)-1))*Constraints!$H$36/Constraints!$D$37+1)","v":1.0992721491203288},{"$f":"IF($B$27=\"Yes\",((EXP(LN(Roadside!$F$11)*(IF(G$76=\"None\",40,G$75)-30)/30)-1))*Constraints!$H$36/Constraints!$D$37+1,((EXP(LN(Roadside!$F$10)*(IF(G$76=\"None\",40,G$75)-30)/30)-1))*Constraints!$H$36/Constraints!$D$37+1)","v":1.0992721491203288},{"$f":"IF($I$2=\"Existing\",(D183),(IF($I$2=\"Design 1\",(F183),(IF($I$2=\"Design 2\",(G183),(IF($I$2=\"Optimal\",(I183),E183)))))))","v":1},{"$f":"IF($B$27=\"Yes\",((EXP(LN(Roadside!$F$11)*(IF(I$76=\"None\",40,I$75)-30)/30)-1))*Constraints!$H$36/Constraints!$D$37+1,((EXP(LN(Roadside!$F$10)*(IF(I$76=\"None\",40,I$75)-30)/30)-1))*Constraints!$H$36/Constraints!$D$37+1)","v":0.97455184373954995},null,{"$f":"INDEX($D183:$I183,K$98)","v":1.0992721491203288},{"$f":"INDEX($D183:$I183,L$98)","v":1},9.0307162971216326E-2]
[null,null,"Fixed Object Type",{"$f":"IF(D$76=\"Guardrail\",(Roadside!$F$25-1)*(($I$75-D$75)/$I$75)^2*Constraints!$H$36/Constraints!$D$37+1,1)","v":1},{"$f":"IF(E$76=\"Guardrail\",(Roadside!$F$25-1)*(($I$75-E$75)/$I$75)^2*Constraints!$H$36/Constraints!$D$37+1,1)","v":1},{"$f":"IF(F$76=\"Guardrail\",(Roadside!$F$25-1)*(($I$75-F$75)/$I$75)^2*Constraints!$H$36/Constraints!$D$37+1,1)","v":1},{"$f":"IF(G$76=\"Guardrail\",(Roadside!$F$25-1)*(($I$75-G$75)/$I$75)^2*Constraints!$H$36/Constraints!$D$37+1,1)","v":1},{"$f":"IF($I$2=\"Existing\",(D184),(IF($I$2=\"Design 1\",(F184),(IF($I$2=\"Design 2\",(G184),(IF($I$2=\"Optimal\",(I184),E184)))))))","v":1},{"$f":"IF(I$76=\"Guardrail\",(Roadside!$F$25-1)*(($I$75-I$75)/$I$75)^2*Constraints!$H$36/Constraints!$D$37+1,1)","v":1},null,{"$f":"INDEX($D184:$I184,K$98)","v":1},{"$f":"INDEX($D184:$I184,L$98)","v":1},0]
[]
[]
[null,null,"COMBINED Calculated CMF",{"$f":"+D180*D181*D182*D183*D184","v":{"$error":"#VALUE!"}},{"$f":"+E180*E181*E182*E183*E184","v":0.8286893555394641},{"$f":"+F180*F181*F182*F183*F184","v":{"$error":"#VALUE!"}},{"$f":"+G180*G181*G182*G183*G184","v":{"$error":"#VALUE!"}},{"$f":"IF($I$2=\"Existing\",(D187),(IF($I$2=\"Design 1\",(F187),(IF($I$2=\"Design 2\",(G187),(IF($I$2=\"Optimal\",(I187),E187)))))))","v":0.8286893555394641},{"$f":"+I180*I181*I182*I183*I184","v":0.73612867842813945}]
[null,null,"Calculated Relative to Design Standards (Column E)",{"$f":"+D187/$E$187","v":{"$error":"#VALUE!"}},{"$f":"+E187/$E$187","v":1},{"$f":"+F187/$E$187","v":{"$error":"#VALUE!"}},{"$f":"+G187/$E$187","v":{"$error":"#VALUE!"}},1,{"$f":"+I187/$E$187","v":0.88830473507039431}]
[null,null,"P(Crash)",{"$f":"+D188/(D188+1)","v":{"$error":"#VALUE!"}},{"$f":"+E188/(E188+1)","v":0.5},{"$f":"+F188/(F188+1)","v":{"$error":"#VALUE!"}},{"$f":"+G188/(G188+1)","v":{"$error":"#VALUE!"}},0.5,{"$f":"+I188/(I188+1)","v":0.47042445987261644}]
[null,null,"Factor Change on S curve",{"$f":"+D189/$E$189","v":{"$error":"#VALUE!"}},{"$f":"+E189/$E$189","v":1},{"$f":"+F189/$E$189","v":{"$error":"#VALUE!"}},{"$f":"+G189/$E$189","v":{"$error":"#VALUE!"}},1,{"$f":"+I189/$E$189","v":0.94084891974523288}]
[null,null,"Adjust to Scale of 100",{"$f":"+$I$114/D190*100","v":{"$error":"#VALUE!"}},{"$f":"+$I$114/E190*100","v":{"$error":"#VALUE!"}},{"$f":"+$I$114/F190*100","v":{"$error":"#VALUE!"}},{"$f":"+$I$114/G190*100","v":{"$error":"#VALUE!"}},{"$error":"#VALUE!"},{"$f":"+$I$114/I190*100","v":{"$error":"#VALUE!"}}]
[null,null,"Unadjusted Combined Relative to Standard",{"$f":"+D187/$E$187","v":{"$error":"#VALUE!"}},{"$f":"+E187/$E$187","v":1},{"$f":"+F187/$E$187","v":{"$error":"#VALUE!"}},{"$f":"+G187/$E$187","v":{"$error":"#VALUE!"}},1,{"$f":"+I187/$E$187","v":0.88830473507039431}]
[null,null,null,null,null,null,null,null,null,{"$f":"I198/E198","v":1.1111111111111112}]
[null,null,"Adjusted for PA Basis",{"$f":"+D187*(1+1)/(1+D187*1)","v":{"$error":"#VALUE!"}},{"$f":"+E187*(1+1)/(1+E187*1)","v":0.90632053282226321},{"$f":"+F187*(1+1)/(1+F187*1)","v":{"$error":"#VALUE!"}},{"$f":"+G187*(1+1)/(1+G187*1)","v":{"$error":"#VALUE!"}},{"$f":"IF($I$2=\"Existing\",(D194),(IF($I$2=\"Design 1\",(F194),(IF($I$2=\"Design 2\",(G194),(IF($I$2=\"Optimal\",(I194),E194)))))))","v":0.90632053282226321},{"$f":"+I187*(1+1)/(1+I187*1)","v":0.84801165671039724}]
[null,null,"Corrected by Odds Ratio",{"$f":"+D187/$E$187","v":{"$error":"#VALUE!"}},{"$f":"+E187/$E$187","v":1},{"$f":"+F187/$E$187","v":{"$error":"#VALUE!"}},{"$f":"+G187/$E$187","v":{"$error":"#VALUE!"}},{"$f":"IF($I$2=\"Existing\",(D195),(IF($I$2=\"Design 1\",(F195),(IF($I$2=\"Design 2\",(G195),(IF($I$2=\"Optimal\",(I195),E195)))))))","v":1},{"$f":"+I187/$E$187","v":0.88830473507039431}]
[null,null,null,{"$f":"(1/D195)^$D199","v":{"$error":"#VALUE!"}},1,{"$error":"#VALUE!"},{"$error":"#VALUE!"},1,998.99999999999955,{"$f":"I201/E201","v":1.4814814814814814}]
[null,null,null,{"$f":"(D196+$F200-1)/(1+(D196+$F200-1))","v":{"$error":"#VALUE!"}},0.66666666666666663,{"$error":"#VALUE!"},{"$error":"#VALUE!"},0.66666666666666663,0.99900099900099903]
[null,null,"Score Odds Ratio with Optimal as 100 (old)",{"$f":"MIN(ROUND($I$195/D195*Construction!$I$10,0),$I198)","v":{"$error":"#VALUE!"}},{"$f":"MIN(ROUND($I$195/E195*Construction!$I$10,0),$I198)","v":36},{"$f":"MIN(ROUND($I$195/F195*Construction!$I$10,0),$I198)","v":{"$error":"#VALUE!"}},{"$f":"MIN(ROUND($I$195/G195*Construction!$I$10,0),$I198)","v":{"$error":"#VALUE!"}},null,{"$f":"ROUND($I$195/I195*Construction!$I$10,0)","v":40}]
[null,null,"Logistic1",{"$f":"LN((D200/(1-D200))/(0.5/0.5))/LN($E195/I195)","v":58.314167600285003}]
[null,null,"Logistic Param",0.999,null,2]
[null,null,"Score ",{"$f":"MIN(ROUND(D197*Construction!$I$10,0),$I198)","v":{"$error":"#VALUE!"}},{"$f":"MIN(ROUND(E197*Construction!$I$10,0),$I198)","v":27},{"$f":"MIN(ROUND(F197*Construction!$I$10,0),$I198)","v":{"$error":"#VALUE!"}},{"$f":"MIN(ROUND(G197*Construction!$I$10,0),$I198)","v":{"$error":"#VALUE!"}},null,{"$f":"MIN(ROUND(I197*Construction!$I$10,0),$I198)","v":40}]
[]
[]
[]
[]
[null,null,{"$f":"D84/D179","v":{"$error":"#VALUE!"}},null,{"$f":"ROUNDUP((MIN($I$14,$I$15)-E24-E25)/$C$206,0)","v":{"$error":"#VALUE!"}},{"$f":"ROUNDUP((MIN($I$14,$I$15)-F24-F25)/$C$206,0)","v":{"$error":"#VALUE!"}},{"$f":"ROUNDUP((MIN($I$14,$I$15)-G24-G25)/$C$206,0)","v":{"$error":"#VALUE!"}},null,{"$f":"ROUNDUP((MIN($I$14,$I$15)-I24-I25)/$C$206,0)","v":{"$error":"#VALUE!"}}]
[]
[]
[null,null,"Distance to low point","Distance to low point",{"$f":"$C$206*E179","v":{"$error":"#VALUE!"}},{"$f":"$C$206*F179","v":{"$error":"#VALUE!"}},{"$f":"$C$206*G179","v":{"$error":"#VALUE!"}},null,{"$f":"$C$206*I179","v":{"$error":"#VALUE!"}}]
[null,null,null,"Additional ROW1 Needed for Foreslope",{"$f":"IF(E209>($I$14-E24-E25),E209-($I$14-E24-E25),0)","v":{"$error":"#VALUE!"}},{"$f":"IF(F209>($I$14-F24-F25),F209-($I$14-F24-F25),0)","v":{"$error":"#VALUE!"}},{"$f":"IF(G209>($I$14-G24-G25),G209-($I$14-G24-G25),0)","v":{"$error":"#VALUE!"}},null,{"$f":"IF(I209>($I$14-I24-I25),I209-($I$14-I24-I25),0)","v":{"$error":"#VALUE!"}}]
[null,null,null,"Additional ROW2 Needed for Foreslope",{"$f":"IF(E209>($I$15-E24-E25),E209-($I$15-E24-E25),0)","v":{"$error":"#VALUE!"}},{"$f":"IF(F209>($I$15-F24-F25),F209-($I$15-F24-F25),0)","v":{"$error":"#VALUE!"}},{"$f":"IF(G209>($I$15-G24-G25),G209-($I$15-G24-G25),0)","v":{"$error":"#VALUE!"}},null,{"$f":"IF(I209>($I$15-I24-I25),I209-($I$15-I24-I25),0)","v":{"$error":"#VALUE!"}}]
[]
[null,null,null,"Additional ROW1 Needed for Lateral Clearance",{"$f":"IF((CL248+E26)-$I$14<0,0,(CL248+E26)-$I$14)","v":8},{"$f":"IF((CM248+F26)-$I$14<0,0,(CM248+F26)-$I$14)","v":0},{"$f":"IF((CN248+G26)-$I$14<0,0,(CN248+G26)-$I$14)","v":0},null,{"$f":"IF((CP248+I26)-$I$14<0,0,(CP248+I26)-$I$14)","v":0}]
[null,null,null,"Additional ROW2 Needed for Lateral Clearance",{"$f":"IF((CL248+E26)-$I$15<0,0,(CL248+E26)-$I$15)","v":8},{"$f":"IF((CM248+F26)-$I$15<0,0,(CM248+F26)-$I$15)","v":0},{"$f":"IF((CN248+G26)-$I$15<0,0,(CN248+G26)-$I$15)","v":0},null,{"$f":"IF((CP248+I26)-$I$15<0,0,(CP248+I26)-$I$15)","v":0}]
[]
[]
[]
[]
[]
[]
[]
[]
[]
[]
[]
[null,null,"For Vertical Opt Use when Yes Vertical:"]
[null,null,"G1",{"$f":"D36","v":0},null,{"$f":"F36","v":0},{"$f":"G36","v":0},null,{"$f":"IF(ISERROR($E$234),\"\",INDEX(D227:G227,$E$234))","v":""}]
[null,null,"G2",{"$f":"D37","v":0},null,{"$f":"F37","v":0},{"$f":"G37","v":0},null,{"$f":"IF(ISERROR($E$234),\"\",INDEX(D228:G228,$E$234))","v":""}]
[null,null,"abs(G2-G1)",{"$f":"ABS(D36-D37)","v":0},null,{"$f":"ABS(F36-F37)","v":0},{"$f":"ABS(G36-G37)","v":0}]
[null,null,"Count in indicator (K no change; or K change but accept)",{"$f":"IF(D39<>\"\",1,\"\")","v":""},null,{"$f":"IF(OR(AND($B$34 = \"Yes\", $D$39 <> F39, F39 <>\"\", $D$39 <> \"\", F41=\"Yes.\"),AND($B$34 = \"Yes\", $D$39 = F39, F39 <>\"\", $D$39 <> \"\")), 1,\"\")","v":""},{"$f":"IF(OR(AND($B$34 = \"Yes\", $D$39 <> G39, G39 <>\"\", $D$39 <> \"\", G41=\"Yes.\"),AND($B$34 = \"Yes\", $D$39 = G39, G39 <>\"\", $D$39 <> \"\")), 1,\"\")","v":""}]
[]
[null,null,"Valid abs(G2-G1)",{"$f":"IF(ISERROR(D229*D230),\"\",D229*D230)","v":""},null,{"$f":"IF(ISERROR(F229*F230),\"\",F229*F230)","v":""},{"$f":"IF(ISERROR(G229*G230),\"\",G229*G230)","v":""}]
[null,null,"The min valid abs(G2-G1)",null,{"$f":"MIN(D232,F232,G232)","v":0}]
[null,null,"Index",null,{"$f":"MATCH(E233,D232:G232,0)","v":{"$error":"#N/A"}}]
[]
[null,null,"For Vertical Opt Use When No Vertical:"]
[null,null,"G1",{"$f":"IF(ISBLANK(D36), 999, D36)","v":999},null,{"$f":"IF(ISBLANK(F36), 999, F36)","v":999},{"$f":"IF(ISBLANK(G36), 999, G36)","v":999},null,{"$f":"IF(E242=999,\"\",E242)","v":""}]
[null,null,"Sign of G1",{"$f":"IF(D237>=0,1,-1)","v":1},null,{"$f":"IF(F237>=0,1,-1)","v":1},{"$f":"IF(G237>=0,1,-1)","v":1}]
[null,null,"Abs G1",{"$f":"ABS(D237)","v":999},null,{"$f":"ABS(F237)","v":999},{"$f":"ABS(G237)","v":999}]
[null,null,"Min Abs G1",null,{"$f":"MIN(D239:G239)","v":999}]
[null,null,"Which is the Best G1",null,{"$f":"MATCH(E240,D239:G239,0)","v":1}]
[null,null,"Best G1 Value",null,{"$f":"INDEX(D237:G237,1,E241)","v":999}]
[]
[]
[]
[]
[]
[]
[null,null,"Check if all cells filled",{"$f":"SUM(D251:D311)","v":18},{"$f":"SUM(E251:E311)","v":1},18,18,null,1]
[]
[null,null,{"$f":"C24","v":"Lane Width (feet)"},{"$f":"IF(ISBLANK(D24),1,0)","v":1},{"$f":"IF(ISBLANK(E24),1,0)","v":0},1,1,null,0]
[null,null,{"$f":"C25","v":"Shoulder Width (feet)"},{"$f":"IF(ISBLANK(D25),1,0)","v":1},0,1,1,null,0]
[null,null,"Cross-slope or Superelevation (%)",{"$f":"IF(ISBLANK(D26),1,0)","v":1},0,1,1,null,0]
[null,null,"Horizontal Curve Present?"]
[null,null,"Horizontal Curve Data for Controlling Element:"]
[null,null,"  Radius (feet)",{"$f":"IF(AND($B$27=\"Yes\", ISBLANK(D29)),1,0)","v":0},{"$f":"IF(AND($B$27=\"Yes\", ISBLANK(E29)),1,0)","v":0},0,0,null,0]
[null,null,"Length of Horizontal Curve (feet)",{"$f":"IF(AND($B$27=\"Yes\", ISBLANK(D30)),1,0)","v":0},0,0,0,null,0]
[null,null,"Calculated Deflection Angle ∆"]
[]
[null,null,null,null,null,{"$f":"IF(AND($B$27 = \"Yes\", $D$31 <> F31, F31<>\"\",ISBLANK(F33)),1,0)","v":0},{"$f":"IF(AND($B$27 = \"Yes\", $D$31 <> G31, G31<>\"\",ISBLANK(G33)),1,0)","v":0}]
[null,null,"Vertical Curve Present?"]
[null,null,"Vertical Curve Data for Controlling Element:"]
[null,null,"  Approach (Entry) Grade, G1 (%)",{"$f":"IF(ISBLANK(D36),1,0)","v":1},{"$f":"IF(ISBLANK(E36),1,0)","v":0},1,1,null,0]
[null,null,"  Departure (Exit) Grade, G2 (%)",{"$f":"IF(AND($B$34=\"Yes\", ISBLANK(D37)),1,0)","v":0},{"$f":"IF(AND($B$34=\"Yes\", ISBLANK(E37)),1,0)","v":0},0,0,null,0]
[null,null,"  Length (feet)",{"$f":"IF(AND($B$34=\"Yes\", ISBLANK(D38)),1,0)","v":0},0,0,0,null,0]
[null,null,"  Calculated Rate of Change, K (ft/ft)"]
[]
[]
[]
[null,null,"TWLTL (two-way left-turn lane)",{"$f":"IF(ISBLANK(D43),1,0)","v":1},{"$f":"IF(ISBLANK(E43),1,0)","v":0},1,1,null,0]
[null,null,"Passing Lane Type",{"$f":"IF(ISBLANK(D44),1,0)","v":1},0,1,1,null,0]
[]
[]
[]
[]
[]
[]
[]
[null,null,"Advance Static Curve Warning Signs",{"$f":"IF(AND($B$27=\"Yes\", ISBLANK(D52)),1,0)","v":0},{"$f":"IF(AND($B$27=\"Yes\", ISBLANK(E52)),1,0)","v":0},0,0,null,{"$f":"IF(ISBLANK(I52),1,0)","v":0}]
[null,null,"Chevron Signs on Horizontal Curves",{"$f":"IF(AND($B$27=\"Yes\", ISBLANK(D53)),1,0)","v":0},0,0,0,null,0]
[null,null,"Post-Mounted Delineators",0,0,0,0,null,0]
[null,null,"Edgeline Pavement Markings or Profile Markings",{"$f":"IF(ISBLANK(D55),1,0)","v":1},0,1,1,null,0]
[null,null,"Shoulder Rumble Strips",1,0,1,1,null,0]
[null,null,"Centerline Rumble Strips",1,0,1,1,null,0]
[null,null,"Driveway Density (driveways per mile)",1,0,1,1,null,0]
[null,null,"Lighting",1,0,1,1,null,0]
[null,null,"Pavement Friction (skid number) ***",1,0,1,1,null,0]
[]
[]
[]
[]
[]
[]
[]
[]
[]
[]
[]
[null,null,"Sideslope (Foreslope)",{"$f":"IF(ISBLANK(D72),1,0)","v":1},0,1,1,null,0]
[null,null,"Backslope",1,0,1,1,null,0]
[null,null,"SafetyEdge",1,0,1,1,null,0]
[null,null,"Lateral Clearance to obstruction (ft)",1,0,1,1,null,0]
[null,null,"Obstruction Type",1,0,1,1,null,0]
[]
[]
[]
[]
[]
[]
[]
[null,null,"Distance to Slope Toe from Shoulder (ft)",1,{"$f":"$D$311","v":1},{"$f":"$D$311","v":1},1,null,1]
[]
[]
[]
[null,null,null,null,null,null,null,null,{"$f":"SUM(I316:I324)","v":9}]
[null,null,null,null,null,null,null,{"$f":"F9","v":"Location "},{"$f":"IF(ISBLANK(I9),1,0)","v":1}]
[null,null,null,null,null,null,null,{"$f":"F10","v":"Design Speed (mph)"},{"$f":"IF(ISBLANK(I10),1,0)","v":1}]
[null,null,null,null,null,null,null,"Posted Speed (mph)",1]
[null,null,null,null,null,null,null,"E max (%)",1]
[null,null,null,null,null,null,null,"Design Year AADT (vehicles per day)",1]
[null,null,null,null,null,null,null,"Dist. from Centerline to Left   ROW (feet)",1]
[null,null,null,null,null,null,null,"Dist. from Centerline to Right ROW (feet)",1]
[null,null,null,null,null,null,null,"H Curve Indicator",{"$f":"IF(ISBLANK(B27),1,0)","v":1}]
[null,null,null,null,null,null,null,"V Curve Indicator",{"$f":"IF(ISBLANK(B34),1,0)","v":1}]
[]
[]
[]
[]
[]
[]
[]
[]
[]
[]
[]
[]
[]
[]
[]
[]
[]
[]
[]
[]
[]
[]
[]
[]
[]
[]
[]
[]
[]
[]
[]
[]
[]
[]
[]
[]
[]
[]
[]
[]
[]
[]
[]
[]
[]
[]
[]
[]
[]
[]
[]
[1]
[22]
[21]
[20,null,null,{"$f":"Constraints!P174","v":"Emax=6%"}]
[19]
[18,null,{"$f":"HLOOKUP($I$10,Constraints!$Q$176:AD197,A376,TRUE)","v":{"$error":"#N/A"}},{"$f":"Constraints!P176","v":"super"}]
[17,null,{"$f":"HLOOKUP($I$10,Constraints!$Q$176:AD198,A377,TRUE)","v":{"$error":"#N/A"}},{"$f":"Constraints!P197","v":6},1050]
[16,null,{"$f":"HLOOKUP($I$10,Constraints!$Q$176:AD199,A378,TRUE)","v":{"$error":"#N/A"}},{"$f":"Constraints!P196","v":5.8}]
[15,null,{"$f":"HLOOKUP($I$10,Constraints!$Q$176:AD200,A379,TRUE)","v":{"$error":"#N/A"}},{"$f":"Constraints!P195","v":5.6}]
[14,null,{"$f":"HLOOKUP($I$10,Constraints!$Q$176:AD201,A380,TRUE)","v":{"$error":"#N/A"}},{"$f":"Constraints!P194","v":5.4}]
[13,null,{"$f":"HLOOKUP($I$10,Constraints!$Q$176:AD202,A381,TRUE)","v":{"$error":"#N/A"}},{"$f":"Constraints!P193","v":5.2}]
[12,null,{"$f":"HLOOKUP($I$10,Constraints!$Q$176:AD203,A382,TRUE)","v":{"$error":"#N/A"}},{"$f":"Constraints!P192","v":5}]
[11,null,{"$f":"HLOOKUP($I$10,Constraints!$Q$176:AD204,A383,TRUE)","v":{"$error":"#N/A"}},{"$f":"Constraints!P191","v":4.8}]
[10,null,{"$f":"HLOOKUP($I$10,Constraints!$Q$176:AD205,A384,TRUE)","v":{"$error":"#N/A"}},{"$f":"Constraints!P190","v":4.5999999999999996}]
[9,null,{"$f":"HLOOKUP($I$10,Constraints!$Q$176:AD206,A385,TRUE)","v":{"$error":"#N/A"}},{"$f":"Constraints!P189","v":4.4000000000000004}]
[8,null,{"$f":"HLOOKUP($I$10,Constraints!$Q$176:AD207,A386,TRUE)","v":{"$error":"#N/A"}},{"$f":"Constraints!P188","v":4.2}]
[7,null,{"$f":"HLOOKUP($I$10,Constraints!$Q$176:AD208,A387,TRUE)","v":{"$error":"#N/A"}},{"$f":"Constraints!P187","v":4}]
[6,null,{"$f":"HLOOKUP($I$10,Constraints!$Q$176:AD209,A388,TRUE)","v":{"$error":"#N/A"}},{"$f":"Constraints!P186","v":3.8}]
[5,null,{"$f":"HLOOKUP($I$10,Constraints!$Q$176:AD210,A389,TRUE)","v":{"$error":"#N/A"}},{"$f":"Constraints!P185","v":3.6}]
[4,null,{"$f":"HLOOKUP($I$10,Constraints!$Q$176:AD211,A390,TRUE)","v":{"$error":"#N/A"}},{"$f":"Constraints!P184","v":3.4}]
[3,null,{"$f":"HLOOKUP($I$10,Constraints!$Q$176:AD212,A391,TRUE)","v":{"$error":"#N/A"}},{"$f":"Constraints!P183","v":3.2}]
[2,null,{"$f":"HLOOKUP($I$10,Constraints!$Q$176:AD213,A392,TRUE)","v":{"$error":"#N/A"}},{"$f":"Constraints!P182","v":3}]
[null,null,{"$f":"HLOOKUP($I$10,Constraints!$Q$176:AD214,A393,TRUE)","v":{"$error":"#N/A"}},{"$f":"Constraints!P181","v":2.8}]
[null,null,{"$f":"HLOOKUP($I$10,Constraints!$Q$176:AD215,A394,TRUE)","v":{"$error":"#N/A"}},{"$f":"Constraints!P180","v":2.6}]
[null,null,{"$f":"HLOOKUP($I$10,Constraints!$Q$176:AD216,A395,TRUE)","v":{"$error":"#N/A"}},{"$f":"Constraints!P179","v":2.4}]
[null,null,{"$f":"HLOOKUP($I$10,Constraints!$Q$176:AD217,A396,TRUE)","v":{"$error":"#N/A"}},{"$f":"Constraints!P178","v":2.2000000000000002}]
[null,null,{"$f":"HLOOKUP($I$10,Constraints!$Q$176:AD218,A397,TRUE)","v":{"$error":"#N/A"}},{"$f":"Constraints!P177","v":2}]
[1]
[32]
[31]
[30,null,null,{"$f":"Constraints!P201","v":"Emax=8%"}]
[29]
[28,null,{"$f":"HLOOKUP($I$10,Constraints!$Q$203:AD234,A403,TRUE)","v":{"$error":"#N/A"}},{"$f":"Constraints!P203","v":"super"}]
[27,null,{"$f":"HLOOKUP($I$10,Constraints!$Q$203:AD235,A404,TRUE)","v":{"$error":"#N/A"}},{"$f":"INDEX(Constraints!$P$203:$P$234,A404,)","v":8}]
[26,null,{"$f":"HLOOKUP($I$10,Constraints!$Q$203:AD236,A405,TRUE)","v":{"$error":"#N/A"}},{"$f":"INDEX(Constraints!$P$203:$P$234,A405,)","v":7.8}]
[25,null,{"$f":"HLOOKUP($I$10,Constraints!$Q$203:AD237,A406,TRUE)","v":{"$error":"#N/A"}},{"$f":"INDEX(Constraints!$P$203:$P$234,A406,)","v":7.6}]
[24,null,{"$f":"HLOOKUP($I$10,Constraints!$Q$203:AD238,A407,TRUE)","v":{"$error":"#N/A"}},{"$f":"INDEX(Constraints!$P$203:$P$234,A407,)","v":7.4}]
[23,null,{"$f":"HLOOKUP($I$10,Constraints!$Q$203:AD239,A408,TRUE)","v":{"$error":"#N/A"}},{"$f":"INDEX(Constraints!$P$203:$P$234,A408,)","v":7.2}]
[22,null,{"$f":"HLOOKUP($I$10,Constraints!$Q$203:AD240,A409,TRUE)","v":{"$error":"#N/A"}},{"$f":"INDEX(Constraints!$P$203:$P$234,A409,)","v":7}]
[21,null,{"$f":"HLOOKUP($I$10,Constraints!$Q$203:AD241,A410,TRUE)","v":{"$error":"#N/A"}},{"$f":"INDEX(Constraints!$P$203:$P$234,A410,)","v":6.8}]
[20,null,{"$f":"HLOOKUP($I$10,Constraints!$Q$203:AD242,A411,TRUE)","v":{"$error":"#N/A"}},{"$f":"INDEX(Constraints!$P$203:$P$234,A411,)","v":6.6}]
[19,null,{"$f":"HLOOKUP($I$10,Constraints!$Q$203:AD243,A412,TRUE)","v":{"$error":"#N/A"}},{"$f":"INDEX(Constraints!$P$203:$P$234,A412,)","v":6.4}]
[18,null,{"$f":"HLOOKUP($I$10,Constraints!$Q$203:AD244,A413,TRUE)","v":{"$error":"#N/A"}},{"$f":"INDEX(Constraints!$P$203:$P$234,A413,)","v":6.2}]
[17,null,{"$f":"HLOOKUP($I$10,Constraints!$Q$203:AD245,A414,TRUE)","v":{"$error":"#N/A"}},{"$f":"INDEX(Constraints!$P$203:$P$234,A414,)","v":6}]
[16,null,{"$f":"HLOOKUP($I$10,Constraints!$Q$203:AD246,A415,TRUE)","v":{"$error":"#N/A"}},{"$f":"INDEX(Constraints!$P$203:$P$234,A415,)","v":5.8}]
[15,null,{"$f":"HLOOKUP($I$10,Constraints!$Q$203:AD247,A416,TRUE)","v":{"$error":"#N/A"}},{"$f":"INDEX(Constraints!$P$203:$P$234,A416,)","v":5.6}]
[14,null,{"$f":"HLOOKUP($I$10,Constraints!$Q$203:AD248,A417,TRUE)","v":{"$error":"#N/A"}},{"$f":"INDEX(Constraints!$P$203:$P$234,A417,)","v":5.4}]
[13,null,{"$f":"HLOOKUP($I$10,Constraints!$Q$203:AD249,A418,TRUE)","v":{"$error":"#N/A"}},{"$f":"INDEX(Constraints!$P$203:$P$234,A418,)","v":5.2}]
[12,null,{"$f":"HLOOKUP($I$10,Constraints!$Q$203:AD250,A419,TRUE)","v":{"$error":"#N/A"}},{"$f":"INDEX(Constraints!$P$203:$P$234,A419,)","v":5}]
[11,null,{"$f":"HLOOKUP($I$10,Constraints!$Q$203:AD251,A420,TRUE)","v":{"$error":"#N/A"}},{"$f":"INDEX(Constraints!$P$203:$P$234,A420,)","v":4.8}]
[10,null,{"$f":"HLOOKUP($I$10,Constraints!$Q$203:AD252,A421,TRUE)","v":{"$error":"#N/A"}},{"$f":"INDEX(Constraints!$P$203:$P$234,A421,)","v":4.5999999999999996}]
[9,null,{"$f":"HLOOKUP($I$10,Constraints!$Q$203:AD253,A422,TRUE)","v":{"$error":"#N/A"}},{"$f":"INDEX(Constraints!$P$203:$P$234,A422,)","v":4.4000000000000004}]
[8,null,{"$f":"HLOOKUP($I$10,Constraints!$Q$203:AD254,A423,TRUE)","v":{"$error":"#N/A"}},{"$f":"INDEX(Constraints!$P$203:$P$234,A423,)","v":4.2}]
[7,null,{"$f":"HLOOKUP($I$10,Constraints!$Q$203:AD255,A424,TRUE)","v":{"$error":"#N/A"}},{"$f":"INDEX(Constraints!$P$203:$P$234,A424,)","v":4}]
[6,null,{"$f":"HLOOKUP($I$10,Constraints!$Q$203:AD256,A425,TRUE)","v":{"$error":"#N/A"}},{"$f":"INDEX(Constraints!$P$203:$P$234,A425,)","v":3.8}]
[5,null,{"$f":"HLOOKUP($I$10,Constraints!$Q$203:AD257,A426,TRUE)","v":{"$error":"#N/A"}},{"$f":"INDEX(Constraints!$P$203:$P$234,A426,)","v":3.6}]
[4,null,{"$f":"HLOOKUP($I$10,Constraints!$Q$203:AD258,A427,TRUE)","v":{"$error":"#N/A"}},{"$f":"INDEX(Constraints!$P$203:$P$234,A427,)","v":3.4}]
[3,null,{"$f":"HLOOKUP($I$10,Constraints!$Q$203:AD259,A428,TRUE)","v":{"$error":"#N/A"}},{"$f":"INDEX(Constraints!$P$203:$P$234,A428,)","v":3.2}]
[2,null,{"$f":"HLOOKUP($I$10,Constraints!$Q$203:AD260,A429,TRUE)","v":{"$error":"#N/A"}},{"$f":"INDEX(Constraints!$P$203:$P$234,A429,)","v":3}]
[null,null,{"$f":"HLOOKUP($I$10,Constraints!$Q$203:AD261,A430,TRUE)","v":{"$error":"#N/A"}},{"$f":"INDEX(Constraints!$P$203:$P$234,A430,)","v":2.8}]
[null,null,{"$f":"HLOOKUP($I$10,Constraints!$Q$203:AD262,A431,TRUE)","v":{"$error":"#N/A"}},{"$f":"INDEX(Constraints!$P$203:$P$234,A431,)","v":2.6}]
[null,null,{"$f":"HLOOKUP($I$10,Constraints!$Q$203:AD263,A432,TRUE)","v":{"$error":"#N/A"}},{"$f":"INDEX(Constraints!$P$203:$P$234,A432,)","v":2.4}]
[null,null,{"$f":"HLOOKUP($I$10,Constraints!$Q$203:AD264,A433,TRUE)","v":{"$error":"#N/A"}},{"$f":"INDEX(Constraints!$P$203:$P$234,A433,)","v":2.2000000000000002}]
[null,null,{"$f":"HLOOKUP($I$10,Constraints!$Q$203:AD265,A434,TRUE)","v":{"$error":"#N/A"}},{"$f":"INDEX(Constraints!$P$203:$P$234,A434,)","v":2}]

{"sheet":"Configuration 13","index":23,"n_rows":439,"n_cols":113,"rows_kept":439,"cut":false,"hidden":false,"merged":[[1,6,2,7],[1,8,2,8],[1,21,1,37],[2,1,2,4],[2,21,3,28],[2,30,3,37],[3,1,3,4],[3,6,4,7],[3,8,4,8],[4,1,4,2],[4,3,4,4],[4,21,44,28],[4,30,44,37],[5,1,5,2],[5,3,5,4],[6,1,6,7],[7,1,7,4],[7,7,7,8],[8,3,8,4],[8,5,8,6],[75,16,75,21],[75,22,75,23],[9,3,9,4],[9,5,9,6],[10,3,10,4],[10,5,10,6],[11,5,11,6],[12,2,15,4],[12,5,12,6],[13,5,13,6],[14,5,14,6],[17,2,18,8],[20,5,20,7],[38,9,38,10],[45,12,45,19],[74,16,74,23],[76,22,76,23],[77,16,77,21],[77,22,77,23],[78,16,78,21],[78,22,78,23],[84,1,84,2],[85,1,85,2],[86,1,86,2],[95,10,95,12],[76,16,76,21]]}
[]
[null,null,null,null,null,null,"Preferred Schematic View to Display",null,"Standard",null,null,null,null,null,null,null,null,null,null,null,null,"NOTES: "]
[null,"CHARACTERISTICS TO CONSIDER FOR ANALYSIS",null,null,null,null,null,null,null,null,null,null,null,null,null,null,null,null,null,null,null,"ELEMENTS INCREASING SAFETY",null,null,null,null,null,null,null,null,"COMMENTS ON PRIMARY CONSTRAINTS"]
[null,"INPUT INSTRUCTIONS",null,null,null,null,"Relative to",null,"Existing"]
[null,"Blue Boxes -- Select from pulldown options",null,"Select from Pulldown"]
[null,"Yellow Boxes -- Type input information into box",null,"Type Input Value"]
[null," Rural Two-Lane Road Segment -- Safety Score Input",null,null,null,null,null,null,null,null,null,null,null,null,null,null,null,null,null,null,null,null,null,null,null,null,null,null,null,null,null,null,null,null,null,null,null,null,null,null,null,null,null,null,null,null,null,null,null,null,null,null,null,null,null,null,null,null,null,null,null,null,null,null,null,null,null,null,null,null,null,null,null,null,null,null,null,null,null,null,null,null,null,"Unadjusted Marginal Safety"]
[null,"General Information:",null,null,null,"General Site Features",null,{"$f":"I315 & \" Missing Features and Curves\"","v":"9 Missing Features and Curves"},null,null,null,null,null,null,null,null,null,null,null,null,null,null,null,null,null,null,null,null,null,null,null,null,null,null,null,null,null,null,null,null,null,null,null,null,null,null,null,null,null,null,null,null,null,null,null,null,null,null,null,null,null,null,null,null,null,null,null,null,null,null,null,null,null,null,null,null,null,null,null,null,null,null,null,{"$f":"I2&\" relative to \" &I4","v":"Standard relative to Existing"}]
[null,null,"Analyst:",{"$f":"+'Start Here'!J7","v":0},null,"Location "]
[null,null,"Agency or Company:",{"$f":"+'Start Here'!J8","v":0},null,"Design Speed (mph)"]
[null,null,"Date:",{"$f":"+'Start Here'!J9","v":"00:00:00"},null,"Posted Speed (mph)"]
[null,null,"Description:",null,null,"E max (%)"]
[null,null,null,null,null,"Design Year AADT (vehicles per day)"]
[null,null,null,null,null,"Dist. from Centerline to Left   ROW (feet)"]
[null,null,null,null,null,"Dist. from Centerline to Right ROW (feet)"]
[]
[null,"Warning:"]
[null,null,{"$f":"+IF(+I11>I10,\"Posted speed exceeds design speed. Optimal safety will only be achieved if design speed exceeds posted speed. The Safety Assessment Score is based on the higher of the two speed values.\",\"No warnings identified\")","v":"No warnings identified"}]
[null,null,null,null,null,null,null,null,null,null,null,null,null,null,null,{"$f":"\"Unadjusted Marginal Safety of elements in \"&I2&\" from Design Standards\"","v":"Unadjusted Marginal Safety of elements in Standard from Design Standards"},null,null,null,null,null,null,null,null,null,null,null,null,null,null,null,null,null,null,null,null,null,null,null,null,null,null,null,null,null,null,null,null,null,null,null,null,null,null,null,null,null,null,null,null,null,null,null,null,null,null,null,null,null,null,null,null,null,null,null,null,null,null,null,null,null,null,null,null,null,null,null,null,null,null,null,null,null,null,null,null,null,null,null,null,null,null,null,null,null,{"$f":"COUNTIF(DB23:DB41,DB20)","v":1}]
[null,null,null,null,null,null,null,null,null,null,null,null,null,null,null,null,null,null,null,null,null,null,null,null,null,null,null,null,null,null,null,null,null,null,null,null,null,null,null,null,null,null,null,null,null,null,null,null,null,null,null,null,null,null,null,null,null,null,null,null,null,null,null,null,null,null,null,null,null,null,null,null,null,null,null,null,null,null,null,null,null,null,null,null,null,null,null,null,null,null,null,null,null,null,null,null,null,null,null,null,null,null,null,null,null,{"$f":"VLOOKUP(0,CZ23:DB41,3,)","v":10.01}]
[null,null,null,"Fill all elements",null,"To enter notes, use boxes to the right of the vortex ",null,null,null,null," "]
[null,{"$f":"+Construction!$I$8&\"  Total Available Points\"","v":"40  Total Available Points"},null,{"$f":"D249 & \" Missing Elements\"","v":"18 Missing Elements"},null,{"$f":"F249 & \" Missing Elements\"","v":"18 Missing Elements"},{"$f":"G249 & \" Missing Elements\"","v":"18 Missing Elements"},null,null,null,null,null,null,null,null,null,null,null,null,null,null,null,null,null,null,null,null,null,null,null,null,null,null,null,null,null,null,null,null,null,null,null,null,null,null,null,null,null,null,null,null,null,null,null,null,null,null,null,null,null,null,null,null,null,null,null,null,null,null,null,null,null,null,null,null,null,null,null,null,null,null,null,null,null,null,null,null,null,null,null,null,null,null,null,null,null,null,null,null,null,null,"Ranked element","CRF","abs","Re-rank","Rank","Ranked CRF","Element","New Element","crf.abs","rank","Sorted Element","Sorted CRF"]
[null,"Geometric Design Elements",null,"Existing","Standard","Design 1","Design 2",{"$f":"\"Marginal Safety for \"&$I$2&\" (compared to \" & $I$4 & \")\"","v":"Marginal Safety for Standard (compared to Existing)"},"Optimal",null,null,null,null,null,null,null,null,null,null,null,null,null,null,null,null,null,null,null,null,null,null,null,null,null,null,null,null,null,null,null,null,null,null,null,null,null,null,null,null,null,null,null,null,null,null,null,null,null,null,null,null,null,null,null,null,null,null,null,null,null,null,null,null,null,null,null,null,null,null,null,null,null,null,null,null,null,null,null,null,null,null,null,null,null,null,null,null,null,null,null,null,{"$f":"IF(CY23=0,\"\",DB23&\". \"&DD23)","v":""},{"$f":"H24","v":0},{"$f":"ABS(CY23)","v":0},{"$f":"RANK(DB23,$DB$23:$DB$41,1)","v":10},{"$f":"_xlfn.RANK.EQ(CZ23,$CZ$23:$CZ$41)+DG23/100","v":10.01},{"$f":"CY23","v":0},{"$f":"IF(ROUND(DF23,2)=0,\"\",C24)","v":""},{"$f":"DD23","v":""},{"$f":"CZ23","v":0},1,{"$f":"IFERROR(IF(IFERROR(VLOOKUP(DG23,$DA$23:$DF$41,4,)&\", \"&CY23=0,\"\"),\"\",IFERROR(VLOOKUP(DG23,$DA$23:$DE$41,4,),\"\")),\"\")","v":"TWLTL (two-way left-turn lane)"},{"$f":"IFERROR(IF(IFERROR(VLOOKUP(DG23,$DA$23:$DF$41,3,)&\", \"&CY23=0,\"\"),\"\",IFERROR(VLOOKUP(DG23,$DA$23:$DE$41,3,),\"\")),\"\")","v":-0.40845070422535223}]
[null,null,"Lane Width (feet)",null,12,null,null,{"$f":"M100","v":0},12,null,null,null,null,null,null,null,null,null,null,null,null,null,null,null,null,null,null,null,null,null,null,null,null,null,null,null,null,null,null,null,null,null,null,null,null,null,null,null,null,null,null,null,null,null,null,null,null,null,null,null,null,null,null,null,null,null,null,null,null,null,null,null,null,null,null,null,null,null,null,null,null,null,null,null,null,null,null,null,null,null,null,null,null,null,null,null,null,null,null,null,null,"5.02. Shoulder Width (feet)",{"$f":"H25","v":0.15503875968992242},0.15503875968992242,{"$f":"RANK(DB24,$DB$23:$DB$41,1)","v":5},{"$f":"_xlfn.RANK.EQ(CZ24,$CZ$23:$CZ$41)+DG24/100","v":5.0199999999999996},{"$f":"CY24","v":0.15503875968992242},{"$f":"IF(ROUND(DF24,2)=0,\"\",C25)","v":"Shoulder Width (feet)"},{"$f":"DD24","v":"Shoulder Width (feet)"},0.15503875968992242,2,"Pavement Friction (skid number) ***",{"$f":"IFERROR(IF(IFERROR(VLOOKUP(DG24,$DA$23:$DF$41,3,)&\", \"&CY24=0,\"\"),\"\",IFERROR(VLOOKUP(DG24,$DA$23:$DE$41,3,),\"\")),\"\")","v":0.28430956017940245}]
[null,null,"Shoulder Width (feet)",null,{"$f":"IF('Start Here'!$J$12=\"4R\",8,4)","v":4},null,null,{"$f":"M101","v":0.15503875968992242},10,null,null,null,null,null,null,null,null,null,null,null,null,null,null,null,null,null,null,null,null,null,null,null,null,null,null,null,null,null,null,null,null,null,null,null,null,null,null,null,null,null,null,null,null,null,null,null,null,null,null,null,null,null,null,null,null,null,null,null,null,null,null,null,null,null,null,null,null,null,null,null,null,null,null,null,null,null,null,null,null,null,null,null,null,null,null,null,null,null,null,null,null,"",{"$f":"H29","v":0},0,11,10.029999999999999,0,{"$f":"IF(ROUND(DF25,2)=0,\"\",\"Hz and Vt Alignment\")","v":""},"",0,3,"Driveway Density (driveways per mile)",-0.22388114201141129]
[null,null,"Cross-slope or Superelevation (%)",null,{"$f":"IF($I$12=6,IFERROR(VLOOKUP(E29,$C$382:$D$402,2,TRUE),6),IFERROR(VLOOKUP(E29,$C$409:$D$439,2,TRUE),8))","v":8},null,null,null,{"$f":"I12","v":0},null,null,null,null,null,null,null,null,null,null,null,null,null,null,null,null,null,null,null,null,null,null,null,null,null,null,null,null,null,null,null,null,null,null,null,null,null,null,null,null,null,null,null,null,null,null,null,null,null,null,null,null,null,null,null,null,null,null,null,null,null,null,null,null,null,null,null,null,null,null,null,null,null,null,null,null,null,null,null,null,null,null,null,null,null,null,null,null,null,null,null,null,"1.04. TWLTL (two-way left-turn lane)",{"$f":"H43","v":-0.40845070422535223},0.40845070422535223,1,1.04,-0.40845070422535223,{"$f":"IF(ROUND(DF26,2)=0,\"\",C43)","v":"TWLTL (two-way left-turn lane)"},"TWLTL (two-way left-turn lane)",0.40845070422535223,4,"Centerline Rumble Strips",-0.16279069767441867]
["",null,"Horizontal Curve Present?","--","--","--","--",null,"--",null,null,null,null,null,null,null,null,null,null,null,null,null,null,null,null,null,null,null,null,null,null,null,null,null,null,null,null,null,null,null,null,null,null,null,null,null,null,null,null,null,null,null,null,null,null,null,null,null,null,null,null,null,null,null,null,null,null,null,null,null,null,null,null,null,null,null,null,null,null,null,null,null,null,null,null,null,null,null,null,null,null,null,null,null,null,null,null,null,null,null,null,"",{"$f":"H44","v":0},0,12,10.050000000000001,0,{"$f":"IF(ROUND(DF27,2)=0,\"\",C44)","v":""},"",0,5,"Shoulder Width (feet)",0.15503875968992242]
[null,null,"Horizontal Curve Data for Controlling Element:","--","--","--","--",null,"--",null,null,null,null,null,null,null,null,null,null,null,null,null,null,null,null,null,null,null,null,null,null,null,null,null,null,null,null,null,null,null,null,null,null,null,null,null,null,null,null,null,null,null,null,null,null,null,null,null,null,null,null,null,null,null,null,null,null,null,null,null,null,null,null,null,null,null,null,null,null,null,null,null,null,null,null,null,null,null,null,null,null,null,null,null,null,null,null,null,null,null,null,"",{"$f":"H52","v":0},0,13,10.06,0,{"$f":"IF(ROUND(DF28,2)=0,\"\",C52)","v":""},"",0,6,"Edgeline Pavement Markings or Profile Markings",0.13824118691351761]
[null,null,"  Radius (feet)",null,{"$f":"IF(MAX($I$10,$I$11)<45,590,IF($I$12=6,VLOOKUP(MAX($I$10,$I$11),Construction!$B$29:$D$36,2,TRUE),VLOOKUP(MAX($I$10,$I$11),Construction!$G$29:$I$36,2,TRUE)))","v":590},null,null,{"$f":"M140","v":0},{"$f":"IF(MAX($I$10,$I$11)<45,590,IF($I$12=6,VLOOKUP(MAX($I$10,$I$11),Construction!$B$45:$C$52,2,TRUE),VLOOKUP(MAX($I$10,$I$11),Construction!$G$45:$H$52,2,TRUE)))","v":590},null,null,null,null,null,null,null,null,null,null,null,null,null,null,null,null,null,null,null,null,null,null,null,null,null,null,null,null,null,null,null,null,null,null,null,null,null,null,null,null,null,null,null,null,null,null,null,null,null,null,null,null,null,null,null,null,null,null,null,null,null,null,null,null,null,null,null,null,null,null,null,null,null,null,null,null,null,null,null,null,null,null,null,null,null,null,null,null,null,null,null,null,"",0,0,14,10.07,0,"","",0,7,"Lateral Clearance to obstruction (ft)",9.0307162971216326E-2]
[null,null,"Length of Horizontal Curve (feet)",null,{"$f":"IF(D31=\"\", \"\", E29*E31/57.296)","v":""},null,null,null,{"$f":"I29*I31/57.296","v":3758.5520804244625},null,null,null,null,null,null,null,null,null,null,null,null,null,null,null,null,null,null,null,null,null,null,null,null,null,null,null,null,null,null,null,null,null,null,null,null,null,null,null,null,null,null,null,null,null,null,null,null,null,null,null,null,null,null,null,null,null,null,null,null,null,null,null,null,null,null,null,null,null,null,null,null,null,null,null,null,null,null,null,null,null,null,null,null,null,null,null,null,null,null,null,null,"",0,0,15,10.08,0,"","",0,8,"SafetyEdge",-2.8188991921691331E-2]
[null,null,"Calculated Deflection Angle ∆",{"$f":"IF(OR(ISBLANK(D29),ISBLANK(D30),$B$27=\"No\",ISBLANK($B$27)),\"\",ROUND(D30/D29*57.296,1))","v":""},{"$f":"IF(ISBLANK(D31), \"\",D31)","v":""},{"$f":"IF(OR(ISBLANK(F29),ISBLANK(F30),$B$27=\"No\",ISBLANK($B$27)),\"\",ROUND(F30/F29*57.296,1))","v":""},{"$f":"IF(OR(ISBLANK(G29),ISBLANK(G30),$B$27=\"No\",ISBLANK($B$27)),\"\",ROUND(G30/G29*57.296,1))","v":""},null,{"$f":"MIN(D31,IF(F33=INDEX(HCurveChange,1,0), F31, 365),IF(G33=INDEX(HCurveChange,1,0), G31, 365))","v":365},null,null,null,null,null,null,null,null,null,null,null,null,null,null,null,null,null,null,null,null,null,null,null,null,null,null,null,null,null,null,null,null,null,null,null,null,null,null,null,null,null,null,null,null,null,null,null,null,null,null,null,null,null,null,null,null,null,null,null,null,null,null,null,null,null,null,null,null,null,null,null,null,null,null,null,null,null,null,null,null,null,null,null,null,null,null,null,null,null,null,null,null,"6.09. Edgeline Pavement Markings or Profile Markings",0.13824118691351761,0.13824118691351761,6,6.09,0.13824118691351761,"Edgeline Pavement Markings or Profile Markings","Edgeline Pavement Markings or Profile Markings",0.13824118691351761,9,"Lighting",-2.3499081529478438E-2]
[null,null,null,null,null,"∆ has changed. \nAre you changing the ∆?","∆ has changed. \nAre you changing the ∆?",null,null,null,null,null,null,null,null,null,null,null,null,null,null,null,null,null,null,null,null,null,null,null,null,null,null,null,null,null,null,null,null,null,null,null,null,null,null,null,null,null,null,null,null,null,null,null,null,null,null,null,null,null,null,null,null,null,null,null,null,null,null,null,null,null,null,null,null,null,null,null,null,null,null,null,null,null,null,null,null,null,null,null,null,null,null,null,null,null,null,null,null,null,null,"",0,0,16,10.1,0,"","",0,10,"",0]
[null,null,null,null,null,null,null,null,null,null,null,null,null,null,null,null,null,null,null,null,null,null,null,null,null,null,null,null,null,null,null,null,null,null,null,null,null,null,null,null,null,null,null,null,null,null,null,null,null,null,null,null,null,null,null,null,null,null,null,null,null,null,null,null,null,null,null,null,null,null,null,null,null,null,null,null,null,null,null,null,null,null,null,null,null,null,null,null,null,null,null,null,null,null,null,null,null,null,null,null,null,"4.11. Centerline Rumble Strips",-0.16279069767441867,0.16279069767441867,4,4.1100000000000003,-0.16279069767441867,"Centerline Rumble Strips","Centerline Rumble Strips",0.16279069767441867,11,"",0]
[null,null,"Vertical Curve Present?","--","--","--","--",null,{"$f":"E34","v":"--"},null,null,null,null,null,null,null,null,null,null,null,null,null,null,null,null,null,null,null,null,null,null,null,null,null,null,null,null,null,null,null,null,null,null,null,null,null,null,null,null,null,null,null,null,null,null,null,null,null,null,null,null,null,null,null,null,null,null,null,null,null,null,null,null,null,null,null,null,null,null,null,null,null,null,null,null,null,null,null,null,null,null,null,null,null,null,null,null,null,null,null,null,"3.12. Driveway Density (driveways per mile)",-0.22388114201141129,0.22388114201141129,3,3.12,-0.22388114201141129,{"$f":"IF(DF34=0,\"\",C58)","v":"Driveway Density (driveways per mile)"},"Driveway Density (driveways per mile)",0.22388114201141129,12,"",0]
[null,null,"Vertical Curve Data for Controlling Element:","--","--","--","--",null,"--",null,null,null,null,null,null,null,null,null,null,null,null,null,null,null,null,null,null,null,null,null,null,null,null,null,null,null,null,null,null,null,null,null,null,null,null,null,null,null,null,null,null,null,null,null,null,null,null,null,null,null,null,null,null,null,null,null,null,null,null,null,null,null,null,null,null,null,null,null,null,null,null,null,null,null,null,null,null,null,null,null,null,null,null,null,null,null,null,null,null,null,null,"9.13. Lighting",-2.3499081529478438E-2,2.3499081529478438E-2,9,9.1300000000000008,-2.3499081529478438E-2,{"$f":"IF(DF35=0,\"\",C59)","v":"Lighting"},"Lighting",2.3499081529478438E-2,13,"",0]
[null,null,"  Approach (Entry) Grade, G1 (%)",null,{"$f":"IF(ISBLANK(D36),\"\", D36)","v":""},null,null,null,{"$f":"IF(B34=\"Yes\",I227,I237)","v":""},null,null,null,null,null,null,null,null,null,null,null,null,null,null,null,null,null,null,null,null,null,null,null,null,null,null,null,null,null,null,null,null,null,null,null,null,null,null,null,null,null,null,null,null,null,null,null,null,null,null,null,null,null,null,null,null,null,null,null,null,null,null,null,null,null,null,null,null,null,null,null,null,null,null,null,null,null,null,null,null,null,null,null,null,null,null,null,null,null,null,null,null,"2.14. Pavement Friction (skid number) ***",0.28430956017940245,0.28430956017940245,2,2.14,0.28430956017940245,{"$f":"IF(DF36=0,\"\",C60)","v":"Pavement Friction (skid number) ***"},"Pavement Friction (skid number) ***",0.28430956017940245,14,"",0]
[null,null,"  Departure (Exit) Grade, G2 (%)",null,{"$f":"IF(ISBLANK(D37),\"\", D37)","v":""},null,null,null,{"$f":"IF($B$34=\"Yes\",I228,\"\")","v":""},null,null,null,null,null,null,null,null,null,null,null,null,null,null,null,null,null,null,null,null,null,null,null,null,null,null,null,null,null,null,null,null,null,null,null,null,null,null,null,null,null,null,null,null,null,null,null,null,null,null,null,null,null,null,null,null,null,null,null,null,null,null,null,null,null,null,null,null,null,null,null,null,null,null,null,null,null,null,null,null,null,null,null,null,null,null,null,null,null,null,null,null,"",{"$f":"H72","v":0},0,17,10.15,0,{"$f":"IF(DF37=0,\"\",C72)","v":""},"",0,15,"",0]
[null,null,"  Length (feet)",null,{"$f":"IF(AND($B$34=\"Yes\", D39<>\"\"), ABS(E36-E37)*D39, \"\")","v":""},null,null,null,{"$f":"IF(AND($B$34=\"Yes\",I36<>\"\",I37<>\"\", NOT(ISBLANK($I$10)), NOT(ISBLANK($I$11))),ABS(I37-I36)*I39,\"\")","v":""},null,null,null,null,null,null,null,null,null,null,null,null,null,null,null,null,null,null,null,null,null,null,null,null,null,null,null,null,null,null,null,null,null,null,null,null,null,null,null,null,null,null,null,null,null,null,null,null,null,null,null,null,null,null,null,null,null,null,null,null,null,null,null,null,null,null,null,null,null,null,null,null,null,null,null,null,null,null,null,null,null,null,null,null,null,null,null,null,null,null,null,null,"",{"$f":"H73","v":0},{"$f":"ABS(CY38)","v":0},18,10.16,0,{"$f":"IF(DF38=0,\"\",C73)","v":""},"",0,16,"",0]
[null,null,"  Calculated Rate of Change, K (ft/ft)",{"$f":"IF(OR($B$34=\"No\",ISBLANK($B$34), ISBLANK(D36), ISBLANK(D37),ISBLANK(D38), D36=D37), \"\", ROUND(D38/(ABS(D37-D36)),1))","v":""},{"$f":"IF(AND($B$34=\"Yes\", NOT(ISBLANK($I$10)), NOT(ISBLANK($I$11)), D39<>\"\"), IF($E$42=\"Crest\",  VLOOKUP(MAX($I$10,$I$11),Construction!$B$159:$D$171,2,TRUE), VLOOKUP(MAX($I$10,$I$11),Construction!$B$159:$D$171,3,TRUE)), \"\")","v":""},{"$f":"IF(AND($B$34=\"Yes\", SUM(F263:F265)=0),ROUND(F38/(ABS(F37-F36)),1),\"\")","v":""},{"$f":"IF(AND($B$34=\"Yes\", SUM(G263:G265)=0),ROUND(G38/(ABS(G37-G36)),1),\"\")","v":""},null,{"$f":"IF(OR($B$34<>\"Yes\", ISBLANK($I$10), ISBLANK($I$11), $I$36=\"\", $I$37=\"\", $I$42=\"--\", ISBLANK($I$42)),\"\",IF($I$42=\"Crest\",VLOOKUP(MAX($I$10,$I$11),Construction!$B$179:$D$191,2,TRUE),VLOOKUP(MAX($I$10,$I$11),Construction!$B$179:$D$191,3,TRUE)))","v":""},null,null,null,null,null,null,null,null,null,null,null,null,null,null,null,null,null,null,null,null,null,null,null,null,null,null,null,null,null,null,null,null,null,null,null,null,null,null,null,null,null,null,null,null,null,null,null,null,null,null,null,null,null,null,null,null,null,null,null,null,null,null,null,null,null,null,null,null,null,null,null,null,null,null,null,null,null,null,null,null,null,null,null,null,null,null,null,null,null,null,null,null,"8.17. SafetyEdge",{"$f":"H74","v":-2.8188991921691331E-2},{"$f":"ABS(CY39)","v":2.8188991921691331E-2},8,8.17,-2.8188991921691331E-2,{"$f":"IF(DF39=0,\"\",C74)","v":"SafetyEdge"},"SafetyEdge",2.8188991921691331E-2,17,"",0]
[null,null,null,null,null,"Are you changing the geometry?","Are you changing the geometry?",null,null,null,null,null,null,null,null,null,null,null,null,null,null,null,null,null,null,null,null,null,null,null,null,null,null,null,null,null,null,null,null,null,null,null,null,null,null,null,null,null,null,null,null,null,null,null,null,null,null,null,null,null,null,null,null,null,null,null,null,null,null,null,null,null,null,null,null,null,null,null,null,null,null,null,null,null,null,null,null,null,null,null,null,null,null,null,null,null,null,null,null,null,null,"7.18. Lateral Clearance to obstruction (ft)",{"$f":"H75","v":9.0307162971216326E-2},{"$f":"ABS(CY40)","v":9.0307162971216326E-2},7,7.18,9.0307162971216326E-2,{"$f":"IF(DF40=0,\"\",C75)","v":"Lateral Clearance to obstruction (ft)"},"Lateral Clearance to obstruction (ft)",9.0307162971216326E-2,18,"",0]
[null,null,null,null,null,null,null,null,null,null,null,null,null,null,null,null,null,null,null,null,null,null,null,null,null,null,null,null,null,null,null,null,null,null,null,null,null,null,null,null,null,null,null,null,null,null,null,null,null,null,null,null,null,null,null,null,null,null,null,null,null,null,null,null,null,null,null,null,null,null,null,null,null,null,null,null,null,null,null,null,null,null,null,null,null,null,null,null,null,null,null,null,null,null,null,null,null,null,null,null,null,"",{"$f":"H76","v":0},{"$f":"ABS(CY41)","v":0},19,10.19,0,{"$f":"IF(DF41=0,\"\",C76)","v":""},"",0,19,"",0]
[null,null,"  Calculated Sag or Crest?",{"$f":"IF(AND($B$34=\"Yes\", SUM(D263:D265)=0),IF(D36>D37,\"Crest\",\"Sag\"),\"--\")","v":"--"},{"$f":"IF(AND($B$34=\"Yes\", SUM(D263:D265)=0),IF(E36>E37,\"Crest\",\"Sag\"),\"--\")","v":"--"},{"$f":"IF(AND($B$34=\"Yes\", SUM(F263:F265)=0),IF(F36>F37,\"Crest\",\"Sag\"),\"--\")","v":"--"},{"$f":"IF(AND($B$34=\"Yes\", SUM(G263:G265)=0),IF(G36>G37,\"Crest\",\"Sag\"),\"--\")","v":"--"},null,{"$f":"IF($B$34=\"Yes\",IF(I36>I37,\"Crest\",\"Sag\"),\"--\")","v":"--"}]
[null,null,"TWLTL (two-way left-turn lane)",null,"No",null,null,{"$f":"M108","v":-0.40845070422535223},{"$f":"IF(OR($D$43=\"Yes\", $F$43=\"Yes\",$G$43=\"Yes\"), \"Yes\", \"No\")","v":"No"}]
[null,null,"Passing Lane Type",null,"No Passing Lane",null,null,{"$f":"M109","v":0},"Super 2"]
[null,null,"Geometric Design Element (Partial Score)",{"$f":"IF(OR(SUM(D251:D253,D256:D257,D263:D265,D270:D271)>0, ISERR(D125)),\"\",D125)","v":""},{"$f":"IF(OR(SUM(E251:E253,E256:E257,E263:E265,E270:E271)>0, ISERR(E125)),\"\",E125)","v":""},"","",null,{"$f":"IF(OR(SUM(I251:I253,I256:I257,I263:I265,I270:I271)>0, ISERR(I125)),\"\",I125)","v":""}]
[null,null,"Total Safety Score",{"$f":"IF(OR(D$249>0, $I$315>0,ISERROR(D$201+D$171+D$125)),\"\",D$201+D$171+D$125)","v":""},{"$f":"IF(OR(E$249>0, $I$315>0,ISERROR(E$201+E$171+E$125)),\"\",E$201+E$171+E$125)","v":""},"","",null,"",null,null,null,"SCHEMATIC REPRESENTING INPUT DATA FOR ",null,null,null,null,null,null,null,{"$f":"IF($I$2=\"Existing\",\"EXISTING CONFIGURATION\",IF($I$2=\"Standard\",\"STANDARD OPTION\",IF($I$2=\"Design 1\",\"DESIGN 1 OPTION\",IF($I$2=\"Design 2\",\"DESIGN 2 OPTION\",\"OPTIMAL OPTION\"))))","v":"STANDARD OPTION"}]
[]
[null,null,null,null,null,null,null,null,null,null,null,"LT",null,null,null,null,null,null,null,null,null,null,null,null,null,null,"RT"]
[null,null,null,null,null,null,null,null,null,null,null,"R/W",null,null,null,null,null,null,null,null,null,null,null,null,null,null,"R/W"]
[null,{"$f":"+Construction!$I$9&\"  Total Available Points\"","v":"20  Total Available Points"}]
[null,"Traffic Elements",null,"Existing","Standard","Design 1","Design 2",{"$f":"$H$23","v":"Marginal Safety for Standard (compared to Existing)"},"Optimal",null,null,null,null,null,{"$f":"+$I$14","v":0},null,null,null,null,null,null,null,{"$f":"+$I$15","v":0}]
[null,null,"Advance Static Curve Warning Signs",null,"No",null,null,{"$f":"M145","v":0},"Yes"]
[null,null,"Chevron Signs on Horizontal Curves",null,"No",null,null,{"$f":"M146","v":0},"Yes",null,null,{"$f":"+O51-N53-Q53","v":-16},null,{"$f":"IF(+$I$2=\"Existing\",D25,IF($I$2=\"Standard\",E25,IF($I$2=\"Design 1\",F25,IF($I$2=\"Design 2\",G25,I25))))","v":4},null,null,{"$f":"IF(+$I$2=\"Existing\",D24,IF($I$2=\"Standard\",E24,IF($I$2=\"Design 1\",F24,IF($I$2=\"Design 2\",G24,I24))))","v":12},null,null,null,null,{"$f":"+Q53","v":12},null,null,{"$f":"+N53","v":4},{"$f":"+W51-V53-Y53","v":-16}]
[null,null,"Post-Mounted Delineators",null,"No",null,null,0,"Yes"]
[null,null,"Edgeline Pavement Markings or Profile Markings",null,"Yes",null,null,0.13824118691351761,"Yes"]
[null,null,"Shoulder Rumble Strips",null,"Yes",null,null,{"$f":"M150","v":0},"Yes"]
[null,null,"Centerline Rumble Strips",null,"No",null,null,{"$f":"M151","v":-0.16279069767441867},"Yes"]
[null,null,"Driveway Density (driveways per mile)",null,10,null,null,{"$f":"M152","v":-0.22388114201141129},0]
[null,null,"Lighting",null,"No",null,null,{"$f":"M153","v":-2.3499081529478438E-2},"Yes",null,null,null,null,null,null,null,null,null,"Tangent X-Section"]
[null,null,"Pavement Friction (skid number) ***",null,37,null,null,{"$f":"M154","v":0.28430956017940245},54]
[]
[null,null,"Traffic Control Element (Partial Score):",{"$f":"IF(ISERROR(D171), \"\", D171)","v":12},{"$f":"IF(ISERROR(E171), \"\", E171)","v":14},{"$f":"IF(ISERROR(F171), \"\", F171)","v":""},{"$f":"IF(ISERROR(G171), \"\", G171)","v":""},null,{"$f":"IF(ISERROR(I171), \"\", I171)","v":20}]
[null,null,"Total Safety Score",{"$f":"IF(OR(D$249>0, $I$315>0,ISERROR(D$201+D$171+D$125)),\"\",D$201+D$171+D$125)","v":""},{"$f":"IF(OR(E$249>0, $I$315>0,ISERROR(E$201+E$171+E$125)),\"\",E$201+E$171+E$125)","v":""},"","",null,""]
[]
[null,null,"*** Pavement friction/skid numbers will not be subject to open records requests ***",null,null,null,null,null,null,null," "]
[]
[]
[]
[null,null,null,null,null,null,null,null,null,null,null,null,null,null,null,null,null,null,"Curved X-Section"]
[null,{"$f":"+Construction!$I$10&\"  Total Available Points\"","v":"40  Total Available Points"}]
[null,"Roadside  Elements",null,"Existing","Standard","Design 1","Design 2",{"$f":"$H$23","v":"Marginal Safety for Standard (compared to Existing)"},"Optimal"]
[null,null,"Sideslope (Foreslope)",null,"1V:4H",null,null,{"$f":"M180","v":0},"1V:6H"]
[null,null,"Backslope",null,{"$f":"E72","v":"1V:4H"},null,null,{"$f":"M181","v":0},"1V:4H"]
[null,null,"SafetyEdge",null,"No",null,null,{"$f":"M182","v":-2.8188991921691331E-2},"Yes"]
[null,null,"Lateral Clearance to obstruction (ft)",null,30,null,null,{"$f":"M183","v":9.0307162971216326E-2},40,null,null,null,null,null,null,null,{"$f":"IF($I$2=\"Existing\",\"SCORE SUMMARY FOR EXISTING CONFIGURATION\", IF($I$2=\"Standard\",\"SCORE SUMMARY FOR STANDARD OPTION\",IF($I$2=\"Design 1\",\"SCORE SUMMARY FOR DESIGN 1 OPTION\",IF($I$2=\"Design 2\",\"SCORE SUMMARY FOR DESIGN 2 OPTION\", \"SCORE SUMMARY FOR OPTIMAL OPTION\"))))","v":"SCORE SUMMARY FOR STANDARD OPTION"}]
[null,null,"Obstruction Type",null,"Other Fixed Object",null,null,{"$f":"M184","v":0},"None",null,null,null,null,null,null,null,"GEOMETRIC DESIGN:",null,null,null,null,null,{"$f":"IF($I$2=\"Existing\",D45,IF($I$2=\"Standard\",E45,IF($I$2=\"Design 1\",F45,IF($I$2=\"Design 2\",G45,I45))))","v":""}]
[null,null,"Roadside Element (Partial Score):",{"$f":"IF(ISERR(D201),\"\",D201)","v":""},{"$f":"IF(ISERR(E201),\"\",E201)","v":27},{"$f":"IF(ISERR(F201),\"\",F201)","v":""},{"$f":"IF(ISERR(G201),\"\",G201)","v":""},null,{"$f":"IF(ISERR(I201),\"\",I201)","v":40},null,null,null,null,null,null,null,"TRAFFIC CONTROL:",null,null,null,null,null,{"$f":"IF($I$2=\"Existing\",D62,IF($I$2=\"Standard\",E62,IF($I$2=\"Design 1\",F62,IF($I$2=\"Design 2\",G62,I62))))","v":14}]
[null,null,"Total Safety Score",{"$f":"IF(OR(D$249>0, $I$315>0,ISERROR(D$201+D$171+D$125)),\"\",D$201+D$171+D$125)","v":""},{"$f":"IF(OR(E$249>0, $I$315>0,ISERROR(E$201+E$171+E$125)),\"\",E$201+E$171+E$125)","v":""},"","",null,"",null,null,null,null,null,null,null,"ROADSIDE:",null,null,null,null,null,{"$f":"IF($I$2=\"Existing\",D77,IF($I$2=\"Standard\",E77,IF($I$2=\"Design 1\",F77,IF($I$2=\"Design 2\",G77,I77))))","v":27}]
[null,null,null,null,null,null,null,null,null,null,null,null,null,null,null,null,"OVERALL SAFETY SCORE:",null,null,null,null,null,{"$f":"SUM(W76:X78)","v":41}]
[]
[]
[]
[null,"ADDITIONAL SIDESLOPE INFORMATION"]
[null,null,"Distance to Slope Toe from Shoulder (ft)",null,{"$f":"D84","v":0},{"$f":"E84","v":0},{"$f":"F84","v":0},null,{"$f":"G84","v":0}]
[null,"Minimum foreslope feasible within current ROW",null,null,{"$f":"IF(OR(ISBLANK($D$84), ISERROR(E206)), \"\", \"1V:\"&E206&\"H\")","v":""},{"$f":"IF(OR(ISBLANK($D$84), ISERROR(F206)), \"\", \"1V:\"&F206&\"H\")","v":""},{"$f":"IF(OR(ISBLANK($D$84), ISERROR(G206)), \"\", \"1V:\"&G206&\"H\")","v":""},null,{"$f":"IF(OR(ISBLANK($D$84), ISERROR(I206)), \"\", \"1V:\"&I206&\"H\")","v":""}]
[null,"Additional R/W needed on left side",null,null,{"$f":"IF(OR(ISBLANK($D$84), ISERROR(E210)),\"\", MAX(E210,E213))","v":""},{"$f":"IF(OR(ISBLANK($D$84), ISERROR(F210)), \"\", MAX(F210,F213))","v":""},{"$f":"IF(OR(ISBLANK($D$84), ISERROR(G210)),\"\", MAX(G210,G213))","v":""},null,{"$f":"IF(OR(ISBLANK($D$84), ISERROR(I210)),\"\", MAX(I210,I213))","v":""}]
[null,"Additional R/W needed on right side",null,null,{"$f":"IF(OR(ISBLANK($D$84), ISERROR(E211)), \"\", MAX(E211,E214))","v":""},{"$f":"IF(OR(ISBLANK($D$84), ISERROR(F211)), \"\", MAX(F211,F214))","v":""},{"$f":"IF(OR(ISBLANK($D$84), ISERROR(G211)),\"\", MAX(G211,G214))","v":""},null,{"$f":"IF(OR(ISBLANK($D$84), ISERROR(I211)),\"\", MAX(I211,I214))","v":""}]
[]
[]
[]
[]
[]
[]
[]
[null,null,null,null,null,null,null,null,null,{"$f":"1-I100/E100","v":0}]
[null,null,null,null,null,null,null,null,null,{"$f":"1-I101/E101","v":0.17431192660550465},"For Plot"]
[null,null,null,{"$f":"MAX(SUM(D103:D107)-5,$I$97)","v":{"$error":"#VALUE!"}},{"$f":"MAX(SUM(E103:E107)-5,$I$97)","v":{"$error":"#VALUE!"}},{"$f":"MAX(SUM(F103:F107)-5,$I$97)","v":{"$error":"#VALUE!"}},{"$f":"MAX(SUM(G103:G107)-5,$I$97)","v":{"$error":"#VALUE!"}},null,{"$f":"SUM(I103:I107)-5","v":{"$error":"#VALUE!"}},{"$f":"1-I102/E102","v":0},"relative to","Prefer"]
[null,null,null,null,null,null,null,null,null,{"$f":"1-I103/E103","v":{"$error":"#VALUE!"}},{"$f":"MATCH(K99,ModView,0)","v":1},{"$f":"MATCH(L99,ModView,0)","v":2}]
[null,"Geometric",null,null,null,null,null,null,null,null,{"$f":"I4","v":"Existing"},{"$f":"I2","v":"Standard"},"%"]
[null,null,"LW CMF",{"$f":"VLOOKUP(+D24,Construction!$C$3:$D$9,2)","v":{"$error":"#N/A"}},{"$f":"VLOOKUP(+E24,Construction!$C$3:$D$9,2)","v":1},{"$f":"VLOOKUP(+F24,Construction!$C$3:$D$9,2)","v":{"$error":"#N/A"}},{"$f":"VLOOKUP(+G24,Construction!$C$3:$D$9,2)","v":{"$error":"#N/A"}},{"$f":"H24","v":0},{"$f":"VLOOKUP(+I24,Construction!$C$3:$D$9,2)","v":1},null,{"$f":"INDEX($D100:$I100,K$98)","v":{"$error":"#N/A"}},{"$f":"INDEX($D100:$I100,L$98)","v":1},{"$f":"IF(ISERROR(1-L100/K100), 0, 1-L100/K100)","v":0}]
[null,null,"SW CMF",{"$f":"VLOOKUP(D25,Construction!$C$13:D23,2)","v":1.29},{"$f":"VLOOKUP(E25,Construction!$C$13:E23,2)","v":1.0900000000000001},{"$f":"VLOOKUP(F25,Construction!$C$13:F23,2)","v":1.29},{"$f":"VLOOKUP(G25,Construction!$C$13:G23,2)","v":1.29},{"$f":"IF($I$2=\"Existing\",(1-D101/E101),(IF($I$2=\"Design 1\",(1-F101/E101),(IF($I$2=\"Design 2\",(1-G101/E101),(IF($I$2=\"Optimal\",(1-I101/E101),0)))))))","v":0},{"$f":"VLOOKUP(I25,Construction!$C$13:I23,2)","v":0.9},null,{"$f":"INDEX($D101:$I101,K$98)","v":1.29},{"$f":"INDEX($D101:$I101,L$98)","v":1.0900000000000001},{"$f":"IF(ISERROR(1-L101/K101), 0, 1-L101/K101)","v":0.15503875968992242}]
[null,null,"Placeholder for super deficincy",1,1,1,1,0,1,null,{"$f":"INDEX($D102:$I102,K$98)","v":1},{"$f":"INDEX($D102:$I102,L$98)","v":1},0]
[null,null,"HC and Grade",{"$f":"D$134^D$127","v":1},{"$f":"E$134^E$127","v":{"$error":"#VALUE!"}},{"$f":"F$134^F$127","v":1},{"$f":"G$134^G$127","v":1},0,{"$f":"I$134^I$127","v":{"$error":"#VALUE!"}},null,{"$f":"INDEX($D103:$I103,K$98)","v":1},{"$f":"INDEX($D103:$I103,L$98)","v":{"$error":"#VALUE!"}},0]
[null,null,"HC and VC Crest type I",{"$f":"D$135^D$128","v":1},{"$f":"E$135^E$128","v":1},{"$f":"F$135^F$128","v":1},{"$f":"G$135^G$128","v":1},0,{"$f":"I$135^I$128","v":{"$error":"#VALUE!"}},null,{"$f":"INDEX($D104:$I104,K$98)","v":1},{"$f":"INDEX($D104:$I104,L$98)","v":1},0]
[null,null,"HC and VC Sag type I",{"$f":"D$136^D$129","v":1},{"$f":"E$136^E$129","v":1},{"$f":"F$136^F$129","v":1},{"$f":"G$136^G$129","v":1},0,{"$f":"I$136^I$129","v":{"$error":"#VALUE!"}},null,{"$f":"INDEX($D105:$I105,K$98)","v":1},{"$f":"INDEX($D105:$I105,L$98)","v":1},0]
[null,null,"HC and VC Crest type II",{"$f":"D$137^D$130","v":1},{"$f":"E$137^E$130","v":1},{"$f":"F$137^F$130","v":1},{"$f":"G$137^G$130","v":1},0,{"$f":"I$137^I$130","v":{"$error":"#VALUE!"}},{"$f":"1-I111/E111","v":{"$error":"#VALUE!"}},{"$f":"INDEX($D106:$I106,K$98)","v":1},{"$f":"INDEX($D106:$I106,L$98)","v":1},0]
[null,null,"HC and VC Sag type II",{"$f":"D$138^D$131","v":1},{"$f":"E$138^E$131","v":1},{"$f":"F$138^F$131","v":1},{"$f":"G$138^G$131","v":1},0,{"$f":"I$138^I$131","v":{"$error":"#VALUE!"}},{"$f":"1-I112/E112","v":{"$error":"#VALUE!"}},{"$f":"INDEX($D107:$I107,K$98)","v":1},{"$f":"INDEX($D107:$I107,L$98)","v":1},0]
[null,null,"Add TWLTL",{"$f":"IF(D$43=\"No\",1,CMFs!$F$17)","v":0.71},{"$f":"IF(E$43=\"No\",1,CMFs!$F$17)","v":1},{"$f":"IF(F$43=\"No\",1,CMFs!$F$17)","v":0.71},{"$f":"IF(G$43=\"No\",1,CMFs!$F$17)","v":0.71},0,{"$f":"IF(I$43=\"No\",1,CMFs!$F$17)","v":1},{"$f":"1-I113/E113","v":{"$error":"#VALUE!"}},{"$f":"INDEX($D108:$I108,K$98)","v":0.71},{"$f":"INDEX($D108:$I108,L$98)","v":1},-0.40845070422535223]
[null,null,"Passing Lane Type",{"$f":"IF(ISNUMBER(INDEX(PassLNCMF, MATCH(D44,Passing_Lane_Type,0))),INDEX(PassLNCMF, MATCH(D44,Passing_Lane_Type,0)),1)","v":1},{"$f":"IF(ISNUMBER(INDEX(PassLNCMF, MATCH(E44,Passing_Lane_Type,0))),INDEX(PassLNCMF, MATCH(E44,Passing_Lane_Type,0)),1)","v":1},{"$f":"IF(ISNUMBER(INDEX(PassLNCMF, MATCH(F44,Passing_Lane_Type,0))),INDEX(PassLNCMF, MATCH(F44,Passing_Lane_Type,0)),1)","v":1},{"$f":"IF(ISNUMBER(INDEX(PassLNCMF, MATCH(G44,Passing_Lane_Type,0))),INDEX(PassLNCMF, MATCH(G44,Passing_Lane_Type,0)),1)","v":1},0,{"$f":"IF(ISNUMBER(INDEX(PassLNCMF, MATCH(I44,Passing_Lane_Type,0))),INDEX(PassLNCMF, MATCH(I44,Passing_Lane_Type,0)),1)","v":0.65},{"$f":"1-I114/E114","v":{"$error":"#VALUE!"}},{"$f":"INDEX($D109:$I109,K$98)","v":1},{"$f":"INDEX($D109:$I109,L$98)","v":1},0]
[null,null,null,null,null,null,null,null,null,{"$f":"I115/E115","v":{"$error":"#VALUE!"}}]
[null,null,"COMBINED Calculated CMF",{"$f":"+D100*D101*D102*D103*D104*D105*D106*D107*D108*D109","v":{"$error":"#N/A"}},{"$f":"+E100*E101*E102*E103*E104*E105*E106*E107*E108*E109","v":{"$error":"#VALUE!"}},{"$f":"+F100*F101*F102*F103*F104*F105*F106*F107*F108*F109","v":{"$error":"#N/A"}},{"$f":"+G100*G101*G102*G103*G104*G105*G106*G107*G108*G109","v":{"$error":"#N/A"}},{"$f":"IF($I$2=\"Existing\",(D111),(IF($I$2=\"Design 1\",(F111),(IF($I$2=\"Design 2\",(G111),(IF($I$2=\"Optimal\",(I111),E111)))))))","v":{"$error":"#VALUE!"}},{"$f":"+I100*I101*I102*I103*I104*I105*I106*I107*I108*I109","v":{"$error":"#VALUE!"}},null,{"$f":"INDEX($D111:$I111,K$98)","v":{"$error":"#N/A"}},{"$f":"INDEX($D111:$I111,L$98)","v":{"$error":"#VALUE!"}},{"$f":"IF(ISERROR(1-L111/K111), 0, 1-L111/K111)","v":0}]
[null,null,"Calculated Relative to Design Standards (Column E)",{"$f":"+D111/$E$111","v":{"$error":"#N/A"}},{"$error":"#VALUE!"},{"$error":"#N/A"},{"$error":"#N/A"},{"$error":"#VALUE!"},{"$error":"#VALUE!"},null,{"$f":"INDEX($D112:$I112,K$98)","v":{"$error":"#N/A"}},{"$f":"INDEX($D112:$I112,L$98)","v":{"$error":"#VALUE!"}},0]
[null,null,"P(Crash)",{"$f":"+D112/(D112+1)","v":{"$error":"#N/A"}},{"$error":"#VALUE!"},{"$error":"#N/A"},{"$error":"#N/A"},{"$error":"#VALUE!"},{"$error":"#VALUE!"},null,{"$f":"INDEX($D113:$I113,K$98)","v":{"$error":"#N/A"}},{"$f":"INDEX($D113:$I113,L$98)","v":{"$error":"#VALUE!"}},0]
[null,null,"Factor Change on S curve",{"$f":"+D113/$E$113","v":{"$error":"#N/A"}},{"$error":"#VALUE!"},{"$error":"#N/A"},{"$error":"#N/A"},{"$error":"#VALUE!"},{"$error":"#VALUE!"},null,{"$f":"INDEX($D114:$I114,K$98)","v":{"$error":"#N/A"}},{"$f":"INDEX($D114:$I114,L$98)","v":{"$error":"#VALUE!"}},0]
[null,null,"Adjust to Scale of 100",{"$f":"+$I$114/D114*100","v":{"$error":"#VALUE!"}},{"$error":"#VALUE!"},{"$error":"#VALUE!"},{"$error":"#VALUE!"},{"$error":"#VALUE!"},{"$error":"#VALUE!"}]
[null,null,"Unadjusted Combined Relative to Standard",{"$f":"+D111/$E$111","v":{"$error":"#N/A"}},{"$error":"#VALUE!"},{"$error":"#N/A"},{"$error":"#N/A"},{"$error":"#VALUE!"},{"$error":"#VALUE!"},null,{"$f":"INDEX($D116:$I116,K$98)","v":{"$error":"#N/A"}},{"$f":"INDEX($D116:$I116,L$98)","v":{"$error":"#VALUE!"}},{"$f":"IF(ISERROR(1-L116/K116), 0, 1-L116/K116)","v":0}]
[null,null,null,null,null,null,null,null,null,{"$f":"I122/E122","v":{"$error":"#VALUE!"}}]
[null,null,"Adjusted for PA Basis",{"$f":"+D111*(1+1)/(1+D111*1)","v":{"$error":"#N/A"}},{"$error":"#VALUE!"},{"$error":"#N/A"},{"$error":"#N/A"},{"$f":"IF($I$2=\"Existing\",(D118),(IF($I$2=\"Design 1\",(F118),(IF($I$2=\"Design 2\",(G118),(IF($I$2=\"Optimal\",(I118),E118)))))))","v":{"$error":"#VALUE!"}},{"$error":"#VALUE!"},null,{"$f":"INDEX($D118:$I118,K$98)","v":{"$error":"#N/A"}},{"$f":"INDEX($D118:$I118,L$98)","v":{"$error":"#VALUE!"}},{"$f":"IF(ISERROR(1-L118/K118), 0, 1-L118/K118)","v":0}]
[null,null,"Corrected by Odds Ratio",{"$f":"+D118/$E$118","v":{"$error":"#N/A"}},{"$error":"#VALUE!"},{"$error":"#N/A"},{"$error":"#N/A"},{"$f":"IF($I$2=\"Existing\",(D119),(IF($I$2=\"Design 1\",(F119),(IF($I$2=\"Design 2\",(G119),(IF($I$2=\"Optimal\",(I119),E119)))))))","v":{"$error":"#VALUE!"}},{"$error":"#VALUE!"},null,{"$f":"INDEX($D119:$I119,K$98)","v":{"$error":"#N/A"}},{"$f":"INDEX($D119:$I119,L$98)","v":{"$error":"#VALUE!"}},0]
[null,null,"Pinned s",{"$f":"(1/D119)^$D123","v":{"$error":"#N/A"}},{"$error":"#VALUE!"},{"$error":"#N/A"},{"$error":"#N/A"},{"$error":"#VALUE!"},{"$error":"#VALUE!"},{"$f":"I125/E125","v":{"$error":"#VALUE!"}},{"$f":"INDEX($D120:$I120,K$98)","v":{"$error":"#N/A"}},{"$f":"INDEX($D120:$I120,L$98)","v":{"$error":"#VALUE!"}},0]
[null,null,null,{"$f":"(D120+$F124-1)/(1+(D120+$F124-1))","v":{"$error":"#N/A"}},{"$error":"#VALUE!"},{"$error":"#N/A"},{"$error":"#N/A"},{"$error":"#VALUE!"},{"$error":"#VALUE!"},null,{"$f":"INDEX($D121:$I121,K$98)","v":{"$error":"#N/A"}},{"$f":"INDEX($D121:$I121,L$98)","v":{"$error":"#VALUE!"}},0]
[null,null,"Score Odds Ratio with Optimal (old)",{"$f":"MIN(ROUND($I$119/D119*Construction!$I$8,0),$I122)","v":{"$error":"#VALUE!"}},{"$f":"MIN(ROUND($I$119/E119*Construction!$I$8,0),$I122)","v":{"$error":"#VALUE!"}},{"$f":"MIN(ROUND($I$119/F119*Construction!$I$8,0),$I122)","v":{"$error":"#VALUE!"}},{"$f":"MIN(ROUND($I$119/G119*Construction!$I$8,0),$I122)","v":{"$error":"#VALUE!"}},{"$f":"IF($I$2=\"Existing\",(D122),(IF($I$2=\"Design 1\",(F122),(IF($I$2=\"Design 2\",(G122),(IF($I$2=\"Optimal\",(I122),E122)))))))","v":{"$error":"#VALUE!"}},{"$f":"ROUND($I$119/I119*Construction!$I$8,0)","v":{"$error":"#VALUE!"}}]
[null,null,"Logistic1",{"$f":"LN((D124/(1-D124))/(0.5/0.5))/LN($E119/I119)","v":{"$error":"#VALUE!"}}]
[null,null,"Logistic Param",0.999,null,{"$f":"0.7/0.3","v":2.3333333333333335}]
[null,null,"Score ",{"$f":"MIN(ROUND(D121*Construction!$I$8,0),$I122)","v":{"$error":"#N/A"}},{"$f":"MIN(ROUND(E121*Construction!$I$8,0),$I122)","v":{"$error":"#VALUE!"}},{"$f":"MIN(ROUND(F121*Construction!$I$8,0),$I122)","v":{"$error":"#N/A"}},{"$f":"MIN(ROUND(G121*Construction!$I$8,0),$I122)","v":{"$error":"#N/A"}},{"$f":"MIN(ROUND(H121*Construction!$I$8,0),$I122)","v":{"$error":"#VALUE!"}},{"$f":"MIN(ROUND(I121*Construction!$I$8,0),$I122)","v":{"$error":"#VALUE!"}}]
[]
[null,null,"HC and Grade",{"$f":"IF($B$135,0,1)","v":1},{"$f":"IF($B$135,0,1)","v":1},{"$f":"IF($B$135,0,1)","v":1},{"$f":"IF($B$135,0,1)","v":1},{"$f":"IF($I$2=\"Existing\",(D127),(IF($I$2=\"Design 1\",(F127),(IF($I$2=\"Design 2\",(G127),(IF($I$2=\"Optimal\",(I127),E127)))))))","v":1},{"$f":"IF($B$135,0,1)","v":1}]
[null,null,"HC and VC Crest type I",{"$f":"IF(AND($B$135=1,SIGN(D$36)=1,ABS(D$36)<=ABS(D$36-D$37),D$42=\"Crest\"),1,0)","v":0},{"$f":"IF(AND($B$135=1, SIGN(IF(ISNUMBER(E$36),E$36,0))=1,ABS(IF(ISNUMBER(E$36),E$36,0)) <= ABS(IF(ISNUMBER(E$36),E$36,0)-IF(ISNUMBER(E$37),E$37,0)),E$42=\"Crest\"),1,0)","v":0},{"$f":"IF(AND($B$135=1,SIGN(F$36)=1,ABS(F$36)<=ABS(F$36-F$37),F$42=\"Crest\"),1,0)","v":0},{"$f":"IF(AND($B$135=1,SIGN(G$36)=1,ABS(G$36)<=ABS(G$36-G$37),G$42=\"Crest\"),1,0)","v":0},{"$f":"IF($I$2=\"Existing\",(D128),(IF($I$2=\"Design 1\",(F128),(IF($I$2=\"Design 2\",(G128),(IF($I$2=\"Optimal\",(I128),E128)))))))","v":0},{"$f":"IF(AND($B$135=1,SIGN(I$36)=1,ABS(I$36)<=ABS(I$36-IF(ISNUMBER(I$37), I$37,0)),I$42=\"Crest\"),1,0)","v":{"$error":"#VALUE!"}}]
["HC?",null,"HC and VC Sag type I",{"$f":"IF(AND($B$135=1,SIGN(D$36)=1,ABS(D$36)<=ABS(D$36-D$37),D$42=\"Sag\"),1,0)","v":0},{"$f":"IF(AND($B$135=1, SIGN(IF(ISNUMBER(E$36),E$36,0))=1,ABS(IF(ISNUMBER(E$36),E$36,0)) <= ABS(IF(ISNUMBER(E$36),E$36,0)-IF(ISNUMBER(E$37),E$37,0)),E$42=\"Sag\"),1,0)","v":0},{"$f":"IF(AND($B$135=1,SIGN(F$36)=1,ABS(F$36)<=ABS(F$36-F$37),F$42=\"Sag\"),1,0)","v":0},{"$f":"IF(AND($B$135=1,SIGN(G$36)=1,ABS(G$36)<=ABS(G$36-G$37),G$42=\"Sag\"),1,0)","v":0},{"$f":"IF($I$2=\"Existing\",(D129),(IF($I$2=\"Design 1\",(F129),(IF($I$2=\"Design 2\",(G129),(IF($I$2=\"Optimal\",(I129),E129)))))))","v":0},{"$f":"IF(AND($B$135=1,SIGN(I$36)=1,ABS(I$36)<=ABS(I$36-IF(ISNUMBER(I$37), I$37,0)),I$42=\"Sag\"),1,0)","v":{"$error":"#VALUE!"}}]
["VC?",null,"HC and VC Crest type II",{"$f":"IF(AND($B$135=1,D$42=\"Crest\",D$128=0),1,0)","v":0},{"$f":"IF(AND($B$135=1,E$42=\"Crest\",E$128=0),1,0)","v":0},{"$f":"IF(AND($B$135=1,F$42=\"Crest\",F$128=0),1,0)","v":0},{"$f":"IF(AND($B$135=1,G$42=\"Crest\",G$128=0),1,0)","v":0},{"$f":"IF($I$2=\"Existing\",(D130),(IF($I$2=\"Design 1\",(F130),(IF($I$2=\"Design 2\",(G130),(IF($I$2=\"Optimal\",(I130),E130)))))))","v":0},{"$f":"IF(AND($B$135=1,I$42=\"Crest\",I$128=0),1,0)","v":{"$error":"#VALUE!"}}]
[null,null,"HC and VC Sag type II",{"$f":"IF(AND($B$135=1,D$42=\"Sag\",D$129=0),1,0)","v":0},{"$f":"IF(AND($B$135=1,E$42=\"Sag\",E$129=0),1,0)","v":0},{"$f":"IF(AND($B$135=1,F$42=\"Sag\",F$129=0),1,0)","v":0},{"$f":"IF(AND($B$135=1,G$42=\"Sag\",G$129=0),1,0)","v":0},{"$f":"IF($I$2=\"Existing\",(D131),(IF($I$2=\"Design 1\",(F131),(IF($I$2=\"Design 2\",(G131),(IF($I$2=\"Optimal\",(I131),E131)))))))","v":0},{"$f":"IF(AND($B$135=1,I$42=\"Sag\",I$129=0),1,0)","v":{"$error":"#VALUE!"}}]
[null,"Yes/No"]
[null,null,"HC and VC:",null,{"$f":"EXP(0.042*ABS(D$36)+$B$134*0.16*LN(2*5730/IF(ISNUMBER(E$29),E$29,1)))","v":1}]
[null,{"$f":"IF(B27=\"Yes\",1,0)","v":0},"HC and Grade",{"$f":"IF($B$135=0,EXP(0.042*ABS(D$36)+$B$134*0.16*LN(2*5730/D$141)+4.16*$B$134/D$141/IF(ISNUMBER(D$30),D$30,999999)),1)","v":1},{"$f":"IF($B$135=0,EXP(0.042*ABS(E$36)+$B$134*0.16*LN(2*5730/E$141)+4.16*$B$134/E$141/IF(ISNUMBER(E$30),E$30,999999)),1)","v":{"$error":"#VALUE!"}},1,1,{"$f":"IF($B$135=0,EXP(0.042*ABS(H$36)+$B$134*0.16*LN(2*5730/IF(ISNUMBER(H$29),H$29,1))+4.16*$B$134/IF(ISNUMBER(H$29),H$29,1)/IF(ISNUMBER(H$30),H$30,1)),1)","v":{"$error":"#DIV/0!"}},{"$error":"#VALUE!"},null,{"$f":"INDEX($D134:$I134,K$98)","v":1},{"$f":"INDEX($D134:$I134,L$98)","v":{"$error":"#VALUE!"}},{"$f":"IF(ISERROR(1-L134/K134), 0, 1-L134/K134)","v":0}]
[null,{"$f":"IF(B34=\"Yes\",1,0)","v":0},"HC and VC Crest type I",{"$f":"IF($B$135=0,1,EXP(0.005648908*5730*ABS(+D$36-D$37)*$B$135/D$141*$B$134))","v":1},{"$f":"IF($B$135=0,1,EXP(0.005648908*5730*ABS(+E$36-E$37)*$B$135/E$141*$B$134))","v":1},1,1,{"$f":"IF($I$2=\"Existing\",(D135),(IF($I$2=\"Design 1\",(F135),(IF($I$2=\"Design 2\",(G135),(IF($I$2=\"Optimal\",(I135),E135)))))))","v":1},1,null,{"$f":"INDEX($D135:$I135,K$98)","v":1},{"$f":"INDEX($D135:$I135,L$98)","v":1},0]
[null,null,"HC and VC Sag type I",{"$f":"IF($B$135=0,1,EXP(9.15857042*$B$135/D$142+0.010284958*5730*$B$135*$B$134*ABS(+D$36-D$37)/D$141))","v":1},{"$f":"IF($B$135=0,1,EXP(9.15857042*$B$135/E$142+0.010284958*5730*$B$135*$B$134*ABS(+E$36-E$37)/E$141))","v":1},1,1,{"$f":"IF($I$2=\"Existing\",(D136),(IF($I$2=\"Design 1\",(F136),(IF($I$2=\"Design 2\",(G136),(IF($I$2=\"Optimal\",(I136),E136)))))))","v":1},1,null,{"$f":"INDEX($D136:$I136,K$98)","v":1},{"$f":"INDEX($D136:$I136,L$98)","v":1},0]
[null,null,"HC and VC Crest type II",{"$f":"IF($B$135=0,1,EXP(0.005648908*5730*ABS(+D$36-D$37)*$B$135/D$141*$B$134))","v":1},{"$f":"IF($B$135=0,1,EXP(0.005648908*5730*ABS(+E$36-E$37)*$B$135/E$141*$B$134))","v":1},1,1,{"$f":"IF($I$2=\"Existing\",(D137),(IF($I$2=\"Design 1\",(F137),(IF($I$2=\"Design 2\",(G137),(IF($I$2=\"Optimal\",(I137),E137)))))))","v":1},1,null,{"$f":"INDEX($D137:$I137,K$98)","v":1},{"$f":"INDEX($D137:$I137,L$98)","v":1},0]
[null,null,"HC and VC Sag type II",{"$f":"IF($B$135=0,1,(0.246011284*EXP(LN(0.188*2*5730/D$141)*$B$134)+0.7514288716*EXP(0.022*5730/D$141*ABS(D$36-D$37)*$B$135*$B$134)))","v":1},{"$f":"IF($B$135=0,1,(0.246011284*EXP(LN(0.188*2*5730/E$141)*$B$134)+0.7514288716*EXP(0.022*5730/E$141*ABS(E$36-E$37)*$B$135*$B$134)))","v":1},1,1,{"$f":"IF($I$2=\"Existing\",(D138),(IF($I$2=\"Design 1\",(F138),(IF($I$2=\"Design 2\",(G138),(IF($I$2=\"Optimal\",(I138),E138)))))))","v":1},1,null,{"$f":"INDEX($D138:$I138,K$98)","v":1},{"$f":"INDEX($D138:$I138,L$98)","v":1},0]
[]
[null,null,"Combined HZ and VT",{"$f":"MMULT(TRANSPOSE(D127:D131),D134:D138)","v":1},{"$f":"MMULT(TRANSPOSE(E127:E131),E134:E138)","v":{"$error":"#VALUE!"}},{"$f":"MMULT(TRANSPOSE(F127:F131),F134:F138)","v":1},{"$f":"MMULT(TRANSPOSE(G127:G131),G134:G138)","v":1},{"$f":"IF($I$2=\"Existing\",(D140),(IF($I$2=\"Design 1\",(F140),(IF($I$2=\"Design 2\",(G140),(IF($I$2=\"Optimal\",(I140),E140)))))))","v":{"$error":"#VALUE!"}},{"$f":"MMULT(TRANSPOSE(I127:I131),I134:I138)","v":{"$error":"#VALUE!"}},null,{"$f":"INDEX($D140:$I140,K$98)","v":1},{"$f":"INDEX($D140:$I140,L$98)","v":{"$error":"#VALUE!"}},{"$f":"IF(ISERROR(1-L140/K140), 0, 1-L140/K140)","v":0}]
[null,null,"effective R for calculation",{"$f":"IF(ISNUMBER(D29), D29, 99999999)","v":99999999},{"$f":"IF(ISNUMBER(E29), E29, 99999999)","v":590},99999999,99999999,null,590]
[null,null,"effective K for calculation",{"$f":"IF(ISNUMBER(D39), D39, 9999999)","v":9999999},{"$f":"IF(ISNUMBER(E39), E39, 9999999)","v":9999999},9999999,9999999,null,9999999]
[null,"Traffic"]
[null,null,null,"Existing","Standard","Design 1","Design 2"]
[null,null,"Advance static curve warning signs",{"$f":"IF(AND($B$27=\"Yes\",D$52=\"Yes\"),(Traffic!$F$4-1)*AVERAGE(Constraints!$F$37,Constraints!$H$37)/Constraints!$D$37+1,1)","v":1},{"$f":"IF(AND($B$27=\"Yes\",E$52=\"Yes\"),(Traffic!$F$4-1)*AVERAGE(Constraints!$F$37,Constraints!$H$37)/Constraints!$D$37+1,1)","v":1},{"$f":"IF(AND($B$27=\"Yes\",F$52=\"Yes\"),(Traffic!$F$4-1)*AVERAGE(Constraints!$F$37,Constraints!$H$37)/Constraints!$D$37+1,1)","v":1},{"$f":"IF(AND($B$27=\"Yes\",G$52=\"Yes\"),(Traffic!$F$4-1)*AVERAGE(Constraints!$F$37,Constraints!$H$37)/Constraints!$D$37+1,1)","v":1},{"$f":"IF($I$2=\"Existing\",(D145),(IF($I$2=\"Design 1\",(F145),(IF($I$2=\"Design 2\",(G145),(IF($I$2=\"Optimal\",(I145),E145)))))))","v":1},{"$f":"IF(AND($B$27=\"Yes\",I$52=\"Yes\"),(Traffic!$F$4-1)*AVERAGE(Constraints!$F$37,Constraints!$H$37)/Constraints!$D$37+1,1)","v":1},null,{"$f":"INDEX($D145:$I145,K$98)","v":1},{"$f":"INDEX($D145:$I145,L$98)","v":1},{"$f":"IF(ISERROR(1-L145/K145), 0, 1-L145/K145)","v":0}]
[null,null,"Install chevron signs on horizontal curves",{"$f":"IF(D$53=\"No\",1,(IF(AND($B$27=\"Yes\",D$24<11.5),((Traffic!$F$6-1)*(Constraints!$E$35+Constraints!$E$31))+1,1)))","v":1},{"$f":"IF(E$53=\"No\",1,(IF(AND($B$27=\"Yes\",E$24<11.5),((Traffic!$F$6-1)*(Constraints!$E$35+Constraints!$E$31))+1,1)))","v":1},{"$f":"IF(F$53=\"No\",1,(IF(AND($B$27=\"Yes\",F$24<11.5),((Traffic!$F$6-1)*(Constraints!$E$35+Constraints!$E$31))+1,1)))","v":1},{"$f":"IF(G$53=\"No\",1,(IF(AND($B$27=\"Yes\",G$24<11.5),((Traffic!$F$6-1)*(Constraints!$E$35+Constraints!$E$31))+1,1)))","v":1},{"$f":"IF($I$2=\"Existing\",(D146),(IF($I$2=\"Design 1\",(F146),(IF($I$2=\"Design 2\",(G146),(IF($I$2=\"Optimal\",(I146),E146)))))))","v":1},{"$f":"IF(I$53=\"No\",1,(IF(AND($B$27=\"Yes\",I$24<11.5),((Traffic!$F$6-1)*(Constraints!$E$35+Constraints!$E$31))+1,1)))","v":1},null,{"$f":"INDEX($D146:$I146,K$98)","v":1},{"$f":"INDEX($D146:$I146,L$98)","v":1},0]
[null,null,"Install post-mounted delineators",{"$f":"IF(AND($B$27=\"Yes\",D$54=\"Yes\"),(Traffic!$F$12-1)*Constraints!$E$36+1,1)","v":1},{"$f":"IF(AND($B$27=\"Yes\",E$54=\"Yes\"),(Traffic!$F$12-1)*Constraints!$E$36+1,1)","v":1},{"$f":"IF(AND($B$27=\"Yes\",F$54=\"Yes\"),(Traffic!$F$12-1)*Constraints!$E$36+1,1)","v":1},{"$f":"IF(AND($B$27=\"Yes\",G$54=\"Yes\"),(Traffic!$F$12-1)*Constraints!$E$36+1,1)","v":1},{"$f":"IF($I$2=\"Existing\",(D147),(IF($I$2=\"Design 1\",(F147),(IF($I$2=\"Design 2\",(G147),(IF($I$2=\"Optimal\",(I147),E147)))))))","v":1},{"$f":"IF(AND($B$27=\"Yes\",I$54=\"Yes\"),(Traffic!$F$12-1)*Constraints!$E$36+1,1)","v":1},null,{"$f":"INDEX($D147:$I147,K$98)","v":1},{"$f":"INDEX($D147:$I147,L$98)","v":1},0]
[null,null,"Install edgeline  or Profile pavement markings ",{"$f":"IF(D$55=\"Yes\",Traffic!$F$18*0.5+((Traffic!$F$20*(Constraints!$H$36+Constraints!$H$32)+1*(Constraints!$H$37-(Constraints!$H$36+Constraints!$H$32)))/Constraints!$H$37)*0.5,1)","v":1},{"$f":"IF(E$55=\"Yes\",Traffic!$F$18*0.5+((Traffic!$F$20*(Constraints!$H$36+Constraints!$H$32)+1*(Constraints!$H$37-(Constraints!$H$36+Constraints!$H$32)))/Constraints!$H$37)*0.5,1)","v":0.86175881308648239},{"$f":"IF(F$55=\"Yes\",Traffic!$F$18*0.5+((Traffic!$F$20*(Constraints!$H$36+Constraints!$H$32)+1*(Constraints!$H$37-(Constraints!$H$36+Constraints!$H$32)))/Constraints!$H$37)*0.5,1)","v":1},{"$f":"IF(G$55=\"Yes\",Traffic!$F$18*0.5+((Traffic!$F$20*(Constraints!$H$36+Constraints!$H$32)+1*(Constraints!$H$37-(Constraints!$H$36+Constraints!$H$32)))/Constraints!$H$37)*0.5,1)","v":1},{"$f":"IF($I$2=\"Existing\",(D148),(IF($I$2=\"Design 1\",(F148),(IF($I$2=\"Design 2\",(G148),(IF($I$2=\"Optimal\",(I148),E148)))))))","v":0.86175881308648239},{"$f":"IF(I$55=\"Yes\",Traffic!$F$18*0.5+((Traffic!$F$20*(Constraints!$H$36+Constraints!$H$32)+1*(Constraints!$H$37-(Constraints!$H$36+Constraints!$H$32)))/Constraints!$H$37)*0.5,1)","v":0.86175881308648239},null,{"$f":"INDEX($D148:$I148,K$98)","v":1},{"$f":"INDEX($D148:$I148,L$98)","v":0.86175881308648239},0.13824118691351761]
[null,null,"Profiles",1,1,1,1,1,1,null,{"$f":"INDEX($D149:$I149,K$98)","v":1},{"$f":"INDEX($D149:$I149,L$98)","v":1},0]
[null,null,"Shoulder rumble strips",{"$f":"IF(D$56=\"No\",1,(Traffic!$F$27*(Constraints!$H$36+Constraints!$H$32)+1*(Constraints!$H$37-(Constraints!$H$36+Constraints!$H$32)))/Constraints!$H$37)","v":0.89760950690192376},{"$f":"IF(E$56=\"No\",1,(Traffic!$F$27*(Constraints!$H$36+Constraints!$H$32)+1*(Constraints!$H$37-(Constraints!$H$36+Constraints!$H$32)))/Constraints!$H$37)","v":0.89760950690192376},{"$f":"IF(F$56=\"No\",1,(Traffic!$F$27*(Constraints!$H$36+Constraints!$H$32)+1*(Constraints!$H$37-(Constraints!$H$36+Constraints!$H$32)))/Constraints!$H$37)","v":0.89760950690192376},{"$f":"IF(G$56=\"No\",1,(Traffic!$F$27*(Constraints!$H$36+Constraints!$H$32)+1*(Constraints!$H$37-(Constraints!$H$36+Constraints!$H$32)))/Constraints!$H$37)","v":0.89760950690192376},{"$f":"IF($I$2=\"Existing\",(D150),(IF($I$2=\"Design 1\",(F150),(IF($I$2=\"Design 2\",(G150),(IF($I$2=\"Optimal\",(I150),E150)))))))","v":0.89760950690192376},{"$f":"IF(I$56=\"No\",1,(Traffic!$F$27*(Constraints!$H$36+Constraints!$H$32)+1*(Constraints!$H$37-(Constraints!$H$36+Constraints!$H$32)))/Constraints!$H$37)","v":0.89760950690192376},null,{"$f":"INDEX($D150:$I150,K$98)","v":0.89760950690192376},{"$f":"INDEX($D150:$I150,L$98)","v":0.89760950690192376},0]
[null,null,"Install centerline rumble strips",{"$f":"IF(D$57=\"No\",1,Traffic!$F$30)","v":0.86},{"$f":"IF(E$57=\"No\",1,Traffic!$F$30)","v":1},{"$f":"IF(F$57=\"No\",1,Traffic!$F$30)","v":0.86},{"$f":"IF(G$57=\"No\",1,Traffic!$F$30)","v":0.86},{"$f":"IF($I$2=\"Existing\",(D151),(IF($I$2=\"Design 1\",(F151),(IF($I$2=\"Design 2\",(G151),(IF($I$2=\"Optimal\",(I151),E151)))))))","v":1},{"$f":"IF(I$57=\"No\",1,Traffic!$F$30)","v":0.86},null,{"$f":"INDEX($D151:$I151,K$98)","v":0.86},{"$f":"INDEX($D151:$I151,L$98)","v":1},-0.16279069767441867]
[null,null,"Driveway Density (driveways per mile)",{"$f":"EXP(-LN(Traffic!$F$32)*(D$58-$E$58))","v":0.81707280688754669},{"$f":"EXP(-LN(Traffic!$F$32)*(E$58-$E$58))","v":1},{"$f":"EXP(-LN(Traffic!$F$32)*(F$58-$E$58))","v":0.81707280688754669},{"$f":"EXP(-LN(Traffic!$F$32)*(G$58-$E$58))","v":0.81707280688754669},{"$f":"IF($I$2=\"Existing\",(D152),(IF($I$2=\"Design 1\",(F152),(IF($I$2=\"Design 2\",(G152),(IF($I$2=\"Optimal\",(I152),E152)))))))","v":1},{"$f":"EXP(-LN(Traffic!$F$32)*(I$58-$E$58))","v":0.81707280688754669},null,{"$f":"INDEX($D152:$I152,K$98)","v":0.81707280688754669},{"$f":"INDEX($D152:$I152,L$98)","v":1},-0.22388114201141129]
[null,null,"Install lighting",{"$f":"IF(D$59=\"No\",1,1-(((1-Traffic!$F$55*Constraints!$H$37-Constraints!$F$37/3)+((1-Traffic!$F$55*Constraints!$D$37-Constraints!$H$37)))*$S$19+((1-Traffic!$F$57)*Constraints!$F$37/3))/Constraints!$D$37)","v":0.977040446881142},{"$f":"IF(E$59=\"No\",1,1-(((1-Traffic!$F$55*Constraints!$H$37-Constraints!$F$37/3)+((1-Traffic!$F$55*Constraints!$D$37-Constraints!$H$37)))*$S$19+((1-Traffic!$F$57)*Constraints!$F$37/3))/Constraints!$D$37)","v":1},{"$f":"IF(F$59=\"No\",1,1-(((1-Traffic!$F$55*Constraints!$H$37-Constraints!$F$37/3)+((1-Traffic!$F$55*Constraints!$D$37-Constraints!$H$37)))*$S$19+((1-Traffic!$F$57)*Constraints!$F$37/3))/Constraints!$D$37)","v":0.977040446881142},{"$f":"IF(G$59=\"No\",1,1-(((1-Traffic!$F$55*Constraints!$H$37-Constraints!$F$37/3)+((1-Traffic!$F$55*Constraints!$D$37-Constraints!$H$37)))*$S$19+((1-Traffic!$F$57)*Constraints!$F$37/3))/Constraints!$D$37)","v":0.977040446881142},{"$f":"IF($I$2=\"Existing\",(D153),(IF($I$2=\"Design 1\",(F153),(IF($I$2=\"Design 2\",(G153),(IF($I$2=\"Optimal\",(I153),E153)))))))","v":1},{"$f":"IF(I$59=\"No\",1,1-(((1-Traffic!$F$55*Constraints!$H$37-Constraints!$F$37/3)+((1-Traffic!$F$55*Constraints!$D$37-Constraints!$H$37)))*$S$19+((1-Traffic!$F$57)*Constraints!$F$37/3))/Constraints!$D$37)","v":0.977040446881142},null,{"$f":"INDEX($D153:$I153,K$98)","v":0.977040446881142},{"$f":"INDEX($D153:$I153,L$98)","v":1},-2.3499081529478438E-2]
[null,null,"Pavement friction (skid number)",{"$f":"EXP(LN(Traffic!$F$49)*(D$60-$E$60))","v":1.3972521419325798},{"$f":"EXP(LN(Traffic!$F$49)*(E$60-$E$60))","v":1},{"$f":"IF(MATCH(F60,SkidNums,0)=3, $D154,EXP(LN(Traffic!$F$49)*(RIGHT(F$60,2)-$E$60)))","v":{"$error":"#N/A"}},{"$f":"IF(MATCH(G60,SkidNums,0)=3, $D154,EXP(LN(Traffic!$F$49)*(RIGHT(G$60,2)-$E$60)))","v":{"$error":"#N/A"}},{"$f":"IF($I$2=\"Existing\",(D154),(IF($I$2=\"Design 1\",(F154),(IF($I$2=\"Design 2\",(G154),(IF($I$2=\"Optimal\",(I154),E154)))))))","v":1},{"$f":"EXP(LN(Traffic!$F$49)*(I$60-$E$60))","v":0.85753553626991963},null,{"$f":"INDEX($D154:$I154,K$98)","v":1.3972521419325798},{"$f":"INDEX($D154:$I154,L$98)","v":1},0.28430956017940245]
[]
[]
[null,null,"COMBINED Calculated CMF",{"$f":"+D145*D146*D147*D148*D149*D150*D151*D152*D153*D154","v":0.86106111787419426},{"$f":"+E145*E146*E147*E148*E149*E150*E151*E152*E153*E154","v":0.7735229032829446},{"$f":"+F145*F146*F147*F148*F149*F150*F151*F152*F153*F154","v":{"$error":"#N/A"}},{"$f":"+G145*G146*G147*G148*G149*G150*G151*G152*G153*G154","v":{"$error":"#N/A"}},{"$f":"IF($I$2=\"Existing\",(D157),(IF($I$2=\"Design 1\",(F157),(IF($I$2=\"Design 2\",(G157),(IF($I$2=\"Optimal\",(I157),E157)))))))","v":0.7735229032829446},{"$f":"+I145*I146*I147*I148*I149*I150*I151*I152*I153*I154","v":0.45540422392050506},null,{"$f":"INDEX($D157:$I157,K$98)","v":0.86106111787419426},{"$f":"INDEX($D157:$I157,L$98)","v":0.7735229032829446},{"$f":"IF(ISERROR(1-L157/K157), 0, 1-L157/K157)","v":0.10166318368592209}]
[null,null,"Calculated Relative to Design Standards (Column E)",{"$f":"+D157/$E$157","v":1.1131682258142903},{"$f":"+E157/$E$157","v":1},{"$f":"+F157/$E$157","v":{"$error":"#N/A"}},{"$f":"+G157/$E$157","v":{"$error":"#N/A"}},1,{"$f":"+I157/$E$157","v":0.58874045227064742},null,{"$f":"INDEX($D158:$I158,K$98)","v":1.1131682258142903},{"$f":"INDEX($D158:$I158,L$98)","v":1},0.1016631836859222]
[null,null,"P(Crash)",{"$f":"+D158/(D158+1)","v":0.52677690882151185},{"$f":"+E158/(E158+1)","v":0.5},{"$f":"+F158/(F158+1)","v":{"$error":"#N/A"}},{"$f":"+G158/(G158+1)","v":{"$error":"#N/A"}},0.5,{"$f":"+I158/(I158+1)","v":0.37057056829465901}]
[null,null,"Factor Change on S curve",{"$f":"+D159/$E$159","v":1.0535538176430237},{"$f":"+E159/$E$159","v":1},{"$f":"+F159/$E$159","v":{"$error":"#N/A"}},{"$f":"+G159/$E$159","v":{"$error":"#N/A"}},1,{"$f":"+I159/$E$159","v":0.74114113658931802}]
[null,null,"Adjust to Scale of 100",{"$f":"+$I$114/D160*100","v":{"$error":"#VALUE!"}},{"$f":"+$I$114/E160*100","v":{"$error":"#VALUE!"}},{"$f":"+$I$114/F160*100","v":{"$error":"#VALUE!"}},{"$f":"+$I$114/G160*100","v":{"$error":"#VALUE!"}},{"$error":"#VALUE!"},{"$f":"+$I$114/I160*100","v":{"$error":"#VALUE!"}}]
[null,null,"Unadjusted Combined Relative to Standard",{"$f":"+D157/$E$157","v":1.1131682258142903},{"$f":"+E157/$E$157","v":1},{"$f":"+F157/$E$157","v":{"$error":"#N/A"}},{"$f":"+G157/$E$157","v":{"$error":"#N/A"}},1,{"$f":"+I157/$E$157","v":0.58874045227064742}]
[null,null,null,null,null,null,null,0,null,{"$f":"I168/E168","v":1.4285714285714286}]
[null,null,"Adjusted for PA Basis",{"$f":"+D157*(1+1)/(1+D157*1)","v":0.92534426688549098},{"$f":"+E157*(1+1)/(1+E157*1)","v":0.8723010025425515},{"$f":"+F157*(1+1)/(1+F157*1)","v":{"$error":"#N/A"}},{"$f":"+G157*(1+1)/(1+G157*1)","v":{"$error":"#N/A"}},0.8723010025425515,{"$f":"+I157*(1+1)/(1+I157*1)","v":0.62581132641453641}]
[null,null,"Corrected by Odds Ratio",{"$f":"+D164/$E$164","v":1.0608084413388623},{"$f":"+E164/$E$164","v":1},{"$f":"+F164/$E$164","v":{"$error":"#N/A"}},{"$f":"+G164/$E$164","v":{"$error":"#N/A"}},1,{"$f":"+I164/$E$164","v":0.71742589380322175}]
[null,null,null,{"$f":"(1/D165)^$D169","v":0.29295399474123779},1,{"$error":"#N/A"},{"$error":"#N/A"},1,998.99999999999955,{"$f":"I171/E171","v":1.4285714285714286}]
[null,null,null,{"$f":"(D166+$F170-1)/(1+(D166+$F170-1))","v":0.61923435059440457},0.70000000000000007,{"$error":"#N/A"},{"$error":"#N/A"},0.70000000000000007,0.99900133155792281]
[null,null,"Score Odds Ratio with Optimal as 100 (old)",{"$f":"MIN(ROUND($I$165/D165*Construction!$I$9,0),$I168)","v":14},{"$f":"MIN(ROUND($I$165/E165*Construction!$I$9,0),$I168)","v":14},{"$f":"MIN(ROUND($I$165/F165*Construction!$I$9,0),$I168)","v":{"$error":"#N/A"}},{"$f":"MIN(ROUND($I$165/G165*Construction!$I$9,0),$I168)","v":{"$error":"#N/A"}},null,{"$f":"ROUND($I$165/I165*Construction!$I$9,0)","v":20}]
[null,null,"Logistic1",{"$f":"LN((D170/(1-D170))/(0.5/0.5))/LN($E165/I165)","v":20.798114554240879}]
[null,null,"Logistic Param",0.999,null,{"$f":"0.7/0.3","v":2.3333333333333335}]
[null,null,"Score ",{"$f":"MIN(ROUND(D167*Construction!$I$9,0),$I168)","v":12},{"$f":"MIN(ROUND(E167*Construction!$I$9,0),$I168)","v":14},{"$f":"MIN(ROUND(F167*Construction!$I$9,0),$I168)","v":{"$error":"#N/A"}},{"$f":"MIN(ROUND(G167*Construction!$I$9,0),$I168)","v":{"$error":"#N/A"}},null,{"$f":"MIN(ROUND(I167*Construction!$I$9,0),$I168)","v":20}]
[]
[]
[]
[]
[]
[]
[null,"Roadsde",null,"Existing","Standard","Design 1","Design 2"]
[null,null,null,{"$f":"MID(D72,FIND(\":\",D72,1)+1,FIND(\"H\",D72,1)-FIND(\":\",D72,1)-1)+0","v":{"$error":"#VALUE!"}},{"$f":"MID(E72,FIND(\":\",E72,1)+1,FIND(\"H\",E72,1)-FIND(\":\",E72,1)-1)+0","v":4},{"$f":"MID(F72,FIND(\":\",F72,1)+1,FIND(\"H\",F72,1)-FIND(\":\",F72,1)-1)+0","v":{"$error":"#VALUE!"}},{"$f":"MID(G72,FIND(\":\",G72,1)+1,FIND(\"H\",G72,1)-FIND(\":\",G72,1)-1)+0","v":{"$error":"#VALUE!"}},null,{"$f":"MID(I72,FIND(\":\",I72,1)+1,FIND(\"H\",I72,1)-FIND(\":\",I72,1)-1)+0","v":6},null,{"$f":"INDEX($D179:$I179,K$98)","v":{"$error":"#VALUE!"}},{"$f":"INDEX($D179:$I179,L$98)","v":4},{"$f":"IF(ISERROR(1-L179/K179), 0, 1-L179/K179)","v":0}]
[null,null,"Sideslope (Foreslope)",{"$f":"IF(D179<=3,1,IF(OR(D179=4,D179=5),(Roadside!$F$15-1)*Constraints!$H$37/Constraints!$D$37+1,(Roadside!$F$15*Roadside!$F$16-1)*Constraints!$H$37/Constraints!$D$37+1))","v":{"$error":"#VALUE!"}},{"$f":"IF(E179<=3,1,IF(OR(E179=4,E179=5),(Roadside!$F$15-1)*Constraints!$H$37/Constraints!$D$37+1,(Roadside!$F$15*Roadside!$F$16-1)*Constraints!$H$37/Constraints!$D$37+1))","v":0.8286893555394641},{"$f":"IF(F179<=3,1,IF(OR(F179=4,F179=5),(Roadside!$F$15-1)*Constraints!$H$37/Constraints!$D$37+1,(Roadside!$F$15*Roadside!$F$16-1)*Constraints!$H$37/Constraints!$D$37+1))","v":{"$error":"#VALUE!"}},{"$f":"IF(G179<=3,1,IF(OR(G179=4,G179=5),(Roadside!$F$15-1)*Constraints!$H$37/Constraints!$D$37+1,(Roadside!$F$15*Roadside!$F$16-1)*Constraints!$H$37/Constraints!$D$37+1))","v":{"$error":"#VALUE!"}},{"$f":"IF($I$2=\"Existing\",(D180),(IF($I$2=\"Design 1\",(F180),(IF($I$2=\"Design 2\",(G180),(IF($I$2=\"Optimal\",(I180),E180)))))))","v":0.8286893555394641},{"$f":"IF(I179<=3,1,IF(OR(I179=4,I179=5),(Roadside!$F$15-1)*Constraints!$H$37/Constraints!$D$37+1,(Roadside!$F$15*Roadside!$F$16-1)*Constraints!$H$37/Constraints!$D$37+1))","v":0.77664355022240605},null,{"$f":"INDEX($D180:$I180,K$98)","v":{"$error":"#VALUE!"}},{"$f":"INDEX($D180:$I180,L$98)","v":0.8286893555394641},0]
[null,null,"Backslope",1,1,1,1,{"$f":"IF($I$2=\"Existing\",(D181),(IF($I$2=\"Design 1\",(F181),(IF($I$2=\"Design 2\",(G181),(IF($I$2=\"Optimal\",(I181),E181)))))))","v":1},1,null,{"$f":"INDEX($D181:$I181,K$98)","v":1},{"$f":"INDEX($D181:$I181,L$98)","v":1},0]
[null,null,"SafetyEdge",{"$f":"IF(D$74=\"No\",1,(Roadside!$F$23-1)*AVERAGE(Constraints!$H$37,Constraints!$F$37)/Constraints!$D$37+1)","v":0.97258384193648495},{"$f":"IF(E$74=\"No\",1,(Roadside!$F$23-1)*AVERAGE(Constraints!$H$37,Constraints!$F$37)/Constraints!$D$37+1)","v":1},{"$f":"IF(F$74=\"No\",1,(Roadside!$F$23-1)*AVERAGE(Constraints!$H$37,Constraints!$F$37)/Constraints!$D$37+1)","v":0.97258384193648495},{"$f":"IF(G$74=\"No\",1,(Roadside!$F$23-1)*AVERAGE(Constraints!$H$37,Constraints!$F$37)/Constraints!$D$37+1)","v":0.97258384193648495},{"$f":"IF($I$2=\"Existing\",(D182),(IF($I$2=\"Design 1\",(F182),(IF($I$2=\"Design 2\",(G182),(IF($I$2=\"Optimal\",(I182),E182)))))))","v":1},{"$f":"IF(I$74=\"No\",1,(Roadside!$F$23-1)*AVERAGE(Constraints!$H$37,Constraints!$F$37)/Constraints!$D$37+1)","v":0.97258384193648495},null,{"$f":"INDEX($D182:$I182,K$98)","v":0.97258384193648495},{"$f":"INDEX($D182:$I182,L$98)","v":1},-2.8188991921691331E-2]
[null,null,"Lateral Clearance (ft)",{"$f":"IF($B$27=\"Yes\",((EXP(LN(Roadside!$F$11)*(IF(D$76=\"None\",40,D$75)-30)/30)-1))*Constraints!$H$36/Constraints!$D$37+1,((EXP(LN(Roadside!$F$10)*(IF(D$76=\"None\",40,D$75)-30)/30)-1))*Constraints!$H$36/Constraints!$D$37+1)","v":1.0992721491203288},{"$f":"IF($B$27=\"Yes\",((EXP(LN(Roadside!$F$11)*(IF(E$76=\"None\",40,E$75)-30)/30)-1))*Constraints!$H$36/Constraints!$D$37+1,((EXP(LN(Roadside!$F$10)*(IF(E$76=\"None\",40,E$75)-30)/30)-1))*Constraints!$H$36/Constraints!$D$37+1)","v":1},{"$f":"IF($B$27=\"Yes\",((EXP(LN(Roadside!$F$11)*(IF(F$76=\"None\",40,F$75)-30)/30)-1))*Constraints!$H$36/Constraints!$D$37+1,((EXP(LN(Roadside!$F$10)*(IF(F$76=\"None\",40,F$75)-30)/30)-1))*Constraints!$H$36/Constraints!$D$37+1)","v":1.0992721491203288},{"$f":"IF($B$27=\"Yes\",((EXP(LN(Roadside!$F$11)*(IF(G$76=\"None\",40,G$75)-30)/30)-1))*Constraints!$H$36/Constraints!$D$37+1,((EXP(LN(Roadside!$F$10)*(IF(G$76=\"None\",40,G$75)-30)/30)-1))*Constraints!$H$36/Constraints!$D$37+1)","v":1.0992721491203288},{"$f":"IF($I$2=\"Existing\",(D183),(IF($I$2=\"Design 1\",(F183),(IF($I$2=\"Design 2\",(G183),(IF($I$2=\"Optimal\",(I183),E183)))))))","v":1},{"$f":"IF($B$27=\"Yes\",((EXP(LN(Roadside!$F$11)*(IF(I$76=\"None\",40,I$75)-30)/30)-1))*Constraints!$H$36/Constraints!$D$37+1,((EXP(LN(Roadside!$F$10)*(IF(I$76=\"None\",40,I$75)-30)/30)-1))*Constraints!$H$36/Constraints!$D$37+1)","v":0.97455184373954995},null,{"$f":"INDEX($D183:$I183,K$98)","v":1.0992721491203288},{"$f":"INDEX($D183:$I183,L$98)","v":1},9.0307162971216326E-2]
[null,null,"Fixed Object Type",{"$f":"IF(D$76=\"Guardrail\",(Roadside!$F$25-1)*(($I$75-D$75)/$I$75)^2*Constraints!$H$36/Constraints!$D$37+1,1)","v":1},{"$f":"IF(E$76=\"Guardrail\",(Roadside!$F$25-1)*(($I$75-E$75)/$I$75)^2*Constraints!$H$36/Constraints!$D$37+1,1)","v":1},{"$f":"IF(F$76=\"Guardrail\",(Roadside!$F$25-1)*(($I$75-F$75)/$I$75)^2*Constraints!$H$36/Constraints!$D$37+1,1)","v":1},{"$f":"IF(G$76=\"Guardrail\",(Roadside!$F$25-1)*(($I$75-G$75)/$I$75)^2*Constraints!$H$36/Constraints!$D$37+1,1)","v":1},{"$f":"IF($I$2=\"Existing\",(D184),(IF($I$2=\"Design 1\",(F184),(IF($I$2=\"Design 2\",(G184),(IF($I$2=\"Optimal\",(I184),E184)))))))","v":1},{"$f":"IF(I$76=\"Guardrail\",(Roadside!$F$25-1)*(($I$75-I$75)/$I$75)^2*Constraints!$H$36/Constraints!$D$37+1,1)","v":1},null,{"$f":"INDEX($D184:$I184,K$98)","v":1},{"$f":"INDEX($D184:$I184,L$98)","v":1},0]
[]
[]
[null,null,"COMBINED Calculated CMF",{"$f":"+D180*D181*D182*D183*D184","v":{"$error":"#VALUE!"}},{"$f":"+E180*E181*E182*E183*E184","v":0.8286893555394641},{"$f":"+F180*F181*F182*F183*F184","v":{"$error":"#VALUE!"}},{"$f":"+G180*G181*G182*G183*G184","v":{"$error":"#VALUE!"}},{"$f":"IF($I$2=\"Existing\",(D187),(IF($I$2=\"Design 1\",(F187),(IF($I$2=\"Design 2\",(G187),(IF($I$2=\"Optimal\",(I187),E187)))))))","v":0.8286893555394641},{"$f":"+I180*I181*I182*I183*I184","v":0.73612867842813945}]
[null,null,"Calculated Relative to Design Standards (Column E)",{"$f":"+D187/$E$187","v":{"$error":"#VALUE!"}},{"$f":"+E187/$E$187","v":1},{"$f":"+F187/$E$187","v":{"$error":"#VALUE!"}},{"$f":"+G187/$E$187","v":{"$error":"#VALUE!"}},1,{"$f":"+I187/$E$187","v":0.88830473507039431}]
[null,null,"P(Crash)",{"$f":"+D188/(D188+1)","v":{"$error":"#VALUE!"}},{"$f":"+E188/(E188+1)","v":0.5},{"$f":"+F188/(F188+1)","v":{"$error":"#VALUE!"}},{"$f":"+G188/(G188+1)","v":{"$error":"#VALUE!"}},0.5,{"$f":"+I188/(I188+1)","v":0.47042445987261644}]
[null,null,"Factor Change on S curve",{"$f":"+D189/$E$189","v":{"$error":"#VALUE!"}},{"$f":"+E189/$E$189","v":1},{"$f":"+F189/$E$189","v":{"$error":"#VALUE!"}},{"$f":"+G189/$E$189","v":{"$error":"#VALUE!"}},1,{"$f":"+I189/$E$189","v":0.94084891974523288}]
[null,null,"Adjust to Scale of 100",{"$f":"+$I$114/D190*100","v":{"$error":"#VALUE!"}},{"$f":"+$I$114/E190*100","v":{"$error":"#VALUE!"}},{"$f":"+$I$114/F190*100","v":{"$error":"#VALUE!"}},{"$f":"+$I$114/G190*100","v":{"$error":"#VALUE!"}},{"$error":"#VALUE!"},{"$f":"+$I$114/I190*100","v":{"$error":"#VALUE!"}}]
[null,null,"Unadjusted Combined Relative to Standard",{"$f":"+D187/$E$187","v":{"$error":"#VALUE!"}},{"$f":"+E187/$E$187","v":1},{"$f":"+F187/$E$187","v":{"$error":"#VALUE!"}},{"$f":"+G187/$E$187","v":{"$error":"#VALUE!"}},1,{"$f":"+I187/$E$187","v":0.88830473507039431}]
[null,null,null,null,null,null,null,null,null,{"$f":"I198/E198","v":1.1111111111111112}]
[null,null,"Adjusted for PA Basis",{"$f":"+D187*(1+1)/(1+D187*1)","v":{"$error":"#VALUE!"}},{"$f":"+E187*(1+1)/(1+E187*1)","v":0.90632053282226321},{"$f":"+F187*(1+1)/(1+F187*1)","v":{"$error":"#VALUE!"}},{"$f":"+G187*(1+1)/(1+G187*1)","v":{"$error":"#VALUE!"}},{"$f":"IF($I$2=\"Existing\",(D194),(IF($I$2=\"Design 1\",(F194),(IF($I$2=\"Design 2\",(G194),(IF($I$2=\"Optimal\",(I194),E194)))))))","v":0.90632053282226321},{"$f":"+I187*(1+1)/(1+I187*1)","v":0.84801165671039724}]
[null,null,"Corrected by Odds Ratio",{"$f":"+D187/$E$187","v":{"$error":"#VALUE!"}},{"$f":"+E187/$E$187","v":1},{"$f":"+F187/$E$187","v":{"$error":"#VALUE!"}},{"$f":"+G187/$E$187","v":{"$error":"#VALUE!"}},{"$f":"IF($I$2=\"Existing\",(D195),(IF($I$2=\"Design 1\",(F195),(IF($I$2=\"Design 2\",(G195),(IF($I$2=\"Optimal\",(I195),E195)))))))","v":1},{"$f":"+I187/$E$187","v":0.88830473507039431}]
[null,null,null,{"$f":"(1/D195)^$D199","v":{"$error":"#VALUE!"}},1,{"$error":"#VALUE!"},{"$error":"#VALUE!"},1,998.99999999999955,{"$f":"I201/E201","v":1.4814814814814814}]
[null,null,null,{"$f":"(D196+$F200-1)/(1+(D196+$F200-1))","v":{"$error":"#VALUE!"}},0.66666666666666663,{"$error":"#VALUE!"},{"$error":"#VALUE!"},0.66666666666666663,0.99900099900099903]
[null,null,"Score Odds Ratio with Optimal as 100 (old)",{"$f":"MIN(ROUND($I$195/D195*Construction!$I$10,0),$I198)","v":{"$error":"#VALUE!"}},{"$f":"MIN(ROUND($I$195/E195*Construction!$I$10,0),$I198)","v":36},{"$f":"MIN(ROUND($I$195/F195*Construction!$I$10,0),$I198)","v":{"$error":"#VALUE!"}},{"$f":"MIN(ROUND($I$195/G195*Construction!$I$10,0),$I198)","v":{"$error":"#VALUE!"}},null,{"$f":"ROUND($I$195/I195*Construction!$I$10,0)","v":40}]
[null,null,"Logistic1",{"$f":"LN((D200/(1-D200))/(0.5/0.5))/LN($E195/I195)","v":58.314167600285003}]
[null,null,"Logistic Param",0.999,null,2]
[null,null,"Score ",{"$f":"MIN(ROUND(D197*Construction!$I$10,0),$I198)","v":{"$error":"#VALUE!"}},{"$f":"MIN(ROUND(E197*Construction!$I$10,0),$I198)","v":27},{"$f":"MIN(ROUND(F197*Construction!$I$10,0),$I198)","v":{"$error":"#VALUE!"}},{"$f":"MIN(ROUND(G197*Construction!$I$10,0),$I198)","v":{"$error":"#VALUE!"}},null,{"$f":"MIN(ROUND(I197*Construction!$I$10,0),$I198)","v":40}]
[]
[]
[]
[]
[null,null,{"$f":"D84/D179","v":{"$error":"#VALUE!"}},null,{"$f":"ROUNDUP((MIN($I$14,$I$15)-E24-E25)/$C$206,0)","v":{"$error":"#VALUE!"}},{"$f":"ROUNDUP((MIN($I$14,$I$15)-F24-F25)/$C$206,0)","v":{"$error":"#VALUE!"}},{"$f":"ROUNDUP((MIN($I$14,$I$15)-G24-G25)/$C$206,0)","v":{"$error":"#VALUE!"}},null,{"$f":"ROUNDUP((MIN($I$14,$I$15)-I24-I25)/$C$206,0)","v":{"$error":"#VALUE!"}}]
[]
[]
[null,null,"Distance to low point","Distance to low point",{"$f":"$C$206*E179","v":{"$error":"#VALUE!"}},{"$f":"$C$206*F179","v":{"$error":"#VALUE!"}},{"$f":"$C$206*G179","v":{"$error":"#VALUE!"}},null,{"$f":"$C$206*I179","v":{"$error":"#VALUE!"}}]
[null,null,null,"Additional ROW1 Needed for Foreslope",{"$f":"IF(E209>($I$14-E24-E25),E209-($I$14-E24-E25),0)","v":{"$error":"#VALUE!"}},{"$f":"IF(F209>($I$14-F24-F25),F209-($I$14-F24-F25),0)","v":{"$error":"#VALUE!"}},{"$f":"IF(G209>($I$14-G24-G25),G209-($I$14-G24-G25),0)","v":{"$error":"#VALUE!"}},null,{"$f":"IF(I209>($I$14-I24-I25),I209-($I$14-I24-I25),0)","v":{"$error":"#VALUE!"}}]
[null,null,null,"Additional ROW2 Needed for Foreslope",{"$f":"IF(E209>($I$15-E24-E25),E209-($I$15-E24-E25),0)","v":{"$error":"#VALUE!"}},{"$f":"IF(F209>($I$15-F24-F25),F209-($I$15-F24-F25),0)","v":{"$error":"#VALUE!"}},{"$f":"IF(G209>($I$15-G24-G25),G209-($I$15-G24-G25),0)","v":{"$error":"#VALUE!"}},null,{"$f":"IF(I209>($I$15-I24-I25),I209-($I$15-I24-I25),0)","v":{"$error":"#VALUE!"}}]
[]
[null,null,null,"Additional ROW1 Needed for Lateral Clearance",{"$f":"IF((CL248+E26)-$I$14<0,0,(CL248+E26)-$I$14)","v":8},{"$f":"IF((CM248+F26)-$I$14<0,0,(CM248+F26)-$I$14)","v":0},{"$f":"IF((CN248+G26)-$I$14<0,0,(CN248+G26)-$I$14)","v":0},null,{"$f":"IF((CP248+I26)-$I$14<0,0,(CP248+I26)-$I$14)","v":0}]
[null,null,null,"Additional ROW2 Needed for Lateral Clearance",{"$f":"IF((CL248+E26)-$I$15<0,0,(CL248+E26)-$I$15)","v":8},{"$f":"IF((CM248+F26)-$I$15<0,0,(CM248+F26)-$I$15)","v":0},{"$f":"IF((CN248+G26)-$I$15<0,0,(CN248+G26)-$I$15)","v":0},null,{"$f":"IF((CP248+I26)-$I$15<0,0,(CP248+I26)-$I$15)","v":0}]
[]
[]
[]
[]
[]
[]
[]
[]
[]
[]
[]
[null,null,"For Vertical Opt Use when Yes Vertical:"]
[null,null,"G1",{"$f":"D36","v":0},null,{"$f":"F36","v":0},{"$f":"G36","v":0},null,{"$f":"IF(ISERROR($E$234),\"\",INDEX(D227:G227,$E$234))","v":""}]
[null,null,"G2",{"$f":"D37","v":0},null,{"$f":"F37","v":0},{"$f":"G37","v":0},null,{"$f":"IF(ISERROR($E$234),\"\",INDEX(D228:G228,$E$234))","v":""}]
[null,null,"abs(G2-G1)",{"$f":"ABS(D36-D37)","v":0},null,{"$f":"ABS(F36-F37)","v":0},{"$f":"ABS(G36-G37)","v":0}]
[null,null,"Count in indicator (K no change; or K change but accept)",{"$f":"IF(D39<>\"\",1,\"\")","v":""},null,{"$f":"IF(OR(AND($B$34 = \"Yes\", $D$39 <> F39, F39 <>\"\", $D$39 <> \"\", F41=\"Yes.\"),AND($B$34 = \"Yes\", $D$39 = F39, F39 <>\"\", $D$39 <> \"\")), 1,\"\")","v":""},{"$f":"IF(OR(AND($B$34 = \"Yes\", $D$39 <> G39, G39 <>\"\", $D$39 <> \"\", G41=\"Yes.\"),AND($B$34 = \"Yes\", $D$39 = G39, G39 <>\"\", $D$39 <> \"\")), 1,\"\")","v":""}]
[]
[null,null,"Valid abs(G2-G1)",{"$f":"IF(ISERROR(D229*D230),\"\",D229*D230)","v":""},null,{"$f":"IF(ISERROR(F229*F230),\"\",F229*F230)","v":""},{"$f":"IF(ISERROR(G229*G230),\"\",G229*G230)","v":""}]
[null,null,"The min valid abs(G2-G1)",null,{"$f":"MIN(D232,F232,G232)","v":0}]
[null,null,"Index",null,{"$f":"MATCH(E233,D232:G232,0)","v":{"$error":"#N/A"}}]
[]
[null,null,"For Vertical Opt Use When No Vertical:"]
[null,null,"G1",{"$f":"IF(ISBLANK(D36), 999, D36)","v":999},null,{"$f":"IF(ISBLANK(F36), 999, F36)","v":999},{"$f":"IF(ISBLANK(G36), 999, G36)","v":999},null,{"$f":"IF(E242=999,\"\",E242)","v":""}]
[null,null,"Sign of G1",{"$f":"IF(D237>=0,1,-1)","v":1},null,{"$f":"IF(F237>=0,1,-1)","v":1},{"$f":"IF(G237>=0,1,-1)","v":1}]
[null,null,"Abs G1",{"$f":"ABS(D237)","v":999},null,{"$f":"ABS(F237)","v":999},{"$f":"ABS(G237)","v":999}]
[null,null,"Min Abs G1",null,{"$f":"MIN(D239:G239)","v":999}]
[null,null,"Which is the Best G1",null,{"$f":"MATCH(E240,D239:G239,0)","v":1}]
[null,null,"Best G1 Value",null,{"$f":"INDEX(D237:G237,1,E241)","v":999}]
[]
[]
[]
[]
[]
[]
[null,null,"Check if all cells filled",{"$f":"SUM(D251:D311)","v":18},{"$f":"SUM(E251:E311)","v":1},18,18,null,1]
[]
[null,null,{"$f":"C24","v":"Lane Width (feet)"},{"$f":"IF(ISBLANK(D24),1,0)","v":1},{"$f":"IF(ISBLANK(E24),1,0)","v":0},1,1,null,0]
[null,null,{"$f":"C25","v":"Shoulder Width (feet)"},{"$f":"IF(ISBLANK(D25),1,0)","v":1},0,1,1,null,0]
[null,null,"Cross-slope or Superelevation (%)",{"$f":"IF(ISBLANK(D26),1,0)","v":1},0,1,1,null,0]
[null,null,"Horizontal Curve Present?"]
[null,null,"Horizontal Curve Data for Controlling Element:"]
[null,null,"  Radius (feet)",{"$f":"IF(AND($B$27=\"Yes\", ISBLANK(D29)),1,0)","v":0},{"$f":"IF(AND($B$27=\"Yes\", ISBLANK(E29)),1,0)","v":0},0,0,null,0]
[null,null,"Length of Horizontal Curve (feet)",{"$f":"IF(AND($B$27=\"Yes\", ISBLANK(D30)),1,0)","v":0},0,0,0,null,0]
[null,null,"Calculated Deflection Angle ∆"]
[]
[null,null,null,null,null,{"$f":"IF(AND($B$27 = \"Yes\", $D$31 <> F31, F31<>\"\",ISBLANK(F33)),1,0)","v":0},{"$f":"IF(AND($B$27 = \"Yes\", $D$31 <> G31, G31<>\"\",ISBLANK(G33)),1,0)","v":0}]
[null,null,"Vertical Curve Present?"]
[null,null,"Vertical Curve Data for Controlling Element:"]
[null,null,"  Approach (Entry) Grade, G1 (%)",{"$f":"IF(ISBLANK(D36),1,0)","v":1},{"$f":"IF(ISBLANK(E36),1,0)","v":0},1,1,null,0]
[null,null,"  Departure (Exit) Grade, G2 (%)",{"$f":"IF(AND($B$34=\"Yes\", ISBLANK(D37)),1,0)","v":0},{"$f":"IF(AND($B$34=\"Yes\", ISBLANK(E37)),1,0)","v":0},0,0,null,0]
[null,null,"  Length (feet)",{"$f":"IF(AND($B$34=\"Yes\", ISBLANK(D38)),1,0)","v":0},0,0,0,null,0]
[null,null,"  Calculated Rate of Change, K (ft/ft)"]
[]
[]
[]
[null,null,"TWLTL (two-way left-turn lane)",{"$f":"IF(ISBLANK(D43),1,0)","v":1},{"$f":"IF(ISBLANK(E43),1,0)","v":0},1,1,null,0]
[null,null,"Passing Lane Type",{"$f":"IF(ISBLANK(D44),1,0)","v":1},0,1,1,null,0]
[]
[]
[]
[]
[]
[]
[]
[null,null,"Advance Static Curve Warning Signs",{"$f":"IF(AND($B$27=\"Yes\", ISBLANK(D52)),1,0)","v":0},{"$f":"IF(AND($B$27=\"Yes\", ISBLANK(E52)),1,0)","v":0},0,0,null,{"$f":"IF(ISBLANK(I52),1,0)","v":0}]
[null,null,"Chevron Signs on Horizontal Curves",{"$f":"IF(AND($B$27=\"Yes\", ISBLANK(D53)),1,0)","v":0},0,0,0,null,0]
[null,null,"Post-Mounted Delineators",0,0,0,0,null,0]
[null,null,"Edgeline Pavement Markings or Profile Markings",{"$f":"IF(ISBLANK(D55),1,0)","v":1},0,1,1,null,0]
[null,null,"Shoulder Rumble Strips",1,0,1,1,null,0]
[null,null,"Centerline Rumble Strips",1,0,1,1,null,0]
[null,null,"Driveway Density (driveways per mile)",1,0,1,1,null,0]
[null,null,"Lighting",1,0,1,1,null,0]
[null,null,"Pavement Friction (skid number) ***",1,0,1,1,null,0]
[]
[]
[]
[]
[]
[]
[]
[]
[]
[]
[]
[null,null,"Sideslope (Foreslope)",{"$f":"IF(ISBLANK(D72),1,0)","v":1},0,1,1,null,0]
[null,null,"Backslope",1,0,1,1,null,0]
[null,null,"SafetyEdge",1,0,1,1,null,0]
[null,null,"Lateral Clearance to obstruction (ft)",1,0,1,1,null,0]
[null,null,"Obstruction Type",1,0,1,1,null,0]
[]
[]
[]
[]
[]
[]
[]
[null,null,"Distance to Slope Toe from Shoulder (ft)",1,{"$f":"$D$311","v":1},{"$f":"$D$311","v":1},1,null,1]
[]
[]
[]
[null,null,null,null,null,null,null,null,{"$f":"SUM(I316:I324)","v":9}]
[null,null,null,null,null,null,null,{"$f":"F9","v":"Location "},{"$f":"IF(ISBLANK(I9),1,0)","v":1}]
[null,null,null,null,null,null,null,{"$f":"F10","v":"Design Speed (mph)"},{"$f":"IF(ISBLANK(I10),1,0)","v":1}]
[null,null,null,null,null,null,null,"Posted Speed (mph)",1]
[null,null,null,null,null,null,null,"E max (%)",1]
[null,null,null,null,null,null,null,"Design Year AADT (vehicles per day)",1]
[null,null,null,null,null,null,null,"Dist. from Centerline to Left   ROW (feet)",1]
[null,null,null,null,null,null,null,"Dist. from Centerline to Right ROW (feet)",1]
[null,null,null,null,null,null,null,"H Curve Indicator",{"$f":"IF(ISBLANK(B27),1,0)","v":1}]
[null,null,null,null,null,null,null,"V Curve Indicator",{"$f":"IF(ISBLANK(B34),1,0)","v":1}]
[]
[]
[]
[]
[]
[]
[]
[]
[]
[]
[]
[]
[]
[]
[]
[]
[]
[]
[]
[]
[]
[]
[]
[]
[]
[]
[]
[]
[]
[]
[]
[]
[]
[]
[]
[]
[]
[]
[]
[]
[]
[]
[]
[]
[]
[]
[]
[]
[]
[]
[]
[1]
[22]
[21]
[20,null,null,{"$f":"Constraints!P174","v":"Emax=6%"}]
[19]
[18,null,{"$f":"HLOOKUP($I$10,Constraints!$Q$176:AD197,A376,TRUE)","v":{"$error":"#N/A"}},{"$f":"Constraints!P176","v":"super"}]
[17,null,{"$f":"HLOOKUP($I$10,Constraints!$Q$176:AD198,A377,TRUE)","v":{"$error":"#N/A"}},{"$f":"Constraints!P197","v":6},1050]
[16,null,{"$f":"HLOOKUP($I$10,Constraints!$Q$176:AD199,A378,TRUE)","v":{"$error":"#N/A"}},{"$f":"Constraints!P196","v":5.8}]
[15,null,{"$f":"HLOOKUP($I$10,Constraints!$Q$176:AD200,A379,TRUE)","v":{"$error":"#N/A"}},{"$f":"Constraints!P195","v":5.6}]
[14,null,{"$f":"HLOOKUP($I$10,Constraints!$Q$176:AD201,A380,TRUE)","v":{"$error":"#N/A"}},{"$f":"Constraints!P194","v":5.4}]
[13,null,{"$f":"HLOOKUP($I$10,Constraints!$Q$176:AD202,A381,TRUE)","v":{"$error":"#N/A"}},{"$f":"Constraints!P193","v":5.2}]
[12,null,{"$f":"HLOOKUP($I$10,Constraints!$Q$176:AD203,A382,TRUE)","v":{"$error":"#N/A"}},{"$f":"Constraints!P192","v":5}]
[11,null,{"$f":"HLOOKUP($I$10,Constraints!$Q$176:AD204,A383,TRUE)","v":{"$error":"#N/A"}},{"$f":"Constraints!P191","v":4.8}]
[10,null,{"$f":"HLOOKUP($I$10,Constraints!$Q$176:AD205,A384,TRUE)","v":{"$error":"#N/A"}},{"$f":"Constraints!P190","v":4.5999999999999996}]
[9,null,{"$f":"HLOOKUP($I$10,Constraints!$Q$176:AD206,A385,TRUE)","v":{"$error":"#N/A"}},{"$f":"Constraints!P189","v":4.4000000000000004}]
[8,null,{"$f":"HLOOKUP($I$10,Constraints!$Q$176:AD207,A386,TRUE)","v":{"$error":"#N/A"}},{"$f":"Constraints!P188","v":4.2}]
[7,null,{"$f":"HLOOKUP($I$10,Constraints!$Q$176:AD208,A387,TRUE)","v":{"$error":"#N/A"}},{"$f":"Constraints!P187","v":4}]
[6,null,{"$f":"HLOOKUP($I$10,Constraints!$Q$176:AD209,A388,TRUE)","v":{"$error":"#N/A"}},{"$f":"Constraints!P186","v":3.8}]
[5,null,{"$f":"HLOOKUP($I$10,Constraints!$Q$176:AD210,A389,TRUE)","v":{"$error":"#N/A"}},{"$f":"Constraints!P185","v":3.6}]
[4,null,{"$f":"HLOOKUP($I$10,Constraints!$Q$176:AD211,A390,TRUE)","v":{"$error":"#N/A"}},{"$f":"Constraints!P184","v":3.4}]
[3,null,{"$f":"HLOOKUP($I$10,Constraints!$Q$176:AD212,A391,TRUE)","v":{"$error":"#N/A"}},{"$f":"Constraints!P183","v":3.2}]
[2,null,{"$f":"HLOOKUP($I$10,Constraints!$Q$176:AD213,A392,TRUE)","v":{"$error":"#N/A"}},{"$f":"Constraints!P182","v":3}]
[null,null,{"$f":"HLOOKUP($I$10,Constraints!$Q$176:AD214,A393,TRUE)","v":{"$error":"#N/A"}},{"$f":"Constraints!P181","v":2.8}]
[null,null,{"$f":"HLOOKUP($I$10,Constraints!$Q$176:AD215,A394,TRUE)","v":{"$error":"#N/A"}},{"$f":"Constraints!P180","v":2.6}]
[null,null,{"$f":"HLOOKUP($I$10,Constraints!$Q$176:AD216,A395,TRUE)","v":{"$error":"#N/A"}},{"$f":"Constraints!P179","v":2.4}]
[null,null,{"$f":"HLOOKUP($I$10,Constraints!$Q$176:AD217,A396,TRUE)","v":{"$error":"#N/A"}},{"$f":"Constraints!P178","v":2.2000000000000002}]
[null,null,{"$f":"HLOOKUP($I$10,Constraints!$Q$176:AD218,A397,TRUE)","v":{"$error":"#N/A"}},{"$f":"Constraints!P177","v":2}]
[1]
[32]
[31]
[30,null,null,{"$f":"Constraints!P201","v":"Emax=8%"}]
[29]
[28,null,{"$f":"HLOOKUP($I$10,Constraints!$Q$203:AD234,A403,TRUE)","v":{"$error":"#N/A"}},{"$f":"Constraints!P203","v":"super"}]
[27,null,{"$f":"HLOOKUP($I$10,Constraints!$Q$203:AD235,A404,TRUE)","v":{"$error":"#N/A"}},{"$f":"INDEX(Constraints!$P$203:$P$234,A404,)","v":8}]
[26,null,{"$f":"HLOOKUP($I$10,Constraints!$Q$203:AD236,A405,TRUE)","v":{"$error":"#N/A"}},{"$f":"INDEX(Constraints!$P$203:$P$234,A405,)","v":7.8}]
[25,null,{"$f":"HLOOKUP($I$10,Constraints!$Q$203:AD237,A406,TRUE)","v":{"$error":"#N/A"}},{"$f":"INDEX(Constraints!$P$203:$P$234,A406,)","v":7.6}]
[24,null,{"$f":"HLOOKUP($I$10,Constraints!$Q$203:AD238,A407,TRUE)","v":{"$error":"#N/A"}},{"$f":"INDEX(Constraints!$P$203:$P$234,A407,)","v":7.4}]
[23,null,{"$f":"HLOOKUP($I$10,Constraints!$Q$203:AD239,A408,TRUE)","v":{"$error":"#N/A"}},{"$f":"INDEX(Constraints!$P$203:$P$234,A408,)","v":7.2}]
[22,null,{"$f":"HLOOKUP($I$10,Constraints!$Q$203:AD240,A409,TRUE)","v":{"$error":"#N/A"}},{"$f":"INDEX(Constraints!$P$203:$P$234,A409,)","v":7}]
[21,null,{"$f":"HLOOKUP($I$10,Constraints!$Q$203:AD241,A410,TRUE)","v":{"$error":"#N/A"}},{"$f":"INDEX(Constraints!$P$203:$P$234,A410,)","v":6.8}]
[20,null,{"$f":"HLOOKUP($I$10,Constraints!$Q$203:AD242,A411,TRUE)","v":{"$error":"#N/A"}},{"$f":"INDEX(Constraints!$P$203:$P$234,A411,)","v":6.6}]
[19,null,{"$f":"HLOOKUP($I$10,Constraints!$Q$203:AD243,A412,TRUE)","v":{"$error":"#N/A"}},{"$f":"INDEX(Constraints!$P$203:$P$234,A412,)","v":6.4}]
[18,null,{"$f":"HLOOKUP($I$10,Constraints!$Q$203:AD244,A413,TRUE)","v":{"$error":"#N/A"}},{"$f":"INDEX(Constraints!$P$203:$P$234,A413,)","v":6.2}]
[17,null,{"$f":"HLOOKUP($I$10,Constraints!$Q$203:AD245,A414,TRUE)","v":{"$error":"#N/A"}},{"$f":"INDEX(Constraints!$P$203:$P$234,A414,)","v":6}]
[16,null,{"$f":"HLOOKUP($I$10,Constraints!$Q$203:AD246,A415,TRUE)","v":{"$error":"#N/A"}},{"$f":"INDEX(Constraints!$P$203:$P$234,A415,)","v":5.8}]
[15,null,{"$f":"HLOOKUP($I$10,Constraints!$Q$203:AD247,A416,TRUE)","v":{"$error":"#N/A"}},{"$f":"INDEX(Constraints!$P$203:$P$234,A416,)","v":5.6}]
[14,null,{"$f":"HLOOKUP($I$10,Constraints!$Q$203:AD248,A417,TRUE)","v":{"$error":"#N/A"}},{"$f":"INDEX(Constraints!$P$203:$P$234,A417,)","v":5.4}]
[13,null,{"$f":"HLOOKUP($I$10,Constraints!$Q$203:AD249,A418,TRUE)","v":{"$error":"#N/A"}},{"$f":"INDEX(Constraints!$P$203:$P$234,A418,)","v":5.2}]
[12,null,{"$f":"HLOOKUP($I$10,Constraints!$Q$203:AD250,A419,TRUE)","v":{"$error":"#N/A"}},{"$f":"INDEX(Constraints!$P$203:$P$234,A419,)","v":5}]
[11,null,{"$f":"HLOOKUP($I$10,Constraints!$Q$203:AD251,A420,TRUE)","v":{"$error":"#N/A"}},{"$f":"INDEX(Constraints!$P$203:$P$234,A420,)","v":4.8}]
[10,null,{"$f":"HLOOKUP($I$10,Constraints!$Q$203:AD252,A421,TRUE)","v":{"$error":"#N/A"}},{"$f":"INDEX(Constraints!$P$203:$P$234,A421,)","v":4.5999999999999996}]
[9,null,{"$f":"HLOOKUP($I$10,Constraints!$Q$203:AD253,A422,TRUE)","v":{"$error":"#N/A"}},{"$f":"INDEX(Constraints!$P$203:$P$234,A422,)","v":4.4000000000000004}]
[8,null,{"$f":"HLOOKUP($I$10,Constraints!$Q$203:AD254,A423,TRUE)","v":{"$error":"#N/A"}},{"$f":"INDEX(Constraints!$P$203:$P$234,A423,)","v":4.2}]
[7,null,{"$f":"HLOOKUP($I$10,Constraints!$Q$203:AD255,A424,TRUE)","v":{"$error":"#N/A"}},{"$f":"INDEX(Constraints!$P$203:$P$234,A424,)","v":4}]
[6,null,{"$f":"HLOOKUP($I$10,Constraints!$Q$203:AD256,A425,TRUE)","v":{"$error":"#N/A"}},{"$f":"INDEX(Constraints!$P$203:$P$234,A425,)","v":3.8}]
[5,null,{"$f":"HLOOKUP($I$10,Constraints!$Q$203:AD257,A426,TRUE)","v":{"$error":"#N/A"}},{"$f":"INDEX(Constraints!$P$203:$P$234,A426,)","v":3.6}]
[4,null,{"$f":"HLOOKUP($I$10,Constraints!$Q$203:AD258,A427,TRUE)","v":{"$error":"#N/A"}},{"$f":"INDEX(Constraints!$P$203:$P$234,A427,)","v":3.4}]
[3,null,{"$f":"HLOOKUP($I$10,Constraints!$Q$203:AD259,A428,TRUE)","v":{"$error":"#N/A"}},{"$f":"INDEX(Constraints!$P$203:$P$234,A428,)","v":3.2}]
[2,null,{"$f":"HLOOKUP($I$10,Constraints!$Q$203:AD260,A429,TRUE)","v":{"$error":"#N/A"}},{"$f":"INDEX(Constraints!$P$203:$P$234,A429,)","v":3}]
[null,null,{"$f":"HLOOKUP($I$10,Constraints!$Q$203:AD261,A430,TRUE)","v":{"$error":"#N/A"}},{"$f":"INDEX(Constraints!$P$203:$P$234,A430,)","v":2.8}]
[null,null,{"$f":"HLOOKUP($I$10,Constraints!$Q$203:AD262,A431,TRUE)","v":{"$error":"#N/A"}},{"$f":"INDEX(Constraints!$P$203:$P$234,A431,)","v":2.6}]
[null,null,{"$f":"HLOOKUP($I$10,Constraints!$Q$203:AD263,A432,TRUE)","v":{"$error":"#N/A"}},{"$f":"INDEX(Constraints!$P$203:$P$234,A432,)","v":2.4}]
[null,null,{"$f":"HLOOKUP($I$10,Constraints!$Q$203:AD264,A433,TRUE)","v":{"$error":"#N/A"}},{"$f":"INDEX(Constraints!$P$203:$P$234,A433,)","v":2.2000000000000002}]
[null,null,{"$f":"HLOOKUP($I$10,Constraints!$Q$203:AD265,A434,TRUE)","v":{"$error":"#N/A"}},{"$f":"INDEX(Constraints!$P$203:$P$234,A434,)","v":2}]

{"sheet":"Configuration 14","index":24,"n_rows":439,"n_cols":113,"rows_kept":439,"cut":false,"hidden":false,"merged":[[1,6,2,7],[1,8,2,8],[1,21,1,37],[2,1,2,4],[2,21,3,28],[2,30,3,37],[3,1,3,4],[3,6,4,7],[3,8,4,8],[4,1,4,2],[4,3,4,4],[4,21,44,28],[4,30,44,37],[5,1,5,2],[5,3,5,4],[6,1,6,7],[7,1,7,4],[7,7,7,8],[8,3,8,4],[8,5,8,6],[75,16,75,21],[75,22,75,23],[9,3,9,4],[9,5,9,6],[10,3,10,4],[10,5,10,6],[11,5,11,6],[12,2,15,4],[12,5,12,6],[13,5,13,6],[14,5,14,6],[17,2,18,8],[20,5,20,7],[38,9,38,10],[45,12,45,19],[74,16,74,23],[76,22,76,23],[77,16,77,21],[77,22,77,23],[78,16,78,21],[78,22,78,23],[84,1,84,2],[85,1,85,2],[86,1,86,2],[95,10,95,12],[76,16,76,21]]}
[]
[null,null,null,null,null,null,"Preferred Schematic View to Display",null,"Standard",null,null,null,null,null,null,null,null,null,null,null,null,"NOTES: "]
[null,"CHARACTERISTICS TO CONSIDER FOR ANALYSIS",null,null,null,null,null,null,null,null,null,null,null,null,null,null,null,null,null,null,null,"ELEMENTS INCREASING SAFETY",null,null,null,null,null,null,null,null,"COMMENTS ON PRIMARY CONSTRAINTS"]
[null,"INPUT INSTRUCTIONS",null,null,null,null,"Relative to",null,"Existing"]
[null,"Blue Boxes -- Select from pulldown options",null,"Select from Pulldown"]
[null,"Yellow Boxes -- Type input information into box",null,"Type Input Value"]
[null," Rural Two-Lane Road Segment -- Safety Score Input",null,null,null,null,null,null,null,null,null,null,null,null,null,null,null,null,null,null,null,null,null,null,null,null,null,null,null,null,null,null,null,null,null,null,null,null,null,null,null,null,null,null,null,null,null,null,null,null,null,null,null,null,null,null,null,null,null,null,null,null,null,null,null,null,null,null,null,null,null,null,null,null,null,null,null,null,null,null,null,null,null,"Unadjusted Marginal Safety"]
[null,"General Information:",null,null,null,"General Site Features",null,{"$f":"I315 & \" Missing Features and Curves\"","v":"9 Missing Features and Curves"},null,null,null,null,null,null,null,null,null,null,null,null,null,null,null,null,null,null,null,null,null,null,null,null,null,null,null,null,null,null,null,null,null,null,null,null,null,null,null,null,null,null,null,null,null,null,null,null,null,null,null,null,null,null,null,null,null,null,null,null,null,null,null,null,null,null,null,null,null,null,null,null,null,null,null,{"$f":"I2&\" relative to \" &I4","v":"Standard relative to Existing"}]
[null,null,"Analyst:",{"$f":"+'Start Here'!J7","v":0},null,"Location "]
[null,null,"Agency or Company:",{"$f":"+'Start Here'!J8","v":0},null,"Design Speed (mph)"]
[null,null,"Date:",{"$f":"+'Start Here'!J9","v":"00:00:00"},null,"Posted Speed (mph)"]
[null,null,"Description:",null,null,"E max (%)"]
[null,null,null,null,null,"Design Year AADT (vehicles per day)"]
[null,null,null,null,null,"Dist. from Centerline to Left   ROW (feet)"]
[null,null,null,null,null,"Dist. from Centerline to Right ROW (feet)"]
[]
[null,"Warning:"]
[null,null,{"$f":"+IF(+I11>I10,\"Posted speed exceeds design speed. Optimal safety will only be achieved if design speed exceeds posted speed. The Safety Assessment Score is based on the higher of the two speed values.\",\"No warnings identified\")","v":"No warnings identified"}]
[null,null,null,null,null,null,null,null,null,null,null,null,null,null,null,{"$f":"\"Unadjusted Marginal Safety of elements in \"&I2&\" from Design Standards\"","v":"Unadjusted Marginal Safety of elements in Standard from Design Standards"},null,null,null,null,null,null,null,null,null,null,null,null,null,null,null,null,null,null,null,null,null,null,null,null,null,null,null,null,null,null,null,null,null,null,null,null,null,null,null,null,null,null,null,null,null,null,null,null,null,null,null,null,null,null,null,null,null,null,null,null,null,null,null,null,null,null,null,null,null,null,null,null,null,null,null,null,null,null,null,null,null,null,null,null,null,null,null,null,null,{"$f":"COUNTIF(DB23:DB41,DB20)","v":1}]
[null,null,null,null,null,null,null,null,null,null,null,null,null,null,null,null,null,null,null,null,null,null,null,null,null,null,null,null,null,null,null,null,null,null,null,null,null,null,null,null,null,null,null,null,null,null,null,null,null,null,null,null,null,null,null,null,null,null,null,null,null,null,null,null,null,null,null,null,null,null,null,null,null,null,null,null,null,null,null,null,null,null,null,null,null,null,null,null,null,null,null,null,null,null,null,null,null,null,null,null,null,null,null,null,null,{"$f":"VLOOKUP(0,CZ23:DB41,3,)","v":10.01}]
[null,null,null,"Fill all elements",null,"To enter notes, use boxes to the right of the vortex ",null,null,null,null," "]
[null,{"$f":"+Construction!$I$8&\"  Total Available Points\"","v":"40  Total Available Points"},null,{"$f":"D249 & \" Missing Elements\"","v":"18 Missing Elements"},null,{"$f":"F249 & \" Missing Elements\"","v":"18 Missing Elements"},{"$f":"G249 & \" Missing Elements\"","v":"18 Missing Elements"},null,null,null,null,null,null,null,null,null,null,null,null,null,null,null,null,null,null,null,null,null,null,null,null,null,null,null,null,null,null,null,null,null,null,null,null,null,null,null,null,null,null,null,null,null,null,null,null,null,null,null,null,null,null,null,null,null,null,null,null,null,null,null,null,null,null,null,null,null,null,null,null,null,null,null,null,null,null,null,null,null,null,null,null,null,null,null,null,null,null,null,null,null,null,"Ranked element","CRF","abs","Re-rank","Rank","Ranked CRF","Element","New Element","crf.abs","rank","Sorted Element","Sorted CRF"]
[null,"Geometric Design Elements",null,"Existing","Standard","Design 1","Design 2",{"$f":"\"Marginal Safety for \"&$I$2&\" (compared to \" & $I$4 & \")\"","v":"Marginal Safety for Standard (compared to Existing)"},"Optimal",null,null,null,null,null,null,null,null,null,null,null,null,null,null,null,null,null,null,null,null,null,null,null,null,null,null,null,null,null,null,null,null,null,null,null,null,null,null,null,null,null,null,null,null,null,null,null,null,null,null,null,null,null,null,null,null,null,null,null,null,null,null,null,null,null,null,null,null,null,null,null,null,null,null,null,null,null,null,null,null,null,null,null,null,null,null,null,null,null,null,null,null,{"$f":"IF(CY23=0,\"\",DB23&\". \"&DD23)","v":""},{"$f":"H24","v":0},{"$f":"ABS(CY23)","v":0},{"$f":"RANK(DB23,$DB$23:$DB$41,1)","v":10},{"$f":"_xlfn.RANK.EQ(CZ23,$CZ$23:$CZ$41)+DG23/100","v":10.01},{"$f":"CY23","v":0},{"$f":"IF(ROUND(DF23,2)=0,\"\",C24)","v":""},{"$f":"DD23","v":""},{"$f":"CZ23","v":0},1,{"$f":"IFERROR(IF(IFERROR(VLOOKUP(DG23,$DA$23:$DF$41,4,)&\", \"&CY23=0,\"\"),\"\",IFERROR(VLOOKUP(DG23,$DA$23:$DE$41,4,),\"\")),\"\")","v":"TWLTL (two-way left-turn lane)"},{"$f":"IFERROR(IF(IFERROR(VLOOKUP(DG23,$DA$23:$DF$41,3,)&\", \"&CY23=0,\"\"),\"\",IFERROR(VLOOKUP(DG23,$DA$23:$DE$41,3,),\"\")),\"\")","v":-0.40845070422535223}]
[null,null,"Lane Width (feet)",null,12,null,null,{"$f":"M100","v":0},12,null,null,null,null,null,null,null,null,null,null,null,null,null,null,null,null,null,null,null,null,null,null,null,null,null,null,null,null,null,null,null,null,null,null,null,null,null,null,null,null,null,null,null,null,null,null,null,null,null,null,null,null,null,null,null,null,null,null,null,null,null,null,null,null,null,null,null,null,null,null,null,null,null,null,null,null,null,null,null,null,null,null,null,null,null,null,null,null,null,null,null,null,"5.02. Shoulder Width (feet)",{"$f":"H25","v":0.15503875968992242},0.15503875968992242,{"$f":"RANK(DB24,$DB$23:$DB$41,1)","v":5},{"$f":"_xlfn.RANK.EQ(CZ24,$CZ$23:$CZ$41)+DG24/100","v":5.0199999999999996},{"$f":"CY24","v":0.15503875968992242},{"$f":"IF(ROUND(DF24,2)=0,\"\",C25)","v":"Shoulder Width (feet)"},{"$f":"DD24","v":"Shoulder Width (feet)"},0.15503875968992242,2,"Pavement Friction (skid number) ***",{"$f":"IFERROR(IF(IFERROR(VLOOKUP(DG24,$DA$23:$DF$41,3,)&\", \"&CY24=0,\"\"),\"\",IFERROR(VLOOKUP(DG24,$DA$23:$DE$41,3,),\"\")),\"\")","v":0.28430956017940245}]
[null,null,"Shoulder Width (feet)",null,{"$f":"IF('Start Here'!$J$12=\"4R\",8,4)","v":4},null,null,{"$f":"M101","v":0.15503875968992242},10,null,null,null,null,null,null,null,null,null,null,null,null,null,null,null,null,null,null,null,null,null,null,null,null,null,null,null,null,null,null,null,null,null,null,null,null,null,null,null,null,null,null,null,null,null,null,null,null,null,null,null,null,null,null,null,null,null,null,null,null,null,null,null,null,null,null,null,null,null,null,null,null,null,null,null,null,null,null,null,null,null,null,null,null,null,null,null,null,null,null,null,null,"",{"$f":"H29","v":0},0,11,10.029999999999999,0,{"$f":"IF(ROUND(DF25,2)=0,\"\",\"Hz and Vt Alignment\")","v":""},"",0,3,"Driveway Density (driveways per mile)",-0.22388114201141129]
[null,null,"Cross-slope or Superelevation (%)",null,{"$f":"IF($I$12=6,IFERROR(VLOOKUP(E29,$C$382:$D$402,2,TRUE),6),IFERROR(VLOOKUP(E29,$C$409:$D$439,2,TRUE),8))","v":8},null,null,null,{"$f":"I12","v":0},null,null,null,null,null,null,null,null,null,null,null,null,null,null,null,null,null,null,null,null,null,null,null,null,null,null,null,null,null,null,null,null,null,null,null,null,null,null,null,null,null,null,null,null,null,null,null,null,null,null,null,null,null,null,null,null,null,null,null,null,null,null,null,null,null,null,null,null,null,null,null,null,null,null,null,null,null,null,null,null,null,null,null,null,null,null,null,null,null,null,null,null,"1.04. TWLTL (two-way left-turn lane)",{"$f":"H43","v":-0.40845070422535223},0.40845070422535223,1,1.04,-0.40845070422535223,{"$f":"IF(ROUND(DF26,2)=0,\"\",C43)","v":"TWLTL (two-way left-turn lane)"},"TWLTL (two-way left-turn lane)",0.40845070422535223,4,"Centerline Rumble Strips",-0.16279069767441867]
["",null,"Horizontal Curve Present?","--","--","--","--",null,"--",null,null,null,null,null,null,null,null,null,null,null,null,null,null,null,null,null,null,null,null,null,null,null,null,null,null,null,null,null,null,null,null,null,null,null,null,null,null,null,null,null,null,null,null,null,null,null,null,null,null,null,null,null,null,null,null,null,null,null,null,null,null,null,null,null,null,null,null,null,null,null,null,null,null,null,null,null,null,null,null,null,null,null,null,null,null,null,null,null,null,null,null,"",{"$f":"H44","v":0},0,12,10.050000000000001,0,{"$f":"IF(ROUND(DF27,2)=0,\"\",C44)","v":""},"",0,5,"Shoulder Width (feet)",0.15503875968992242]
[null,null,"Horizontal Curve Data for Controlling Element:","--","--","--","--",null,"--",null,null,null,null,null,null,null,null,null,null,null,null,null,null,null,null,null,null,null,null,null,null,null,null,null,null,null,null,null,null,null,null,null,null,null,null,null,null,null,null,null,null,null,null,null,null,null,null,null,null,null,null,null,null,null,null,null,null,null,null,null,null,null,null,null,null,null,null,null,null,null,null,null,null,null,null,null,null,null,null,null,null,null,null,null,null,null,null,null,null,null,null,"",{"$f":"H52","v":0},0,13,10.06,0,{"$f":"IF(ROUND(DF28,2)=0,\"\",C52)","v":""},"",0,6,"Edgeline Pavement Markings or Profile Markings",0.13824118691351761]
[null,null,"  Radius (feet)",null,{"$f":"IF(MAX($I$10,$I$11)<45,590,IF($I$12=6,VLOOKUP(MAX($I$10,$I$11),Construction!$B$29:$D$36,2,TRUE),VLOOKUP(MAX($I$10,$I$11),Construction!$G$29:$I$36,2,TRUE)))","v":590},null,null,{"$f":"M140","v":0},{"$f":"IF(MAX($I$10,$I$11)<45,590,IF($I$12=6,VLOOKUP(MAX($I$10,$I$11),Construction!$B$45:$C$52,2,TRUE),VLOOKUP(MAX($I$10,$I$11),Construction!$G$45:$H$52,2,TRUE)))","v":590},null,null,null,null,null,null,null,null,null,null,null,null,null,null,null,null,null,null,null,null,null,null,null,null,null,null,null,null,null,null,null,null,null,null,null,null,null,null,null,null,null,null,null,null,null,null,null,null,null,null,null,null,null,null,null,null,null,null,null,null,null,null,null,null,null,null,null,null,null,null,null,null,null,null,null,null,null,null,null,null,null,null,null,null,null,null,null,null,null,null,null,null,"",0,0,14,10.07,0,"","",0,7,"Lateral Clearance to obstruction (ft)",9.0307162971216326E-2]
[null,null,"Length of Horizontal Curve (feet)",null,{"$f":"IF(D31=\"\", \"\", E29*E31/57.296)","v":""},null,null,null,{"$f":"I29*I31/57.296","v":3758.5520804244625},null,null,null,null,null,null,null,null,null,null,null,null,null,null,null,null,null,null,null,null,null,null,null,null,null,null,null,null,null,null,null,null,null,null,null,null,null,null,null,null,null,null,null,null,null,null,null,null,null,null,null,null,null,null,null,null,null,null,null,null,null,null,null,null,null,null,null,null,null,null,null,null,null,null,null,null,null,null,null,null,null,null,null,null,null,null,null,null,null,null,null,null,"",0,0,15,10.08,0,"","",0,8,"SafetyEdge",-2.8188991921691331E-2]
[null,null,"Calculated Deflection Angle ∆",{"$f":"IF(OR(ISBLANK(D29),ISBLANK(D30),$B$27=\"No\",ISBLANK($B$27)),\"\",ROUND(D30/D29*57.296,1))","v":""},{"$f":"IF(ISBLANK(D31), \"\",D31)","v":""},{"$f":"IF(OR(ISBLANK(F29),ISBLANK(F30),$B$27=\"No\",ISBLANK($B$27)),\"\",ROUND(F30/F29*57.296,1))","v":""},{"$f":"IF(OR(ISBLANK(G29),ISBLANK(G30),$B$27=\"No\",ISBLANK($B$27)),\"\",ROUND(G30/G29*57.296,1))","v":""},null,{"$f":"MIN(D31,IF(F33=INDEX(HCurveChange,1,0), F31, 365),IF(G33=INDEX(HCurveChange,1,0), G31, 365))","v":365},null,null,null,null,null,null,null,null,null,null,null,null,null,null,null,null,null,null,null,null,null,null,null,null,null,null,null,null,null,null,null,null,null,null,null,null,null,null,null,null,null,null,null,null,null,null,null,null,null,null,null,null,null,null,null,null,null,null,null,null,null,null,null,null,null,null,null,null,null,null,null,null,null,null,null,null,null,null,null,null,null,null,null,null,null,null,null,null,null,null,null,null,"6.09. Edgeline Pavement Markings or Profile Markings",0.13824118691351761,0.13824118691351761,6,6.09,0.13824118691351761,"Edgeline Pavement Markings or Profile Markings","Edgeline Pavement Markings or Profile Markings",0.13824118691351761,9,"Lighting",-2.3499081529478438E-2]
[null,null,null,null,null,"∆ has changed. \nAre you changing the ∆?","∆ has changed. \nAre you changing the ∆?",null,null,null,null,null,null,null,null,null,null,null,null,null,null,null,null,null,null,null,null,null,null,null,null,null,null,null,null,null,null,null,null,null,null,null,null,null,null,null,null,null,null,null,null,null,null,null,null,null,null,null,null,null,null,null,null,null,null,null,null,null,null,null,null,null,null,null,null,null,null,null,null,null,null,null,null,null,null,null,null,null,null,null,null,null,null,null,null,null,null,null,null,null,null,"",0,0,16,10.1,0,"","",0,10,"",0]
[null,null,null,null,null,null,null,null,null,null,null,null,null,null,null,null,null,null,null,null,null,null,null,null,null,null,null,null,null,null,null,null,null,null,null,null,null,null,null,null,null,null,null,null,null,null,null,null,null,null,null,null,null,null,null,null,null,null,null,null,null,null,null,null,null,null,null,null,null,null,null,null,null,null,null,null,null,null,null,null,null,null,null,null,null,null,null,null,null,null,null,null,null,null,null,null,null,null,null,null,null,"4.11. Centerline Rumble Strips",-0.16279069767441867,0.16279069767441867,4,4.1100000000000003,-0.16279069767441867,"Centerline Rumble Strips","Centerline Rumble Strips",0.16279069767441867,11,"",0]
[null,null,"Vertical Curve Present?","--","--","--","--",null,{"$f":"E34","v":"--"},null,null,null,null,null,null,null,null,null,null,null,null,null,null,null,null,null,null,null,null,null,null,null,null,null,null,null,null,null,null,null,null,null,null,null,null,null,null,null,null,null,null,null,null,null,null,null,null,null,null,null,null,null,null,null,null,null,null,null,null,null,null,null,null,null,null,null,null,null,null,null,null,null,null,null,null,null,null,null,null,null,null,null,null,null,null,null,null,null,null,null,null,"3.12. Driveway Density (driveways per mile)",-0.22388114201141129,0.22388114201141129,3,3.12,-0.22388114201141129,{"$f":"IF(DF34=0,\"\",C58)","v":"Driveway Density (driveways per mile)"},"Driveway Density (driveways per mile)",0.22388114201141129,12,"",0]
[null,null,"Vertical Curve Data for Controlling Element:","--","--","--","--",null,"--",null,null,null,null,null,null,null,null,null,null,null,null,null,null,null,null,null,null,null,null,null,null,null,null,null,null,null,null,null,null,null,null,null,null,null,null,null,null,null,null,null,null,null,null,null,null,null,null,null,null,null,null,null,null,null,null,null,null,null,null,null,null,null,null,null,null,null,null,null,null,null,null,null,null,null,null,null,null,null,null,null,null,null,null,null,null,null,null,null,null,null,null,"9.13. Lighting",-2.3499081529478438E-2,2.3499081529478438E-2,9,9.1300000000000008,-2.3499081529478438E-2,{"$f":"IF(DF35=0,\"\",C59)","v":"Lighting"},"Lighting",2.3499081529478438E-2,13,"",0]
[null,null,"  Approach (Entry) Grade, G1 (%)",null,{"$f":"IF(ISBLANK(D36),\"\", D36)","v":""},null,null,null,{"$f":"IF(B34=\"Yes\",I227,I237)","v":""},null,null,null,null,null,null,null,null,null,null,null,null,null,null,null,null,null,null,null,null,null,null,null,null,null,null,null,null,null,null,null,null,null,null,null,null,null,null,null,null,null,null,null,null,null,null,null,null,null,null,null,null,null,null,null,null,null,null,null,null,null,null,null,null,null,null,null,null,null,null,null,null,null,null,null,null,null,null,null,null,null,null,null,null,null,null,null,null,null,null,null,null,"2.14. Pavement Friction (skid number) ***",0.28430956017940245,0.28430956017940245,2,2.14,0.28430956017940245,{"$f":"IF(DF36=0,\"\",C60)","v":"Pavement Friction (skid number) ***"},"Pavement Friction (skid number) ***",0.28430956017940245,14,"",0]
[null,null,"  Departure (Exit) Grade, G2 (%)",null,{"$f":"IF(ISBLANK(D37),\"\", D37)","v":""},null,null,null,{"$f":"IF($B$34=\"Yes\",I228,\"\")","v":""},null,null,null,null,null,null,null,null,null,null,null,null,null,null,null,null,null,null,null,null,null,null,null,null,null,null,null,null,null,null,null,null,null,null,null,null,null,null,null,null,null,null,null,null,null,null,null,null,null,null,null,null,null,null,null,null,null,null,null,null,null,null,null,null,null,null,null,null,null,null,null,null,null,null,null,null,null,null,null,null,null,null,null,null,null,null,null,null,null,null,null,null,"",{"$f":"H72","v":0},0,17,10.15,0,{"$f":"IF(DF37=0,\"\",C72)","v":""},"",0,15,"",0]
[null,null,"  Length (feet)",null,{"$f":"IF(AND($B$34=\"Yes\", D39<>\"\"), ABS(E36-E37)*D39, \"\")","v":""},null,null,null,{"$f":"IF(AND($B$34=\"Yes\",I36<>\"\",I37<>\"\", NOT(ISBLANK($I$10)), NOT(ISBLANK($I$11))),ABS(I37-I36)*I39,\"\")","v":""},null,null,null,null,null,null,null,null,null,null,null,null,null,null,null,null,null,null,null,null,null,null,null,null,null,null,null,null,null,null,null,null,null,null,null,null,null,null,null,null,null,null,null,null,null,null,null,null,null,null,null,null,null,null,null,null,null,null,null,null,null,null,null,null,null,null,null,null,null,null,null,null,null,null,null,null,null,null,null,null,null,null,null,null,null,null,null,null,null,null,null,null,"",{"$f":"H73","v":0},{"$f":"ABS(CY38)","v":0},18,10.16,0,{"$f":"IF(DF38=0,\"\",C73)","v":""},"",0,16,"",0]
[null,null,"  Calculated Rate of Change, K (ft/ft)",{"$f":"IF(OR($B$34=\"No\",ISBLANK($B$34), ISBLANK(D36), ISBLANK(D37),ISBLANK(D38), D36=D37), \"\", ROUND(D38/(ABS(D37-D36)),1))","v":""},{"$f":"IF(AND($B$34=\"Yes\", NOT(ISBLANK($I$10)), NOT(ISBLANK($I$11)), D39<>\"\"), IF($E$42=\"Crest\",  VLOOKUP(MAX($I$10,$I$11),Construction!$B$159:$D$171,2,TRUE), VLOOKUP(MAX($I$10,$I$11),Construction!$B$159:$D$171,3,TRUE)), \"\")","v":""},{"$f":"IF(AND($B$34=\"Yes\", SUM(F263:F265)=0),ROUND(F38/(ABS(F37-F36)),1),\"\")","v":""},{"$f":"IF(AND($B$34=\"Yes\", SUM(G263:G265)=0),ROUND(G38/(ABS(G37-G36)),1),\"\")","v":""},null,{"$f":"IF(OR($B$34<>\"Yes\", ISBLANK($I$10), ISBLANK($I$11), $I$36=\"\", $I$37=\"\", $I$42=\"--\", ISBLANK($I$42)),\"\",IF($I$42=\"Crest\",VLOOKUP(MAX($I$10,$I$11),Construction!$B$179:$D$191,2,TRUE),VLOOKUP(MAX($I$10,$I$11),Construction!$B$179:$D$191,3,TRUE)))","v":""},null,null,null,null,null,null,null,null,null,null,null,null,null,null,null,null,null,null,null,null,null,null,null,null,null,null,null,null,null,null,null,null,null,null,null,null,null,null,null,null,null,null,null,null,null,null,null,null,null,null,null,null,null,null,null,null,null,null,null,null,null,null,null,null,null,null,null,null,null,null,null,null,null,null,null,null,null,null,null,null,null,null,null,null,null,null,null,null,null,null,null,null,"8.17. SafetyEdge",{"$f":"H74","v":-2.8188991921691331E-2},{"$f":"ABS(CY39)","v":2.8188991921691331E-2},8,8.17,-2.8188991921691331E-2,{"$f":"IF(DF39=0,\"\",C74)","v":"SafetyEdge"},"SafetyEdge",2.8188991921691331E-2,17,"",0]
[null,null,null,null,null,"Are you changing the geometry?","Are you changing the geometry?",null,null,null,null,null,null,null,null,null,null,null,null,null,null,null,null,null,null,null,null,null,null,null,null,null,null,null,null,null,null,null,null,null,null,null,null,null,null,null,null,null,null,null,null,null,null,null,null,null,null,null,null,null,null,null,null,null,null,null,null,null,null,null,null,null,null,null,null,null,null,null,null,null,null,null,null,null,null,null,null,null,null,null,null,null,null,null,null,null,null,null,null,null,null,"7.18. Lateral Clearance to obstruction (ft)",{"$f":"H75","v":9.0307162971216326E-2},{"$f":"ABS(CY40)","v":9.0307162971216326E-2},7,7.18,9.0307162971216326E-2,{"$f":"IF(DF40=0,\"\",C75)","v":"Lateral Clearance to obstruction (ft)"},"Lateral Clearance to obstruction (ft)",9.0307162971216326E-2,18,"",0]
[null,null,null,null,null,null,null,null,null,null,null,null,null,null,null,null,null,null,null,null,null,null,null,null,null,null,null,null,null,null,null,null,null,null,null,null,null,null,null,null,null,null,null,null,null,null,null,null,null,null,null,null,null,null,null,null,null,null,null,null,null,null,null,null,null,null,null,null,null,null,null,null,null,null,null,null,null,null,null,null,null,null,null,null,null,null,null,null,null,null,null,null,null,null,null,null,null,null,null,null,null,"",{"$f":"H76","v":0},{"$f":"ABS(CY41)","v":0},19,10.19,0,{"$f":"IF(DF41=0,\"\",C76)","v":""},"",0,19,"",0]
[null,null,"  Calculated Sag or Crest?",{"$f":"IF(AND($B$34=\"Yes\", SUM(D263:D265)=0),IF(D36>D37,\"Crest\",\"Sag\"),\"--\")","v":"--"},{"$f":"IF(AND($B$34=\"Yes\", SUM(D263:D265)=0),IF(E36>E37,\"Crest\",\"Sag\"),\"--\")","v":"--"},{"$f":"IF(AND($B$34=\"Yes\", SUM(F263:F265)=0),IF(F36>F37,\"Crest\",\"Sag\"),\"--\")","v":"--"},{"$f":"IF(AND($B$34=\"Yes\", SUM(G263:G265)=0),IF(G36>G37,\"Crest\",\"Sag\"),\"--\")","v":"--"},null,{"$f":"IF($B$34=\"Yes\",IF(I36>I37,\"Crest\",\"Sag\"),\"--\")","v":"--"}]
[null,null,"TWLTL (two-way left-turn lane)",null,"No",null,null,{"$f":"M108","v":-0.40845070422535223},{"$f":"IF(OR($D$43=\"Yes\", $F$43=\"Yes\",$G$43=\"Yes\"), \"Yes\", \"No\")","v":"No"}]
[null,null,"Passing Lane Type",null,"No Passing Lane",null,null,{"$f":"M109","v":0},"Super 2"]
[null,null,"Geometric Design Element (Partial Score)",{"$f":"IF(OR(SUM(D251:D253,D256:D257,D263:D265,D270:D271)>0, ISERR(D125)),\"\",D125)","v":""},{"$f":"IF(OR(SUM(E251:E253,E256:E257,E263:E265,E270:E271)>0, ISERR(E125)),\"\",E125)","v":""},"","",null,{"$f":"IF(OR(SUM(I251:I253,I256:I257,I263:I265,I270:I271)>0, ISERR(I125)),\"\",I125)","v":""}]
[null,null,"Total Safety Score",{"$f":"IF(OR(D$249>0, $I$315>0,ISERROR(D$201+D$171+D$125)),\"\",D$201+D$171+D$125)","v":""},{"$f":"IF(OR(E$249>0, $I$315>0,ISERROR(E$201+E$171+E$125)),\"\",E$201+E$171+E$125)","v":""},"","",null,"",null,null,null,"SCHEMATIC REPRESENTING INPUT DATA FOR ",null,null,null,null,null,null,null,{"$f":"IF($I$2=\"Existing\",\"EXISTING CONFIGURATION\",IF($I$2=\"Standard\",\"STANDARD OPTION\",IF($I$2=\"Design 1\",\"DESIGN 1 OPTION\",IF($I$2=\"Design 2\",\"DESIGN 2 OPTION\",\"OPTIMAL OPTION\"))))","v":"STANDARD OPTION"}]
[]
[null,null,null,null,null,null,null,null,null,null,null,"LT",null,null,null,null,null,null,null,null,null,null,null,null,null,null,"RT"]
[null,null,null,null,null,null,null,null,null,null,null,"R/W",null,null,null,null,null,null,null,null,null,null,null,null,null,null,"R/W"]
[null,{"$f":"+Construction!$I$9&\"  Total Available Points\"","v":"20  Total Available Points"}]
[null,"Traffic Elements",null,"Existing","Standard","Design 1","Design 2",{"$f":"$H$23","v":"Marginal Safety for Standard (compared to Existing)"},"Optimal",null,null,null,null,null,{"$f":"+$I$14","v":0},null,null,null,null,null,null,null,{"$f":"+$I$15","v":0}]
[null,null,"Advance Static Curve Warning Signs",null,"No",null,null,{"$f":"M145","v":0},"Yes"]
[null,null,"Chevron Signs on Horizontal Curves",null,"No",null,null,{"$f":"M146","v":0},"Yes",null,null,{"$f":"+O51-N53-Q53","v":-16},null,{"$f":"IF(+$I$2=\"Existing\",D25,IF($I$2=\"Standard\",E25,IF($I$2=\"Design 1\",F25,IF($I$2=\"Design 2\",G25,I25))))","v":4},null,null,{"$f":"IF(+$I$2=\"Existing\",D24,IF($I$2=\"Standard\",E24,IF($I$2=\"Design 1\",F24,IF($I$2=\"Design 2\",G24,I24))))","v":12},null,null,null,null,{"$f":"+Q53","v":12},null,null,{"$f":"+N53","v":4},{"$f":"+W51-V53-Y53","v":-16}]
[null,null,"Post-Mounted Delineators",null,"No",null,null,0,"Yes"]
[null,null,"Edgeline Pavement Markings or Profile Markings",null,"Yes",null,null,0.13824118691351761,"Yes"]
[null,null,"Shoulder Rumble Strips",null,"Yes",null,null,{"$f":"M150","v":0},"Yes"]
[null,null,"Centerline Rumble Strips",null,"No",null,null,{"$f":"M151","v":-0.16279069767441867},"Yes"]
[null,null,"Driveway Density (driveways per mile)",null,10,null,null,{"$f":"M152","v":-0.22388114201141129},0]
[null,null,"Lighting",null,"No",null,null,{"$f":"M153","v":-2.3499081529478438E-2},"Yes",null,null,null,null,null,null,null,null,null,"Tangent X-Section"]
[null,null,"Pavement Friction (skid number) ***",null,37,null,null,{"$f":"M154","v":0.28430956017940245},54]
[]
[null,null,"Traffic Control Element (Partial Score):",{"$f":"IF(ISERROR(D171), \"\", D171)","v":12},{"$f":"IF(ISERROR(E171), \"\", E171)","v":14},{"$f":"IF(ISERROR(F171), \"\", F171)","v":""},{"$f":"IF(ISERROR(G171), \"\", G171)","v":""},null,{"$f":"IF(ISERROR(I171), \"\", I171)","v":20}]
[null,null,"Total Safety Score",{"$f":"IF(OR(D$249>0, $I$315>0,ISERROR(D$201+D$171+D$125)),\"\",D$201+D$171+D$125)","v":""},{"$f":"IF(OR(E$249>0, $I$315>0,ISERROR(E$201+E$171+E$125)),\"\",E$201+E$171+E$125)","v":""},"","",null,""]
[]
[null,null,"*** Pavement friction/skid numbers will not be subject to open records requests ***",null,null,null,null,null,null,null," "]
[]
[]
[]
[null,null,null,null,null,null,null,null,null,null,null,null,null,null,null,null,null,null,"Curved X-Section"]
[null,{"$f":"+Construction!$I$10&\"  Total Available Points\"","v":"40  Total Available Points"}]
[null,"Roadside  Elements",null,"Existing","Standard","Design 1","Design 2",{"$f":"$H$23","v":"Marginal Safety for Standard (compared to Existing)"},"Optimal"]
[null,null,"Sideslope (Foreslope)",null,"1V:4H",null,null,{"$f":"M180","v":0},"1V:6H"]
[null,null,"Backslope",null,{"$f":"E72","v":"1V:4H"},null,null,{"$f":"M181","v":0},"1V:4H"]
[null,null,"SafetyEdge",null,"No",null,null,{"$f":"M182","v":-2.8188991921691331E-2},"Yes"]
[null,null,"Lateral Clearance to obstruction (ft)",null,30,null,null,{"$f":"M183","v":9.0307162971216326E-2},40,null,null,null,null,null,null,null,{"$f":"IF($I$2=\"Existing\",\"SCORE SUMMARY FOR EXISTING CONFIGURATION\", IF($I$2=\"Standard\",\"SCORE SUMMARY FOR STANDARD OPTION\",IF($I$2=\"Design 1\",\"SCORE SUMMARY FOR DESIGN 1 OPTION\",IF($I$2=\"Design 2\",\"SCORE SUMMARY FOR DESIGN 2 OPTION\", \"SCORE SUMMARY FOR OPTIMAL OPTION\"))))","v":"SCORE SUMMARY FOR STANDARD OPTION"}]
[null,null,"Obstruction Type",null,"Other Fixed Object",null,null,{"$f":"M184","v":0},"None",null,null,null,null,null,null,null,"GEOMETRIC DESIGN:",null,null,null,null,null,{"$f":"IF($I$2=\"Existing\",D45,IF($I$2=\"Standard\",E45,IF($I$2=\"Design 1\",F45,IF($I$2=\"Design 2\",G45,I45))))","v":""}]
[null,null,"Roadside Element (Partial Score):",{"$f":"IF(ISERR(D201),\"\",D201)","v":""},{"$f":"IF(ISERR(E201),\"\",E201)","v":27},{"$f":"IF(ISERR(F201),\"\",F201)","v":""},{"$f":"IF(ISERR(G201),\"\",G201)","v":""},null,{"$f":"IF(ISERR(I201),\"\",I201)","v":40},null,null,null,null,null,null,null,"TRAFFIC CONTROL:",null,null,null,null,null,{"$f":"IF($I$2=\"Existing\",D62,IF($I$2=\"Standard\",E62,IF($I$2=\"Design 1\",F62,IF($I$2=\"Design 2\",G62,I62))))","v":14}]
[null,null,"Total Safety Score",{"$f":"IF(OR(D$249>0, $I$315>0,ISERROR(D$201+D$171+D$125)),\"\",D$201+D$171+D$125)","v":""},{"$f":"IF(OR(E$249>0, $I$315>0,ISERROR(E$201+E$171+E$125)),\"\",E$201+E$171+E$125)","v":""},"","",null,"",null,null,null,null,null,null,null,"ROADSIDE:",null,null,null,null,null,{"$f":"IF($I$2=\"Existing\",D77,IF($I$2=\"Standard\",E77,IF($I$2=\"Design 1\",F77,IF($I$2=\"Design 2\",G77,I77))))","v":27}]
[null,null,null,null,null,null,null,null,null,null,null,null,null,null,null,null,"OVERALL SAFETY SCORE:",null,null,null,null,null,{"$f":"SUM(W76:X78)","v":41}]
[]
[]
[]
[null,"ADDITIONAL SIDESLOPE INFORMATION"]
[null,null,"Distance to Slope Toe from Shoulder (ft)",null,{"$f":"D84","v":0},{"$f":"E84","v":0},{"$f":"F84","v":0},null,{"$f":"G84","v":0}]
[null,"Minimum foreslope feasible within current ROW",null,null,{"$f":"IF(OR(ISBLANK($D$84), ISERROR(E206)), \"\", \"1V:\"&E206&\"H\")","v":""},{"$f":"IF(OR(ISBLANK($D$84), ISERROR(F206)), \"\", \"1V:\"&F206&\"H\")","v":""},{"$f":"IF(OR(ISBLANK($D$84), ISERROR(G206)), \"\", \"1V:\"&G206&\"H\")","v":""},null,{"$f":"IF(OR(ISBLANK($D$84), ISERROR(I206)), \"\", \"1V:\"&I206&\"H\")","v":""}]
[null,"Additional R/W needed on left side",null,null,{"$f":"IF(OR(ISBLANK($D$84), ISERROR(E210)),\"\", MAX(E210,E213))","v":""},{"$f":"IF(OR(ISBLANK($D$84), ISERROR(F210)), \"\", MAX(F210,F213))","v":""},{"$f":"IF(OR(ISBLANK($D$84), ISERROR(G210)),\"\", MAX(G210,G213))","v":""},null,{"$f":"IF(OR(ISBLANK($D$84), ISERROR(I210)),\"\", MAX(I210,I213))","v":""}]
[null,"Additional R/W needed on right side",null,null,{"$f":"IF(OR(ISBLANK($D$84), ISERROR(E211)), \"\", MAX(E211,E214))","v":""},{"$f":"IF(OR(ISBLANK($D$84), ISERROR(F211)), \"\", MAX(F211,F214))","v":""},{"$f":"IF(OR(ISBLANK($D$84), ISERROR(G211)),\"\", MAX(G211,G214))","v":""},null,{"$f":"IF(OR(ISBLANK($D$84), ISERROR(I211)),\"\", MAX(I211,I214))","v":""}]
[]
[]
[]
[]
[]
[]
[]
[null,null,null,null,null,null,null,null,null,{"$f":"1-I100/E100","v":0}]
[null,null,null,null,null,null,null,null,null,{"$f":"1-I101/E101","v":0.17431192660550465},"For Plot"]
[null,null,null,{"$f":"MAX(SUM(D103:D107)-5,$I$97)","v":{"$error":"#VALUE!"}},{"$f":"MAX(SUM(E103:E107)-5,$I$97)","v":{"$error":"#VALUE!"}},{"$f":"MAX(SUM(F103:F107)-5,$I$97)","v":{"$error":"#VALUE!"}},{"$f":"MAX(SUM(G103:G107)-5,$I$97)","v":{"$error":"#VALUE!"}},null,{"$f":"SUM(I103:I107)-5","v":{"$error":"#VALUE!"}},{"$f":"1-I102/E102","v":0},"relative to","Prefer"]
[null,null,null,null,null,null,null,null,null,{"$f":"1-I103/E103","v":{"$error":"#VALUE!"}},{"$f":"MATCH(K99,ModView,0)","v":1},{"$f":"MATCH(L99,ModView,0)","v":2}]
[null,"Geometric",null,null,null,null,null,null,null,null,{"$f":"I4","v":"Existing"},{"$f":"I2","v":"Standard"},"%"]
[null,null,"LW CMF",{"$f":"VLOOKUP(+D24,Construction!$C$3:$D$9,2)","v":{"$error":"#N/A"}},{"$f":"VLOOKUP(+E24,Construction!$C$3:$D$9,2)","v":1},{"$f":"VLOOKUP(+F24,Construction!$C$3:$D$9,2)","v":{"$error":"#N/A"}},{"$f":"VLOOKUP(+G24,Construction!$C$3:$D$9,2)","v":{"$error":"#N/A"}},{"$f":"H24","v":0},{"$f":"VLOOKUP(+I24,Construction!$C$3:$D$9,2)","v":1},null,{"$f":"INDEX($D100:$I100,K$98)","v":{"$error":"#N/A"}},{"$f":"INDEX($D100:$I100,L$98)","v":1},{"$f":"IF(ISERROR(1-L100/K100), 0, 1-L100/K100)","v":0}]
[null,null,"SW CMF",{"$f":"VLOOKUP(D25,Construction!$C$13:D23,2)","v":1.29},{"$f":"VLOOKUP(E25,Construction!$C$13:E23,2)","v":1.0900000000000001},{"$f":"VLOOKUP(F25,Construction!$C$13:F23,2)","v":1.29},{"$f":"VLOOKUP(G25,Construction!$C$13:G23,2)","v":1.29},{"$f":"IF($I$2=\"Existing\",(1-D101/E101),(IF($I$2=\"Design 1\",(1-F101/E101),(IF($I$2=\"Design 2\",(1-G101/E101),(IF($I$2=\"Optimal\",(1-I101/E101),0)))))))","v":0},{"$f":"VLOOKUP(I25,Construction!$C$13:I23,2)","v":0.9},null,{"$f":"INDEX($D101:$I101,K$98)","v":1.29},{"$f":"INDEX($D101:$I101,L$98)","v":1.0900000000000001},{"$f":"IF(ISERROR(1-L101/K101), 0, 1-L101/K101)","v":0.15503875968992242}]
[null,null,"Placeholder for super deficincy",1,1,1,1,0,1,null,{"$f":"INDEX($D102:$I102,K$98)","v":1},{"$f":"INDEX($D102:$I102,L$98)","v":1},0]
[null,null,"HC and Grade",{"$f":"D$134^D$127","v":1},{"$f":"E$134^E$127","v":{"$error":"#VALUE!"}},{"$f":"F$134^F$127","v":1},{"$f":"G$134^G$127","v":1},0,{"$f":"I$134^I$127","v":{"$error":"#VALUE!"}},null,{"$f":"INDEX($D103:$I103,K$98)","v":1},{"$f":"INDEX($D103:$I103,L$98)","v":{"$error":"#VALUE!"}},0]
[null,null,"HC and VC Crest type I",{"$f":"D$135^D$128","v":1},{"$f":"E$135^E$128","v":1},{"$f":"F$135^F$128","v":1},{"$f":"G$135^G$128","v":1},0,{"$f":"I$135^I$128","v":{"$error":"#VALUE!"}},null,{"$f":"INDEX($D104:$I104,K$98)","v":1},{"$f":"INDEX($D104:$I104,L$98)","v":1},0]
[null,null,"HC and VC Sag type I",{"$f":"D$136^D$129","v":1},{"$f":"E$136^E$129","v":1},{"$f":"F$136^F$129","v":1},{"$f":"G$136^G$129","v":1},0,{"$f":"I$136^I$129","v":{"$error":"#VALUE!"}},null,{"$f":"INDEX($D105:$I105,K$98)","v":1},{"$f":"INDEX($D105:$I105,L$98)","v":1},0]
[null,null,"HC and VC Crest type II",{"$f":"D$137^D$130","v":1},{"$f":"E$137^E$130","v":1},{"$f":"F$137^F$130","v":1},{"$f":"G$137^G$130","v":1},0,{"$f":"I$137^I$130","v":{"$error":"#VALUE!"}},{"$f":"1-I111/E111","v":{"$error":"#VALUE!"}},{"$f":"INDEX($D106:$I106,K$98)","v":1},{"$f":"INDEX($D106:$I106,L$98)","v":1},0]
[null,null,"HC and VC Sag type II",{"$f":"D$138^D$131","v":1},{"$f":"E$138^E$131","v":1},{"$f":"F$138^F$131","v":1},{"$f":"G$138^G$131","v":1},0,{"$f":"I$138^I$131","v":{"$error":"#VALUE!"}},{"$f":"1-I112/E112","v":{"$error":"#VALUE!"}},{"$f":"INDEX($D107:$I107,K$98)","v":1},{"$f":"INDEX($D107:$I107,L$98)","v":1},0]
[null,null,"Add TWLTL",{"$f":"IF(D$43=\"No\",1,CMFs!$F$17)","v":0.71},{"$f":"IF(E$43=\"No\",1,CMFs!$F$17)","v":1},{"$f":"IF(F$43=\"No\",1,CMFs!$F$17)","v":0.71},{"$f":"IF(G$43=\"No\",1,CMFs!$F$17)","v":0.71},0,{"$f":"IF(I$43=\"No\",1,CMFs!$F$17)","v":1},{"$f":"1-I113/E113","v":{"$error":"#VALUE!"}},{"$f":"INDEX($D108:$I108,K$98)","v":0.71},{"$f":"INDEX($D108:$I108,L$98)","v":1},-0.40845070422535223]
[null,null,"Passing Lane Type",{"$f":"IF(ISNUMBER(INDEX(PassLNCMF, MATCH(D44,Passing_Lane_Type,0))),INDEX(PassLNCMF, MATCH(D44,Passing_Lane_Type,0)),1)","v":1},{"$f":"IF(ISNUMBER(INDEX(PassLNCMF, MATCH(E44,Passing_Lane_Type,0))),INDEX(PassLNCMF, MATCH(E44,Passing_Lane_Type,0)),1)","v":1},{"$f":"IF(ISNUMBER(INDEX(PassLNCMF, MATCH(F44,Passing_Lane_Type,0))),INDEX(PassLNCMF, MATCH(F44,Passing_Lane_Type,0)),1)","v":1},{"$f":"IF(ISNUMBER(INDEX(PassLNCMF, MATCH(G44,Passing_Lane_Type,0))),INDEX(PassLNCMF, MATCH(G44,Passing_Lane_Type,0)),1)","v":1},0,{"$f":"IF(ISNUMBER(INDEX(PassLNCMF, MATCH(I44,Passing_Lane_Type,0))),INDEX(PassLNCMF, MATCH(I44,Passing_Lane_Type,0)),1)","v":0.65},{"$f":"1-I114/E114","v":{"$error":"#VALUE!"}},{"$f":"INDEX($D109:$I109,K$98)","v":1},{"$f":"INDEX($D109:$I109,L$98)","v":1},0]
[null,null,null,null,null,null,null,null,null,{"$f":"I115/E115","v":{"$error":"#VALUE!"}}]
[null,null,"COMBINED Calculated CMF",{"$f":"+D100*D101*D102*D103*D104*D105*D106*D107*D108*D109","v":{"$error":"#N/A"}},{"$f":"+E100*E101*E102*E103*E104*E105*E106*E107*E108*E109","v":{"$error":"#VALUE!"}},{"$f":"+F100*F101*F102*F103*F104*F105*F106*F107*F108*F109","v":{"$error":"#N/A"}},{"$f":"+G100*G101*G102*G103*G104*G105*G106*G107*G108*G109","v":{"$error":"#N/A"}},{"$f":"IF($I$2=\"Existing\",(D111),(IF($I$2=\"Design 1\",(F111),(IF($I$2=\"Design 2\",(G111),(IF($I$2=\"Optimal\",(I111),E111)))))))","v":{"$error":"#VALUE!"}},{"$f":"+I100*I101*I102*I103*I104*I105*I106*I107*I108*I109","v":{"$error":"#VALUE!"}},null,{"$f":"INDEX($D111:$I111,K$98)","v":{"$error":"#N/A"}},{"$f":"INDEX($D111:$I111,L$98)","v":{"$error":"#VALUE!"}},{"$f":"IF(ISERROR(1-L111/K111), 0, 1-L111/K111)","v":0}]
[null,null,"Calculated Relative to Design Standards (Column E)",{"$f":"+D111/$E$111","v":{"$error":"#N/A"}},{"$error":"#VALUE!"},{"$error":"#N/A"},{"$error":"#N/A"},{"$error":"#VALUE!"},{"$error":"#VALUE!"},null,{"$f":"INDEX($D112:$I112,K$98)","v":{"$error":"#N/A"}},{"$f":"INDEX($D112:$I112,L$98)","v":{"$error":"#VALUE!"}},0]
[null,null,"P(Crash)",{"$f":"+D112/(D112+1)","v":{"$error":"#N/A"}},{"$error":"#VALUE!"},{"$error":"#N/A"},{"$error":"#N/A"},{"$error":"#VALUE!"},{"$error":"#VALUE!"},null,{"$f":"INDEX($D113:$I113,K$98)","v":{"$error":"#N/A"}},{"$f":"INDEX($D113:$I113,L$98)","v":{"$error":"#VALUE!"}},0]
[null,null,"Factor Change on S curve",{"$f":"+D113/$E$113","v":{"$error":"#N/A"}},{"$error":"#VALUE!"},{"$error":"#N/A"},{"$error":"#N/A"},{"$error":"#VALUE!"},{"$error":"#VALUE!"},null,{"$f":"INDEX($D114:$I114,K$98)","v":{"$error":"#N/A"}},{"$f":"INDEX($D114:$I114,L$98)","v":{"$error":"#VALUE!"}},0]
[null,null,"Adjust to Scale of 100",{"$f":"+$I$114/D114*100","v":{"$error":"#VALUE!"}},{"$error":"#VALUE!"},{"$error":"#VALUE!"},{"$error":"#VALUE!"},{"$error":"#VALUE!"},{"$error":"#VALUE!"}]
[null,null,"Unadjusted Combined Relative to Standard",{"$f":"+D111/$E$111","v":{"$error":"#N/A"}},{"$error":"#VALUE!"},{"$error":"#N/A"},{"$error":"#N/A"},{"$error":"#VALUE!"},{"$error":"#VALUE!"},null,{"$f":"INDEX($D116:$I116,K$98)","v":{"$error":"#N/A"}},{"$f":"INDEX($D116:$I116,L$98)","v":{"$error":"#VALUE!"}},{"$f":"IF(ISERROR(1-L116/K116), 0, 1-L116/K116)","v":0}]
[null,null,null,null,null,null,null,null,null,{"$f":"I122/E122","v":{"$error":"#VALUE!"}}]
[null,null,"Adjusted for PA Basis",{"$f":"+D111*(1+1)/(1+D111*1)","v":{"$error":"#N/A"}},{"$error":"#VALUE!"},{"$error":"#N/A"},{"$error":"#N/A"},{"$f":"IF($I$2=\"Existing\",(D118),(IF($I$2=\"Design 1\",(F118),(IF($I$2=\"Design 2\",(G118),(IF($I$2=\"Optimal\",(I118),E118)))))))","v":{"$error":"#VALUE!"}},{"$error":"#VALUE!"},null,{"$f":"INDEX($D118:$I118,K$98)","v":{"$error":"#N/A"}},{"$f":"INDEX($D118:$I118,L$98)","v":{"$error":"#VALUE!"}},{"$f":"IF(ISERROR(1-L118/K118), 0, 1-L118/K118)","v":0}]
[null,null,"Corrected by Odds Ratio",{"$f":"+D118/$E$118","v":{"$error":"#N/A"}},{"$error":"#VALUE!"},{"$error":"#N/A"},{"$error":"#N/A"},{"$f":"IF($I$2=\"Existing\",(D119),(IF($I$2=\"Design 1\",(F119),(IF($I$2=\"Design 2\",(G119),(IF($I$2=\"Optimal\",(I119),E119)))))))","v":{"$error":"#VALUE!"}},{"$error":"#VALUE!"},null,{"$f":"INDEX($D119:$I119,K$98)","v":{"$error":"#N/A"}},{"$f":"INDEX($D119:$I119,L$98)","v":{"$error":"#VALUE!"}},0]
[null,null,"Pinned s",{"$f":"(1/D119)^$D123","v":{"$error":"#N/A"}},{"$error":"#VALUE!"},{"$error":"#N/A"},{"$error":"#N/A"},{"$error":"#VALUE!"},{"$error":"#VALUE!"},{"$f":"I125/E125","v":{"$error":"#VALUE!"}},{"$f":"INDEX($D120:$I120,K$98)","v":{"$error":"#N/A"}},{"$f":"INDEX($D120:$I120,L$98)","v":{"$error":"#VALUE!"}},0]
[null,null,null,{"$f":"(D120+$F124-1)/(1+(D120+$F124-1))","v":{"$error":"#N/A"}},{"$error":"#VALUE!"},{"$error":"#N/A"},{"$error":"#N/A"},{"$error":"#VALUE!"},{"$error":"#VALUE!"},null,{"$f":"INDEX($D121:$I121,K$98)","v":{"$error":"#N/A"}},{"$f":"INDEX($D121:$I121,L$98)","v":{"$error":"#VALUE!"}},0]
[null,null,"Score Odds Ratio with Optimal (old)",{"$f":"MIN(ROUND($I$119/D119*Construction!$I$8,0),$I122)","v":{"$error":"#VALUE!"}},{"$f":"MIN(ROUND($I$119/E119*Construction!$I$8,0),$I122)","v":{"$error":"#VALUE!"}},{"$f":"MIN(ROUND($I$119/F119*Construction!$I$8,0),$I122)","v":{"$error":"#VALUE!"}},{"$f":"MIN(ROUND($I$119/G119*Construction!$I$8,0),$I122)","v":{"$error":"#VALUE!"}},{"$f":"IF($I$2=\"Existing\",(D122),(IF($I$2=\"Design 1\",(F122),(IF($I$2=\"Design 2\",(G122),(IF($I$2=\"Optimal\",(I122),E122)))))))","v":{"$error":"#VALUE!"}},{"$f":"ROUND($I$119/I119*Construction!$I$8,0)","v":{"$error":"#VALUE!"}}]
[null,null,"Logistic1",{"$f":"LN((D124/(1-D124))/(0.5/0.5))/LN($E119/I119)","v":{"$error":"#VALUE!"}}]
[null,null,"Logistic Param",0.999,null,{"$f":"0.7/0.3","v":2.3333333333333335}]
[null,null,"Score ",{"$f":"MIN(ROUND(D121*Construction!$I$8,0),$I122)","v":{"$error":"#N/A"}},{"$f":"MIN(ROUND(E121*Construction!$I$8,0),$I122)","v":{"$error":"#VALUE!"}},{"$f":"MIN(ROUND(F121*Construction!$I$8,0),$I122)","v":{"$error":"#N/A"}},{"$f":"MIN(ROUND(G121*Construction!$I$8,0),$I122)","v":{"$error":"#N/A"}},{"$f":"MIN(ROUND(H121*Construction!$I$8,0),$I122)","v":{"$error":"#VALUE!"}},{"$f":"MIN(ROUND(I121*Construction!$I$8,0),$I122)","v":{"$error":"#VALUE!"}}]
[]
[null,null,"HC and Grade",{"$f":"IF($B$135,0,1)","v":1},{"$f":"IF($B$135,0,1)","v":1},{"$f":"IF($B$135,0,1)","v":1},{"$f":"IF($B$135,0,1)","v":1},{"$f":"IF($I$2=\"Existing\",(D127),(IF($I$2=\"Design 1\",(F127),(IF($I$2=\"Design 2\",(G127),(IF($I$2=\"Optimal\",(I127),E127)))))))","v":1},{"$f":"IF($B$135,0,1)","v":1}]
[null,null,"HC and VC Crest type I",{"$f":"IF(AND($B$135=1,SIGN(D$36)=1,ABS(D$36)<=ABS(D$36-D$37),D$42=\"Crest\"),1,0)","v":0},{"$f":"IF(AND($B$135=1, SIGN(IF(ISNUMBER(E$36),E$36,0))=1,ABS(IF(ISNUMBER(E$36),E$36,0)) <= ABS(IF(ISNUMBER(E$36),E$36,0)-IF(ISNUMBER(E$37),E$37,0)),E$42=\"Crest\"),1,0)","v":0},{"$f":"IF(AND($B$135=1,SIGN(F$36)=1,ABS(F$36)<=ABS(F$36-F$37),F$42=\"Crest\"),1,0)","v":0},{"$f":"IF(AND($B$135=1,SIGN(G$36)=1,ABS(G$36)<=ABS(G$36-G$37),G$42=\"Crest\"),1,0)","v":0},{"$f":"IF($I$2=\"Existing\",(D128),(IF($I$2=\"Design 1\",(F128),(IF($I$2=\"Design 2\",(G128),(IF($I$2=\"Optimal\",(I128),E128)))))))","v":0},{"$f":"IF(AND($B$135=1,SIGN(I$36)=1,ABS(I$36)<=ABS(I$36-IF(ISNUMBER(I$37), I$37,0)),I$42=\"Crest\"),1,0)","v":{"$error":"#VALUE!"}}]
["HC?",null,"HC and VC Sag type I",{"$f":"IF(AND($B$135=1,SIGN(D$36)=1,ABS(D$36)<=ABS(D$36-D$37),D$42=\"Sag\"),1,0)","v":0},{"$f":"IF(AND($B$135=1, SIGN(IF(ISNUMBER(E$36),E$36,0))=1,ABS(IF(ISNUMBER(E$36),E$36,0)) <= ABS(IF(ISNUMBER(E$36),E$36,0)-IF(ISNUMBER(E$37),E$37,0)),E$42=\"Sag\"),1,0)","v":0},{"$f":"IF(AND($B$135=1,SIGN(F$36)=1,ABS(F$36)<=ABS(F$36-F$37),F$42=\"Sag\"),1,0)","v":0},{"$f":"IF(AND($B$135=1,SIGN(G$36)=1,ABS(G$36)<=ABS(G$36-G$37),G$42=\"Sag\"),1,0)","v":0},{"$f":"IF($I$2=\"Existing\",(D129),(IF($I$2=\"Design 1\",(F129),(IF($I$2=\"Design 2\",(G129),(IF($I$2=\"Optimal\",(I129),E129)))))))","v":0},{"$f":"IF(AND($B$135=1,SIGN(I$36)=1,ABS(I$36)<=ABS(I$36-IF(ISNUMBER(I$37), I$37,0)),I$42=\"Sag\"),1,0)","v":{"$error":"#VALUE!"}}]
["VC?",null,"HC and VC Crest type II",{"$f":"IF(AND($B$135=1,D$42=\"Crest\",D$128=0),1,0)","v":0},{"$f":"IF(AND($B$135=1,E$42=\"Crest\",E$128=0),1,0)","v":0},{"$f":"IF(AND($B$135=1,F$42=\"Crest\",F$128=0),1,0)","v":0},{"$f":"IF(AND($B$135=1,G$42=\"Crest\",G$128=0),1,0)","v":0},{"$f":"IF($I$2=\"Existing\",(D130),(IF($I$2=\"Design 1\",(F130),(IF($I$2=\"Design 2\",(G130),(IF($I$2=\"Optimal\",(I130),E130)))))))","v":0},{"$f":"IF(AND($B$135=1,I$42=\"Crest\",I$128=0),1,0)","v":{"$error":"#VALUE!"}}]
[null,null,"HC and VC Sag type II",{"$f":"IF(AND($B$135=1,D$42=\"Sag\",D$129=0),1,0)","v":0},{"$f":"IF(AND($B$135=1,E$42=\"Sag\",E$129=0),1,0)","v":0},{"$f":"IF(AND($B$135=1,F$42=\"Sag\",F$129=0),1,0)","v":0},{"$f":"IF(AND($B$135=1,G$42=\"Sag\",G$129=0),1,0)","v":0},{"$f":"IF($I$2=\"Existing\",(D131),(IF($I$2=\"Design 1\",(F131),(IF($I$2=\"Design 2\",(G131),(IF($I$2=\"Optimal\",(I131),E131)))))))","v":0},{"$f":"IF(AND($B$135=1,I$42=\"Sag\",I$129=0),1,0)","v":{"$error":"#VALUE!"}}]
[null,"Yes/No"]
[null,null,"HC and VC:",null,{"$f":"EXP(0.042*ABS(D$36)+$B$134*0.16*LN(2*5730/IF(ISNUMBER(E$29),E$29,1)))","v":1}]
[null,{"$f":"IF(B27=\"Yes\",1,0)","v":0},"HC and Grade",{"$f":"IF($B$135=0,EXP(0.042*ABS(D$36)+$B$134*0.16*LN(2*5730/D$141)+4.16*$B$134/D$141/IF(ISNUMBER(D$30),D$30,999999)),1)","v":1},{"$f":"IF($B$135=0,EXP(0.042*ABS(E$36)+$B$134*0.16*LN(2*5730/E$141)+4.16*$B$134/E$141/IF(ISNUMBER(E$30),E$30,999999)),1)","v":{"$error":"#VALUE!"}},1,1,{"$f":"IF($B$135=0,EXP(0.042*ABS(H$36)+$B$134*0.16*LN(2*5730/IF(ISNUMBER(H$29),H$29,1))+4.16*$B$134/IF(ISNUMBER(H$29),H$29,1)/IF(ISNUMBER(H$30),H$30,1)),1)","v":{"$error":"#DIV/0!"}},{"$error":"#VALUE!"},null,{"$f":"INDEX($D134:$I134,K$98)","v":1},{"$f":"INDEX($D134:$I134,L$98)","v":{"$error":"#VALUE!"}},{"$f":"IF(ISERROR(1-L134/K134), 0, 1-L134/K134)","v":0}]
[null,{"$f":"IF(B34=\"Yes\",1,0)","v":0},"HC and VC Crest type I",{"$f":"IF($B$135=0,1,EXP(0.005648908*5730*ABS(+D$36-D$37)*$B$135/D$141*$B$134))","v":1},{"$f":"IF($B$135=0,1,EXP(0.005648908*5730*ABS(+E$36-E$37)*$B$135/E$141*$B$134))","v":1},1,1,{"$f":"IF($I$2=\"Existing\",(D135),(IF($I$2=\"Design 1\",(F135),(IF($I$2=\"Design 2\",(G135),(IF($I$2=\"Optimal\",(I135),E135)))))))","v":1},1,null,{"$f":"INDEX($D135:$I135,K$98)","v":1},{"$f":"INDEX($D135:$I135,L$98)","v":1},0]
[null,null,"HC and VC Sag type I",{"$f":"IF($B$135=0,1,EXP(9.15857042*$B$135/D$142+0.010284958*5730*$B$135*$B$134*ABS(+D$36-D$37)/D$141))","v":1},{"$f":"IF($B$135=0,1,EXP(9.15857042*$B$135/E$142+0.010284958*5730*$B$135*$B$134*ABS(+E$36-E$37)/E$141))","v":1},1,1,{"$f":"IF($I$2=\"Existing\",(D136),(IF($I$2=\"Design 1\",(F136),(IF($I$2=\"Design 2\",(G136),(IF($I$2=\"Optimal\",(I136),E136)))))))","v":1},1,null,{"$f":"INDEX($D136:$I136,K$98)","v":1},{"$f":"INDEX($D136:$I136,L$98)","v":1},0]
[null,null,"HC and VC Crest type II",{"$f":"IF($B$135=0,1,EXP(0.005648908*5730*ABS(+D$36-D$37)*$B$135/D$141*$B$134))","v":1},{"$f":"IF($B$135=0,1,EXP(0.005648908*5730*ABS(+E$36-E$37)*$B$135/E$141*$B$134))","v":1},1,1,{"$f":"IF($I$2=\"Existing\",(D137),(IF($I$2=\"Design 1\",(F137),(IF($I$2=\"Design 2\",(G137),(IF($I$2=\"Optimal\",(I137),E137)))))))","v":1},1,null,{"$f":"INDEX($D137:$I137,K$98)","v":1},{"$f":"INDEX($D137:$I137,L$98)","v":1},0]
[null,null,"HC and VC Sag type II",{"$f":"IF($B$135=0,1,(0.246011284*EXP(LN(0.188*2*5730/D$141)*$B$134)+0.7514288716*EXP(0.022*5730/D$141*ABS(D$36-D$37)*$B$135*$B$134)))","v":1},{"$f":"IF($B$135=0,1,(0.246011284*EXP(LN(0.188*2*5730/E$141)*$B$134)+0.7514288716*EXP(0.022*5730/E$141*ABS(E$36-E$37)*$B$135*$B$134)))","v":1},1,1,{"$f":"IF($I$2=\"Existing\",(D138),(IF($I$2=\"Design 1\",(F138),(IF($I$2=\"Design 2\",(G138),(IF($I$2=\"Optimal\",(I138),E138)))))))","v":1},1,null,{"$f":"INDEX($D138:$I138,K$98)","v":1},{"$f":"INDEX($D138:$I138,L$98)","v":1},0]
[]
[null,null,"Combined HZ and VT",{"$f":"MMULT(TRANSPOSE(D127:D131),D134:D138)","v":1},{"$f":"MMULT(TRANSPOSE(E127:E131),E134:E138)","v":{"$error":"#VALUE!"}},{"$f":"MMULT(TRANSPOSE(F127:F131),F134:F138)","v":1},{"$f":"MMULT(TRANSPOSE(G127:G131),G134:G138)","v":1},{"$f":"IF($I$2=\"Existing\",(D140),(IF($I$2=\"Design 1\",(F140),(IF($I$2=\"Design 2\",(G140),(IF($I$2=\"Optimal\",(I140),E140)))))))","v":{"$error":"#VALUE!"}},{"$f":"MMULT(TRANSPOSE(I127:I131),I134:I138)","v":{"$error":"#VALUE!"}},null,{"$f":"INDEX($D140:$I140,K$98)","v":1},{"$f":"INDEX($D140:$I140,L$98)","v":{"$error":"#VALUE!"}},{"$f":"IF(ISERROR(1-L140/K140), 0, 1-L140/K140)","v":0}]
[null,null,"effective R for calculation",{"$f":"IF(ISNUMBER(D29), D29, 99999999)","v":99999999},{"$f":"IF(ISNUMBER(E29), E29, 99999999)","v":590},99999999,99999999,null,590]
[null,null,"effective K for calculation",{"$f":"IF(ISNUMBER(D39), D39, 9999999)","v":9999999},{"$f":"IF(ISNUMBER(E39), E39, 9999999)","v":9999999},9999999,9999999,null,9999999]
[null,"Traffic"]
[null,null,null,"Existing","Standard","Design 1","Design 2"]
[null,null,"Advance static curve warning signs",{"$f":"IF(AND($B$27=\"Yes\",D$52=\"Yes\"),(Traffic!$F$4-1)*AVERAGE(Constraints!$F$37,Constraints!$H$37)/Constraints!$D$37+1,1)","v":1},{"$f":"IF(AND($B$27=\"Yes\",E$52=\"Yes\"),(Traffic!$F$4-1)*AVERAGE(Constraints!$F$37,Constraints!$H$37)/Constraints!$D$37+1,1)","v":1},{"$f":"IF(AND($B$27=\"Yes\",F$52=\"Yes\"),(Traffic!$F$4-1)*AVERAGE(Constraints!$F$37,Constraints!$H$37)/Constraints!$D$37+1,1)","v":1},{"$f":"IF(AND($B$27=\"Yes\",G$52=\"Yes\"),(Traffic!$F$4-1)*AVERAGE(Constraints!$F$37,Constraints!$H$37)/Constraints!$D$37+1,1)","v":1},{"$f":"IF($I$2=\"Existing\",(D145),(IF($I$2=\"Design 1\",(F145),(IF($I$2=\"Design 2\",(G145),(IF($I$2=\"Optimal\",(I145),E145)))))))","v":1},{"$f":"IF(AND($B$27=\"Yes\",I$52=\"Yes\"),(Traffic!$F$4-1)*AVERAGE(Constraints!$F$37,Constraints!$H$37)/Constraints!$D$37+1,1)","v":1},null,{"$f":"INDEX($D145:$I145,K$98)","v":1},{"$f":"INDEX($D145:$I145,L$98)","v":1},{"$f":"IF(ISERROR(1-L145/K145), 0, 1-L145/K145)","v":0}]
[null,null,"Install chevron signs on horizontal curves",{"$f":"IF(D$53=\"No\",1,(IF(AND($B$27=\"Yes\",D$24<11.5),((Traffic!$F$6-1)*(Constraints!$E$35+Constraints!$E$31))+1,1)))","v":1},{"$f":"IF(E$53=\"No\",1,(IF(AND($B$27=\"Yes\",E$24<11.5),((Traffic!$F$6-1)*(Constraints!$E$35+Constraints!$E$31))+1,1)))","v":1},{"$f":"IF(F$53=\"No\",1,(IF(AND($B$27=\"Yes\",F$24<11.5),((Traffic!$F$6-1)*(Constraints!$E$35+Constraints!$E$31))+1,1)))","v":1},{"$f":"IF(G$53=\"No\",1,(IF(AND($B$27=\"Yes\",G$24<11.5),((Traffic!$F$6-1)*(Constraints!$E$35+Constraints!$E$31))+1,1)))","v":1},{"$f":"IF($I$2=\"Existing\",(D146),(IF($I$2=\"Design 1\",(F146),(IF($I$2=\"Design 2\",(G146),(IF($I$2=\"Optimal\",(I146),E146)))))))","v":1},{"$f":"IF(I$53=\"No\",1,(IF(AND($B$27=\"Yes\",I$24<11.5),((Traffic!$F$6-1)*(Constraints!$E$35+Constraints!$E$31))+1,1)))","v":1},null,{"$f":"INDEX($D146:$I146,K$98)","v":1},{"$f":"INDEX($D146:$I146,L$98)","v":1},0]
[null,null,"Install post-mounted delineators",{"$f":"IF(AND($B$27=\"Yes\",D$54=\"Yes\"),(Traffic!$F$12-1)*Constraints!$E$36+1,1)","v":1},{"$f":"IF(AND($B$27=\"Yes\",E$54=\"Yes\"),(Traffic!$F$12-1)*Constraints!$E$36+1,1)","v":1},{"$f":"IF(AND($B$27=\"Yes\",F$54=\"Yes\"),(Traffic!$F$12-1)*Constraints!$E$36+1,1)","v":1},{"$f":"IF(AND($B$27=\"Yes\",G$54=\"Yes\"),(Traffic!$F$12-1)*Constraints!$E$36+1,1)","v":1},{"$f":"IF($I$2=\"Existing\",(D147),(IF($I$2=\"Design 1\",(F147),(IF($I$2=\"Design 2\",(G147),(IF($I$2=\"Optimal\",(I147),E147)))))))","v":1},{"$f":"IF(AND($B$27=\"Yes\",I$54=\"Yes\"),(Traffic!$F$12-1)*Constraints!$E$36+1,1)","v":1},null,{"$f":"INDEX($D147:$I147,K$98)","v":1},{"$f":"INDEX($D147:$I147,L$98)","v":1},0]
[null,null,"Install edgeline  or Profile pavement markings ",{"$f":"IF(D$55=\"Yes\",Traffic!$F$18*0.5+((Traffic!$F$20*(Constraints!$H$36+Constraints!$H$32)+1*(Constraints!$H$37-(Constraints!$H$36+Constraints!$H$32)))/Constraints!$H$37)*0.5,1)","v":1},{"$f":"IF(E$55=\"Yes\",Traffic!$F$18*0.5+((Traffic!$F$20*(Constraints!$H$36+Constraints!$H$32)+1*(Constraints!$H$37-(Constraints!$H$36+Constraints!$H$32)))/Constraints!$H$37)*0.5,1)","v":0.86175881308648239},{"$f":"IF(F$55=\"Yes\",Traffic!$F$18*0.5+((Traffic!$F$20*(Constraints!$H$36+Constraints!$H$32)+1*(Constraints!$H$37-(Constraints!$H$36+Constraints!$H$32)))/Constraints!$H$37)*0.5,1)","v":1},{"$f":"IF(G$55=\"Yes\",Traffic!$F$18*0.5+((Traffic!$F$20*(Constraints!$H$36+Constraints!$H$32)+1*(Constraints!$H$37-(Constraints!$H$36+Constraints!$H$32)))/Constraints!$H$37)*0.5,1)","v":1},{"$f":"IF($I$2=\"Existing\",(D148),(IF($I$2=\"Design 1\",(F148),(IF($I$2=\"Design 2\",(G148),(IF($I$2=\"Optimal\",(I148),E148)))))))","v":0.86175881308648239},{"$f":"IF(I$55=\"Yes\",Traffic!$F$18*0.5+((Traffic!$F$20*(Constraints!$H$36+Constraints!$H$32)+1*(Constraints!$H$37-(Constraints!$H$36+Constraints!$H$32)))/Constraints!$H$37)*0.5,1)","v":0.86175881308648239},null,{"$f":"INDEX($D148:$I148,K$98)","v":1},{"$f":"INDEX($D148:$I148,L$98)","v":0.86175881308648239},0.13824118691351761]
[null,null,"Profiles",1,1,1,1,1,1,null,{"$f":"INDEX($D149:$I149,K$98)","v":1},{"$f":"INDEX($D149:$I149,L$98)","v":1},0]
[null,null,"Shoulder rumble strips",{"$f":"IF(D$56=\"No\",1,(Traffic!$F$27*(Constraints!$H$36+Constraints!$H$32)+1*(Constraints!$H$37-(Constraints!$H$36+Constraints!$H$32)))/Constraints!$H$37)","v":0.89760950690192376},{"$f":"IF(E$56=\"No\",1,(Traffic!$F$27*(Constraints!$H$36+Constraints!$H$32)+1*(Constraints!$H$37-(Constraints!$H$36+Constraints!$H$32)))/Constraints!$H$37)","v":0.89760950690192376},{"$f":"IF(F$56=\"No\",1,(Traffic!$F$27*(Constraints!$H$36+Constraints!$H$32)+1*(Constraints!$H$37-(Constraints!$H$36+Constraints!$H$32)))/Constraints!$H$37)","v":0.89760950690192376},{"$f":"IF(G$56=\"No\",1,(Traffic!$F$27*(Constraints!$H$36+Constraints!$H$32)+1*(Constraints!$H$37-(Constraints!$H$36+Constraints!$H$32)))/Constraints!$H$37)","v":0.89760950690192376},{"$f":"IF($I$2=\"Existing\",(D150),(IF($I$2=\"Design 1\",(F150),(IF($I$2=\"Design 2\",(G150),(IF($I$2=\"Optimal\",(I150),E150)))))))","v":0.89760950690192376},{"$f":"IF(I$56=\"No\",1,(Traffic!$F$27*(Constraints!$H$36+Constraints!$H$32)+1*(Constraints!$H$37-(Constraints!$H$36+Constraints!$H$32)))/Constraints!$H$37)","v":0.89760950690192376},null,{"$f":"INDEX($D150:$I150,K$98)","v":0.89760950690192376},{"$f":"INDEX($D150:$I150,L$98)","v":0.89760950690192376},0]
[null,null,"Install centerline rumble strips",{"$f":"IF(D$57=\"No\",1,Traffic!$F$30)","v":0.86},{"$f":"IF(E$57=\"No\",1,Traffic!$F$30)","v":1},{"$f":"IF(F$57=\"No\",1,Traffic!$F$30)","v":0.86},{"$f":"IF(G$57=\"No\",1,Traffic!$F$30)","v":0.86},{"$f":"IF($I$2=\"Existing\",(D151),(IF($I$2=\"Design 1\",(F151),(IF($I$2=\"Design 2\",(G151),(IF($I$2=\"Optimal\",(I151),E151)))))))","v":1},{"$f":"IF(I$57=\"No\",1,Traffic!$F$30)","v":0.86},null,{"$f":"INDEX($D151:$I151,K$98)","v":0.86},{"$f":"INDEX($D151:$I151,L$98)","v":1},-0.16279069767441867]
[null,null,"Driveway Density (driveways per mile)",{"$f":"EXP(-LN(Traffic!$F$32)*(D$58-$E$58))","v":0.81707280688754669},{"$f":"EXP(-LN(Traffic!$F$32)*(E$58-$E$58))","v":1},{"$f":"EXP(-LN(Traffic!$F$32)*(F$58-$E$58))","v":0.81707280688754669},{"$f":"EXP(-LN(Traffic!$F$32)*(G$58-$E$58))","v":0.81707280688754669},{"$f":"IF($I$2=\"Existing\",(D152),(IF($I$2=\"Design 1\",(F152),(IF($I$2=\"Design 2\",(G152),(IF($I$2=\"Optimal\",(I152),E152)))))))","v":1},{"$f":"EXP(-LN(Traffic!$F$32)*(I$58-$E$58))","v":0.81707280688754669},null,{"$f":"INDEX($D152:$I152,K$98)","v":0.81707280688754669},{"$f":"INDEX($D152:$I152,L$98)","v":1},-0.22388114201141129]
[null,null,"Install lighting",{"$f":"IF(D$59=\"No\",1,1-(((1-Traffic!$F$55*Constraints!$H$37-Constraints!$F$37/3)+((1-Traffic!$F$55*Constraints!$D$37-Constraints!$H$37)))*$S$19+((1-Traffic!$F$57)*Constraints!$F$37/3))/Constraints!$D$37)","v":0.977040446881142},{"$f":"IF(E$59=\"No\",1,1-(((1-Traffic!$F$55*Constraints!$H$37-Constraints!$F$37/3)+((1-Traffic!$F$55*Constraints!$D$37-Constraints!$H$37)))*$S$19+((1-Traffic!$F$57)*Constraints!$F$37/3))/Constraints!$D$37)","v":1},{"$f":"IF(F$59=\"No\",1,1-(((1-Traffic!$F$55*Constraints!$H$37-Constraints!$F$37/3)+((1-Traffic!$F$55*Constraints!$D$37-Constraints!$H$37)))*$S$19+((1-Traffic!$F$57)*Constraints!$F$37/3))/Constraints!$D$37)","v":0.977040446881142},{"$f":"IF(G$59=\"No\",1,1-(((1-Traffic!$F$55*Constraints!$H$37-Constraints!$F$37/3)+((1-Traffic!$F$55*Constraints!$D$37-Constraints!$H$37)))*$S$19+((1-Traffic!$F$57)*Constraints!$F$37/3))/Constraints!$D$37)","v":0.977040446881142},{"$f":"IF($I$2=\"Existing\",(D153),(IF($I$2=\"Design 1\",(F153),(IF($I$2=\"Design 2\",(G153),(IF($I$2=\"Optimal\",(I153),E153)))))))","v":1},{"$f":"IF(I$59=\"No\",1,1-(((1-Traffic!$F$55*Constraints!$H$37-Constraints!$F$37/3)+((1-Traffic!$F$55*Constraints!$D$37-Constraints!$H$37)))*$S$19+((1-Traffic!$F$57)*Constraints!$F$37/3))/Constraints!$D$37)","v":0.977040446881142},null,{"$f":"INDEX($D153:$I153,K$98)","v":0.977040446881142},{"$f":"INDEX($D153:$I153,L$98)","v":1},-2.3499081529478438E-2]
[null,null,"Pavement friction (skid number)",{"$f":"EXP(LN(Traffic!$F$49)*(D$60-$E$60))","v":1.3972521419325798},{"$f":"EXP(LN(Traffic!$F$49)*(E$60-$E$60))","v":1},{"$f":"IF(MATCH(F60,SkidNums,0)=3, $D154,EXP(LN(Traffic!$F$49)*(RIGHT(F$60,2)-$E$60)))","v":{"$error":"#N/A"}},{"$f":"IF(MATCH(G60,SkidNums,0)=3, $D154,EXP(LN(Traffic!$F$49)*(RIGHT(G$60,2)-$E$60)))","v":{"$error":"#N/A"}},{"$f":"IF($I$2=\"Existing\",(D154),(IF($I$2=\"Design 1\",(F154),(IF($I$2=\"Design 2\",(G154),(IF($I$2=\"Optimal\",(I154),E154)))))))","v":1},{"$f":"EXP(LN(Traffic!$F$49)*(I$60-$E$60))","v":0.85753553626991963},null,{"$f":"INDEX($D154:$I154,K$98)","v":1.3972521419325798},{"$f":"INDEX($D154:$I154,L$98)","v":1},0.28430956017940245]
[]
[]
[null,null,"COMBINED Calculated CMF",{"$f":"+D145*D146*D147*D148*D149*D150*D151*D152*D153*D154","v":0.86106111787419426},{"$f":"+E145*E146*E147*E148*E149*E150*E151*E152*E153*E154","v":0.7735229032829446},{"$f":"+F145*F146*F147*F148*F149*F150*F151*F152*F153*F154","v":{"$error":"#N/A"}},{"$f":"+G145*G146*G147*G148*G149*G150*G151*G152*G153*G154","v":{"$error":"#N/A"}},{"$f":"IF($I$2=\"Existing\",(D157),(IF($I$2=\"Design 1\",(F157),(IF($I$2=\"Design 2\",(G157),(IF($I$2=\"Optimal\",(I157),E157)))))))","v":0.7735229032829446},{"$f":"+I145*I146*I147*I148*I149*I150*I151*I152*I153*I154","v":0.45540422392050506},null,{"$f":"INDEX($D157:$I157,K$98)","v":0.86106111787419426},{"$f":"INDEX($D157:$I157,L$98)","v":0.7735229032829446},{"$f":"IF(ISERROR(1-L157/K157), 0, 1-L157/K157)","v":0.10166318368592209}]
[null,null,"Calculated Relative to Design Standards (Column E)",{"$f":"+D157/$E$157","v":1.1131682258142903},{"$f":"+E157/$E$157","v":1},{"$f":"+F157/$E$157","v":{"$error":"#N/A"}},{"$f":"+G157/$E$157","v":{"$error":"#N/A"}},1,{"$f":"+I157/$E$157","v":0.58874045227064742},null,{"$f":"INDEX($D158:$I158,K$98)","v":1.1131682258142903},{"$f":"INDEX($D158:$I158,L$98)","v":1},0.1016631836859222]
[null,null,"P(Crash)",{"$f":"+D158/(D158+1)","v":0.52677690882151185},{"$f":"+E158/(E158+1)","v":0.5},{"$f":"+F158/(F158+1)","v":{"$error":"#N/A"}},{"$f":"+G158/(G158+1)","v":{"$error":"#N/A"}},0.5,{"$f":"+I158/(I158+1)","v":0.37057056829465901}]
[null,null,"Factor Change on S curve",{"$f":"+D159/$E$159","v":1.0535538176430237},{"$f":"+E159/$E$159","v":1},{"$f":"+F159/$E$159","v":{"$error":"#N/A"}},{"$f":"+G159/$E$159","v":{"$error":"#N/A"}},1,{"$f":"+I159/$E$159","v":0.74114113658931802}]
[null,null,"Adjust to Scale of 100",{"$f":"+$I$114/D160*100","v":{"$error":"#VALUE!"}},{"$f":"+$I$114/E160*100","v":{"$error":"#VALUE!"}},{"$f":"+$I$114/F160*100","v":{"$error":"#VALUE!"}},{"$f":"+$I$114/G160*100","v":{"$error":"#VALUE!"}},{"$error":"#VALUE!"},{"$f":"+$I$114/I160*100","v":{"$error":"#VALUE!"}}]
[null,null,"Unadjusted Combined Relative to Standard",{"$f":"+D157/$E$157","v":1.1131682258142903},{"$f":"+E157/$E$157","v":1},{"$f":"+F157/$E$157","v":{"$error":"#N/A"}},{"$f":"+G157/$E$157","v":{"$error":"#N/A"}},1,{"$f":"+I157/$E$157","v":0.58874045227064742}]
[null,null,null,null,null,null,null,0,null,{"$f":"I168/E168","v":1.4285714285714286}]
[null,null,"Adjusted for PA Basis",{"$f":"+D157*(1+1)/(1+D157*1)","v":0.92534426688549098},{"$f":"+E157*(1+1)/(1+E157*1)","v":0.8723010025425515},{"$f":"+F157*(1+1)/(1+F157*1)","v":{"$error":"#N/A"}},{"$f":"+G157*(1+1)/(1+G157*1)","v":{"$error":"#N/A"}},0.8723010025425515,{"$f":"+I157*(1+1)/(1+I157*1)","v":0.62581132641453641}]
[null,null,"Corrected by Odds Ratio",{"$f":"+D164/$E$164","v":1.0608084413388623},{"$f":"+E164/$E$164","v":1},{"$f":"+F164/$E$164","v":{"$error":"#N/A"}},{"$f":"+G164/$E$164","v":{"$error":"#N/A"}},1,{"$f":"+I164/$E$164","v":0.71742589380322175}]
[null,null,null,{"$f":"(1/D165)^$D169","v":0.29295399474123779},1,{"$error":"#N/A"},{"$error":"#N/A"},1,998.99999999999955,{"$f":"I171/E171","v":1.4285714285714286}]
[null,null,null,{"$f":"(D166+$F170-1)/(1+(D166+$F170-1))","v":0.61923435059440457},0.70000000000000007,{"$error":"#N/A"},{"$error":"#N/A"},0.70000000000000007,0.99900133155792281]
[null,null,"Score Odds Ratio with Optimal as 100 (old)",{"$f":"MIN(ROUND($I$165/D165*Construction!$I$9,0),$I168)","v":14},{"$f":"MIN(ROUND($I$165/E165*Construction!$I$9,0),$I168)","v":14},{"$f":"MIN(ROUND($I$165/F165*Construction!$I$9,0),$I168)","v":{"$error":"#N/A"}},{"$f":"MIN(ROUND($I$165/G165*Construction!$I$9,0),$I168)","v":{"$error":"#N/A"}},null,{"$f":"ROUND($I$165/I165*Construction!$I$9,0)","v":20}]
[null,null,"Logistic1",{"$f":"LN((D170/(1-D170))/(0.5/0.5))/LN($E165/I165)","v":20.798114554240879}]
[null,null,"Logistic Param",0.999,null,{"$f":"0.7/0.3","v":2.3333333333333335}]
[null,null,"Score ",{"$f":"MIN(ROUND(D167*Construction!$I$9,0),$I168)","v":12},{"$f":"MIN(ROUND(E167*Construction!$I$9,0),$I168)","v":14},{"$f":"MIN(ROUND(F167*Construction!$I$9,0),$I168)","v":{"$error":"#N/A"}},{"$f":"MIN(ROUND(G167*Construction!$I$9,0),$I168)","v":{"$error":"#N/A"}},null,{"$f":"MIN(ROUND(I167*Construction!$I$9,0),$I168)","v":20}]
[]
[]
[]
[]
[]
[]
[null,"Roadsde",null,"Existing","Standard","Design 1","Design 2"]
[null,null,null,{"$f":"MID(D72,FIND(\":\",D72,1)+1,FIND(\"H\",D72,1)-FIND(\":\",D72,1)-1)+0","v":{"$error":"#VALUE!"}},{"$f":"MID(E72,FIND(\":\",E72,1)+1,FIND(\"H\",E72,1)-FIND(\":\",E72,1)-1)+0","v":4},{"$f":"MID(F72,FIND(\":\",F72,1)+1,FIND(\"H\",F72,1)-FIND(\":\",F72,1)-1)+0","v":{"$error":"#VALUE!"}},{"$f":"MID(G72,FIND(\":\",G72,1)+1,FIND(\"H\",G72,1)-FIND(\":\",G72,1)-1)+0","v":{"$error":"#VALUE!"}},null,{"$f":"MID(I72,FIND(\":\",I72,1)+1,FIND(\"H\",I72,1)-FIND(\":\",I72,1)-1)+0","v":6},null,{"$f":"INDEX($D179:$I179,K$98)","v":{"$error":"#VALUE!"}},{"$f":"INDEX($D179:$I179,L$98)","v":4},{"$f":"IF(ISERROR(1-L179/K179), 0, 1-L179/K179)","v":0}]
[null,null,"Sideslope (Foreslope)",{"$f":"IF(D179<=3,1,IF(OR(D179=4,D179=5),(Roadside!$F$15-1)*Constraints!$H$37/Constraints!$D$37+1,(Roadside!$F$15*Roadside!$F$16-1)*Constraints!$H$37/Constraints!$D$37+1))","v":{"$error":"#VALUE!"}},{"$f":"IF(E179<=3,1,IF(OR(E179=4,E179=5),(Roadside!$F$15-1)*Constraints!$H$37/Constraints!$D$37+1,(Roadside!$F$15*Roadside!$F$16-1)*Constraints!$H$37/Constraints!$D$37+1))","v":0.8286893555394641},{"$f":"IF(F179<=3,1,IF(OR(F179=4,F179=5),(Roadside!$F$15-1)*Constraints!$H$37/Constraints!$D$37+1,(Roadside!$F$15*Roadside!$F$16-1)*Constraints!$H$37/Constraints!$D$37+1))","v":{"$error":"#VALUE!"}},{"$f":"IF(G179<=3,1,IF(OR(G179=4,G179=5),(Roadside!$F$15-1)*Constraints!$H$37/Constraints!$D$37+1,(Roadside!$F$15*Roadside!$F$16-1)*Constraints!$H$37/Constraints!$D$37+1))","v":{"$error":"#VALUE!"}},{"$f":"IF($I$2=\"Existing\",(D180),(IF($I$2=\"Design 1\",(F180),(IF($I$2=\"Design 2\",(G180),(IF($I$2=\"Optimal\",(I180),E180)))))))","v":0.8286893555394641},{"$f":"IF(I179<=3,1,IF(OR(I179=4,I179=5),(Roadside!$F$15-1)*Constraints!$H$37/Constraints!$D$37+1,(Roadside!$F$15*Roadside!$F$16-1)*Constraints!$H$37/Constraints!$D$37+1))","v":0.77664355022240605},null,{"$f":"INDEX($D180:$I180,K$98)","v":{"$error":"#VALUE!"}},{"$f":"INDEX($D180:$I180,L$98)","v":0.8286893555394641},0]
[null,null,"Backslope",1,1,1,1,{"$f":"IF($I$2=\"Existing\",(D181),(IF($I$2=\"Design 1\",(F181),(IF($I$2=\"Design 2\",(G181),(IF($I$2=\"Optimal\",(I181),E181)))))))","v":1},1,null,{"$f":"INDEX($D181:$I181,K$98)","v":1},{"$f":"INDEX($D181:$I181,L$98)","v":1},0]
[null,null,"SafetyEdge",{"$f":"IF(D$74=\"No\",1,(Roadside!$F$23-1)*AVERAGE(Constraints!$H$37,Constraints!$F$37)/Constraints!$D$37+1)","v":0.97258384193648495},{"$f":"IF(E$74=\"No\",1,(Roadside!$F$23-1)*AVERAGE(Constraints!$H$37,Constraints!$F$37)/Constraints!$D$37+1)","v":1},{"$f":"IF(F$74=\"No\",1,(Roadside!$F$23-1)*AVERAGE(Constraints!$H$37,Constraints!$F$37)/Constraints!$D$37+1)","v":0.97258384193648495},{"$f":"IF(G$74=\"No\",1,(Roadside!$F$23-1)*AVERAGE(Constraints!$H$37,Constraints!$F$37)/Constraints!$D$37+1)","v":0.97258384193648495},{"$f":"IF($I$2=\"Existing\",(D182),(IF($I$2=\"Design 1\",(F182),(IF($I$2=\"Design 2\",(G182),(IF($I$2=\"Optimal\",(I182),E182)))))))","v":1},{"$f":"IF(I$74=\"No\",1,(Roadside!$F$23-1)*AVERAGE(Constraints!$H$37,Constraints!$F$37)/Constraints!$D$37+1)","v":0.97258384193648495},null,{"$f":"INDEX($D182:$I182,K$98)","v":0.97258384193648495},{"$f":"INDEX($D182:$I182,L$98)","v":1},-2.8188991921691331E-2]
[null,null,"Lateral Clearance (ft)",{"$f":"IF($B$27=\"Yes\",((EXP(LN(Roadside!$F$11)*(IF(D$76=\"None\",40,D$75)-30)/30)-1))*Constraints!$H$36/Constraints!$D$37+1,((EXP(LN(Roadside!$F$10)*(IF(D$76=\"None\",40,D$75)-30)/30)-1))*Constraints!$H$36/Constraints!$D$37+1)","v":1.0992721491203288},{"$f":"IF($B$27=\"Yes\",((EXP(LN(Roadside!$F$11)*(IF(E$76=\"None\",40,E$75)-30)/30)-1))*Constraints!$H$36/Constraints!$D$37+1,((EXP(LN(Roadside!$F$10)*(IF(E$76=\"None\",40,E$75)-30)/30)-1))*Constraints!$H$36/Constraints!$D$37+1)","v":1},{"$f":"IF($B$27=\"Yes\",((EXP(LN(Roadside!$F$11)*(IF(F$76=\"None\",40,F$75)-30)/30)-1))*Constraints!$H$36/Constraints!$D$37+1,((EXP(LN(Roadside!$F$10)*(IF(F$76=\"None\",40,F$75)-30)/30)-1))*Constraints!$H$36/Constraints!$D$37+1)","v":1.0992721491203288},{"$f":"IF($B$27=\"Yes\",((EXP(LN(Roadside!$F$11)*(IF(G$76=\"None\",40,G$75)-30)/30)-1))*Constraints!$H$36/Constraints!$D$37+1,((EXP(LN(Roadside!$F$10)*(IF(G$76=\"None\",40,G$75)-30)/30)-1))*Constraints!$H$36/Constraints!$D$37+1)","v":1.0992721491203288},{"$f":"IF($I$2=\"Existing\",(D183),(IF($I$2=\"Design 1\",(F183),(IF($I$2=\"Design 2\",(G183),(IF($I$2=\"Optimal\",(I183),E183)))))))","v":1},{"$f":"IF($B$27=\"Yes\",((EXP(LN(Roadside!$F$11)*(IF(I$76=\"None\",40,I$75)-30)/30)-1))*Constraints!$H$36/Constraints!$D$37+1,((EXP(LN(Roadside!$F$10)*(IF(I$76=\"None\",40,I$75)-30)/30)-1))*Constraints!$H$36/Constraints!$D$37+1)","v":0.97455184373954995},null,{"$f":"INDEX($D183:$I183,K$98)","v":1.0992721491203288},{"$f":"INDEX($D183:$I183,L$98)","v":1},9.0307162971216326E-2]
[null,null,"Fixed Object Type",{"$f":"IF(D$76=\"Guardrail\",(Roadside!$F$25-1)*(($I$75-D$75)/$I$75)^2*Constraints!$H$36/Constraints!$D$37+1,1)","v":1},{"$f":"IF(E$76=\"Guardrail\",(Roadside!$F$25-1)*(($I$75-E$75)/$I$75)^2*Constraints!$H$36/Constraints!$D$37+1,1)","v":1},{"$f":"IF(F$76=\"Guardrail\",(Roadside!$F$25-1)*(($I$75-F$75)/$I$75)^2*Constraints!$H$36/Constraints!$D$37+1,1)","v":1},{"$f":"IF(G$76=\"Guardrail\",(Roadside!$F$25-1)*(($I$75-G$75)/$I$75)^2*Constraints!$H$36/Constraints!$D$37+1,1)","v":1},{"$f":"IF($I$2=\"Existing\",(D184),(IF($I$2=\"Design 1\",(F184),(IF($I$2=\"Design 2\",(G184),(IF($I$2=\"Optimal\",(I184),E184)))))))","v":1},{"$f":"IF(I$76=\"Guardrail\",(Roadside!$F$25-1)*(($I$75-I$75)/$I$75)^2*Constraints!$H$36/Constraints!$D$37+1,1)","v":1},null,{"$f":"INDEX($D184:$I184,K$98)","v":1},{"$f":"INDEX($D184:$I184,L$98)","v":1},0]
[]
[]
[null,null,"COMBINED Calculated CMF",{"$f":"+D180*D181*D182*D183*D184","v":{"$error":"#VALUE!"}},{"$f":"+E180*E181*E182*E183*E184","v":0.8286893555394641},{"$f":"+F180*F181*F182*F183*F184","v":{"$error":"#VALUE!"}},{"$f":"+G180*G181*G182*G183*G184","v":{"$error":"#VALUE!"}},{"$f":"IF($I$2=\"Existing\",(D187),(IF($I$2=\"Design 1\",(F187),(IF($I$2=\"Design 2\",(G187),(IF($I$2=\"Optimal\",(I187),E187)))))))","v":0.8286893555394641},{"$f":"+I180*I181*I182*I183*I184","v":0.73612867842813945}]
[null,null,"Calculated Relative to Design Standards (Column E)",{"$f":"+D187/$E$187","v":{"$error":"#VALUE!"}},{"$f":"+E187/$E$187","v":1},{"$f":"+F187/$E$187","v":{"$error":"#VALUE!"}},{"$f":"+G187/$E$187","v":{"$error":"#VALUE!"}},1,{"$f":"+I187/$E$187","v":0.88830473507039431}]
[null,null,"P(Crash)",{"$f":"+D188/(D188+1)","v":{"$error":"#VALUE!"}},{"$f":"+E188/(E188+1)","v":0.5},{"$f":"+F188/(F188+1)","v":{"$error":"#VALUE!"}},{"$f":"+G188/(G188+1)","v":{"$error":"#VALUE!"}},0.5,{"$f":"+I188/(I188+1)","v":0.47042445987261644}]
[null,null,"Factor Change on S curve",{"$f":"+D189/$E$189","v":{"$error":"#VALUE!"}},{"$f":"+E189/$E$189","v":1},{"$f":"+F189/$E$189","v":{"$error":"#VALUE!"}},{"$f":"+G189/$E$189","v":{"$error":"#VALUE!"}},1,{"$f":"+I189/$E$189","v":0.94084891974523288}]
[null,null,"Adjust to Scale of 100",{"$f":"+$I$114/D190*100","v":{"$error":"#VALUE!"}},{"$f":"+$I$114/E190*100","v":{"$error":"#VALUE!"}},{"$f":"+$I$114/F190*100","v":{"$error":"#VALUE!"}},{"$f":"+$I$114/G190*100","v":{"$error":"#VALUE!"}},{"$error":"#VALUE!"},{"$f":"+$I$114/I190*100","v":{"$error":"#VALUE!"}}]
[null,null,"Unadjusted Combined Relative to Standard",{"$f":"+D187/$E$187","v":{"$error":"#VALUE!"}},{"$f":"+E187/$E$187","v":1},{"$f":"+F187/$E$187","v":{"$error":"#VALUE!"}},{"$f":"+G187/$E$187","v":{"$error":"#VALUE!"}},1,{"$f":"+I187/$E$187","v":0.88830473507039431}]
[null,null,null,null,null,null,null,null,null,{"$f":"I198/E198","v":1.1111111111111112}]
[null,null,"Adjusted for PA Basis",{"$f":"+D187*(1+1)/(1+D187*1)","v":{"$error":"#VALUE!"}},{"$f":"+E187*(1+1)/(1+E187*1)","v":0.90632053282226321},{"$f":"+F187*(1+1)/(1+F187*1)","v":{"$error":"#VALUE!"}},{"$f":"+G187*(1+1)/(1+G187*1)","v":{"$error":"#VALUE!"}},{"$f":"IF($I$2=\"Existing\",(D194),(IF($I$2=\"Design 1\",(F194),(IF($I$2=\"Design 2\",(G194),(IF($I$2=\"Optimal\",(I194),E194)))))))","v":0.90632053282226321},{"$f":"+I187*(1+1)/(1+I187*1)","v":0.84801165671039724}]
[null,null,"Corrected by Odds Ratio",{"$f":"+D187/$E$187","v":{"$error":"#VALUE!"}},{"$f":"+E187/$E$187","v":1},{"$f":"+F187/$E$187","v":{"$error":"#VALUE!"}},{"$f":"+G187/$E$187","v":{"$error":"#VALUE!"}},{"$f":"IF($I$2=\"Existing\",(D195),(IF($I$2=\"Design 1\",(F195),(IF($I$2=\"Design 2\",(G195),(IF($I$2=\"Optimal\",(I195),E195)))))))","v":1},{"$f":"+I187/$E$187","v":0.88830473507039431}]
[null,null,null,{"$f":"(1/D195)^$D199","v":{"$error":"#VALUE!"}},1,{"$error":"#VALUE!"},{"$error":"#VALUE!"},1,998.99999999999955,{"$f":"I201/E201","v":1.4814814814814814}]
[null,null,null,{"$f":"(D196+$F200-1)/(1+(D196+$F200-1))","v":{"$error":"#VALUE!"}},0.66666666666666663,{"$error":"#VALUE!"},{"$error":"#VALUE!"},0.66666666666666663,0.99900099900099903]
[null,null,"Score Odds Ratio with Optimal as 100 (old)",{"$f":"MIN(ROUND($I$195/D195*Construction!$I$10,0),$I198)","v":{"$error":"#VALUE!"}},{"$f":"MIN(ROUND($I$195/E195*Construction!$I$10,0),$I198)","v":36},{"$f":"MIN(ROUND($I$195/F195*Construction!$I$10,0),$I198)","v":{"$error":"#VALUE!"}},{"$f":"MIN(ROUND($I$195/G195*Construction!$I$10,0),$I198)","v":{"$error":"#VALUE!"}},null,{"$f":"ROUND($I$195/I195*Construction!$I$10,0)","v":40}]
[null,null,"Logistic1",{"$f":"LN((D200/(1-D200))/(0.5/0.5))/LN($E195/I195)","v":58.314167600285003}]
[null,null,"Logistic Param",0.999,null,2]
[null,null,"Score ",{"$f":"MIN(ROUND(D197*Construction!$I$10,0),$I198)","v":{"$error":"#VALUE!"}},{"$f":"MIN(ROUND(E197*Construction!$I$10,0),$I198)","v":27},{"$f":"MIN(ROUND(F197*Construction!$I$10,0),$I198)","v":{"$error":"#VALUE!"}},{"$f":"MIN(ROUND(G197*Construction!$I$10,0),$I198)","v":{"$error":"#VALUE!"}},null,{"$f":"MIN(ROUND(I197*Construction!$I$10,0),$I198)","v":40}]
[]
[]
[]
[]
[null,null,{"$f":"D84/D179","v":{"$error":"#VALUE!"}},null,{"$f":"ROUNDUP((MIN($I$14,$I$15)-E24-E25)/$C$206,0)","v":{"$error":"#VALUE!"}},{"$f":"ROUNDUP((MIN($I$14,$I$15)-F24-F25)/$C$206,0)","v":{"$error":"#VALUE!"}},{"$f":"ROUNDUP((MIN($I$14,$I$15)-G24-G25)/$C$206,0)","v":{"$error":"#VALUE!"}},null,{"$f":"ROUNDUP((MIN($I$14,$I$15)-I24-I25)/$C$206,0)","v":{"$error":"#VALUE!"}}]
[]
[]
[null,null,"Distance to low point","Distance to low point",{"$f":"$C$206*E179","v":{"$error":"#VALUE!"}},{"$f":"$C$206*F179","v":{"$error":"#VALUE!"}},{"$f":"$C$206*G179","v":{"$error":"#VALUE!"}},null,{"$f":"$C$206*I179","v":{"$error":"#VALUE!"}}]
[null,null,null,"Additional ROW1 Needed for Foreslope",{"$f":"IF(E209>($I$14-E24-E25),E209-($I$14-E24-E25),0)","v":{"$error":"#VALUE!"}},{"$f":"IF(F209>($I$14-F24-F25),F209-($I$14-F24-F25),0)","v":{"$error":"#VALUE!"}},{"$f":"IF(G209>($I$14-G24-G25),G209-($I$14-G24-G25),0)","v":{"$error":"#VALUE!"}},null,{"$f":"IF(I209>($I$14-I24-I25),I209-($I$14-I24-I25),0)","v":{"$error":"#VALUE!"}}]
[null,null,null,"Additional ROW2 Needed for Foreslope",{"$f":"IF(E209>($I$15-E24-E25),E209-($I$15-E24-E25),0)","v":{"$error":"#VALUE!"}},{"$f":"IF(F209>($I$15-F24-F25),F209-($I$15-F24-F25),0)","v":{"$error":"#VALUE!"}},{"$f":"IF(G209>($I$15-G24-G25),G209-($I$15-G24-G25),0)","v":{"$error":"#VALUE!"}},null,{"$f":"IF(I209>($I$15-I24-I25),I209-($I$15-I24-I25),0)","v":{"$error":"#VALUE!"}}]
[]
[null,null,null,"Additional ROW1 Needed for Lateral Clearance",{"$f":"IF((CL248+E26)-$I$14<0,0,(CL248+E26)-$I$14)","v":8},{"$f":"IF((CM248+F26)-$I$14<0,0,(CM248+F26)-$I$14)","v":0},{"$f":"IF((CN248+G26)-$I$14<0,0,(CN248+G26)-$I$14)","v":0},null,{"$f":"IF((CP248+I26)-$I$14<0,0,(CP248+I26)-$I$14)","v":0}]
[null,null,null,"Additional ROW2 Needed for Lateral Clearance",{"$f":"IF((CL248+E26)-$I$15<0,0,(CL248+E26)-$I$15)","v":8},{"$f":"IF((CM248+F26)-$I$15<0,0,(CM248+F26)-$I$15)","v":0},{"$f":"IF((CN248+G26)-$I$15<0,0,(CN248+G26)-$I$15)","v":0},null,{"$f":"IF((CP248+I26)-$I$15<0,0,(CP248+I26)-$I$15)","v":0}]
[]
[]
[]
[]
[]
[]
[]
[]
[]
[]
[]
[null,null,"For Vertical Opt Use when Yes Vertical:"]
[null,null,"G1",{"$f":"D36","v":0},null,{"$f":"F36","v":0},{"$f":"G36","v":0},null,{"$f":"IF(ISERROR($E$234),\"\",INDEX(D227:G227,$E$234))","v":""}]
[null,null,"G2",{"$f":"D37","v":0},null,{"$f":"F37","v":0},{"$f":"G37","v":0},null,{"$f":"IF(ISERROR($E$234),\"\",INDEX(D228:G228,$E$234))","v":""}]
[null,null,"abs(G2-G1)",{"$f":"ABS(D36-D37)","v":0},null,{"$f":"ABS(F36-F37)","v":0},{"$f":"ABS(G36-G37)","v":0}]
[null,null,"Count in indicator (K no change; or K change but accept)",{"$f":"IF(D39<>\"\",1,\"\")","v":""},null,{"$f":"IF(OR(AND($B$34 = \"Yes\", $D$39 <> F39, F39 <>\"\", $D$39 <> \"\", F41=\"Yes.\"),AND($B$34 = \"Yes\", $D$39 = F39, F39 <>\"\", $D$39 <> \"\")), 1,\"\")","v":""},{"$f":"IF(OR(AND($B$34 = \"Yes\", $D$39 <> G39, G39 <>\"\", $D$39 <> \"\", G41=\"Yes.\"),AND($B$34 = \"Yes\", $D$39 = G39, G39 <>\"\", $D$39 <> \"\")), 1,\"\")","v":""}]
[]
[null,null,"Valid abs(G2-G1)",{"$f":"IF(ISERROR(D229*D230),\"\",D229*D230)","v":""},null,{"$f":"IF(ISERROR(F229*F230),\"\",F229*F230)","v":""},{"$f":"IF(ISERROR(G229*G230),\"\",G229*G230)","v":""}]
[null,null,"The min valid abs(G2-G1)",null,{"$f":"MIN(D232,F232,G232)","v":0}]
[null,null,"Index",null,{"$f":"MATCH(E233,D232:G232,0)","v":{"$error":"#N/A"}}]
[]
[null,null,"For Vertical Opt Use When No Vertical:"]
[null,null,"G1",{"$f":"IF(ISBLANK(D36), 999, D36)","v":999},null,{"$f":"IF(ISBLANK(F36), 999, F36)","v":999},{"$f":"IF(ISBLANK(G36), 999, G36)","v":999},null,{"$f":"IF(E242=999,\"\",E242)","v":""}]
[null,null,"Sign of G1",{"$f":"IF(D237>=0,1,-1)","v":1},null,{"$f":"IF(F237>=0,1,-1)","v":1},{"$f":"IF(G237>=0,1,-1)","v":1}]
[null,null,"Abs G1",{"$f":"ABS(D237)","v":999},null,{"$f":"ABS(F237)","v":999},{"$f":"ABS(G237)","v":999}]
[null,null,"Min Abs G1",null,{"$f":"MIN(D239:G239)","v":999}]
[null,null,"Which is the Best G1",null,{"$f":"MATCH(E240,D239:G239,0)","v":1}]
[null,null,"Best G1 Value",null,{"$f":"INDEX(D237:G237,1,E241)","v":999}]
[]
[]
[]
[]
[]
[]
[null,null,"Check if all cells filled",{"$f":"SUM(D251:D311)","v":18},{"$f":"SUM(E251:E311)","v":1},18,18,null,1]
[]
[null,null,{"$f":"C24","v":"Lane Width (feet)"},{"$f":"IF(ISBLANK(D24),1,0)","v":1},{"$f":"IF(ISBLANK(E24),1,0)","v":0},1,1,null,0]
[null,null,{"$f":"C25","v":"Shoulder Width (feet)"},{"$f":"IF(ISBLANK(D25),1,0)","v":1},0,1,1,null,0]
[null,null,"Cross-slope or Superelevation (%)",{"$f":"IF(ISBLANK(D26),1,0)","v":1},0,1,1,null,0]
[null,null,"Horizontal Curve Present?"]
[null,null,"Horizontal Curve Data for Controlling Element:"]
[null,null,"  Radius (feet)",{"$f":"IF(AND($B$27=\"Yes\", ISBLANK(D29)),1,0)","v":0},{"$f":"IF(AND($B$27=\"Yes\", ISBLANK(E29)),1,0)","v":0},0,0,null,0]
[null,null,"Length of Horizontal Curve (feet)",{"$f":"IF(AND($B$27=\"Yes\", ISBLANK(D30)),1,0)","v":0},0,0,0,null,0]
[null,null,"Calculated Deflection Angle ∆"]
[]
[null,null,null,null,null,{"$f":"IF(AND($B$27 = \"Yes\", $D$31 <> F31, F31<>\"\",ISBLANK(F33)),1,0)","v":0},{"$f":"IF(AND($B$27 = \"Yes\", $D$31 <> G31, G31<>\"\",ISBLANK(G33)),1,0)","v":0}]
[null,null,"Vertical Curve Present?"]
[null,null,"Vertical Curve Data for Controlling Element:"]
[null,null,"  Approach (Entry) Grade, G1 (%)",{"$f":"IF(ISBLANK(D36),1,0)","v":1},{"$f":"IF(ISBLANK(E36),1,0)","v":0},1,1,null,0]
[null,null,"  Departure (Exit) Grade, G2 (%)",{"$f":"IF(AND($B$34=\"Yes\", ISBLANK(D37)),1,0)","v":0},{"$f":"IF(AND($B$34=\"Yes\", ISBLANK(E37)),1,0)","v":0},0,0,null,0]
[null,null,"  Length (feet)",{"$f":"IF(AND($B$34=\"Yes\", ISBLANK(D38)),1,0)","v":0},0,0,0,null,0]
[null,null,"  Calculated Rate of Change, K (ft/ft)"]
[]
[]
[]
[null,null,"TWLTL (two-way left-turn lane)",{"$f":"IF(ISBLANK(D43),1,0)","v":1},{"$f":"IF(ISBLANK(E43),1,0)","v":0},1,1,null,0]
[null,null,"Passing Lane Type",{"$f":"IF(ISBLANK(D44),1,0)","v":1},0,1,1,null,0]
[]
[]
[]
[]
[]
[]
[]
[null,null,"Advance Static Curve Warning Signs",{"$f":"IF(AND($B$27=\"Yes\", ISBLANK(D52)),1,0)","v":0},{"$f":"IF(AND($B$27=\"Yes\", ISBLANK(E52)),1,0)","v":0},0,0,null,{"$f":"IF(ISBLANK(I52),1,0)","v":0}]
[null,null,"Chevron Signs on Horizontal Curves",{"$f":"IF(AND($B$27=\"Yes\", ISBLANK(D53)),1,0)","v":0},0,0,0,null,0]
[null,null,"Post-Mounted Delineators",0,0,0,0,null,0]
[null,null,"Edgeline Pavement Markings or Profile Markings",{"$f":"IF(ISBLANK(D55),1,0)","v":1},0,1,1,null,0]
[null,null,"Shoulder Rumble Strips",1,0,1,1,null,0]
[null,null,"Centerline Rumble Strips",1,0,1,1,null,0]
[null,null,"Driveway Density (driveways per mile)",1,0,1,1,null,0]
[null,null,"Lighting",1,0,1,1,null,0]
[null,null,"Pavement Friction (skid number) ***",1,0,1,1,null,0]
[]
[]
[]
[]
[]
[]
[]
[]
[]
[]
[]
[null,null,"Sideslope (Foreslope)",{"$f":"IF(ISBLANK(D72),1,0)","v":1},0,1,1,null,0]
[null,null,"Backslope",1,0,1,1,null,0]
[null,null,"SafetyEdge",1,0,1,1,null,0]
[null,null,"Lateral Clearance to obstruction (ft)",1,0,1,1,null,0]
[null,null,"Obstruction Type",1,0,1,1,null,0]
[]
[]
[]
[]
[]
[]
[]
[null,null,"Distance to Slope Toe from Shoulder (ft)",1,{"$f":"$D$311","v":1},{"$f":"$D$311","v":1},1,null,1]
[]
[]
[]
[null,null,null,null,null,null,null,null,{"$f":"SUM(I316:I324)","v":9}]
[null,null,null,null,null,null,null,{"$f":"F9","v":"Location "},{"$f":"IF(ISBLANK(I9),1,0)","v":1}]
[null,null,null,null,null,null,null,{"$f":"F10","v":"Design Speed (mph)"},{"$f":"IF(ISBLANK(I10),1,0)","v":1}]
[null,null,null,null,null,null,null,"Posted Speed (mph)",1]
[null,null,null,null,null,null,null,"E max (%)",1]
[null,null,null,null,null,null,null,"Design Year AADT (vehicles per day)",1]
[null,null,null,null,null,null,null,"Dist. from Centerline to Left   ROW (feet)",1]
[null,null,null,null,null,null,null,"Dist. from Centerline to Right ROW (feet)",1]
[null,null,null,null,null,null,null,"H Curve Indicator",{"$f":"IF(ISBLANK(B27),1,0)","v":1}]
[null,null,null,null,null,null,null,"V Curve Indicator",{"$f":"IF(ISBLANK(B34),1,0)","v":1}]
[]
[]
[]
[]
[]
[]
[]
[]
[]
[]
[]
[]
[]
[]
[]
[]
[]
[]
[]
[]
[]
[]
[]
[]
[]
[]
[]
[]
[]
[]
[]
[]
[]
[]
[]
[]
[]
[]
[]
[]
[]
[]
[]
[]
[]
[]
[]
[]
[]
[]
[]
[1]
[22]
[21]
[20,null,null,{"$f":"Constraints!P174","v":"Emax=6%"}]
[19]
[18,null,{"$f":"HLOOKUP($I$10,Constraints!$Q$176:AD197,A376,TRUE)","v":{"$error":"#N/A"}},{"$f":"Constraints!P176","v":"super"}]
[17,null,{"$f":"HLOOKUP($I$10,Constraints!$Q$176:AD198,A377,TRUE)","v":{"$error":"#N/A"}},{"$f":"Constraints!P197","v":6},1050]
[16,null,{"$f":"HLOOKUP($I$10,Constraints!$Q$176:AD199,A378,TRUE)","v":{"$error":"#N/A"}},{"$f":"Constraints!P196","v":5.8}]
[15,null,{"$f":"HLOOKUP($I$10,Constraints!$Q$176:AD200,A379,TRUE)","v":{"$error":"#N/A"}},{"$f":"Constraints!P195","v":5.6}]
[14,null,{"$f":"HLOOKUP($I$10,Constraints!$Q$176:AD201,A380,TRUE)","v":{"$error":"#N/A"}},{"$f":"Constraints!P194","v":5.4}]
[13,null,{"$f":"HLOOKUP($I$10,Constraints!$Q$176:AD202,A381,TRUE)","v":{"$error":"#N/A"}},{"$f":"Constraints!P193","v":5.2}]
[12,null,{"$f":"HLOOKUP($I$10,Constraints!$Q$176:AD203,A382,TRUE)","v":{"$error":"#N/A"}},{"$f":"Constraints!P192","v":5}]
[11,null,{"$f":"HLOOKUP($I$10,Constraints!$Q$176:AD204,A383,TRUE)","v":{"$error":"#N/A"}},{"$f":"Constraints!P191","v":4.8}]
[10,null,{"$f":"HLOOKUP($I$10,Constraints!$Q$176:AD205,A384,TRUE)","v":{"$error":"#N/A"}},{"$f":"Constraints!P190","v":4.5999999999999996}]
[9,null,{"$f":"HLOOKUP($I$10,Constraints!$Q$176:AD206,A385,TRUE)","v":{"$error":"#N/A"}},{"$f":"Constraints!P189","v":4.4000000000000004}]
[8,null,{"$f":"HLOOKUP($I$10,Constraints!$Q$176:AD207,A386,TRUE)","v":{"$error":"#N/A"}},{"$f":"Constraints!P188","v":4.2}]
[7,null,{"$f":"HLOOKUP($I$10,Constraints!$Q$176:AD208,A387,TRUE)","v":{"$error":"#N/A"}},{"$f":"Constraints!P187","v":4}]
[6,null,{"$f":"HLOOKUP($I$10,Constraints!$Q$176:AD209,A388,TRUE)","v":{"$error":"#N/A"}},{"$f":"Constraints!P186","v":3.8}]
[5,null,{"$f":"HLOOKUP($I$10,Constraints!$Q$176:AD210,A389,TRUE)","v":{"$error":"#N/A"}},{"$f":"Constraints!P185","v":3.6}]
[4,null,{"$f":"HLOOKUP($I$10,Constraints!$Q$176:AD211,A390,TRUE)","v":{"$error":"#N/A"}},{"$f":"Constraints!P184","v":3.4}]
[3,null,{"$f":"HLOOKUP($I$10,Constraints!$Q$176:AD212,A391,TRUE)","v":{"$error":"#N/A"}},{"$f":"Constraints!P183","v":3.2}]
[2,null,{"$f":"HLOOKUP($I$10,Constraints!$Q$176:AD213,A392,TRUE)","v":{"$error":"#N/A"}},{"$f":"Constraints!P182","v":3}]
[null,null,{"$f":"HLOOKUP($I$10,Constraints!$Q$176:AD214,A393,TRUE)","v":{"$error":"#N/A"}},{"$f":"Constraints!P181","v":2.8}]
[null,null,{"$f":"HLOOKUP($I$10,Constraints!$Q$176:AD215,A394,TRUE)","v":{"$error":"#N/A"}},{"$f":"Constraints!P180","v":2.6}]
[null,null,{"$f":"HLOOKUP($I$10,Constraints!$Q$176:AD216,A395,TRUE)","v":{"$error":"#N/A"}},{"$f":"Constraints!P179","v":2.4}]
[null,null,{"$f":"HLOOKUP($I$10,Constraints!$Q$176:AD217,A396,TRUE)","v":{"$error":"#N/A"}},{"$f":"Constraints!P178","v":2.2000000000000002}]
[null,null,{"$f":"HLOOKUP($I$10,Constraints!$Q$176:AD218,A397,TRUE)","v":{"$error":"#N/A"}},{"$f":"Constraints!P177","v":2}]
[1]
[32]
[31]
[30,null,null,{"$f":"Constraints!P201","v":"Emax=8%"}]
[29]
[28,null,{"$f":"HLOOKUP($I$10,Constraints!$Q$203:AD234,A403,TRUE)","v":{"$error":"#N/A"}},{"$f":"Constraints!P203","v":"super"}]
[27,null,{"$f":"HLOOKUP($I$10,Constraints!$Q$203:AD235,A404,TRUE)","v":{"$error":"#N/A"}},{"$f":"INDEX(Constraints!$P$203:$P$234,A404,)","v":8}]
[26,null,{"$f":"HLOOKUP($I$10,Constraints!$Q$203:AD236,A405,TRUE)","v":{"$error":"#N/A"}},{"$f":"INDEX(Constraints!$P$203:$P$234,A405,)","v":7.8}]
[25,null,{"$f":"HLOOKUP($I$10,Constraints!$Q$203:AD237,A406,TRUE)","v":{"$error":"#N/A"}},{"$f":"INDEX(Constraints!$P$203:$P$234,A406,)","v":7.6}]
[24,null,{"$f":"HLOOKUP($I$10,Constraints!$Q$203:AD238,A407,TRUE)","v":{"$error":"#N/A"}},{"$f":"INDEX(Constraints!$P$203:$P$234,A407,)","v":7.4}]
[23,null,{"$f":"HLOOKUP($I$10,Constraints!$Q$203:AD239,A408,TRUE)","v":{"$error":"#N/A"}},{"$f":"INDEX(Constraints!$P$203:$P$234,A408,)","v":7.2}]
[22,null,{"$f":"HLOOKUP($I$10,Constraints!$Q$203:AD240,A409,TRUE)","v":{"$error":"#N/A"}},{"$f":"INDEX(Constraints!$P$203:$P$234,A409,)","v":7}]
[21,null,{"$f":"HLOOKUP($I$10,Constraints!$Q$203:AD241,A410,TRUE)","v":{"$error":"#N/A"}},{"$f":"INDEX(Constraints!$P$203:$P$234,A410,)","v":6.8}]
[20,null,{"$f":"HLOOKUP($I$10,Constraints!$Q$203:AD242,A411,TRUE)","v":{"$error":"#N/A"}},{"$f":"INDEX(Constraints!$P$203:$P$234,A411,)","v":6.6}]
[19,null,{"$f":"HLOOKUP($I$10,Constraints!$Q$203:AD243,A412,TRUE)","v":{"$error":"#N/A"}},{"$f":"INDEX(Constraints!$P$203:$P$234,A412,)","v":6.4}]
[18,null,{"$f":"HLOOKUP($I$10,Constraints!$Q$203:AD244,A413,TRUE)","v":{"$error":"#N/A"}},{"$f":"INDEX(Constraints!$P$203:$P$234,A413,)","v":6.2}]
[17,null,{"$f":"HLOOKUP($I$10,Constraints!$Q$203:AD245,A414,TRUE)","v":{"$error":"#N/A"}},{"$f":"INDEX(Constraints!$P$203:$P$234,A414,)","v":6}]
[16,null,{"$f":"HLOOKUP($I$10,Constraints!$Q$203:AD246,A415,TRUE)","v":{"$error":"#N/A"}},{"$f":"INDEX(Constraints!$P$203:$P$234,A415,)","v":5.8}]
[15,null,{"$f":"HLOOKUP($I$10,Constraints!$Q$203:AD247,A416,TRUE)","v":{"$error":"#N/A"}},{"$f":"INDEX(Constraints!$P$203:$P$234,A416,)","v":5.6}]
[14,null,{"$f":"HLOOKUP($I$10,Constraints!$Q$203:AD248,A417,TRUE)","v":{"$error":"#N/A"}},{"$f":"INDEX(Constraints!$P$203:$P$234,A417,)","v":5.4}]
[13,null,{"$f":"HLOOKUP($I$10,Constraints!$Q$203:AD249,A418,TRUE)","v":{"$error":"#N/A"}},{"$f":"INDEX(Constraints!$P$203:$P$234,A418,)","v":5.2}]
[12,null,{"$f":"HLOOKUP($I$10,Constraints!$Q$203:AD250,A419,TRUE)","v":{"$error":"#N/A"}},{"$f":"INDEX(Constraints!$P$203:$P$234,A419,)","v":5}]
[11,null,{"$f":"HLOOKUP($I$10,Constraints!$Q$203:AD251,A420,TRUE)","v":{"$error":"#N/A"}},{"$f":"INDEX(Constraints!$P$203:$P$234,A420,)","v":4.8}]
[10,null,{"$f":"HLOOKUP($I$10,Constraints!$Q$203:AD252,A421,TRUE)","v":{"$error":"#N/A"}},{"$f":"INDEX(Constraints!$P$203:$P$234,A421,)","v":4.5999999999999996}]
[9,null,{"$f":"HLOOKUP($I$10,Constraints!$Q$203:AD253,A422,TRUE)","v":{"$error":"#N/A"}},{"$f":"INDEX(Constraints!$P$203:$P$234,A422,)","v":4.4000000000000004}]
[8,null,{"$f":"HLOOKUP($I$10,Constraints!$Q$203:AD254,A423,TRUE)","v":{"$error":"#N/A"}},{"$f":"INDEX(Constraints!$P$203:$P$234,A423,)","v":4.2}]
[7,null,{"$f":"HLOOKUP($I$10,Constraints!$Q$203:AD255,A424,TRUE)","v":{"$error":"#N/A"}},{"$f":"INDEX(Constraints!$P$203:$P$234,A424,)","v":4}]
[6,null,{"$f":"HLOOKUP($I$10,Constraints!$Q$203:AD256,A425,TRUE)","v":{"$error":"#N/A"}},{"$f":"INDEX(Constraints!$P$203:$P$234,A425,)","v":3.8}]
[5,null,{"$f":"HLOOKUP($I$10,Constraints!$Q$203:AD257,A426,TRUE)","v":{"$error":"#N/A"}},{"$f":"INDEX(Constraints!$P$203:$P$234,A426,)","v":3.6}]
[4,null,{"$f":"HLOOKUP($I$10,Constraints!$Q$203:AD258,A427,TRUE)","v":{"$error":"#N/A"}},{"$f":"INDEX(Constraints!$P$203:$P$234,A427,)","v":3.4}]
[3,null,{"$f":"HLOOKUP($I$10,Constraints!$Q$203:AD259,A428,TRUE)","v":{"$error":"#N/A"}},{"$f":"INDEX(Constraints!$P$203:$P$234,A428,)","v":3.2}]
[2,null,{"$f":"HLOOKUP($I$10,Constraints!$Q$203:AD260,A429,TRUE)","v":{"$error":"#N/A"}},{"$f":"INDEX(Constraints!$P$203:$P$234,A429,)","v":3}]
[null,null,{"$f":"HLOOKUP($I$10,Constraints!$Q$203:AD261,A430,TRUE)","v":{"$error":"#N/A"}},{"$f":"INDEX(Constraints!$P$203:$P$234,A430,)","v":2.8}]
[null,null,{"$f":"HLOOKUP($I$10,Constraints!$Q$203:AD262,A431,TRUE)","v":{"$error":"#N/A"}},{"$f":"INDEX(Constraints!$P$203:$P$234,A431,)","v":2.6}]
[null,null,{"$f":"HLOOKUP($I$10,Constraints!$Q$203:AD263,A432,TRUE)","v":{"$error":"#N/A"}},{"$f":"INDEX(Constraints!$P$203:$P$234,A432,)","v":2.4}]
[null,null,{"$f":"HLOOKUP($I$10,Constraints!$Q$203:AD264,A433,TRUE)","v":{"$error":"#N/A"}},{"$f":"INDEX(Constraints!$P$203:$P$234,A433,)","v":2.2000000000000002}]
[null,null,{"$f":"HLOOKUP($I$10,Constraints!$Q$203:AD265,A434,TRUE)","v":{"$error":"#N/A"}},{"$f":"INDEX(Constraints!$P$203:$P$234,A434,)","v":2}]

{"sheet":"Configuration 15","index":25,"n_rows":439,"n_cols":113,"rows_kept":439,"cut":false,"hidden":false,"merged":[[1,6,2,7],[1,8,2,8],[1,21,1,37],[2,1,2,4],[2,21,3,28],[2,30,3,37],[3,1,3,4],[3,6,4,7],[3,8,4,8],[4,1,4,2],[4,3,4,4],[4,21,44,28],[4,30,44,37],[5,1,5,2],[5,3,5,4],[6,1,6,7],[7,1,7,4],[7,7,7,8],[8,3,8,4],[8,5,8,6],[75,16,75,21],[75,22,75,23],[9,3,9,4],[9,5,9,6],[10,3,10,4],[10,5,10,6],[11,5,11,6],[12,2,15,4],[12,5,12,6],[13,5,13,6],[14,5,14,6],[17,2,18,8],[20,5,20,7],[38,9,38,10],[45,12,45,19],[74,16,74,23],[76,22,76,23],[77,16,77,21],[77,22,77,23],[78,16,78,21],[78,22,78,23],[84,1,84,2],[85,1,85,2],[86,1,86,2],[95,10,95,12],[76,16,76,21]]}
[]
[null,null,null,null,null,null,"Preferred Schematic View to Display",null,"Standard",null,null,null,null,null,null,null,null,null,null,null,null,"NOTES: "]
[null,"CHARACTERISTICS TO CONSIDER FOR ANALYSIS",null,null,null,null,null,null,null,null,null,null,null,null,null,null,null,null,null,null,null,"ELEMENTS INCREASING SAFETY",null,null,null,null,null,null,null,null,"COMMENTS ON PRIMARY CONSTRAINTS"]
[null,"INPUT INSTRUCTIONS",null,null,null,null,"Relative to",null,"Existing"]
[null,"Blue Boxes -- Select from pulldown options",null,"Select from Pulldown"]
[null,"Yellow Boxes -- Type input information into box",null,"Type Input Value"]
[null," Rural Two-Lane Road Segment -- Safety Score Input",null,null,null,null,null,null,null,null,null,null,null,null,null,null,null,null,null,null,null,null,null,null,null,null,null,null,null,null,null,null,null,null,null,null,null,null,null,null,null,null,null,null,null,null,null,null,null,null,null,null,null,null,null,null,null,null,null,null,null,null,null,null,null,null,null,null,null,null,null,null,null,null,null,null,null,null,null,null,null,null,null,"Unadjusted Marginal Safety"]
[null,"General Information:",null,null,null,"General Site Features",null,{"$f":"I315 & \" Missing Features and Curves\"","v":"9 Missing Features and Curves"},null,null,null,null,null,null,null,null,null,null,null,null,null,null,null,null,null,null,null,null,null,null,null,null,null,null,null,null,null,null,null,null,null,null,null,null,null,null,null,null,null,null,null,null,null,null,null,null,null,null,null,null,null,null,null,null,null,null,null,null,null,null,null,null,null,null,null,null,null,null,null,null,null,null,null,{"$f":"I2&\" relative to \" &I4","v":"Standard relative to Existing"}]
[null,null,"Analyst:",{"$f":"+'Start Here'!J7","v":0},null,"Location "]
[null,null,"Agency or Company:",{"$f":"+'Start Here'!J8","v":0},null,"Design Speed (mph)"]
[null,null,"Date:",{"$f":"+'Start Here'!J9","v":"00:00:00"},null,"Posted Speed (mph)"]
[null,null,"Description:",null,null,"E max (%)"]
[null,null,null,null,null,"Design Year AADT (vehicles per day)"]
[null,null,null,null,null,"Dist. from Centerline to Left   ROW (feet)"]
[null,null,null,null,null,"Dist. from Centerline to Right ROW (feet)"]
[]
[null,"Warning:"]
[null,null,{"$f":"+IF(+I11>I10,\"Posted speed exceeds design speed. Optimal safety will only be achieved if design speed exceeds posted speed. The Safety Assessment Score is based on the higher of the two speed values.\",\"No warnings identified\")","v":"No warnings identified"}]
[null,null,null,null,null,null,null,null,null,null,null,null,null,null,null,{"$f":"\"Unadjusted Marginal Safety of elements in \"&I2&\" from Design Standards\"","v":"Unadjusted Marginal Safety of elements in Standard from Design Standards"},null,null,null,null,null,null,null,null,null,null,null,null,null,null,null,null,null,null,null,null,null,null,null,null,null,null,null,null,null,null,null,null,null,null,null,null,null,null,null,null,null,null,null,null,null,null,null,null,null,null,null,null,null,null,null,null,null,null,null,null,null,null,null,null,null,null,null,null,null,null,null,null,null,null,null,null,null,null,null,null,null,null,null,null,null,null,null,null,null,{"$f":"COUNTIF(DB23:DB41,DB20)","v":1}]
[null,null,null,null,null,null,null,null,null,null,null,null,null,null,null,null,null,null,null,null,null,null,null,null,null,null,null,null,null,null,null,null,null,null,null,null,null,null,null,null,null,null,null,null,null,null,null,null,null,null,null,null,null,null,null,null,null,null,null,null,null,null,null,null,null,null,null,null,null,null,null,null,null,null,null,null,null,null,null,null,null,null,null,null,null,null,null,null,null,null,null,null,null,null,null,null,null,null,null,null,null,null,null,null,null,{"$f":"VLOOKUP(0,CZ23:DB41,3,)","v":10.01}]
[null,null,null,"Fill all elements",null,"To enter notes, use boxes to the right of the vortex ",null,null,null,null," "]
[null,{"$f":"+Construction!$I$8&\"  Total Available Points\"","v":"40  Total Available Points"},null,{"$f":"D249 & \" Missing Elements\"","v":"18 Missing Elements"},null,{"$f":"F249 & \" Missing Elements\"","v":"18 Missing Elements"},{"$f":"G249 & \" Missing Elements\"","v":"18 Missing Elements"},null,null,null,null,null,null,null,null,null,null,null,null,null,null,null,null,null,null,null,null,null,null,null,null,null,null,null,null,null,null,null,null,null,null,null,null,null,null,null,null,null,null,null,null,null,null,null,null,null,null,null,null,null,null,null,null,null,null,null,null,null,null,null,null,null,null,null,null,null,null,null,null,null,null,null,null,null,null,null,null,null,null,null,null,null,null,null,null,null,null,null,null,null,null,"Ranked element","CRF","abs","Re-rank","Rank","Ranked CRF","Element","New Element","crf.abs","rank","Sorted Element","Sorted CRF"]
[null,"Geometric Design Elements",null,"Existing","Standard","Design 1","Design 2",{"$f":"\"Marginal Safety for \"&$I$2&\" (compared to \" & $I$4 & \")\"","v":"Marginal Safety for Standard (compared to Existing)"},"Optimal",null,null,null,null,null,null,null,null,null,null,null,null,null,null,null,null,null,null,null,null,null,null,null,null,null,null,null,null,null,null,null,null,null,null,null,null,null,null,null,null,null,null,null,null,null,null,null,null,null,null,null,null,null,null,null,null,null,null,null,null,null,null,null,null,null,null,null,null,null,null,null,null,null,null,null,null,null,null,null,null,null,null,null,null,null,null,null,null,null,null,null,null,{"$f":"IF(CY23=0,\"\",DB23&\". \"&DD23)","v":""},{"$f":"H24","v":0},{"$f":"ABS(CY23)","v":0},{"$f":"RANK(DB23,$DB$23:$DB$41,1)","v":10},{"$f":"_xlfn.RANK.EQ(CZ23,$CZ$23:$CZ$41)+DG23/100","v":10.01},{"$f":"CY23","v":0},{"$f":"IF(ROUND(DF23,2)=0,\"\",C24)","v":""},{"$f":"DD23","v":""},{"$f":"CZ23","v":0},1,{"$f":"IFERROR(IF(IFERROR(VLOOKUP(DG23,$DA$23:$DF$41,4,)&\", \"&CY23=0,\"\"),\"\",IFERROR(VLOOKUP(DG23,$DA$23:$DE$41,4,),\"\")),\"\")","v":"TWLTL (two-way left-turn lane)"},{"$f":"IFERROR(IF(IFERROR(VLOOKUP(DG23,$DA$23:$DF$41,3,)&\", \"&CY23=0,\"\"),\"\",IFERROR(VLOOKUP(DG23,$DA$23:$DE$41,3,),\"\")),\"\")","v":-0.40845070422535223}]
[null,null,"Lane Width (feet)",null,12,null,null,{"$f":"M100","v":0},12,null,null,null,null,null,null,null,null,null,null,null,null,null,null,null,null,null,null,null,null,null,null,null,null,null,null,null,null,null,null,null,null,null,null,null,null,null,null,null,null,null,null,null,null,null,null,null,null,null,null,null,null,null,null,null,null,null,null,null,null,null,null,null,null,null,null,null,null,null,null,null,null,null,null,null,null,null,null,null,null,null,null,null,null,null,null,null,null,null,null,null,null,"5.02. Shoulder Width (feet)",{"$f":"H25","v":0.15503875968992242},0.15503875968992242,{"$f":"RANK(DB24,$DB$23:$DB$41,1)","v":5},{"$f":"_xlfn.RANK.EQ(CZ24,$CZ$23:$CZ$41)+DG24/100","v":5.0199999999999996},{"$f":"CY24","v":0.15503875968992242},{"$f":"IF(ROUND(DF24,2)=0,\"\",C25)","v":"Shoulder Width (feet)"},{"$f":"DD24","v":"Shoulder Width (feet)"},0.15503875968992242,2,"Pavement Friction (skid number) ***",{"$f":"IFERROR(IF(IFERROR(VLOOKUP(DG24,$DA$23:$DF$41,3,)&\", \"&CY24=0,\"\"),\"\",IFERROR(VLOOKUP(DG24,$DA$23:$DE$41,3,),\"\")),\"\")","v":0.28430956017940245}]
[null,null,"Shoulder Width (feet)",null,{"$f":"IF('Start Here'!$J$12=\"4R\",8,4)","v":4},null,null,{"$f":"M101","v":0.15503875968992242},10,null,null,null,null,null,null,null,null,null,null,null,null,null,null,null,null,null,null,null,null,null,null,null,null,null,null,null,null,null,null,null,null,null,null,null,null,null,null,null,null,null,null,null,null,null,null,null,null,null,null,null,null,null,null,null,null,null,null,null,null,null,null,null,null,null,null,null,null,null,null,null,null,null,null,null,null,null,null,null,null,null,null,null,null,null,null,null,null,null,null,null,null,"",{"$f":"H29","v":0},0,11,10.029999999999999,0,{"$f":"IF(ROUND(DF25,2)=0,\"\",\"Hz and Vt Alignment\")","v":""},"",0,3,"Driveway Density (driveways per mile)",-0.22388114201141129]
[null,null,"Cross-slope or Superelevation (%)",null,{"$f":"IF($I$12=6,IFERROR(VLOOKUP(E29,$C$382:$D$402,2,TRUE),6),IFERROR(VLOOKUP(E29,$C$409:$D$439,2,TRUE),8))","v":8},null,null,null,{"$f":"I12","v":0},null,null,null,null,null,null,null,null,null,null,null,null,null,null,null,null,null,null,null,null,null,null,null,null,null,null,null,null,null,null,null,null,null,null,null,null,null,null,null,null,null,null,null,null,null,null,null,null,null,null,null,null,null,null,null,null,null,null,null,null,null,null,null,null,null,null,null,null,null,null,null,null,null,null,null,null,null,null,null,null,null,null,null,null,null,null,null,null,null,null,null,null,"1.04. TWLTL (two-way left-turn lane)",{"$f":"H43","v":-0.40845070422535223},0.40845070422535223,1,1.04,-0.40845070422535223,{"$f":"IF(ROUND(DF26,2)=0,\"\",C43)","v":"TWLTL (two-way left-turn lane)"},"TWLTL (two-way left-turn lane)",0.40845070422535223,4,"Centerline Rumble Strips",-0.16279069767441867]
["",null,"Horizontal Curve Present?","--","--","--","--",null,"--",null,null,null,null,null,null,null,null,null,null,null,null,null,null,null,null,null,null,null,null,null,null,null,null,null,null,null,null,null,null,null,null,null,null,null,null,null,null,null,null,null,null,null,null,null,null,null,null,null,null,null,null,null,null,null,null,null,null,null,null,null,null,null,null,null,null,null,null,null,null,null,null,null,null,null,null,null,null,null,null,null,null,null,null,null,null,null,null,null,null,null,null,"",{"$f":"H44","v":0},0,12,10.050000000000001,0,{"$f":"IF(ROUND(DF27,2)=0,\"\",C44)","v":""},"",0,5,"Shoulder Width (feet)",0.15503875968992242]
[null,null,"Horizontal Curve Data for Controlling Element:","--","--","--","--",null,"--",null,null,null,null,null,null,null,null,null,null,null,null,null,null,null,null,null,null,null,null,null,null,null,null,null,null,null,null,null,null,null,null,null,null,null,null,null,null,null,null,null,null,null,null,null,null,null,null,null,null,null,null,null,null,null,null,null,null,null,null,null,null,null,null,null,null,null,null,null,null,null,null,null,null,null,null,null,null,null,null,null,null,null,null,null,null,null,null,null,null,null,null,"",{"$f":"H52","v":0},0,13,10.06,0,{"$f":"IF(ROUND(DF28,2)=0,\"\",C52)","v":""},"",0,6,"Edgeline Pavement Markings or Profile Markings",0.13824118691351761]
[null,null,"  Radius (feet)",null,{"$f":"IF(MAX($I$10,$I$11)<45,590,IF($I$12=6,VLOOKUP(MAX($I$10,$I$11),Construction!$B$29:$D$36,2,TRUE),VLOOKUP(MAX($I$10,$I$11),Construction!$G$29:$I$36,2,TRUE)))","v":590},null,null,{"$f":"M140","v":0},{"$f":"IF(MAX($I$10,$I$11)<45,590,IF($I$12=6,VLOOKUP(MAX($I$10,$I$11),Construction!$B$45:$C$52,2,TRUE),VLOOKUP(MAX($I$10,$I$11),Construction!$G$45:$H$52,2,TRUE)))","v":590},null,null,null,null,null,null,null,null,null,null,null,null,null,null,null,null,null,null,null,null,null,null,null,null,null,null,null,null,null,null,null,null,null,null,null,null,null,null,null,null,null,null,null,null,null,null,null,null,null,null,null,null,null,null,null,null,null,null,null,null,null,null,null,null,null,null,null,null,null,null,null,null,null,null,null,null,null,null,null,null,null,null,null,null,null,null,null,null,null,null,null,null,"",0,0,14,10.07,0,"","",0,7,"Lateral Clearance to obstruction (ft)",9.0307162971216326E-2]
[null,null,"Length of Horizontal Curve (feet)",null,{"$f":"IF(D31=\"\", \"\", E29*E31/57.296)","v":""},null,null,null,{"$f":"I29*I31/57.296","v":3758.5520804244625},null,null,null,null,null,null,null,null,null,null,null,null,null,null,null,null,null,null,null,null,null,null,null,null,null,null,null,null,null,null,null,null,null,null,null,null,null,null,null,null,null,null,null,null,null,null,null,null,null,null,null,null,null,null,null,null,null,null,null,null,null,null,null,null,null,null,null,null,null,null,null,null,null,null,null,null,null,null,null,null,null,null,null,null,null,null,null,null,null,null,null,null,"",0,0,15,10.08,0,"","",0,8,"SafetyEdge",-2.8188991921691331E-2]
[null,null,"Calculated Deflection Angle ∆",{"$f":"IF(OR(ISBLANK(D29),ISBLANK(D30),$B$27=\"No\",ISBLANK($B$27)),\"\",ROUND(D30/D29*57.296,1))","v":""},{"$f":"IF(ISBLANK(D31), \"\",D31)","v":""},{"$f":"IF(OR(ISBLANK(F29),ISBLANK(F30),$B$27=\"No\",ISBLANK($B$27)),\"\",ROUND(F30/F29*57.296,1))","v":""},{"$f":"IF(OR(ISBLANK(G29),ISBLANK(G30),$B$27=\"No\",ISBLANK($B$27)),\"\",ROUND(G30/G29*57.296,1))","v":""},null,{"$f":"MIN(D31,IF(F33=INDEX(HCurveChange,1,0), F31, 365),IF(G33=INDEX(HCurveChange,1,0), G31, 365))","v":365},null,null,null,null,null,null,null,null,null,null,null,null,null,null,null,null,null,null,null,null,null,null,null,null,null,null,null,null,null,null,null,null,null,null,null,null,null,null,null,null,null,null,null,null,null,null,null,null,null,null,null,null,null,null,null,null,null,null,null,null,null,null,null,null,null,null,null,null,null,null,null,null,null,null,null,null,null,null,null,null,null,null,null,null,null,null,null,null,null,null,null,null,"6.09. Edgeline Pavement Markings or Profile Markings",0.13824118691351761,0.13824118691351761,6,6.09,0.13824118691351761,"Edgeline Pavement Markings or Profile Markings","Edgeline Pavement Markings or Profile Markings",0.13824118691351761,9,"Lighting",-2.3499081529478438E-2]
[null,null,null,null,null,"∆ has changed. \nAre you changing the ∆?","∆ has changed. \nAre you changing the ∆?",null,null,null,null,null,null,null,null,null,null,null,null,null,null,null,null,null,null,null,null,null,null,null,null,null,null,null,null,null,null,null,null,null,null,null,null,null,null,null,null,null,null,null,null,null,null,null,null,null,null,null,null,null,null,null,null,null,null,null,null,null,null,null,null,null,null,null,null,null,null,null,null,null,null,null,null,null,null,null,null,null,null,null,null,null,null,null,null,null,null,null,null,null,null,"",0,0,16,10.1,0,"","",0,10,"",0]
[null,null,null,null,null,null,null,null,null,null,null,null,null,null,null,null,null,null,null,null,null,null,null,null,null,null,null,null,null,null,null,null,null,null,null,null,null,null,null,null,null,null,null,null,null,null,null,null,null,null,null,null,null,null,null,null,null,null,null,null,null,null,null,null,null,null,null,null,null,null,null,null,null,null,null,null,null,null,null,null,null,null,null,null,null,null,null,null,null,null,null,null,null,null,null,null,null,null,null,null,null,"4.11. Centerline Rumble Strips",-0.16279069767441867,0.16279069767441867,4,4.1100000000000003,-0.16279069767441867,"Centerline Rumble Strips","Centerline Rumble Strips",0.16279069767441867,11,"",0]
[null,null,"Vertical Curve Present?","--","--","--","--",null,{"$f":"E34","v":"--"},null,null,null,null,null,null,null,null,null,null,null,null,null,null,null,null,null,null,null,null,null,null,null,null,null,null,null,null,null,null,null,null,null,null,null,null,null,null,null,null,null,null,null,null,null,null,null,null,null,null,null,null,null,null,null,null,null,null,null,null,null,null,null,null,null,null,null,null,null,null,null,null,null,null,null,null,null,null,null,null,null,null,null,null,null,null,null,null,null,null,null,null,"3.12. Driveway Density (driveways per mile)",-0.22388114201141129,0.22388114201141129,3,3.12,-0.22388114201141129,{"$f":"IF(DF34=0,\"\",C58)","v":"Driveway Density (driveways per mile)"},"Driveway Density (driveways per mile)",0.22388114201141129,12,"",0]
[null,null,"Vertical Curve Data for Controlling Element:","--","--","--","--",null,"--",null,null,null,null,null,null,null,null,null,null,null,null,null,null,null,null,null,null,null,null,null,null,null,null,null,null,null,null,null,null,null,null,null,null,null,null,null,null,null,null,null,null,null,null,null,null,null,null,null,null,null,null,null,null,null,null,null,null,null,null,null,null,null,null,null,null,null,null,null,null,null,null,null,null,null,null,null,null,null,null,null,null,null,null,null,null,null,null,null,null,null,null,"9.13. Lighting",-2.3499081529478438E-2,2.3499081529478438E-2,9,9.1300000000000008,-2.3499081529478438E-2,{"$f":"IF(DF35=0,\"\",C59)","v":"Lighting"},"Lighting",2.3499081529478438E-2,13,"",0]
[null,null,"  Approach (Entry) Grade, G1 (%)",null,{"$f":"IF(ISBLANK(D36),\"\", D36)","v":""},null,null,null,{"$f":"IF(B34=\"Yes\",I227,I237)","v":""},null,null,null,null,null,null,null,null,null,null,null,null,null,null,null,null,null,null,null,null,null,null,null,null,null,null,null,null,null,null,null,null,null,null,null,null,null,null,null,null,null,null,null,null,null,null,null,null,null,null,null,null,null,null,null,null,null,null,null,null,null,null,null,null,null,null,null,null,null,null,null,null,null,null,null,null,null,null,null,null,null,null,null,null,null,null,null,null,null,null,null,null,"2.14. Pavement Friction (skid number) ***",0.28430956017940245,0.28430956017940245,2,2.14,0.28430956017940245,{"$f":"IF(DF36=0,\"\",C60)","v":"Pavement Friction (skid number) ***"},"Pavement Friction (skid number) ***",0.28430956017940245,14,"",0]
[null,null,"  Departure (Exit) Grade, G2 (%)",null,{"$f":"IF(ISBLANK(D37),\"\", D37)","v":""},null,null,null,{"$f":"IF($B$34=\"Yes\",I228,\"\")","v":""},null,null,null,null,null,null,null,null,null,null,null,null,null,null,null,null,null,null,null,null,null,null,null,null,null,null,null,null,null,null,null,null,null,null,null,null,null,null,null,null,null,null,null,null,null,null,null,null,null,null,null,null,null,null,null,null,null,null,null,null,null,null,null,null,null,null,null,null,null,null,null,null,null,null,null,null,null,null,null,null,null,null,null,null,null,null,null,null,null,null,null,null,"",{"$f":"H72","v":0},0,17,10.15,0,{"$f":"IF(DF37=0,\"\",C72)","v":""},"",0,15,"",0]
[null,null,"  Length (feet)",null,{"$f":"IF(AND($B$34=\"Yes\", D39<>\"\"), ABS(E36-E37)*D39, \"\")","v":""},null,null,null,{"$f":"IF(AND($B$34=\"Yes\",I36<>\"\",I37<>\"\", NOT(ISBLANK($I$10)), NOT(ISBLANK($I$11))),ABS(I37-I36)*I39,\"\")","v":""},null,null,null,null,null,null,null,null,null,null,null,null,null,null,null,null,null,null,null,null,null,null,null,null,null,null,null,null,null,null,null,null,null,null,null,null,null,null,null,null,null,null,null,null,null,null,null,null,null,null,null,null,null,null,null,null,null,null,null,null,null,null,null,null,null,null,null,null,null,null,null,null,null,null,null,null,null,null,null,null,null,null,null,null,null,null,null,null,null,null,null,null,"",{"$f":"H73","v":0},{"$f":"ABS(CY38)","v":0},18,10.16,0,{"$f":"IF(DF38=0,\"\",C73)","v":""},"",0,16,"",0]
[null,null,"  Calculated Rate of Change, K (ft/ft)",{"$f":"IF(OR($B$34=\"No\",ISBLANK($B$34), ISBLANK(D36), ISBLANK(D37),ISBLANK(D38), D36=D37), \"\", ROUND(D38/(ABS(D37-D36)),1))","v":""},{"$f":"IF(AND($B$34=\"Yes\", NOT(ISBLANK($I$10)), NOT(ISBLANK($I$11)), D39<>\"\"), IF($E$42=\"Crest\",  VLOOKUP(MAX($I$10,$I$11),Construction!$B$159:$D$171,2,TRUE), VLOOKUP(MAX($I$10,$I$11),Construction!$B$159:$D$171,3,TRUE)), \"\")","v":""},{"$f":"IF(AND($B$34=\"Yes\", SUM(F263:F265)=0),ROUND(F38/(ABS(F37-F36)),1),\"\")","v":""},{"$f":"IF(AND($B$34=\"Yes\", SUM(G263:G265)=0),ROUND(G38/(ABS(G37-G36)),1),\"\")","v":""},null,{"$f":"IF(OR($B$34<>\"Yes\", ISBLANK($I$10), ISBLANK($I$11), $I$36=\"\", $I$37=\"\", $I$42=\"--\", ISBLANK($I$42)),\"\",IF($I$42=\"Crest\",VLOOKUP(MAX($I$10,$I$11),Construction!$B$179:$D$191,2,TRUE),VLOOKUP(MAX($I$10,$I$11),Construction!$B$179:$D$191,3,TRUE)))","v":""},null,null,null,null,null,null,null,null,null,null,null,null,null,null,null,null,null,null,null,null,null,null,null,null,null,null,null,null,null,null,null,null,null,null,null,null,null,null,null,null,null,null,null,null,null,null,null,null,null,null,null,null,null,null,null,null,null,null,null,null,null,null,null,null,null,null,null,null,null,null,null,null,null,null,null,null,null,null,null,null,null,null,null,null,null,null,null,null,null,null,null,null,"8.17. SafetyEdge",{"$f":"H74","v":-2.8188991921691331E-2},{"$f":"ABS(CY39)","v":2.8188991921691331E-2},8,8.17,-2.8188991921691331E-2,{"$f":"IF(DF39=0,\"\",C74)","v":"SafetyEdge"},"SafetyEdge",2.8188991921691331E-2,17,"",0]
[null,null,null,null,null,"Are you changing the geometry?","Are you changing the geometry?",null,null,null,null,null,null,null,null,null,null,null,null,null,null,null,null,null,null,null,null,null,null,null,null,null,null,null,null,null,null,null,null,null,null,null,null,null,null,null,null,null,null,null,null,null,null,null,null,null,null,null,null,null,null,null,null,null,null,null,null,null,null,null,null,null,null,null,null,null,null,null,null,null,null,null,null,null,null,null,null,null,null,null,null,null,null,null,null,null,null,null,null,null,null,"7.18. Lateral Clearance to obstruction (ft)",{"$f":"H75","v":9.0307162971216326E-2},{"$f":"ABS(CY40)","v":9.0307162971216326E-2},7,7.18,9.0307162971216326E-2,{"$f":"IF(DF40=0,\"\",C75)","v":"Lateral Clearance to obstruction (ft)"},"Lateral Clearance to obstruction (ft)",9.0307162971216326E-2,18,"",0]
[null,null,null,null,null,null,null,null,null,null,null,null,null,null,null,null,null,null,null,null,null,null,null,null,null,null,null,null,null,null,null,null,null,null,null,null,null,null,null,null,null,null,null,null,null,null,null,null,null,null,null,null,null,null,null,null,null,null,null,null,null,null,null,null,null,null,null,null,null,null,null,null,null,null,null,null,null,null,null,null,null,null,null,null,null,null,null,null,null,null,null,null,null,null,null,null,null,null,null,null,null,"",{"$f":"H76","v":0},{"$f":"ABS(CY41)","v":0},19,10.19,0,{"$f":"IF(DF41=0,\"\",C76)","v":""},"",0,19,"",0]
[null,null,"  Calculated Sag or Crest?",{"$f":"IF(AND($B$34=\"Yes\", SUM(D263:D265)=0),IF(D36>D37,\"Crest\",\"Sag\"),\"--\")","v":"--"},{"$f":"IF(AND($B$34=\"Yes\", SUM(D263:D265)=0),IF(E36>E37,\"Crest\",\"Sag\"),\"--\")","v":"--"},{"$f":"IF(AND($B$34=\"Yes\", SUM(F263:F265)=0),IF(F36>F37,\"Crest\",\"Sag\"),\"--\")","v":"--"},{"$f":"IF(AND($B$34=\"Yes\", SUM(G263:G265)=0),IF(G36>G37,\"Crest\",\"Sag\"),\"--\")","v":"--"},null,{"$f":"IF($B$34=\"Yes\",IF(I36>I37,\"Crest\",\"Sag\"),\"--\")","v":"--"}]
[null,null,"TWLTL (two-way left-turn lane)",null,"No",null,null,{"$f":"M108","v":-0.40845070422535223},{"$f":"IF(OR($D$43=\"Yes\", $F$43=\"Yes\",$G$43=\"Yes\"), \"Yes\", \"No\")","v":"No"}]
[null,null,"Passing Lane Type",null,"No Passing Lane",null,null,{"$f":"M109","v":0},"Super 2"]
[null,null,"Geometric Design Element (Partial Score)",{"$f":"IF(OR(SUM(D251:D253,D256:D257,D263:D265,D270:D271)>0, ISERR(D125)),\"\",D125)","v":""},{"$f":"IF(OR(SUM(E251:E253,E256:E257,E263:E265,E270:E271)>0, ISERR(E125)),\"\",E125)","v":""},"","",null,{"$f":"IF(OR(SUM(I251:I253,I256:I257,I263:I265,I270:I271)>0, ISERR(I125)),\"\",I125)","v":""}]
[null,null,"Total Safety Score",{"$f":"IF(OR(D$249>0, $I$315>0,ISERROR(D$201+D$171+D$125)),\"\",D$201+D$171+D$125)","v":""},{"$f":"IF(OR(E$249>0, $I$315>0,ISERROR(E$201+E$171+E$125)),\"\",E$201+E$171+E$125)","v":""},"","",null,"",null,null,null,"SCHEMATIC REPRESENTING INPUT DATA FOR ",null,null,null,null,null,null,null,{"$f":"IF($I$2=\"Existing\",\"EXISTING CONFIGURATION\",IF($I$2=\"Standard\",\"STANDARD OPTION\",IF($I$2=\"Design 1\",\"DESIGN 1 OPTION\",IF($I$2=\"Design 2\",\"DESIGN 2 OPTION\",\"OPTIMAL OPTION\"))))","v":"STANDARD OPTION"}]
[]
[null,null,null,null,null,null,null,null,null,null,null,"LT",null,null,null,null,null,null,null,null,null,null,null,null,null,null,"RT"]
[null,null,null,null,null,null,null,null,null,null,null,"R/W",null,null,null,null,null,null,null,null,null,null,null,null,null,null,"R/W"]
[null,{"$f":"+Construction!$I$9&\"  Total Available Points\"","v":"20  Total Available Points"}]
[null,"Traffic Elements",null,"Existing","Standard","Design 1","Design 2",{"$f":"$H$23","v":"Marginal Safety for Standard (compared to Existing)"},"Optimal",null,null,null,null,null,{"$f":"+$I$14","v":0},null,null,null,null,null,null,null,{"$f":"+$I$15","v":0}]
[null,null,"Advance Static Curve Warning Signs",null,"No",null,null,{"$f":"M145","v":0},"Yes"]
[null,null,"Chevron Signs on Horizontal Curves",null,"No",null,null,{"$f":"M146","v":0},"Yes",null,null,{"$f":"+O51-N53-Q53","v":-16},null,{"$f":"IF(+$I$2=\"Existing\",D25,IF($I$2=\"Standard\",E25,IF($I$2=\"Design 1\",F25,IF($I$2=\"Design 2\",G25,I25))))","v":4},null,null,{"$f":"IF(+$I$2=\"Existing\",D24,IF($I$2=\"Standard\",E24,IF($I$2=\"Design 1\",F24,IF($I$2=\"Design 2\",G24,I24))))","v":12},null,null,null,null,{"$f":"+Q53","v":12},null,null,{"$f":"+N53","v":4},{"$f":"+W51-V53-Y53","v":-16}]
[null,null,"Post-Mounted Delineators",null,"No",null,null,0,"Yes"]
[null,null,"Edgeline Pavement Markings or Profile Markings",null,"Yes",null,null,0.13824118691351761,"Yes"]
[null,null,"Shoulder Rumble Strips",null,"Yes",null,null,{"$f":"M150","v":0},"Yes"]
[null,null,"Centerline Rumble Strips",null,"No",null,null,{"$f":"M151","v":-0.16279069767441867},"Yes"]
[null,null,"Driveway Density (driveways per mile)",null,10,null,null,{"$f":"M152","v":-0.22388114201141129},0]
[null,null,"Lighting",null,"No",null,null,{"$f":"M153","v":-2.3499081529478438E-2},"Yes",null,null,null,null,null,null,null,null,null,"Tangent X-Section"]
[null,null,"Pavement Friction (skid number) ***",null,37,null,null,{"$f":"M154","v":0.28430956017940245},54]
[]
[null,null,"Traffic Control Element (Partial Score):",{"$f":"IF(ISERROR(D171), \"\", D171)","v":12},{"$f":"IF(ISERROR(E171), \"\", E171)","v":14},{"$f":"IF(ISERROR(F171), \"\", F171)","v":""},{"$f":"IF(ISERROR(G171), \"\", G171)","v":""},null,{"$f":"IF(ISERROR(I171), \"\", I171)","v":20}]
[null,null,"Total Safety Score",{"$f":"IF(OR(D$249>0, $I$315>0,ISERROR(D$201+D$171+D$125)),\"\",D$201+D$171+D$125)","v":""},{"$f":"IF(OR(E$249>0, $I$315>0,ISERROR(E$201+E$171+E$125)),\"\",E$201+E$171+E$125)","v":""},"","",null,""]
[]
[null,null,"*** Pavement friction/skid numbers will not be subject to open records requests ***",null,null,null,null,null,null,null," "]
[]
[]
[]
[null,null,null,null,null,null,null,null,null,null,null,null,null,null,null,null,null,null,"Curved X-Section"]
[null,{"$f":"+Construction!$I$10&\"  Total Available Points\"","v":"40  Total Available Points"}]
[null,"Roadside  Elements",null,"Existing","Standard","Design 1","Design 2",{"$f":"$H$23","v":"Marginal Safety for Standard (compared to Existing)"},"Optimal"]
[null,null,"Sideslope (Foreslope)",null,"1V:4H",null,null,{"$f":"M180","v":0},"1V:6H"]
[null,null,"Backslope",null,{"$f":"E72","v":"1V:4H"},null,null,{"$f":"M181","v":0},"1V:4H"]
[null,null,"SafetyEdge",null,"No",null,null,{"$f":"M182","v":-2.8188991921691331E-2},"Yes"]
[null,null,"Lateral Clearance to obstruction (ft)",null,30,null,null,{"$f":"M183","v":9.0307162971216326E-2},40,null,null,null,null,null,null,null,{"$f":"IF($I$2=\"Existing\",\"SCORE SUMMARY FOR EXISTING CONFIGURATION\", IF($I$2=\"Standard\",\"SCORE SUMMARY FOR STANDARD OPTION\",IF($I$2=\"Design 1\",\"SCORE SUMMARY FOR DESIGN 1 OPTION\",IF($I$2=\"Design 2\",\"SCORE SUMMARY FOR DESIGN 2 OPTION\", \"SCORE SUMMARY FOR OPTIMAL OPTION\"))))","v":"SCORE SUMMARY FOR STANDARD OPTION"}]
[null,null,"Obstruction Type",null,"Other Fixed Object",null,null,{"$f":"M184","v":0},"None",null,null,null,null,null,null,null,"GEOMETRIC DESIGN:",null,null,null,null,null,{"$f":"IF($I$2=\"Existing\",D45,IF($I$2=\"Standard\",E45,IF($I$2=\"Design 1\",F45,IF($I$2=\"Design 2\",G45,I45))))","v":""}]
[null,null,"Roadside Element (Partial Score):",{"$f":"IF(ISERR(D201),\"\",D201)","v":""},{"$f":"IF(ISERR(E201),\"\",E201)","v":27},{"$f":"IF(ISERR(F201),\"\",F201)","v":""},{"$f":"IF(ISERR(G201),\"\",G201)","v":""},null,{"$f":"IF(ISERR(I201),\"\",I201)","v":40},null,null,null,null,null,null,null,"TRAFFIC CONTROL:",null,null,null,null,null,{"$f":"IF($I$2=\"Existing\",D62,IF($I$2=\"Standard\",E62,IF($I$2=\"Design 1\",F62,IF($I$2=\"Design 2\",G62,I62))))","v":14}]
[null,null,"Total Safety Score",{"$f":"IF(OR(D$249>0, $I$315>0,ISERROR(D$201+D$171+D$125)),\"\",D$201+D$171+D$125)","v":""},{"$f":"IF(OR(E$249>0, $I$315>0,ISERROR(E$201+E$171+E$125)),\"\",E$201+E$171+E$125)","v":""},"","",null,"",null,null,null,null,null,null,null,"ROADSIDE:",null,null,null,null,null,{"$f":"IF($I$2=\"Existing\",D77,IF($I$2=\"Standard\",E77,IF($I$2=\"Design 1\",F77,IF($I$2=\"Design 2\",G77,I77))))","v":27}]
[null,null,null,null,null,null,null,null,null,null,null,null,null,null,null,null,"OVERALL SAFETY SCORE:",null,null,null,null,null,{"$f":"SUM(W76:X78)","v":41}]
[]
[]
[]
[null,"ADDITIONAL SIDESLOPE INFORMATION"]
[null,null,"Distance to Slope Toe from Shoulder (ft)",null,{"$f":"D84","v":0},{"$f":"E84","v":0},{"$f":"F84","v":0},null,{"$f":"G84","v":0}]
[null,"Minimum foreslope feasible within current ROW",null,null,{"$f":"IF(OR(ISBLANK($D$84), ISERROR(E206)), \"\", \"1V:\"&E206&\"H\")","v":""},{"$f":"IF(OR(ISBLANK($D$84), ISERROR(F206)), \"\", \"1V:\"&F206&\"H\")","v":""},{"$f":"IF(OR(ISBLANK($D$84), ISERROR(G206)), \"\", \"1V:\"&G206&\"H\")","v":""},null,{"$f":"IF(OR(ISBLANK($D$84), ISERROR(I206)), \"\", \"1V:\"&I206&\"H\")","v":""}]
[null,"Additional R/W needed on left side",null,null,{"$f":"IF(OR(ISBLANK($D$84), ISERROR(E210)),\"\", MAX(E210,E213))","v":""},{"$f":"IF(OR(ISBLANK($D$84), ISERROR(F210)), \"\", MAX(F210,F213))","v":""},{"$f":"IF(OR(ISBLANK($D$84), ISERROR(G210)),\"\", MAX(G210,G213))","v":""},null,{"$f":"IF(OR(ISBLANK($D$84), ISERROR(I210)),\"\", MAX(I210,I213))","v":""}]
[null,"Additional R/W needed on right side",null,null,{"$f":"IF(OR(ISBLANK($D$84), ISERROR(E211)), \"\", MAX(E211,E214))","v":""},{"$f":"IF(OR(ISBLANK($D$84), ISERROR(F211)), \"\", MAX(F211,F214))","v":""},{"$f":"IF(OR(ISBLANK($D$84), ISERROR(G211)),\"\", MAX(G211,G214))","v":""},null,{"$f":"IF(OR(ISBLANK($D$84), ISERROR(I211)),\"\", MAX(I211,I214))","v":""}]
[]
[]
[]
[]
[]
[]
[]
[null,null,null,null,null,null,null,null,null,{"$f":"1-I100/E100","v":0}]
[null,null,null,null,null,null,null,null,null,{"$f":"1-I101/E101","v":0.17431192660550465},"For Plot"]
[null,null,null,{"$f":"MAX(SUM(D103:D107)-5,$I$97)","v":{"$error":"#VALUE!"}},{"$f":"MAX(SUM(E103:E107)-5,$I$97)","v":{"$error":"#VALUE!"}},{"$f":"MAX(SUM(F103:F107)-5,$I$97)","v":{"$error":"#VALUE!"}},{"$f":"MAX(SUM(G103:G107)-5,$I$97)","v":{"$error":"#VALUE!"}},null,{"$f":"SUM(I103:I107)-5","v":{"$error":"#VALUE!"}},{"$f":"1-I102/E102","v":0},"relative to","Prefer"]
[null,null,null,null,null,null,null,null,null,{"$f":"1-I103/E103","v":{"$error":"#VALUE!"}},{"$f":"MATCH(K99,ModView,0)","v":1},{"$f":"MATCH(L99,ModView,0)","v":2}]
[null,"Geometric",null,null,null,null,null,null,null,null,{"$f":"I4","v":"Existing"},{"$f":"I2","v":"Standard"},"%"]
[null,null,"LW CMF",{"$f":"VLOOKUP(+D24,Construction!$C$3:$D$9,2)","v":{"$error":"#N/A"}},{"$f":"VLOOKUP(+E24,Construction!$C$3:$D$9,2)","v":1},{"$f":"VLOOKUP(+F24,Construction!$C$3:$D$9,2)","v":{"$error":"#N/A"}},{"$f":"VLOOKUP(+G24,Construction!$C$3:$D$9,2)","v":{"$error":"#N/A"}},{"$f":"H24","v":0},{"$f":"VLOOKUP(+I24,Construction!$C$3:$D$9,2)","v":1},null,{"$f":"INDEX($D100:$I100,K$98)","v":{"$error":"#N/A"}},{"$f":"INDEX($D100:$I100,L$98)","v":1},{"$f":"IF(ISERROR(1-L100/K100), 0, 1-L100/K100)","v":0}]
[null,null,"SW CMF",{"$f":"VLOOKUP(D25,Construction!$C$13:D23,2)","v":1.29},{"$f":"VLOOKUP(E25,Construction!$C$13:E23,2)","v":1.0900000000000001},{"$f":"VLOOKUP(F25,Construction!$C$13:F23,2)","v":1.29},{"$f":"VLOOKUP(G25,Construction!$C$13:G23,2)","v":1.29},{"$f":"IF($I$2=\"Existing\",(1-D101/E101),(IF($I$2=\"Design 1\",(1-F101/E101),(IF($I$2=\"Design 2\",(1-G101/E101),(IF($I$2=\"Optimal\",(1-I101/E101),0)))))))","v":0},{"$f":"VLOOKUP(I25,Construction!$C$13:I23,2)","v":0.9},null,{"$f":"INDEX($D101:$I101,K$98)","v":1.29},{"$f":"INDEX($D101:$I101,L$98)","v":1.0900000000000001},{"$f":"IF(ISERROR(1-L101/K101), 0, 1-L101/K101)","v":0.15503875968992242}]
[null,null,"Placeholder for super deficincy",1,1,1,1,0,1,null,{"$f":"INDEX($D102:$I102,K$98)","v":1},{"$f":"INDEX($D102:$I102,L$98)","v":1},0]
[null,null,"HC and Grade",{"$f":"D$134^D$127","v":1},{"$f":"E$134^E$127","v":{"$error":"#VALUE!"}},{"$f":"F$134^F$127","v":1},{"$f":"G$134^G$127","v":1},0,{"$f":"I$134^I$127","v":{"$error":"#VALUE!"}},null,{"$f":"INDEX($D103:$I103,K$98)","v":1},{"$f":"INDEX($D103:$I103,L$98)","v":{"$error":"#VALUE!"}},0]
[null,null,"HC and VC Crest type I",{"$f":"D$135^D$128","v":1},{"$f":"E$135^E$128","v":1},{"$f":"F$135^F$128","v":1},{"$f":"G$135^G$128","v":1},0,{"$f":"I$135^I$128","v":{"$error":"#VALUE!"}},null,{"$f":"INDEX($D104:$I104,K$98)","v":1},{"$f":"INDEX($D104:$I104,L$98)","v":1},0]
[null,null,"HC and VC Sag type I",{"$f":"D$136^D$129","v":1},{"$f":"E$136^E$129","v":1},{"$f":"F$136^F$129","v":1},{"$f":"G$136^G$129","v":1},0,{"$f":"I$136^I$129","v":{"$error":"#VALUE!"}},null,{"$f":"INDEX($D105:$I105,K$98)","v":1},{"$f":"INDEX($D105:$I105,L$98)","v":1},0]
[null,null,"HC and VC Crest type II",{"$f":"D$137^D$130","v":1},{"$f":"E$137^E$130","v":1},{"$f":"F$137^F$130","v":1},{"$f":"G$137^G$130","v":1},0,{"$f":"I$137^I$130","v":{"$error":"#VALUE!"}},{"$f":"1-I111/E111","v":{"$error":"#VALUE!"}},{"$f":"INDEX($D106:$I106,K$98)","v":1},{"$f":"INDEX($D106:$I106,L$98)","v":1},0]
[null,null,"HC and VC Sag type II",{"$f":"D$138^D$131","v":1},{"$f":"E$138^E$131","v":1},{"$f":"F$138^F$131","v":1},{"$f":"G$138^G$131","v":1},0,{"$f":"I$138^I$131","v":{"$error":"#VALUE!"}},{"$f":"1-I112/E112","v":{"$error":"#VALUE!"}},{"$f":"INDEX($D107:$I107,K$98)","v":1},{"$f":"INDEX($D107:$I107,L$98)","v":1},0]
[null,null,"Add TWLTL",{"$f":"IF(D$43=\"No\",1,CMFs!$F$17)","v":0.71},{"$f":"IF(E$43=\"No\",1,CMFs!$F$17)","v":1},{"$f":"IF(F$43=\"No\",1,CMFs!$F$17)","v":0.71},{"$f":"IF(G$43=\"No\",1,CMFs!$F$17)","v":0.71},0,{"$f":"IF(I$43=\"No\",1,CMFs!$F$17)","v":1},{"$f":"1-I113/E113","v":{"$error":"#VALUE!"}},{"$f":"INDEX($D108:$I108,K$98)","v":0.71},{"$f":"INDEX($D108:$I108,L$98)","v":1},-0.40845070422535223]
[null,null,"Passing Lane Type",{"$f":"IF(ISNUMBER(INDEX(PassLNCMF, MATCH(D44,Passing_Lane_Type,0))),INDEX(PassLNCMF, MATCH(D44,Passing_Lane_Type,0)),1)","v":1},{"$f":"IF(ISNUMBER(INDEX(PassLNCMF, MATCH(E44,Passing_Lane_Type,0))),INDEX(PassLNCMF, MATCH(E44,Passing_Lane_Type,0)),1)","v":1},{"$f":"IF(ISNUMBER(INDEX(PassLNCMF, MATCH(F44,Passing_Lane_Type,0))),INDEX(PassLNCMF, MATCH(F44,Passing_Lane_Type,0)),1)","v":1},{"$f":"IF(ISNUMBER(INDEX(PassLNCMF, MATCH(G44,Passing_Lane_Type,0))),INDEX(PassLNCMF, MATCH(G44,Passing_Lane_Type,0)),1)","v":1},0,{"$f":"IF(ISNUMBER(INDEX(PassLNCMF, MATCH(I44,Passing_Lane_Type,0))),INDEX(PassLNCMF, MATCH(I44,Passing_Lane_Type,0)),1)","v":0.65},{"$f":"1-I114/E114","v":{"$error":"#VALUE!"}},{"$f":"INDEX($D109:$I109,K$98)","v":1},{"$f":"INDEX($D109:$I109,L$98)","v":1},0]
[null,null,null,null,null,null,null,null,null,{"$f":"I115/E115","v":{"$error":"#VALUE!"}}]
[null,null,"COMBINED Calculated CMF",{"$f":"+D100*D101*D102*D103*D104*D105*D106*D107*D108*D109","v":{"$error":"#N/A"}},{"$f":"+E100*E101*E102*E103*E104*E105*E106*E107*E108*E109","v":{"$error":"#VALUE!"}},{"$f":"+F100*F101*F102*F103*F104*F105*F106*F107*F108*F109","v":{"$error":"#N/A"}},{"$f":"+G100*G101*G102*G103*G104*G105*G106*G107*G108*G109","v":{"$error":"#N/A"}},{"$f":"IF($I$2=\"Existing\",(D111),(IF($I$2=\"Design 1\",(F111),(IF($I$2=\"Design 2\",(G111),(IF($I$2=\"Optimal\",(I111),E111)))))))","v":{"$error":"#VALUE!"}},{"$f":"+I100*I101*I102*I103*I104*I105*I106*I107*I108*I109","v":{"$error":"#VALUE!"}},null,{"$f":"INDEX($D111:$I111,K$98)","v":{"$error":"#N/A"}},{"$f":"INDEX($D111:$I111,L$98)","v":{"$error":"#VALUE!"}},{"$f":"IF(ISERROR(1-L111/K111), 0, 1-L111/K111)","v":0}]
[null,null,"Calculated Relative to Design Standards (Column E)",{"$f":"+D111/$E$111","v":{"$error":"#N/A"}},{"$error":"#VALUE!"},{"$error":"#N/A"},{"$error":"#N/A"},{"$error":"#VALUE!"},{"$error":"#VALUE!"},null,{"$f":"INDEX($D112:$I112,K$98)","v":{"$error":"#N/A"}},{"$f":"INDEX($D112:$I112,L$98)","v":{"$error":"#VALUE!"}},0]
[null,null,"P(Crash)",{"$f":"+D112/(D112+1)","v":{"$error":"#N/A"}},{"$error":"#VALUE!"},{"$error":"#N/A"},{"$error":"#N/A"},{"$error":"#VALUE!"},{"$error":"#VALUE!"},null,{"$f":"INDEX($D113:$I113,K$98)","v":{"$error":"#N/A"}},{"$f":"INDEX($D113:$I113,L$98)","v":{"$error":"#VALUE!"}},0]
[null,null,"Factor Change on S curve",{"$f":"+D113/$E$113","v":{"$error":"#N/A"}},{"$error":"#VALUE!"},{"$error":"#N/A"},{"$error":"#N/A"},{"$error":"#VALUE!"},{"$error":"#VALUE!"},null,{"$f":"INDEX($D114:$I114,K$98)","v":{"$error":"#N/A"}},{"$f":"INDEX($D114:$I114,L$98)","v":{"$error":"#VALUE!"}},0]
[null,null,"Adjust to Scale of 100",{"$f":"+$I$114/D114*100","v":{"$error":"#VALUE!"}},{"$error":"#VALUE!"},{"$error":"#VALUE!"},{"$error":"#VALUE!"},{"$error":"#VALUE!"},{"$error":"#VALUE!"}]
[null,null,"Unadjusted Combined Relative to Standard",{"$f":"+D111/$E$111","v":{"$error":"#N/A"}},{"$error":"#VALUE!"},{"$error":"#N/A"},{"$error":"#N/A"},{"$error":"#VALUE!"},{"$error":"#VALUE!"},null,{"$f":"INDEX($D116:$I116,K$98)","v":{"$error":"#N/A"}},{"$f":"INDEX($D116:$I116,L$98)","v":{"$error":"#VALUE!"}},{"$f":"IF(ISERROR(1-L116/K116), 0, 1-L116/K116)","v":0}]
[null,null,null,null,null,null,null,null,null,{"$f":"I122/E122","v":{"$error":"#VALUE!"}}]
[null,null,"Adjusted for PA Basis",{"$f":"+D111*(1+1)/(1+D111*1)","v":{"$error":"#N/A"}},{"$error":"#VALUE!"},{"$error":"#N/A"},{"$error":"#N/A"},{"$f":"IF($I$2=\"Existing\",(D118),(IF($I$2=\"Design 1\",(F118),(IF($I$2=\"Design 2\",(G118),(IF($I$2=\"Optimal\",(I118),E118)))))))","v":{"$error":"#VALUE!"}},{"$error":"#VALUE!"},null,{"$f":"INDEX($D118:$I118,K$98)","v":{"$error":"#N/A"}},{"$f":"INDEX($D118:$I118,L$98)","v":{"$error":"#VALUE!"}},{"$f":"IF(ISERROR(1-L118/K118), 0, 1-L118/K118)","v":0}]
[null,null,"Corrected by Odds Ratio",{"$f":"+D118/$E$118","v":{"$error":"#N/A"}},{"$error":"#VALUE!"},{"$error":"#N/A"},{"$error":"#N/A"},{"$f":"IF($I$2=\"Existing\",(D119),(IF($I$2=\"Design 1\",(F119),(IF($I$2=\"Design 2\",(G119),(IF($I$2=\"Optimal\",(I119),E119)))))))","v":{"$error":"#VALUE!"}},{"$error":"#VALUE!"},null,{"$f":"INDEX($D119:$I119,K$98)","v":{"$error":"#N/A"}},{"$f":"INDEX($D119:$I119,L$98)","v":{"$error":"#VALUE!"}},0]
[null,null,"Pinned s",{"$f":"(1/D119)^$D123","v":{"$error":"#N/A"}},{"$error":"#VALUE!"},{"$error":"#N/A"},{"$error":"#N/A"},{"$error":"#VALUE!"},{"$error":"#VALUE!"},{"$f":"I125/E125","v":{"$error":"#VALUE!"}},{"$f":"INDEX($D120:$I120,K$98)","v":{"$error":"#N/A"}},{"$f":"INDEX($D120:$I120,L$98)","v":{"$error":"#VALUE!"}},0]
[null,null,null,{"$f":"(D120+$F124-1)/(1+(D120+$F124-1))","v":{"$error":"#N/A"}},{"$error":"#VALUE!"},{"$error":"#N/A"},{"$error":"#N/A"},{"$error":"#VALUE!"},{"$error":"#VALUE!"},null,{"$f":"INDEX($D121:$I121,K$98)","v":{"$error":"#N/A"}},{"$f":"INDEX($D121:$I121,L$98)","v":{"$error":"#VALUE!"}},0]
[null,null,"Score Odds Ratio with Optimal (old)",{"$f":"MIN(ROUND($I$119/D119*Construction!$I$8,0),$I122)","v":{"$error":"#VALUE!"}},{"$f":"MIN(ROUND($I$119/E119*Construction!$I$8,0),$I122)","v":{"$error":"#VALUE!"}},{"$f":"MIN(ROUND($I$119/F119*Construction!$I$8,0),$I122)","v":{"$error":"#VALUE!"}},{"$f":"MIN(ROUND($I$119/G119*Construction!$I$8,0),$I122)","v":{"$error":"#VALUE!"}},{"$f":"IF($I$2=\"Existing\",(D122),(IF($I$2=\"Design 1\",(F122),(IF($I$2=\"Design 2\",(G122),(IF($I$2=\"Optimal\",(I122),E122)))))))","v":{"$error":"#VALUE!"}},{"$f":"ROUND($I$119/I119*Construction!$I$8,0)","v":{"$error":"#VALUE!"}}]
[null,null,"Logistic1",{"$f":"LN((D124/(1-D124))/(0.5/0.5))/LN($E119/I119)","v":{"$error":"#VALUE!"}}]
[null,null,"Logistic Param",0.999,null,{"$f":"0.7/0.3","v":2.3333333333333335}]
[null,null,"Score ",{"$f":"MIN(ROUND(D121*Construction!$I$8,0),$I122)","v":{"$error":"#N/A"}},{"$f":"MIN(ROUND(E121*Construction!$I$8,0),$I122)","v":{"$error":"#VALUE!"}},{"$f":"MIN(ROUND(F121*Construction!$I$8,0),$I122)","v":{"$error":"#N/A"}},{"$f":"MIN(ROUND(G121*Construction!$I$8,0),$I122)","v":{"$error":"#N/A"}},{"$f":"MIN(ROUND(H121*Construction!$I$8,0),$I122)","v":{"$error":"#VALUE!"}},{"$f":"MIN(ROUND(I121*Construction!$I$8,0),$I122)","v":{"$error":"#VALUE!"}}]
[]
[null,null,"HC and Grade",{"$f":"IF($B$135,0,1)","v":1},{"$f":"IF($B$135,0,1)","v":1},{"$f":"IF($B$135,0,1)","v":1},{"$f":"IF($B$135,0,1)","v":1},{"$f":"IF($I$2=\"Existing\",(D127),(IF($I$2=\"Design 1\",(F127),(IF($I$2=\"Design 2\",(G127),(IF($I$2=\"Optimal\",(I127),E127)))))))","v":1},{"$f":"IF($B$135,0,1)","v":1}]
[null,null,"HC and VC Crest type I",{"$f":"IF(AND($B$135=1,SIGN(D$36)=1,ABS(D$36)<=ABS(D$36-D$37),D$42=\"Crest\"),1,0)","v":0},{"$f":"IF(AND($B$135=1, SIGN(IF(ISNUMBER(E$36),E$36,0))=1,ABS(IF(ISNUMBER(E$36),E$36,0)) <= ABS(IF(ISNUMBER(E$36),E$36,0)-IF(ISNUMBER(E$37),E$37,0)),E$42=\"Crest\"),1,0)","v":0},{"$f":"IF(AND($B$135=1,SIGN(F$36)=1,ABS(F$36)<=ABS(F$36-F$37),F$42=\"Crest\"),1,0)","v":0},{"$f":"IF(AND($B$135=1,SIGN(G$36)=1,ABS(G$36)<=ABS(G$36-G$37),G$42=\"Crest\"),1,0)","v":0},{"$f":"IF($I$2=\"Existing\",(D128),(IF($I$2=\"Design 1\",(F128),(IF($I$2=\"Design 2\",(G128),(IF($I$2=\"Optimal\",(I128),E128)))))))","v":0},{"$f":"IF(AND($B$135=1,SIGN(I$36)=1,ABS(I$36)<=ABS(I$36-IF(ISNUMBER(I$37), I$37,0)),I$42=\"Crest\"),1,0)","v":{"$error":"#VALUE!"}}]
["HC?",null,"HC and VC Sag type I",{"$f":"IF(AND($B$135=1,SIGN(D$36)=1,ABS(D$36)<=ABS(D$36-D$37),D$42=\"Sag\"),1,0)","v":0},{"$f":"IF(AND($B$135=1, SIGN(IF(ISNUMBER(E$36),E$36,0))=1,ABS(IF(ISNUMBER(E$36),E$36,0)) <= ABS(IF(ISNUMBER(E$36),E$36,0)-IF(ISNUMBER(E$37),E$37,0)),E$42=\"Sag\"),1,0)","v":0},{"$f":"IF(AND($B$135=1,SIGN(F$36)=1,ABS(F$36)<=ABS(F$36-F$37),F$42=\"Sag\"),1,0)","v":0},{"$f":"IF(AND($B$135=1,SIGN(G$36)=1,ABS(G$36)<=ABS(G$36-G$37),G$42=\"Sag\"),1,0)","v":0},{"$f":"IF($I$2=\"Existing\",(D129),(IF($I$2=\"Design 1\",(F129),(IF($I$2=\"Design 2\",(G129),(IF($I$2=\"Optimal\",(I129),E129)))))))","v":0},{"$f":"IF(AND($B$135=1,SIGN(I$36)=1,ABS(I$36)<=ABS(I$36-IF(ISNUMBER(I$37), I$37,0)),I$42=\"Sag\"),1,0)","v":{"$error":"#VALUE!"}}]
["VC?",null,"HC and VC Crest type II",{"$f":"IF(AND($B$135=1,D$42=\"Crest\",D$128=0),1,0)","v":0},{"$f":"IF(AND($B$135=1,E$42=\"Crest\",E$128=0),1,0)","v":0},{"$f":"IF(AND($B$135=1,F$42=\"Crest\",F$128=0),1,0)","v":0},{"$f":"IF(AND($B$135=1,G$42=\"Crest\",G$128=0),1,0)","v":0},{"$f":"IF($I$2=\"Existing\",(D130),(IF($I$2=\"Design 1\",(F130),(IF($I$2=\"Design 2\",(G130),(IF($I$2=\"Optimal\",(I130),E130)))))))","v":0},{"$f":"IF(AND($B$135=1,I$42=\"Crest\",I$128=0),1,0)","v":{"$error":"#VALUE!"}}]
[null,null,"HC and VC Sag type II",{"$f":"IF(AND($B$135=1,D$42=\"Sag\",D$129=0),1,0)","v":0},{"$f":"IF(AND($B$135=1,E$42=\"Sag\",E$129=0),1,0)","v":0},{"$f":"IF(AND($B$135=1,F$42=\"Sag\",F$129=0),1,0)","v":0},{"$f":"IF(AND($B$135=1,G$42=\"Sag\",G$129=0),1,0)","v":0},{"$f":"IF($I$2=\"Existing\",(D131),(IF($I$2=\"Design 1\",(F131),(IF($I$2=\"Design 2\",(G131),(IF($I$2=\"Optimal\",(I131),E131)))))))","v":0},{"$f":"IF(AND($B$135=1,I$42=\"Sag\",I$129=0),1,0)","v":{"$error":"#VALUE!"}}]
[null,"Yes/No"]
[null,null,"HC and VC:",null,{"$f":"EXP(0.042*ABS(D$36)+$B$134*0.16*LN(2*5730/IF(ISNUMBER(E$29),E$29,1)))","v":1}]
[null,{"$f":"IF(B27=\"Yes\",1,0)","v":0},"HC and Grade",{"$f":"IF($B$135=0,EXP(0.042*ABS(D$36)+$B$134*0.16*LN(2*5730/D$141)+4.16*$B$134/D$141/IF(ISNUMBER(D$30),D$30,999999)),1)","v":1},{"$f":"IF($B$135=0,EXP(0.042*ABS(E$36)+$B$134*0.16*LN(2*5730/E$141)+4.16*$B$134/E$141/IF(ISNUMBER(E$30),E$30,999999)),1)","v":{"$error":"#VALUE!"}},1,1,{"$f":"IF($B$135=0,EXP(0.042*ABS(H$36)+$B$134*0.16*LN(2*5730/IF(ISNUMBER(H$29),H$29,1))+4.16*$B$134/IF(ISNUMBER(H$29),H$29,1)/IF(ISNUMBER(H$30),H$30,1)),1)","v":{"$error":"#DIV/0!"}},{"$error":"#VALUE!"},null,{"$f":"INDEX($D134:$I134,K$98)","v":1},{"$f":"INDEX($D134:$I134,L$98)","v":{"$error":"#VALUE!"}},{"$f":"IF(ISERROR(1-L134/K134), 0, 1-L134/K134)","v":0}]
[null,{"$f":"IF(B34=\"Yes\",1,0)","v":0},"HC and VC Crest type I",{"$f":"IF($B$135=0,1,EXP(0.005648908*5730*ABS(+D$36-D$37)*$B$135/D$141*$B$134))","v":1},{"$f":"IF($B$135=0,1,EXP(0.005648908*5730*ABS(+E$36-E$37)*$B$135/E$141*$B$134))","v":1},1,1,{"$f":"IF($I$2=\"Existing\",(D135),(IF($I$2=\"Design 1\",(F135),(IF($I$2=\"Design 2\",(G135),(IF($I$2=\"Optimal\",(I135),E135)))))))","v":1},1,null,{"$f":"INDEX($D135:$I135,K$98)","v":1},{"$f":"INDEX($D135:$I135,L$98)","v":1},0]
[null,null,"HC and VC Sag type I",{"$f":"IF($B$135=0,1,EXP(9.15857042*$B$135/D$142+0.010284958*5730*$B$135*$B$134*ABS(+D$36-D$37)/D$141))","v":1},{"$f":"IF($B$135=0,1,EXP(9.15857042*$B$135/E$142+0.010284958*5730*$B$135*$B$134*ABS(+E$36-E$37)/E$141))","v":1},1,1,{"$f":"IF($I$2=\"Existing\",(D136),(IF($I$2=\"Design 1\",(F136),(IF($I$2=\"Design 2\",(G136),(IF($I$2=\"Optimal\",(I136),E136)))))))","v":1},1,null,{"$f":"INDEX($D136:$I136,K$98)","v":1},{"$f":"INDEX($D136:$I136,L$98)","v":1},0]
[null,null,"HC and VC Crest type II",{"$f":"IF($B$135=0,1,EXP(0.005648908*5730*ABS(+D$36-D$37)*$B$135/D$141*$B$134))","v":1},{"$f":"IF($B$135=0,1,EXP(0.005648908*5730*ABS(+E$36-E$37)*$B$135/E$141*$B$134))","v":1},1,1,{"$f":"IF($I$2=\"Existing\",(D137),(IF($I$2=\"Design 1\",(F137),(IF($I$2=\"Design 2\",(G137),(IF($I$2=\"Optimal\",(I137),E137)))))))","v":1},1,null,{"$f":"INDEX($D137:$I137,K$98)","v":1},{"$f":"INDEX($D137:$I137,L$98)","v":1},0]
[null,null,"HC and VC Sag type II",{"$f":"IF($B$135=0,1,(0.246011284*EXP(LN(0.188*2*5730/D$141)*$B$134)+0.7514288716*EXP(0.022*5730/D$141*ABS(D$36-D$37)*$B$135*$B$134)))","v":1},{"$f":"IF($B$135=0,1,(0.246011284*EXP(LN(0.188*2*5730/E$141)*$B$134)+0.7514288716*EXP(0.022*5730/E$141*ABS(E$36-E$37)*$B$135*$B$134)))","v":1},1,1,{"$f":"IF($I$2=\"Existing\",(D138),(IF($I$2=\"Design 1\",(F138),(IF($I$2=\"Design 2\",(G138),(IF($I$2=\"Optimal\",(I138),E138)))))))","v":1},1,null,{"$f":"INDEX($D138:$I138,K$98)","v":1},{"$f":"INDEX($D138:$I138,L$98)","v":1},0]
[]
[null,null,"Combined HZ and VT",{"$f":"MMULT(TRANSPOSE(D127:D131),D134:D138)","v":1},{"$f":"MMULT(TRANSPOSE(E127:E131),E134:E138)","v":{"$error":"#VALUE!"}},{"$f":"MMULT(TRANSPOSE(F127:F131),F134:F138)","v":1},{"$f":"MMULT(TRANSPOSE(G127:G131),G134:G138)","v":1},{"$f":"IF($I$2=\"Existing\",(D140),(IF($I$2=\"Design 1\",(F140),(IF($I$2=\"Design 2\",(G140),(IF($I$2=\"Optimal\",(I140),E140)))))))","v":{"$error":"#VALUE!"}},{"$f":"MMULT(TRANSPOSE(I127:I131),I134:I138)","v":{"$error":"#VALUE!"}},null,{"$f":"INDEX($D140:$I140,K$98)","v":1},{"$f":"INDEX($D140:$I140,L$98)","v":{"$error":"#VALUE!"}},{"$f":"IF(ISERROR(1-L140/K140), 0, 1-L140/K140)","v":0}]
[null,null,"effective R for calculation",{"$f":"IF(ISNUMBER(D29), D29, 99999999)","v":99999999},{"$f":"IF(ISNUMBER(E29), E29, 99999999)","v":590},99999999,99999999,null,590]
[null,null,"effective K for calculation",{"$f":"IF(ISNUMBER(D39), D39, 9999999)","v":9999999},{"$f":"IF(ISNUMBER(E39), E39, 9999999)","v":9999999},9999999,9999999,null,9999999]
[null,"Traffic"]
[null,null,null,"Existing","Standard","Design 1","Design 2"]
[null,null,"Advance static curve warning signs",{"$f":"IF(AND($B$27=\"Yes\",D$52=\"Yes\"),(Traffic!$F$4-1)*AVERAGE(Constraints!$F$37,Constraints!$H$37)/Constraints!$D$37+1,1)","v":1},{"$f":"IF(AND($B$27=\"Yes\",E$52=\"Yes\"),(Traffic!$F$4-1)*AVERAGE(Constraints!$F$37,Constraints!$H$37)/Constraints!$D$37+1,1)","v":1},{"$f":"IF(AND($B$27=\"Yes\",F$52=\"Yes\"),(Traffic!$F$4-1)*AVERAGE(Constraints!$F$37,Constraints!$H$37)/Constraints!$D$37+1,1)","v":1},{"$f":"IF(AND($B$27=\"Yes\",G$52=\"Yes\"),(Traffic!$F$4-1)*AVERAGE(Constraints!$F$37,Constraints!$H$37)/Constraints!$D$37+1,1)","v":1},{"$f":"IF($I$2=\"Existing\",(D145),(IF($I$2=\"Design 1\",(F145),(IF($I$2=\"Design 2\",(G145),(IF($I$2=\"Optimal\",(I145),E145)))))))","v":1},{"$f":"IF(AND($B$27=\"Yes\",I$52=\"Yes\"),(Traffic!$F$4-1)*AVERAGE(Constraints!$F$37,Constraints!$H$37)/Constraints!$D$37+1,1)","v":1},null,{"$f":"INDEX($D145:$I145,K$98)","v":1},{"$f":"INDEX($D145:$I145,L$98)","v":1},{"$f":"IF(ISERROR(1-L145/K145), 0, 1-L145/K145)","v":0}]
[null,null,"Install chevron signs on horizontal curves",{"$f":"IF(D$53=\"No\",1,(IF(AND($B$27=\"Yes\",D$24<11.5),((Traffic!$F$6-1)*(Constraints!$E$35+Constraints!$E$31))+1,1)))","v":1},{"$f":"IF(E$53=\"No\",1,(IF(AND($B$27=\"Yes\",E$24<11.5),((Traffic!$F$6-1)*(Constraints!$E$35+Constraints!$E$31))+1,1)))","v":1},{"$f":"IF(F$53=\"No\",1,(IF(AND($B$27=\"Yes\",F$24<11.5),((Traffic!$F$6-1)*(Constraints!$E$35+Constraints!$E$31))+1,1)))","v":1},{"$f":"IF(G$53=\"No\",1,(IF(AND($B$27=\"Yes\",G$24<11.5),((Traffic!$F$6-1)*(Constraints!$E$35+Constraints!$E$31))+1,1)))","v":1},{"$f":"IF($I$2=\"Existing\",(D146),(IF($I$2=\"Design 1\",(F146),(IF($I$2=\"Design 2\",(G146),(IF($I$2=\"Optimal\",(I146),E146)))))))","v":1},{"$f":"IF(I$53=\"No\",1,(IF(AND($B$27=\"Yes\",I$24<11.5),((Traffic!$F$6-1)*(Constraints!$E$35+Constraints!$E$31))+1,1)))","v":1},null,{"$f":"INDEX($D146:$I146,K$98)","v":1},{"$f":"INDEX($D146:$I146,L$98)","v":1},0]
[null,null,"Install post-mounted delineators",{"$f":"IF(AND($B$27=\"Yes\",D$54=\"Yes\"),(Traffic!$F$12-1)*Constraints!$E$36+1,1)","v":1},{"$f":"IF(AND($B$27=\"Yes\",E$54=\"Yes\"),(Traffic!$F$12-1)*Constraints!$E$36+1,1)","v":1},{"$f":"IF(AND($B$27=\"Yes\",F$54=\"Yes\"),(Traffic!$F$12-1)*Constraints!$E$36+1,1)","v":1},{"$f":"IF(AND($B$27=\"Yes\",G$54=\"Yes\"),(Traffic!$F$12-1)*Constraints!$E$36+1,1)","v":1},{"$f":"IF($I$2=\"Existing\",(D147),(IF($I$2=\"Design 1\",(F147),(IF($I$2=\"Design 2\",(G147),(IF($I$2=\"Optimal\",(I147),E147)))))))","v":1},{"$f":"IF(AND($B$27=\"Yes\",I$54=\"Yes\"),(Traffic!$F$12-1)*Constraints!$E$36+1,1)","v":1},null,{"$f":"INDEX($D147:$I147,K$98)","v":1},{"$f":"INDEX($D147:$I147,L$98)","v":1},0]
[null,null,"Install edgeline  or Profile pavement markings ",{"$f":"IF(D$55=\"Yes\",Traffic!$F$18*0.5+((Traffic!$F$20*(Constraints!$H$36+Constraints!$H$32)+1*(Constraints!$H$37-(Constraints!$H$36+Constraints!$H$32)))/Constraints!$H$37)*0.5,1)","v":1},{"$f":"IF(E$55=\"Yes\",Traffic!$F$18*0.5+((Traffic!$F$20*(Constraints!$H$36+Constraints!$H$32)+1*(Constraints!$H$37-(Constraints!$H$36+Constraints!$H$32)))/Constraints!$H$37)*0.5,1)","v":0.86175881308648239},{"$f":"IF(F$55=\"Yes\",Traffic!$F$18*0.5+((Traffic!$F$20*(Constraints!$H$36+Constraints!$H$32)+1*(Constraints!$H$37-(Constraints!$H$36+Constraints!$H$32)))/Constraints!$H$37)*0.5,1)","v":1},{"$f":"IF(G$55=\"Yes\",Traffic!$F$18*0.5+((Traffic!$F$20*(Constraints!$H$36+Constraints!$H$32)+1*(Constraints!$H$37-(Constraints!$H$36+Constraints!$H$32)))/Constraints!$H$37)*0.5,1)","v":1},{"$f":"IF($I$2=\"Existing\",(D148),(IF($I$2=\"Design 1\",(F148),(IF($I$2=\"Design 2\",(G148),(IF($I$2=\"Optimal\",(I148),E148)))))))","v":0.86175881308648239},{"$f":"IF(I$55=\"Yes\",Traffic!$F$18*0.5+((Traffic!$F$20*(Constraints!$H$36+Constraints!$H$32)+1*(Constraints!$H$37-(Constraints!$H$36+Constraints!$H$32)))/Constraints!$H$37)*0.5,1)","v":0.86175881308648239},null,{"$f":"INDEX($D148:$I148,K$98)","v":1},{"$f":"INDEX($D148:$I148,L$98)","v":0.86175881308648239},0.13824118691351761]
[null,null,"Profiles",1,1,1,1,1,1,null,{"$f":"INDEX($D149:$I149,K$98)","v":1},{"$f":"INDEX($D149:$I149,L$98)","v":1},0]
[null,null,"Shoulder rumble strips",{"$f":"IF(D$56=\"No\",1,(Traffic!$F$27*(Constraints!$H$36+Constraints!$H$32)+1*(Constraints!$H$37-(Constraints!$H$36+Constraints!$H$32)))/Constraints!$H$37)","v":0.89760950690192376},{"$f":"IF(E$56=\"No\",1,(Traffic!$F$27*(Constraints!$H$36+Constraints!$H$32)+1*(Constraints!$H$37-(Constraints!$H$36+Constraints!$H$32)))/Constraints!$H$37)","v":0.89760950690192376},{"$f":"IF(F$56=\"No\",1,(Traffic!$F$27*(Constraints!$H$36+Constraints!$H$32)+1*(Constraints!$H$37-(Constraints!$H$36+Constraints!$H$32)))/Constraints!$H$37)","v":0.89760950690192376},{"$f":"IF(G$56=\"No\",1,(Traffic!$F$27*(Constraints!$H$36+Constraints!$H$32)+1*(Constraints!$H$37-(Constraints!$H$36+Constraints!$H$32)))/Constraints!$H$37)","v":0.89760950690192376},{"$f":"IF($I$2=\"Existing\",(D150),(IF($I$2=\"Design 1\",(F150),(IF($I$2=\"Design 2\",(G150),(IF($I$2=\"Optimal\",(I150),E150)))))))","v":0.89760950690192376},{"$f":"IF(I$56=\"No\",1,(Traffic!$F$27*(Constraints!$H$36+Constraints!$H$32)+1*(Constraints!$H$37-(Constraints!$H$36+Constraints!$H$32)))/Constraints!$H$37)","v":0.89760950690192376},null,{"$f":"INDEX($D150:$I150,K$98)","v":0.89760950690192376},{"$f":"INDEX($D150:$I150,L$98)","v":0.89760950690192376},0]
[null,null,"Install centerline rumble strips",{"$f":"IF(D$57=\"No\",1,Traffic!$F$30)","v":0.86},{"$f":"IF(E$57=\"No\",1,Traffic!$F$30)","v":1},{"$f":"IF(F$57=\"No\",1,Traffic!$F$30)","v":0.86},{"$f":"IF(G$57=\"No\",1,Traffic!$F$30)","v":0.86},{"$f":"IF($I$2=\"Existing\",(D151),(IF($I$2=\"Design 1\",(F151),(IF($I$2=\"Design 2\",(G151),(IF($I$2=\"Optimal\",(I151),E151)))))))","v":1},{"$f":"IF(I$57=\"No\",1,Traffic!$F$30)","v":0.86},null,{"$f":"INDEX($D151:$I151,K$98)","v":0.86},{"$f":"INDEX($D151:$I151,L$98)","v":1},-0.16279069767441867]
[null,null,"Driveway Density (driveways per mile)",{"$f":"EXP(-LN(Traffic!$F$32)*(D$58-$E$58))","v":0.81707280688754669},{"$f":"EXP(-LN(Traffic!$F$32)*(E$58-$E$58))","v":1},{"$f":"EXP(-LN(Traffic!$F$32)*(F$58-$E$58))","v":0.81707280688754669},{"$f":"EXP(-LN(Traffic!$F$32)*(G$58-$E$58))","v":0.81707280688754669},{"$f":"IF($I$2=\"Existing\",(D152),(IF($I$2=\"Design 1\",(F152),(IF($I$2=\"Design 2\",(G152),(IF($I$2=\"Optimal\",(I152),E152)))))))","v":1},{"$f":"EXP(-LN(Traffic!$F$32)*(I$58-$E$58))","v":0.81707280688754669},null,{"$f":"INDEX($D152:$I152,K$98)","v":0.81707280688754669},{"$f":"INDEX($D152:$I152,L$98)","v":1},-0.22388114201141129]
[null,null,"Install lighting",{"$f":"IF(D$59=\"No\",1,1-(((1-Traffic!$F$55*Constraints!$H$37-Constraints!$F$37/3)+((1-Traffic!$F$55*Constraints!$D$37-Constraints!$H$37)))*$S$19+((1-Traffic!$F$57)*Constraints!$F$37/3))/Constraints!$D$37)","v":0.977040446881142},{"$f":"IF(E$59=\"No\",1,1-(((1-Traffic!$F$55*Constraints!$H$37-Constraints!$F$37/3)+((1-Traffic!$F$55*Constraints!$D$37-Constraints!$H$37)))*$S$19+((1-Traffic!$F$57)*Constraints!$F$37/3))/Constraints!$D$37)","v":1},{"$f":"IF(F$59=\"No\",1,1-(((1-Traffic!$F$55*Constraints!$H$37-Constraints!$F$37/3)+((1-Traffic!$F$55*Constraints!$D$37-Constraints!$H$37)))*$S$19+((1-Traffic!$F$57)*Constraints!$F$37/3))/Constraints!$D$37)","v":0.977040446881142},{"$f":"IF(G$59=\"No\",1,1-(((1-Traffic!$F$55*Constraints!$H$37-Constraints!$F$37/3)+((1-Traffic!$F$55*Constraints!$D$37-Constraints!$H$37)))*$S$19+((1-Traffic!$F$57)*Constraints!$F$37/3))/Constraints!$D$37)","v":0.977040446881142},{"$f":"IF($I$2=\"Existing\",(D153),(IF($I$2=\"Design 1\",(F153),(IF($I$2=\"Design 2\",(G153),(IF($I$2=\"Optimal\",(I153),E153)))))))","v":1},{"$f":"IF(I$59=\"No\",1,1-(((1-Traffic!$F$55*Constraints!$H$37-Constraints!$F$37/3)+((1-Traffic!$F$55*Constraints!$D$37-Constraints!$H$37)))*$S$19+((1-Traffic!$F$57)*Constraints!$F$37/3))/Constraints!$D$37)","v":0.977040446881142},null,{"$f":"INDEX($D153:$I153,K$98)","v":0.977040446881142},{"$f":"INDEX($D153:$I153,L$98)","v":1},-2.3499081529478438E-2]
[null,null,"Pavement friction (skid number)",{"$f":"EXP(LN(Traffic!$F$49)*(D$60-$E$60))","v":1.3972521419325798},{"$f":"EXP(LN(Traffic!$F$49)*(E$60-$E$60))","v":1},{"$f":"IF(MATCH(F60,SkidNums,0)=3, $D154,EXP(LN(Traffic!$F$49)*(RIGHT(F$60,2)-$E$60)))","v":{"$error":"#N/A"}},{"$f":"IF(MATCH(G60,SkidNums,0)=3, $D154,EXP(LN(Traffic!$F$49)*(RIGHT(G$60,2)-$E$60)))","v":{"$error":"#N/A"}},{"$f":"IF($I$2=\"Existing\",(D154),(IF($I$2=\"Design 1\",(F154),(IF($I$2=\"Design 2\",(G154),(IF($I$2=\"Optimal\",(I154),E154)))))))","v":1},{"$f":"EXP(LN(Traffic!$F$49)*(I$60-$E$60))","v":0.85753553626991963},null,{"$f":"INDEX($D154:$I154,K$98)","v":1.3972521419325798},{"$f":"INDEX($D154:$I154,L$98)","v":1},0.28430956017940245]
[]
[]
[null,null,"COMBINED Calculated CMF",{"$f":"+D145*D146*D147*D148*D149*D150*D151*D152*D153*D154","v":0.86106111787419426},{"$f":"+E145*E146*E147*E148*E149*E150*E151*E152*E153*E154","v":0.7735229032829446},{"$f":"+F145*F146*F147*F148*F149*F150*F151*F152*F153*F154","v":{"$error":"#N/A"}},{"$f":"+G145*G146*G147*G148*G149*G150*G151*G152*G153*G154","v":{"$error":"#N/A"}},{"$f":"IF($I$2=\"Existing\",(D157),(IF($I$2=\"Design 1\",(F157),(IF($I$2=\"Design 2\",(G157),(IF($I$2=\"Optimal\",(I157),E157)))))))","v":0.7735229032829446},{"$f":"+I145*I146*I147*I148*I149*I150*I151*I152*I153*I154","v":0.45540422392050506},null,{"$f":"INDEX($D157:$I157,K$98)","v":0.86106111787419426},{"$f":"INDEX($D157:$I157,L$98)","v":0.7735229032829446},{"$f":"IF(ISERROR(1-L157/K157), 0, 1-L157/K157)","v":0.10166318368592209}]
[null,null,"Calculated Relative to Design Standards (Column E)",{"$f":"+D157/$E$157","v":1.1131682258142903},{"$f":"+E157/$E$157","v":1},{"$f":"+F157/$E$157","v":{"$error":"#N/A"}},{"$f":"+G157/$E$157","v":{"$error":"#N/A"}},1,{"$f":"+I157/$E$157","v":0.58874045227064742},null,{"$f":"INDEX($D158:$I158,K$98)","v":1.1131682258142903},{"$f":"INDEX($D158:$I158,L$98)","v":1},0.1016631836859222]
[null,null,"P(Crash)",{"$f":"+D158/(D158+1)","v":0.52677690882151185},{"$f":"+E158/(E158+1)","v":0.5},{"$f":"+F158/(F158+1)","v":{"$error":"#N/A"}},{"$f":"+G158/(G158+1)","v":{"$error":"#N/A"}},0.5,{"$f":"+I158/(I158+1)","v":0.37057056829465901}]
[null,null,"Factor Change on S curve",{"$f":"+D159/$E$159","v":1.0535538176430237},{"$f":"+E159/$E$159","v":1},{"$f":"+F159/$E$159","v":{"$error":"#N/A"}},{"$f":"+G159/$E$159","v":{"$error":"#N/A"}},1,{"$f":"+I159/$E$159","v":0.74114113658931802}]
[null,null,"Adjust to Scale of 100",{"$f":"+$I$114/D160*100","v":{"$error":"#VALUE!"}},{"$f":"+$I$114/E160*100","v":{"$error":"#VALUE!"}},{"$f":"+$I$114/F160*100","v":{"$error":"#VALUE!"}},{"$f":"+$I$114/G160*100","v":{"$error":"#VALUE!"}},{"$error":"#VALUE!"},{"$f":"+$I$114/I160*100","v":{"$error":"#VALUE!"}}]
[null,null,"Unadjusted Combined Relative to Standard",{"$f":"+D157/$E$157","v":1.1131682258142903},{"$f":"+E157/$E$157","v":1},{"$f":"+F157/$E$157","v":{"$error":"#N/A"}},{"$f":"+G157/$E$157","v":{"$error":"#N/A"}},1,{"$f":"+I157/$E$157","v":0.58874045227064742}]
[null,null,null,null,null,null,null,0,null,{"$f":"I168/E168","v":1.4285714285714286}]
[null,null,"Adjusted for PA Basis",{"$f":"+D157*(1+1)/(1+D157*1)","v":0.92534426688549098},{"$f":"+E157*(1+1)/(1+E157*1)","v":0.8723010025425515},{"$f":"+F157*(1+1)/(1+F157*1)","v":{"$error":"#N/A"}},{"$f":"+G157*(1+1)/(1+G157*1)","v":{"$error":"#N/A"}},0.8723010025425515,{"$f":"+I157*(1+1)/(1+I157*1)","v":0.62581132641453641}]
[null,null,"Corrected by Odds Ratio",{"$f":"+D164/$E$164","v":1.0608084413388623},{"$f":"+E164/$E$164","v":1},{"$f":"+F164/$E$164","v":{"$error":"#N/A"}},{"$f":"+G164/$E$164","v":{"$error":"#N/A"}},1,{"$f":"+I164/$E$164","v":0.71742589380322175}]
[null,null,null,{"$f":"(1/D165)^$D169","v":0.29295399474123779},1,{"$error":"#N/A"},{"$error":"#N/A"},1,998.99999999999955,{"$f":"I171/E171","v":1.4285714285714286}]
[null,null,null,{"$f":"(D166+$F170-1)/(1+(D166+$F170-1))","v":0.61923435059440457},0.70000000000000007,{"$error":"#N/A"},{"$error":"#N/A"},0.70000000000000007,0.99900133155792281]
[null,null,"Score Odds Ratio with Optimal as 100 (old)",{"$f":"MIN(ROUND($I$165/D165*Construction!$I$9,0),$I168)","v":14},{"$f":"MIN(ROUND($I$165/E165*Construction!$I$9,0),$I168)","v":14},{"$f":"MIN(ROUND($I$165/F165*Construction!$I$9,0),$I168)","v":{"$error":"#N/A"}},{"$f":"MIN(ROUND($I$165/G165*Construction!$I$9,0),$I168)","v":{"$error":"#N/A"}},null,{"$f":"ROUND($I$165/I165*Construction!$I$9,0)","v":20}]
[null,null,"Logistic1",{"$f":"LN((D170/(1-D170))/(0.5/0.5))/LN($E165/I165)","v":20.798114554240879}]
[null,null,"Logistic Param",0.999,null,{"$f":"0.7/0.3","v":2.3333333333333335}]
[null,null,"Score ",{"$f":"MIN(ROUND(D167*Construction!$I$9,0),$I168)","v":12},{"$f":"MIN(ROUND(E167*Construction!$I$9,0),$I168)","v":14},{"$f":"MIN(ROUND(F167*Construction!$I$9,0),$I168)","v":{"$error":"#N/A"}},{"$f":"MIN(ROUND(G167*Construction!$I$9,0),$I168)","v":{"$error":"#N/A"}},null,{"$f":"MIN(ROUND(I167*Construction!$I$9,0),$I168)","v":20}]
[]
[]
[]
[]
[]
[]
[null,"Roadsde",null,"Existing","Standard","Design 1","Design 2"]
[null,null,null,{"$f":"MID(D72,FIND(\":\",D72,1)+1,FIND(\"H\",D72,1)-FIND(\":\",D72,1)-1)+0","v":{"$error":"#VALUE!"}},{"$f":"MID(E72,FIND(\":\",E72,1)+1,FIND(\"H\",E72,1)-FIND(\":\",E72,1)-1)+0","v":4},{"$f":"MID(F72,FIND(\":\",F72,1)+1,FIND(\"H\",F72,1)-FIND(\":\",F72,1)-1)+0","v":{"$error":"#VALUE!"}},{"$f":"MID(G72,FIND(\":\",G72,1)+1,FIND(\"H\",G72,1)-FIND(\":\",G72,1)-1)+0","v":{"$error":"#VALUE!"}},null,{"$f":"MID(I72,FIND(\":\",I72,1)+1,FIND(\"H\",I72,1)-FIND(\":\",I72,1)-1)+0","v":6},null,{"$f":"INDEX($D179:$I179,K$98)","v":{"$error":"#VALUE!"}},{"$f":"INDEX($D179:$I179,L$98)","v":4},{"$f":"IF(ISERROR(1-L179/K179), 0, 1-L179/K179)","v":0}]
[null,null,"Sideslope (Foreslope)",{"$f":"IF(D179<=3,1,IF(OR(D179=4,D179=5),(Roadside!$F$15-1)*Constraints!$H$37/Constraints!$D$37+1,(Roadside!$F$15*Roadside!$F$16-1)*Constraints!$H$37/Constraints!$D$37+1))","v":{"$error":"#VALUE!"}},{"$f":"IF(E179<=3,1,IF(OR(E179=4,E179=5),(Roadside!$F$15-1)*Constraints!$H$37/Constraints!$D$37+1,(Roadside!$F$15*Roadside!$F$16-1)*Constraints!$H$37/Constraints!$D$37+1))","v":0.8286893555394641},{"$f":"IF(F179<=3,1,IF(OR(F179=4,F179=5),(Roadside!$F$15-1)*Constraints!$H$37/Constraints!$D$37+1,(Roadside!$F$15*Roadside!$F$16-1)*Constraints!$H$37/Constraints!$D$37+1))","v":{"$error":"#VALUE!"}},{"$f":"IF(G179<=3,1,IF(OR(G179=4,G179=5),(Roadside!$F$15-1)*Constraints!$H$37/Constraints!$D$37+1,(Roadside!$F$15*Roadside!$F$16-1)*Constraints!$H$37/Constraints!$D$37+1))","v":{"$error":"#VALUE!"}},{"$f":"IF($I$2=\"Existing\",(D180),(IF($I$2=\"Design 1\",(F180),(IF($I$2=\"Design 2\",(G180),(IF($I$2=\"Optimal\",(I180),E180)))))))","v":0.8286893555394641},{"$f":"IF(I179<=3,1,IF(OR(I179=4,I179=5),(Roadside!$F$15-1)*Constraints!$H$37/Constraints!$D$37+1,(Roadside!$F$15*Roadside!$F$16-1)*Constraints!$H$37/Constraints!$D$37+1))","v":0.77664355022240605},null,{"$f":"INDEX($D180:$I180,K$98)","v":{"$error":"#VALUE!"}},{"$f":"INDEX($D180:$I180,L$98)","v":0.8286893555394641},0]
[null,null,"Backslope",1,1,1,1,{"$f":"IF($I$2=\"Existing\",(D181),(IF($I$2=\"Design 1\",(F181),(IF($I$2=\"Design 2\",(G181),(IF($I$2=\"Optimal\",(I181),E181)))))))","v":1},1,null,{"$f":"INDEX($D181:$I181,K$98)","v":1},{"$f":"INDEX($D181:$I181,L$98)","v":1},0]
[null,null,"SafetyEdge",{"$f":"IF(D$74=\"No\",1,(Roadside!$F$23-1)*AVERAGE(Constraints!$H$37,Constraints!$F$37)/Constraints!$D$37+1)","v":0.97258384193648495},{"$f":"IF(E$74=\"No\",1,(Roadside!$F$23-1)*AVERAGE(Constraints!$H$37,Constraints!$F$37)/Constraints!$D$37+1)","v":1},{"$f":"IF(F$74=\"No\",1,(Roadside!$F$23-1)*AVERAGE(Constraints!$H$37,Constraints!$F$37)/Constraints!$D$37+1)","v":0.97258384193648495},{"$f":"IF(G$74=\"No\",1,(Roadside!$F$23-1)*AVERAGE(Constraints!$H$37,Constraints!$F$37)/Constraints!$D$37+1)","v":0.97258384193648495},{"$f":"IF($I$2=\"Existing\",(D182),(IF($I$2=\"Design 1\",(F182),(IF($I$2=\"Design 2\",(G182),(IF($I$2=\"Optimal\",(I182),E182)))))))","v":1},{"$f":"IF(I$74=\"No\",1,(Roadside!$F$23-1)*AVERAGE(Constraints!$H$37,Constraints!$F$37)/Constraints!$D$37+1)","v":0.97258384193648495},null,{"$f":"INDEX($D182:$I182,K$98)","v":0.97258384193648495},{"$f":"INDEX($D182:$I182,L$98)","v":1},-2.8188991921691331E-2]
[null,null,"Lateral Clearance (ft)",{"$f":"IF($B$27=\"Yes\",((EXP(LN(Roadside!$F$11)*(IF(D$76=\"None\",40,D$75)-30)/30)-1))*Constraints!$H$36/Constraints!$D$37+1,((EXP(LN(Roadside!$F$10)*(IF(D$76=\"None\",40,D$75)-30)/30)-1))*Constraints!$H$36/Constraints!$D$37+1)","v":1.0992721491203288},{"$f":"IF($B$27=\"Yes\",((EXP(LN(Roadside!$F$11)*(IF(E$76=\"None\",40,E$75)-30)/30)-1))*Constraints!$H$36/Constraints!$D$37+1,((EXP(LN(Roadside!$F$10)*(IF(E$76=\"None\",40,E$75)-30)/30)-1))*Constraints!$H$36/Constraints!$D$37+1)","v":1},{"$f":"IF($B$27=\"Yes\",((EXP(LN(Roadside!$F$11)*(IF(F$76=\"None\",40,F$75)-30)/30)-1))*Constraints!$H$36/Constraints!$D$37+1,((EXP(LN(Roadside!$F$10)*(IF(F$76=\"None\",40,F$75)-30)/30)-1))*Constraints!$H$36/Constraints!$D$37+1)","v":1.0992721491203288},{"$f":"IF($B$27=\"Yes\",((EXP(LN(Roadside!$F$11)*(IF(G$76=\"None\",40,G$75)-30)/30)-1))*Constraints!$H$36/Constraints!$D$37+1,((EXP(LN(Roadside!$F$10)*(IF(G$76=\"None\",40,G$75)-30)/30)-1))*Constraints!$H$36/Constraints!$D$37+1)","v":1.0992721491203288},{"$f":"IF($I$2=\"Existing\",(D183),(IF($I$2=\"Design 1\",(F183),(IF($I$2=\"Design 2\",(G183),(IF($I$2=\"Optimal\",(I183),E183)))))))","v":1},{"$f":"IF($B$27=\"Yes\",((EXP(LN(Roadside!$F$11)*(IF(I$76=\"None\",40,I$75)-30)/30)-1))*Constraints!$H$36/Constraints!$D$37+1,((EXP(LN(Roadside!$F$10)*(IF(I$76=\"None\",40,I$75)-30)/30)-1))*Constraints!$H$36/Constraints!$D$37+1)","v":0.97455184373954995},null,{"$f":"INDEX($D183:$I183,K$98)","v":1.0992721491203288},{"$f":"INDEX($D183:$I183,L$98)","v":1},9.0307162971216326E-2]
[null,null,"Fixed Object Type",{"$f":"IF(D$76=\"Guardrail\",(Roadside!$F$25-1)*(($I$75-D$75)/$I$75)^2*Constraints!$H$36/Constraints!$D$37+1,1)","v":1},{"$f":"IF(E$76=\"Guardrail\",(Roadside!$F$25-1)*(($I$75-E$75)/$I$75)^2*Constraints!$H$36/Constraints!$D$37+1,1)","v":1},{"$f":"IF(F$76=\"Guardrail\",(Roadside!$F$25-1)*(($I$75-F$75)/$I$75)^2*Constraints!$H$36/Constraints!$D$37+1,1)","v":1},{"$f":"IF(G$76=\"Guardrail\",(Roadside!$F$25-1)*(($I$75-G$75)/$I$75)^2*Constraints!$H$36/Constraints!$D$37+1,1)","v":1},{"$f":"IF($I$2=\"Existing\",(D184),(IF($I$2=\"Design 1\",(F184),(IF($I$2=\"Design 2\",(G184),(IF($I$2=\"Optimal\",(I184),E184)))))))","v":1},{"$f":"IF(I$76=\"Guardrail\",(Roadside!$F$25-1)*(($I$75-I$75)/$I$75)^2*Constraints!$H$36/Constraints!$D$37+1,1)","v":1},null,{"$f":"INDEX($D184:$I184,K$98)","v":1},{"$f":"INDEX($D184:$I184,L$98)","v":1},0]
[]
[]
[null,null,"COMBINED Calculated CMF",{"$f":"+D180*D181*D182*D183*D184","v":{"$error":"#VALUE!"}},{"$f":"+E180*E181*E182*E183*E184","v":0.8286893555394641},{"$f":"+F180*F181*F182*F183*F184","v":{"$error":"#VALUE!"}},{"$f":"+G180*G181*G182*G183*G184","v":{"$error":"#VALUE!"}},{"$f":"IF($I$2=\"Existing\",(D187),(IF($I$2=\"Design 1\",(F187),(IF($I$2=\"Design 2\",(G187),(IF($I$2=\"Optimal\",(I187),E187)))))))","v":0.8286893555394641},{"$f":"+I180*I181*I182*I183*I184","v":0.73612867842813945}]
[null,null,"Calculated Relative to Design Standards (Column E)",{"$f":"+D187/$E$187","v":{"$error":"#VALUE!"}},{"$f":"+E187/$E$187","v":1},{"$f":"+F187/$E$187","v":{"$error":"#VALUE!"}},{"$f":"+G187/$E$187","v":{"$error":"#VALUE!"}},1,{"$f":"+I187/$E$187","v":0.88830473507039431}]
[null,null,"P(Crash)",{"$f":"+D188/(D188+1)","v":{"$error":"#VALUE!"}},{"$f":"+E188/(E188+1)","v":0.5},{"$f":"+F188/(F188+1)","v":{"$error":"#VALUE!"}},{"$f":"+G188/(G188+1)","v":{"$error":"#VALUE!"}},0.5,{"$f":"+I188/(I188+1)","v":0.47042445987261644}]
[null,null,"Factor Change on S curve",{"$f":"+D189/$E$189","v":{"$error":"#VALUE!"}},{"$f":"+E189/$E$189","v":1},{"$f":"+F189/$E$189","v":{"$error":"#VALUE!"}},{"$f":"+G189/$E$189","v":{"$error":"#VALUE!"}},1,{"$f":"+I189/$E$189","v":0.94084891974523288}]
[null,null,"Adjust to Scale of 100",{"$f":"+$I$114/D190*100","v":{"$error":"#VALUE!"}},{"$f":"+$I$114/E190*100","v":{"$error":"#VALUE!"}},{"$f":"+$I$114/F190*100","v":{"$error":"#VALUE!"}},{"$f":"+$I$114/G190*100","v":{"$error":"#VALUE!"}},{"$error":"#VALUE!"},{"$f":"+$I$114/I190*100","v":{"$error":"#VALUE!"}}]
[null,null,"Unadjusted Combined Relative to Standard",{"$f":"+D187/$E$187","v":{"$error":"#VALUE!"}},{"$f":"+E187/$E$187","v":1},{"$f":"+F187/$E$187","v":{"$error":"#VALUE!"}},{"$f":"+G187/$E$187","v":{"$error":"#VALUE!"}},1,{"$f":"+I187/$E$187","v":0.88830473507039431}]
[null,null,null,null,null,null,null,null,null,{"$f":"I198/E198","v":1.1111111111111112}]
[null,null,"Adjusted for PA Basis",{"$f":"+D187*(1+1)/(1+D187*1)","v":{"$error":"#VALUE!"}},{"$f":"+E187*(1+1)/(1+E187*1)","v":0.90632053282226321},{"$f":"+F187*(1+1)/(1+F187*1)","v":{"$error":"#VALUE!"}},{"$f":"+G187*(1+1)/(1+G187*1)","v":{"$error":"#VALUE!"}},{"$f":"IF($I$2=\"Existing\",(D194),(IF($I$2=\"Design 1\",(F194),(IF($I$2=\"Design 2\",(G194),(IF($I$2=\"Optimal\",(I194),E194)))))))","v":0.90632053282226321},{"$f":"+I187*(1+1)/(1+I187*1)","v":0.84801165671039724}]
[null,null,"Corrected by Odds Ratio",{"$f":"+D187/$E$187","v":{"$error":"#VALUE!"}},{"$f":"+E187/$E$187","v":1},{"$f":"+F187/$E$187","v":{"$error":"#VALUE!"}},{"$f":"+G187/$E$187","v":{"$error":"#VALUE!"}},{"$f":"IF($I$2=\"Existing\",(D195),(IF($I$2=\"Design 1\",(F195),(IF($I$2=\"Design 2\",(G195),(IF($I$2=\"Optimal\",(I195),E195)))))))","v":1},{"$f":"+I187/$E$187","v":0.88830473507039431}]
[null,null,null,{"$f":"(1/D195)^$D199","v":{"$error":"#VALUE!"}},1,{"$error":"#VALUE!"},{"$error":"#VALUE!"},1,998.99999999999955,{"$f":"I201/E201","v":1.4814814814814814}]
[null,null,null,{"$f":"(D196+$F200-1)/(1+(D196+$F200-1))","v":{"$error":"#VALUE!"}},0.66666666666666663,{"$error":"#VALUE!"},{"$error":"#VALUE!"},0.66666666666666663,0.99900099900099903]
[null,null,"Score Odds Ratio with Optimal as 100 (old)",{"$f":"MIN(ROUND($I$195/D195*Construction!$I$10,0),$I198)","v":{"$error":"#VALUE!"}},{"$f":"MIN(ROUND($I$195/E195*Construction!$I$10,0),$I198)","v":36},{"$f":"MIN(ROUND($I$195/F195*Construction!$I$10,0),$I198)","v":{"$error":"#VALUE!"}},{"$f":"MIN(ROUND($I$195/G195*Construction!$I$10,0),$I198)","v":{"$error":"#VALUE!"}},null,{"$f":"ROUND($I$195/I195*Construction!$I$10,0)","v":40}]
[null,null,"Logistic1",{"$f":"LN((D200/(1-D200))/(0.5/0.5))/LN($E195/I195)","v":58.314167600285003}]
[null,null,"Logistic Param",0.999,null,2]
[null,null,"Score ",{"$f":"MIN(ROUND(D197*Construction!$I$10,0),$I198)","v":{"$error":"#VALUE!"}},{"$f":"MIN(ROUND(E197*Construction!$I$10,0),$I198)","v":27},{"$f":"MIN(ROUND(F197*Construction!$I$10,0),$I198)","v":{"$error":"#VALUE!"}},{"$f":"MIN(ROUND(G197*Construction!$I$10,0),$I198)","v":{"$error":"#VALUE!"}},null,{"$f":"MIN(ROUND(I197*Construction!$I$10,0),$I198)","v":40}]
[]
[]
[]
[]
[null,null,{"$f":"D84/D179","v":{"$error":"#VALUE!"}},null,{"$f":"ROUNDUP((MIN($I$14,$I$15)-E24-E25)/$C$206,0)","v":{"$error":"#VALUE!"}},{"$f":"ROUNDUP((MIN($I$14,$I$15)-F24-F25)/$C$206,0)","v":{"$error":"#VALUE!"}},{"$f":"ROUNDUP((MIN($I$14,$I$15)-G24-G25)/$C$206,0)","v":{"$error":"#VALUE!"}},null,{"$f":"ROUNDUP((MIN($I$14,$I$15)-I24-I25)/$C$206,0)","v":{"$error":"#VALUE!"}}]
[]
[]
[null,null,"Distance to low point","Distance to low point",{"$f":"$C$206*E179","v":{"$error":"#VALUE!"}},{"$f":"$C$206*F179","v":{"$error":"#VALUE!"}},{"$f":"$C$206*G179","v":{"$error":"#VALUE!"}},null,{"$f":"$C$206*I179","v":{"$error":"#VALUE!"}}]
[null,null,null,"Additional ROW1 Needed for Foreslope",{"$f":"IF(E209>($I$14-E24-E25),E209-($I$14-E24-E25),0)","v":{"$error":"#VALUE!"}},{"$f":"IF(F209>($I$14-F24-F25),F209-($I$14-F24-F25),0)","v":{"$error":"#VALUE!"}},{"$f":"IF(G209>($I$14-G24-G25),G209-($I$14-G24-G25),0)","v":{"$error":"#VALUE!"}},null,{"$f":"IF(I209>($I$14-I24-I25),I209-($I$14-I24-I25),0)","v":{"$error":"#VALUE!"}}]
[null,null,null,"Additional ROW2 Needed for Foreslope",{"$f":"IF(E209>($I$15-E24-E25),E209-($I$15-E24-E25),0)","v":{"$error":"#VALUE!"}},{"$f":"IF(F209>($I$15-F24-F25),F209-($I$15-F24-F25),0)","v":{"$error":"#VALUE!"}},{"$f":"IF(G209>($I$15-G24-G25),G209-($I$15-G24-G25),0)","v":{"$error":"#VALUE!"}},null,{"$f":"IF(I209>($I$15-I24-I25),I209-($I$15-I24-I25),0)","v":{"$error":"#VALUE!"}}]
[]
[null,null,null,"Additional ROW1 Needed for Lateral Clearance",{"$f":"IF((CL248+E26)-$I$14<0,0,(CL248+E26)-$I$14)","v":8},{"$f":"IF((CM248+F26)-$I$14<0,0,(CM248+F26)-$I$14)","v":0},{"$f":"IF((CN248+G26)-$I$14<0,0,(CN248+G26)-$I$14)","v":0},null,{"$f":"IF((CP248+I26)-$I$14<0,0,(CP248+I26)-$I$14)","v":0}]
[null,null,null,"Additional ROW2 Needed for Lateral Clearance",{"$f":"IF((CL248+E26)-$I$15<0,0,(CL248+E26)-$I$15)","v":8},{"$f":"IF((CM248+F26)-$I$15<0,0,(CM248+F26)-$I$15)","v":0},{"$f":"IF((CN248+G26)-$I$15<0,0,(CN248+G26)-$I$15)","v":0},null,{"$f":"IF((CP248+I26)-$I$15<0,0,(CP248+I26)-$I$15)","v":0}]
[]
[]
[]
[]
[]
[]
[]
[]
[]
[]
[]
[null,null,"For Vertical Opt Use when Yes Vertical:"]
[null,null,"G1",{"$f":"D36","v":0},null,{"$f":"F36","v":0},{"$f":"G36","v":0},null,{"$f":"IF(ISERROR($E$234),\"\",INDEX(D227:G227,$E$234))","v":""}]
[null,null,"G2",{"$f":"D37","v":0},null,{"$f":"F37","v":0},{"$f":"G37","v":0},null,{"$f":"IF(ISERROR($E$234),\"\",INDEX(D228:G228,$E$234))","v":""}]
[null,null,"abs(G2-G1)",{"$f":"ABS(D36-D37)","v":0},null,{"$f":"ABS(F36-F37)","v":0},{"$f":"ABS(G36-G37)","v":0}]
[null,null,"Count in indicator (K no change; or K change but accept)",{"$f":"IF(D39<>\"\",1,\"\")","v":""},null,{"$f":"IF(OR(AND($B$34 = \"Yes\", $D$39 <> F39, F39 <>\"\", $D$39 <> \"\", F41=\"Yes.\"),AND($B$34 = \"Yes\", $D$39 = F39, F39 <>\"\", $D$39 <> \"\")), 1,\"\")","v":""},{"$f":"IF(OR(AND($B$34 = \"Yes\", $D$39 <> G39, G39 <>\"\", $D$39 <> \"\", G41=\"Yes.\"),AND($B$34 = \"Yes\", $D$39 = G39, G39 <>\"\", $D$39 <> \"\")), 1,\"\")","v":""}]
[]
[null,null,"Valid abs(G2-G1)",{"$f":"IF(ISERROR(D229*D230),\"\",D229*D230)","v":""},null,{"$f":"IF(ISERROR(F229*F230),\"\",F229*F230)","v":""},{"$f":"IF(ISERROR(G229*G230),\"\",G229*G230)","v":""}]
[null,null,"The min valid abs(G2-G1)",null,{"$f":"MIN(D232,F232,G232)","v":0}]
[null,null,"Index",null,{"$f":"MATCH(E233,D232:G232,0)","v":{"$error":"#N/A"}}]
[]
[null,null,"For Vertical Opt Use When No Vertical:"]
[null,null,"G1",{"$f":"IF(ISBLANK(D36), 999, D36)","v":999},null,{"$f":"IF(ISBLANK(F36), 999, F36)","v":999},{"$f":"IF(ISBLANK(G36), 999, G36)","v":999},null,{"$f":"IF(E242=999,\"\",E242)","v":""}]
[null,null,"Sign of G1",{"$f":"IF(D237>=0,1,-1)","v":1},null,{"$f":"IF(F237>=0,1,-1)","v":1},{"$f":"IF(G237>=0,1,-1)","v":1}]
[null,null,"Abs G1",{"$f":"ABS(D237)","v":999},null,{"$f":"ABS(F237)","v":999},{"$f":"ABS(G237)","v":999}]
[null,null,"Min Abs G1",null,{"$f":"MIN(D239:G239)","v":999}]
[null,null,"Which is the Best G1",null,{"$f":"MATCH(E240,D239:G239,0)","v":1}]
[null,null,"Best G1 Value",null,{"$f":"INDEX(D237:G237,1,E241)","v":999}]
[]
[]
[]
[]
[]
[]
[null,null,"Check if all cells filled",{"$f":"SUM(D251:D311)","v":18},{"$f":"SUM(E251:E311)","v":1},18,18,null,1]
[]
[null,null,{"$f":"C24","v":"Lane Width (feet)"},{"$f":"IF(ISBLANK(D24),1,0)","v":1},{"$f":"IF(ISBLANK(E24),1,0)","v":0},1,1,null,0]
[null,null,{"$f":"C25","v":"Shoulder Width (feet)"},{"$f":"IF(ISBLANK(D25),1,0)","v":1},0,1,1,null,0]
[null,null,"Cross-slope or Superelevation (%)",{"$f":"IF(ISBLANK(D26),1,0)","v":1},0,1,1,null,0]
[null,null,"Horizontal Curve Present?"]
[null,null,"Horizontal Curve Data for Controlling Element:"]
[null,null,"  Radius (feet)",{"$f":"IF(AND($B$27=\"Yes\", ISBLANK(D29)),1,0)","v":0},{"$f":"IF(AND($B$27=\"Yes\", ISBLANK(E29)),1,0)","v":0},0,0,null,0]
[null,null,"Length of Horizontal Curve (feet)",{"$f":"IF(AND($B$27=\"Yes\", ISBLANK(D30)),1,0)","v":0},0,0,0,null,0]
[null,null,"Calculated Deflection Angle ∆"]
[]
[null,null,null,null,null,{"$f":"IF(AND($B$27 = \"Yes\", $D$31 <> F31, F31<>\"\",ISBLANK(F33)),1,0)","v":0},{"$f":"IF(AND($B$27 = \"Yes\", $D$31 <> G31, G31<>\"\",ISBLANK(G33)),1,0)","v":0}]
[null,null,"Vertical Curve Present?"]
[null,null,"Vertical Curve Data for Controlling Element:"]
[null,null,"  Approach (Entry) Grade, G1 (%)",{"$f":"IF(ISBLANK(D36),1,0)","v":1},{"$f":"IF(ISBLANK(E36),1,0)","v":0},1,1,null,0]
[null,null,"  Departure (Exit) Grade, G2 (%)",{"$f":"IF(AND($B$34=\"Yes\", ISBLANK(D37)),1,0)","v":0},{"$f":"IF(AND($B$34=\"Yes\", ISBLANK(E37)),1,0)","v":0},0,0,null,0]
[null,null,"  Length (feet)",{"$f":"IF(AND($B$34=\"Yes\", ISBLANK(D38)),1,0)","v":0},0,0,0,null,0]
[null,null,"  Calculated Rate of Change, K (ft/ft)"]
[]
[]
[]
[null,null,"TWLTL (two-way left-turn lane)",{"$f":"IF(ISBLANK(D43),1,0)","v":1},{"$f":"IF(ISBLANK(E43),1,0)","v":0},1,1,null,0]
[null,null,"Passing Lane Type",{"$f":"IF(ISBLANK(D44),1,0)","v":1},0,1,1,null,0]
[]
[]
[]
[]
[]
[]
[]
[null,null,"Advance Static Curve Warning Signs",{"$f":"IF(AND($B$27=\"Yes\", ISBLANK(D52)),1,0)","v":0},{"$f":"IF(AND($B$27=\"Yes\", ISBLANK(E52)),1,0)","v":0},0,0,null,{"$f":"IF(ISBLANK(I52),1,0)","v":0}]
[null,null,"Chevron Signs on Horizontal Curves",{"$f":"IF(AND($B$27=\"Yes\", ISBLANK(D53)),1,0)","v":0},0,0,0,null,0]
[null,null,"Post-Mounted Delineators",0,0,0,0,null,0]
[null,null,"Edgeline Pavement Markings or Profile Markings",{"$f":"IF(ISBLANK(D55),1,0)","v":1},0,1,1,null,0]
[null,null,"Shoulder Rumble Strips",1,0,1,1,null,0]
[null,null,"Centerline Rumble Strips",1,0,1,1,null,0]
[null,null,"Driveway Density (driveways per mile)",1,0,1,1,null,0]
[null,null,"Lighting",1,0,1,1,null,0]
[null,null,"Pavement Friction (skid number) ***",1,0,1,1,null,0]
[]
[]
[]
[]
[]
[]
[]
[]
[]
[]
[]
[null,null,"Sideslope (Foreslope)",{"$f":"IF(ISBLANK(D72),1,0)","v":1},0,1,1,null,0]
[null,null,"Backslope",1,0,1,1,null,0]
[null,null,"SafetyEdge",1,0,1,1,null,0]
[null,null,"Lateral Clearance to obstruction (ft)",1,0,1,1,null,0]
[null,null,"Obstruction Type",1,0,1,1,null,0]
[]
[]
[]
[]
[]
[]
[]
[null,null,"Distance to Slope Toe from Shoulder (ft)",1,{"$f":"$D$311","v":1},{"$f":"$D$311","v":1},1,null,1]
[]
[]
[]
[null,null,null,null,null,null,null,null,{"$f":"SUM(I316:I324)","v":9}]
[null,null,null,null,null,null,null,{"$f":"F9","v":"Location "},{"$f":"IF(ISBLANK(I9),1,0)","v":1}]
[null,null,null,null,null,null,null,{"$f":"F10","v":"Design Speed (mph)"},{"$f":"IF(ISBLANK(I10),1,0)","v":1}]
[null,null,null,null,null,null,null,"Posted Speed (mph)",1]
[null,null,null,null,null,null,null,"E max (%)",1]
[null,null,null,null,null,null,null,"Design Year AADT (vehicles per day)",1]
[null,null,null,null,null,null,null,"Dist. from Centerline to Left   ROW (feet)",1]
[null,null,null,null,null,null,null,"Dist. from Centerline to Right ROW (feet)",1]
[null,null,null,null,null,null,null,"H Curve Indicator",{"$f":"IF(ISBLANK(B27),1,0)","v":1}]
[null,null,null,null,null,null,null,"V Curve Indicator",{"$f":"IF(ISBLANK(B34),1,0)","v":1}]
[]
[]
[]
[]
[]
[]
[]
[]
[]
[]
[]
[]
[]
[]
[]
[]
[]
[]
[]
[]
[]
[]
[]
[]
[]
[]
[]
[]
[]
[]
[]
[]
[]
[]
[]
[]
[]
[]
[]
[]
[]
[]
[]
[]
[]
[]
[]
[]
[]
[]
[]
[1]
[22]
[21]
[20,null,null,{"$f":"Constraints!P174","v":"Emax=6%"}]
[19]
[18,null,{"$f":"HLOOKUP($I$10,Constraints!$Q$176:AD197,A376,TRUE)","v":{"$error":"#N/A"}},{"$f":"Constraints!P176","v":"super"}]
[17,null,{"$f":"HLOOKUP($I$10,Constraints!$Q$176:AD198,A377,TRUE)","v":{"$error":"#N/A"}},{"$f":"Constraints!P197","v":6},1050]
[16,null,{"$f":"HLOOKUP($I$10,Constraints!$Q$176:AD199,A378,TRUE)","v":{"$error":"#N/A"}},{"$f":"Constraints!P196","v":5.8}]
[15,null,{"$f":"HLOOKUP($I$10,Constraints!$Q$176:AD200,A379,TRUE)","v":{"$error":"#N/A"}},{"$f":"Constraints!P195","v":5.6}]
[14,null,{"$f":"HLOOKUP($I$10,Constraints!$Q$176:AD201,A380,TRUE)","v":{"$error":"#N/A"}},{"$f":"Constraints!P194","v":5.4}]
[13,null,{"$f":"HLOOKUP($I$10,Constraints!$Q$176:AD202,A381,TRUE)","v":{"$error":"#N/A"}},{"$f":"Constraints!P193","v":5.2}]
[12,null,{"$f":"HLOOKUP($I$10,Constraints!$Q$176:AD203,A382,TRUE)","v":{"$error":"#N/A"}},{"$f":"Constraints!P192","v":5}]
[11,null,{"$f":"HLOOKUP($I$10,Constraints!$Q$176:AD204,A383,TRUE)","v":{"$error":"#N/A"}},{"$f":"Constraints!P191","v":4.8}]
[10,null,{"$f":"HLOOKUP($I$10,Constraints!$Q$176:AD205,A384,TRUE)","v":{"$error":"#N/A"}},{"$f":"Constraints!P190","v":4.5999999999999996}]
[9,null,{"$f":"HLOOKUP($I$10,Constraints!$Q$176:AD206,A385,TRUE)","v":{"$error":"#N/A"}},{"$f":"Constraints!P189","v":4.4000000000000004}]
[8,null,{"$f":"HLOOKUP($I$10,Constraints!$Q$176:AD207,A386,TRUE)","v":{"$error":"#N/A"}},{"$f":"Constraints!P188","v":4.2}]
[7,null,{"$f":"HLOOKUP($I$10,Constraints!$Q$176:AD208,A387,TRUE)","v":{"$error":"#N/A"}},{"$f":"Constraints!P187","v":4}]
[6,null,{"$f":"HLOOKUP($I$10,Constraints!$Q$176:AD209,A388,TRUE)","v":{"$error":"#N/A"}},{"$f":"Constraints!P186","v":3.8}]
[5,null,{"$f":"HLOOKUP($I$10,Constraints!$Q$176:AD210,A389,TRUE)","v":{"$error":"#N/A"}},{"$f":"Constraints!P185","v":3.6}]
[4,null,{"$f":"HLOOKUP($I$10,Constraints!$Q$176:AD211,A390,TRUE)","v":{"$error":"#N/A"}},{"$f":"Constraints!P184","v":3.4}]
[3,null,{"$f":"HLOOKUP($I$10,Constraints!$Q$176:AD212,A391,TRUE)","v":{"$error":"#N/A"}},{"$f":"Constraints!P183","v":3.2}]
[2,null,{"$f":"HLOOKUP($I$10,Constraints!$Q$176:AD213,A392,TRUE)","v":{"$error":"#N/A"}},{"$f":"Constraints!P182","v":3}]
[null,null,{"$f":"HLOOKUP($I$10,Constraints!$Q$176:AD214,A393,TRUE)","v":{"$error":"#N/A"}},{"$f":"Constraints!P181","v":2.8}]
[null,null,{"$f":"HLOOKUP($I$10,Constraints!$Q$176:AD215,A394,TRUE)","v":{"$error":"#N/A"}},{"$f":"Constraints!P180","v":2.6}]
[null,null,{"$f":"HLOOKUP($I$10,Constraints!$Q$176:AD216,A395,TRUE)","v":{"$error":"#N/A"}},{"$f":"Constraints!P179","v":2.4}]
[null,null,{"$f":"HLOOKUP($I$10,Constraints!$Q$176:AD217,A396,TRUE)","v":{"$error":"#N/A"}},{"$f":"Constraints!P178","v":2.2000000000000002}]
[null,null,{"$f":"HLOOKUP($I$10,Constraints!$Q$176:AD218,A397,TRUE)","v":{"$error":"#N/A"}},{"$f":"Constraints!P177","v":2}]
[1]
[32]
[31]
[30,null,null,{"$f":"Constraints!P201","v":"Emax=8%"}]
[29]
[28,null,{"$f":"HLOOKUP($I$10,Constraints!$Q$203:AD234,A403,TRUE)","v":{"$error":"#N/A"}},{"$f":"Constraints!P203","v":"super"}]
[27,null,{"$f":"HLOOKUP($I$10,Constraints!$Q$203:AD235,A404,TRUE)","v":{"$error":"#N/A"}},{"$f":"INDEX(Constraints!$P$203:$P$234,A404,)","v":8}]
[26,null,{"$f":"HLOOKUP($I$10,Constraints!$Q$203:AD236,A405,TRUE)","v":{"$error":"#N/A"}},{"$f":"INDEX(Constraints!$P$203:$P$234,A405,)","v":7.8}]
[25,null,{"$f":"HLOOKUP($I$10,Constraints!$Q$203:AD237,A406,TRUE)","v":{"$error":"#N/A"}},{"$f":"INDEX(Constraints!$P$203:$P$234,A406,)","v":7.6}]
[24,null,{"$f":"HLOOKUP($I$10,Constraints!$Q$203:AD238,A407,TRUE)","v":{"$error":"#N/A"}},{"$f":"INDEX(Constraints!$P$203:$P$234,A407,)","v":7.4}]
[23,null,{"$f":"HLOOKUP($I$10,Constraints!$Q$203:AD239,A408,TRUE)","v":{"$error":"#N/A"}},{"$f":"INDEX(Constraints!$P$203:$P$234,A408,)","v":7.2}]
[22,null,{"$f":"HLOOKUP($I$10,Constraints!$Q$203:AD240,A409,TRUE)","v":{"$error":"#N/A"}},{"$f":"INDEX(Constraints!$P$203:$P$234,A409,)","v":7}]
[21,null,{"$f":"HLOOKUP($I$10,Constraints!$Q$203:AD241,A410,TRUE)","v":{"$error":"#N/A"}},{"$f":"INDEX(Constraints!$P$203:$P$234,A410,)","v":6.8}]
[20,null,{"$f":"HLOOKUP($I$10,Constraints!$Q$203:AD242,A411,TRUE)","v":{"$error":"#N/A"}},{"$f":"INDEX(Constraints!$P$203:$P$234,A411,)","v":6.6}]
[19,null,{"$f":"HLOOKUP($I$10,Constraints!$Q$203:AD243,A412,TRUE)","v":{"$error":"#N/A"}},{"$f":"INDEX(Constraints!$P$203:$P$234,A412,)","v":6.4}]
[18,null,{"$f":"HLOOKUP($I$10,Constraints!$Q$203:AD244,A413,TRUE)","v":{"$error":"#N/A"}},{"$f":"INDEX(Constraints!$P$203:$P$234,A413,)","v":6.2}]
[17,null,{"$f":"HLOOKUP($I$10,Constraints!$Q$203:AD245,A414,TRUE)","v":{"$error":"#N/A"}},{"$f":"INDEX(Constraints!$P$203:$P$234,A414,)","v":6}]
[16,null,{"$f":"HLOOKUP($I$10,Constraints!$Q$203:AD246,A415,TRUE)","v":{"$error":"#N/A"}},{"$f":"INDEX(Constraints!$P$203:$P$234,A415,)","v":5.8}]
[15,null,{"$f":"HLOOKUP($I$10,Constraints!$Q$203:AD247,A416,TRUE)","v":{"$error":"#N/A"}},{"$f":"INDEX(Constraints!$P$203:$P$234,A416,)","v":5.6}]
[14,null,{"$f":"HLOOKUP($I$10,Constraints!$Q$203:AD248,A417,TRUE)","v":{"$error":"#N/A"}},{"$f":"INDEX(Constraints!$P$203:$P$234,A417,)","v":5.4}]
[13,null,{"$f":"HLOOKUP($I$10,Constraints!$Q$203:AD249,A418,TRUE)","v":{"$error":"#N/A"}},{"$f":"INDEX(Constraints!$P$203:$P$234,A418,)","v":5.2}]
[12,null,{"$f":"HLOOKUP($I$10,Constraints!$Q$203:AD250,A419,TRUE)","v":{"$error":"#N/A"}},{"$f":"INDEX(Constraints!$P$203:$P$234,A419,)","v":5}]
[11,null,{"$f":"HLOOKUP($I$10,Constraints!$Q$203:AD251,A420,TRUE)","v":{"$error":"#N/A"}},{"$f":"INDEX(Constraints!$P$203:$P$234,A420,)","v":4.8}]
[10,null,{"$f":"HLOOKUP($I$10,Constraints!$Q$203:AD252,A421,TRUE)","v":{"$error":"#N/A"}},{"$f":"INDEX(Constraints!$P$203:$P$234,A421,)","v":4.5999999999999996}]
[9,null,{"$f":"HLOOKUP($I$10,Constraints!$Q$203:AD253,A422,TRUE)","v":{"$error":"#N/A"}},{"$f":"INDEX(Constraints!$P$203:$P$234,A422,)","v":4.4000000000000004}]
[8,null,{"$f":"HLOOKUP($I$10,Constraints!$Q$203:AD254,A423,TRUE)","v":{"$error":"#N/A"}},{"$f":"INDEX(Constraints!$P$203:$P$234,A423,)","v":4.2}]
[7,null,{"$f":"HLOOKUP($I$10,Constraints!$Q$203:AD255,A424,TRUE)","v":{"$error":"#N/A"}},{"$f":"INDEX(Constraints!$P$203:$P$234,A424,)","v":4}]
[6,null,{"$f":"HLOOKUP($I$10,Constraints!$Q$203:AD256,A425,TRUE)","v":{"$error":"#N/A"}},{"$f":"INDEX(Constraints!$P$203:$P$234,A425,)","v":3.8}]
[5,null,{"$f":"HLOOKUP($I$10,Constraints!$Q$203:AD257,A426,TRUE)","v":{"$error":"#N/A"}},{"$f":"INDEX(Constraints!$P$203:$P$234,A426,)","v":3.6}]
[4,null,{"$f":"HLOOKUP($I$10,Constraints!$Q$203:AD258,A427,TRUE)","v":{"$error":"#N/A"}},{"$f":"INDEX(Constraints!$P$203:$P$234,A427,)","v":3.4}]
[3,null,{"$f":"HLOOKUP($I$10,Constraints!$Q$203:AD259,A428,TRUE)","v":{"$error":"#N/A"}},{"$f":"INDEX(Constraints!$P$203:$P$234,A428,)","v":3.2}]
[2,null,{"$f":"HLOOKUP($I$10,Constraints!$Q$203:AD260,A429,TRUE)","v":{"$error":"#N/A"}},{"$f":"INDEX(Constraints!$P$203:$P$234,A429,)","v":3}]
[null,null,{"$f":"HLOOKUP($I$10,Constraints!$Q$203:AD261,A430,TRUE)","v":{"$error":"#N/A"}},{"$f":"INDEX(Constraints!$P$203:$P$234,A430,)","v":2.8}]
[null,null,{"$f":"HLOOKUP($I$10,Constraints!$Q$203:AD262,A431,TRUE)","v":{"$error":"#N/A"}},{"$f":"INDEX(Constraints!$P$203:$P$234,A431,)","v":2.6}]
[null,null,{"$f":"HLOOKUP($I$10,Constraints!$Q$203:AD263,A432,TRUE)","v":{"$error":"#N/A"}},{"$f":"INDEX(Constraints!$P$203:$P$234,A432,)","v":2.4}]
[null,null,{"$f":"HLOOKUP($I$10,Constraints!$Q$203:AD264,A433,TRUE)","v":{"$error":"#N/A"}},{"$f":"INDEX(Constraints!$P$203:$P$234,A433,)","v":2.2000000000000002}]
[null,null,{"$f":"HLOOKUP($I$10,Constraints!$Q$203:AD265,A434,TRUE)","v":{"$error":"#N/A"}},{"$f":"INDEX(Constraints!$P$203:$P$234,A434,)","v":2}]