{"text_format":"1","workbook":"xlsx","n_sheets":26,"sheets":["Versioning","CMFs","Roadside","Constraints","Traffic","Construction","Definitions","Start Here","Reporting0","Helper","Reporting","Configuration 1","Configuration 2","Configuration 3","Configuration 4","Configuration 5","Configuration 6","Configuration 7","Configuration 8","Configuration 9","Configuration 10","Configuration 11","Configuration 12","Configuration 13","Configuration 14","Configuration 15"],"not_rendered":{"charts":15,"images":18,"macros":1,"external_links":5,"defined_names":81,"comments":1,"pivot_tables":0},"unopened":[],"bounds":{"document_bytes":16777216,"sheet_cells":100000,"rows_first":2000,"rows_last":500,"rows_between":2000,"halvings":0,"cell_chars":16384,"cell_head_chars":4096},"cells_cut":0,"cells_raw":0,"read":"whole","date_system":"1900"}

{"sheet":"Versioning","index":0,"n_rows":13,"n_cols":5,"rows_kept":13,"cut":false,"hidden":true,"merged":[]}
[]
[null,"Version","Release","Comments","Updated by"]
[null,1.1000000000000001,"2020-01-01",null,"RA"]
[null,1.2,"2020-08-20","Fixed a bug on the calculation of  the effect of vertical grade (cell D132 in configuration sheets). This was first found for the R2L tool v 2.2","RA"]
[null,1.2,"2020-08-20","Copied Table 11-11 from HSM that has the CMFs for Lane Width on Undivided Hwys. We have applied the ones for divided highways across the board. Should we update?","RA"]
[null,1.2,"2020-08-20","Modified the Table in \"Start Here\" for exporting to a single spreadsheet that merges multiple ones, similar to R2LS","RA"]
[null,1.2,"2020-08-20","Added notes sections to the right of the vortex, similar to v2.3 of R2LS","RA"]
[null,1.3,"2020-09-15","Changed the calculations of the LW and SW CMFs for Divided and undivided, according to the HSM","RA"]
[null,1.4,"2020-12-21","Created new tab \"Reporting\" that should display the results plus additional areas to indicate various project-level assessments. Updated the title of \"PRIMARY CONSTRAINTS\" in all the tabs","RA"]
[null,1.45,"2020-12-22","Enhancements to the new Reporting form (check boxes and others)","RA"]
[null,3.1,"2/1/2022","Major improvements & updates made in 2021, mainly inlcude: horizontal and vertical curves; reportingl; median configration; interface, missing warning message; vortex; etc.","LW"]
[null,3.2,"7/13/2022","Minor correction on traffic element score; inside shoulder width.","LW"]
[null,3.3,"2024-04-16","Update report per TxDOT requests.","LW"]

{"sheet":"CMFs","index":1,"n_rows":21,"n_cols":13,"rows_kept":21,"cut":false,"hidden":true,"merged":[]}
[]
[]
[]
[]
[]
[]
[]
[]
[]
[]
[]
[]
[]
[]
[]
[]
[null,null,"518 (Install Continuous Turn Lane)","Introduce TWLTL (two-way left turn lanes)",null,0.71,"All","All","583, 1285, 2337, 2338, 2339, 2340, 2341, 2352, 2354, 2356, 2358","This is a TTI Meta-Analysis Result."]
[]
[]
[]
[null,null,null,"Provide Passing or Climbing Lane in One Direction",null,0.75,"All","All",null,"Rural Two-Lane; Texas Report",null,null,"Roadway Safety Design Workbook (pg 3-25)"]

{"sheet":"Roadside","index":2,"n_rows":45,"n_cols":12,"rows_kept":45,"cut":false,"hidden":true,"merged":[]}
["No.","Name of Countermeasure","Workcode Number (Name)","Preventable Crash Type","Workcode CMF","Recommended CMF","Target Crash Type","Crash Severity","Countermeasure Name","Note","CMFClearinghouse ID","Study"]
[1,"Relocate Utility Pole","209 (Safety Treat Fixed Objects)","ROR, Hit Objects (pole, barrier, etc.)\n(Roadway Related = 2, 3 or 4) OR (Object Struck = 20–26, 29–36, 40–42,\n56–58, 60, 62, or 63)",0.5]
[null,null,null,null,null,0.9134743339009529,"Fixed object","All","Offset increase by 1 ft. base = 15.8 ft","Rural 2L and Muti-L, undivided (Regression)",5240,"Evaluating safety risk of locating above ground utility structures in the highway right-of-way"]
[null,null,null,null,null,"0.66 * D^0.1162","Fixed object","All","D: Density of utility pole. base = 38/mi (Range 0.3 - 185)","Rural 2L and Muti-L, undivided (Regression)",5241,"Evaluating safety risk of locating above ground utility structures in the highway right-of-way"]
[2,"Remove or Shield Tree or Fixed Objects","209 (Safety Treat Fixed Objects)","ROR, Hit Objects (pole, barrier, etc.)\n(Roadway Related = 2, 3 or 4) OR (Object Struck = 20–26, 29–36, 40–42,\n56–58, 60, 62, or 63)",0.5]
[null,null,null,null,null,0.62,"All","All","Remove or relocate fixed objects outside of clear zone","Both Rural&Urban, Roadway type not specified",1024,"Development of Crash Reduction Factors"]
[null,null,null,null,null,0.62,"All","KABC","Remove or relocate fixed objects outside of clear zone","Both Rural&Urban, Roadway type not specified",1044,"Development of Crash Reduction Factors"]
[null,null,null,null,null,2.4E-2,"Fixed object","All","Remove or relocate fixed objects outside of clear zone","Condition/Roadway type not specified",2724,"Support for the Elimination of Roadside Hazards"]
[4,"Lateral Clearance",null,null,null,0.68,"SVROR","AKBC","Increase lateral clearance from 10 to 40 feet","Rural Two-Lane Texas",4127,"Investigating the Effect of Roadside Features on Single-Vehicle Roadway Departure Crashes on Rural Two-Lane Roads"]
[null,"For tangents",null,null,null,0.68,"SVROR","AKBC","Increase lateral clearance by a delta value","Rural Two-Lane Texas",4127,"Robert's review of the report extracted the beta. Sept 2019"]
[null,"For Curves",null,null,null,0.49,"SVROR","AKBC","Increase lateral clearance by a delta value","Rural Two-Lane Texas",4128,"Robert's review of the report extracted the beta. Sept 2019"]
[5,"Flattening Sideslopes","204 (Flatten Side Slope)","Median Related\n(Roadway Related = 3)",0.54]
[null,null,null,null,null,0.1,"SVROR","KABC","Improve sideslope rating from 5 to 1","Rural Two-Lane Texas",4129,"Investigating the Effect of Roadside Features on Single-Vehicle Roadway Departure Crashes on Rural Two-Lane Roads"]
[null,null,null,null,null,0.82,"Run off road","All","Flatten sideslope from 1V:3H to 1V:4H","Rural Two-Lane",28,"Measuring the Goodness of Fit of Accident Prediction Models"]
[null,null,null,"Elvik et al.",null,0.57999999999999996,"All","ABC","Flatten sideslope from 1V:3H to 1V:4H",null,26]
[null,null,null,"Elvik et al.",null,0.78,"All","ABC","Flatten sideslope from 1V:4H to 1V:6H",null,29]
[6,"Install Median Barrier","201 (Install Median Barrier)","HO\nVehicle Movements/Manner of Collision = 30",0.45]
[null,null,null,null,null,0.56000000000000005,"Head on","All","Install cable median barrier","Condition/Roadway type not specified",9395,"Crash Modification Factors for Median Cable Barriers in Tennessee"]
[null,null,null,null,null,0.27,"Sideswipe","All","Install cable median barrier","Condition/Roadway type not specified",9396,"Crash Modification Factors for Median Cable Barriers in Tennessee"]
[null,null,null,null,null,0.5,"Head on,Sideswipe","All","Install cable median barrier","Condition/Roadway type not specified",9397,"Crash Modification Factors for Median Cable Barriers in Tennessee"]
[7,"Install Roadside Barrier","NA","NA","NA"]
[null,null,null,null,null,0.49,"Run off road","KABC","Install roadside barrier","Rural Two-Lane",6402,"Analyzing road design risk factors for run-off-road crashes in the Netherlands with crash prediction models"]
[7,"Install Safety Edge","NA","All","NA",0.89200000000000002,null,"KAB","Install Safety Edge",null,9205]
[null,null,null,"ROR, Hit Objects (pole, barrier, etc.)\n(Roadway Related = 2, 3 or 4) OR (Object Struck = 20–26, 29–36, 40–42,\n56–58, 60, 62, or 63)",null,0.79,"Run off road","All","Install Safety Edge","Rural Two-Lane",9211,"Study Title: Development Of Crash Modification Factors For The Application Of The Safetyedge Treatment On Two-Lane Rural Roads. Donnell et al. March 2017"]
[null,"Roadside Object",null,"SVROR reduced severity",null,0.55000000000000004,null,null,null,null,"37 and 38","Elviks"]
[]
[]
[]
[null,null,null,"Daniello and Garber, Fatality risk in motorcycle collisions with roadside objects in the US. AAP 2011"]
[]
[null,null,null,"P(fatal w guardrail)/P(fatal w ground)",16.7]
[null,null,null,"P(fatal w tree or pole)/P(fatal w ground)",9.5]
[]
[]
[null,"From Robert W."]
[null,"The CMFs for increasing clearance’s are:"]
[]
[null,"0.68 for tangents"]
[null,"0.49 for curves"]
[]
[null,"For guardrail, the CMF is"]
[]
[null,"0.84 for KA",null,null,null,0.84,"Effect on KA crashes, to be applied for credit on Guardrail application"]
[]
[null,"I know this would be mixing applications, but it seems reasonable to say that you get that credit in the safety score for reducing severity.  And at least we have some reason to do so."]

{"sheet":"Constraints","index":3,"n_rows":234,"n_cols":31,"rows_kept":234,"cut":false,"hidden":true,"merged":[[14,2,15,2],[14,3,15,3],[14,5,15,5],[14,7,15,7],[28,2,29,2],[28,3,29,3],[28,5,29,5],[28,7,29,7]]}
[]
[null,null,"Total ROW"]
[null,null,"Total Pavement W"]
[]
[]
[]
[]
[]
[]
[]
[]
[]
[null,null,null,null,null,null,null,null,null,null,null,null,null,null,"CRIS 2017"]
[null,null,"TX Rural  4 Lane Divided Collision Type Distribution",null,null,null,null,null,null,null,null,null,null,null,"N_2017","HARM_EVNT_DESC","Percent"]
[null,null,"Collision Type","Total Crash","Total","KA Crash","KA","FI Crash","FI",null,null,null,null,null,9110,"ANIMAL                                                                ",{"$f":"O15/$O$25","v":1.4701088622874312E-2},null,null,7.4411443557768839E-3]
[null,null,null,null,"Percent",null,"Percent",null,"Percent",null,null,null,null,null,93332,"FIXED OBJECT                                                          ",0.15061273362789301,null,null,0.68154427822111563]
[null,null,"SVROR",9603,{"$f":"D17/$D$24","v":0.47664664714349531},780,{"$f":"F17/$F$24","v":0.45963464938126103},3437,{"$f":"H17/$H$24","v":0.4564409030544489},null,null,null,null,null,437793,"MOTOR VEHICLE IN TRANSPORT                                            ",0.70648009785664256,null,null,9.6262271159458738E-3]
[null,null,"RE",4276,0.21224003573733061,267,0.15733647613435475,1638,0.21752988047808766,null,null,null,null,null,2255,"OTHER NON COLLISION                                                   ",3.6389632101626319E-3,null,0.28893797069208321,9.5840689225870968E-2]
[null,null,"LT",1525,7.5693651660296818E-2,137,8.07307012374779E-2,665,8.8313413014608239E-2,null,null,null,null,null,3780,"OTHER OBJECT                                                          ",6.0999028533990016E-3,null,null,0.18751148029471193]
[null,null,"HO",293,1.4543108155060307E-2,109,6.4230995875073665E-2,192,2.5498007968127491E-2,null,null,null,null,null,13086,"OVERTURNED                                                            ",2.1117282735338447E-2,null,null,1.180748311121089E-2]
[null,null,"SSS",0,0,0,0,0,0,null,null,null,null,null,49568,"PARKED CAR                                                            ",7.9989413925206795E-2,null,null,5.5858011715002962E-3]
[null,null,"ANG",2188,0.10860177693949472,316,0.18621096051856217,1119,0.14860557768924304,null,null,null,null,null,3244,"PEDALCYCLIST                                                          ",5.234943083710677E-3,null,null,6.4289650386758373E-4]
[null,null,"Ped/Bicycle, Animal, Overturn, Others",2262,0.11227478036432223,88,5.1856216853270479E-2,479,6.3612217795484732E-2,null,null,null,null,null,7227,"PEDESTRIAN                                                            ",1.1662433312569996E-2]
[null,null,"Grand Total",{"$f":"+SUM(D17:D23)","v":20147},{"$f":"SUM(E17:E23)","v":1},{"$f":"+SUM(F17:F23)","v":1697},{"$f":"SUM(G17:G23)","v":1.0000000000000002},{"$f":"+SUM(H17:H23)","v":7530},{"$f":"SUM(I17:I23)","v":1.0000000000000002},null,null,null,null,null,287,"RR TRAIN                                                              ",4.6314077220251679E-4]
[null,null,null,null,null,null,null,null,null,null,null,null,null,null,{"$f":"SUM(O15:O24)","v":619682},null,{"$f":"SUM(Q15:Q24)","v":0.99999999999999989}]
[]
[]
[null,null,"TX Rural  4 Lane Undivided Collision Type Distribution"]
[null,null,"Collision Type","Total Crash","Total","KA Crash","KA","FI Crash","FI"]
[null,null,null,null,"Percent",null,"Percent",null,"Percent"]
[null,null,"SVROR",3317,{"$f":"D31/$D$24","v":0.16463989675882265},256,{"$f":"F31/$F$24","v":0.15085444902769593},1179,{"$f":"H31/$H$24","v":0.15657370517928287}]
[null,null,"RE",2849,0.14141063185585942,111,6.5409546258102538E-2,916,0.12164674634794156]
[null,null,"LT",2218,0.11009083238199235,177,0.10430170889805539,846,0.11235059760956176]
[null,null,"HO",421,2.0896411376383581E-2,164,9.6641131408367706E-2,285,3.7848605577689244E-2]
[null,null,"SSS",0,0,0,0,0,0]
[null,null,"ANG",1648,8.1798778974537148E-2,118,6.9534472598703601E-2,671,8.9110225763612216E-2]
[null,null,"Ped/Bicycle, Animal, Overturn, Others",1287,6.3880478483148859E-2,32,1.8856806128461991E-2,221,2.9349269588313413E-2]
[null,null,"Grand Total",{"$f":"+SUM(D31:D37)","v":11740},{"$f":"SUM(E31:E37)","v":0.58271702983074403},{"$f":"+SUM(F31:F37)","v":858},{"$f":"SUM(G31:G37)","v":0.50559811431938717},{"$f":"+SUM(H31:H37)","v":4118},{"$f":"SUM(I31:I37)","v":0.54687915006640109}]
[]
[]
[]
[]
[]
[]
[]
[]
[]
[]
[]
[]
[]
[]
[]
[]
[]
[]
[]
[]
[]
[]
[]
[]
[]
[]
[]
[]
[]
[]
[]
[]
[]
[]
[]
[]
[]
[]
[]
[]
[]
[]
[]
[]
[]
[]
[]
[]
[]
[]
[]
[]
[]
[]
[]
[]
[]
[]
[]
[]
[]
[]
[]
[]
[]
[]
[]
[]
[]
[]
[]
[]
[]
[]
[]
[]
[]
[]
[]
[]
[]
[]
[]
[]
[]
[]
[]
[]
[]
[]
[]
[]
[]
[]
[]
[]
[]
[]
[]
[]
[]
[]
[]
[]
[]
[]
[]
[]
[]
[]
[]
[]
[]
[]
[]
[]
[]
[]
[]
[]
[]
[]
[]
[]
[]
[]
[]
[]
[]
[]
[]
[]
[]
[]
[]
[null,null,null,null,null,null,null,null,null,null,null,null,null,null,null,"Emax=6%"]
[]
[null,null,null,null,null,null,null,null,null,null,null,null,null,null,null,"super",15,20,25,30,35,40,45,50,55,60,65,70,75,80]
[null,null,null,null,null,null,null,null,null,null,null,null,null,null,null,2,614,1120,1630,2240,2950,3770,4680,5700,6820,8060,9130,10300,11500,12900,2]
[null,null,null,null,null,null,null,null,null,null,null,null,null,null,null,2.2000000000000002,543,991,1450,2000,2630,3370,4190,5100,6110,7230,8200,9240,10400,11600,2.2000000000000002]
[null,null,null,null,null,null,null,null,null,null,null,null,null,null,null,2.4,482,884,1300,1790,2360,3030,3770,4600,5520,6540,7430,8380,9420,10600,2.4]
[null,null,null,null,null,null,null,null,null,null,null,null,null,null,null,2.6,430,791,1170,1610,2130,2740,3420,4170,5020,5950,6770,7660,8620,9670,2.6]
[null,null,null,null,null,null,null,null,null,null,null,null,null,null,null,2.8,384,709,1050,1460,1930,2490,3110,3800,4580,5440,6200,7030,7930,8910,2.8]
[null,null,null,null,null,null,null,null,null,null,null,null,null,null,null,3,341,635,944,1320,1760,2270,2840,3480,4200,4990,5710,6490,7330,8260,3]
[null,null,null,null,null,null,null,null,null,null,null,null,null,null,null,3.2,300,566,850,1200,1600,2080,2600,3200,3860,4600,5280,6010,6810,7680,3.2]
[null,null,null,null,null,null,null,null,null,null,null,null,null,null,null,3.4,256,498,761,1080,1460,1900,2390,2940,3560,4250,4890,5580,6340,7180,3.4]
[null,null,null,null,null,null,null,null,null,null,null,null,null,null,null,3.6,209,422,673,972,1320,1740,2190,2710,3290,3940,4540,5210,5930,6720,3.6]
[null,null,null,null,null,null,null,null,null,null,null,null,null,null,null,3.8,176,358,583,864,1190,1590,2010,2490,3040,3650,4230,4860,5560,6320,3.8]
[null,null,null,null,null,null,null,null,null,null,null,null,null,null,null,4,151,309,511,766,1070,1440,1840,2300,2810,3390,3950,4550,5220,5950,4]
[null,null,null,null,null,null,null,null,null,null,null,null,null,null,null,4.2,131,270,452,684,960,1310,1680,2110,2590,3140,3680,4270,4910,5620,4.2]
[null,null,null,null,null,null,null,null,null,null,null,null,null,null,null,4.4000000000000004,116,238,402,615,868,1190,1540,1940,2400,2920,3440,4010,4630,5320,4.4000000000000004]
[null,null,null,null,null,null,null,null,null,null,null,null,null,null,null,4.5999999999999996,102,212,360,555,788,1090,1410,1780,2210,2710,3220,3770,4380,5040,4.5999999999999996]
[null,null,null,null,null,null,null,null,null,null,null,null,null,null,null,4.8,91,189,324,502,718,995,1300,1640,2050,2510,3000,3550,4140,4790,4.8]
[null,null,null,null,null,null,null,null,null,null,null,null,null,null,null,5,82,169,292,456,654,911,1190,1510,1890,2330,2800,3330,3910,4550,5]
[null,null,null,null,null,null,null,null,null,null,null,null,null,null,null,5.2,73,152,264,413,595,833,1090,1390,1750,2160,2610,3120,3690,4320,5.2]
[null,null,null,null,null,null,null,null,null,null,null,null,null,null,null,5.4,65,136,237,373,540,759,995,1280,1610,1990,2420,2910,3460,4090,5.4]
[null,null,null,null,null,null,null,null,null,null,null,null,null,null,null,5.6,58,121,212,335,487,687,903,1160,1470,1830,2230,2700,3230,3840,5.6]
[null,null,null,null,null,null,null,null,null,null,null,null,null,null,null,5.8,51,106,186,296,431,611,806,1040,1320,1650,2020,2460,2970,3560,5.8]
[null,null,null,null,null,null,null,null,null,null,null,null,null,null,null,6,39,81,144,231,340,485,643,833,1060,1330,1660,2040,2500,3050,6]
[]
[]
[]
[null,null,null,null,null,null,null,null,null,null,null,null,null,null,null,"Emax=8%"]
[null,null,null,null,null,null,null,null,null,null,null,null,null,null,null,null,"speed"]
[null,null,null,null,null,null,null,null,null,null,null,null,null,null,null,"super",15,20,25,30,35,40,45,50,55,60,65,70,75,80]
[null,null,null,null,null,null,null,null,null,null,null,null,null,null,null,2,676,1190,1720,2370,3120,3970,4930,5990,7150,8440,9510,10700,12000,13300,2]
[null,null,null,null,null,null,null,null,null,null,null,null,null,null,null,2.2000000000000002,605,1070,1550,2130,2800,3570,4440,5400,6450,7620,8600,9660,10800,12000,2.2000000000000002]
[null,null,null,null,null,null,null,null,null,null,null,null,null,null,null,2.4,546,959,1400,1930,2540,3240,4030,4910,5870,6930,7830,8810,9850,11000,2.4]
[null,null,null,null,null,null,null,null,null,null,null,null,null,null,null,2.6,496,872,1280,1760,2320,2960,3690,4490,5370,6350,7180,8090,9050,10100,2.6]
[null,null,null,null,null,null,null,null,null,null,null,null,null,null,null,2.8,453,796,1170,1610,2130,2720,3390,4130,4950,5850,6630,7470,8370,9340,2.8]
[null,null,null,null,null,null,null,null,null,null,null,null,null,null,null,3,415,730,1070,1480,1960,2510,3130,3820,4580,5420,6140,6930,7780,8700,3]
[null,null,null,null,null,null,null,null,null,null,null,null,null,null,null,3.2,382,672,985,1370,1820,2330,2900,3550,4250,5040,5720,6460,7260,8130,3.2]
[null,null,null,null,null,null,null,null,null,null,null,null,null,null,null,3.4,352,620,911,1270,1690,2170,2700,3300,3970,4700,5350,6050,6800,7620,3.4]
[null,null,null,null,null,null,null,null,null,null,null,null,null,null,null,3.6,324,572,845,1180,1570,2020,2520,3090,3710,4400,5010,5680,6400,7180,3.6]
[null,null,null,null,null,null,null,null,null,null,null,null,null,null,null,3.8,300,530,784,1100,1470,1890,2360,2890,3480,4140,4710,5350,6030,6780,3.8]
[null,null,null,null,null,null,null,null,null,null,null,null,null,null,null,4,277,490,729,1030,1370,1770,2220,2720,3270,3890,4450,5050,5710,6420,4]
[null,null,null,null,null,null,null,null,null,null,null,null,null,null,null,4.2,255,453,678,955,1280,1660,2080,2560,3080,3670,4200,4780,5410,6090,4.2]
[null,null,null,null,null,null,null,null,null,null,null,null,null,null,null,4.4000000000000004,235,418,630,893,1200,1560,1960,2410,2910,3470,3980,4540,5140,5800,4.4000000000000004]
[null,null,null,null,null,null,null,null,null,null,null,null,null,null,null,4.5999999999999996,215,384,585,834,1130,1470,1850,2280,2750,3290,3770,4310,4890,5530,4.5999999999999996]
[null,null,null,null,null,null,null,null,null,null,null,null,null,null,null,4.8,193,349,542,779,1060,1390,1750,2160,2610,3120,3590,4100,4670,5280,4.8]
[null,null,null,null,null,null,null,null,null,null,null,null,null,null,null,5,172,314,499,727,991,1310,1650,2040,2470,2960,3410,3910,4460,5050,5]
[null,null,null,null,null,null,null,null,null,null,null,null,null,null,null,5.2,154,284,457,676,929,1230,1560,1930,2350,2820,3250,3740,4260,4840,5.2]
[null,null,null,null,null,null,null,null,null,null,null,null,null,null,null,5.4,139,258,420,627,870,1160,1480,1830,2230,2680,3110,3570,4090,4640,5.4]
[null,null,null,null,null,null,null,null,null,null,null,null,null,null,null,5.6,126,236,387,582,813,1090,1390,1740,2120,2550,2970,3420,3920,4460,5.6]
[null,null,null,null,null,null,null,null,null,null,null,null,null,null,null,5.8,115,216,358,542,761,1030,1320,1650,2010,2430,2840,3280,3760,4290,5.8]
[null,null,null,null,null,null,null,null,null,null,null,null,null,null,null,6,105,199,332,506,713,965,1250,1560,1920,2320,2710,3150,3620,4140,6]
[null,null,null,null,null,null,null,null,null,null,null,null,null,null,null,6.2,97,184,308,472,669,909,1180,1480,1820,2210,2600,3020,3480,3990,6.2]
[null,null,null,null,null,null,null,null,null,null,null,null,null,null,null,6.4,89,170,287,442,628,857,1110,1400,1730,2110,2490,2910,3360,3850,6.4]
[null,null,null,null,null,null,null,null,null,null,null,null,null,null,null,6.6,82,157,267,413,590,808,1050,1330,1650,2010,2380,2790,3240,3720,6.6]
[null,null,null,null,null,null,null,null,null,null,null,null,null,null,null,6.8,76,146,248,386,553,761,990,1260,1560,1910,2280,2690,3120,3600,6.8]
[null,null,null,null,null,null,null,null,null,null,null,null,null,null,null,7,70,135,231,360,518,716,933,1190,1480,1820,2180,2580,3010,3480,7]
[null,null,null,null,null,null,null,null,null,null,null,null,null,null,null,7.2,64,125,214,336,485,672,878,1120,1400,1720,2070,2470,2900,3370,7.2]
[null,null,null,null,null,null,null,null,null,null,null,null,null,null,null,7.4,59,115,198,312,451,628,822,1060,1320,1630,1970,2350,2780,3250,7.4]
[null,null,null,null,null,null,null,null,null,null,null,null,null,null,null,7.6,54,105,182,287,417,583,765,980,1230,1530,1850,2230,2650,3120,7.6]
[null,null,null,null,null,null,null,null,null,null,null,null,null,null,null,7.8,48,94,164,261,380,533,701,901,1140,1410,1720,2090,2500,2970,7.8]
[null,null,null,null,null,null,null,null,null,null,null,null,null,null,null,8,38,76,134,214,314,444,587,758,960,1200,1480,1810,2210,2670,8]

{"sheet":"Traffic","index":4,"n_rows":81,"n_cols":11,"rows_kept":81,"cut":false,"hidden":true,"merged":[]}
[]
["Category","No.","Name of Countermeasure","Workcode Number (Name)","Countermeasure Name","Recommended CMF","Target Crash Type","Crash Severity","Note","CMFClearinghouse ID","Study"]
["Signs",1,"Hazard Warning (Crash Warning Sign)","101 (Install Warning/Guide Signs)","Install changeable crash ahead warning signs",0.56000000000000005,"All","ABC","in Urban area. (Meta-Ana. Method)",75,"Handbook of Road Safety Measures"]
[null,2,"Curve Warning","123 (Install Advance Curve Warning Signals – Existing Warning Signs)","Advance static curve warning signs",0.7,"All","ABC","Not specified (Meta-Ana. Method)",71,"Handbook of Road Safety Measures"]
[null,3,"Chevrons","137 (Install Chevrons on Curve)"]
[null,null,null,null,"Install chevron signs on horizontal curves",0.96,"Non-intersection","All","Rural Two-Lane",2436,"Safety Evaluation of Improved Curve Delineation"]
[null,null,null,null,"Install chevron signs on horizontal curves",0.94,"Head on,Non-intersection,Run off road,Sideswipe","All","Rural Two-Lane",2437,"Safety Evaluation of Improved Curve Delineation"]
[null,null,null,null,"Install chevron signs on horizontal curves",0.84,"Non-intersection","KABC","Rural Two-Lane",2438,"Safety Evaluation of Improved Curve Delineation"]
[null,null,null,null,"Install chevron signs on horizontal curves",0.75,"Nighttime,Non-intersection","All","Rural Two-Lane",2439,"Safety Evaluation of Improved Curve Delineation"]
[null,null,null,null,"Install chevron signs on horizontal curves",0.78,"Head on,Nighttime,Non-intersection,Run off road,Sideswipe","All","Rural Two-Lane",2440,"Safety Evaluation of Improved Curve Delineation"]
[null,4,"Delineators","113 (Install Delineators)"]
[null,null,null,null,"Install post-mounted delineators",0.85,"Run off road","All","Rural Two-Lane (Regression Model Method)",9727,"Estimating Crash Modification Factors for Lane Departure Countermeasures in Kansas"]
[null,null,null,null,"Install post-mounted delineators",0.9,"Run off road","KABC","Rural Two-Lane (Regression Model Method)",9728,"Estimating Crash Modification Factors for Lane Departure Countermeasures in Kansas"]
[null,5,"Multiple Curve Treatment Combination","123 (Install Advance Curve Warning Signals – Existing Warning Signs)\n125 (Install Advance Curve Warning Signals and Signs)\n136 (Install LED Flashing Chevrons on Curve)\n137 (Install Chevrons on Curve)","Install chevron signs, curve warning signs, and sequential flashing beacons",0.52,"Run off road","All","Freeway",1919,"Safety Evaluation of Curve Delineation Improvements An Empirical Bayes Observational Before-After Study"]
["Markings",6,"Centerline Marking","404 (Install Centerline Striping)"]
[null,null,null,null,"Place centerline markings",0.99,"All","ABC","Rural Two-Lane (Meta-Ana. Method)",87,"Handbook of Road Safety Measures"]
[null,null,null,null,"Place centerline markings",1.01,"All","PDO","Rural Two-Lane (Meta-Ana. Method)",88,"Handbook of Road Safety Measures"]
[null,7,"Edgeline Marking","402 (Install Edge Marking)","Install edgeline pavement markings on narrow, rural, two-lane roads",0.85,"All","All","Rural Two-Lane",5646,"Investigating Safety Impact of Edge Line on Narrow Rural 2-lane Highways by Empirical Bayes Method"]
[null,8,"Profile Pavement Markings (Both CL&EL)","543 (Profile Centerline Markings)\n533 (Profile Edgeline Markings)"]
[null,null,null,null,"Install alternative audible lane departure warning treatments",0.79,"Head on,Run off road,Sideswipe","All","Rural Two-Lane Texas",9716,"Safety Evaluation of Alternative Audible Lane Departure Warning Treatments in Reducing Traffic Crashes: an Empirical Bayes Observational Before-After Study"]
[null,null,null,null,"Install alternative audible lane departure warning treatments",0.68,"Head on,Run off road,Sideswipe","KABC","Rural Two-Lane Texas",9717,"Safety Evaluation of Alternative Audible Lane Departure Warning Treatments in Reducing Traffic Crashes: an Empirical Bayes Observational Before-After Study"]
[null,9,"Raised Pavement Markers  (Both CL&EL)","544 (Raised Centerline Rumble Strips)\n534 (Raised Edgeline Rumble Strips)"]
[null,null,null,null,"Install snowplowable, permanent raised pavement markers",1.1299999999999999,"Nighttime","All","Rural Four-Lane (AADT < 20,000)",109,"NCHRP Report 518: Safety Evaluation of Permanent Raised Pavement Markers"]
[null,null,null,null,"Install snowplowable, permanent raised pavement markers",0.94,"Nighttime","All","Rural Four-Lane (20,000 < AADT < 60,000)",110,"NCHRP Report 518: Safety Evaluation of Permanent Raised Pavement Markers"]
[null,null,null,null,"Install snowplowable, permanent raised pavement markers",0.67,"Nighttime","All","Rural Four-Lane (AADT > 60,000)",111,"NCHRP Report 518: Safety Evaluation of Permanent Raised Pavement Markers"]
["Tactile (Rumble Strips)",10,"Edgeline Rumble Strips","532 (Milled Edgeline Rumble Strips)"]
[null,null,null,null,"Shoulder rumble strips",0.83,"Run off road","All","Rural Two-Lane","3442, 3443, 3444, 3445, 3582, 3583, 3584, 3585, 3603, 3604, 3605, 3606, 7744","This is a TTI Meta-Analysis Result."]
[null,null,null,null,"Shoulder rumble strips",0.64,"Run off road","KABC","Rural Two-Lane","3454, 3455, 3456, 3457, 7745","This is a TTI Meta-Analysis Result."]
[null,11,"Centerline Rumble Strips","542 (Milled Centerline Rumble Strips)","Install centerline rumble strips",0.80800000000000005,"Run off road","All","Rural Two-Lane",5400,"Study of KDOT Policy on Lane and Shoulder Minimum Width for Application of Centerline Rumble Strips"]
[null,12,"Install CL and EL Rumble Strips",null,"Install centerline and shoulder rumble strips",0.6,"Head on","All","Rural Two-Lane","6853, 6940, 6950, 6971","This is a TTI Meta-Analysis Result."]
["Access Management",13,"Driveway Density","NA","Reduce driveway density by 1 per mile, base 3 driveways per mi.",0.98,"All","All","Rural Two-Lane",2248,"Potential Driveway Density Accident Modification Factors for Rural Highways Using Texas Data"]
[]
[]
[]
[]
[]
[]
[null,16,"Delineations, Signs for Accesses (No CMFs found)"]
["Lighting",17,"Lighting at General / Normal Segment","305 (Safety Lighting)"]
[null,null,null,null,"Install lighting",0.63,"All","KABC","Both Rural&Urban, all roadway",7774,"Validation and Application of Highway Safety Manual (Part D) in Florida"]
[null,null,null,null,"Install lighting",0.84,"All","PDO","Both Rural&Urban, all roadway",7775,"Validation and Application of Highway Safety Manual (Part D) in Florida"]
[null,null,null,null,"Install lighting",0.68,"All","All","Both Rural&Urban, all roadway",7776,"Validation and Application of Highway Safety Manual (Part D) in Florida"]
[null,null,null,null,"Install lighting",0.67,"Rear end","All","Both Rural&Urban, all roadway",7777,"Validation and Application of Highway Safety Manual (Part D) in Florida"]
[null,null,null,null,"Install lighting",0.64,"Angle","All","Both Rural&Urban, all roadway",7778,"Validation and Application of Highway Safety Manual (Part D) in Florida"]
[null,null,null,null,"Install lighting",0.72,"Single vehicle","All","Both Rural&Urban, all roadway",7779,"Validation and Application of Highway Safety Manual (Part D) in Florida"]
[null,null,null,null,"Install lighting",0.72,"Other","All","Both Rural&Urban, all roadway",7780,"Validation and Application of Highway Safety Manual (Part D) in Florida"]
["Pavement Friction",18,"Skid Number","303 (Resurfacing)"]
[null,null,null,null,"Increase Skid Number by 1 unit, base 40",0.99099999999999999,"All","All","Rural Two-Lane  Curve Texas",null,"TTI Report FHWA/TX-18/0-6932-R1"]
[null,null,null,null,"Increase Skid Number by 1 unit, base 40",0.96299999999999997,"Wet-weather","All","Rural Two-Lane  Curve Texas",null,"TTI Report FHWA/TX-18/0-6932-R1"]
[null,null,null,null,"Increase Skid Number by 1 unit, base 40",0.99,"Run off road","All","Rural Two-Lane  Curve Texas",null,"TTI Report FHWA/TX-18/0-6932-R1"]
[null,null,null,null,"Increase Skid Number by 1 unit, base 40",0.96299999999999997,"Wet-weather Run off Road","All","Rural Two-Lane  Curve Texas",null,"TTI Report FHWA/TX-18/0-6932-R1"]
[]
[null,null,null,null,"FROM ELVIK ET AL"]
[null,null,null,null,"Install lighting",0.72,"Nighttime","ABC",null,191,"Elvik et al."]
[null,null,null,null,"Install lighting",0.83,"Nighttime","O",null,192,"Elvik et al."]
[null,null,null,null,"Install lighting",0.31,"All","K",null,193,"Elvik et al."]
[]
[]
[]
[null,null,null,null,"From MUTCD"]
[]
[null,null,null,null,"Table 2C-5. Horizontal Alignment Sign Selection"]
[null,null,null,null,"Type of","Difference Between Speed Limit and Advisory Speed"]
[null,null,null,null,"Horizontal"]
[null,null,null,null,"Alignment Sign","5 mph","10 mph","15 mph","20 mph","25 mph or more"]
[null,null,null,null,"Turn (W1-1), Curve (W1-2), Reverse Turn (W1-3), Reverse Curve (W1-4), Winding Road (W1-5), and Combination Horizontal Alignment/Intersection (W1-10) (see Section 2C.07 to determine which sign to use)","Recommended","Required","Required","Required","Required"]
[null,null,null,null,"Advisory Speed Plaque (W13-1P)","Recommended","Required","Required","Required","Required"]
[null,null,null,null,"Chevrons (W1-8) and/or One Direction Large Arrow (W1-6)","Optional","Recommended","Required","Required","Required"]
[null,null,null,null,"Exit Speed (W13-2) and Ramp Speed (W13-3) on exit ramp","Optional","Optional","Recommended","Required","Required"]
[null,null,null,null,"Note: Required means that the sign and/or plaque shall be used, recommended means that the sign and/or plaque should be used, and optional means that the sign and/or plaque may be used."]
[null,null,null,null,"See Section 2C.06 for roadways with less than 1,000 AADT."]
[]
[]
[]
[]
[]
[]
[null,null,null,null,"Two Lane Roadway"]
[null,null,null,null,"Centerline Rumble Strips",null,null,"CMF 124 from Crash Reduction Following Installation of Centerline Rumble Strips on Rural Two-Lane Roads, Persaud (HSM)"]
[null,null,null,null,"CMF"]
[null,null,null,null,0.86]

{"sheet":"Construction","index":5,"n_rows":205,"n_cols":34,"rows_kept":205,"cut":false,"hidden":true,"merged":[]}
[null,null,"ORIGINAL",null,null,null,null,"Meta Parameters","Total Score",null,"For validation of curve signing",null,"Yes or No","(Cell range named \"Responses\")"]
[null,null,"LW","CMF","CRF",null,null,"Geometry",40,null,null,null,"Yes"]
[null,null,10,1.05,{"$f":"100*(1-D3)","v":-5.0000000000000044},null,null,"Traffic Control",20,null,null,null,"No"]
[null,null,10.5,1.04,{"$f":"100*(1-D4)","v":-4.0000000000000036},null,null,"Roadside",40,null,null,null,null,null,null,null,null,null,null,null,null,null,null,null,null,null,null,null,null,"Xsect","Blank",null,null,"For validation"]
[null,null,11,1.02,{"$f":"100*(1-D5)","v":-2.0000000000000018},null,null,"Total:",{"$f":"SUM(I2:I4)","v":100},null,null,null,"Lane","Shld",null,"Super",null,"Emax6","Emax8",null,"AADT",null,"View2",null,"Sslope",null,"PrType",null,null,"Configuration 1","--",{"$f":"AD5","v":"Configuration 1"},{"$f":"IFERROR(RIGHT('Start Here'!H81,2)+0,0)","v":1},{"$f":"\"Construction!$AF$5:$AF$\"&Construction!$AG$21+5","v":"Construction!$AF$5:$AF$6"}]
[null,null,11.5,1.01,{"$f":"100*(1-D6)","v":-1.0000000000000009},null,null,null,null,null,null,null,10,0,null,6,null,2,2,null,"< 2000",null,"Existing",null,"1V:1H",null,"3R",null,null,"Configuration 2",null,{"$f":"AD6","v":"Configuration 2"},{"$f":"IFERROR(RIGHT('Start Here'!H82,2)+0,0)","v":1}]
[null,null,12,1,{"$f":"100*(1-D7)","v":0},null,null,null,null,null,null,null,10.5,1,null,8,null,2.2000000000000002,2.2000000000000002,null,"2,001 < AADT < 40,000",null,"Standard",null,"1V:2H",null,"4R",null,null,"Configuration 3",null,"Configuration 3",{"$f":"IFERROR(RIGHT('Start Here'!H83,2)+0,0)","v":1}]
[null,null,null,null,null,null,null,null,null,null,null,null,11,2,null,null,null,2.4,2.4,null,"40,001 < AADT < 60,000",null,"Design 1",null,"1V:3H",null,null,null,null,"Configuration 4",null,"Configuration 4",{"$f":"IFERROR(RIGHT('Start Here'!H84,2)+0,0)","v":1}]
["Shoulder Width (HSM for divided)",null,null,null,null,null,null,null,null,null,null,null,11.5,3,null,null,null,2.6,2.6,null,null,null,"Design 2",null,"1V:4H",null,null,null,null,"Configuration 5",null,"Configuration 5",{"$f":"IFERROR(RIGHT('Start Here'!H85,2)+0,0)","v":1}]
[null,null,"SW","CMF","CRF",null,null,"Config",null,null,null,null,12,4,null,null,null,2.8,2.8,null,null,null,"Optimal",null,"1V:5H",null,null,null,null,"Configuration 6",null,"Configuration 6",{"$f":"IFERROR(RIGHT('Start Here'!H86,2)+0,0)","v":1}]
[null,null,0,1.29,{"$f":"100*(1-D11)","v":-29.000000000000004},null,null,"Undivided",null,null,null,null,null,5,null,null,null,3,3,null,null,null,null,null,"1V:6H",null,null,null,null,"Configuration 7",null,"Configuration 7",{"$f":"IFERROR(RIGHT('Start Here'!H87,2)+0,0)","v":1}]
[null,null,1,1.23,-23,null,null,"Divided",null,null,null,null,null,6,null,null,null,3.2,3.2,null,null,null,null,null,"1V:7H",null,null,null,null,"Configuration 8",null,"Configuration 8",{"$f":"IFERROR(RIGHT('Start Here'!H88,2)+0,0)","v":1}]
[null,null,2,1.17,-16.999999999999993,null,null,null,"UNDIVIDED HSM (TABLE11-11) ",null,null,null,null,7,null,null,null,3.4,3.4,null,null,null,null,null,"1V:8H",null,null,null,null,"Configuration 9",null,"Configuration 9",{"$f":"IFERROR(RIGHT('Start Here'!H89,2)+0,0)","v":1}]
[null,null,3,1.1299999999999999,-12.999999999999989,null,null,null,"LW","CMF",null,null,null,8,null,null,null,3.6,3.6,null,"SLimit",null,null,null,"1V:9H",null,null,null,null,"Configuration 10",null,"Configuration 10",{"$f":"IFERROR(RIGHT('Start Here'!H90,2)+0,0)","v":1}]
[null,null,4,1.0900000000000001,-9.0000000000000071,null,null,null,9,1.38,null,null,null,9,null,null,null,3.8,3.8,null,20,null,null,null,"1V:10H",null,null,null,null,"Configuration 11",null,"Configuration 11",{"$f":"IFERROR(RIGHT('Start Here'!H91,2)+0,0)","v":1}]
[null,null,5,1.04,-4.0000000000000036,null,null,null,9.5,{"$f":"AVERAGE(J15,J17)","v":1.3049999999999999},null,null,null,10,null,null,null,4,4,null,25,null,null,null,"1V:11H",null,null,null,null,"Configuration 12",null,"Configuration 12",{"$f":"IFERROR(RIGHT('Start Here'!H92,2)+0,0)","v":1}]
[null,null,6,1,0,null,null,null,10,1.23,null,null,null,11,null,null,null,0.2,0.2,null,30,null,null,null,"1V:12H",null,null,null,null,"Configuration 13",null,"Configuration 13",{"$f":"IFERROR(RIGHT('Start Here'!H93,2)+0,0)","v":1}]
[null,null,7,0.96,4.0000000000000036,null,null,null,10.5,{"$f":"AVERAGE(J17,J19)","v":1.135},null,null,null,12,null,null,null,4.4000000000000004,4.4000000000000004,null,35,null,null,null,null,null,null,null,null,"Configuration 14",null,"Configuration 14",{"$f":"IFERROR(RIGHT('Start Here'!H94,2)+0,0)","v":1}]
[null,null,8,0.93,6.9999999999999947,null,null,null,11,1.04,null,null,null,null,null,null,null,4.5999999999999996,4.5999999999999996,null,40,null,null,null,null,null,null,null,null,"Configuration 15",null,"Configuration 15",{"$f":"IFERROR(RIGHT('Start Here'!H95,2)+0,0)","v":1}]
[null,null,9,0.91,8.9999999999999964,null,null,null,11.5,{"$f":"AVERAGE(J19,J21)","v":1.02},null,null,null,null,null,null,null,4.8,4.8,null,45,null,"Location"]
[null,null,10,0.9,9.9999999999999982,null,null,null,12,1,null,null,null,null,null,null,null,5,5,null,50,null,"Rural (no town)",null,null,null,null,null,null,null,null,"max",{"$f":"MAX(AG5:AG19)","v":1}]
[null,null,null,null,null,null,null,null,null,null,null,null,null,null,null,null,null,null,null,null,55]
[null,"HC","Table 2-3 TxDOT design Manual",null,null,null,"Table 2-4 TxDOT design Manual",null,null,null,null,null,null,null,null,null,null,null,null,null,60]
[null,null,null,null,null,null,null,null,null,null,null,null,null,null,null,null,null,null,null,null,65]
[null,"Emax 6",null,null,null,null,"Emax 8",null,null,null,null,null,null,null,null,null,null,null,null,null,70]
[null,"Des. Speed","usual min R","Abs min R",null,null,"Des. Speed","usual min R","Abs min R","emax = 8",null,null,null,null,null,null,null,null,null,null,75]
[null,45,810,643,null,null,45,740,587,null,null,null,null,null,null,null,null,null,null,null,80]
[null,50,1050,833,null,null,50,955,758,null,null,null,null,"Lane Width (divided)"]
[null,55,1635,1060,null,null,55,1480,960,null,null,null,null,"LW",">2000"]
[null,60,2195,1330,null,null,60,1980,1200,null,null,null,null,9,1.25]
[null,65,2740,1660,null,null,65,2445,1480,null,null,null,null,9.5,{"$f":"EXP(AVERAGE(LN(O30),LN(O32)))","v":1.1989578808281798}]
[null,70,3390,2040,null,null,70,3005,1810,null,null,null,null,10,1.1499999999999999]
[null,75,3750,2500,null,null,75,3315,2210,null,null,null,null,10.5,{"$f":"EXP(AVERAGE(LN(O32),LN(O34)))","v":1.0883473710171767}]
[null,80,4575,3050,null,null,80,4005,2670,null,null,null,null,11,1.03]
[null,null,null,null,null,null,null,null,null,null,null,null,null,11.5,{"$f":"EXP(AVERAGE(LN(O34),LN(O36)))","v":1.014889156509222}]
[null,null,null,null,null,null,null,null,null,null,null,null,null,12,1]
[]
[]
[]
[null,"OPTIMAL VALUES (Karen's)"]
[null,"Emax 6",null,null,null,null,"Emax 8",null,null,null,null,null,"Shoulder Width (HSM for undivided)"]
[null,"Des. Speed","R",null,null,null,"Des. Speed","R",null,"emax = 8",null,null,null,null,"SW","CMF","CRF"]
[null,45,{"$f":"C27*2","v":1620},null,null,null,45,1480,null,null,null,null,null,null,0,1.5,{"$f":"100*(1-P43)","v":-50}]
[null,50,1800,null,null,null,50,1700,null,null,null,null,null,null,1,{"$f":"AVERAGE(P43,P45)","v":1.4},-39.999999999999993]
[null,55,2200,null,null,null,55,2100,null,null,null,null,null,null,2,1.3,-30.000000000000004]
[null,60,3300,null,null,null,60,3100,null,null,null,null,null,null,3,{"$f":"AVERAGE(P45,P47)","v":1.2250000000000001},-22.500000000000007]
[null,65,4200,null,null,null,65,4000,null,null,null,null,null,null,4,1.1499999999999999,-14.999999999999991]
[null,70,5600,null,null,null,70,5400,null,null,null,null,null,null,5,{"$f":"AVERAGE(P47,P49)","v":1.075},-7.4999999999999956]
[null,75,6200,null,null,null,75,6000,null,null,null,null,null,null,6,1,0]
[null,80,7000,null,null,null,80,6800,null,null,null,null,null,null,7,{"$f":"AVERAGE(P49,P51)","v":0.93500000000000005},6.4999999999999947]
[null,null,null,null,null,null,null,null,null,null,null,null,null,null,8,0.87,13]
[null,null,null,null,null,null,null,null,null,null,null,null,null,null,9,0.87,13]
[null,null,null,null,null,null,null,"Was D28, now H25","Was E28, now I25","Was F28, now J25",null,null,null,null,10,0.87,13,5.2,5.2,null,null,null,"Rural (small town)"]
["Combined Horizontal Curves and Straight Grades",null,null,null,null,null,null,null,null,null,null,null,null,null,null,null,null,5.4,5.4,null,null,null,"Urban to Rural Transition"]
[null,null,null,null,null,null,null,"Grade","HC  Coeff.","Interaction Term",null,null,null,null,null,null,null,5.6,5.6,null,null,null,"Urban"]
[null,null,null,null,null,null,null,4.2000000000000003E-2,0.16,4.16,null,null,null,null,null,null,null,5.8,5.8]
["Equations below represent HC with straight tangent (sum for total crashes)",null,null,null,null,null,null,null,null,null,null,null,null,null,null,null,null,6,6]
[null,null,null,null,null,null,null,null,null,null,null,null,null,null,null,null,null,null,6.2,null,null,null,"Fixed"]
[null,null,null,null,null,null,null,null,null,null,null,null,null,null,null,null,null,null,6.4,null,null,null,"Guardrail"]
[null,null,null,null,null,null,null,null,null,null,null,null,null,null,null,null,null,null,6.6,null,null,null,"Other Fixed Object"]
[null,null,null,null,null,null,null,null,null,null,null,null,null,null,null,null,null,null,6.8,null,null,null,"None"]
[null,null,null,null,null,null,null,null,null,null,null,null,null,null,null,null,null,null,7]
[null,null,null,null,null,null,null,null,null,null,null,null,null,null,null,null,null,null,7.2]
[null,null,null,null,null,null,null,null,null,null,null,null,null,null,null,null,null,null,7.4]
[null,null,null,null,null,null,null,null,null,null,null,null,null,null,null,null,null,null,7.6]
[null,null,null,null,null,null,null,null,null,null,null,null,null,null,null,null,null,null,7.8]
[null,null,null,null,null,null,null,null,null,null,null,null,null,null,null,null,null,null,8]
[]
["Equations below represent HC and tangents with Type 1  crest -- so G1>G2 (sum for total crashes)"]
[3,"HA and VA: Crests Type I",null,"Interact"]
[null,null,null,{"$f":"(0.0088*EXP(-9.56)+0.0046*EXP(-8.46))/(EXP(-8.46)+EXP(-9.56))","v":5.648907556500507E-3}]
[]
[]
[]
[]
[]
[]
[]
[]
[]
[]
[]
[]
[]
[]
["Equations below represent HC and tangents with Type I sag vertical curve -- so G1<G2 (sum for total crashes)"]
[null,"HA and VA: Sags Type I",null,"K","Interact"]
[null,null,null,{"$f":"(10.51*EXP(-9.55)+8.62*EXP(-8.63))/(EXP(-8.63)+EXP(-9.55))","v":9.1585704202251268},{"$f":"(0.011*EXP(-9.55)+0.01*EXP(-8.63))/(EXP(-8.63)+EXP(-9.55))","v":1.0284957894299009E-2}]
[]
[]
[]
[]
[]
[]
[]
[]
[]
[]
[]
[null,"HA and VA: Crest Type II",null,"R effect"]
[null,null,null,{"$f":"(0.2*EXP(-9.52)+0.1*EXP(-8.38))/(EXP(-8.38)+EXP(-9.52))","v":0.12423203609962954}]
[]
[null,null,null,null,null,null,null,null,"OVERWROTE TO TYPE I BECAUSE OF INCONSISTENT RESULTS AND CAUTION OFFERRED BY THE RESEARCHERS"]
[]
[]
[]
[]
[]
[]
[]
[]
[]
[]
[]
[]
[]
[]
[]
[]
[]
[]
[]
[]
[]
[]
[null,"HA and VA: Sag Type II"]
[]
[]
[null,null,null,"ln R effect","weight","R effect","weight"]
[null,null,null,0.188,{"$f":"EXP(-9.42)/(EXP(-9.42)+EXP(-8.3))","v":0.24601128355105206},2.1999999999999999E-2,{"$f":"EXP(-8.3)/(EXP(-9.42)+EXP(-8.3))","v":0.75398871644894794}]
[]
[]
[]
[]
[]
[]
[]
[]
[]
[]
[]
[]
[]
[]
[]
[]
[]
[]
[]
[]
[]
[]
[]
["Table 2-6 and 2-7 of TxDOT Design Manual"]
["Minimum Design Controls for Vertical Curves (Standard)"]
[null,"Design Speed","Min Crest K","Min Sag K"]
[null,20,7,17]
[null,25,12,26]
[null,30,19,37]
[null,35,29,49]
[null,40,44,64]
[null,45,61,79]
[null,50,84,96]
[null,55,114,115]
[null,60,151,136]
[null,65,193,157]
[null,70,247,181]
[null,75,312,206]
[null,80,384,231]
[]
[]
[]
[]
["Table 2-6 and 2-7 of TxDOT Design Manual"]
["Design Controls for Vertical Curves (Optimal)"]
[null,"Design Speed","Min Crest K","Min Sag K"]
[null,20,10,10]
[null,25,20,40]
[null,30,40,70]
[null,35,60,100]
[null,40,90,130]
[null,45,120,160]
[null,50,170,190]
[null,55,230,230]
[null,60,300,270]
[null,65,390,310]
[null,70,490,360]
[null,75,620,410]
[null,80,760,460]
[]
[]
["Median width",null,null,null,null,"Number of Lanes per Direction"]
[null,"MW (ft)",null,null,null,2]
[null,10,1,null,null,3]
[null,12,0.98]
[null,15,0.97499999999999998]
[null,20,0.95]
[null,30,0.91]
[null,40,0.87]
[null,50,0.83]
[null,60,0.79]
[null,70,0.76]
[null,80,0.72]
[null,90,0.69]
[null,100,0.66]

{"sheet":"Definitions","index":6,"n_rows":48,"n_cols":11,"rows_kept":48,"cut":false,"hidden":false,"merged":[[3,3,3,4]]}
[]
[]
[]
[null,null,null,"Rural Multi-Lane Roadway Element Definitions"]
[null,null,null,"Geometric Design Elements","Definition","Notes"]
[null,null,null,"Configuration of Multilane Roadway\n\nMedian Configuration (Width or Type)","Flush Median: Striped Buffer or Two Way Left Turn Lanes (TWLTL);\nDivided Unsurfaced Median: Width of Median (ft);\nNo Median: undivided."]
[null,null,null,"Lane Width (feet)","The nominal width of the lane."]
[null,null,null,"Average Outside Shoulder Width (feet)","The average width of paved shoulder on the outside of the rightmost travel lanes in both directions."]
[null,null,null,"Average Inside Shoulder Width (feet)","The average width of the shoulder on the inside of the leftmost lanes of travel in both directions ."]
[null,null,null,"Number of Lanes per Direction of Travel","Number of through traffic lanes in each direction of travel."]
[null,null,null,"If Horizontal Curve is Present"]
[null,null,null,"Horizontal Curve Data for Controlling Element:"]
[null,null,null,"  Radius (feet)","Radius of the controlling curve at the centerline."]
[null,null,null,"Length of Horizontal Curve (feet)","Length of curve along the centerline from point of curvature to point of tangency."]
[null,null,null,"If Vertical Curve is Present"]
[null,null,null,"Vertical Curve Data for Controlling Element:"]
[null,null,null,"  Approach (Entry) Grade, G1 (%)","grade of the approach vertical tangent."]
[null,null,null,"  Departure (Exit) Grade, G2 (%)","grade of the departure vertical tangent."]
[null,null,null,"  Length (feet)","distance between the point of vertical curvature and point of tangency (see Design Manual  Figure 2-4).  (see Design Manual  Figure 2-4, reproduced to the right)."]
[null,null,null,"  Calculated Rate of Change, K (ft/ft)","The length of curve divided by the algebraic difference in grades G1 and G2.",null,null,null,null,null,"Figure 2-4 from TxDOT Roadway Design Manual"]
[null,null,null,"  Calculated Sag or Crest?","Is the curve a vertical sag or crest curve."]
[]
[]
[]
[]
[]
[]
[]
[null,null,null,"Traffic Elements","Definition","Notes"]
[null,null,null,"Advance Static Curve Warning Signs","Are curve warning signs posted in compliance with MUTCD requirements on both approaches to all horizontal curves in the segment?"]
[null,null,null,"Chevron Signs on Horizontal Curves","Are chevron signs posted in compliance with MUTCD requirements on all horizontal curves in the segment?"]
[null,null,null,"Post-Mounted Delineators","Are post-mounted delineators placed in compliance with MUTCD spacing recommendations along all horizontal curves in the segment?"]
[null,null,null,"Edgeline Pavement Markings or Profile Markings","Are continuous edgeline rumble strips or profile markings present along both sides of the segment?"]
[null,null,null,"Shoulder Rumble Strips","Are rumble strips present on the shoulder?","* Only one of these treatments should be present at the site"]
[null,null,null,"Centerline Rumble Strips","Are continuous centerline rumble strips present along the entire segment?","* Only one of these treatments should be present at the site"]
[null,null,null,"Driveway Density (driveways per mile)","The number of driveways along both sides of the roadway divided by the segment length."]
[null,null,null,"Lighting","Is continuous roadway lighting provided along the entire length of the segment?"]
[null,null,null,"Pavement Friction (skid number)","What is the recorded skid number along the segment? (available in TxDOTs roadway inventory)"]
[]
[]
[]
[]
[null,null,null,"Roadside  Elements","Definition","Notes"]
[null,null,null,"Sideslope (Foreslope)","The ratio of horizontal distance for to 1 unit of vertical distance on the slope immediately adjacent to the travel lane or shouder. The smallest ratio of any foreslop in the segment is entered.  "]
[null,null,null,"Backslope","The ratio of horizontal distance for to 1 unit of vertical distance on the slope adjacent to the foreslope. The smallest ratio of any backslope in the segment is entered.  "]
[null,null,null,"SafetyEdge","Is a safety edge present along both pavement edgelines for the entire segment length.  "]
[null,null,null,"Lateral Clearance to obstruction (ft)","The distance from the edge of the travel lane to the nearest obstruction or guardrail.  Examples of obstructions are fixed objects such as trees, utility poles, non-breakawy luminaires, fences, culverts without forgiving features, piers, columns, and buildings or dropoffs and ditches with slopes greater than 1V:3H or the beginning of any backslope greater than 1V:3H."]
[null,null,null,"Obstruction Type","choose between 1) fixed objects drop offs or 2) guardrail."]

{"sheet":"Start Here","index":7,"n_rows":98,"n_cols":13,"rows_kept":98,"cut":false,"hidden":false,"merged":[[6,7,6,8],[7,7,7,8],[8,7,8,8],[10,7,10,8],[1,4,1,8],[2,4,2,8],[3,4,3,6],[3,7,3,8],[4,4,4,6],[4,7,4,8],[11,7,11,8],[12,7,12,8],[78,1,79,1],[78,7,79,7],[78,8,78,12],[13,7,13,8],[14,7,15,8],[78,3,79,3]]}
[]
[null,null,null,null,"Rural Multi-Lane Road Segment -- Safety Score Input"]
[null,null,null,null,"INPUT INSTRUCTIONS"]
[null,null,null,null,"Blue Boxes -- Select from pulldown options",null,null,"Select from Pulldown"]
[null,null,null,null,"Yellow Boxes -- Type input information into box",null,null,"Type Input Value"]
[null,null,null,null,"General Information"]
[null,null,null,null,null,"Analyst:"]
[null,null,null,null,null,"Agency / Company / District:"]
[null,null,null,null,null,"Date:"]
[null,null,null,null,"Segment Limits (Limit up to 15 miles in length):"]
[null,null,null,null,null,"Road Name:"]
[null,null,null,null,null,"Category (4R, 3R) -- Future Enhancement"]
[null,null,null,null,null,"Segment Beginning Mile Point (BMP):"]
[null,null,null,null,null,"Segment Ending Mile Point (EMP):"]
[null,null,null,null,null,null,null,{"$f":"+H14-H13","v":0}]
[null,null,null,null,"Calculated Total Segment Length (miles):"]
[]
[]
[]
[]
[]
[]
[]
[]
[]
[]
[]
[]
[]
[]
[]
[]
[]
[]
[]
[]
[]
[]
[]
[]
[]
[]
[]
[]
[]
[]
[]
[]
[]
[]
[]
[]
[]
[]
[]
[]
[]
[]
[]
[]
[]
[]
[]
[]
[]
[]
[]
[]
[]
[]
[]
[]
[]
[]
[]
[]
[]
[]
[null,"Segment Number",null,"Type","Boundary Conditions",null,null,"Applicable Worksheet (similar segment can use same worksheet)","Segment Safety Score"]
[null,null,null,null,"BMP","EMP","Length",null,"Existing","Standard","Design 1","Design 2","Optimal"]
[null,1,null,"RMLS",{"$f":"+$H$13","v":0},{"$f":"IF($H$15<=1,$H$14,($H$13+1))","v":0},{"$f":"IF($H$14-$H$13>1,1,F81-E81)","v":0},"Configuration 1",{"$f":"IF($E81=\" \",\" \",INDIRECT(\"'\" & $H81 & \"'!d50\"))","v":""},{"$f":"IF($E81=\" \",\" \",INDIRECT(\"'\" & $H81 & \"'!e50\"))","v":""},{"$f":"IF($E81=\" \",\" \",INDIRECT(\"'\" & $H81 & \"'!f50\"))","v":""},{"$f":"IF($E81=\" \",\" \",INDIRECT(\"'\" & $H81 & \"'!g50\"))","v":""},{"$f":"IF($E81=\" \",\" \",INDIRECT(\"'\" & $H81 & \"'!i50\"))","v":""}]
[null,{"$f":"IF($E82=\" \",\" \", 2)","v":" "},null,{"$f":"IF(E82=\" \",\"\",\"RMLS\")","v":""},{"$f":"IF($H$14-$H$13<=1,\" \",F81)","v":" "},{"$f":"IF($E82=\" \",\" \",IF($H$14<($F81+1),$H$14,($F81+1)))","v":" "},{"$f":"+IF(E82=\" \",\" \",IF($H$14<(F81+1),(F82-E82),1))","v":" "},"Configuration 1"," "," "," "," "," "]
[null,{"$f":"IF($E83=\" \",\" \", 3)","v":" "},null,{"$f":"IF(E83=\" \",\"\",\"RMLS\")","v":""},{"$f":"IF($H$14-$H$13<=2,\" \",F82)","v":" "}," ",{"$f":"+IF(E83=\" \",\" \",IF($H$14<(F82+1),(F83-E83),1))","v":" "},"Configuration 1"," "," "," "," "," "]
[null,{"$f":"IF($E84=\" \",\" \", 4)","v":" "},null,"",{"$f":"IF($H$14-$H$13<=3,\" \",F83)","v":" "}," ",{"$f":"+IF(E84=\" \",\" \",IF($H$14<(F83+1),(F84-E84),1))","v":" "},"Configuration 1"," "," "," "," "," "]
[null,{"$f":"IF($E85=\" \",\" \", 5)","v":" "},null,"",{"$f":"IF($H$14-$H$13<=4,\" \",F84)","v":" "}," "," ","Configuration 1"," "," "," "," "," "]
[null,{"$f":"IF($E86=\" \",\" \", 6)","v":" "},null,"",{"$f":"IF($H$14-$H$13<=5,\" \",F85)","v":" "}," "," ","Configuration 1"," "," "," "," "," "]
[null,{"$f":"IF($E87=\" \",\" \", 7)","v":" "},null,"",{"$f":"IF($H$14-$H$13<=6,\" \",F86)","v":" "}," "," ","Configuration 1"," "," "," "," "," "]
[null,{"$f":"IF($E88=\" \",\" \", 8)","v":" "},null,"",{"$f":"IF($H$14-$H$13<=7,\" \",F87)","v":" "}," "," ","Configuration 1"," "," "," "," "," "]
[null,{"$f":"IF($E89=\" \",\" \", 9)","v":" "},null,"",{"$f":"IF($H$14-$H$13<=8,\" \",F88)","v":" "}," "," ","Configuration 1"," "," "," "," "," "]
[null,{"$f":"IF($E90=\" \",\" \", 10)","v":" "},null,"",{"$f":"IF($H$14-$H$13<=9,\" \",F89)","v":" "}," "," ","Configuration 1"," "," "," "," "," "]
[null,{"$f":"IF($E91=\" \",\" \", 11)","v":" "},null,"",{"$f":"IF($H$14-$H$13<=10,\" \",F90)","v":" "}," "," ","Configuration 1"," "," "," "," "," "]
[null,{"$f":"IF($E92=\" \",\" \",12)","v":" "},null,"",{"$f":"IF($H$14-$H$13<=11,\" \",F91)","v":" "}," "," ","Configuration 1"," "," "," "," "," "]
[null,{"$f":"IF($E93=\" \",\" \", 13)","v":" "},null,"",{"$f":"IF($H$14-$H$13<=12,\" \",F92)","v":" "}," "," ","Configuration 1"," "," "," "," "," "]
[null,{"$f":"IF($E94=\" \",\" \", 14)","v":" "},null,"",{"$f":"IF($H$14-$H$13<=13,\" \",F93)","v":" "}," "," ","Configuration 1"," "," "," "," "," "]
[null,{"$f":"IF($E95=\" \",\" \", 15)","v":" "},null,"",{"$f":"IF($H$14-$H$13<=14,\" \",F94)","v":" "}," "," ","Configuration 1",{"$f":"IF(OR($E95=\" \",$H95=\" \"),\" \",INDIRECT(\"'\" & $H95 & \"'!d50\"))","v":" "},{"$f":"IF(OR($E95=\" \",$H95=\" \"),\" \",INDIRECT(\"'\" & $H95 & \"'!d50\"))","v":" "},{"$f":"IF(OR($E95=\" \",$H95=\" \"),\" \",INDIRECT(\"'\" & $H95 & \"'!d50\"))","v":" "},{"$f":"IF(OR($E95=\" \",$H95=\" \"),\" \",INDIRECT(\"'\" & $H95 & \"'!d50\"))","v":" "},{"$f":"IF(OR($E95=\" \",$H95=\" \"),\" \",INDIRECT(\"'\" & $H95 & \"'!d50\"))","v":" "}]
[null,null,{"$f":"\" \"& CELL(\"filename\")","v":" S:\\DES\\Safety Scoring\\2024.10\\Comment - Oct\\[rural-multilane-v3-3.xlsm]Reporting"},"RMLS",{"$f":"H13","v":0},{"$f":"H14","v":0},{"$f":"SUM(G81:G95)","v":0},"Weighted Total Score:",{"$f":"IF(ISERROR(I98), \"Check Conf.\",I98)","v":""},{"$f":"IF(ISERROR(J98), \"Check Conf.\",J98)","v":""},{"$f":"IF(ISERROR(K98), \"Check Conf.\",K98)","v":""},{"$f":"IF(ISERROR(L98), \"Check Conf.\",L98)","v":""},{"$f":"IF(ISERROR(M98), \"Check Conf.\",M98)","v":""}]
[]
[null,null,null,null,null,null,null,null,{"$f":"+IF($G$96>14,((SUM(I$81:I$94)+(I$95*$G$95))/$G$96),IF($G$96>13,(SUM(I$81:I$93)+(I$94*$G$94))/$G$96,IF($G$96>12,(SUM(I$81:I$92)+(I$93*$G$93))/$G$96,IF($G$96>11,(SUM(I$81:I$91)+(I$92*$G$92))/$G$96,IF($G$96>10,((SUM(I$81:I$90)+(I$91*$G$91))/$G$96),IF($G$96>9,((SUM(I$81:I$89)+(I$90*$G$90))/$G$96),IF($G$96>8,(SUM(I$81:I$88)+(I$89*$G$89))/$G$96,IF($G$96>7,(SUM(I$81:I$87)+(I$88*$G$88))/$G$96,IF($G$96>6,(SUM(I$81:I$86)+(I$87*$G$87))/$G$96,IF($G$96>5,(SUM(I$81:I$85)+(I$86*$G$86))/$G$96,IF($G$96>4,(SUM(I$81:I$84)+(I$85*$G$85))/$G$96,IF($G$96>3,(SUM(I$81:I$83)+(I$84*$G$84))/$G$96,IF($G$96>2,(SUM(I$81:I$82)+I$83*$G$83)/$G$96,IF($G$96>1,(I$81+I$82*$G$82)/$G$96,I$81))))))))))))))","v":""},{"$f":"+IF($G$96>14,((SUM(J$81:J$94)+(J$95*$G$95))/$G$96),IF($G$96>13,(SUM(J$81:J$93)+(J$94*$G$94))/$G$96,IF($G$96>12,(SUM(J$81:J$92)+(J$93*$G$93))/$G$96,IF($G$96>11,(SUM(J$81:J$91)+(J$92*$G$92))/$G$96,IF($G$96>10,((SUM(J$81:J$90)+(J$91*$G$91))/$G$96),IF($G$96>9,((SUM(J$81:J$89)+(J$90*$G$90))/$G$96),IF($G$96>8,(SUM(J$81:J$88)+(J$89*$G$89))/$G$96,IF($G$96>7,(SUM(J$81:J$87)+(J$88*$G$88))/$G$96,IF($G$96>6,(SUM(J$81:J$86)+(J$87*$G$87))/$G$96,IF($G$96>5,(SUM(J$81:J$85)+(J$86*$G$86))/$G$96,IF($G$96>4,(SUM(J$81:J$84)+(J$85*$G$85))/$G$96,IF($G$96>3,(SUM(J$81:J$83)+(J$84*$G$84))/$G$96,IF($G$96>2,(SUM(J$81:J$82)+J$83*$G$83)/$G$96,IF($G$96>1,(J$81+J$82*$G$82)/$G$96,J$81))))))))))))))","v":""},{"$f":"+IF($G$96>14,((SUM(K$81:K$94)+(K$95*$G$95))/$G$96),IF($G$96>13,(SUM(K$81:K$93)+(K$94*$G$94))/$G$96,IF($G$96>12,(SUM(K$81:K$92)+(K$93*$G$93))/$G$96,IF($G$96>11,(SUM(K$81:K$91)+(K$92*$G$92))/$G$96,IF($G$96>10,((SUM(K$81:K$90)+(K$91*$G$91))/$G$96),IF($G$96>9,((SUM(K$81:K$89)+(K$90*$G$90))/$G$96),IF($G$96>8,(SUM(K$81:K$88)+(K$89*$G$89))/$G$96,IF($G$96>7,(SUM(K$81:K$87)+(K$88*$G$88))/$G$96,IF($G$96>6,(SUM(K$81:K$86)+(K$87*$G$87))/$G$96,IF($G$96>5,(SUM(K$81:K$85)+(K$86*$G$86))/$G$96,IF($G$96>4,(SUM(K$81:K$84)+(K$85*$G$85))/$G$96,IF($G$96>3,(SUM(K$81:K$83)+(K$84*$G$84))/$G$96,IF($G$96>2,(SUM(K$81:K$82)+K$83*$G$83)/$G$96,IF($G$96>1,(K$81+K$82*$G$82)/$G$96,K$81))))))))))))))","v":""},{"$f":"+IF($G$96>14,((SUM(L$81:L$94)+(L$95*$G$95))/$G$96),IF($G$96>13,(SUM(L$81:L$93)+(L$94*$G$94))/$G$96,IF($G$96>12,(SUM(L$81:L$92)+(L$93*$G$93))/$G$96,IF($G$96>11,(SUM(L$81:L$91)+(L$92*$G$92))/$G$96,IF($G$96>10,((SUM(L$81:L$90)+(L$91*$G$91))/$G$96),IF($G$96>9,((SUM(L$81:L$89)+(L$90*$G$90))/$G$96),IF($G$96>8,(SUM(L$81:L$88)+(L$89*$G$89))/$G$96,IF($G$96>7,(SUM(L$81:L$87)+(L$88*$G$88))/$G$96,IF($G$96>6,(SUM(L$81:L$86)+(L$87*$G$87))/$G$96,IF($G$96>5,(SUM(L$81:L$85)+(L$86*$G$86))/$G$96,IF($G$96>4,(SUM(L$81:L$84)+(L$85*$G$85))/$G$96,IF($G$96>3,(SUM(L$81:L$83)+(L$84*$G$84))/$G$96,IF($G$96>2,(SUM(L$81:L$82)+L$83*$G$83)/$G$96,IF($G$96>1,(L$81+L$82*$G$82)/$G$96,L$81))))))))))))))","v":""},{"$f":"+IF($G$96>14,((SUM(M$81:M$94)+(M$95*$G$95))/$G$96),IF($G$96>13,(SUM(M$81:M$93)+(M$94*$G$94))/$G$96,IF($G$96>12,(SUM(M$81:M$92)+(M$93*$G$93))/$G$96,IF($G$96>11,(SUM(M$81:M$91)+(M$92*$G$92))/$G$96,IF($G$96>10,((SUM(M$81:M$90)+(M$91*$G$91))/$G$96),IF($G$96>9,((SUM(M$81:M$89)+(M$90*$G$90))/$G$96),IF($G$96>8,(SUM(M$81:M$88)+(M$89*$G$89))/$G$96,IF($G$96>7,(SUM(M$81:M$87)+(M$88*$G$88))/$G$96,IF($G$96>6,(SUM(M$81:M$86)+(M$87*$G$87))/$G$96,IF($G$96>5,(SUM(M$81:M$85)+(M$86*$G$86))/$G$96,IF($G$96>4,(SUM(M$81:M$84)+(M$85*$G$85))/$G$96,IF($G$96>3,(SUM(M$81:M$83)+(M$84*$G$84))/$G$96,IF($G$96>2,(SUM(M$81:M$82)+M$83*$G$83)/$G$96,IF($G$96>1,(M$81+M$82*$G$82)/$G$96,M$81))))))))))))))","v":""}]

{"sheet":"Reporting0","index":8,"n_rows":105,"n_cols":24,"rows_kept":105,"cut":false,"hidden":true,"merged":[[55,18,56,25],[24,18,25,25],[26,18,32,25],[39,18,40,25],[41,18,47,25],[24,0,25,7],[26,0,66,7],[24,11,25,16],[26,11,66,16],[11,6,11,7],[12,6,13,7],[18,3,18,4],[2,12,3,12],[2,13,3,13],[2,17,3,17],[2,18,2,22],[3,6,3,7],[4,6,4,7],[5,6,5,7],[7,6,7,7],[8,6,8,7],[10,6,10,7]]}
[]
[]
[null,null,null,"Project General Information",null,null,null,null,null,null,null,null,{"$f":"'Start Here'!B79","v":"Segment Number"},{"$f":"'Start Here'!D79","v":"Type"},{"$f":"'Start Here'!E79","v":"Boundary Conditions"},null,null,"Appicable Worksheet",{"$f":"'Start Here'!I79","v":"Segment Safety Score"}]
[null,null,null,null,{"$f":"'Start Here'!F7","v":"Analyst:"},null,{"$f":"'Start Here'!H7","v":0},null,null,null,null,null,null,null,{"$f":"'Start Here'!E80","v":"BMP"},{"$f":"'Start Here'!F80","v":"EMP"},{"$f":"'Start Here'!G80","v":"Length"},null,{"$f":"'Start Here'!I80","v":"Existing"},{"$f":"'Start Here'!J80","v":"Standard"},{"$f":"'Start Here'!K80","v":"Design 1"},{"$f":"'Start Here'!L80","v":"Design 2"},{"$f":"'Start Here'!M80","v":"Optimal"}]
[null,null,null,null,{"$f":"'Start Here'!F8","v":"Agency / Company / District:"},null,{"$f":"'Start Here'!H8","v":0},null,null,null,null,null,{"$f":"'Start Here'!B81","v":1},{"$f":"'Start Here'!D81","v":"RMLS"},{"$f":"'Start Here'!E81","v":0},{"$f":"'Start Here'!F81","v":0},{"$f":"'Start Here'!G81","v":0},{"$f":"'Start Here'!H81","v":"Configuration 1"},{"$f":"'Start Here'!I81","v":""},{"$f":"'Start Here'!J81","v":""},{"$f":"'Start Here'!K81","v":""},{"$f":"'Start Here'!L81","v":""},{"$f":"'Start Here'!M81","v":""}]
[null,null,null,null,{"$f":"'Start Here'!F9","v":"Date:"},null,{"$f":"'Start Here'!H9","v":"00:00:00"},null,null,null,null,null,{"$f":"'Start Here'!B82","v":" "},{"$f":"'Start Here'!D82","v":""},{"$f":"'Start Here'!E82","v":" "},{"$f":"'Start Here'!F82","v":" "},{"$f":"'Start Here'!G82","v":" "},{"$f":"'Start Here'!H82","v":"Configuration 1"},{"$f":"'Start Here'!I82","v":" "},{"$f":"'Start Here'!J82","v":" "},{"$f":"'Start Here'!K82","v":" "},{"$f":"'Start Here'!L82","v":" "},{"$f":"'Start Here'!M82","v":" "}]
[null,null,null,{"$f":"'Start Here'!E10","v":"Segment Limits (Limit up to 15 miles in length):"},null,null,null,null,null,null,null,null,{"$f":"'Start Here'!B83","v":" "},{"$f":"'Start Here'!D83","v":""},{"$f":"'Start Here'!E83","v":" "},{"$f":"'Start Here'!F83","v":" "},{"$f":"'Start Here'!G83","v":" "},{"$f":"'Start Here'!H83","v":"Configuration 1"},{"$f":"'Start Here'!I83","v":" "},{"$f":"'Start Here'!J83","v":" "},{"$f":"'Start Here'!K83","v":" "},{"$f":"'Start Here'!L83","v":" "},{"$f":"'Start Here'!M83","v":" "}]
[null,null,null,null,{"$f":"'Start Here'!F11","v":"Road Name:"},null,{"$f":"'Start Here'!H11","v":0},null,null,null,null,null,{"$f":"'Start Here'!B84","v":" "},{"$f":"'Start Here'!D84","v":""},{"$f":"'Start Here'!E84","v":" "},{"$f":"'Start Here'!F84","v":" "},{"$f":"'Start Here'!G84","v":" "},{"$f":"'Start Here'!H84","v":"Configuration 1"},{"$f":"'Start Here'!I84","v":" "},{"$f":"'Start Here'!J84","v":" "},{"$f":"'Start Here'!K84","v":" "},{"$f":"'Start Here'!L84","v":" "},{"$f":"'Start Here'!M84","v":" "}]
[null,null,null,null,{"$f":"'Start Here'!F12","v":"Category (4R, 3R) -- Future Enhancement"},null,{"$f":"'Start Here'!H12","v":0},null,null,null,null,null,{"$f":"'Start Here'!B85","v":" "},{"$f":"'Start Here'!D85","v":""},{"$f":"'Start Here'!E85","v":" "},{"$f":"'Start Here'!F85","v":" "},{"$f":"'Start Here'!G85","v":" "},{"$f":"'Start Here'!H85","v":"Configuration 1"},{"$f":"'Start Here'!I85","v":" "},{"$f":"'Start Here'!J85","v":" "},{"$f":"'Start Here'!K85","v":" "},{"$f":"'Start Here'!L85","v":" "},{"$f":"'Start Here'!M85","v":" "}]
[null,null,null,null,null,null,null,null,null,null,null,null,{"$f":"'Start Here'!B86","v":" "},{"$f":"'Start Here'!D86","v":""},{"$f":"'Start Here'!E86","v":" "},{"$f":"'Start Here'!F86","v":" "},{"$f":"'Start Here'!G86","v":" "},{"$f":"'Start Here'!H86","v":"Configuration 1"},{"$f":"'Start Here'!I86","v":" "},{"$f":"'Start Here'!J86","v":" "},{"$f":"'Start Here'!K86","v":" "},{"$f":"'Start Here'!L86","v":" "},{"$f":"'Start Here'!M86","v":" "}]
[null,null,null,null,{"$f":"'Start Here'!F13","v":"Segment Beginning Mile Point (BMP):"},null,{"$f":"'Start Here'!H13","v":0},null,null,null,null,null,{"$f":"'Start Here'!B87","v":" "},{"$f":"'Start Here'!D87","v":""},{"$f":"'Start Here'!E87","v":" "},{"$f":"'Start Here'!F87","v":" "},{"$f":"'Start Here'!G87","v":" "},{"$f":"'Start Here'!H87","v":"Configuration 1"},{"$f":"'Start Here'!I87","v":" "},{"$f":"'Start Here'!J87","v":" "},{"$f":"'Start Here'!K87","v":" "},{"$f":"'Start Here'!L87","v":" "},{"$f":"'Start Here'!M87","v":" "}]
[null,null,null,null,{"$f":"'Start Here'!F14","v":"Segment Ending Mile Point (EMP):"},null,{"$f":"'Start Here'!H14","v":0},null,null,null,null,null,{"$f":"'Start Here'!B88","v":" "},{"$f":"'Start Here'!D88","v":""},{"$f":"'Start Here'!E88","v":" "},{"$f":"'Start Here'!F88","v":" "},{"$f":"'Start Here'!G88","v":" "},{"$f":"'Start Here'!H88","v":"Configuration 1"},{"$f":"'Start Here'!I88","v":" "},{"$f":"'Start Here'!J88","v":" "},{"$f":"'Start Here'!K88","v":" "},{"$f":"'Start Here'!L88","v":" "},{"$f":"'Start Here'!M88","v":" "}]
[null,null,null,null,null,null,{"$f":"'Start Here'!H15","v":0},null,null,null,null,null,{"$f":"'Start Here'!B89","v":" "},{"$f":"'Start Here'!D89","v":""},{"$f":"'Start Here'!E89","v":" "},{"$f":"'Start Here'!F89","v":" "},{"$f":"'Start Here'!G89","v":" "},{"$f":"'Start Here'!H89","v":"Configuration 1"},{"$f":"'Start Here'!I89","v":" "},{"$f":"'Start Here'!J89","v":" "},{"$f":"'Start Here'!K89","v":" "},{"$f":"'Start Here'!L89","v":" "},{"$f":"'Start Here'!M89","v":" "}]
[null,null,null,{"$f":"'Start Here'!E16","v":"Calculated Total Segment Length (miles):"},null,null,null,null,null,null,null,null,{"$f":"'Start Here'!B90","v":" "},{"$f":"'Start Here'!D90","v":""},{"$f":"'Start Here'!E90","v":" "},{"$f":"'Start Here'!F90","v":" "},{"$f":"'Start Here'!G90","v":" "},{"$f":"'Start Here'!H90","v":"Configuration 1"},{"$f":"'Start Here'!I90","v":" "},{"$f":"'Start Here'!J90","v":" "},{"$f":"'Start Here'!K90","v":" "},{"$f":"'Start Here'!L90","v":" "},{"$f":"'Start Here'!M90","v":" "}]
[null,null,null,null,null,null,null,null,null,null,null,null,{"$f":"'Start Here'!B91","v":" "},{"$f":"'Start Here'!D91","v":""},{"$f":"'Start Here'!E91","v":" "},{"$f":"'Start Here'!F91","v":" "},{"$f":"'Start Here'!G91","v":" "},{"$f":"'Start Here'!H91","v":"Configuration 1"},{"$f":"'Start Here'!I91","v":" "},{"$f":"'Start Here'!J91","v":" "},{"$f":"'Start Here'!K91","v":" "},{"$f":"'Start Here'!L91","v":" "},{"$f":"'Start Here'!M91","v":" "}]
[null,null,null,null,null,null,null,null,null,null,null,null,{"$f":"'Start Here'!B92","v":" "},{"$f":"'Start Here'!D92","v":""},{"$f":"'Start Here'!E92","v":" "},{"$f":"'Start Here'!F92","v":" "},{"$f":"'Start Here'!G92","v":" "},{"$f":"'Start Here'!H92","v":"Configuration 1"},{"$f":"'Start Here'!I92","v":" "},{"$f":"'Start Here'!J92","v":" "},{"$f":"'Start Here'!K92","v":" "},{"$f":"'Start Here'!L92","v":" "},{"$f":"'Start Here'!M92","v":" "}]
[null,null,null,null,"FUTURE FUNDED PROJECT",{"$f":"IF(H100,\"Yes\",\"No\")","v":"No"},null,null,null,null,null,null,{"$f":"'Start Here'!B93","v":" "},{"$f":"'Start Here'!D93","v":""},{"$f":"'Start Here'!E93","v":" "},{"$f":"'Start Here'!F93","v":" "},{"$f":"'Start Here'!G93","v":" "},{"$f":"'Start Here'!H93","v":"Configuration 1"},{"$f":"'Start Here'!I93","v":" "},{"$f":"'Start Here'!J93","v":" "},{"$f":"'Start Here'!K93","v":" "},{"$f":"'Start Here'!L93","v":" "},{"$f":"'Start Here'!M93","v":" "}]
[null,null,null,null,null,null,null,null,null,null,null,null,{"$f":"'Start Here'!B94","v":" "},{"$f":"'Start Here'!D94","v":""},{"$f":"'Start Here'!E94","v":" "},{"$f":"'Start Here'!F94","v":" "},{"$f":"'Start Here'!G94","v":" "},{"$f":"'Start Here'!H94","v":"Configuration 1"},{"$f":"'Start Here'!I94","v":" "},{"$f":"'Start Here'!J94","v":" "},{"$f":"'Start Here'!K94","v":" "},{"$f":"'Start Here'!L94","v":" "},{"$f":"'Start Here'!M94","v":" "}]
[null,null,null,"FUTURE UNFUNDED PROJECT IDENTIFIED",null,{"$f":"IF(H101,\"Yes\",\"No\")","v":"No"},null,null,null,null,null,null,{"$f":"'Start Here'!B95","v":" "},{"$f":"'Start Here'!D95","v":""},{"$f":"'Start Here'!E95","v":" "},{"$f":"'Start Here'!F95","v":" "},{"$f":"'Start Here'!G95","v":" "},{"$f":"'Start Here'!H95","v":"Configuration 1"},{"$f":"'Start Here'!I95","v":" "},{"$f":"'Start Here'!J95","v":" "},{"$f":"'Start Here'!K95","v":" "},{"$f":"'Start Here'!L95","v":" "},{"$f":"'Start Here'!M95","v":" "}]
[null,null,null,null,null,null,null,null,null,null,null,null,{"$f":"'Start Here'!C96","v":" S:\\DES\\Safety Scoring\\2024.10\\Comment - Oct\\[rural-multilane-v3-3.xlsm]Reporting"},{"$f":"'Start Here'!D96","v":"RMLS"},{"$f":"'Start Here'!E96","v":0},{"$f":"'Start Here'!F96","v":0},{"$f":"'Start Here'!G96","v":0},{"$f":"'Start Here'!H96","v":"Weighted Total Score:"},{"$f":"'Start Here'!I96","v":""},{"$f":"'Start Here'!J96","v":""},{"$f":"'Start Here'!K96","v":""},{"$f":"'Start Here'!L96","v":""},{"$f":"'Start Here'!M96","v":""}]
[]
[]
[]
[]
["ELEMENTS INCREASING SAFETY",null,null,null,null,null,null,null,null,null,null,"COMMENTS ON PRIMARY CONSTRAINTS",null,null,null,null,null,null,"ESTIMATED ADDITIONAL COST TO ACHIEVE OPTIMAL"]
[]
[null,null,null,null,null,null,null,null,null,null,null,null,null,null,null,null,null,null,"now set at left justified and begins at top"]
[]
[]
[]
[]
[]
[]
[]
[]
[]
[]
[]
[]
[null,null,null,null,null,null,null,null,null,null,null,null,null,null,null,null,null,null,"ESTIMATED ADDITIONAL TIME (mo). TO ACHIEVE OPTIMAL"]
[]
[null,null,null,null,null,null,null,null,null,null,null,null,null,null,null,null,null,null,"Set at 28 font and left justified and top (as set now)"]
[]
[]
[]
[]
[]
[]
[]
[]
[]
[]
[]
[]
[]
[null,null,null,null,null,null,null,null,null,null,null,null,null,null,null,null,null,null,"PRIMARY CONSTRAINTS TOWARD OPTIMAL SAFETY SCORE"]
[]
[null,null,null,null,null,null,null,null,null,null,null,null,null,null,null,null,null,null,null,"A. FUNDING ELEGIBILITY / SCOPE",null,null,{"$f":"IF(X100,\"Yes\",\"No\")","v":"No"}]
[null,null,null,null,null,null,null,null,null,null,null,null,null,null,null,null,null,null,null,"B. SCHEDULE / DELIVERY TIMEFRAME",null,null,"No"]
[null,null,null,null,null,null,null,null,null,null,null,null,null,null,null,null,null,null,null,"C. LOCAL ROW / UTILITIES",null,null,"No"]
[null,null,null,null,null,null,null,null,null,null,null,null,null,null,null,null,null,null,null,"D. ROW / UTILITIES",null,null,"No"]
[null,null,null,null,null,null,null,null,null,null,null,null,null,null,null,null,null,null,null,"E. ENVIRONMENTAL ISSUES",null,null,"No"]
[null,null,null,null,null,null,null,null,null,null,null,null,null,null,null,null,null,null,null,"F. RAILROAD IMPACT",null,null,"No"]
[]
[]
[]
[]
[]
[]
[]
[]
[]
[]
[]
[]
[]
[]
[]
[]
[]
[]
[]
[]
[]
[]
[]
[]
[]
[]
[]
[]
[]
[]
[]
[]
[]
[]
[]
[]
[null,null,null,null,null,null,null,false,null,null,null,null,null,null,null,null,null,null,null,null,null,null,null,false]
[null,null,null,null,null,null,null,false,null,null,null,null,null,null,null,null,null,null,null,null,null,null,null,false]
[null,null,null,null,null,null,null,null,null,null,null,null,null,null,null,null,null,null,null,null,null,null,null,false]
[null,null,null,null,null,null,null,null,null,null,null,null,null,null,null,null,null,null,null,null,null,null,null,false]
[null,null,null,null,null,null,null,null,null,null,null,null,null,null,null,null,null,null,null,null,null,null,null,false]
[null,null,null,null,null,null,null,null,null,null,null,null,null,null,null,null,null,null,null,null,null,null,null,false]

{"sheet":"Helper","index":9,"n_rows":17,"n_cols":30,"rows_kept":17,"cut":false,"hidden":true,"merged":[]}
[null,"SkidNums",null,"Passing_Lane_Type","PassLNCMF",null,null,"HCurveChange",null,"VCurveChange",null,null,"Flush Median","Divided - Unsurfaced Median","No Median",null,"Wid1","Divided","Undivided","MedTypeCMF","MedWidCMF"]
[null,"Hot Mix – 37",null,"No Passing Lane",1,null,null,"Yes.",null,"Yes.",null,null,"Striped Buffer",{"$f":"Q2","v":10},null,null,10,{"$f":"\"Width: \" &Q2 &\" ft\"","v":"Width: 10 ft"},"None","4U",1]
[null,"Seal Coat – 54",null,"Passing or Climbing Lane in One Direction",0.75,"See CMF Tab",null,"No, I will change the L/R.",null,"No, I will change the G/L.",null,null,"TWLTL",{"$f":"Q3","v":12},null,null,12,{"$f":"\"Width: \" &Q3 &\" ft\"","v":"Width: 12 ft"},"4 ft Striped Buffer","4M",0.98,null,null,null,null,"0-7035 Betas"]
[null,"No Change",null,"Super 2",0.65,"See Park et al. 2012",null,null,null,null,null,null,null,15,null,null,15,"Width: 15 ft","TWLTL","4T",0.97499999999999998,null,null,null,null,null,"2S","4U","4M","4T"]
[null,null,null,null,null,null,null,null,null,null,null,null,null,20,null,null,20,"Width: 20 ft",null,null,0.95,null,null,null,null,"Intercept",-9.5178999999999991,-6.4561999999999999,-9.2452000000000005,-6.7859999999999996]
[null,null,null,null,null,null,null,null,null,null,null,null,null,30,null,null,30,"Width: 30 ft",null,null,0.91,null,null,null,null,"ADT coefficient",1.0533999999999999,0.80269999999999997,1.0725,0.82940000000000003]
[null,null,null,null,null,null,null,null,null,null,null,null,null,40,null,null,40,"Width: 40 ft",null,null,0.87,null,null,null,null,"Shoulder coefficient",-2.1299999999999999E-2,-2.1299999999999999E-2,-0.15079999999999999,-2.1299999999999999E-2]
[null,null,null,null,null,null,null,null,null,null,null,null,null,50,null,null,50,"Width: 50 ft",null,null,0.83,null,null,null,null,"Driveway coeffcient ",0.24110000000000001,0.24110000000000001,0.24110000000000001,0.24110000000000001]
[null,null,null,null,null,null,null,null,null,null,null,null,null,60,null,null,60,"Width: 60 ft",null,null,0.79,null,null,null,null,"Horizontal curve prop",0.45540000000000003,0.45540000000000003,0.45540000000000003,0.45540000000000003]
[null,null,null,null,null,null,null,null,null,null,null,null,null,70,null,null,70,"Width: 70 ft",null,null,0.76,null,null,null,null,"Speed above psoted speed",1.4420000000000001E-2,1.4420000000000001E-2,1.4420000000000001E-2,1.4420000000000001E-2]
[null,null,"ModView",null,null,null,null,null,null,null,null,null,null,80,null,null,80,"Width: 80 ft",null,null,0.72]
[null,null,"Existing",null,null,null,null,null,null,null,null,null,null,90,null,null,90,"Width: 90 ft",null,null,0.69]
[null,null,"Standard",null,null,null,null,null,null,null,null,null,null,100,null,null,100,"Width: 100 ft",null,null,0.66]
[null,null,"Design 1"]
[null,null,"Design 2"]
[null,null,"HolderNone"]
[null,null,"Optimal"]

{"sheet":"Reporting","index":10,"n_rows":100,"n_cols":16,"rows_kept":100,"cut":false,"hidden":false,"merged":[[46,1,46,2],[8,11,8,15],[38,1,38,2],[8,5,9,5],[8,6,9,6],[8,7,8,9],[8,10,9,10]]}
[]
[null,"Please complete all yellow fields"]
[null,"Grey fields are automatically populated"]
[]
[null,"CCSJ"]
[null,"DIST"]
[null,"Total Project Length"]
[]
[null,{"$f":"'Start Here'!E6","v":"General Information"},null,null,null,{"$f":"'Start Here'!$B$79","v":"Segment Number"},{"$f":"'Start Here'!D79","v":"Type"},{"$f":"'Start Here'!E79","v":"Boundary Conditions"},null,null,"Configuration",{"$f":"'Start Here'!I79","v":"Segment Safety Score"}]
[null,{"$f":"'Start Here'!F7","v":"Analyst:"},{"$f":"'Start Here'!H7","v":0},null,null,null,null,{"$f":"'Start Here'!E80","v":"BMP"},{"$f":"'Start Here'!F80","v":"EMP"},{"$f":"'Start Here'!G80","v":"Length"},null,{"$f":"'Start Here'!I80","v":"Existing"},{"$f":"'Start Here'!J80","v":"Standard"},{"$f":"'Start Here'!K80","v":"Design 1"},{"$f":"'Start Here'!L80","v":"Design 2"},{"$f":"'Start Here'!M80","v":"Optimal"}]
[null,{"$f":"'Start Here'!F8","v":"Agency / Company / District:"},{"$f":"'Start Here'!H8","v":0},null,null,{"$f":"'Start Here'!B81","v":1},{"$f":"'Start Here'!D81","v":"RMLS"},{"$f":"'Start Here'!E81","v":0},{"$f":"'Start Here'!F81","v":0},{"$f":"'Start Here'!G81","v":0},{"$f":"'Start Here'!H81","v":"Configuration 1"},{"$f":"'Start Here'!I81","v":""},{"$f":"'Start Here'!J81","v":""},{"$f":"'Start Here'!K81","v":""},{"$f":"'Start Here'!L81","v":""},{"$f":"'Start Here'!M81","v":""}]
[null,{"$f":"'Start Here'!F9","v":"Date:"},{"$f":"'Start Here'!H9","v":"00:00:00"},null,null,{"$f":"'Start Here'!B82","v":" "},{"$f":"'Start Here'!D82","v":""},{"$f":"'Start Here'!E82","v":" "},{"$f":"'Start Here'!F82","v":" "},{"$f":"'Start Here'!G82","v":" "},{"$f":"'Start Here'!H82","v":"Configuration 1"},{"$f":"'Start Here'!I82","v":" "},{"$f":"'Start Here'!J82","v":" "},{"$f":"'Start Here'!K82","v":" "},{"$f":"'Start Here'!L82","v":" "},{"$f":"'Start Here'!M82","v":" "}]
[null,{"$f":"'Start Here'!E10","v":"Segment Limits (Limit up to 15 miles in length):"},null,null,null,{"$f":"'Start Here'!B83","v":" "},{"$f":"'Start Here'!D83","v":""},{"$f":"'Start Here'!E83","v":" "},{"$f":"'Start Here'!F83","v":" "},{"$f":"'Start Here'!G83","v":" "},{"$f":"'Start Here'!H83","v":"Configuration 1"},{"$f":"'Start Here'!I83","v":" "},{"$f":"'Start Here'!J83","v":" "},{"$f":"'Start Here'!K83","v":" "},{"$f":"'Start Here'!L83","v":" "},{"$f":"'Start Here'!M83","v":" "}]
[null,{"$f":"'Start Here'!F11","v":"Road Name:"},{"$f":"'Start Here'!H11","v":0},null,null,{"$f":"'Start Here'!B84","v":" "},{"$f":"'Start Here'!D84","v":""},{"$f":"'Start Here'!E84","v":" "},{"$f":"'Start Here'!F84","v":" "},{"$f":"'Start Here'!G84","v":" "},{"$f":"'Start Here'!H84","v":"Configuration 1"},{"$f":"'Start Here'!I84","v":" "},{"$f":"'Start Here'!J84","v":" "},{"$f":"'Start Here'!K84","v":" "},{"$f":"'Start Here'!L84","v":" "},{"$f":"'Start Here'!M84","v":" "}]
[null,{"$f":"'Start Here'!F12","v":"Category (4R, 3R) -- Future Enhancement"},{"$f":"'Start Here'!H12","v":0},null,null,{"$f":"'Start Here'!B85","v":" "},{"$f":"'Start Here'!D85","v":""},{"$f":"'Start Here'!E85","v":" "},{"$f":"'Start Here'!F85","v":" "},{"$f":"'Start Here'!G85","v":" "},{"$f":"'Start Here'!H85","v":"Configuration 1"},{"$f":"'Start Here'!I85","v":" "},{"$f":"'Start Here'!J85","v":" "},{"$f":"'Start Here'!K85","v":" "},{"$f":"'Start Here'!L85","v":" "},{"$f":"'Start Here'!M85","v":" "}]
[null,{"$f":"'Start Here'!F13","v":"Segment Beginning Mile Point (BMP):"},{"$f":"'Start Here'!H13","v":0},null,null,{"$f":"'Start Here'!B86","v":" "},{"$f":"'Start Here'!D86","v":""},{"$f":"'Start Here'!E86","v":" "},{"$f":"'Start Here'!F86","v":" "},{"$f":"'Start Here'!G86","v":" "},{"$f":"'Start Here'!H86","v":"Configuration 1"},{"$f":"'Start Here'!I86","v":" "},{"$f":"'Start Here'!J86","v":" "},{"$f":"'Start Here'!K86","v":" "},{"$f":"'Start Here'!L86","v":" "},{"$f":"'Start Here'!M86","v":" "}]
[null,{"$f":"'Start Here'!F14","v":"Segment Ending Mile Point (EMP):"},{"$f":"'Start Here'!H14","v":0},null,null,{"$f":"'Start Here'!B87","v":" "},{"$f":"'Start Here'!D87","v":""},{"$f":"'Start Here'!E87","v":" "},{"$f":"'Start Here'!F87","v":" "},{"$f":"'Start Here'!G87","v":" "},{"$f":"'Start Here'!H87","v":"Configuration 1"},{"$f":"'Start Here'!I87","v":" "},{"$f":"'Start Here'!J87","v":" "},{"$f":"'Start Here'!K87","v":" "},{"$f":"'Start Here'!L87","v":" "},{"$f":"'Start Here'!M87","v":" "}]
[null,{"$f":"'Start Here'!E16","v":"Calculated Total Segment Length (miles):"},{"$f":"'Start Here'!H15","v":0},null,null,{"$f":"'Start Here'!B88","v":" "},{"$f":"'Start Here'!D88","v":""},{"$f":"'Start Here'!E88","v":" "},{"$f":"'Start Here'!F88","v":" "},{"$f":"'Start Here'!G88","v":" "},{"$f":"'Start Here'!H88","v":"Configuration 1"},{"$f":"'Start Here'!I88","v":" "},{"$f":"'Start Here'!J88","v":" "},{"$f":"'Start Here'!K88","v":" "},{"$f":"'Start Here'!L88","v":" "},{"$f":"'Start Here'!M88","v":" "}]
[null,null,null,null,null,{"$f":"'Start Here'!B89","v":" "},{"$f":"'Start Here'!D89","v":""},{"$f":"'Start Here'!E89","v":" "},{"$f":"'Start Here'!F89","v":" "},{"$f":"'Start Here'!G89","v":" "},{"$f":"'Start Here'!H89","v":"Configuration 1"},{"$f":"'Start Here'!I89","v":" "},{"$f":"'Start Here'!J89","v":" "},{"$f":"'Start Here'!K89","v":" "},{"$f":"'Start Here'!L89","v":" "},{"$f":"'Start Here'!M89","v":" "}]
[null,null,null,null,null,{"$f":"'Start Here'!B90","v":" "},{"$f":"'Start Here'!D90","v":""},{"$f":"'Start Here'!E90","v":" "},{"$f":"'Start Here'!F90","v":" "},{"$f":"'Start Here'!G90","v":" "},{"$f":"'Start Here'!H90","v":"Configuration 1"},{"$f":"'Start Here'!I90","v":" "},{"$f":"'Start Here'!J90","v":" "},{"$f":"'Start Here'!K90","v":" "},{"$f":"'Start Here'!L90","v":" "},{"$f":"'Start Here'!M90","v":" "}]
[null,null,null,null,null,{"$f":"'Start Here'!B91","v":" "},{"$f":"'Start Here'!D91","v":""},{"$f":"'Start Here'!E91","v":" "},{"$f":"'Start Here'!F91","v":" "},{"$f":"'Start Here'!G91","v":" "},{"$f":"'Start Here'!H91","v":"Configuration 1"},{"$f":"'Start Here'!I91","v":" "},{"$f":"'Start Here'!J91","v":" "},{"$f":"'Start Here'!K91","v":" "},{"$f":"'Start Here'!L91","v":" "},{"$f":"'Start Here'!M91","v":" "}]
[null,null,null,null,null,{"$f":"'Start Here'!B92","v":" "},{"$f":"'Start Here'!D92","v":""},{"$f":"'Start Here'!E92","v":" "},{"$f":"'Start Here'!F92","v":" "},{"$f":"'Start Here'!G92","v":" "},{"$f":"'Start Here'!H92","v":"Configuration 1"},{"$f":"'Start Here'!I92","v":" "},{"$f":"'Start Here'!J92","v":" "},{"$f":"'Start Here'!K92","v":" "},{"$f":"'Start Here'!L92","v":" "},{"$f":"'Start Here'!M92","v":" "}]
[null,null,null,null,null,{"$f":"'Start Here'!B93","v":" "},{"$f":"'Start Here'!D93","v":""},{"$f":"'Start Here'!E93","v":" "},{"$f":"'Start Here'!F93","v":" "},{"$f":"'Start Here'!G93","v":" "},{"$f":"'Start Here'!H93","v":"Configuration 1"},{"$f":"'Start Here'!I93","v":" "},{"$f":"'Start Here'!J93","v":" "},{"$f":"'Start Here'!K93","v":" "},{"$f":"'Start Here'!L93","v":" "},{"$f":"'Start Here'!M93","v":" "}]
[null,null,null,null,null,{"$f":"'Start Here'!B94","v":" "},{"$f":"'Start Here'!D94","v":""},{"$f":"'Start Here'!E94","v":" "},{"$f":"'Start Here'!F94","v":" "},{"$f":"'Start Here'!G94","v":" "},{"$f":"'Start Here'!H94","v":"Configuration 1"},{"$f":"'Start Here'!I94","v":" "},{"$f":"'Start Here'!J94","v":" "},{"$f":"'Start Here'!K94","v":" "},{"$f":"'Start Here'!L94","v":" "},{"$f":"'Start Here'!M94","v":" "}]
[null,null,null,null,null,{"$f":"'Start Here'!B95","v":" "},{"$f":"'Start Here'!D95","v":""},{"$f":"'Start Here'!E95","v":" "},{"$f":"'Start Here'!F95","v":" "},{"$f":"'Start Here'!G95","v":" "},{"$f":"'Start Here'!H95","v":"Configuration 1"},{"$f":"'Start Here'!I95","v":" "},{"$f":"'Start Here'!J95","v":" "},{"$f":"'Start Here'!K95","v":" "},{"$f":"'Start Here'!L95","v":" "},{"$f":"'Start Here'!M95","v":" "}]
[null,null,null,null,null,{"$f":"'Start Here'!$C$96","v":" S:\\DES\\Safety Scoring\\2024.10\\Comment - Oct\\[rural-multilane-v3-3.xlsm]Reporting"},{"$f":"'Start Here'!D96","v":"RMLS"},{"$f":"'Start Here'!E96","v":0},{"$f":"'Start Here'!F96","v":0},{"$f":"'Start Here'!G96","v":0},{"$f":"'Start Here'!H96","v":"Weighted Total Score:"},{"$f":"'Start Here'!I96","v":""},{"$f":"'Start Here'!J96","v":""},{"$f":"'Start Here'!K96","v":""},{"$f":"'Start Here'!L96","v":""},{"$f":"'Start Here'!M96","v":""}]
[]
[null,"Selected Design","Design 1"]
[null,"Initial Score",{"$f":"L26","v":""}]
[null,"Final Score",{"$f":"IFERROR(HLOOKUP(C28,M10:P26,17,FALSE),\"\")","v":""}]
[null,"Safety Score Increase",{"$f":"IFERROR(C30-C29,\"\")","v":""}]
[]
[null,"ELEMENTS INCREASING SAFETY"]
[]
[]
[null,"KEY ELEMENTS REQUIRED TO MATCH OPTIMAL SCORE"]
[]
[]
[null,"PRIMARY CONSTRAINTS TOWARD OPTIMAL SAFETY SCORE",null,null,"Options - Hide"]
[null,"A. FUNDING ELEGIBILITY / SCOPE",{"$f":"IF(I91,\"Yes\",\"No\")","v":"No"},null,"Yes","Check the boxes for Yes"]
[null,"B. SCHEDULE / DELIVERY TIMEFRAME",{"$f":"IF(I92,\"Yes\",\"No\")","v":"No"},null,"No"]
[null,"C. LOCAL ROW / UTILITIES","No"]
[null,"D. ROW / UTILITIES","No"]
[null,"E. ENVIRONMENTAL ISSUES","No"]
[null,"F. RAILROAD IMPACT","No"]
[]
[null,"PLANNED PROJECTS/PROGRAMS DEALING WITH KEY ELEMENTS TO MATCH OPTIMAL"]
[null,"FUTURE FUNDED PROJECT",{"$f":"IF(I98,\"Yes\",\"No\")","v":"No"}]
[null,"FUTURE UNFUNDED PROJECT IDENTIFIED",{"$f":"IF(I99,\"Yes\",\"No\")","v":"No"}]
[]
[null,"ESTIMATED ADDITIONAL COST TO ACHIEVE OPTIMAL"]
[]
[]
[null,"ESTIMATED ADDITIONAL TIME (mo). TO ACHIEVE OPTIMAL"]
[]
[]
[null,"COMMENTS ON PRIMARY CONSTRAINTS"]
[]
[]
[]
[]
[]
[]
[]
[]
[]
[]
[]
[]
[]
[]
[]
[]
[]
[]
[]
[]
[]
[]
[]
[]
[]
[]
[]
[]
[]
[]
[]
[]
[]
[null,null,null,null,null,null,null,null,false]
[null,null,null,null,null,null,null,null,false]
[null,null,null,null,null,null,null,null,false]
[null,null,null,null,null,null,null,null,false]
[null,null,null,null,null,null,null,null,false]
[null,null,null,null,null,null,null,null,false]
[]
[null,null,null,null,null,null,null,null,false]
[null,null,null,null,null,null,null,null,false]
[null,null,null,null,null,null,null,null,false]

{"sheet":"Configuration 1","index":11,"n_rows":443,"n_cols":113,"rows_kept":443,"cut":false,"hidden":false,"merged":[[1,8,2,8],[1,6,2,7],[3,8,4,8],[3,6,4,7],[97,10,97,12],[14,5,14,6],[11,5,11,6],[17,2,17,8],[18,2,18,8],[8,3,8,4],[8,5,8,6],[2,1,2,4],[3,1,3,4],[4,1,4,2],[4,3,4,4],[5,1,5,2],[1,21,1,37],[2,21,3,28],[2,30,3,37],[4,21,44,28],[4,30,44,37],[5,3,5,4],[6,1,6,7],[7,1,7,4],[48,12,48,19],[46,2,47,2],[19,2,19,8],[20,5,20,7],[41,9,41,10],[9,5,9,6],[10,5,10,6],[9,3,9,4],[10,3,10,4],[12,2,15,4],[12,5,12,6],[13,5,13,6],[88,1,88,2],[89,1,89,2],[70,16,70,21],[67,16,67,23],[68,16,68,21],[68,22,68,23],[69,16,69,21],[69,22,69,23],[70,22,70,23],[71,16,71,21],[71,22,71,23],[55,15,55,16],[55,21,55,22],[55,18,55,19],[7,7,7,8],[87,1,87,2]]}
[]
[null,null,null,null,null,null,"Preferred Schematic View to Display",null,"Standard",null,null,null,null,null,null,null,null,null,null,null,null,"NOTES: "]
[null,"CHARACTERISTICS TO CONSIDER FOR ANALYSIS",null,null,null,null,null,null,null,null,null,null,null,null,null,null,null,null,null,null,null,"ELEMENTS INCREASING SAFETY",null,null,null,null,null,null,null,null,"COMMENTS ON PRIMARY CONSTRAINTS"]
[null,"INPUT INSTRUCTIONS",null,null,null,null,"Relative to",null,"Existing"]
[null,"Blue Boxes -- Select from pulldown options",null,"Select from Pulldown"]
[null,"Yellow Boxes -- Type input information into box",null,"Type Input Value"]
[null," Rural Multi-Lane Road Segment -- Safety Score Input",null,null,null,null,null,null,null,null,null,null,null,null,null,null,null,null,null,null,null,null,null,null,null,null,null,null,null,null,null,null,null,null,null,null,null,null,null,null,null,null,null,null,null,null,null,null,null,null,null,null,null,null,null,null,null,null,null,null,null,null,null,null,null,null,null,null,null,null,null,null,null,null,null,null,null,null,null,null,null,null,null,"Unadjusted Marginal Safety"]
[null,"General Information:",null,null,null,"General Site Features",null,{"$f":" I315 & \" Missing Features and Curves\"","v":"9 Missing Features and Curves"},null,null,null,null,null,null,null,null,null,null,null,null,null,null,null,null,null,null,null,null,null,null,null,null,null,null,null,null,null,null,null,null,null,null,null,null,null,null,null,null,null,null,null,null,null,null,null,null,null,null,null,null,null,null,null,null,null,null,null,null,null,null,null,null,null,null,null,null,null,null,null,null,null,null,null,{"$f":"I2&\" relative to \" &I4","v":"Standard relative to Existing"}]
[null,null,"Analyst:",{"$f":"+'Start Here'!H7","v":0},null,"Location "]
[null,null,"Agency or Company:",{"$f":"+'Start Here'!H8","v":0},null,"Design Speed (mph)"]
[null,null,"Date:",{"$f":"+'Start Here'!H9","v":"00:00:00"},null,"Posted Speed (mph)"]
[null,null,"Description:",null,null,"E max (%)"]
[null,null,"Input additional site information here",null,null,"    Design Year AADT (vehicles per day)"]
[null,null,null,null,null,"    Dist. from Centerline to Left   ROW (feet)"]
[null,null,null,null,null,"    Dist. from Centerline to Right ROW (feet)"]
[]
[null,"Warning:"]
[null,null,{"$f":"+IF(+I11>I10,\"Posted speed exceeds design speed. Optimal safety will only be achieved if design speed exceeds posted speed. The Safety Assessment Score is based on the higher of the two speed values.\",\"No speed warnings identified\")","v":"No speed warnings identified"}]
[null,null,{"$f":"IF(OR(F24=INDEX(MedConf_Header,1,3),+G24=INDEX(MedConf_Header,1,3)), \"Multilane undivided facilities are known to have substantially more collisions than multilane facilities with medians. In new construction a median or TWLTL should be considered.\",\" \")","v":" "},null,null,null,null,null,null,null,null,null,null,null,null,null,null,null,null,null,null,null,null,null,null,null,null,null,null,null,null,null,null,null,null,null,null,null,null,null,null,null,null,null,null,null,null,null,null,null,null,null,null,null,null,null,null,null,null,null,null,null,null,null,null,null,null,null,null,null,null,null,null,null,null,null,null,null,null,null,null,null,null,null,null,null,null,null,null,null,null,null,null,null,null,null,null,null,null,null,null,null,null,null,null,{"$f":"COUNTIF(DB23:DB46,DB20)","v":1}]
[null,null,{"$f":"IF(I13=\"40,001 < AADT < 60,000\", \"Multi-lane Road Should be Divided Due to High AADT Value\",\"\")","v":""},null,null,null,null,null,null,null,null,null,null,null,null,null,null,null,null,null,null,null,null,null,null,null,null,null,null,null,null,null,null,null,null,null,null,null,null,null,null,null,null,null,null,null,null,null,null,null,null,null,null,null,null,null,null,null,null,null,null,null,null,null,null,null,null,null,null,null,null,null,null,null,null,null,null,null,null,null,null,null,null,null,null,null,null,null,null,null,null,null,null,null,null,null,null,null,null,null,null,null,null,null,null,{"$f":"VLOOKUP(0,CZ23:DB46,3,)","v":10.01}]
[null,null,null,"Fill all elements",null,"To enter notes, use boxes to the right of the vortex ",null,null,null,null," "]
[null,{"$f":"+Construction!$I$2&\"  Total Available Points\"","v":"40  Total Available Points"},null,{"$f":" D249 & \" Missing Elements\"","v":"19 Missing Elements"},null,{"$f":" F249 & \" Missing Elements\"","v":"19 Missing Elements"},{"$f":" G249 & \" Missing Elements\"","v":"19 Missing Elements"},null,null,null,null,null,null,null,null,null,null,null,null,null,null,null,null,null,null,null,null,null,null,null,null,null,null,null,null,null,null,null,null,null,null,null,null,null,null,null,null,null,null,null,null,null,null,null,null,null,null,null,null,null,null,null,null,null,null,null,null,null,null,null,null,null,null,null,null,null,null,null,null,null,null,null,null,null,null,null,null,null,null,null,null,null,null,null,null,null,null,null,null,null,null,"Ranked element","CRF","abs","Re-rank","Rank","Ranked CRF","Element","New Element","crf.abs","rank","Sorted Element","Sorted CRF"]
[null,"Geometric Design Elements",null,"Existing","Standard (Based on Multi-lane Divided)","Design 1","Design 2",{"$f":"\"Marginal Safety for \"&$I$2&\" (compared to \" & $I$4 & \")\"","v":"Marginal Safety for Standard (compared to Existing)"},"Optimal (Based on Multi-lane Divided)",null,null,null,null,null,null,null,null,null,null,null,null,null,null,null,null,null,null,null,null,null,null,null,null,null,null,null,null,null,null,null,null,null,null,null,null,null,null,null,null,null,null,null,null,null,null,null,null,null,null,null,null,null,null,null,null,null,null,null,null,null,null,null,null,null,null,null,null,null,null,null,null,null,null,null,null,null,null,null,null,null,null,null,null,null,null,null,null,null,null,null,null,{"$f":"IF(CY23=0,\"\",DB23&\". \"&DD23)","v":""},{"$f":"H24","v":0},{"$f":"ABS(CY23)","v":0},{"$f":"_xlfn.RANK.EQ(DB23,$DB$23:$DB$46,1)","v":10},{"$f":"_xlfn.RANK.EQ(CZ23,$CZ$23:$CZ$46)+DG23/100","v":10.01},{"$f":"CY23","v":0},{"$f":"IF(ROUND(DF23,2)=0,\"\",C24)","v":""},{"$f":"DD23","v":""},{"$f":"CZ23","v":0},1,{"$f":"IFERROR(IF(IFERROR(VLOOKUP(DG23,$DA$23:$DF$46,4,)&\", \"&CY23=0,\"\"),\"\",IFERROR(VLOOKUP(DG23,$DA$23:$DE$46,4,),\"\")),\"\")","v":"Pavement Friction (skid number) ***"},{"$f":"IFERROR(IF(IFERROR(VLOOKUP(DG23,$DA$23:$DF$46,3,)&\", \"&CY23=0,\"\"),\"\",IFERROR(VLOOKUP(DG23,$DA$23:$DE$46,3,),\"\")),\"\")","v":0.28430956017940245}]
[null,null,"Configuration of Multilane Roadway",null,"Divided - Unsurfaced Median",null,null,null,"Divided - Unsurfaced Median",null,null,null,null,null,null,null,null,null,null,null,null,null,null,null,null,null,null,null,null,null,null,null,null,null,null,null,null,null,null,null,null,null,null,null,null,null,null,null,null,null,null,null,null,null,null,null,null,null,null,null,null,null,null,null,null,null,null,null,null,null,null,null,null,null,null,null,null,null,null,null,null,null,null,null,null,null,null,null,null,null,null,null,null,null,null,null,null,null,null,null,null,{"$f":"IF(CY24=0,\"\",DB24&\". \"&DD24)","v":"5.02. Median Configuration (Width or Type)"},{"$f":"H25","v":8.9999999999999969E-2},{"$f":"ABS(CY24)","v":8.9999999999999969E-2},{"$f":"_xlfn.RANK.EQ(DB24,$DB$23:$DB$46,1)","v":5},{"$f":"_xlfn.RANK.EQ(CZ24,$CZ$23:$CZ$46)+DG24/100","v":5.0199999999999996},{"$f":"CY24","v":8.9999999999999969E-2},{"$f":"IF(ROUND(DF24,2)=0,\"\",C25)","v":"Median Configuration (Width or Type)"},{"$f":"DD24","v":"Median Configuration (Width or Type)"},{"$f":"CZ24","v":8.9999999999999969E-2},2,{"$f":"IFERROR(IF(IFERROR(VLOOKUP(DG24,$DA$23:$DF$46,4,)&\", \"&CY24=0,\"\"),\"\",IFERROR(VLOOKUP(DG24,$DA$23:$DE$46,4,),\"\")),\"\")","v":"Driveway Density (driveways per mile)"},{"$f":"IFERROR(IF(IFERROR(VLOOKUP(DG24,$DA$23:$DF$46,3,)&\", \"&CY24=0,\"\"),\"\",IFERROR(VLOOKUP(DG24,$DA$23:$DE$46,3,),\"\")),\"\")","v":-0.22388114201141129}]
[null,null,"Median Configuration (Width or Type)",null,30,null,null,{"$f":"M103","v":8.9999999999999969E-2},100,null,null,null,null,null,null,null,null,null,null,null,null,null,null,null,null,null,null,null,null,null,null,null,null,null,null,null,null,null,null,null,null,null,null,null,null,null,null,null,null,null,null,null,null,null,null,null,null,null,null,null,null,null,null,null,null,null,null,null,null,null,null,null,null,null,null,null,null,null,null,null,null,null,null,null,null,null,null,null,null,null,null,null,null,null,null,null,null,null,null,null,null,"",{"$f":"H27","v":0},0,11,10.029999999999999,{"$f":"CY25","v":0},{"$f":"IF(ROUND(DF25,2)=0,\"\",C27)","v":""},{"$f":"DD25","v":""},0,3,{"$f":"IFERROR(IF(IFERROR(VLOOKUP(DG25,$DA$23:$DF$46,4,)&\", \"&CY25=0,\"\"),\"\",IFERROR(VLOOKUP(DG25,$DA$23:$DE$46,4,),\"\")),\"\")","v":"Average Outside Shoulder Width (feet)"},{"$f":"IFERROR(IF(IFERROR(VLOOKUP(DG25,$DA$23:$DF$46,3,)&\", \"&CY25=0,\"\"),\"\",IFERROR(VLOOKUP(DG25,$DA$23:$DE$46,3,),\"\")),\"\")","v":0.18061674008810569}]
[null,null,null,null,null,null,null,null,null,null,null,null,null,null,null,null,null,null,null,null,null,null,null,null,null,null,null,null,null,null,null,null,null,null,null,null,null,null,null,null,null,null,null,null,null,null,null,null,null,null,null,null,null,null,null,null,null,null,null,null,null,null,null,null,null,null,null,null,null,null,null,null,null,null,null,null,null,null,null,null,null,null,null,null,null,null,null,null,null,null,null,null,null,null,null,null,null,null,null,null,null,null,null,null,null,null,null,null,null,null,4,{"$f":"IFERROR(IF(IFERROR(VLOOKUP(DG26,$DA$23:$DF$46,4,)&\", \"&CY26=0,\"\"),\"\",IFERROR(VLOOKUP(DG26,$DA$23:$DE$46,4,),\"\")),\"\")","v":"Roadside Sideslope (Foreslope)"},{"$f":"IFERROR(IF(IFERROR(VLOOKUP(DG26,$DA$23:$DF$46,3,)&\", \"&CY26=0,\"\"),\"\",IFERROR(VLOOKUP(DG26,$DA$23:$DE$46,3,),\"\")),\"\")","v":0.15697622474810147}]
[null,null,"Lane Width (feet)",null,12,null,null,{"$f":"M104","v":0},12,null,null,null,null,null,null,null,null,null,null,null,null,null,null,null,null,null,null,null,null,null,null,null,null,null,null,null,null,null,null,null,null,null,null,null,null,null,null,null,null,null,null,null,null,null,null,null,null,null,null,null,null,null,null,null,null,null,null,null,null,null,null,null,null,null,null,null,null,null,null,null,null,null,null,null,null,null,null,null,null,null,null,null,null,null,null,null,null,null,null,null,null,null,null,null,null,null,null,null,null,null,5,"Median Configuration (Width or Type)",8.9999999999999969E-2]
[null,null,"Average Outside Shoulder Width (feet)",null,8,null,null,{"$f":"M105","v":0.18061674008810569},10,null,null,null,null,null,null,null,null,null,null,null,null,null,null,null,null,null,null,null,null,null,null,null,null,null,null,null,null,null,null,null,null,null,null,null,null,null,null,null,null,null,null,null,null,null,null,null,null,null,null,null,null,null,null,null,null,null,null,null,null,null,null,null,null,null,null,null,null,null,null,null,null,null,null,null,null,null,null,null,null,null,null,null,null,null,null,null,null,null,null,null,null,{"$f":"IF(CY28=0,\"\",DB28&\". \"&DD28)","v":"3.06. Average Outside Shoulder Width (feet)"},{"$f":"H28","v":0.18061674008810569},{"$f":"ABS(CY28)","v":0.18061674008810569},3,3.06,{"$f":"CY28","v":0.18061674008810569},{"$f":"IF(ROUND(DF28,2)=0,\"\",C28)","v":"Average Outside Shoulder Width (feet)"},{"$f":"DD28","v":"Average Outside Shoulder Width (feet)"},{"$f":"CZ28","v":0.18061674008810569},6,"Roadside Lateral Clearance to Obstruction (ft)",6.4777606999867676E-2]
[null,null,"Average Inside Shoulder Width (feet)",null,4,null,null,{"$f":"M106","v":0},10,null,null,null,null,null,null,null,null,null,null,null,null,null,null,null,null,null,null,null,null,null,null,null,null,null,null,null,null,null,null,null,null,null,null,null,null,null,null,null,null,null,null,null,null,null,null,null,null,null,null,null,null,null,null,null,null,null,null,null,null,null,null,null,null,null,null,null,null,null,null,null,null,null,null,null,null,null,null,null,null,null,null,null,null,null,null,null,null,null,null,null,null,{"$f":"IF(CY29=0,\"\",DB29&\". \"&DD29)","v":""},{"$f":"H33","v":0},{"$f":"ABS(CY29)","v":0},12,10.07,0,{"$f":"IF(ROUND(DF29,2)=0,\"\",\"Hz and Vt Alignment\")","v":""},"",{"$f":"CZ29","v":0},7,"Safety Edge",-2.3424031600265627E-2]
["",null,"Number of Lanes per Direction of Travel",null,2,null,null,null,2,null,null,null,null,null,null,null,null,null,null,null,null,null,null,null,null,null,null,null,null,null,null,null,null,null,null,null,null,null,null,null,null,null,null,null,null,null,null,null,null,null,null,null,null,null,null,null,null,null,null,null,null,null,null,null,null,null,null,null,null,null,null,null,null,null,null,null,null,null,null,null,null,null,null,null,null,null,null,null,null,null,null,null,null,null,null,null,null,null,null,null,null,{"$f":"IF(CY30=0,\"\",DB30&\". \"&DD30)","v":""},{"$f":"H29","v":0},{"$f":"ABS(CY30)","v":0},{"$f":"_xlfn.RANK.EQ(DB30,$DB$23:$DB$46,1)","v":13},{"$f":"_xlfn.RANK.EQ(CZ30,$CZ$23:$CZ$46)+DG30/100","v":10.08},{"$f":"CY30","v":0},{"$f":"IF(ROUND(DF30,2)=0,\"\",C29)","v":""},{"$f":"DD30","v":""},{"$f":"CZ30","v":0},8,"Shoulder Rumble Strips",2.2875008800570917E-2]
[null,null,"Horizontal Curve Present?","--","--","--","--",null,"--",null,null,null,null,null,null,null,null,null,null,null,null,null,null,null,null,null,null,null,null,null,null,null,null,null,null,null,null,null,null,null,null,null,null,null,null,null,null,null,null,null,null,null,null,null,null,null,null,null,null,null,null,null,null,null,null,null,null,null,null,null,null,null,null,null,null,null,null,null,null,null,null,null,null,null,null,null,null,null,null,null,null,null,null,null,null,null,null,null,null,null,null,{"$f":"IF(CY31=0,\"\",DB31&\". \"&DD31)","v":""},{"$f":"H47","v":0},{"$f":"ABS(CY31)","v":0},14,10.09,0,{"$f":"IF(ROUND(DF31,2)=0,\"\",C47)","v":""},"",{"$f":"CZ31","v":0},9,"Lighting",-1.7096579124742384E-2]
[null,null,"Horizontal Curve Data for Controlling Element:","--","--","--","--",null,"--",null,null,null,null,null,null,null,null,null,null,null,null,null,null,null,null,null,null,null,null,null,null,null,null,null,null,null,null,null,null,null,null,null,null,null,null,null,null,null,null,null,null,null,null,null,null,null,null,null,null,null,null,null,null,null,null,null,null,null,null,null,null,null,null,null,null,null,null,null,null,null,null,null,null,null,null,null,null,null,null,null,null,null,null,null,null,null,null,null,null,null,null,"",{"$f":"H48","v":0},{"$f":"ABS(CY32)","v":0},15,10.1,0,{"$f":"IF(ROUND(DF32,2)=0,\"\",C48)","v":""},"",0,10,"",{"$f":"IFERROR(IF(IFERROR(VLOOKUP(DG32,$DA$23:$DF$46,3,)&\", \"&CY32=0,\"\"),\"\",IFERROR(VLOOKUP(DG32,$DA$23:$DE$46,3,),\"\")),\"\")","v":0}]
[null,null,"  Radius (feet)",null,{"$f":"IF(MAX($I$10,$I$11)<45,590,IF($I$12=6,VLOOKUP(MAX($I$10,$I$11),Construction!$B$27:$D$34,2,TRUE),VLOOKUP(MAX($I$10,$I$11),Construction!$G$27:$I$34,2,TRUE)))","v":590},null,null,{"$f":"M144","v":0},{"$f":"IF(MAX($I$10,$I$11)<45,590,IF($I$12=6,VLOOKUP(MAX($I$10,$I$11),Construction!$B$43:$C$50,2,TRUE),VLOOKUP(MAX($I$10,$I$11),Construction!$G$43:$H$50,2,TRUE)))","v":590},null,null,null,null,null,null,null,null,null,null,null,null,null,null,null,null,null,null,null,null,null,null,null,null,null,null,null,null,null,null,null,null,null,null,null,null,null,null,null,null,null,null,null,null,null,null,null,null,null,null,null,null,null,null,null,null,null,null,null,null,null,null,null,null,null,null,null,null,null,null,null,null,null,null,null,null,null,null,null,null,null,null,null,null,null,null,null,null,null,null,null,null,"",{"$f":"H56","v":0},{"$f":"ABS(CY33)","v":0},16,10.11,0,{"$f":"IF(ROUND(DF33,2)=0,\"\",C56)","v":""},"",0,11,"",0]
[null,null,"Length of Horizontal Curve (feet)",null,{"$f":"IF(D35=\"\", \"\", E33*E35/57.296)","v":""},null,null,null,{"$f":"I33*I35/57.296","v":3758.5520804244625},null,null,null,null,null,null,null,null,null,null,null,null,null,null,null,null,null,null,null,null,null,null,null,null,null,null,null,null,null,null,null,null,null,null,null,null,null,null,null,null,null,null,null,null,null,null,null,null,null,null,null,null,null,null,null,null,null,null,null,null,null,null,null,null,null,null,null,null,null,null,null,null,null,null,null,null,null,null,null,null,null,null,null,null,null,null,null,null,null,null,null,null,"",0,{"$f":"ABS(CY34)","v":0},17,10.119999999999999,0,"","",0,12,"",0]
[null,null,"Calculated Deflection Angle ∆",{"$f":"IF(OR(ISBLANK(D33),ISBLANK(D34),$B$31=\"No\",ISBLANK($B$31)),\"\",ROUND(D34/D33*57.296,1))","v":""},{"$f":"IF(ISBLANK(D35), \"\",D35)","v":""},{"$f":"IF(OR(ISBLANK(F33),ISBLANK(F34),$B$31=\"No\",ISBLANK($B$31)),\"\",ROUND(F34/F33*57.296,1))","v":""},{"$f":"IF(OR(ISBLANK(G33),ISBLANK(G34),$B$31=\"No\",ISBLANK($B$31)),\"\",ROUND(G34/G33*57.296,1))","v":""},null,{"$f":"MIN(D35,IF(F37=INDEX(HCurveChange,1,0), F35, 365),IF(G37=INDEX(HCurveChange,1,0), G35, 365))","v":365},null,null,null,null,null,null,null,null,null,null,null,null,null,null,null,null,null,null,null,null,null,null,null,null,null,null,null,null,null,null,null,null,null,null,null,null,null,null,null,null,null,null,null,null,null,null,null,null,null,null,null,null,null,null,null,null,null,null,null,null,null,null,null,null,null,null,null,null,null,null,null,null,null,null,null,null,null,null,null,null,null,null,null,null,null,null,null,null,null,null,null,null,"",0,0,18,10.130000000000001,0,"","",0,13,"",0]
[null,null,null,null,null,"∆ has changed. \nAre you changing the ∆?","∆ has changed. \nAre you changing the ∆?",null,null,null,null,null,null,null,null,null,null,null,null,null,null,null,null,null,null,null,null,null,null,null,null,null,null,null,null,null,null,null,null,null,null,null,null,null,null,null,null,null,null,null,null,null,null,null,null,null,null,null,null,null,null,null,null,null,null,null,null,null,null,null,null,null,null,null,null,null,null,null,null,null,null,null,null,null,null,null,null,null,null,null,null,null,null,null,null,null,null,null,null,null,null,"",0,0,19,10.14,0,"","",0,14,"",0]
[null,null,null,null,null,null,null,null,null,null,null,null,null,null,null,null,null,null,null,null,null,null,null,null,null,null,null,null,null,null,null,null,null,null,null,null,null,null,null,null,null,null,null,null,null,null,null,null,null,null,null,null,null,null,null,null,null,null,null,null,null,null,null,null,null,null,null,null,null,null,null,null,null,null,null,null,null,null,null,null,null,null,null,null,null,null,null,null,null,null,null,null,null,null,null,null,null,null,null,null,null,"8.15. Shoulder Rumble Strips",2.2875008800570917E-2,{"$f":"ABS(CY37)","v":2.2875008800570917E-2},8,8.15,2.2875008800570917E-2,"Shoulder Rumble Strips",{"$f":"DD37","v":"Shoulder Rumble Strips"},2.2875008800570917E-2,15,"",0]
[null,null,"Vertical Curve Present?","--","--","--","--",null,{"$f":"E38","v":"--"},null,null,null,null,null,null,null,null,null,null,null,null,null,null,null,null,null,null,null,null,null,null,null,null,null,null,null,null,null,null,null,null,null,null,null,null,null,null,null,null,null,null,null,null,null,null,null,null,null,null,null,null,null,null,null,null,null,null,null,null,null,null,null,null,null,null,null,null,null,null,null,null,null,null,null,null,null,null,null,null,null,null,null,null,null,null,null,null,null,null,null,null,"",0,0,20,10.16,0,"","",0,16,"",0]
[null,null,"Vertical Curve Data for Controlling Element:","--","--","--","--",null,"--",null,null,null,null,null,null,null,null,null,null,null,null,null,null,null,null,null,null,null,null,null,null,null,null,null,null,null,null,null,null,null,null,null,null,null,null,null,null,null,null,null,null,null,null,null,null,null,null,null,null,null,null,null,null,null,null,null,null,null,null,null,null,null,null,null,null,null,null,null,null,null,null,null,null,null,null,null,null,null,null,null,null,null,null,null,null,null,null,null,null,null,null,"2.17. Driveway Density (driveways per mile)",-0.22388114201141129,0.22388114201141129,2,2.17,-0.22388114201141129,{"$f":"IF(DF39=0,\"\",C62)","v":"Driveway Density (driveways per mile)"},"Driveway Density (driveways per mile)",0.22388114201141129,17,"",0]
[null,null,"  Approach (Entry) Grade, G1 (%)",null,{"$f":"IF(ISBLANK(D40),\"\", D40)","v":""},null,null,null,{"$f":"IF(B38=\"Yes\",I231,I241)","v":""},null,null,null,null,null,null,null,null,null,null,null,null,null,null,null,null,null,null,null,null,null,null,null,null,null,null,null,null,null,null,null,null,null,null,null,null,null,null,null,null,null,null,null,null,null,null,null,null,null,null,null,null,null,null,null,null,null,null,null,null,null,null,null,null,null,null,null,null,null,null,null,null,null,null,null,null,null,null,null,null,null,null,null,null,null,null,null,null,null,null,null,null,"9.18. Lighting",-1.7096579124742384E-2,1.7096579124742384E-2,9,9.18,-1.7096579124742384E-2,{"$f":"IF(DF40=0,\"\",C63)","v":"Lighting"},"Lighting",1.7096579124742384E-2,18,"",0]
[null,null,"  Departure (Exit) Grade, G2 (%)",null,{"$f":"IF(ISBLANK(D41),\"\", D41)","v":""},null,null,null,{"$f":"IF($B$38=\"Yes\",I232,\"\")","v":""},null,null,null,null,null,null,null,null,null,null,null,null,null,null,null,null,null,null,null,null,null,null,null,null,null,null,null,null,null,null,null,null,null,null,null,null,null,null,null,null,null,null,null,null,null,null,null,null,null,null,null,null,null,null,null,null,null,null,null,null,null,null,null,null,null,null,null,null,null,null,null,null,null,null,null,null,null,null,null,null,null,null,null,null,null,null,null,null,null,null,null,null,"1.19. Pavement Friction (skid number) ***",0.28430956017940245,0.28430956017940245,1,1.19,0.28430956017940245,{"$f":"IF(DF41=0,\"\",C64)","v":"Pavement Friction (skid number) ***"},"Pavement Friction (skid number) ***",0.28430956017940245,19,"",0]
[null,null,"  Length (feet)",null,{"$f":"IF(AND($B$38=\"Yes\", D43<>\"\"), ABS(E40-E41)*D43, \"\")","v":""},null,null,null,{"$f":"IF(AND($B$38=\"Yes\",I40<>\"\",I41<>\"\", NOT(ISBLANK($I$10)), NOT(ISBLANK($I$11))),ABS(I41-I40)*I43,\"\")","v":""},null,null,null,null,null,null,null,null,null,null,null,null,null,null,null,null,null,null,null,null,null,null,null,null,null,null,null,null,null,null,null,null,null,null,null,null,null,null,null,null,null,null,null,null,null,null,null,null,null,null,null,null,null,null,null,null,null,null,null,null,null,null,null,null,null,null,null,null,null,null,null,null,null,null,null,null,null,null,null,null,null,null,null,null,null,null,null,null,null,null,null,null,"4.2. Roadside Sideslope (Foreslope)",{"$f":"H75","v":0.15697622474810147},0.15697622474810147,4,4.2,0.15697622474810147,{"$f":"IF(DF42=0,\"\",C75)","v":"Roadside Sideslope (Foreslope)"},"Roadside Sideslope (Foreslope)",0.15697622474810147,20,"",{"$f":"IFERROR(IF(IFERROR(VLOOKUP(DG42,$DA$23:$DF$46,3,)&\", \"&CY42=0,\"\"),\"\",IFERROR(VLOOKUP(DG42,$DA$23:$DE$46,3,),\"\")),\"\")","v":0}]
[null,null,"  Calculated Rate of Change, K (ft/ft)",{"$f":"IF(OR($B$38=\"No\",ISBLANK($B$38), ISBLANK(D40), ISBLANK(D41),ISBLANK(D42), D40=D41), \"\", ROUND(D42/(ABS(D41-D40)),1))","v":""},{"$f":"IF(AND($B$38=\"Yes\", NOT(ISBLANK($I$10)), NOT(ISBLANK($I$11)), D43<>\"\"), IF($E$46=\"Crest\",  VLOOKUP(MAX($I$10,$I$11),Construction!$B$159:$D$171,2,TRUE), VLOOKUP(MAX($I$10,$I$11),Construction!$B$159:$D$171,3,TRUE)), \"\")","v":""},{"$f":"IF(AND($B$38=\"Yes\", SUM(F267:F269)=0),ROUND(F42/(ABS(F41-F40)),1),\"\")","v":""},{"$f":"IF(AND($B$38=\"Yes\", SUM(G267:G269)=0),ROUND(G42/(ABS(G41-G40)),1),\"\")","v":""},null,{"$f":"IF(OR($B$38<>\"Yes\", ISBLANK($I$10), ISBLANK($I$11), $I$40=\"\", $I$41=\"\", $I$46=\"--\", ISBLANK($I$46)),\"\",IF(I$46=\"Crest\",VLOOKUP(MAX($I$10,$I$11),Construction!$B$177:$D$189,2,TRUE),VLOOKUP(MAX($I$10,$I$11),Construction!$B$177:$D$189,3,TRUE)))","v":""},null,null,null,null,null,null,null,null,null,null,null,null,null,null,null,null,null,null,null,null,null,null,null,null,null,null,null,null,null,null,null,null,null,null,null,null,null,null,null,null,null,null,null,null,null,null,null,null,null,null,null,null,null,null,null,null,null,null,null,null,null,null,null,null,null,null,null,null,null,null,null,null,null,null,null,null,null,null,null,null,null,null,null,null,null,null,null,null,null,null,null,null,"",{"$f":"H76","v":0},{"$f":"ABS(CY43)","v":0},21,10.210000000000001,0,{"$f":"IF(DF43=0,\"\",C76)","v":""},"",0,21,"",0]
[null,null,null,null,null,"Are you changing the geometry?","Are you changing the geometry?",null,null,null,null,null,null,null,null,null,null,null,null,null,null,null,null,null,null,null,null,null,null,null,null,null,null,null,null,null,null,null,null,null,null,null,null,null,null,null,null,null,null,null,null,null,null,null,null,null,null,null,null,null,null,null,null,null,null,null,null,null,null,null,null,null,null,null,null,null,null,null,null,null,null,null,null,null,null,null,null,null,null,null,null,null,null,null,null,null,null,null,null,null,null,"7.22. Safety Edge",{"$f":"H77","v":-2.3424031600265627E-2},{"$f":"ABS(CY44)","v":2.3424031600265627E-2},7,7.22,-2.3424031600265627E-2,{"$f":"IF(DF44=0,\"\",C77)","v":"Safety Edge"},"Safety Edge",2.3424031600265627E-2,22,"",0]
[null,null,null,null,null,null,null,null,null,null,null,null,null,null,null,null,null,null,null,null,null,null,null,null,null,null,null,null,null,null,null,null,null,null,null,null,null,null,null,null,null,null,null,null,null,null,null,null,null,null,null,null,null,null,null,null,null,null,null,null,null,null,null,null,null,null,null,null,null,null,null,null,null,null,null,null,null,null,null,null,null,null,null,null,null,null,null,null,null,null,null,null,null,null,null,null,null,null,null,null,null,"6.23. Roadside Lateral Clearance to Obstruction (ft)",{"$f":"H78","v":6.4777606999867676E-2},6.4777606999867676E-2,6,6.23,6.4777606999867676E-2,{"$f":"IF(DF45=0,\"\",C78)","v":"Roadside Lateral Clearance to Obstruction (ft)"},"Roadside Lateral Clearance to Obstruction (ft)",6.4777606999867676E-2,23,"",{"$f":"IFERROR(IF(IFERROR(VLOOKUP(DG45,$DA$23:$DF$46,3,)&\", \"&CY45=0,\"\"),\"\",IFERROR(VLOOKUP(DG45,$DA$23:$DE$46,3,),\"\")),\"\")","v":""}]
[null,null,"  Calculated Sag or Crest?",{"$f":"IF(AND($B$38=\"Yes\", SUM(D267:D269)=0),IF(D40>D41,\"Crest\",\"Sag\"),\"--\")","v":"--"},{"$f":"IF(AND($B$38=\"Yes\", SUM(D267:D269)=0),IF(E40>E41,\"Crest\",\"Sag\"),\"--\")","v":"--"},{"$f":"IF(AND($B$38=\"Yes\", SUM(F267:F269)=0),IF(F40>F41,\"Crest\",\"Sag\"),\"--\")","v":"--"},{"$f":"IF(AND($B$38=\"Yes\", SUM(G267:G269)=0),IF(G40>G41,\"Crest\",\"Sag\"),\"--\")","v":"--"},null,{"$f":"IF($B$38=\"Yes\",IF(I40>I41,\"Crest\",\"Sag\"),\"--\")","v":"--"},null,null,null,null,null,null,null,null,null,null,null,null,null,null,null,null,null,null,null,null,null,null,null,null,null,null,null,null,null,null,null,null,null,null,null,null,null,null,null,null,null,null,null,null,null,null,null,null,null,null,null,null,null,null,null,null,null,null,null,null,null,null,null,null,null,null,null,null,null,null,null,null,null,null,null,null,null,null,null,null,null,null,null,null,null,null,null,null,null,null,null,null,"",{"$f":"H79","v":0},0,22,10.24,0,{"$f":"IF(DF46=0,\"\",C79)","v":""},"",0,24,"",{"$f":"IFERROR(IF(IFERROR(VLOOKUP(DG46,$DA$23:$DF$46,3,)&\", \"&CY46=0,\"\"),\"\",IFERROR(VLOOKUP(DG46,$DA$23:$DE$46,3,),\"\")),\"\")","v":""}]
[]
[]
[null,null,"Geometric Design Element (Partial Score)",{"$f":"IF(OR(SUM(D251:D252,D254:D257,D260:D261,D267:D269)>0, ISERR(D129)),\"\",D129)","v":""},{"$f":"IF(OR(SUM(E251:E252,E254:E257,E260:E261,E267:E269)>0, ISERR(E129)),\"\",E129)","v":""},"","",null,{"$f":"IF(OR(SUM(I251:I252,I254:I257,I260:I261,I267:I269)>0, ISERR(I129)),\"\",I129)","v":""},null,null,null,"SCHEMATIC REPRESENTING INPUT DATA FOR ",null,null,null,null,null,null,null,{"$f":"IF($I$2=\"Existing\",\"EXISTING CONFIGURATION\",IF($I$2=\"Standard\",\"STANDARD OPTION\",IF($I$2=\"Design 1\",\"DESIGN 1 OPTION\",IF($I$2=\"Design 2\",\"DESIGN 2 OPTION\",\"OPTIMAL OPTION\"))))","v":"STANDARD OPTION"}]
[null,null,"Total Safety Score",{"$f":"IF(OR(D$249>0, $I$315>0, ISERROR(D$205+D$175+D$129)),\"\",D$205+D$175+D$129)","v":""},{"$f":"IF(OR(E$249>0, $I$315>0, ISERROR(E$205+E$175+E$129)),\"\",E$205+E$175+E$129)","v":""},{"$f":"IF(OR(F$249>0, $I$315>0, ISERROR(F$205+F$175+F$129)),\"\",F$205+F$175+F$129)","v":""},{"$f":"IF(OR(G$249>0, $I$315>0, ISERROR(G$205+G$175+G$129)),\"\",G$205+G$175+G$129)","v":""},null,{"$f":"IF(OR(I$249>0, $I$315>0, ISERROR(I$205+I$175+I$129)),\"\",I$205+I$175+I$129)","v":""}]
[null,null,null,null,null,null,null,null,null,null,null,"LT",null,null,null,null,null,null,null,null,null,null,null,null,null,null,"RT"]
[null,null,null,null,null,null,null,null,null,null,null,"R/W",null,null,null,null,null,null,{"$f":"+O54+W54","v":0},null,null,null,null,null,null,null,"R/W"]
[]
[null,{"$f":"+Construction!$I$3&\"  Total Available Points\"","v":"20  Total Available Points"},null,null,null,null,null,null,null,null,null,null,null,null,{"$f":"+$I$14","v":0},null,null,null,null,null,null,null,{"$f":"+$I$15","v":0}]
[null,"Traffic Elements",null,"Existing","Standard","Design 1","Design 2",{"$f":"H23","v":"Marginal Safety for Standard (compared to Existing)"},"Optimal"]
[null,null,"Advance Static Curve Warning Signs",null,"No",null,null,{"$f":"M149","v":0},"Yes",null,null,{"$f":"+O54-N56-P56","v":-32},null,{"$f":"IF(+$I$2=\"Existing\",D28,IF($I$2=\"Standard\",E28,IF($I$2=\"Design 1\",F28,IF($I$2=\"Design 2\",G28,I28))))","v":8},null,{"$f":"IF(+$I$2=\"Existing\",D27*D30,IF($I$2=\"Standard\",E27*E30,IF($I$2=\"Design 1\",F27*F30,IF($I$2=\"Design 2\",G27*G30,I27*I30))))","v":24},null,null,null,null,null,{"$f":"+P56","v":24},null,null,{"$f":"+N56","v":8},{"$f":"+W54-V56-Y56","v":-32}]
[null,null,"Chevron Signs on Horizontal Curves",null,"No",null,null,{"$f":"M150","v":0},"Yes"]
[null,null,"Post-Mounted Delineators",null,"No",null,null,{"$f":"M151","v":0},"Yes"]
[null,null,"Edgeline Pavement Markings or Profile Markings",null,"No",null,null,{"$f":"M152","v":0},"Yes"]
[null,null,"Shoulder Rumble Strips",null,"Yes",null,null,{"$f":"M154","v":2.2875008800570917E-2},"Yes"]
[null,null,"Centerline Rumble Strips",null,"No",null,null,{"$f":"M155","v":0},"Yes",null,null,null,null,null,null,null,null,null,"Tangent X-Section"]
[null,null,"Driveway Density (driveways per mile)",null,10,null,null,{"$f":"M156","v":-0.22388114201141129},0]
[null,null,"Lighting",null,"No",null,null,{"$f":"M157","v":-1.7096579124742384E-2},"Yes"]
[null,null,"Pavement Friction (skid number) ***",null,37,null,null,{"$f":"M158","v":0.28430956017940245},54]
[null,null,"Traffic Control Element (Partial Score):",{"$f":"IF(ISERROR(D175), \"\", D175)","v":12},{"$f":"IF(ISERROR(E175), \"\", E175)","v":14},"","",null,{"$f":"IF(ISERROR(I175), \"\", I175)","v":20}]
[null,null,"Total Safety Score",{"$f":"IF(OR(D$249>0, $I$315>0, ISERROR(D$205+D$175+D$129)),\"\",D$205+D$175+D$129)","v":""},{"$f":"IF(OR(E$249>0, $I$315>0, ISERROR(E$205+E$175+E$129)),\"\",E$205+E$175+E$129)","v":""},"","",null,{"$f":"IF(OR(I$249>0, $I$315>0, ISERROR(I$205+I$175+I$129)),\"\",I$205+I$175+I$129)","v":""}]
[null,null,null,null,null,null,null,null,null,null," "]
[null,null,"*** Pavement friction/skid numbers will not be subject to open records requests ***",null,null,null,null,null,null,null,null,null,null,null,null,null,{"$f":"IF($I$2=\"Existing\",\"SCORE SUMMARY FOR EXISTING CONFIGURATION\", IF($I$2=\"Standard\",\"SCORE SUMMARY FOR STANDARD OPTION\",IF($I$2=\"Design 1\",\"SCORE SUMMARY FOR DESIGN 1 OPTION\",IF($I$2=\"Design 2\",\"SCORE SUMMARY FOR DESIGN 2 OPTION\", \"SCORE SUMMARY FOR OPTIMAL OPTION\"))))","v":"SCORE SUMMARY FOR STANDARD OPTION"}]
[null,null,null,null,null,null,null,null,null,null,null,null,null,null,null,null,"GEOMETRIC DESIGN:",null,null,null,null,null,{"$f":"IF($I$2=\"Existing\",D49,IF($I$2=\"Standard\",E49,IF($I$2=\"Design 1\",F49,IF($I$2=\"Design 2\",G49,I49))))","v":""}]
[null,null,null,null,null,null,null,null,null,null,null,null,null,null,null,null,"TRAFFIC CONTROL:",null,null,null,null,null,{"$f":"IF($I$2=\"Existing\",D65,IF($I$2=\"Standard\",E65,IF($I$2=\"Design 1\",F65,IF($I$2=\"Design 2\",G65,I65))))","v":14}]
[null,null,null,null,null,null,null,null,null,null,null,null,null,null,null,null,"ROADSIDE:",null,null,null,null,null,{"$f":"IF($I$2=\"Existing\",D80,IF($I$2=\"Standard\",E80,IF($I$2=\"Design 1\",F80,IF($I$2=\"Design 2\",G80,I80))))","v":27}]
[null,null,null,null,null,null,null,null,null,null,null,null,null,null,null,null,"OVERALL SAFETY SCORE:",null,null,null,null,null,{"$f":"SUM(W69:X71)","v":41}]
[null,{"$f":"+Construction!$I$4&\"  Total Available Points\"","v":"40  Total Available Points"}]
[null,"Roadside  Elements",null,"Existing","Standard","Design 1","Design 2",{"$f":"H23","v":"Marginal Safety for Standard (compared to Existing)"},"Optimal"]
[null,null,"Roadside Sideslope (Foreslope)",null,"1V:4H",null,null,{"$f":"M184","v":0.15697622474810147},"1V:6H"]
[null,null,"Roadside Backslope",null,{"$f":"E75","v":"1V:4H"},null,null,{"$f":"M185","v":0},"1V:4H"]
[null,null,"Safety Edge",null,"No",null,null,-2.3424031600265627E-2,"Yes"]
[null,null,"Roadside Lateral Clearance to Obstruction (ft)",null,30,null,null,6.4777606999867676E-2,40]
[null,null,"Roadside Obstruction Type",null,"None",null,null,0,"None/Removed"]
[null,null,"Roadside Element (Partial Score):",{"$f":"IF(ISERR(D205),\"\",D205)","v":20},{"$f":"IF(ISERR(E205),\"\",E205)","v":27},20,20,null,{"$f":"IF(ISERR(I205),\"\",I205)","v":40},null,null,null,null,null,null,null,null,null,null,null,null,null,null," "]
[null,null,"Total Safety Score",{"$f":"IF(OR(D$249>0, $I$315>0, ISERROR(D$205+D$175+D$129)),\"\",D$205+D$175+D$129)","v":""},{"$f":"IF(OR(E$249>0, $I$315>0, ISERROR(E$205+E$175+E$129)),\"\",E$205+E$175+E$129)","v":""},"","",null,{"$f":"IF(OR(I$249>0, $I$315>0, ISERROR(I$205+I$175+I$129)),\"\",I$205+I$175+I$129)","v":""}]
[]
[]
[]
[]
[null,"ADDITIONAL SIDESLOPE INFORMATION"]
[null,null,"Distance to Slope Toe from Shoulder (ft)",null,{"$f":"D87","v":0},{"$f":"E87","v":0},0,null,{"$f":"G87","v":0}]
[null,"Minimum foreslope feasible within current ROW",null,null,{"$f":"IF(OR(ISBLANK($D$87), ISERROR(E209)), \"\", \"1V:\"&E209&\"H\")","v":""},{"$f":"IF(OR(ISBLANK($D$87), ISERROR(F209)), \"\", \"1V:\"&F209&\"H\")","v":""},{"$f":"IF(OR(ISBLANK($D$87), ISERROR(G209)), \"\", \"1V:\"&G209&\"H\")","v":""},null,{"$f":"IF(OR(ISBLANK($D$87), ISERROR(I209)), \"\", \"1V:\"&I209&\"H\")","v":""}]
[null,"Additional R/W needed on left side",null,null,{"$f":"IF(OR(ISBLANK($D$87), ISERROR(E213)),\"\", MAX(E213,E216))","v":""},{"$f":"IF(OR(ISBLANK($D$87), ISERROR(F213)), \"\", MAX(F213,F216))","v":""},{"$f":"IF(OR(ISBLANK($D$87), ISERROR(G213)),\"\", MAX(G213,G216))","v":""},null,{"$f":"IF(OR(ISBLANK($D$87), ISERROR(I213)),\"\", MAX(I213,I216))","v":""}]
[null,"Additional R/W needed on right side",null,null,{"$f":"IF(OR(ISBLANK($D$87), ISERROR(E214)), \"\", MAX(E214,E217))","v":""},{"$f":"IF(OR(ISBLANK($D$87), ISERROR(F214)), \"\", MAX(F214,F217))","v":""},{"$f":"IF(OR(ISBLANK($D$87), ISERROR(G214)),\"\", MAX(G214,G217))","v":""},null,{"$f":"IF(OR(ISBLANK($D$87), ISERROR(I214)),\"\", MAX(I214,I217))","v":""}]
[]
[]
[]
[]
[]
[]
[]
[null,null,null,{"$f":"GetCMF_MED(D24,D25,2000,D28)","v":1},null,null,null,null,null,{"$f":"1-I104/E104","v":0},"For Plot"]
[null,null,null,null,null,null,null,null,null,{"$f":"1-I105/E105","v":3.2258064516129115E-2},"relative to","Prefer"]
[null,null,null,{"$f":"MAX(SUM(D107:D111)-5,$I$100)","v":{"$error":"#VALUE!"}},{"$f":"MAX(SUM(E107:E111)-5,$I$100)","v":{"$error":"#VALUE!"}},{"$error":"#VALUE!"},{"$error":"#VALUE!"},null,{"$f":"SUM(I107:I111)-5","v":{"$error":"#VALUE!"}},{"$f":"1-I106/E106","v":0.14444080962898154},{"$f":"MATCH(K101,ModView,0)","v":1},{"$f":"MATCH(L101,ModView,0)","v":2}]
[null,"Geometric",null,null,null,null,null,null,null,{"$f":"1-I107/E107","v":{"$error":"#VALUE!"}},{"$f":"I4","v":"Existing"},{"$f":"I2","v":"Standard"},"%"]
[null,null,"Divided versus Undivided",1,1,1,1,null,1,null,{"$f":"INDEX($D102:$I102,K$100)","v":1},{"$f":"INDEX($D102:$I102,L$100)","v":1},{"$f":"IF(ISERROR(1-L102/K102), 0, 1-L102/K102)","v":0}]
[null,null,"Median Width",{"$f":"GetCMF_MED(D24,D25,$I$13,D28)","v":1},{"$f":"GetCMF_MED(E24,E25,$I$13,E28)","v":0.91},{"$f":"GetCMF_MED(F24,F25,$I$13,F28)","v":1},{"$f":"GetCMF_MED(G24,G25,$I$13,G28)","v":1},{"$f":"H25","v":8.9999999999999969E-2},{"$f":"GetCMF_MED(I24,I25,$I$13,I28)","v":0.66},null,{"$f":"INDEX($D103:$I103,K$100)","v":1},{"$f":"INDEX($D103:$I103,L$100)","v":0.91},{"$f":"IF(ISERROR(1-L103/K103), 0, 1-L103/K103)","v":8.9999999999999969E-2}]
[null,null,"LW CMF",{"$f":"IF(D24=INDEX(MedConf_Header,1,2),VLOOKUP(+D27,Construction!$N$30:$O$36,2),VLOOKUP(D27,Construction!$I$15:$J$21,2))","v":{"$error":"#N/A"}},{"$f":"IF(E24=INDEX(MedConf_Header,1,2),VLOOKUP(+E27,Construction!$N$30:$O$36,2),VLOOKUP(E27,Construction!$I$15:$J$21,2))","v":1},{"$f":"IF(F24=INDEX(MedConf_Header,1,2),VLOOKUP(+F27,Construction!$N$30:$O$36,2),VLOOKUP(F27,Construction!$I$15:$J$21,2))","v":{"$error":"#N/A"}},{"$f":"IF(G24=INDEX(MedConf_Header,1,2),VLOOKUP(+G27,Construction!$N$30:$O$36,2),VLOOKUP(G27,Construction!$I$15:$J$21,2))","v":{"$error":"#N/A"}},{"$f":"H27","v":0},{"$f":"IF(I24=INDEX(MedConf_Header,1,2),VLOOKUP(+I27,Construction!$N$30:$O$36,2),VLOOKUP(I27,Construction!$I$15:$J$21,2))","v":1},null,{"$f":"INDEX($D104:$I104,K$100)","v":{"$error":"#N/A"}},{"$f":"INDEX($D104:$I104,L$100)","v":1},0,null,0]
[null,null,"SW CMF",{"$f":"IF(D24=INDEX(MedConf_Header,1,2),VLOOKUP(D28,Construction!$C$11:D21,2),(VLOOKUP(D28,Construction!$O$43:$P$53,2)-1)*0.27+1)","v":1.135},{"$f":"IF(E24=INDEX(MedConf_Header,1,2),VLOOKUP(E28,Construction!$C$11:E21,2),(VLOOKUP(E28,Construction!$O$43:$P$53,2)-1)*0.27+1)","v":0.93},{"$f":"IF(F24=INDEX(MedConf_Header,1,2),VLOOKUP(F28,Construction!$C$11:F21,2),(VLOOKUP(F28,Construction!$O$43:$P$53,2)-1)*0.27+1)","v":1.135},{"$f":"IF(G24=INDEX(MedConf_Header,1,2),VLOOKUP(G28,Construction!$C$11:G21,2),(VLOOKUP(G28,Construction!$O$43:$P$53,2)-1)*0.27+1)","v":1.135},{"$f":"IF($I$2=\"Existing\",(1-D105/E105),(IF($I$2=\"Design 1\",(1-F105/E105),(IF($I$2=\"Design 2\",(1-G105/E105),(IF($I$2=\"Optimal\",(1-I105/E105),0)))))))","v":0},{"$f":"IF(I24=INDEX(MedConf_Header,1,2),VLOOKUP(I28,Construction!$C$11:I21,2),(VLOOKUP(I28,Construction!$O$43:$P$53,2)-1)*0.27+1)","v":0.9},null,{"$f":"INDEX($D105:$I105,K$100)","v":1.135},{"$f":"INDEX($D105:$I105,L$100)","v":0.93},0.18061674008810569,null,0.15503875968992242]
[null,null,"Inside Shoulder Width",{"$f":"IF(AND(D24=INDEX(MedConf_Header,1,2), NOT(ISBLANK(D29))), EXP(-0.026*(D29-4)), 1)","v":1},{"$f":"IF(AND(E24=INDEX(MedConf_Header,1,2), NOT(ISBLANK(E29))), EXP(-0.026*(E29-4)), 1)","v":1},{"$f":"IF(AND(F24=INDEX(MedConf_Header,1,2), NOT(ISBLANK(F29))), EXP(-0.026*(F29-4)), 1)","v":1},{"$f":"IF(AND(G24=INDEX(MedConf_Header,1,2), NOT(ISBLANK(G29))), EXP(-0.026*(G29-4)), 1)","v":1},0,{"$f":"IF(AND(I24=INDEX(MedConf_Header,1,2), NOT(ISBLANK(I29))), EXP(-0.026*(I29-4)), 1)","v":0.85555919037101846},null,{"$f":"INDEX($D106:$I106,K$100)","v":1},{"$f":"INDEX($D106:$I106,L$100)","v":1},0,null,0]
[null,null,"HC and Grade",{"$f":"D$138^D$131","v":1},{"$f":"E$138^E$131","v":1},1,1,0,{"$f":"I$138^I$131","v":{"$error":"#VALUE!"}},null,{"$f":"INDEX($D107:$I107,K$100)","v":1},{"$f":"INDEX($D107:$I107,L$100)","v":1},0,null,0]
[null,null,"HC and VC Crest type I",{"$f":"D$139^D$132","v":1},{"$f":"E$139^E$132","v":1},1,1,0,{"$f":"I$139^I$132","v":{"$error":"#VALUE!"}},null,{"$f":"INDEX($D108:$I108,K$100)","v":1},{"$f":"INDEX($D108:$I108,L$100)","v":1},0,null,0]
[null,null,"HC and VC Sag type I",{"$f":"D$140^D$133","v":1},{"$f":"E$140^E$133","v":1},1,1,0,{"$f":"I$140^I$133","v":{"$error":"#VALUE!"}},{"$f":"1-I115/E115","v":{"$error":"#VALUE!"}},{"$f":"INDEX($D109:$I109,K$100)","v":1},{"$f":"INDEX($D109:$I109,L$100)","v":1},0,null,0]
[null,null,"HC and VC Crest type II",{"$f":"D$141^D$134","v":1},{"$f":"E$141^E$134","v":1},1,1,0,{"$f":"I$141^I$134","v":{"$error":"#VALUE!"}},{"$f":"1-I116/E116","v":{"$error":"#VALUE!"}},{"$f":"INDEX($D110:$I110,K$100)","v":1},{"$f":"INDEX($D110:$I110,L$100)","v":1},0,null,0]
[null,null,"HC and VC Sag type II",{"$f":"D$142^D$135","v":1},{"$f":"E$142^E$135","v":1},1,1,0,{"$f":"I$142^I$135","v":{"$error":"#VALUE!"}},{"$f":"1-I117/E117","v":{"$error":"#VALUE!"}},{"$f":"INDEX($D111:$I111,K$100)","v":1},{"$f":"INDEX($D111:$I111,L$100)","v":1},0,null,0]
[null,null,"Add TWLTL",{"$f":"IF(D$47=\"No\",1,CMFs!$F$17)","v":0.71},{"$f":"IF(E$47=\"No\",1,CMFs!$F$17)","v":0.71},{"$f":"IF(F$47=\"No\",1,CMFs!$F$17)","v":0.71},{"$f":"IF(G$47=\"No\",1,CMFs!$F$17)","v":0.71},0,{"$f":"IF(I$47=\"No\",1,CMFs!$F$17)","v":0.71},{"$f":"1-I118/E118","v":{"$error":"#VALUE!"}},{"$f":"INDEX($D112:$I112,K$100)","v":0.71},{"$f":"INDEX($D112:$I112,L$100)","v":0.71},0,null,0]
[null,null,"Provide passing lane",{"$f":"IF(D$48=\"No\",1,CMFs!$F$21)","v":0.75},{"$f":"IF(E$48=\"No\",1,CMFs!$F$21)","v":0.75},{"$f":"IF(F$48=\"No\",1,CMFs!$F$21)","v":0.75},{"$f":"IF(G$48=\"No\",1,CMFs!$F$21)","v":0.75},0,{"$f":"IF(I$48=\"No\",1,CMFs!$F$21)","v":0.75},{"$f":"I119/E119","v":{"$error":"#VALUE!"}},{"$f":"INDEX($D113:$I113,K$100)","v":0.75},{"$f":"INDEX($D113:$I113,L$100)","v":0.75},0,null,0]
[]
[null,null,"COMBINED Calculated CMF",{"$f":"+D104*D105*D106*D107*D108*D109*D110*D111*D112*D113*D103*D102","v":{"$error":"#N/A"}},{"$f":"+E104*E105*E106*E107*E108*E109*E110*E111*E112*E113*E103*E102","v":0.45065475000000005},{"$error":"#N/A"},{"$error":"#N/A"},{"$f":"IF($I$2=\"Existing\",(D115),(IF($I$2=\"Design 1\",(F115),(IF($I$2=\"Design 2\",(G115),(IF($I$2=\"Optimal\",(I115),E115)))))))","v":0.45065475000000005},{"$f":"+I104*I105*I106*I107*I108*I109*I110*I111*I112*I113*I103*I102","v":{"$error":"#VALUE!"}},null,{"$f":"INDEX($D115:$I115,K$100)","v":{"$error":"#N/A"}},{"$f":"INDEX($D115:$I115,L$100)","v":0.45065475000000005},0,null,0]
[null,null,"Calculated Relative to Design Standards (Column E)",{"$f":"+D115/$E$115","v":{"$error":"#N/A"}},1,{"$error":"#N/A"},{"$error":"#N/A"},1,{"$error":"#VALUE!"},null,{"$f":"INDEX($D116:$I116,K$100)","v":{"$error":"#N/A"}},{"$f":"INDEX($D116:$I116,L$100)","v":1},0,null,0]
[null,null,"P(Crash)",{"$f":"+D116/(D116+1)","v":{"$error":"#N/A"}},0.5,{"$error":"#N/A"},{"$error":"#N/A"},0.5,{"$error":"#VALUE!"},null,{"$f":"INDEX($D117:$I117,K$100)","v":{"$error":"#N/A"}},{"$f":"INDEX($D117:$I117,L$100)","v":0.5},0,null,0]
[null,null,"Factor Change on S curve",{"$f":"+D117/$E$117","v":{"$error":"#N/A"}},1,{"$error":"#N/A"},{"$error":"#N/A"},1,{"$error":"#VALUE!"},null,{"$f":"INDEX($D118:$I118,K$100)","v":{"$error":"#N/A"}},{"$f":"INDEX($D118:$I118,L$100)","v":1},0,null,0]
[null,null,"Adjust to Scale of 100",{"$f":"+$I$118/D118*100","v":{"$error":"#VALUE!"}},{"$error":"#VALUE!"},{"$error":"#VALUE!"},{"$error":"#VALUE!"},{"$error":"#VALUE!"},{"$error":"#VALUE!"},null,{"$f":"INDEX($D119:$I119,K$100)","v":{"$error":"#VALUE!"}},{"$f":"INDEX($D119:$I119,L$100)","v":{"$error":"#VALUE!"}},0]
[null,null,"Unadjusted Combined Relative to Standard",{"$f":"+D115/$E$115","v":{"$error":"#N/A"}},1,{"$error":"#N/A"},{"$error":"#N/A"},1,{"$error":"#VALUE!"},{"$f":"I126/E126","v":{"$error":"#VALUE!"}},{"$f":"INDEX($D120:$I120,K$100)","v":{"$error":"#N/A"}},{"$f":"INDEX($D120:$I120,L$100)","v":1},0,null,0]
[]
[null,null,"Adjusted for PA Basis",{"$f":"+D115*(1+1)/(1+D115*1)","v":{"$error":"#N/A"}},0.62131220402373488,{"$error":"#N/A"},{"$error":"#N/A"},{"$f":"IF($I$2=\"Existing\",(D122),(IF($I$2=\"Design 1\",(F122),(IF($I$2=\"Design 2\",(G122),(IF($I$2=\"Optimal\",(I122),E122)))))))","v":0.62131220402373488},{"$error":"#VALUE!"},null,{"$f":"INDEX($D122:$I122,K$100)","v":{"$error":"#N/A"}},{"$f":"INDEX($D122:$I122,L$100)","v":0.62131220402373488},0,null,0]
[null,null,"Corrected by Odds Ratio",{"$f":"+D122/$E$122","v":{"$error":"#N/A"}},1,{"$error":"#N/A"},{"$error":"#N/A"},{"$f":"IF($I$2=\"Existing\",(D123),(IF($I$2=\"Design 1\",(F123),(IF($I$2=\"Design 2\",(G123),(IF($I$2=\"Optimal\",(I123),E123)))))))","v":1},{"$error":"#VALUE!"},{"$f":"I129/E129","v":{"$error":"#VALUE!"}},{"$f":"INDEX($D123:$I123,K$100)","v":{"$error":"#N/A"}},{"$f":"INDEX($D123:$I123,L$100)","v":1},0,null,0]
[null,null,"Pinned s",{"$f":"(1/D123)^$D127","v":{"$error":"#N/A"}},{"$f":"(1/E123)^$D127","v":{"$error":"#VALUE!"}},{"$error":"#N/A"},{"$f":"IF(ISERROR((1/G123)^$D127), 0, (1/G123)^$D127)","v":0},{"$error":"#VALUE!"},{"$error":"#VALUE!"},null,{"$f":"INDEX($D124:$I124,K$100)","v":{"$error":"#N/A"}},{"$f":"INDEX($D124:$I124,L$100)","v":{"$error":"#VALUE!"}},0,null,0]
[null,null,null,{"$f":"(D124+$F128-1)/(1+(D124+$F128-1))","v":{"$error":"#N/A"}},{"$f":"(E124+$F128-1)/(1+(E124+$F128-1))","v":{"$error":"#VALUE!"}},{"$error":"#N/A"},0.57142857142857151,{"$error":"#VALUE!"},{"$error":"#VALUE!"},null,{"$f":"INDEX($D125:$I125,K$100)","v":{"$error":"#N/A"}},{"$f":"INDEX($D125:$I125,L$100)","v":{"$error":"#VALUE!"}},0,null,0]
[null,null,"Score Odds Ratio with Optimal (old)",{"$f":"MIN(ROUND($I$123/D123*Construction!$I$2,0),$I126)","v":{"$error":"#VALUE!"}},{"$f":"MIN(ROUND($I$123/E123*Construction!$I$2,0),$I126)","v":{"$error":"#VALUE!"}},{"$f":"MIN(ROUND($I$123/F123*Construction!$I$2,0),$I126)","v":{"$error":"#VALUE!"}},{"$f":"MIN(ROUND($I$123/G123*Construction!$I$2,0),$I126)","v":{"$error":"#VALUE!"}},{"$f":"IF($I$2=\"Existing\",(D126),(IF($I$2=\"Design 1\",(F126),(IF($I$2=\"Design 2\",(G126),(IF($I$2=\"Optimal\",(I126),E126)))))))","v":{"$error":"#VALUE!"}},{"$f":"ROUND($I$123/I123*Construction!$I$2,0)","v":{"$error":"#VALUE!"}}]
[null,null,"Logistic1",{"$f":"LN((D128/(1-D128))/(0.5/0.5))/LN(IF($E123/I123=1,0.999,$E123/I123))","v":{"$error":"#VALUE!"}}]
[null,null,"Logistic Param",0.999,null,{"$f":"0.7/0.3","v":2.3333333333333335}]
[null,null,"Score ",{"$f":"MIN(ROUND(D125*Construction!$I$2,0),$I126)","v":{"$error":"#N/A"}},{"$f":"MIN(ROUND(E125*Construction!$I$2,0),$I126)","v":{"$error":"#VALUE!"}},{"$f":"MIN(ROUND(F125*Construction!$I$2,0),$I126)","v":{"$error":"#N/A"}},{"$f":"MIN(ROUND(G125*Construction!$I$2,0),$I126)","v":{"$error":"#VALUE!"}},{"$f":"MIN(ROUND(H125*Construction!$I$2,0),$I126)","v":{"$error":"#VALUE!"}},{"$f":"MIN(ROUND(I125*Construction!$I$2,0),$I126)","v":{"$error":"#VALUE!"}}]
[]
[null,null,"HC and Grade",{"$f":"IF($B$139,0,1)","v":1},{"$f":"IF($B$139,0,1)","v":1},1,1,{"$f":"IF($I$2=\"Existing\",(D131),(IF($I$2=\"Design 1\",(F131),(IF($I$2=\"Design 2\",(G131),(IF($I$2=\"Optimal\",(I131),E131)))))))","v":1},{"$f":"IF($B$139,0,1)","v":1}]
["HC?",null,"HC and VC Crest type I",{"$f":"IF(AND($B$139=1,SIGN(D$40)=1,ABS(D$40)<=ABS(D$40-D$41),D$46=\"Crest\"),1,0)","v":0},{"$f":"IF(AND($B$139=1,SIGN(IF(ISNUMBER(E$40),E$40,0))=1,\n  ABS(IF(ISNUMBER(E$40),E$40,0))<=ABS(IF(ISNUMBER(E$40),E$40,0)-IF(ISNUMBER(E$41),E$41,0)),E$46=\"Crest\"),\n  1,0)","v":0},{"$f":"IF(AND($B$139=1,SIGN(F$40)=1,ABS(F$40)<=ABS(F$40-F$41),F$46=\"Crest\"),1,0)","v":0},{"$f":"IF(AND($B$139=1,SIGN(G$40)=1,ABS(G$40)<=ABS(G$40-G$41),G$46=\"Crest\"),1,0)","v":0},{"$f":"IF($I$2=\"Existing\",(D132),(IF($I$2=\"Design 1\",(F132),(IF($I$2=\"Design 2\",(G132),(IF($I$2=\"Optimal\",(I132),E132)))))))","v":0},{"$f":"IF(AND($B$138=1,SIGN(I$40)=1,ABS(I$40)<=ABS(I$40-IF(ISNUMBER(I$41), I$41,0)),I$46=\"Crest\"),1,0)","v":{"$error":"#VALUE!"}},null,{"$f":"INDEX($D132:$I132,K$100)","v":0},{"$f":"INDEX($D132:$I132,L$100)","v":0},0]
["VC?",null,"HC and VC Sag type I",{"$f":"IF(AND($B$139=1,SIGN(D$40)=1,ABS(D$40)<=ABS(D$40-D$41),D$46=\"Sag\"),1,0)","v":0},{"$f":"IF(AND($B$139=1,SIGN(IF(ISNUMBER(E$40),E$40,0))=1,\n  ABS(IF(ISNUMBER(E$40),E$40,0))<=ABS(IF(ISNUMBER(E$40),E$40,0)-IF(ISNUMBER(E$41),E$41,0)),E$46=\"Sag\"),\n  1,0)","v":0},{"$f":"IF(AND($B$139=1,SIGN(F$40)=1,ABS(F$40)<=ABS(F$40-F$41),F$46=\"Sag\"),1,0)","v":0},{"$f":"IF(AND($B$139=1,SIGN(G$40)=1,ABS(G$40)<=ABS(G$40-G$41),G$46=\"Sag\"),1,0)","v":0},{"$f":"IF($I$2=\"Existing\",(D133),(IF($I$2=\"Design 1\",(F133),(IF($I$2=\"Design 2\",(G133),(IF($I$2=\"Optimal\",(I133),E133)))))))","v":0},{"$f":"IF(AND($B$138=1,SIGN(I$40)=1,ABS(I$40)<=ABS(I$40-IF(ISNUMBER(I$41), I$41,0)),I$46=\"Sag\"),1,0)","v":{"$error":"#VALUE!"}},null,{"$f":"INDEX($D133:$I133,K$100)","v":0},{"$f":"INDEX($D133:$I133,L$100)","v":0},0]
[null,null,"HC and VC Crest type II",{"$f":"IF(AND($B$139=1,D$46=\"Crest\",D$132=0),1,0)","v":0},{"$f":"IF(AND($B$139=1,E$46=\"Crest\",E$132=0),1,0)","v":0},{"$f":"IF(AND($B$139=1,F$46=\"Crest\",F$132=0),1,0)","v":0},{"$f":"IF(AND($B$139=1,G$46=\"Crest\",G$132=0),1,0)","v":0},{"$f":"IF($I$2=\"Existing\",(D134),(IF($I$2=\"Design 1\",(F134),(IF($I$2=\"Design 2\",(G134),(IF($I$2=\"Optimal\",(I134),E134)))))))","v":0},{"$f":"IF(AND($B$139=1,I$46=\"Crest\",I$132=0),1,0)","v":{"$error":"#VALUE!"}},null,{"$f":"INDEX($D134:$I134,K$100)","v":0},{"$f":"INDEX($D134:$I134,L$100)","v":0},0]
[null,null,"HC and VC Sag type II",{"$f":"IF(AND($B$139=1,D$46=\"Sag\",D$133=0),1,0)","v":0},{"$f":"IF(AND($B$139=1,E$46=\"Sag\",E$133=0),1,0)","v":0},{"$f":"IF(AND($B$139=1,F$46=\"Sag\",F$133=0),1,0)","v":0},{"$f":"IF(AND($B$139=1,G$46=\"Sag\",G$133=0),1,0)","v":0},{"$f":"IF($I$2=\"Existing\",(D135),(IF($I$2=\"Design 1\",(F135),(IF($I$2=\"Design 2\",(G135),(IF($I$2=\"Optimal\",(I135),E135)))))))","v":0},{"$f":"IF(AND($B$139=1,I$46=\"Sag\",I$133=0),1,0)","v":{"$error":"#VALUE!"}},null,{"$f":"INDEX($D135:$I135,K$100)","v":0},{"$f":"INDEX($D135:$I135,L$100)","v":0},0]
[null,"Yes/No"]
[null,null,"HC and VC:"]
[null,{"$f":"IF(B31=\"Yes\",1,0)","v":0},"HC and Grade",{"$f":"IF($B$139=0,\n  EXP(0.042*ABS(D$40)\n    +$B$138*0.16*LN(2*5730/IF(ISNUMBER(D$33),D$33,1))*$B$138\n    +4.16*$B$138/IF(ISNUMBER(D$33),D$33,1)/IF( AND(ISNUMBER(D$34),D$34<>0),D$34,1)),\n  1)","v":1},{"$f":"IF($B$139=0,\n  EXP(0.042*ABS(D$40)\n    +$B$138*0.16*LN(2*5730/IF(ISNUMBER(E$33),E$33,1))*$B$138\n    +4.16*$B$138/IF(ISNUMBER(E$33),E$33,1)/IF( AND(ISNUMBER(E$34),E$34<>0),E$34,1)),\n  1)","v":1},{"$f":"IF($B$139=0,\n  EXP(0.042*ABS(F$40)\n    +$B$138*0.16*LN(2*5730/IF(ISNUMBER(F$33),F$33,1))*$B$138\n    +4.16*$B$138/IF(ISNUMBER(F$33),F$33,1)/IF( AND(ISNUMBER(F$34),F$34<>0),F$34,1)),\n  1)","v":1},{"$f":"IF($B$139=0,\n  EXP(0.042*ABS(G$40)\n    +$B$138*0.16*LN(2*5730/IF(ISNUMBER(G$33),G$33,1))*$B$138\n    +4.16*$B$138/IF(ISNUMBER(G$33),G$33,1)/IF( AND(ISNUMBER(G$34),G$34<>0),G$34,1)),\n  1)","v":1},null,{"$f":"IF($B$139=0,\n  EXP(0.042*ABS(I$40)\n    +$B$138*0.16*LN(2*5730/IF(ISNUMBER(I$33),I$33,1))*$B$138\n    +4.16*$B$138/IF(ISNUMBER(I$33),I$33,1)/IF( AND(ISNUMBER(I$34),I$34<>0),I$34,1)),\n  1)","v":{"$error":"#VALUE!"}},null,{"$f":"INDEX($D138:$I138,K$100)","v":1},{"$f":"INDEX($D138:$I138,L$100)","v":1},0,null,0]
[null,{"$f":"IF(B38=\"Yes\",1,0)","v":0},"HC and VC Crest type I",{"$f":"IF($B$139=0,1,EXP(0.005648908*5730*ABS(+D$40-D$41)*$B$139/D$145*$B$138))","v":1},{"$f":"IF($B$139=0,1,EXP(0.005648908*5730*ABS(+E$40-E$41)*$B$139/E$145*$B$138))","v":1},1,1,{"$f":"IF($I$2=\"Existing\",(D139),(IF($I$2=\"Design 1\",(F139),(IF($I$2=\"Design 2\",(G139),(IF($I$2=\"Optimal\",(I139),E139)))))))","v":1},1,null,{"$f":"INDEX($D139:$I139,K$100)","v":1},{"$f":"INDEX($D139:$I139,L$100)","v":1},0,null,0]
[null,null,"HC and VC Sag type I",{"$f":"IF($B$139=0,1,EXP(9.15857042*$B$139/D$146+0.010284958*5730*$B$139*$B$138*ABS(+D$40-D$41)/D$145))","v":1},{"$f":"IF($B$139=0,1,EXP(9.15857042*$B$139/E$146+0.010284958*5730*$B$139*$B$138*ABS(+E$40-E$41)/E$145))","v":1},1,1,{"$f":"IF($I$2=\"Existing\",(D140),(IF($I$2=\"Design 1\",(F140),(IF($I$2=\"Design 2\",(G140),(IF($I$2=\"Optimal\",(I140),E140)))))))","v":1},1,null,{"$f":"INDEX($D140:$I140,K$100)","v":1},{"$f":"INDEX($D140:$I140,L$100)","v":1},0,null,0]
[null,null,"HC and VC Crest type II",{"$f":"IF($B$139=0,1,EXP(0.005648908*5730*ABS(+D$40-D$41)*$B$139/D$145*$B$138))","v":1},{"$f":"IF($B$139=0,1,EXP(0.005648908*5730*ABS(+E$40-E$41)*$B$139/E$145*$B$138))","v":1},1,1,{"$f":"IF($I$2=\"Existing\",(D141),(IF($I$2=\"Design 1\",(F141),(IF($I$2=\"Design 2\",(G141),(IF($I$2=\"Optimal\",(I141),E141)))))))","v":1},1,null,{"$f":"INDEX($D141:$I141,K$100)","v":1},{"$f":"INDEX($D141:$I141,L$100)","v":1},0,null,0]
[null,null,"HC and VC Sag type II",{"$f":"IF($B$139=0,1,(0.246011284*EXP(LN(0.188*2*5730/D$145)*$B$138)+0.753988716*EXP(0.022*5730/D$145*ABS(D$40-D$41)*$B$139*$B$138)))","v":1},{"$f":"IF($B$139=0,1,(0.246011284*EXP(LN(0.188*2*5730/E$145)*$B$138)+0.753988716*EXP(0.022*5730/E$145*ABS(E$40-E$41)*$B$139*$B$138)))","v":1},1,1,{"$f":"IF($I$2=\"Existing\",(D142),(IF($I$2=\"Design 1\",(F142),(IF($I$2=\"Design 2\",(G142),(IF($I$2=\"Optimal\",(I142),E142)))))))","v":1},1,null,{"$f":"INDEX($D142:$I142,K$100)","v":1},{"$f":"INDEX($D142:$I142,L$100)","v":1},0,null,0]
[]
[null,null,"Combined HZ and VT",{"$f":"MMULT(TRANSPOSE(D131:D135),D138:D142)","v":1},{"$f":"MMULT(TRANSPOSE(E131:E135),E138:E142)","v":1},{"$f":"MMULT(TRANSPOSE(F131:F135),F138:F142)","v":1},{"$f":"MMULT(TRANSPOSE(G131:G135),G138:G142)","v":1},{"$f":"IF($I$2=\"Existing\",(D144),(IF($I$2=\"Design 1\",(F144),(IF($I$2=\"Design 2\",(G144),(IF($I$2=\"Optimal\",(I144),E144)))))))","v":1},{"$f":"MMULT(TRANSPOSE(I131:I135),I138:I142)","v":{"$error":"#VALUE!"}},null,{"$f":"INDEX($D144:$I144,K$100)","v":1},{"$f":"INDEX($D144:$I144,L$100)","v":1},{"$f":"IF(ISERROR(1-L144/K144), 0, 1-L144/K144)","v":0},null,0]
[null,null,"effective R for calculation",{"$f":"IF(ISNUMBER(D33), D33, 99999999)","v":99999999},{"$f":"IF(ISNUMBER(E33), E33, 99999999)","v":590},99999999,99999999,null,590]
[null,null,"effective K for calculation",{"$f":"IF(ISNUMBER(D43), D43, 99999999)","v":99999999},{"$f":"IF(ISNUMBER(E43), E43, 99999999)","v":99999999},99999999,99999999,null,99999999]
[null,"Traffic"]
[null,null,null,"Existing","Standard","Design 1","Design 2"]
[null,null,"Advance static curve warning signs",{"$f":"IF(D24=INDEX(MedConf_Header,1,2),IF(AND($B$31=\"Yes\",D$56=\"Yes\"),(Traffic!$F$4-1)*AVERAGE(Constraints!$F$24,Constraints!$H$24)/Constraints!$D$24+1,1),(IF(AND($B$31=\"Yes\",D$56=\"Yes\"),(Traffic!$F$4-1)*AVERAGE(Constraints!$F$38,Constraints!$H$38)/Constraints!$D$38+1,1)))","v":1},{"$f":"IF(AND($B$31=\"Yes\",E$56=\"Yes\"),(Traffic!$F$4-1)*AVERAGE(Constraints!$F$24,Constraints!$H$24)/Constraints!$D$24+1,1)","v":1},{"$f":"IF(F24=INDEX(MedConf_Header,1,2),IF(AND($B$31=\"Yes\",F$56=\"Yes\"),(Traffic!$F$4-1)*AVERAGE(Constraints!$F$24,Constraints!$H$24)/Constraints!$D$24+1,1),(IF(AND($B$31=\"Yes\",F$56=\"Yes\"),(Traffic!$F$4-1)*AVERAGE(Constraints!$F$38,Constraints!$H$38)/Constraints!$D$38+1,1)))","v":1},{"$f":"IF(G24=INDEX(MedConf_Header,1,2),IF(AND($B$31=\"Yes\",G$56=\"Yes\"),(Traffic!$F$4-1)*AVERAGE(Constraints!$F$24,Constraints!$H$24)/Constraints!$D$24+1,1),(IF(AND($B$31=\"Yes\",G$56=\"Yes\"),(Traffic!$F$4-1)*AVERAGE(Constraints!$F$38,Constraints!$H$38)/Constraints!$D$38+1,1)))","v":1},{"$f":"IF($I$2=\"Existing\",(D149),(IF($I$2=\"Design 1\",(F149),(IF($I$2=\"Design 2\",(G149),(IF($I$2=\"Optimal\",(I149),E149)))))))","v":1},{"$f":"IF(AND($B$31=\"Yes\",I$56=\"Yes\"),(Traffic!$F$4-1)*AVERAGE(Constraints!$F$24,Constraints!$H$24)/Constraints!$D$24+1,1)","v":1},null,{"$f":"INDEX($D149:$I149,K$100)","v":1},{"$f":"INDEX($D149:$I149,L$100)","v":1},0,null,0]
[null,null,"Install chevron signs on horizontal curves",{"$f":"IF(D24=INDEX(MedConf_Header,1,2),(IF(D$57=\"No\",1,(IF(AND($B$31=\"Yes\",D$27<11.5),((Traffic!$F$6-1)*(Constraints!$E$18+Constraints!$E$22))+1,1)))),(IF(D$57=\"No\",1,(IF(AND($B$31=\"Yes\",D$27<11.5),((Traffic!$F$6-1)*(Constraints!$E$32+Constraints!$E$36))+1,1)))))","v":1},{"$f":"IF(E$57=\"No\",1,(IF(AND($B$31=\"Yes\",E$27<11.5),((Traffic!$F$6-1)*(Constraints!$E$18+Constraints!$E$22))+1,1)))","v":1},{"$f":"IF(F24=INDEX(MedConf_Header,1,2),(IF(F$57=\"No\",1,(IF(AND($B$31=\"Yes\",F$27<11.5),((Traffic!$F$6-1)*(Constraints!$E$18+Constraints!$E$22))+1,1)))),(IF(F$57=\"No\",1,(IF(AND($B$31=\"Yes\",F$27<11.5),((Traffic!$F$6-1)*(Constraints!$E$32+Constraints!$E$36))+1,1)))))","v":1},{"$f":"IF(G24=INDEX(MedConf_Header,1,2),(IF(G$57=\"No\",1,(IF(AND($B$31=\"Yes\",G$27<11.5),((Traffic!$F$6-1)*(Constraints!$E$18+Constraints!$E$22))+1,1)))),(IF(G$57=\"No\",1,(IF(AND($B$31=\"Yes\",G$27<11.5),((Traffic!$F$6-1)*(Constraints!$E$32+Constraints!$E$36))+1,1)))))","v":1},{"$f":"IF($I$2=\"Existing\",(D150),(IF($I$2=\"Design 1\",(F150),(IF($I$2=\"Design 2\",(G150),(IF($I$2=\"Optimal\",(I150),E150)))))))","v":1},{"$f":"IF(I$57=\"No\",1,(IF(AND($B$31=\"Yes\",I$27<11.5),((Traffic!$F$6-1)*(Constraints!$E$18+Constraints!$E$22))+1,1)))","v":1},null,{"$f":"INDEX($D150:$I150,K$100)","v":1},{"$f":"INDEX($D150:$I150,L$100)","v":1},0,null,0]
[null,null,"Install post-mounted delineators",{"$f":"IF(D24=INDEX(MedConf_Header,1,2),IF(AND($B$31=\"Yes\",D$58=\"Yes\"),(Traffic!$F$12-1)*Constraints!$E$17+1,1),(IF(AND($B$31=\"Yes\",D$58=\"Yes\"),(Traffic!$F$12-1)*Constraints!$E$31+1,1)))","v":1},{"$f":"IF(AND($B$31=\"Yes\",E$58=\"Yes\"),(Traffic!$F$12-1)*Constraints!$E$17+1,1)","v":1},{"$f":"IF(F24=INDEX(MedConf_Header,1,2),IF(AND($B$31=\"Yes\",F$58=\"Yes\"),(Traffic!$F$12-1)*Constraints!$E$17+1,1),(IF(AND($B$31=\"Yes\",F$58=\"Yes\"),(Traffic!$F$12-1)*Constraints!$E$31+1,1)))","v":1},{"$f":"IF(G24=INDEX(MedConf_Header,1,2),IF(AND($B$31=\"Yes\",G$58=\"Yes\"),(Traffic!$F$12-1)*Constraints!$E$17+1,1),(IF(AND($B$31=\"Yes\",G$58=\"Yes\"),(Traffic!$F$12-1)*Constraints!$E$31+1,1)))","v":1},{"$f":"IF($I$2=\"Existing\",(D151),(IF($I$2=\"Design 1\",(F151),(IF($I$2=\"Design 2\",(G151),(IF($I$2=\"Optimal\",(I151),E151)))))))","v":1},{"$f":"IF(AND($B$31=\"Yes\",I$58=\"Yes\"),(Traffic!$F$12-1)*Constraints!$E$17+1,1)","v":1},null,{"$f":"INDEX($D151:$I151,K$100)","v":1},{"$f":"INDEX($D151:$I151,L$100)","v":1},0,null,0]
[null,null,"Install edgeline  or Profile pavement markings ",{"$f":"IF(D24=INDEX(MedConf_Header,1,2),(IF(D$59=\"Yes\",Traffic!$F$18*0.5+((Traffic!$F$20*(Constraints!$H$17+Constraints!$H$20+Constraints!$H$21)+1*(Constraints!$H$24-(Constraints!$H$17+Constraints!$H$20+Constraints!$H$21)))/Constraints!$H$24)*0.5,1)),(IF(D$59=\"Yes\",Traffic!$F$18*0.5+((Traffic!$F$20*(Constraints!$H$31+Constraints!$H$34+Constraints!$H$35)+1*(Constraints!$H$38-(Constraints!$H$31+Constraints!$H$34+Constraints!$H$35)))/Constraints!$H$38)*0.5,1)))","v":1},{"$f":"IF(E24=INDEX(MedConf_Header,1,2),(IF(E$59=\"Yes\",Traffic!$F$18*0.5+((Traffic!$F$20*(Constraints!$H$17+Constraints!$H$20+Constraints!$H$21)+1*(Constraints!$H$24-(Constraints!$H$17+Constraints!$H$20+Constraints!$H$21)))/Constraints!$H$24)*0.5,1)),(IF(E$59=\"Yes\",Traffic!$F$18*0.5+((Traffic!$F$20*(Constraints!$H$31+Constraints!$H$34+Constraints!$H$35)+1*(Constraints!$H$38-(Constraints!$H$31+Constraints!$H$34+Constraints!$H$35)))/Constraints!$H$38)*0.5,1)))","v":1},{"$f":"IF(F24=INDEX(MedConf_Header,1,2),(IF(F$59=\"Yes\",Traffic!$F$18*0.5+((Traffic!$F$20*(Constraints!$H$17+Constraints!$H$20+Constraints!$H$21)+1*(Constraints!$H$24-(Constraints!$H$17+Constraints!$H$20+Constraints!$H$21)))/Constraints!$H$24)*0.5,1)),(IF(F$59=\"Yes\",Traffic!$F$18*0.5+((Traffic!$F$20*(Constraints!$H$31+Constraints!$H$34+Constraints!$H$35)+1*(Constraints!$H$38-(Constraints!$H$31+Constraints!$H$34+Constraints!$H$35)))/Constraints!$H$38)*0.5,1)))","v":1},{"$f":"IF(G24=INDEX(MedConf_Header,1,2),(IF(G$59=\"Yes\",Traffic!$F$18*0.5+((Traffic!$F$20*(Constraints!$H$17+Constraints!$H$20+Constraints!$H$21)+1*(Constraints!$H$24-(Constraints!$H$17+Constraints!$H$20+Constraints!$H$21)))/Constraints!$H$24)*0.5,1)),(IF(G$59=\"Yes\",Traffic!$F$18*0.5+((Traffic!$F$20*(Constraints!$H$31+Constraints!$H$34+Constraints!$H$35)+1*(Constraints!$H$38-(Constraints!$H$31+Constraints!$H$34+Constraints!$H$35)))/Constraints!$H$38)*0.5,1)))","v":1},{"$f":"IF($I$2=\"Existing\",(D152),(IF($I$2=\"Design 1\",(F152),(IF($I$2=\"Design 2\",(G152),(IF($I$2=\"Optimal\",(I152),E152)))))))","v":1},{"$f":"IF(I24=INDEX(MedConf_Header,1,2),(IF(I$59=\"Yes\",Traffic!$F$18*0.5+((Traffic!$F$20*(Constraints!$H$17+Constraints!$H$20+Constraints!$H$21)+1*(Constraints!$H$24-(Constraints!$H$17+Constraints!$H$20+Constraints!$H$21)))/Constraints!$H$24)*0.5,1)),(IF(I$59=\"Yes\",Traffic!$F$18*0.5+((Traffic!$F$20*(Constraints!$H$31+Constraints!$H$34+Constraints!$H$35)+1*(Constraints!$H$38-(Constraints!$H$31+Constraints!$H$34+Constraints!$H$35)))/Constraints!$H$38)*0.5,1)))","v":0.87439641434262949},null,{"$f":"INDEX($D152:$I152,K$100)","v":1},{"$f":"INDEX($D152:$I152,L$100)","v":1},0,null,0.13824118691351761]
[null,null,"Profiles",1,1,1,1,1,1,null,{"$f":"INDEX($D153:$I153,K$100)","v":1},{"$f":"INDEX($D153:$I153,L$100)","v":1},0,null,0]
[null,null,"Shoulder rumble strips",{"$f":"IF(D24=INDEX(MedConf_Header,1,2),(IF(D$60=\"No\",1,(Traffic!$F$27*(Constraints!$H$17+Constraints!$H$20+Constraints!$H$21)+1*(Constraints!$H$24-(Constraints!$H$17+Constraints!$H$20+Constraints!$H$21)))/Constraints!$H$24)),(IF(D$60=\"No\",1,(Traffic!$F$27*(Constraints!$H$31+Constraints!$H$34+Constraints!$H$35)+1*(Constraints!$H$38-(Constraints!$H$31+Constraints!$H$34+Constraints!$H$35)))/Constraints!$H$38)))","v":0.93956289460903353},{"$f":"IF(E$60=\"No\",1,(Traffic!$F$27*(Constraints!$H$17+Constraints!$H$20+Constraints!$H$21)+1*(Constraints!$H$24-(Constraints!$H$17+Constraints!$H$20+Constraints!$H$21)))/Constraints!$H$24)","v":0.91807038512616201},{"$f":"IF(F24=INDEX(MedConf_Header,1,2),(IF(F$60=\"No\",1,(Traffic!$F$27*(Constraints!$H$17+Constraints!$H$20+Constraints!$H$21)+1*(Constraints!$H$24-(Constraints!$H$17+Constraints!$H$20+Constraints!$H$21)))/Constraints!$H$24)),(IF(F$60=\"No\",1,(Traffic!$F$27*(Constraints!$H$31+Constraints!$H$34+Constraints!$H$35)+1*(Constraints!$H$38-(Constraints!$H$31+Constraints!$H$34+Constraints!$H$35)))/Constraints!$H$38)))","v":0.93956289460903353},{"$f":"IF(G24=INDEX(MedConf_Header,1,2),(IF(G$60=\"No\",1,(Traffic!$F$27*(Constraints!$H$17+Constraints!$H$20+Constraints!$H$21)+1*(Constraints!$H$24-(Constraints!$H$17+Constraints!$H$20+Constraints!$H$21)))/Constraints!$H$24)),(IF(G$60=\"No\",1,(Traffic!$F$27*(Constraints!$H$31+Constraints!$H$34+Constraints!$H$35)+1*(Constraints!$H$38-(Constraints!$H$31+Constraints!$H$34+Constraints!$H$35)))/Constraints!$H$38)))","v":0.93956289460903353},{"$f":"IF($I$2=\"Existing\",(D154),(IF($I$2=\"Design 1\",(F154),(IF($I$2=\"Design 2\",(G154),(IF($I$2=\"Optimal\",(I154),E154)))))))","v":0.91807038512616201},{"$f":"IF(I$60=\"No\",1,(Traffic!$F$27*(Constraints!$H$17+Constraints!$H$20+Constraints!$H$21)+1*(Constraints!$H$24-(Constraints!$H$17+Constraints!$H$20+Constraints!$H$21)))/Constraints!$H$24)","v":0.91807038512616201},null,{"$f":"INDEX($D154:$I154,K$100)","v":0.93956289460903353},{"$f":"INDEX($D154:$I154,L$100)","v":0.91807038512616201},2.2875008800570917E-2,null,0]
[null,null,"Install centerline rumble strips",{"$f":"IF(D24=INDEX(MedConf_Header,1,3),(IF(D$61=\"No\",1,(Traffic!$E$81*(Constraints!$H$31+Constraints!$H$34+Constraints!$H$35)+1*(Constraints!$H$38-(Constraints!$H$31+Constraints!$H$34+Constraints!$H$35)))/Constraints!$H$38)+0.001),1)","v":1},{"$f":"IF(E24=INDEX(MedConf_Header,1,3),(IF(E$61=\"No\",1,(Traffic!$E$81*(Constraints!$H$31+Constraints!$H$34+Constraints!$H$35)+1*(Constraints!$H$38-(Constraints!$H$31+Constraints!$H$34+Constraints!$H$35)))/Constraints!$H$38)+0.001),1)","v":1},{"$f":"IF(F24=INDEX(MedConf_Header,1,3),(IF(F$61=\"No\",1,(Traffic!$E$81*(Constraints!$H$31+Constraints!$H$34+Constraints!$H$35)+1*(Constraints!$H$38-(Constraints!$H$31+Constraints!$H$34+Constraints!$H$35)))/Constraints!$H$38)+0.001),1)","v":1},{"$f":"IF(G24=INDEX(MedConf_Header,1,3),(IF(G$61=\"No\",1,(Traffic!$E$81*(Constraints!$H$31+Constraints!$H$34+Constraints!$H$35)+1*(Constraints!$H$38-(Constraints!$H$31+Constraints!$H$34+Constraints!$H$35)))/Constraints!$H$38)+0.001),1)","v":1},{"$f":"IF($I$2=\"Existing\",(D155),(IF($I$2=\"Design 1\",(F155),(IF($I$2=\"Design 2\",(G155),(IF($I$2=\"Optimal\",(I155),E155)))))))","v":1},{"$f":"IF(I24=INDEX(MedConf_Header,1,3),(IF(I$61=\"No\",1,(Traffic!$E$81*(Constraints!$H$31+Constraints!$H$34+Constraints!$H$35)+1*(Constraints!$H$38-(Constraints!$H$31+Constraints!$H$34+Constraints!$H$35)))/Constraints!$H$38)+0.001),1)","v":1},null,{"$f":"INDEX($D155:$I155,K$100)","v":1},{"$f":"INDEX($D155:$I155,L$100)","v":1},0,null,-0.16279069767441867]
[null,null,"Driveway Density (driveways per mile)",{"$f":"EXP(-LN(Traffic!$F$31)*(D$62-$E$62))","v":0.81707280688754669},{"$f":"EXP(-LN(Traffic!$F$31)*(E$62-$E$62))","v":1},{"$f":"EXP(-LN(Traffic!$F$31)*(F$62-$E$62))","v":0.81707280688754669},{"$f":"EXP(-LN(Traffic!$F$31)*(G$62-$E$62))","v":0.81707280688754669},{"$f":"IF($I$2=\"Existing\",(D156),(IF($I$2=\"Design 1\",(F156),(IF($I$2=\"Design 2\",(G156),(IF($I$2=\"Optimal\",(I156),E156)))))))","v":1},{"$f":"EXP(-LN(Traffic!$F$31)*(I$62-$E$62))","v":0.81707280688754669},null,{"$f":"INDEX($D156:$I156,K$100)","v":0.81707280688754669},{"$f":"INDEX($D156:$I156,L$100)","v":1},-0.22388114201141129,null,-0.22388114201141129]
[null,null,"Install lighting",{"$f":"IF(D24=INDEX(MedConf_Header,1,2),(IF(D$63=\"No\",1,1-(((1-Traffic!$F$54*Constraints!$H$24-Constraints!$F$24/3)+((1-Traffic!$F$54*Constraints!$D$24-Constraints!$H$24)))*$S$19+((1-Traffic!$F$56)*Constraints!$F$24/3))/Constraints!$D$24)),(IF(D$63=\"No\",1,1-(((1-Traffic!$F$54*Constraints!$H$38-Constraints!$F$38/3)+((1-Traffic!$F$54*Constraints!$D$38-Constraints!$H$38)))*$S$19+((1-Traffic!$F$56)*Constraints!$F$38/3))/Constraints!$D$38)))","v":0.98319080068143105},{"$f":"IF(E$63=\"No\",1,1-(((1-Traffic!$F$54*Constraints!$H$24-Constraints!$F$24/3)+((1-Traffic!$F$54*Constraints!$D$24-Constraints!$H$24)))*$S$19+((1-Traffic!$F$56)*Constraints!$F$24/3))/Constraints!$D$24)","v":1},{"$f":"IF(F24=INDEX(MedConf_Header,1,2),(IF(F$63=\"No\",1,1-(((1-Traffic!$F$54*Constraints!$H$24-Constraints!$F$24/3)+((1-Traffic!$F$54*Constraints!$D$24-Constraints!$H$24)))*$S$19+((1-Traffic!$F$56)*Constraints!$F$24/3))/Constraints!$D$24)),(IF(F$63=\"No\",1,1-(((1-Traffic!$F$54*Constraints!$H$38-Constraints!$F$38/3)+((1-Traffic!$F$54*Constraints!$D$38-Constraints!$H$38)))*$S$19+((1-Traffic!$F$56)*Constraints!$F$38/3))/Constraints!$D$38)))","v":0.98319080068143105},{"$f":"IF(G24=INDEX(MedConf_Header,1,2),(IF(G$63=\"No\",1,1-(((1-Traffic!$F$54*Constraints!$H$24-Constraints!$F$24/3)+((1-Traffic!$F$54*Constraints!$D$24-Constraints!$H$24)))*$S$19+((1-Traffic!$F$56)*Constraints!$F$24/3))/Constraints!$D$24)),(IF(G$63=\"No\",1,1-(((1-Traffic!$F$54*Constraints!$H$38-Constraints!$F$38/3)+((1-Traffic!$F$54*Constraints!$D$38-Constraints!$H$38)))*$S$19+((1-Traffic!$F$56)*Constraints!$F$38/3))/Constraints!$D$38)))","v":0.98319080068143105},{"$f":"IF($I$2=\"Existing\",(D157),(IF($I$2=\"Design 1\",(F157),(IF($I$2=\"Design 2\",(G157),(IF($I$2=\"Optimal\",(I157),E157)))))))","v":1},{"$f":"IF(I$63=\"No\",1,1-(((1-Traffic!$F$54*Constraints!$H$24-Constraints!$F$24/3)+((1-Traffic!$F$54*Constraints!$D$24-Constraints!$H$24)))*$S$19+((1-Traffic!$F$56)*Constraints!$F$24/3))/Constraints!$D$24)","v":0.98062689234129152},null,{"$f":"INDEX($D157:$I157,K$100)","v":0.98319080068143105},{"$f":"INDEX($D157:$I157,L$100)","v":1},-1.7096579124742384E-2,null,-2.3499081529478438E-2]
[null,null,"Pavement friction (skid number)",{"$f":"EXP(LN(Traffic!$F$48)*(D$64-$E$64))","v":1.3972521419325798},{"$f":"EXP(LN(Traffic!$F$48)*(E$64-$E$64))","v":1},{"$f":"IF(MATCH(F64,SkidNums,0)=3, $D158,EXP(LN([5]Traffic!$F$49)*(RIGHT(F$64,2)-$E$64)))","v":{"$error":"#N/A"}},{"$f":"IF(MATCH(G64,SkidNums,0)=3, $D158,EXP(LN([5]Traffic!$F$49)*(RIGHT(G$64,2)-$E$64)))","v":{"$error":"#N/A"}},{"$f":"IF($I$2=\"Existing\",(D158),(IF($I$2=\"Design 1\",(F158),(IF($I$2=\"Design 2\",(G158),(IF($I$2=\"Optimal\",(I158),E158)))))))","v":1},{"$f":"EXP(LN(Traffic!$F$48)*(I$64-$E$64))","v":0.85753553626991963},null,{"$f":"INDEX($D158:$I158,K$100)","v":1.3972521419325798},{"$f":"INDEX($D158:$I158,L$100)","v":1},0.28430956017940245,null,0]
[]
[]
[null,null,"COMBINED Calculated CMF",{"$f":"+D149*D150*D151*D152*D153*D154*D155*D156*D157*D158","v":1.0546277742651902},{"$f":"+E149*E150*E151*E152*E153*E154*E155*E156*E157*E158","v":0.91807038512616201},{"$error":"#N/A"},{"$error":"#N/A"},{"$f":"IF($I$2=\"Existing\",(D161),(IF($I$2=\"Design 1\",(F161),(IF($I$2=\"Design 2\",(G161),(IF($I$2=\"Optimal\",(I161),E161)))))))","v":0.91807038512616201},{"$f":"+I149*I150*I151*I152*I153*I154*I155*I156*I157*I158","v":0.55157049744255038},null,{"$f":"INDEX($D161:$I161,K$100)","v":1.0546277742651902},{"$f":"INDEX($D161:$I161,L$100)","v":0.91807038512616201},0.12948396815565966,null,0]
[null,null,"Calculated Relative to Design Standards (Column E)",{"$f":"+D161/$E$161","v":1.1487439213282784},{"$f":"+E161/$E$161","v":1},{"$error":"#N/A"},{"$error":"#N/A"},1,{"$f":"+I161/$E$161","v":0.60079325766156055},null,{"$f":"INDEX($D162:$I162,K$100)","v":1.1487439213282784},{"$f":"INDEX($D162:$I162,L$100)","v":1},0.12948396815565966,null,0]
[null,null,"P(Crash)",{"$f":"+D162/(D162+1)","v":0.53461183062622242},0.5,{"$error":"#N/A"},{"$error":"#N/A"},0.5,{"$f":"+I162/(I162+1)","v":0.37530971272280322},null,{"$f":"INDEX($D163:$I163,K$100)","v":0.53461183062622242},{"$f":"INDEX($D163:$I163,L$100)","v":0.5},6.4741984077829939E-2]
[null,null,"Factor Change on S curve",{"$f":"+D163/$E$163","v":1.0692236612524448},{"$f":"+E163/$E$163","v":1},{"$f":"+F163/$E$163","v":{"$error":"#N/A"}},{"$error":"#N/A"},1,{"$f":"+I163/$E$163","v":0.75061942544560645},null,{"$f":"INDEX($D164:$I164,K$100)","v":1.0692236612524448},{"$f":"INDEX($D164:$I164,L$100)","v":1},6.4741984077829939E-2]
[null,null,"Adjust to Scale of 100",{"$f":"+$I$118/D164*100","v":{"$error":"#VALUE!"}},{"$error":"#VALUE!"},{"$error":"#VALUE!"},{"$error":"#VALUE!"},{"$error":"#VALUE!"},{"$f":"+$I$118/I164*100","v":{"$error":"#VALUE!"}}]
[null,null,"Unadjusted Combined Relative to Standard",{"$f":"+D161/$E$161","v":1.1487439213282784},{"$f":"+E161/$E$161","v":1},{"$f":"+F161/$E$161","v":{"$error":"#N/A"}},{"$error":"#N/A"},1,{"$f":"+I161/$E$161","v":0.60079325766156055},{"$f":"I172/E172","v":1.3333333333333333},{"$f":"INDEX($D166:$I166,K$100)","v":1.1487439213282784},{"$f":"INDEX($D166:$I166,L$100)","v":1},0.12948396815565966]
[null,null,null,null,null,null,null,0,null,null,{"$f":"INDEX($D167:$I167,K$100)","v":0},{"$f":"INDEX($D167:$I167,L$100)","v":0},{"$f":"IF(ISERROR(1-L167/K167), 0, 1-L167/K167)","v":0}]
[null,null,"Adjusted for PA Basis",{"$f":"+D161*(1+1)/(1+D161*1)","v":1.0265876743950504},0.95728539707970672,{"$error":"#N/A"},{"$error":"#N/A"},0.95728539707970672,{"$f":"+I161*(1+1)/(1+I161*1)","v":0.71098348202895401},null,{"$f":"INDEX($D168:$I168,K$100)","v":1.0265876743950504},{"$f":"INDEX($D168:$I168,L$100)","v":0.95728539707970672},6.750741221998624E-2]
[null,null,"Corrected by Odds Ratio",{"$f":"+D168/$E$168","v":1.0723945831898796},{"$f":"+E168/$E$168","v":1},{"$f":"+F168/$E$168","v":{"$error":"#N/A"}},{"$error":"#N/A"},1,{"$f":"+I168/$E$168","v":0.74270795752017016},{"$f":"I175/E175","v":1.4285714285714286},{"$f":"INDEX($D169:$I169,K$100)","v":1.0723945831898796},{"$f":"INDEX($D169:$I169,L$100)","v":1},6.750741221998624E-2]
[null,null,null,{"$f":"(1/D169)^$D173","v":0.19732178070922252},{"$f":"(1/E169)^$D173","v":1},{"$error":"#N/A"},{"$error":"#N/A"},1,998.99999999999955,null,{"$f":"INDEX($D170:$I170,K$100)","v":0.19732178070922252},{"$f":"INDEX($D170:$I170,L$100)","v":1},-4.0678642591089362]
[null,null,null,{"$f":"(D170+$F174-1)/(1+(D170+$F174-1))","v":0.6048454036857811},{"$f":"(E170+$F174-1)/(1+(E170+$F174-1))","v":0.70000000000000007},{"$error":"#N/A"},{"$error":"#N/A"},0.70000000000000007,0.99900133155792281,null,{"$f":"INDEX($D171:$I171,K$100)","v":0.6048454036857811},{"$f":"INDEX($D171:$I171,L$100)","v":0.70000000000000007},-0.15732052477272696]
[null,null,"Score Odds Ratio with Optimal as 100 (old)",{"$f":"MIN(ROUND($I$169/D169*Construction!$I$3,0),$I172)","v":14},{"$f":"MIN(ROUND($I$169/E169*Construction!$I$3,0),$I172)","v":15},{"$f":"MIN(ROUND($I$169/F169*Construction!$I$3,0),$I172)","v":{"$error":"#N/A"}},{"$f":"MIN(ROUND($I$169/G169*Construction!$I$3,0),$I172)","v":{"$error":"#N/A"}},null,{"$f":"ROUND($I$169/I169*Construction!$I$3,0)","v":20}]
[null,null,"Logistic1",{"$f":"LN((D174/(1-D174))/(0.5/0.5))/LN($E169/I169)","v":23.2196999386987}]
[null,null,"Logistic Param",0.999,null,{"$f":"0.7/0.3","v":2.3333333333333335}]
[null,null,"Score ",{"$f":"MIN(ROUND(D171*Construction!$I$3,0),$I172)","v":12},{"$f":"MIN(ROUND(E171*Construction!$I$3,0),$I172)","v":14},{"$f":"MIN(ROUND(F171*Construction!$I$3,0),$I172)","v":{"$error":"#N/A"}},{"$f":"MIN(ROUND(G171*Construction!$I$3,0),$I172)","v":{"$error":"#N/A"}},null,{"$f":"MIN(ROUND(I171*Construction!$I$3,0),$I172)","v":20}]
[]
[]
[]
[]
[null,null,null,{"$f":"INDEX(MedConf_Header,1,2)","v":"Divided - Unsurfaced Median"}]
[]
[null,"Roadsde",null,"Existing","Standard","Design 1","Design 2"]
[null,null,null,{"$f":"IF(ISBLANK(D75), 0, MID(D75,FIND(\":\",D75,1)+1,FIND(\"H\",D75,1)-FIND(\":\",D75,1)-1)+0)","v":0},{"$f":"MID(E75,FIND(\":\",E75,1)+1,FIND(\"H\",E75,1)-FIND(\":\",E75,1)-1)+0","v":4},{"$f":"IF(ISBLANK(F75), 0, MID(F75,FIND(\":\",F75,1)+1,FIND(\"H\",F75,1)-FIND(\":\",F75,1)-1)+0)","v":0},{"$f":"IF(ISBLANK(G75), 0, MID(G75,FIND(\":\",G75,1)+1,FIND(\"H\",G75,1)-FIND(\":\",G75,1)-1)+0)","v":0},null,{"$f":"MID(I75,FIND(\":\",I75,1)+1,FIND(\"H\",I75,1)-FIND(\":\",I75,1)-1)+0","v":6},null,null,null,null,null,0]
[null,null,"Sideslope (Foreslope)",{"$f":"IF(D24=INDEX(MedConf_Header,1,2),(IF(D183<=3,1,IF(OR(D183=4,D183=5),(Roadside!$F$15-1)*Constraints!$H$24/Constraints!$D$24+1,(Roadside!$F$15*Roadside!$F$16-1)*Constraints!$H$24/Constraints!$D$24+1))),(IF(D183<=3,1,IF(OR(D183=4,D183=5),(Roadside!$F$15-1)*Constraints!$H$38/Constraints!$D$38+1,(Roadside!$F$15*Roadside!$F$16-1)*Constraints!$H$38/Constraints!$D$38+1))))","v":1},{"$f":"IF(E24=INDEX(MedConf_Header,1,2),(IF(E183<=3,1,IF(OR(E183=4,E183=5),(Roadside!$F$15-1)*Constraints!$H$24/Constraints!$D$24+1,(Roadside!$F$15*Roadside!$F$16-1)*Constraints!$H$24/Constraints!$D$24+1))),(IF(E183<=3,1,IF(OR(E183=4,E183=5),(Roadside!$F$15-1)*Constraints!$H$38/Constraints!$D$38+1,(Roadside!$F$15*Roadside!$F$16-1)*Constraints!$H$38/Constraints!$D$38+1))))","v":0.84302377525189853},{"$f":"IF(F24=INDEX(MedConf_Header,1,2),(IF(F183<=3,1,IF(OR(F183=4,F183=5),(Roadside!$F$15-1)*Constraints!$H$24/Constraints!$D$24+1,(Roadside!$F$15*Roadside!$F$16-1)*Constraints!$H$24/Constraints!$D$24+1))),(IF(F183<=3,1,IF(OR(F183=4,F183=5),(Roadside!$F$15-1)*Constraints!$H$38/Constraints!$D$38+1,(Roadside!$F$15*Roadside!$F$16-1)*Constraints!$H$38/Constraints!$D$38+1))))","v":1},{"$f":"IF(G24=INDEX(MedConf_Header,1,2),(IF(G183<=3,1,IF(OR(G183=4,G183=5),(Roadside!$F$15-1)*Constraints!$H$24/Constraints!$D$24+1,(Roadside!$F$15*Roadside!$F$16-1)*Constraints!$H$24/Constraints!$D$24+1))),(IF(G183<=3,1,IF(OR(G183=4,G183=5),(Roadside!$F$15-1)*Constraints!$H$38/Constraints!$D$38+1,(Roadside!$F$15*Roadside!$F$16-1)*Constraints!$H$38/Constraints!$D$38+1))))","v":1},{"$f":"IF($I$2=\"Existing\",(D184),(IF($I$2=\"Design 1\",(F184),(IF($I$2=\"Design 2\",(G184),(IF($I$2=\"Optimal\",(I184),E184)))))))","v":0.84302377525189853},{"$f":"IF(I24=INDEX(MedConf_Header,1,2),(IF(I183<=3,1,IF(OR(I183=4,I183=5),(Roadside!$F$15-1)*Constraints!$H$24/Constraints!$D$24+1,(Roadside!$F$15*Roadside!$F$16-1)*Constraints!$H$24/Constraints!$D$24+1))),(IF(I183<=3,1,IF(OR(I183=4,I183=5),(Roadside!$F$15-1)*Constraints!$H$38/Constraints!$D$38+1,(Roadside!$F$15*Roadside!$F$16-1)*Constraints!$H$38/Constraints!$D$38+1))))","v":0.79533290316176108},null,{"$f":"INDEX($D184:$I184,K$100)","v":1},{"$f":"INDEX($D184:$I184,L$100)","v":0.84302377525189853},0.15697622474810147,null,0]
[null,null,"Backslope",1,1,1,1,{"$f":"IF($I$2=\"Existing\",(D185),(IF($I$2=\"Design 1\",(F185),(IF($I$2=\"Design 2\",(G185),(IF($I$2=\"Optimal\",(I185),E185)))))))","v":1},1,null,{"$f":"INDEX($D185:$I185,K$100)","v":1},{"$f":"INDEX($D185:$I185,L$100)","v":1},0,null,0]
[null,null,"SafetyEdge",{"$f":"IF(D24=INDEX(MedConf_Header,1,2),(IF(D$77=\"No\",1,(Roadside!$F$23-1)*AVERAGE(Constraints!$H$24,Constraints!$F$24)/Constraints!$D$24+1)),(IF(D$77=\"No\",1,(Roadside!$F$23-1)*AVERAGE(Constraints!$H$38,Constraints!$F$38)/Constraints!$D$38+1)))","v":0.97711209540034072},{"$f":"IF(E$77=\"No\",1,(Roadside!$F$23-1)*AVERAGE(Constraints!$H$24,Constraints!$F$24)/Constraints!$D$24+1)","v":1},{"$f":"IF(F24=INDEX(MedConf_Header,1,2),(IF(F$77=\"No\",1,(Roadside!$F$23-1)*AVERAGE(Constraints!$H$24,Constraints!$F$24)/Constraints!$D$24+1)),(IF(F$77=\"No\",1,(Roadside!$F$23-1)*AVERAGE(Constraints!$H$38,Constraints!$F$38)/Constraints!$D$38+1)))","v":0.97711209540034072},{"$f":"IF(G24=INDEX(MedConf_Header,1,2),(IF(G$77=\"No\",1,(Roadside!$F$23-1)*AVERAGE(Constraints!$H$24,Constraints!$F$24)/Constraints!$D$24+1)),(IF(G$77=\"No\",1,(Roadside!$F$23-1)*AVERAGE(Constraints!$H$38,Constraints!$F$38)/Constraints!$D$38+1)))","v":0.97711209540034072},{"$f":"IF($I$2=\"Existing\",(D186),(IF($I$2=\"Design 1\",(F186),(IF($I$2=\"Design 2\",(G186),(IF($I$2=\"Optimal\",(I186),E186)))))))","v":1},{"$f":"IF(I$77=\"No\",1,(Roadside!$F$23-1)*AVERAGE(Constraints!$H$24,Constraints!$F$24)/Constraints!$D$24+1)","v":0.97526887377773364},null,{"$f":"INDEX($D186:$I186,K$100)","v":0.97711209540034072},{"$f":"INDEX($D186:$I186,L$100)","v":1},-2.3424031600265627E-2,null,-2.8188991921691331E-2]
[null,null,"Lateral Clearance (ft)",{"$f":"IF(D24=INDEX(MedConf_Header,1,2),(IF($B$31=\"Yes\",((EXP(LN(Roadside!$F$11)*(IF(D$79=\"None\",40,D$78)-30)/30)-1))*Constraints!$H$17/Constraints!$D$24+1,((EXP(LN(Roadside!$F$10)*(IF(D$79=\"None\",40,D$78)-30)/30)-1))*Constraints!$H$17/Constraints!$D$24+1)),(IF($B$31=\"Yes\",((EXP(LN(Roadside!$F$11)*(IF(D$79=\"None\",40,D$78)-30)/30)-1))*Constraints!$H$31/Constraints!$D$38+1,((EXP(LN(Roadside!$F$10)*(IF(D$79=\"None\",40,D$78)-30)/30)-1))*Constraints!$H$31/Constraints!$D$38+1)))","v":1.0472592444132678},{"$f":"IF(E24=INDEX(MedConf_Header,1,2),(IF($B$31=\"Yes\",((EXP(LN(Roadside!$F$11)*(IF(E$79=\"None\",40,E$78)-30)/30)-1))*Constraints!$H$17/Constraints!$D$24+1,((EXP(LN(Roadside!$F$10)*(IF(E$79=\"None\",40,E$78)-30)/30)-1))*Constraints!$H$17/Constraints!$D$24+1)),(IF($B$31=\"Yes\",((EXP(LN(Roadside!$F$11)*(IF(E$79=\"None\",40,E$78)-30)/30)-1))*Constraints!$H$31/Constraints!$D$38+1,((EXP(LN(Roadside!$F$10)*(IF(E$79=\"None\",40,E$78)-30)/30)-1))*Constraints!$H$31/Constraints!$D$38+1)))","v":0.97942029665168673},{"$f":"IF(F24=INDEX(MedConf_Header,1,2),(IF($B$31=\"Yes\",((EXP(LN(Roadside!$F$11)*(IF(F$79=\"None\",40,F$78)-30)/30)-1))*Constraints!$H$17/Constraints!$D$24+1,((EXP(LN(Roadside!$F$10)*(IF(F$79=\"None\",40,F$78)-30)/30)-1))*Constraints!$H$17/Constraints!$D$24+1)),(IF($B$31=\"Yes\",((EXP(LN(Roadside!$F$11)*(IF(F$79=\"None\",40,F$78)-30)/30)-1))*Constraints!$H$31/Constraints!$D$38+1,((EXP(LN(Roadside!$F$10)*(IF(F$79=\"None\",40,F$78)-30)/30)-1))*Constraints!$H$31/Constraints!$D$38+1)))","v":1.0472592444132678},{"$f":"IF(G24=INDEX(MedConf_Header,1,2),(IF($B$31=\"Yes\",((EXP(LN(Roadside!$F$11)*(IF(G$79=\"None\",40,G$78)-30)/30)-1))*Constraints!$H$17/Constraints!$D$24+1,((EXP(LN(Roadside!$F$10)*(IF(G$79=\"None\",40,G$78)-30)/30)-1))*Constraints!$H$17/Constraints!$D$24+1)),(IF($B$31=\"Yes\",((EXP(LN(Roadside!$F$11)*(IF(G$79=\"None\",40,G$78)-30)/30)-1))*Constraints!$H$31/Constraints!$D$38+1,((EXP(LN(Roadside!$F$10)*(IF(G$79=\"None\",40,G$78)-30)/30)-1))*Constraints!$H$31/Constraints!$D$38+1)))","v":1.0472592444132678},{"$f":"IF($I$2=\"Existing\",(D187),(IF($I$2=\"Design 1\",(F187),(IF($I$2=\"Design 2\",(G187),(IF($I$2=\"Optimal\",(I187),E187)))))))","v":0.97942029665168673},{"$f":"IF(I24=INDEX(MedConf_Header,1,2),(IF($B$31=\"Yes\",((EXP(LN(Roadside!$F$11)*(IF(I$79=\"None\",40,I$78)-30)/30)-1))*Constraints!$H$17/Constraints!$D$24+1,((EXP(LN(Roadside!$F$10)*(IF(I$79=\"None\",40,I$78)-30)/30)-1))*Constraints!$H$17/Constraints!$D$24+1)),(IF($B$31=\"Yes\",((EXP(LN(Roadside!$F$11)*(IF(I$79=\"None\",40,I$78)-30)/30)-1))*Constraints!$H$31/Constraints!$D$38+1,((EXP(LN(Roadside!$F$10)*(IF(I$79=\"None\",40,I$78)-30)/30)-1))*Constraints!$H$31/Constraints!$D$38+1)))","v":0.97942029665168673},null,{"$f":"INDEX($D187:$I187,K$100)","v":1.0472592444132678},{"$f":"INDEX($D187:$I187,L$100)","v":0.97942029665168673},6.4777606999867676E-2,null,9.0307162971216326E-2]
[null,null,"Roadside Obstruction Type",{"$f":"IF(D24=INDEX(MedConf_Header,1,2),(IF(D$79=\"Guardrail\",(Roadside!$F$25-1)*(($I$78-D$78)/$I$78)^2*Constraints!$H$17/Constraints!$D$24+1,1)),(IF(D$79=\"Guardrail\",(Roadside!$F$25-1)*(($I$78-D$78)/$I$78)^2*Constraints!$H$31/Constraints!$D$38+1,1)))","v":1},{"$f":"IF(E24=INDEX(MedConf_Header,1,2),(IF(E$79=\"Guardrail\",(Roadside!$F$25-1)*(($I$78-E$78)/$I$78)^2*Constraints!$H$17/Constraints!$D$24+1,1)),(IF(E$79=\"Guardrail\",(Roadside!$F$25-1)*(($I$78-E$78)/$I$78)^2*Constraints!$H$31/Constraints!$D$38+1,1)))","v":1},{"$f":"IF(F24=INDEX(MedConf_Header,1,2),(IF(F$79=\"Guardrail\",(Roadside!$F$25-1)*(($I$78-F$78)/$I$78)^2*Constraints!$H$17/Constraints!$D$24+1,1)),(IF(F$79=\"Guardrail\",(Roadside!$F$25-1)*(($I$78-F$78)/$I$78)^2*Constraints!$H$31/Constraints!$D$38+1,1)))","v":1},{"$f":"IF(G24=INDEX(MedConf_Header,1,2),(IF(G$79=\"Guardrail\",(Roadside!$F$25-1)*(($I$78-G$78)/$I$78)^2*Constraints!$H$17/Constraints!$D$24+1,1)),(IF(G$79=\"Guardrail\",(Roadside!$F$25-1)*(($I$78-G$78)/$I$78)^2*Constraints!$H$31/Constraints!$D$38+1,1)))","v":1},{"$f":"IF($I$2=\"Existing\",(D188),(IF($I$2=\"Design 1\",(F188),(IF($I$2=\"Design 2\",(G188),(IF($I$2=\"Optimal\",(I188),E188)))))))","v":1},{"$f":"IF(I24=INDEX(MedConf_Header,1,2),(IF(I$79=\"Guardrail\",(Roadside!$F$25-1)*(($I$78-I$78)/$I$78)^2*Constraints!$H$17/Constraints!$D$24+1,1)),(IF(I$79=\"Guardrail\",(Roadside!$F$25-1)*(($I$78-I$78)/$I$78)^2*Constraints!$H$31/Constraints!$D$38+1,1)))","v":1},null,{"$f":"INDEX($D188:$I188,K$100)","v":1},{"$f":"INDEX($D188:$I188,L$100)","v":1},0,null,0]
[null,null,null,null,null,null,null,null,null,null,{"$f":"INDEX($D189:$I189,K$100)","v":0},{"$f":"INDEX($D189:$I189,L$100)","v":0},0]
[null,null,null,null,null,null,null,null,null,null,{"$f":"INDEX($D190:$I190,K$100)","v":0},{"$f":"INDEX($D190:$I190,L$100)","v":0},0]
[null,null,"COMBINED Calculated CMF",{"$f":"+D184*D185*D186*D187*D188","v":1.0232896747360256},{"$f":"+E184*E185*E186*E187*E188","v":0.82567459604163929},1.0232896747360256,1.0232896747360256,{"$f":"IF($I$2=\"Existing\",(D191),(IF($I$2=\"Design 1\",(F191),(IF($I$2=\"Design 2\",(G191),(IF($I$2=\"Optimal\",(I191),E191)))))))","v":0.82567459604163929},{"$f":"+I184*I185*I186*I187*I188","v":0.75970050156555824},null,{"$f":"INDEX($D191:$I191,K$100)","v":1.0232896747360256},{"$f":"INDEX($D191:$I191,L$100)","v":0.82567459604163929},0.1931174364144389]
[null,null,"Calculated Relative to Design Standards (Column E)",{"$f":"+D191/$E$191","v":1.2393377241370527},{"$f":"+E191/$E$191","v":1},1.2393377241370527,1.2393377241370527,1,{"$f":"+I191/$E$191","v":0.92009673690777583},null,{"$f":"INDEX($D192:$I192,K$100)","v":1.2393377241370527},{"$f":"INDEX($D192:$I192,L$100)","v":1},0.1931174364144389]
[null,null,"P(Crash)",{"$f":"+D192/(D192+1)","v":0.55343939896990835},0.5,0.55343939896990835,0.55343939896990835,0.5,{"$f":"+I192/(I192+1)","v":0.47919290691027777},null,{"$f":"INDEX($D193:$I193,K$100)","v":0.55343939896990835},{"$f":"INDEX($D193:$I193,L$100)","v":0.5},9.6558718207219618E-2]
[null,null,"Factor Change on S curve",{"$f":"+D193/$E$193","v":1.1068787979398167},{"$f":"+E193/$E$193","v":1},1.1068787979398167,1.1068787979398167,1,{"$f":"+I193/$E$193","v":0.95838581382055554},null,{"$f":"INDEX($D194:$I194,K$100)","v":1.1068787979398167},{"$f":"INDEX($D194:$I194,L$100)","v":1},9.6558718207219618E-2]
[null,null,"Adjust to Scale of 100",{"$f":"+$I$118/D194*100","v":{"$error":"#VALUE!"}},{"$error":"#VALUE!"},{"$error":"#VALUE!"},{"$error":"#VALUE!"},{"$error":"#VALUE!"},{"$f":"+$I$118/I194*100","v":{"$error":"#VALUE!"}},null,{"$f":"INDEX($D195:$I195,K$100)","v":{"$error":"#VALUE!"}},{"$f":"INDEX($D195:$I195,L$100)","v":{"$error":"#VALUE!"}},0]
[null,null,"Unadjusted Combined Relative to Standard",{"$f":"+D191/$E$191","v":1.2393377241370527},{"$f":"+E191/$E$191","v":1},1.2393377241370527,1.2393377241370527,1,{"$f":"+I191/$E$191","v":0.92009673690777583},{"$f":"I202/E202","v":1.0810810810810811},{"$f":"INDEX($D196:$I196,K$100)","v":1.2393377241370527},{"$f":"INDEX($D196:$I196,L$100)","v":1},0.1931174364144389]
[null,null,null,null,null,null,null,null,null,null,{"$f":"INDEX($D197:$I197,K$100)","v":0},{"$f":"INDEX($D197:$I197,L$100)","v":0},0]
[null,null,"Adjusted for PA Basis",{"$f":"+D191*(1+1)/(1+D191*1)","v":1.0115107960203793},0.90451452611745442,1.0115107960203793,1.0115107960203793,{"$f":"IF($I$2=\"Existing\",(D198),(IF($I$2=\"Design 1\",(F198),(IF($I$2=\"Design 2\",(G198),(IF($I$2=\"Optimal\",(I198),E198)))))))","v":0.90451452611745442},{"$f":"+I191*(1+1)/(1+I191*1)","v":0.86344295621859868},null,{"$f":"INDEX($D198:$I198,K$100)","v":1.0115107960203793},{"$f":"INDEX($D198:$I198,L$100)","v":0.90451452611745442},0.10577867317272727]
[null,null,"Corrected by Odds Ratio",{"$f":"+D191/$E$191","v":1.2393377241370527},{"$f":"+E191/$E$191","v":1},1.2393377241370527,1.2393377241370527,{"$f":"IF($I$2=\"Existing\",(D199),(IF($I$2=\"Design 1\",(F199),(IF($I$2=\"Design 2\",(G199),(IF($I$2=\"Optimal\",(I199),E199)))))))","v":1},{"$f":"+I191/$E$191","v":0.92009673690777583},{"$f":"I205/E205","v":1.4814814814814814},{"$f":"INDEX($D199:$I199,K$100)","v":1.2393377241370527},{"$f":"INDEX($D199:$I199,L$100)","v":1},0.1931174364144389]
[null,null,null,{"$f":"(1/D199)^$D203","v":1.8666691582346016E-8},{"$f":"(1/E199)^$D203","v":1},1.8666691582346016E-8,1.8666691582346016E-8,1,998.99999999999955]
[null,null,null,{"$f":"(D200+$F204-1)/(1+(D200+$F204-1))","v":0.50000000466667294},{"$f":"(E200+$F204-1)/(1+(E200+$F204-1))","v":0.66666666666666663},0.50000000466667294,0.50000000466667294,0.66666666666666663,0.99900099900099903]
[null,null,"Score Odds Ratio with Optimal as 100 (old)",{"$f":"MIN(ROUND($I$199/D199*Construction!$I$4,0),$I202)","v":30},{"$f":"MIN(ROUND($I$199/E199*Construction!$I$4,0),$I202)","v":37},{"$f":"MIN(ROUND($I$199/F199*Construction!$I$4,0),$I202)","v":30},{"$f":"MIN(ROUND($I$199/G199*Construction!$I$4,0),$I202)","v":30},null,{"$f":"ROUND($I$199/I199*Construction!$I$4,0)","v":40}]
[null,null,"Logistic1",{"$f":"LN((D204/(1-D204))/(0.5/0.5))/LN($E199/I199)","v":82.937655007418002}]
[null,null,"Logistic Param",0.999,null,2]
[null,null,"Score ",{"$f":"MIN(ROUND(D201*Construction!$I$4,0),$I202)","v":20},{"$f":"MIN(ROUND(E201*Construction!$I$4,0),$I202)","v":27},{"$f":"MIN(ROUND(F201*Construction!$I$4,0),$I202)","v":20},{"$f":"MIN(ROUND(G201*Construction!$I$4,0),$I202)","v":20},null,{"$f":"MIN(ROUND(I201*Construction!$I$4,0),$I202)","v":40}]
[]
[]
[]
[]
[null,null,{"$f":"D87/D183","v":{"$error":"#DIV/0!"}},null,{"$f":"ROUNDUP((MIN($I$14,$I$15)-E27-E28)/$C$210,0)","v":{"$error":"#DIV/0!"}},{"$f":"ROUNDUP((MIN($I$14,$I$15)-F27-F28)/$C$210,0)","v":{"$error":"#DIV/0!"}},{"$f":"ROUNDUP((MIN($I$14,$I$15)-G27-G28)/$C$210,0)","v":{"$error":"#DIV/0!"}},null,{"$f":"ROUNDUP((MIN($I$14,$I$15)-I27-I28)/$C$210,0)","v":{"$error":"#DIV/0!"}}]
[]
[]
[null,null,"Distance to low point","Distance to low point",{"$f":"$C$210*E183","v":{"$error":"#DIV/0!"}},{"$f":"$C$210*F183","v":{"$error":"#DIV/0!"}},{"$error":"#DIV/0!"},null,{"$f":"$C$210*I183","v":{"$error":"#DIV/0!"}}]
[null,null,null,"Additional ROW1 Needed for Foreslope",{"$f":"IF(E213>($I$14-E27-E28),E213-($I$14-E27-E28),0)","v":{"$error":"#DIV/0!"}},{"$f":"IF(F213>($I$14-F27-F28),F213-($I$14-F27-F28),0)","v":{"$error":"#DIV/0!"}},{"$f":"IF(G213>($I$14-G27-G28),G213-($I$14-G27-G28),0)","v":{"$error":"#DIV/0!"}},null,{"$f":"IF(I213>($I$14-I27-I28),I213-($I$14-I27-I28),0)","v":{"$error":"#DIV/0!"}}]
[null,null,null,"Additional ROW2 Needed for Foreslope",{"$f":"IF(E213>($I$15-E27-E28),E213-($I$15-E27-E28),0)","v":{"$error":"#DIV/0!"}},{"$f":"IF(F213>($I$15-F27-F28),F213-($I$15-F27-F28),0)","v":{"$error":"#DIV/0!"}},{"$f":"IF(G213>($I$15-G27-G28),G213-($I$15-G27-G28),0)","v":{"$error":"#DIV/0!"}},null,{"$f":"IF(I213>($I$15-I27-I28),I213-($I$15-I27-I28),0)","v":{"$error":"#DIV/0!"}}]
[]
[null,null,null,"Additional ROW1 Needed for Lateral Clearance",{"$f":"IF((CL251+E30)-$I$14<0,0,(CL251+E30)-$I$14)","v":2},{"$f":"IF((CM251+F30)-$I$14<0,0,(CM251+F30)-$I$14)","v":0},{"$f":"IF((CN251+G30)-$I$14<0,0,(CN251+G30)-$I$14)","v":0},null,{"$f":"IF((CP251+I30)-$I$14<0,0,(CP251+I30)-$I$14)","v":2}]
[null,null,null,"Additional ROW2 Needed for Lateral Clearance",{"$f":"IF((CL251+E30)-$I$15<0,0,(CL251+E30)-$I$15)","v":2},{"$f":"IF((CM251+F30)-$I$15<0,0,(CM251+F30)-$I$15)","v":0},{"$f":"IF((CN251+G30)-$I$15<0,0,(CN251+G30)-$I$15)","v":0},null,{"$f":"IF((CP251+I30)-$I$15<0,0,(CP251+I30)-$I$15)","v":2}]
[]
[]
[]
[]
[]
[]
[]
[]
[]
[]
[]
[null,null,"For Vertical Opt Use when Yes Vertical:"]
[null,null,"G1",{"$f":"D40","v":0},null,{"$f":"F40","v":0},{"$f":"G40","v":0},null,{"$f":"IF(ISERROR($E$238),\"\",INDEX(D231:G231,$E$238))","v":""}]
[null,null,"G2",{"$f":"D41","v":0},null,{"$f":"F41","v":0},{"$f":"G41","v":0},null,{"$f":"IF(ISERROR($E$238),\"\",INDEX(D232:G232,$E$238))","v":""}]
[null,null,"abs(G2-G1)",{"$f":"ABS(D40-D41)","v":0},null,{"$f":"ABS(F40-F41)","v":0},{"$f":"ABS(G40-G41)","v":0}]
[null,null,"Count in indicator (K no change; or K change but accept)",{"$f":"IF(D43<>\"\",1,\"\")","v":""},null,{"$f":"IF(OR(AND($B$38 = \"Yes\", $D$43 <> F43, F43 <>\"\", $D$43 <> \"\", F45=\"Yes.\"),AND($B$38 = \"Yes\", $D$43 = F43, F43 <>\"\", $D$43 <> \"\")), 1,\"\")","v":""},{"$f":"IF(OR(AND($B$38 = \"Yes\", $D$43 <> G43, G43 <>\"\", $D$43 <> \"\", G45=\"Yes.\"),AND($B$38 = \"Yes\", $D$43 = G43, G43 <>\"\", $D$43 <> \"\")), 1,\"\")","v":""}]
[]
[null,null,"Valid abs(G2-G1)",{"$f":"IF(ISERROR(D233*D234),\"\",D233*D234)","v":""},null,{"$f":"IF(ISERROR(F233*F234),\"\",F233*F234)","v":""},{"$f":"IF(ISERROR(G233*G234),\"\",G233*G234)","v":""}]
[null,null,"The min valid abs(G2-G1)",null,{"$f":"MIN(D236,F236,G236)","v":0}]
[null,null,"Index",null,{"$f":"MATCH(E237,D236:G236,0)","v":{"$error":"#N/A"}}]
[]
[null,null,"For Vertical Opt Use When No Vertical:"]
[null,null,"G1",{"$f":"IF(ISBLANK(D40), 999, D40)","v":999},null,{"$f":"IF(ISBLANK(F40), 999, F40)","v":999},{"$f":"IF(ISBLANK(G40), 999, G40)","v":999},null,{"$f":"IF(E246=999,\"\",E246)","v":""}]
[null,null,"Sign of G1",{"$f":"IF(D241>=0,1,-1)","v":1},null,{"$f":"IF(F241>=0,1,-1)","v":1},{"$f":"IF(G241>=0,1,-1)","v":1}]
[null,null,"Abs G1",{"$f":"ABS(D241)","v":999},null,{"$f":"ABS(F241)","v":999},{"$f":"ABS(G241)","v":999}]
[null,null,"Min Abs G1",null,{"$f":"MIN(D243:G243)","v":999}]
[null,null,"Which is the Best G1",null,{"$f":"MATCH(E244,D243:G243,0)","v":1}]
[null,null,"Best G1 Value",null,{"$f":"INDEX(D241:G241,1,E245)","v":999}]
[]
[]
[null,null,"Check if all cells filled",{"$f":"SUM(D251:D314)","v":19},{"$f":"SUM(E251:E314)","v":1},19,19,0,0]
[]
[null,null,{"$f":"C24","v":"Configuration of Multilane Roadway"},{"$f":"IF(ISBLANK(D24),1,0)","v":1},{"$f":"IF(ISBLANK(E24),1,0)","v":0},1,1,null,0]
[null,null,{"$f":"C25","v":"Median Configuration (Width or Type)"},{"$f":"IF(AND(D24<>\"No Median\", ISBLANK(D25)),1,0)","v":1},{"$f":"IF(ISBLANK(E25),1,0)","v":0},{"$f":"IF(AND(F24<>\"No Median\", ISBLANK(F25)),1,0)","v":1},{"$f":"IF(AND(G24<>\"No Median\", ISBLANK(G25)),1,0)","v":1},null,{"$f":"IF(ISBLANK(I25),1,0)","v":0}]
[]
[null,null,"Lane Width (feet)",{"$f":"IF(ISBLANK(D27),1,0)","v":1},0,1,1,null,{"$f":"IF(ISBLANK(I27),1,0)","v":0}]
[null,null,"Average Outside Shoulder Width (feet)",{"$f":"IF(ISBLANK(D28),1,0)","v":1},0,1,1,null,{"$f":"IF(ISBLANK(I28),1,0)","v":0}]
[null,null,"Average Inside Shoulder Width (feet)",{"$f":"IF(ISBLANK(D29),1,0)","v":1},0,1,1,null,{"$f":"IF(ISBLANK(I29),1,0)","v":0}]
[null,null,"Number of Lanes per Direction of Travel",{"$f":"IF(ISBLANK(D30),1,0)","v":1},0,1,1,null,{"$f":"IF(ISBLANK(I30),1,0)","v":0}]
[null,null,"Horizontal Curve Present?"]
[null,null,"Horizontal Curve Data for Controlling Element:"]
[null,null,"  Radius (feet)",{"$f":"IF(AND($B$31=\"Yes\", ISBLANK(D33)),1,0)","v":0},null,{"$f":"IF(AND($B$31=\"Yes\", ISBLANK(F33)),1,0)","v":0},{"$f":"IF(AND($B$31=\"Yes\", ISBLANK(G33)),1,0)","v":0},null,{"$f":"IF(ISBLANK(I33),1,0)","v":0}]
[null,null,"Length of Horizontal Curve (feet)",{"$f":"IF(AND($B$31=\"Yes\", ISBLANK(D34)),1,0)","v":0},null,{"$f":"IF(AND($B$31=\"Yes\", ISBLANK(F34)),1,0)","v":0},{"$f":"IF(AND($B$31=\"Yes\", ISBLANK(G34)),1,0)","v":0},null,{"$f":"IF(ISBLANK(I34),1,0)","v":0}]
[null,null,"Calculated Deflection Angle ∆"]
[]
[null,null,null,null,null,{"$f":"IF(AND($B$31 = \"Yes\", $D$35 <> F35, F35<>\"\",ISBLANK(F37)),1,0)","v":0},{"$f":"IF(AND($B$31 = \"Yes\", $D$35 <> G35, G35<>\"\",ISBLANK(G37)),1,0)","v":0}]
[null,null,"Vertical Curve Present?"]
[null,null,"Vertical Curve Data for Controlling Element:"]
[null,null,"  Approach (Entry) Grade, G1 (%)",{"$f":"IF(ISBLANK(D40),1,0)","v":1},0,1,1,null,{"$f":"IF(ISBLANK(I40),1,0)","v":0}]
[null,null,"  Departure (Exit) Grade, G2 (%)",{"$f":"IF(AND($B$38=\"Yes\", ISBLANK(D41)),1,0)","v":0},{"$f":"IF(AND($B$38=\"Yes\", ISBLANK(E41)),1,0)","v":0},0,0,null,{"$f":"IF(ISBLANK(I41),1,0)","v":0}]
[null,null,"  Length (feet)",{"$f":"IF(AND($B$38=\"Yes\", ISBLANK(D42)),1,0)","v":0},0,0,0,null,{"$f":"IF(ISBLANK(I42),1,0)","v":0}]
[null,null,"  Calculated Rate of Change, K (ft/ft)"]
[]
[]
[null,null,"  Calculated Sag or Crest?"]
[]
[]
[null,null,"Geometric Design Element (Partial Score)"]
[null,null,"Total Safety Score"]
[]
[]
[]
[]
[]
[null,null,"Advance Static Curve Warning Signs",{"$f":"IF(AND($B$31=\"Yes\", ISBLANK(D56)),1,0)","v":0},{"$f":"IF(AND($B$31=\"Yes\", ISBLANK(E56)),1,0)","v":0},0,0,null,{"$f":"IF(ISBLANK(I56),1,0)","v":0}]
[null,null,"Chevron Signs on Horizontal Curves",{"$f":"IF(AND($B$31=\"Yes\", ISBLANK(D57)),1,0)","v":0},0,0,0,null,{"$f":"IF(ISBLANK(I57),1,0)","v":0}]
[null,null,"Post-Mounted Delineators",{"$f":"IF(AND($B$31=\"Yes\", ISBLANK(D58)),1,0)","v":0},0,0,0,null,{"$f":"IF(ISBLANK(I58),1,0)","v":0}]
[null,null,"Edgeline Pavement Markings or Profile Markings",{"$f":"IF(ISBLANK(D59),1,0)","v":1},0,1,1,null,{"$f":"IF(ISBLANK(I59),1,0)","v":0}]
[null,null,"Shoulder Rumble Strips",{"$f":"IF(ISBLANK(D60),1,0)","v":1},0,1,1,null,{"$f":"IF(ISBLANK(I60),1,0)","v":0}]
[null,null,"Centerline Rumble Strips",{"$f":"IF(ISBLANK(D61),1,0)","v":1},0,1,1,null,{"$f":"IF(ISBLANK(I61),1,0)","v":0}]
[null,null,"Driveway Density (driveways per mile)",{"$f":"IF(ISBLANK(D62),1,0)","v":1},0,1,1,null,{"$f":"IF(ISBLANK(I62),1,0)","v":0}]
[null,null,"Lighting",{"$f":"IF(ISBLANK(D63),1,0)","v":1},0,1,1,null,{"$f":"IF(ISBLANK(I63),1,0)","v":0}]
[null,null,"Pavement Friction (skid number) ***",{"$f":"IF(ISBLANK(D64),1,0)","v":1},0,1,1,null,{"$f":"IF(ISBLANK(I64),1,0)","v":0}]
[null,null,"Traffic Control Element (Partial Score):"]
[null,null,"Total Safety Score"]
[]
[]
[]
[]
[]
[]
[]
[]
[null,null,"Roadside Sideslope (Foreslope)",{"$f":"IF(ISBLANK(D75),1,0)","v":1},0,1,1,null,{"$f":"IF(ISBLANK(I75),1,0)","v":0}]
[null,null,"Roadside Backslope",{"$f":"IF(ISBLANK(D76),1,0)","v":1},0,1,1,null,{"$f":"IF(ISBLANK(I76),1,0)","v":0}]
[null,null,"Safety Edge",{"$f":"IF(ISBLANK(D77),1,0)","v":1},0,1,1,null,{"$f":"IF(ISBLANK(I77),1,0)","v":0}]
[null,null,"Roadside Lateral Clearance to Obstruction (ft)",{"$f":"IF(ISBLANK(D78),1,0)","v":1},0,1,1,null,{"$f":"IF(ISBLANK(I78),1,0)","v":0}]
[null,null,"Roadside Obstruction Type",{"$f":"IF(ISBLANK(D79),1,0)","v":1},0,1,1,null,{"$f":"IF(ISBLANK(I79),1,0)","v":0}]
[null,null,"Roadside Element (Partial Score):"]
[null,null,"Total Safety Score"]
[]
[]
[]
[]
[]
[null,null,"Distance to Slope Toe from Shoulder (ft)",{"$f":"IF(ISBLANK(D87),1,0)","v":1},{"$f":"D314","v":1},{"$f":"E314","v":1},1,null,0]
[null,null,null,null,null,null,null,null,{"$f":"SUM(I316:I324)","v":9}]
[null,null,null,null,null,null,null,{"$f":"F9","v":"Location "},{"$f":"IF(ISBLANK(I9),1,0)","v":1}]
[null,null,null,null,null,null,null,{"$f":"F10","v":"Design Speed (mph)"},{"$f":"IF(ISBLANK(I10),1,0)","v":1}]
[null,null,null,null,null,null,null,"Posted Speed (mph)",1]
[null,null,null,null,null,null,null,"E max (%)",1]
[null,null,null,null,null,null,null,"    Design Year AADT (vehicles per day)",1]
[null,null,null,null,null,null,null,"    Dist. from Centerline to Left   ROW (feet)",1]
[null,null,null,null,null,null,null,"    Dist. from Centerline to Right ROW (feet)",1]
[null,null,null,null,null,null,null,"H CV",{"$f":"IF(ISBLANK(B31),1,0)","v":1}]
[null,null,null,null,null,null,null,"V HV",{"$f":"IF(ISBLANK(B38),1,0)","v":1}]
[]
[]
[]
[]
[]
[]
[]
[]
[]
[]
[]
[]
[]
[]
[]
[]
[]
[]
[]
[]
[]
[]
[]
[]
[]
[]
[]
[]
[]
[]
[]
[]
[]
[]
[]
[]
[]
[]
[]
[]
[]
[]
[]
[]
[]
[]
[]
[]
[]
[]
[]
[]
[]
[]
[1]
[22]
[21]
[20]
[19,null,null,{"$f":"Constraints!P174","v":"Emax=6%"}]
[18]
[17,null,{"$f":"HLOOKUP($I$10,Constraints!$Q$176:AD197,A379,TRUE)","v":{"$error":"#N/A"}},{"$f":"Constraints!P176","v":"super"}]
[16,null,{"$f":"HLOOKUP($I$10,Constraints!$Q$176:AD198,A380,TRUE)","v":{"$error":"#N/A"}},{"$f":"Constraints!P197","v":6},1050]
[15,null,{"$f":"HLOOKUP($I$10,Constraints!$Q$176:AD199,A381,TRUE)","v":{"$error":"#N/A"}},{"$f":"Constraints!P196","v":5.8}]
[14,null,{"$f":"HLOOKUP($I$10,Constraints!$Q$176:AD200,A382,TRUE)","v":{"$error":"#N/A"}},{"$f":"Constraints!P195","v":5.6}]
[13,null,{"$f":"HLOOKUP($I$10,Constraints!$Q$176:AD201,A383,TRUE)","v":{"$error":"#N/A"}},{"$f":"Constraints!P194","v":5.4}]
[12,null,{"$f":"HLOOKUP($I$10,Constraints!$Q$176:AD202,A384,TRUE)","v":{"$error":"#N/A"}},{"$f":"Constraints!P193","v":5.2}]
[11,null,{"$f":"HLOOKUP($I$10,Constraints!$Q$176:AD203,A385,TRUE)","v":{"$error":"#N/A"}},{"$f":"Constraints!P192","v":5}]
[10,null,{"$f":"HLOOKUP($I$10,Constraints!$Q$176:AD204,A386,TRUE)","v":{"$error":"#N/A"}},{"$f":"Constraints!P191","v":4.8}]
[9,null,{"$f":"HLOOKUP($I$10,Constraints!$Q$176:AD205,A387,TRUE)","v":{"$error":"#N/A"}},{"$f":"Constraints!P190","v":4.5999999999999996}]
[8,null,{"$f":"HLOOKUP($I$10,Constraints!$Q$176:AD206,A388,TRUE)","v":{"$error":"#N/A"}},{"$f":"Constraints!P189","v":4.4000000000000004}]
[7,null,{"$f":"HLOOKUP($I$10,Constraints!$Q$176:AD207,A389,TRUE)","v":{"$error":"#N/A"}},{"$f":"Constraints!P188","v":4.2}]
[6,null,{"$f":"HLOOKUP($I$10,Constraints!$Q$176:AD208,A390,TRUE)","v":{"$error":"#N/A"}},{"$f":"Constraints!P187","v":4}]
[5,null,{"$f":"HLOOKUP($I$10,Constraints!$Q$176:AD209,A391,TRUE)","v":{"$error":"#N/A"}},{"$f":"Constraints!P186","v":3.8}]
[4,null,{"$f":"HLOOKUP($I$10,Constraints!$Q$176:AD210,A392,TRUE)","v":{"$error":"#N/A"}},{"$f":"Constraints!P185","v":3.6}]
[3,null,{"$f":"HLOOKUP($I$10,Constraints!$Q$176:AD211,A393,TRUE)","v":{"$error":"#N/A"}},{"$f":"Constraints!P184","v":3.4}]
[2,null,{"$f":"HLOOKUP($I$10,Constraints!$Q$176:AD212,A394,TRUE)","v":{"$error":"#N/A"}},{"$f":"Constraints!P183","v":3.2}]
[null,null,{"$f":"HLOOKUP($I$10,Constraints!$Q$176:AD213,A395,TRUE)","v":{"$error":"#N/A"}},{"$f":"Constraints!P182","v":3}]
[null,null,{"$f":"HLOOKUP($I$10,Constraints!$Q$176:AD214,A396,TRUE)","v":{"$error":"#N/A"}},{"$f":"Constraints!P181","v":2.8}]
[null,null,{"$f":"HLOOKUP($I$10,Constraints!$Q$176:AD215,A397,TRUE)","v":{"$error":"#N/A"}},{"$f":"Constraints!P180","v":2.6}]
[null,null,{"$f":"HLOOKUP($I$10,Constraints!$Q$176:AD216,A398,TRUE)","v":{"$error":"#N/A"}},{"$f":"Constraints!P179","v":2.4}]
[null,null,{"$f":"HLOOKUP($I$10,Constraints!$Q$176:AD217,A399,TRUE)","v":{"$error":"#N/A"}},{"$f":"Constraints!P178","v":2.2000000000000002}]
[1,null,{"$f":"HLOOKUP($I$10,Constraints!$Q$176:AD218,A400,TRUE)","v":{"$error":"#N/A"}},{"$f":"Constraints!P177","v":2}]
[32]
[31]
[30]
[29,null,null,{"$f":"Constraints!P201","v":"Emax=8%"}]
[28]
[27,null,{"$f":"HLOOKUP($I$10,Constraints!$Q$203:AD234,A406,TRUE)","v":{"$error":"#N/A"}},{"$f":"Constraints!P203","v":"super"}]
[26,null,{"$f":"HLOOKUP($I$10,Constraints!$Q$203:AD235,A407,TRUE)","v":{"$error":"#N/A"}},{"$f":"INDEX(Constraints!$P$203:$P$234,A407,)","v":8}]
[25,null,{"$f":"HLOOKUP($I$10,Constraints!$Q$203:AD236,A408,TRUE)","v":{"$error":"#N/A"}},{"$f":"INDEX(Constraints!$P$203:$P$234,A408,)","v":7.8}]
[24,null,{"$f":"HLOOKUP($I$10,Constraints!$Q$203:AD237,A409,TRUE)","v":{"$error":"#N/A"}},{"$f":"INDEX(Constraints!$P$203:$P$234,A409,)","v":7.6}]
[23,null,{"$f":"HLOOKUP($I$10,Constraints!$Q$203:AD238,A410,TRUE)","v":{"$error":"#N/A"}},{"$f":"INDEX(Constraints!$P$203:$P$234,A410,)","v":7.4}]
[22,null,{"$f":"HLOOKUP($I$10,Constraints!$Q$203:AD239,A411,TRUE)","v":{"$error":"#N/A"}},{"$f":"INDEX(Constraints!$P$203:$P$234,A411,)","v":7.2}]
[21,null,{"$f":"HLOOKUP($I$10,Constraints!$Q$203:AD240,A412,TRUE)","v":{"$error":"#N/A"}},{"$f":"INDEX(Constraints!$P$203:$P$234,A412,)","v":7}]
[20,null,{"$f":"HLOOKUP($I$10,Constraints!$Q$203:AD241,A413,TRUE)","v":{"$error":"#N/A"}},{"$f":"INDEX(Constraints!$P$203:$P$234,A413,)","v":6.8}]
[19,null,{"$f":"HLOOKUP($I$10,Constraints!$Q$203:AD242,A414,TRUE)","v":{"$error":"#N/A"}},{"$f":"INDEX(Constraints!$P$203:$P$234,A414,)","v":6.6}]
[18,null,{"$f":"HLOOKUP($I$10,Constraints!$Q$203:AD243,A415,TRUE)","v":{"$error":"#N/A"}},{"$f":"INDEX(Constraints!$P$203:$P$234,A415,)","v":6.4}]
[17,null,{"$f":"HLOOKUP($I$10,Constraints!$Q$203:AD244,A416,TRUE)","v":{"$error":"#N/A"}},{"$f":"INDEX(Constraints!$P$203:$P$234,A416,)","v":6.2}]
[16,null,{"$f":"HLOOKUP($I$10,Constraints!$Q$203:AD245,A417,TRUE)","v":{"$error":"#N/A"}},{"$f":"INDEX(Constraints!$P$203:$P$234,A417,)","v":6}]
[15,null,{"$f":"HLOOKUP($I$10,Constraints!$Q$203:AD246,A418,TRUE)","v":{"$error":"#N/A"}},{"$f":"INDEX(Constraints!$P$203:$P$234,A418,)","v":5.8}]
[14,null,{"$f":"HLOOKUP($I$10,Constraints!$Q$203:AD247,A419,TRUE)","v":{"$error":"#N/A"}},{"$f":"INDEX(Constraints!$P$203:$P$234,A419,)","v":5.6}]
[13,null,{"$f":"HLOOKUP($I$10,Constraints!$Q$203:AD248,A420,TRUE)","v":{"$error":"#N/A"}},{"$f":"INDEX(Constraints!$P$203:$P$234,A420,)","v":5.4}]
[12,null,{"$f":"HLOOKUP($I$10,Constraints!$Q$203:AD249,A421,TRUE)","v":{"$error":"#N/A"}},{"$f":"INDEX(Constraints!$P$203:$P$234,A421,)","v":5.2}]
[11,null,{"$f":"HLOOKUP($I$10,Constraints!$Q$203:AD250,A422,TRUE)","v":{"$error":"#N/A"}},{"$f":"INDEX(Constraints!$P$203:$P$234,A422,)","v":5}]
[10,null,{"$f":"HLOOKUP($I$10,Constraints!$Q$203:AD251,A423,TRUE)","v":{"$error":"#N/A"}},{"$f":"INDEX(Constraints!$P$203:$P$234,A423,)","v":4.8}]
[9,null,{"$f":"HLOOKUP($I$10,Constraints!$Q$203:AD252,A424,TRUE)","v":{"$error":"#N/A"}},{"$f":"INDEX(Constraints!$P$203:$P$234,A424,)","v":4.5999999999999996}]
[8,null,{"$f":"HLOOKUP($I$10,Constraints!$Q$203:AD253,A425,TRUE)","v":{"$error":"#N/A"}},{"$f":"INDEX(Constraints!$P$203:$P$234,A425,)","v":4.4000000000000004}]
[7,null,{"$f":"HLOOKUP($I$10,Constraints!$Q$203:AD254,A426,TRUE)","v":{"$error":"#N/A"}},{"$f":"INDEX(Constraints!$P$203:$P$234,A426,)","v":4.2}]
[6,null,{"$f":"HLOOKUP($I$10,Constraints!$Q$203:AD255,A427,TRUE)","v":{"$error":"#N/A"}},{"$f":"INDEX(Constraints!$P$203:$P$234,A427,)","v":4}]
[5,null,{"$f":"HLOOKUP($I$10,Constraints!$Q$203:AD256,A428,TRUE)","v":{"$error":"#N/A"}},{"$f":"INDEX(Constraints!$P$203:$P$234,A428,)","v":3.8}]
[4,null,{"$f":"HLOOKUP($I$10,Constraints!$Q$203:AD257,A429,TRUE)","v":{"$error":"#N/A"}},{"$f":"INDEX(Constraints!$P$203:$P$234,A429,)","v":3.6}]
[3,null,{"$f":"HLOOKUP($I$10,Constraints!$Q$203:AD258,A430,TRUE)","v":{"$error":"#N/A"}},{"$f":"INDEX(Constraints!$P$203:$P$234,A430,)","v":3.4}]
[2,null,{"$f":"HLOOKUP($I$10,Constraints!$Q$203:AD259,A431,TRUE)","v":{"$error":"#N/A"}},{"$f":"INDEX(Constraints!$P$203:$P$234,A431,)","v":3.2}]
[null,null,{"$f":"HLOOKUP($I$10,Constraints!$Q$203:AD260,A432,TRUE)","v":{"$error":"#N/A"}},{"$f":"INDEX(Constraints!$P$203:$P$234,A432,)","v":3}]
[null,null,{"$f":"HLOOKUP($I$10,Constraints!$Q$203:AD261,A433,TRUE)","v":{"$error":"#N/A"}},{"$f":"INDEX(Constraints!$P$203:$P$234,A433,)","v":2.8}]
[null,null,{"$f":"HLOOKUP($I$10,Constraints!$Q$203:AD262,A434,TRUE)","v":{"$error":"#N/A"}},{"$f":"INDEX(Constraints!$P$203:$P$234,A434,)","v":2.6}]
[null,null,{"$f":"HLOOKUP($I$10,Constraints!$Q$203:AD263,A435,TRUE)","v":{"$error":"#N/A"}},{"$f":"INDEX(Constraints!$P$203:$P$234,A435,)","v":2.4}]
[null,null,{"$f":"HLOOKUP($I$10,Constraints!$Q$203:AD264,A436,TRUE)","v":{"$error":"#N/A"}},{"$f":"INDEX(Constraints!$P$203:$P$234,A436,)","v":2.2000000000000002}]
[null,null,{"$f":"HLOOKUP($I$10,Constraints!$Q$203:AD265,A437,TRUE)","v":{"$error":"#N/A"}},{"$f":"INDEX(Constraints!$P$203:$P$234,A437,)","v":2}]

{"sheet":"Configuration 2","index":12,"n_rows":443,"n_cols":113,"rows_kept":443,"cut":false,"hidden":false,"merged":[[87,1,87,2],[88,1,88,2],[89,1,89,2],[97,10,97,12],[69,16,69,21],[69,22,69,23],[70,16,70,21],[70,22,70,23],[71,16,71,21],[71,22,71,23],[68,16,68,21],[68,22,68,23],[17,2,17,8],[18,2,18,8],[19,2,19,8],[20,5,20,7],[41,9,41,10],[46,2,47,2],[4,21,44,28],[48,12,48,19],[55,15,55,16],[55,18,55,19],[55,21,55,22],[67,16,67,23],[4,3,4,4],[9,3,9,4],[9,5,9,6],[10,3,10,4],[10,5,10,6],[8,3,8,4],[8,5,8,6],[12,2,15,4],[12,5,12,6],[13,5,13,6],[14,5,14,6],[11,5,11,6],[1,6,2,7],[1,8,2,8],[1,21,1,37],[2,1,2,4],[2,21,3,28],[2,30,3,37],[3,1,3,4],[3,6,4,7],[3,8,4,8],[4,1,4,2],[4,30,44,37],[5,1,5,2],[5,3,5,4],[6,1,6,7],[7,1,7,4],[7,7,7,8]]}
[]
[null,null,null,null,null,null,"Preferred Schematic View to Display",null,"Standard",null,null,null,null,null,null,null,null,null,null,null,null,"NOTES: "]
[null,"CHARACTERISTICS TO CONSIDER FOR ANALYSIS",null,null,null,null,null,null,null,null,null,null,null,null,null,null,null,null,null,null,null,"ELEMENTS INCREASING SAFETY",null,null,null,null,null,null,null,null,"COMMENTS ON PRIMARY CONSTRAINTS"]
[null,"INPUT INSTRUCTIONS",null,null,null,null,"Relative to",null,"Existing"]
[null,"Blue Boxes -- Select from pulldown options",null,"Select from Pulldown"]
[null,"Yellow Boxes -- Type input information into box",null,"Type Input Value"]
[null," Rural Multi-Lane Road Segment -- Safety Score Input",null,null,null,null,null,null,null,null,null,null,null,null,null,null,null,null,null,null,null,null,null,null,null,null,null,null,null,null,null,null,null,null,null,null,null,null,null,null,null,null,null,null,null,null,null,null,null,null,null,null,null,null,null,null,null,null,null,null,null,null,null,null,null,null,null,null,null,null,null,null,null,null,null,null,null,null,null,null,null,null,null,"Unadjusted Marginal Safety"]
[null,"General Information:",null,null,null,"General Site Features",null,{"$f":" I315 & \" Missing Features and Curves\"","v":"9 Missing Features and Curves"},null,null,null,null,null,null,null,null,null,null,null,null,null,null,null,null,null,null,null,null,null,null,null,null,null,null,null,null,null,null,null,null,null,null,null,null,null,null,null,null,null,null,null,null,null,null,null,null,null,null,null,null,null,null,null,null,null,null,null,null,null,null,null,null,null,null,null,null,null,null,null,null,null,null,null,{"$f":"I2&\" relative to \" &I4","v":"Standard relative to Existing"}]
[null,null,"Analyst:",{"$f":"+'Start Here'!H7","v":0},null,"Location "]
[null,null,"Agency or Company:",{"$f":"+'Start Here'!H8","v":0},null,"Design Speed (mph)"]
[null,null,"Date:",{"$f":"+'Start Here'!H9","v":"00:00:00"},null,"Posted Speed (mph)"]
[null,null,"Description:",null,null,"E max (%)"]
[null,null,"Input additional site information here",null,null,"    Design Year AADT (vehicles per day)"]
[null,null,null,null,null,"    Dist. from Centerline to Left   ROW (feet)"]
[null,null,null,null,null,"    Dist. from Centerline to Right ROW (feet)"]
[]
[null,"Warning:"]
[null,null,{"$f":"+IF(+I11>I10,\"Posted speed exceeds design speed. Optimal safety will only be achieved if design speed exceeds posted speed. The Safety Assessment Score is based on the higher of the two speed values.\",\"No speed warnings identified\")","v":"No speed warnings identified"}]
[null,null,{"$f":"IF(OR(F24=INDEX(MedConf_Header,1,3),+G24=INDEX(MedConf_Header,1,3)), \"Multilane undivided facilities are known to have substantially more collisions than multilane facilities with medians. In new construction a median or TWLTL should be considered.\",\" \")","v":" "},null,null,null,null,null,null,null,null,null,null,null,null,null,null,null,null,null,null,null,null,null,null,null,null,null,null,null,null,null,null,null,null,null,null,null,null,null,null,null,null,null,null,null,null,null,null,null,null,null,null,null,null,null,null,null,null,null,null,null,null,null,null,null,null,null,null,null,null,null,null,null,null,null,null,null,null,null,null,null,null,null,null,null,null,null,null,null,null,null,null,null,null,null,null,null,null,null,null,null,null,null,null,{"$f":"COUNTIF(DB23:DB46,DB20)","v":1}]
[null,null,{"$f":"IF(I13=\"40,001 < AADT < 60,000\", \"Multi-lane Road Should be Divided Due to High AADT Value\",\"\")","v":""},null,null,null,null,null,null,null,null,null,null,null,null,null,null,null,null,null,null,null,null,null,null,null,null,null,null,null,null,null,null,null,null,null,null,null,null,null,null,null,null,null,null,null,null,null,null,null,null,null,null,null,null,null,null,null,null,null,null,null,null,null,null,null,null,null,null,null,null,null,null,null,null,null,null,null,null,null,null,null,null,null,null,null,null,null,null,null,null,null,null,null,null,null,null,null,null,null,null,null,null,null,null,{"$f":"VLOOKUP(0,CZ23:DB46,3,)","v":10.01}]
[null,null,null,"Fill all elements",null,"To enter notes, use boxes to the right of the vortex ",null,null,null,null," "]
[null,{"$f":"+Construction!$I$2&\"  Total Available Points\"","v":"40  Total Available Points"},null,{"$f":" D249 & \" Missing Elements\"","v":"19 Missing Elements"},null,{"$f":" F249 & \" Missing Elements\"","v":"19 Missing Elements"},{"$f":" G249 & \" Missing Elements\"","v":"19 Missing Elements"},null,null,null,null,null,null,null,null,null,null,null,null,null,null,null,null,null,null,null,null,null,null,null,null,null,null,null,null,null,null,null,null,null,null,null,null,null,null,null,null,null,null,null,null,null,null,null,null,null,null,null,null,null,null,null,null,null,null,null,null,null,null,null,null,null,null,null,null,null,null,null,null,null,null,null,null,null,null,null,null,null,null,null,null,null,null,null,null,null,null,null,null,null,null,"Ranked element","CRF","abs","Re-rank","Rank","Ranked CRF","Element","New Element","crf.abs","rank","Sorted Element","Sorted CRF"]
[null,"Geometric Design Elements",null,"Existing","Standard (Based on Multi-lane Divided)","Design 1","Design 2",{"$f":"\"Marginal Safety for \"&$I$2&\" (compared to \" & $I$4 & \")\"","v":"Marginal Safety for Standard (compared to Existing)"},"Optimal (Based on Multi-lane Divided)",null,null,null,null,null,null,null,null,null,null,null,null,null,null,null,null,null,null,null,null,null,null,null,null,null,null,null,null,null,null,null,null,null,null,null,null,null,null,null,null,null,null,null,null,null,null,null,null,null,null,null,null,null,null,null,null,null,null,null,null,null,null,null,null,null,null,null,null,null,null,null,null,null,null,null,null,null,null,null,null,null,null,null,null,null,null,null,null,null,null,null,null,{"$f":"IF(CY23=0,\"\",DB23&\". \"&DD23)","v":""},{"$f":"H24","v":0},{"$f":"ABS(CY23)","v":0},{"$f":"_xlfn.RANK.EQ(DB23,$DB$23:$DB$46,1)","v":10},{"$f":"_xlfn.RANK.EQ(CZ23,$CZ$23:$CZ$46)+DG23/100","v":10.01},{"$f":"CY23","v":0},{"$f":"IF(ROUND(DF23,2)=0,\"\",C24)","v":""},{"$f":"DD23","v":""},{"$f":"CZ23","v":0},1,{"$f":"IFERROR(IF(IFERROR(VLOOKUP(DG23,$DA$23:$DF$46,4,)&\", \"&CY23=0,\"\"),\"\",IFERROR(VLOOKUP(DG23,$DA$23:$DE$46,4,),\"\")),\"\")","v":"Pavement Friction (skid number) ***"},{"$f":"IFERROR(IF(IFERROR(VLOOKUP(DG23,$DA$23:$DF$46,3,)&\", \"&CY23=0,\"\"),\"\",IFERROR(VLOOKUP(DG23,$DA$23:$DE$46,3,),\"\")),\"\")","v":0.28430956017940245}]
[null,null,"Configuration of Multilane Roadway",null,"Divided - Unsurfaced Median",null,null,null,"Divided - Unsurfaced Median",null,null,null,null,null,null,null,null,null,null,null,null,null,null,null,null,null,null,null,null,null,null,null,null,null,null,null,null,null,null,null,null,null,null,null,null,null,null,null,null,null,null,null,null,null,null,null,null,null,null,null,null,null,null,null,null,null,null,null,null,null,null,null,null,null,null,null,null,null,null,null,null,null,null,null,null,null,null,null,null,null,null,null,null,null,null,null,null,null,null,null,null,"5.02. Median Configuration (Width or Type)",{"$f":"H25","v":8.9999999999999969E-2},8.9999999999999969E-2,{"$f":"_xlfn.RANK.EQ(DB24,$DB$23:$DB$46,1)","v":5},{"$f":"_xlfn.RANK.EQ(CZ24,$CZ$23:$CZ$46)+DG24/100","v":5.0199999999999996},{"$f":"CY24","v":8.9999999999999969E-2},{"$f":"IF(ROUND(DF24,2)=0,\"\",C25)","v":"Median Configuration (Width or Type)"},{"$f":"DD24","v":"Median Configuration (Width or Type)"},8.9999999999999969E-2,2,{"$f":"IFERROR(IF(IFERROR(VLOOKUP(DG24,$DA$23:$DF$46,4,)&\", \"&CY24=0,\"\"),\"\",IFERROR(VLOOKUP(DG24,$DA$23:$DE$46,4,),\"\")),\"\")","v":"Driveway Density (driveways per mile)"},{"$f":"IFERROR(IF(IFERROR(VLOOKUP(DG24,$DA$23:$DF$46,3,)&\", \"&CY24=0,\"\"),\"\",IFERROR(VLOOKUP(DG24,$DA$23:$DE$46,3,),\"\")),\"\")","v":-0.22388114201141129}]
[null,null,"Median Configuration (Width or Type)",null,30,null,null,{"$f":"M103","v":8.9999999999999969E-2},100,null,null,null,null,null,null,null,null,null,null,null,null,null,null,null,null,null,null,null,null,null,null,null,null,null,null,null,null,null,null,null,null,null,null,null,null,null,null,null,null,null,null,null,null,null,null,null,null,null,null,null,null,null,null,null,null,null,null,null,null,null,null,null,null,null,null,null,null,null,null,null,null,null,null,null,null,null,null,null,null,null,null,null,null,null,null,null,null,null,null,null,null,"",{"$f":"H27","v":0},0,11,10.029999999999999,{"$f":"CY25","v":0},{"$f":"IF(ROUND(DF25,2)=0,\"\",C27)","v":""},{"$f":"DD25","v":""},0,3,{"$f":"IFERROR(IF(IFERROR(VLOOKUP(DG25,$DA$23:$DF$46,4,)&\", \"&CY25=0,\"\"),\"\",IFERROR(VLOOKUP(DG25,$DA$23:$DE$46,4,),\"\")),\"\")","v":"Average Outside Shoulder Width (feet)"},{"$f":"IFERROR(IF(IFERROR(VLOOKUP(DG25,$DA$23:$DF$46,3,)&\", \"&CY25=0,\"\"),\"\",IFERROR(VLOOKUP(DG25,$DA$23:$DE$46,3,),\"\")),\"\")","v":0.18061674008810569}]
[null,null,null,null,null,null,null,null,null,null,null,null,null,null,null,null,null,null,null,null,null,null,null,null,null,null,null,null,null,null,null,null,null,null,null,null,null,null,null,null,null,null,null,null,null,null,null,null,null,null,null,null,null,null,null,null,null,null,null,null,null,null,null,null,null,null,null,null,null,null,null,null,null,null,null,null,null,null,null,null,null,null,null,null,null,null,null,null,null,null,null,null,null,null,null,null,null,null,null,null,null,null,null,null,null,null,null,null,null,null,4,{"$f":"IFERROR(IF(IFERROR(VLOOKUP(DG26,$DA$23:$DF$46,4,)&\", \"&CY26=0,\"\"),\"\",IFERROR(VLOOKUP(DG26,$DA$23:$DE$46,4,),\"\")),\"\")","v":"Roadside Sideslope (Foreslope)"},{"$f":"IFERROR(IF(IFERROR(VLOOKUP(DG26,$DA$23:$DF$46,3,)&\", \"&CY26=0,\"\"),\"\",IFERROR(VLOOKUP(DG26,$DA$23:$DE$46,3,),\"\")),\"\")","v":0.15697622474810147}]
[null,null,"Lane Width (feet)",null,12,null,null,{"$f":"M104","v":0},12,null,null,null,null,null,null,null,null,null,null,null,null,null,null,null,null,null,null,null,null,null,null,null,null,null,null,null,null,null,null,null,null,null,null,null,null,null,null,null,null,null,null,null,null,null,null,null,null,null,null,null,null,null,null,null,null,null,null,null,null,null,null,null,null,null,null,null,null,null,null,null,null,null,null,null,null,null,null,null,null,null,null,null,null,null,null,null,null,null,null,null,null,null,null,null,null,null,null,null,null,null,5,"Median Configuration (Width or Type)",8.9999999999999969E-2]
[null,null,"Average Outside Shoulder Width (feet)",null,8,null,null,{"$f":"M105","v":0.18061674008810569},10,null,null,null,null,null,null,null,null,null,null,null,null,null,null,null,null,null,null,null,null,null,null,null,null,null,null,null,null,null,null,null,null,null,null,null,null,null,null,null,null,null,null,null,null,null,null,null,null,null,null,null,null,null,null,null,null,null,null,null,null,null,null,null,null,null,null,null,null,null,null,null,null,null,null,null,null,null,null,null,null,null,null,null,null,null,null,null,null,null,null,null,null,{"$f":"IF(CY28=0,\"\",DB28&\". \"&DD28)","v":"3.06. Average Outside Shoulder Width (feet)"},{"$f":"H28","v":0.18061674008810569},{"$f":"ABS(CY28)","v":0.18061674008810569},3,3.06,{"$f":"CY28","v":0.18061674008810569},{"$f":"IF(ROUND(DF28,2)=0,\"\",C28)","v":"Average Outside Shoulder Width (feet)"},{"$f":"DD28","v":"Average Outside Shoulder Width (feet)"},{"$f":"CZ28","v":0.18061674008810569},6,"Roadside Lateral Clearance to Obstruction (ft)",6.4777606999867676E-2]
[null,null,"Average Inside Shoulder Width (feet)",null,4,null,null,{"$f":"M106","v":0},10,null,null,null,null,null,null,null,null,null,null,null,null,null,null,null,null,null,null,null,null,null,null,null,null,null,null,null,null,null,null,null,null,null,null,null,null,null,null,null,null,null,null,null,null,null,null,null,null,null,null,null,null,null,null,null,null,null,null,null,null,null,null,null,null,null,null,null,null,null,null,null,null,null,null,null,null,null,null,null,null,null,null,null,null,null,null,null,null,null,null,null,null,{"$f":"IF(CY29=0,\"\",DB29&\". \"&DD29)","v":""},{"$f":"H33","v":0},{"$f":"ABS(CY29)","v":0},12,10.07,0,{"$f":"IF(ROUND(DF29,2)=0,\"\",\"Hz and Vt Alignment\")","v":""},"",{"$f":"CZ29","v":0},7,"Safety Edge",-2.3424031600265627E-2]
["",null,"Number of Lanes per Direction of Travel",null,2,null,null,null,2,null,null,null,null,null,null,null,null,null,null,null,null,null,null,null,null,null,null,null,null,null,null,null,null,null,null,null,null,null,null,null,null,null,null,null,null,null,null,null,null,null,null,null,null,null,null,null,null,null,null,null,null,null,null,null,null,null,null,null,null,null,null,null,null,null,null,null,null,null,null,null,null,null,null,null,null,null,null,null,null,null,null,null,null,null,null,null,null,null,null,null,null,{"$f":"IF(CY30=0,\"\",DB30&\". \"&DD30)","v":""},{"$f":"H29","v":0},{"$f":"ABS(CY30)","v":0},13,10.08,0,{"$f":"IF(ROUND(DF30,2)=0,\"\",C29)","v":""},"",{"$f":"CZ30","v":0},8,"Shoulder Rumble Strips",2.2875008800570917E-2]
[null,null,"Horizontal Curve Present?","--","--","--","--",null,"--",null,null,null,null,null,null,null,null,null,null,null,null,null,null,null,null,null,null,null,null,null,null,null,null,null,null,null,null,null,null,null,null,null,null,null,null,null,null,null,null,null,null,null,null,null,null,null,null,null,null,null,null,null,null,null,null,null,null,null,null,null,null,null,null,null,null,null,null,null,null,null,null,null,null,null,null,null,null,null,null,null,null,null,null,null,null,null,null,null,null,null,null,{"$f":"IF(CY31=0,\"\",DB31&\". \"&DD31)","v":""},{"$f":"H47","v":0},{"$f":"ABS(CY31)","v":0},14,10.09,0,{"$f":"IF(ROUND(DF31,2)=0,\"\",C47)","v":""},"",{"$f":"CZ31","v":0},9,"Lighting",-1.7096579124742384E-2]
[null,null,"Horizontal Curve Data for Controlling Element:","--","--","--","--",null,"--",null,null,null,null,null,null,null,null,null,null,null,null,null,null,null,null,null,null,null,null,null,null,null,null,null,null,null,null,null,null,null,null,null,null,null,null,null,null,null,null,null,null,null,null,null,null,null,null,null,null,null,null,null,null,null,null,null,null,null,null,null,null,null,null,null,null,null,null,null,null,null,null,null,null,null,null,null,null,null,null,null,null,null,null,null,null,null,null,null,null,null,null,"",{"$f":"H48","v":0},0,15,10.1,0,{"$f":"IF(ROUND(DF32,2)=0,\"\",C48)","v":""},"",0,10,"",0]
[null,null,"  Radius (feet)",null,{"$f":"IF(MAX($I$10,$I$11)<45,590,IF($I$12=6,VLOOKUP(MAX($I$10,$I$11),Construction!$B$27:$D$34,2,TRUE),VLOOKUP(MAX($I$10,$I$11),Construction!$G$27:$I$34,2,TRUE)))","v":590},null,null,{"$f":"M144","v":0},{"$f":"IF(MAX($I$10,$I$11)<45,590,IF($I$12=6,VLOOKUP(MAX($I$10,$I$11),Construction!$B$43:$C$50,2,TRUE),VLOOKUP(MAX($I$10,$I$11),Construction!$G$43:$H$50,2,TRUE)))","v":590},null,null,null,null,null,null,null,null,null,null,null,null,null,null,null,null,null,null,null,null,null,null,null,null,null,null,null,null,null,null,null,null,null,null,null,null,null,null,null,null,null,null,null,null,null,null,null,null,null,null,null,null,null,null,null,null,null,null,null,null,null,null,null,null,null,null,null,null,null,null,null,null,null,null,null,null,null,null,null,null,null,null,null,null,null,null,null,null,null,null,null,null,"",{"$f":"H56","v":0},0,16,10.11,0,{"$f":"IF(ROUND(DF33,2)=0,\"\",C56)","v":""},"",0,11,"",0]
[null,null,"Length of Horizontal Curve (feet)",null,{"$f":"IF(D35=\"\", \"\", E33*E35/57.296)","v":""},null,null,null,{"$f":"I33*I35/57.296","v":3758.5520804244625},null,null,null,null,null,null,null,null,null,null,null,null,null,null,null,null,null,null,null,null,null,null,null,null,null,null,null,null,null,null,null,null,null,null,null,null,null,null,null,null,null,null,null,null,null,null,null,null,null,null,null,null,null,null,null,null,null,null,null,null,null,null,null,null,null,null,null,null,null,null,null,null,null,null,null,null,null,null,null,null,null,null,null,null,null,null,null,null,null,null,null,null,"",0,0,17,10.119999999999999,0,"","",0,12,"",0]
[null,null,"Calculated Deflection Angle ∆",{"$f":"IF(OR(ISBLANK(D33),ISBLANK(D34),$B$31=\"No\",ISBLANK($B$31)),\"\",ROUND(D34/D33*57.296,1))","v":""},{"$f":"IF(ISBLANK(D35), \"\",D35)","v":""},{"$f":"IF(OR(ISBLANK(F33),ISBLANK(F34),$B$31=\"No\",ISBLANK($B$31)),\"\",ROUND(F34/F33*57.296,1))","v":""},{"$f":"IF(OR(ISBLANK(G33),ISBLANK(G34),$B$31=\"No\",ISBLANK($B$31)),\"\",ROUND(G34/G33*57.296,1))","v":""},null,{"$f":"MIN(D35,IF(F37=INDEX(HCurveChange,1,0), F35, 365),IF(G37=INDEX(HCurveChange,1,0), G35, 365))","v":365},null,null,null,null,null,null,null,null,null,null,null,null,null,null,null,null,null,null,null,null,null,null,null,null,null,null,null,null,null,null,null,null,null,null,null,null,null,null,null,null,null,null,null,null,null,null,null,null,null,null,null,null,null,null,null,null,null,null,null,null,null,null,null,null,null,null,null,null,null,null,null,null,null,null,null,null,null,null,null,null,null,null,null,null,null,null,null,null,null,null,null,null,"",0,0,18,10.130000000000001,0,"","",0,13,"",0]
[null,null,null,null,null,"∆ has changed. \nAre you changing the ∆?","∆ has changed. \nAre you changing the ∆?",null,null,null,null,null,null,null,null,null,null,null,null,null,null,null,null,null,null,null,null,null,null,null,null,null,null,null,null,null,null,null,null,null,null,null,null,null,null,null,null,null,null,null,null,null,null,null,null,null,null,null,null,null,null,null,null,null,null,null,null,null,null,null,null,null,null,null,null,null,null,null,null,null,null,null,null,null,null,null,null,null,null,null,null,null,null,null,null,null,null,null,null,null,null,"",0,0,19,10.14,0,"","",0,14,"",0]
[null,null,null,null,null,null,null,null,null,null,null,null,null,null,null,null,null,null,null,null,null,null,null,null,null,null,null,null,null,null,null,null,null,null,null,null,null,null,null,null,null,null,null,null,null,null,null,null,null,null,null,null,null,null,null,null,null,null,null,null,null,null,null,null,null,null,null,null,null,null,null,null,null,null,null,null,null,null,null,null,null,null,null,null,null,null,null,null,null,null,null,null,null,null,null,null,null,null,null,null,null,"8.15. Shoulder Rumble Strips",2.2875008800570917E-2,2.2875008800570917E-2,8,8.15,2.2875008800570917E-2,"Shoulder Rumble Strips","Shoulder Rumble Strips",2.2875008800570917E-2,15,"",0]
[null,null,"Vertical Curve Present?","--","--","--","--",null,{"$f":"E38","v":"--"},null,null,null,null,null,null,null,null,null,null,null,null,null,null,null,null,null,null,null,null,null,null,null,null,null,null,null,null,null,null,null,null,null,null,null,null,null,null,null,null,null,null,null,null,null,null,null,null,null,null,null,null,null,null,null,null,null,null,null,null,null,null,null,null,null,null,null,null,null,null,null,null,null,null,null,null,null,null,null,null,null,null,null,null,null,null,null,null,null,null,null,null,"",0,0,20,10.16,0,"","",0,16,"",0]
[null,null,"Vertical Curve Data for Controlling Element:","--","--","--","--",null,"--",null,null,null,null,null,null,null,null,null,null,null,null,null,null,null,null,null,null,null,null,null,null,null,null,null,null,null,null,null,null,null,null,null,null,null,null,null,null,null,null,null,null,null,null,null,null,null,null,null,null,null,null,null,null,null,null,null,null,null,null,null,null,null,null,null,null,null,null,null,null,null,null,null,null,null,null,null,null,null,null,null,null,null,null,null,null,null,null,null,null,null,null,"2.17. Driveway Density (driveways per mile)",-0.22388114201141129,0.22388114201141129,2,2.17,-0.22388114201141129,{"$f":"IF(DF39=0,\"\",C62)","v":"Driveway Density (driveways per mile)"},"Driveway Density (driveways per mile)",0.22388114201141129,17,"",0]
[null,null,"  Approach (Entry) Grade, G1 (%)",null,{"$f":"IF(ISBLANK(D40),\"\", D40)","v":""},null,null,null,{"$f":"IF(B38=\"Yes\",I231,I241)","v":""},null,null,null,null,null,null,null,null,null,null,null,null,null,null,null,null,null,null,null,null,null,null,null,null,null,null,null,null,null,null,null,null,null,null,null,null,null,null,null,null,null,null,null,null,null,null,null,null,null,null,null,null,null,null,null,null,null,null,null,null,null,null,null,null,null,null,null,null,null,null,null,null,null,null,null,null,null,null,null,null,null,null,null,null,null,null,null,null,null,null,null,null,"9.18. Lighting",-1.7096579124742384E-2,1.7096579124742384E-2,9,9.18,-1.7096579124742384E-2,{"$f":"IF(DF40=0,\"\",C63)","v":"Lighting"},"Lighting",1.7096579124742384E-2,18,"",0]
[null,null,"  Departure (Exit) Grade, G2 (%)",null,{"$f":"IF(ISBLANK(D41),\"\", D41)","v":""},null,null,null,{"$f":"IF($B$38=\"Yes\",I232,\"\")","v":""},null,null,null,null,null,null,null,null,null,null,null,null,null,null,null,null,null,null,null,null,null,null,null,null,null,null,null,null,null,null,null,null,null,null,null,null,null,null,null,null,null,null,null,null,null,null,null,null,null,null,null,null,null,null,null,null,null,null,null,null,null,null,null,null,null,null,null,null,null,null,null,null,null,null,null,null,null,null,null,null,null,null,null,null,null,null,null,null,null,null,null,null,"1.19. Pavement Friction (skid number) ***",0.28430956017940245,0.28430956017940245,1,1.19,0.28430956017940245,{"$f":"IF(DF41=0,\"\",C64)","v":"Pavement Friction (skid number) ***"},"Pavement Friction (skid number) ***",0.28430956017940245,19,"",0]
[null,null,"  Length (feet)",null,{"$f":"IF(AND($B$38=\"Yes\", D43<>\"\"), ABS(E40-E41)*D43, \"\")","v":""},null,null,null,{"$f":"IF(AND($B$38=\"Yes\",I40<>\"\",I41<>\"\", NOT(ISBLANK($I$10)), NOT(ISBLANK($I$11))),ABS(I41-I40)*I43,\"\")","v":""},null,null,null,null,null,null,null,null,null,null,null,null,null,null,null,null,null,null,null,null,null,null,null,null,null,null,null,null,null,null,null,null,null,null,null,null,null,null,null,null,null,null,null,null,null,null,null,null,null,null,null,null,null,null,null,null,null,null,null,null,null,null,null,null,null,null,null,null,null,null,null,null,null,null,null,null,null,null,null,null,null,null,null,null,null,null,null,null,null,null,null,null,"4.2. Roadside Sideslope (Foreslope)",{"$f":"H75","v":0.15697622474810147},0.15697622474810147,4,4.2,0.15697622474810147,{"$f":"IF(DF42=0,\"\",C75)","v":"Roadside Sideslope (Foreslope)"},"Roadside Sideslope (Foreslope)",0.15697622474810147,20,"",0]
[null,null,"  Calculated Rate of Change, K (ft/ft)",{"$f":"IF(OR($B$38=\"No\",ISBLANK($B$38), ISBLANK(D40), ISBLANK(D41),ISBLANK(D42), D40=D41), \"\", ROUND(D42/(ABS(D41-D40)),1))","v":""},{"$f":"IF(AND($B$38=\"Yes\", NOT(ISBLANK($I$10)), NOT(ISBLANK($I$11)), D43<>\"\"), IF($E$46=\"Crest\",  VLOOKUP(MAX($I$10,$I$11),Construction!$B$159:$D$171,2,TRUE), VLOOKUP(MAX($I$10,$I$11),Construction!$B$159:$D$171,3,TRUE)), \"\")","v":""},{"$f":"IF(AND($B$38=\"Yes\", SUM(F267:F269)=0),ROUND(F42/(ABS(F41-F40)),1),\"\")","v":""},{"$f":"IF(AND($B$38=\"Yes\", SUM(G267:G269)=0),ROUND(G42/(ABS(G41-G40)),1),\"\")","v":""},null,{"$f":"IF(OR($B$38<>\"Yes\", ISBLANK($I$10), ISBLANK($I$11), $I$40=\"\", $I$41=\"\", $I$46=\"--\", ISBLANK($I$46)),\"\",IF(I$46=\"Crest\",VLOOKUP(MAX($I$10,$I$11),Construction!$B$177:$D$189,2,TRUE),VLOOKUP(MAX($I$10,$I$11),Construction!$B$177:$D$189,3,TRUE)))","v":""},null,null,null,null,null,null,null,null,null,null,null,null,null,null,null,null,null,null,null,null,null,null,null,null,null,null,null,null,null,null,null,null,null,null,null,null,null,null,null,null,null,null,null,null,null,null,null,null,null,null,null,null,null,null,null,null,null,null,null,null,null,null,null,null,null,null,null,null,null,null,null,null,null,null,null,null,null,null,null,null,null,null,null,null,null,null,null,null,null,null,null,null,"",{"$f":"H76","v":0},0,21,10.210000000000001,0,{"$f":"IF(DF43=0,\"\",C76)","v":""},"",0,21,"",0]
[null,null,null,null,null,"Are you changing the geometry?","Are you changing the geometry?",null,null,null,null,null,null,null,null,null,null,null,null,null,null,null,null,null,null,null,null,null,null,null,null,null,null,null,null,null,null,null,null,null,null,null,null,null,null,null,null,null,null,null,null,null,null,null,null,null,null,null,null,null,null,null,null,null,null,null,null,null,null,null,null,null,null,null,null,null,null,null,null,null,null,null,null,null,null,null,null,null,null,null,null,null,null,null,null,null,null,null,null,null,null,"7.22. Safety Edge",{"$f":"H77","v":-2.3424031600265627E-2},2.3424031600265627E-2,7,7.22,-2.3424031600265627E-2,{"$f":"IF(DF44=0,\"\",C77)","v":"Safety Edge"},"Safety Edge",2.3424031600265627E-2,22,"",0]
[null,null,null,null,null,null,null,null,null,null,null,null,null,null,null,null,null,null,null,null,null,null,null,null,null,null,null,null,null,null,null,null,null,null,null,null,null,null,null,null,null,null,null,null,null,null,null,null,null,null,null,null,null,null,null,null,null,null,null,null,null,null,null,null,null,null,null,null,null,null,null,null,null,null,null,null,null,null,null,null,null,null,null,null,null,null,null,null,null,null,null,null,null,null,null,null,null,null,null,null,null,"6.23. Roadside Lateral Clearance to Obstruction (ft)",{"$f":"H78","v":6.4777606999867676E-2},6.4777606999867676E-2,6,6.23,6.4777606999867676E-2,{"$f":"IF(DF45=0,\"\",C78)","v":"Roadside Lateral Clearance to Obstruction (ft)"},"Roadside Lateral Clearance to Obstruction (ft)",6.4777606999867676E-2,23,"",{"$f":"IFERROR(IF(IFERROR(VLOOKUP(DG45,$DA$23:$DF$46,3,)&\", \"&CY45=0,\"\"),\"\",IFERROR(VLOOKUP(DG45,$DA$23:$DE$46,3,),\"\")),\"\")","v":""}]
[null,null,"  Calculated Sag or Crest?",{"$f":"IF(AND($B$38=\"Yes\", SUM(D267:D269)=0),IF(D40>D41,\"Crest\",\"Sag\"),\"--\")","v":"--"},{"$f":"IF(AND($B$38=\"Yes\", SUM(D267:D269)=0),IF(E40>E41,\"Crest\",\"Sag\"),\"--\")","v":"--"},{"$f":"IF(AND($B$38=\"Yes\", SUM(F267:F269)=0),IF(F40>F41,\"Crest\",\"Sag\"),\"--\")","v":"--"},{"$f":"IF(AND($B$38=\"Yes\", SUM(G267:G269)=0),IF(G40>G41,\"Crest\",\"Sag\"),\"--\")","v":"--"},null,{"$f":"IF($B$38=\"Yes\",IF(I40>I41,\"Crest\",\"Sag\"),\"--\")","v":"--"},null,null,null,null,null,null,null,null,null,null,null,null,null,null,null,null,null,null,null,null,null,null,null,null,null,null,null,null,null,null,null,null,null,null,null,null,null,null,null,null,null,null,null,null,null,null,null,null,null,null,null,null,null,null,null,null,null,null,null,null,null,null,null,null,null,null,null,null,null,null,null,null,null,null,null,null,null,null,null,null,null,null,null,null,null,null,null,null,null,null,null,null,"",{"$f":"H79","v":0},0,22,10.24,0,{"$f":"IF(DF46=0,\"\",C79)","v":""},"",0,24,"",{"$f":"IFERROR(IF(IFERROR(VLOOKUP(DG46,$DA$23:$DF$46,3,)&\", \"&CY46=0,\"\"),\"\",IFERROR(VLOOKUP(DG46,$DA$23:$DE$46,3,),\"\")),\"\")","v":""}]
[]
[]
[null,null,"Geometric Design Element (Partial Score)",{"$f":"IF(OR(SUM(D251:D252,D254:D257,D260:D261,D267:D269)>0, ISERR(D129)),\"\",D129)","v":""},{"$f":"IF(OR(SUM(E251:E252,E254:E257,E260:E261,E267:E269)>0, ISERR(E129)),\"\",E129)","v":""},"","",null,{"$f":"IF(OR(SUM(I251:I252,I254:I257,I260:I261,I267:I269)>0, ISERR(I129)),\"\",I129)","v":""},null,null,null,"SCHEMATIC REPRESENTING INPUT DATA FOR ",null,null,null,null,null,null,null,{"$f":"IF($I$2=\"Existing\",\"EXISTING CONFIGURATION\",IF($I$2=\"Standard\",\"STANDARD OPTION\",IF($I$2=\"Design 1\",\"DESIGN 1 OPTION\",IF($I$2=\"Design 2\",\"DESIGN 2 OPTION\",\"OPTIMAL OPTION\"))))","v":"STANDARD OPTION"}]
[null,null,"Total Safety Score",{"$f":"IF(OR(D$249>0, $I$315>0, ISERROR(D$205+D$175+D$129)),\"\",D$205+D$175+D$129)","v":""},{"$f":"IF(OR(E$249>0, $I$315>0, ISERROR(E$205+E$175+E$129)),\"\",E$205+E$175+E$129)","v":""},{"$f":"IF(OR(F$249>0, $I$315>0, ISERROR(F$205+F$175+F$129)),\"\",F$205+F$175+F$129)","v":""},{"$f":"IF(OR(G$249>0, $I$315>0, ISERROR(G$205+G$175+G$129)),\"\",G$205+G$175+G$129)","v":""},null,{"$f":"IF(OR(I$249>0, $I$315>0, ISERROR(I$205+I$175+I$129)),\"\",I$205+I$175+I$129)","v":""}]
[null,null,null,null,null,null,null,null,null,null,null,"LT",null,null,null,null,null,null,null,null,null,null,null,null,null,null,"RT"]
[null,null,null,null,null,null,null,null,null,null,null,"R/W",null,null,null,null,null,null,{"$f":"+O54+W54","v":0},null,null,null,null,null,null,null,"R/W"]
[]
[null,{"$f":"+Construction!$I$3&\"  Total Available Points\"","v":"20  Total Available Points"},null,null,null,null,null,null,null,null,null,null,null,null,{"$f":"+$I$14","v":0},null,null,null,null,null,null,null,{"$f":"+$I$15","v":0}]
[null,"Traffic Elements",null,"Existing","Standard","Design 1","Design 2",{"$f":"H23","v":"Marginal Safety for Standard (compared to Existing)"},"Optimal"]
[null,null,"Advance Static Curve Warning Signs",null,"No",null,null,{"$f":"M149","v":0},"Yes",null,null,{"$f":"+O54-N56-P56","v":-32},null,{"$f":"IF(+$I$2=\"Existing\",D28,IF($I$2=\"Standard\",E28,IF($I$2=\"Design 1\",F28,IF($I$2=\"Design 2\",G28,I28))))","v":8},null,{"$f":"IF(+$I$2=\"Existing\",D27*D30,IF($I$2=\"Standard\",E27*E30,IF($I$2=\"Design 1\",F27*F30,IF($I$2=\"Design 2\",G27*G30,I27*I30))))","v":24},null,null,null,null,null,{"$f":"+P56","v":24},null,null,{"$f":"+N56","v":8},{"$f":"+W54-V56-Y56","v":-32}]
[null,null,"Chevron Signs on Horizontal Curves",null,"No",null,null,{"$f":"M150","v":0},"Yes"]
[null,null,"Post-Mounted Delineators",null,"No",null,null,{"$f":"M151","v":0},"Yes"]
[null,null,"Edgeline Pavement Markings or Profile Markings",null,"No",null,null,{"$f":"M152","v":0},"Yes"]
[null,null,"Shoulder Rumble Strips",null,"Yes",null,null,{"$f":"M154","v":2.2875008800570917E-2},"Yes"]
[null,null,"Centerline Rumble Strips",null,"No",null,null,{"$f":"M155","v":0},"Yes",null,null,null,null,null,null,null,null,null,"Tangent X-Section"]
[null,null,"Driveway Density (driveways per mile)",null,10,null,null,{"$f":"M156","v":-0.22388114201141129},0]
[null,null,"Lighting",null,"No",null,null,{"$f":"M157","v":-1.7096579124742384E-2},"Yes"]
[null,null,"Pavement Friction (skid number) ***",null,37,null,null,{"$f":"M158","v":0.28430956017940245},54]
[null,null,"Traffic Control Element (Partial Score):",{"$f":"IF(ISERROR(D175), \"\", D175)","v":12},{"$f":"IF(ISERROR(E175), \"\", E175)","v":14},"","",null,{"$f":"IF(ISERROR(I175), \"\", I175)","v":20}]
[null,null,"Total Safety Score",{"$f":"IF(OR(D$249>0, $I$315>0, ISERROR(D$205+D$175+D$129)),\"\",D$205+D$175+D$129)","v":""},{"$f":"IF(OR(E$249>0, $I$315>0, ISERROR(E$205+E$175+E$129)),\"\",E$205+E$175+E$129)","v":""},"","",null,{"$f":"IF(OR(I$249>0, $I$315>0, ISERROR(I$205+I$175+I$129)),\"\",I$205+I$175+I$129)","v":""}]
[null,null,null,null,null,null,null,null,null,null," "]
[null,null,"*** Pavement friction/skid numbers will not be subject to open records requests ***",null,null,null,null,null,null,null,null,null,null,null,null,null,{"$f":"IF($I$2=\"Existing\",\"SCORE SUMMARY FOR EXISTING CONFIGURATION\", IF($I$2=\"Standard\",\"SCORE SUMMARY FOR STANDARD OPTION\",IF($I$2=\"Design 1\",\"SCORE SUMMARY FOR DESIGN 1 OPTION\",IF($I$2=\"Design 2\",\"SCORE SUMMARY FOR DESIGN 2 OPTION\", \"SCORE SUMMARY FOR OPTIMAL OPTION\"))))","v":"SCORE SUMMARY FOR STANDARD OPTION"}]
[null,null,null,null,null,null,null,null,null,null,null,null,null,null,null,null,"GEOMETRIC DESIGN:",null,null,null,null,null,{"$f":"IF($I$2=\"Existing\",D49,IF($I$2=\"Standard\",E49,IF($I$2=\"Design 1\",F49,IF($I$2=\"Design 2\",G49,I49))))","v":""}]
[null,null,null,null,null,null,null,null,null,null,null,null,null,null,null,null,"TRAFFIC CONTROL:",null,null,null,null,null,{"$f":"IF($I$2=\"Existing\",D65,IF($I$2=\"Standard\",E65,IF($I$2=\"Design 1\",F65,IF($I$2=\"Design 2\",G65,I65))))","v":14}]
[null,null,null,null,null,null,null,null,null,null,null,null,null,null,null,null,"ROADSIDE:",null,null,null,null,null,{"$f":"IF($I$2=\"Existing\",D80,IF($I$2=\"Standard\",E80,IF($I$2=\"Design 1\",F80,IF($I$2=\"Design 2\",G80,I80))))","v":27}]
[null,null,null,null,null,null,null,null,null,null,null,null,null,null,null,null,"OVERALL SAFETY SCORE:",null,null,null,null,null,{"$f":"SUM(W69:X71)","v":41}]
[null,{"$f":"+Construction!$I$4&\"  Total Available Points\"","v":"40  Total Available Points"}]
[null,"Roadside  Elements",null,"Existing","Standard","Design 1","Design 2",{"$f":"H23","v":"Marginal Safety for Standard (compared to Existing)"},"Optimal"]
[null,null,"Roadside Sideslope (Foreslope)",null,"1V:4H",null,null,{"$f":"M184","v":0.15697622474810147},"1V:6H"]
[null,null,"Roadside Backslope",null,{"$f":"E75","v":"1V:4H"},null,null,{"$f":"M185","v":0},"1V:4H"]
[null,null,"Safety Edge",null,"No",null,null,-2.3424031600265627E-2,"Yes"]
[null,null,"Roadside Lateral Clearance to Obstruction (ft)",null,30,null,null,6.4777606999867676E-2,40]
[null,null,"Roadside Obstruction Type",null,"None",null,null,0,"None/Removed"]
[null,null,"Roadside Element (Partial Score):",{"$f":"IF(ISERR(D205),\"\",D205)","v":20},{"$f":"IF(ISERR(E205),\"\",E205)","v":27},20,20,null,{"$f":"IF(ISERR(I205),\"\",I205)","v":40},null,null,null,null,null,null,null,null,null,null,null,null,null,null," "]
[null,null,"Total Safety Score",{"$f":"IF(OR(D$249>0, $I$315>0, ISERROR(D$205+D$175+D$129)),\"\",D$205+D$175+D$129)","v":""},{"$f":"IF(OR(E$249>0, $I$315>0, ISERROR(E$205+E$175+E$129)),\"\",E$205+E$175+E$129)","v":""},"","",null,{"$f":"IF(OR(I$249>0, $I$315>0, ISERROR(I$205+I$175+I$129)),\"\",I$205+I$175+I$129)","v":""}]
[]
[]
[]
[]
[null,"ADDITIONAL SIDESLOPE INFORMATION"]
[null,null,"Distance to Slope Toe from Shoulder (ft)",null,{"$f":"D87","v":0},{"$f":"E87","v":0},0,null,{"$f":"G87","v":0}]
[null,"Minimum foreslope feasible within current ROW",null,null,{"$f":"IF(OR(ISBLANK($D$87), ISERROR(E209)), \"\", \"1V:\"&E209&\"H\")","v":""},{"$f":"IF(OR(ISBLANK($D$87), ISERROR(F209)), \"\", \"1V:\"&F209&\"H\")","v":""},{"$f":"IF(OR(ISBLANK($D$87), ISERROR(G209)), \"\", \"1V:\"&G209&\"H\")","v":""},null,{"$f":"IF(OR(ISBLANK($D$87), ISERROR(I209)), \"\", \"1V:\"&I209&\"H\")","v":""}]
[null,"Additional R/W needed on left side",null,null,{"$f":"IF(OR(ISBLANK($D$87), ISERROR(E213)),\"\", MAX(E213,E216))","v":""},{"$f":"IF(OR(ISBLANK($D$87), ISERROR(F213)), \"\", MAX(F213,F216))","v":""},{"$f":"IF(OR(ISBLANK($D$87), ISERROR(G213)),\"\", MAX(G213,G216))","v":""},null,{"$f":"IF(OR(ISBLANK($D$87), ISERROR(I213)),\"\", MAX(I213,I216))","v":""}]
[null,"Additional R/W needed on right side",null,null,{"$f":"IF(OR(ISBLANK($D$87), ISERROR(E214)), \"\", MAX(E214,E217))","v":""},{"$f":"IF(OR(ISBLANK($D$87), ISERROR(F214)), \"\", MAX(F214,F217))","v":""},{"$f":"IF(OR(ISBLANK($D$87), ISERROR(G214)),\"\", MAX(G214,G217))","v":""},null,{"$f":"IF(OR(ISBLANK($D$87), ISERROR(I214)),\"\", MAX(I214,I217))","v":""}]
[]
[]
[]
[]
[]
[]
[]
[null,null,null,{"$f":"GetCMF_MED(D24,D25,2000,D28)","v":1},null,null,null,null,null,{"$f":"1-I104/E104","v":0},"For Plot"]
[null,null,null,null,null,null,null,null,null,{"$f":"1-I105/E105","v":3.2258064516129115E-2},"relative to","Prefer"]
[null,null,null,{"$f":"MAX(SUM(D107:D111)-5,$I$100)","v":{"$error":"#VALUE!"}},{"$f":"MAX(SUM(E107:E111)-5,$I$100)","v":{"$error":"#VALUE!"}},{"$error":"#VALUE!"},{"$error":"#VALUE!"},null,{"$f":"SUM(I107:I111)-5","v":{"$error":"#VALUE!"}},{"$f":"1-I106/E106","v":0.14444080962898154},{"$f":"MATCH(K101,ModView,0)","v":1},{"$f":"MATCH(L101,ModView,0)","v":2}]
[null,"Geometric",null,null,null,null,null,null,null,{"$f":"1-I107/E107","v":{"$error":"#VALUE!"}},{"$f":"I4","v":"Existing"},{"$f":"I2","v":"Standard"},"%"]
[null,null,"Divided versus Undivided",1,1,1,1,null,1,null,{"$f":"INDEX($D102:$I102,K$100)","v":1},{"$f":"INDEX($D102:$I102,L$100)","v":1},{"$f":"IF(ISERROR(1-L102/K102), 0, 1-L102/K102)","v":0}]
[null,null,"Median Width",{"$f":"GetCMF_MED(D24,D25,$I$13,D28)","v":1},{"$f":"GetCMF_MED(E24,E25,$I$13,E28)","v":0.91},{"$f":"GetCMF_MED(F24,F25,$I$13,F28)","v":1},{"$f":"GetCMF_MED(G24,G25,$I$13,G28)","v":1},{"$f":"H25","v":8.9999999999999969E-2},{"$f":"GetCMF_MED(I24,I25,$I$13,I28)","v":0.66},null,{"$f":"INDEX($D103:$I103,K$100)","v":1},{"$f":"INDEX($D103:$I103,L$100)","v":0.91},{"$f":"IF(ISERROR(1-L103/K103), 0, 1-L103/K103)","v":8.9999999999999969E-2}]
[null,null,"LW CMF",{"$f":"IF(D24=INDEX(MedConf_Header,1,2),VLOOKUP(+D27,Construction!$N$30:$O$36,2),VLOOKUP(D27,Construction!$I$15:$J$21,2))","v":{"$error":"#N/A"}},{"$f":"IF(E24=INDEX(MedConf_Header,1,2),VLOOKUP(+E27,Construction!$N$30:$O$36,2),VLOOKUP(E27,Construction!$I$15:$J$21,2))","v":1},{"$f":"IF(F24=INDEX(MedConf_Header,1,2),VLOOKUP(+F27,Construction!$N$30:$O$36,2),VLOOKUP(F27,Construction!$I$15:$J$21,2))","v":{"$error":"#N/A"}},{"$f":"IF(G24=INDEX(MedConf_Header,1,2),VLOOKUP(+G27,Construction!$N$30:$O$36,2),VLOOKUP(G27,Construction!$I$15:$J$21,2))","v":{"$error":"#N/A"}},{"$f":"H27","v":0},{"$f":"IF(I24=INDEX(MedConf_Header,1,2),VLOOKUP(+I27,Construction!$N$30:$O$36,2),VLOOKUP(I27,Construction!$I$15:$J$21,2))","v":1},null,{"$f":"INDEX($D104:$I104,K$100)","v":{"$error":"#N/A"}},{"$f":"INDEX($D104:$I104,L$100)","v":1},0,null,0]
[null,null,"SW CMF",{"$f":"IF(D24=INDEX(MedConf_Header,1,2),VLOOKUP(D28,Construction!$C$11:D21,2),(VLOOKUP(D28,Construction!$O$43:$P$53,2)-1)*0.27+1)","v":1.135},{"$f":"IF(E24=INDEX(MedConf_Header,1,2),VLOOKUP(E28,Construction!$C$11:E21,2),(VLOOKUP(E28,Construction!$O$43:$P$53,2)-1)*0.27+1)","v":0.93},{"$f":"IF(F24=INDEX(MedConf_Header,1,2),VLOOKUP(F28,Construction!$C$11:F21,2),(VLOOKUP(F28,Construction!$O$43:$P$53,2)-1)*0.27+1)","v":1.135},{"$f":"IF(G24=INDEX(MedConf_Header,1,2),VLOOKUP(G28,Construction!$C$11:G21,2),(VLOOKUP(G28,Construction!$O$43:$P$53,2)-1)*0.27+1)","v":1.135},{"$f":"IF($I$2=\"Existing\",(1-D105/E105),(IF($I$2=\"Design 1\",(1-F105/E105),(IF($I$2=\"Design 2\",(1-G105/E105),(IF($I$2=\"Optimal\",(1-I105/E105),0)))))))","v":0},{"$f":"IF(I24=INDEX(MedConf_Header,1,2),VLOOKUP(I28,Construction!$C$11:I21,2),(VLOOKUP(I28,Construction!$O$43:$P$53,2)-1)*0.27+1)","v":0.9},null,{"$f":"INDEX($D105:$I105,K$100)","v":1.135},{"$f":"INDEX($D105:$I105,L$100)","v":0.93},0.18061674008810569,null,0.15503875968992242]
[null,null,"Inside Shoulder Width",{"$f":"IF(AND(D24=INDEX(MedConf_Header,1,2), NOT(ISBLANK(D29))), EXP(-0.026*(D29-4)), 1)","v":1},{"$f":"IF(AND(E24=INDEX(MedConf_Header,1,2), NOT(ISBLANK(E29))), EXP(-0.026*(E29-4)), 1)","v":1},{"$f":"IF(AND(F24=INDEX(MedConf_Header,1,2), NOT(ISBLANK(F29))), EXP(-0.026*(F29-4)), 1)","v":1},{"$f":"IF(AND(G24=INDEX(MedConf_Header,1,2), NOT(ISBLANK(G29))), EXP(-0.026*(G29-4)), 1)","v":1},0,{"$f":"IF(AND(I24=INDEX(MedConf_Header,1,2), NOT(ISBLANK(I29))), EXP(-0.026*(I29-4)), 1)","v":0.85555919037101846},null,{"$f":"INDEX($D106:$I106,K$100)","v":1},{"$f":"INDEX($D106:$I106,L$100)","v":1},0,null,0]
[null,null,"HC and Grade",{"$f":"D$138^D$131","v":1},{"$f":"E$138^E$131","v":1},1,1,0,{"$f":"I$138^I$131","v":{"$error":"#VALUE!"}},null,{"$f":"INDEX($D107:$I107,K$100)","v":1},{"$f":"INDEX($D107:$I107,L$100)","v":1},0,null,0]
[null,null,"HC and VC Crest type I",{"$f":"D$139^D$132","v":1},{"$f":"E$139^E$132","v":1},1,1,0,{"$f":"I$139^I$132","v":{"$error":"#VALUE!"}},null,{"$f":"INDEX($D108:$I108,K$100)","v":1},{"$f":"INDEX($D108:$I108,L$100)","v":1},0,null,0]
[null,null,"HC and VC Sag type I",{"$f":"D$140^D$133","v":1},{"$f":"E$140^E$133","v":1},1,1,0,{"$f":"I$140^I$133","v":{"$error":"#VALUE!"}},{"$f":"1-I115/E115","v":{"$error":"#VALUE!"}},{"$f":"INDEX($D109:$I109,K$100)","v":1},{"$f":"INDEX($D109:$I109,L$100)","v":1},0,null,0]
[null,null,"HC and VC Crest type II",{"$f":"D$141^D$134","v":1},{"$f":"E$141^E$134","v":1},1,1,0,{"$f":"I$141^I$134","v":{"$error":"#VALUE!"}},{"$f":"1-I116/E116","v":{"$error":"#VALUE!"}},{"$f":"INDEX($D110:$I110,K$100)","v":1},{"$f":"INDEX($D110:$I110,L$100)","v":1},0,null,0]
[null,null,"HC and VC Sag type II",{"$f":"D$142^D$135","v":1},{"$f":"E$142^E$135","v":1},1,1,0,{"$f":"I$142^I$135","v":{"$error":"#VALUE!"}},{"$f":"1-I117/E117","v":{"$error":"#VALUE!"}},{"$f":"INDEX($D111:$I111,K$100)","v":1},{"$f":"INDEX($D111:$I111,L$100)","v":1},0,null,0]
[null,null,"Add TWLTL",{"$f":"IF(D$47=\"No\",1,CMFs!$F$17)","v":0.71},{"$f":"IF(E$47=\"No\",1,CMFs!$F$17)","v":0.71},{"$f":"IF(F$47=\"No\",1,CMFs!$F$17)","v":0.71},{"$f":"IF(G$47=\"No\",1,CMFs!$F$17)","v":0.71},0,{"$f":"IF(I$47=\"No\",1,CMFs!$F$17)","v":0.71},{"$f":"1-I118/E118","v":{"$error":"#VALUE!"}},{"$f":"INDEX($D112:$I112,K$100)","v":0.71},{"$f":"INDEX($D112:$I112,L$100)","v":0.71},0,null,0]
[null,null,"Provide passing lane",{"$f":"IF(D$48=\"No\",1,CMFs!$F$21)","v":0.75},{"$f":"IF(E$48=\"No\",1,CMFs!$F$21)","v":0.75},{"$f":"IF(F$48=\"No\",1,CMFs!$F$21)","v":0.75},{"$f":"IF(G$48=\"No\",1,CMFs!$F$21)","v":0.75},0,{"$f":"IF(I$48=\"No\",1,CMFs!$F$21)","v":0.75},{"$f":"I119/E119","v":{"$error":"#VALUE!"}},{"$f":"INDEX($D113:$I113,K$100)","v":0.75},{"$f":"INDEX($D113:$I113,L$100)","v":0.75},0,null,0]
[]
[null,null,"COMBINED Calculated CMF",{"$f":"+D104*D105*D106*D107*D108*D109*D110*D111*D112*D113*D103*D102","v":{"$error":"#N/A"}},{"$f":"+E104*E105*E106*E107*E108*E109*E110*E111*E112*E113*E103*E102","v":0.45065475000000005},{"$error":"#N/A"},{"$error":"#N/A"},{"$f":"IF($I$2=\"Existing\",(D115),(IF($I$2=\"Design 1\",(F115),(IF($I$2=\"Design 2\",(G115),(IF($I$2=\"Optimal\",(I115),E115)))))))","v":0.45065475000000005},{"$f":"+I104*I105*I106*I107*I108*I109*I110*I111*I112*I113*I103*I102","v":{"$error":"#VALUE!"}},null,{"$f":"INDEX($D115:$I115,K$100)","v":{"$error":"#N/A"}},{"$f":"INDEX($D115:$I115,L$100)","v":0.45065475000000005},{"$f":"IF(ISERROR(1-L115/K115), 0, 1-L115/K115)","v":0},null,0]
[null,null,"Calculated Relative to Design Standards (Column E)",{"$f":"+D115/$E$115","v":{"$error":"#N/A"}},1,{"$error":"#N/A"},{"$error":"#N/A"},1,{"$error":"#VALUE!"},null,{"$f":"INDEX($D116:$I116,K$100)","v":{"$error":"#N/A"}},{"$f":"INDEX($D116:$I116,L$100)","v":1},0,null,0]
[null,null,"P(Crash)",{"$f":"+D116/(D116+1)","v":{"$error":"#N/A"}},0.5,{"$error":"#N/A"},{"$error":"#N/A"},0.5,{"$error":"#VALUE!"},null,{"$f":"INDEX($D117:$I117,K$100)","v":{"$error":"#N/A"}},{"$f":"INDEX($D117:$I117,L$100)","v":0.5},0,null,0]
[null,null,"Factor Change on S curve",{"$f":"+D117/$E$117","v":{"$error":"#N/A"}},1,{"$error":"#N/A"},{"$error":"#N/A"},1,{"$error":"#VALUE!"},null,{"$f":"INDEX($D118:$I118,K$100)","v":{"$error":"#N/A"}},{"$f":"INDEX($D118:$I118,L$100)","v":1},0,null,0]
[null,null,"Adjust to Scale of 100",{"$f":"+$I$118/D118*100","v":{"$error":"#VALUE!"}},{"$error":"#VALUE!"},{"$error":"#VALUE!"},{"$error":"#VALUE!"},{"$error":"#VALUE!"},{"$error":"#VALUE!"},null,{"$f":"INDEX($D119:$I119,K$100)","v":{"$error":"#VALUE!"}},{"$f":"INDEX($D119:$I119,L$100)","v":{"$error":"#VALUE!"}},0]
[null,null,"Unadjusted Combined Relative to Standard",{"$f":"+D115/$E$115","v":{"$error":"#N/A"}},1,{"$error":"#N/A"},{"$error":"#N/A"},1,{"$error":"#VALUE!"},{"$f":"I126/E126","v":{"$error":"#VALUE!"}},{"$f":"INDEX($D120:$I120,K$100)","v":{"$error":"#N/A"}},{"$f":"INDEX($D120:$I120,L$100)","v":1},0,null,0]
[]
[null,null,"Adjusted for PA Basis",{"$f":"+D115*(1+1)/(1+D115*1)","v":{"$error":"#N/A"}},0.62131220402373488,{"$error":"#N/A"},{"$error":"#N/A"},{"$f":"IF($I$2=\"Existing\",(D122),(IF($I$2=\"Design 1\",(F122),(IF($I$2=\"Design 2\",(G122),(IF($I$2=\"Optimal\",(I122),E122)))))))","v":0.62131220402373488},{"$error":"#VALUE!"},null,{"$f":"INDEX($D122:$I122,K$100)","v":{"$error":"#N/A"}},{"$f":"INDEX($D122:$I122,L$100)","v":0.62131220402373488},{"$f":"IF(ISERROR(1-L122/K122), 0, 1-L122/K122)","v":0},null,0]
[null,null,"Corrected by Odds Ratio",{"$f":"+D122/$E$122","v":{"$error":"#N/A"}},1,{"$error":"#N/A"},{"$error":"#N/A"},{"$f":"IF($I$2=\"Existing\",(D123),(IF($I$2=\"Design 1\",(F123),(IF($I$2=\"Design 2\",(G123),(IF($I$2=\"Optimal\",(I123),E123)))))))","v":1},{"$error":"#VALUE!"},{"$f":"I129/E129","v":{"$error":"#VALUE!"}},{"$f":"INDEX($D123:$I123,K$100)","v":{"$error":"#N/A"}},{"$f":"INDEX($D123:$I123,L$100)","v":1},0,null,0]
[null,null,"Pinned s",{"$f":"(1/D123)^$D127","v":{"$error":"#N/A"}},{"$f":"(1/E123)^$D127","v":{"$error":"#VALUE!"}},{"$error":"#N/A"},{"$f":"IF(ISERROR((1/G123)^$D127), 0, (1/G123)^$D127)","v":0},{"$error":"#VALUE!"},{"$error":"#VALUE!"},null,{"$f":"INDEX($D124:$I124,K$100)","v":{"$error":"#N/A"}},{"$f":"INDEX($D124:$I124,L$100)","v":{"$error":"#VALUE!"}},0,null,0]
[null,null,null,{"$f":"(D124+$F128-1)/(1+(D124+$F128-1))","v":{"$error":"#N/A"}},{"$f":"(E124+$F128-1)/(1+(E124+$F128-1))","v":{"$error":"#VALUE!"}},{"$error":"#N/A"},0.57142857142857151,{"$error":"#VALUE!"},{"$error":"#VALUE!"},null,{"$f":"INDEX($D125:$I125,K$100)","v":{"$error":"#N/A"}},{"$f":"INDEX($D125:$I125,L$100)","v":{"$error":"#VALUE!"}},0,null,0]
[null,null,"Score Odds Ratio with Optimal (old)",{"$f":"MIN(ROUND($I$123/D123*Construction!$I$2,0),$I126)","v":{"$error":"#VALUE!"}},{"$f":"MIN(ROUND($I$123/E123*Construction!$I$2,0),$I126)","v":{"$error":"#VALUE!"}},{"$f":"MIN(ROUND($I$123/F123*Construction!$I$2,0),$I126)","v":{"$error":"#VALUE!"}},{"$f":"MIN(ROUND($I$123/G123*Construction!$I$2,0),$I126)","v":{"$error":"#VALUE!"}},{"$f":"IF($I$2=\"Existing\",(D126),(IF($I$2=\"Design 1\",(F126),(IF($I$2=\"Design 2\",(G126),(IF($I$2=\"Optimal\",(I126),E126)))))))","v":{"$error":"#VALUE!"}},{"$f":"ROUND($I$123/I123*Construction!$I$2,0)","v":{"$error":"#VALUE!"}}]
[null,null,"Logistic1",{"$f":"LN((D128/(1-D128))/(0.5/0.5))/LN(IF($E123/I123=1,0.999,$E123/I123))","v":{"$error":"#VALUE!"}}]
[null,null,"Logistic Param",0.999,null,{"$f":"0.7/0.3","v":2.3333333333333335}]
[null,null,"Score ",{"$f":"MIN(ROUND(D125*Construction!$I$2,0),$I126)","v":{"$error":"#N/A"}},{"$f":"MIN(ROUND(E125*Construction!$I$2,0),$I126)","v":{"$error":"#VALUE!"}},{"$f":"MIN(ROUND(F125*Construction!$I$2,0),$I126)","v":{"$error":"#N/A"}},{"$f":"MIN(ROUND(G125*Construction!$I$2,0),$I126)","v":{"$error":"#VALUE!"}},{"$f":"MIN(ROUND(H125*Construction!$I$2,0),$I126)","v":{"$error":"#VALUE!"}},{"$f":"MIN(ROUND(I125*Construction!$I$2,0),$I126)","v":{"$error":"#VALUE!"}}]
[]
[null,null,"HC and Grade",{"$f":"IF($B$139,0,1)","v":1},{"$f":"IF($B$139,0,1)","v":1},1,1,{"$f":"IF($I$2=\"Existing\",(D131),(IF($I$2=\"Design 1\",(F131),(IF($I$2=\"Design 2\",(G131),(IF($I$2=\"Optimal\",(I131),E131)))))))","v":1},{"$f":"IF($B$139,0,1)","v":1}]
["HC?",null,"HC and VC Crest type I",{"$f":"IF(AND($B$139=1,SIGN(D$40)=1,ABS(D$40)<=ABS(D$40-D$41),D$46=\"Crest\"),1,0)","v":0},{"$f":"IF(AND($B$139=1,SIGN(IF(ISNUMBER(E$40),E$40,0))=1,\n  ABS(IF(ISNUMBER(E$40),E$40,0))<=ABS(IF(ISNUMBER(E$40),E$40,0)-IF(ISNUMBER(E$41),E$41,0)),E$46=\"Crest\"),\n  1,0)","v":0},{"$f":"IF(AND($B$139=1,SIGN(F$40)=1,ABS(F$40)<=ABS(F$40-F$41),F$46=\"Crest\"),1,0)","v":0},{"$f":"IF(AND($B$139=1,SIGN(G$40)=1,ABS(G$40)<=ABS(G$40-G$41),G$46=\"Crest\"),1,0)","v":0},{"$f":"IF($I$2=\"Existing\",(D132),(IF($I$2=\"Design 1\",(F132),(IF($I$2=\"Design 2\",(G132),(IF($I$2=\"Optimal\",(I132),E132)))))))","v":0},{"$f":"IF(AND($B$138=1,SIGN(I$40)=1,ABS(I$40)<=ABS(I$40-IF(ISNUMBER(I$41), I$41,0)),I$46=\"Crest\"),1,0)","v":{"$error":"#VALUE!"}},null,{"$f":"INDEX($D132:$I132,K$100)","v":0},{"$f":"INDEX($D132:$I132,L$100)","v":0},{"$f":"IF(ISERROR(1-L132/K132), 0, 1-L132/K132)","v":0}]
["VC?",null,"HC and VC Sag type I",{"$f":"IF(AND($B$139=1,SIGN(D$40)=1,ABS(D$40)<=ABS(D$40-D$41),D$46=\"Sag\"),1,0)","v":0},{"$f":"IF(AND($B$139=1,SIGN(IF(ISNUMBER(E$40),E$40,0))=1,\n  ABS(IF(ISNUMBER(E$40),E$40,0))<=ABS(IF(ISNUMBER(E$40),E$40,0)-IF(ISNUMBER(E$41),E$41,0)),E$46=\"Sag\"),\n  1,0)","v":0},{"$f":"IF(AND($B$139=1,SIGN(F$40)=1,ABS(F$40)<=ABS(F$40-F$41),F$46=\"Sag\"),1,0)","v":0},{"$f":"IF(AND($B$139=1,SIGN(G$40)=1,ABS(G$40)<=ABS(G$40-G$41),G$46=\"Sag\"),1,0)","v":0},{"$f":"IF($I$2=\"Existing\",(D133),(IF($I$2=\"Design 1\",(F133),(IF($I$2=\"Design 2\",(G133),(IF($I$2=\"Optimal\",(I133),E133)))))))","v":0},{"$f":"IF(AND($B$138=1,SIGN(I$40)=1,ABS(I$40)<=ABS(I$40-IF(ISNUMBER(I$41), I$41,0)),I$46=\"Sag\"),1,0)","v":{"$error":"#VALUE!"}},null,{"$f":"INDEX($D133:$I133,K$100)","v":0},{"$f":"INDEX($D133:$I133,L$100)","v":0},0]
[null,null,"HC and VC Crest type II",{"$f":"IF(AND($B$139=1,D$46=\"Crest\",D$132=0),1,0)","v":0},{"$f":"IF(AND($B$139=1,E$46=\"Crest\",E$132=0),1,0)","v":0},{"$f":"IF(AND($B$139=1,F$46=\"Crest\",F$132=0),1,0)","v":0},{"$f":"IF(AND($B$139=1,G$46=\"Crest\",G$132=0),1,0)","v":0},{"$f":"IF($I$2=\"Existing\",(D134),(IF($I$2=\"Design 1\",(F134),(IF($I$2=\"Design 2\",(G134),(IF($I$2=\"Optimal\",(I134),E134)))))))","v":0},{"$f":"IF(AND($B$139=1,I$46=\"Crest\",I$132=0),1,0)","v":{"$error":"#VALUE!"}},null,{"$f":"INDEX($D134:$I134,K$100)","v":0},{"$f":"INDEX($D134:$I134,L$100)","v":0},0]
[null,null,"HC and VC Sag type II",{"$f":"IF(AND($B$139=1,D$46=\"Sag\",D$133=0),1,0)","v":0},{"$f":"IF(AND($B$139=1,E$46=\"Sag\",E$133=0),1,0)","v":0},{"$f":"IF(AND($B$139=1,F$46=\"Sag\",F$133=0),1,0)","v":0},{"$f":"IF(AND($B$139=1,G$46=\"Sag\",G$133=0),1,0)","v":0},{"$f":"IF($I$2=\"Existing\",(D135),(IF($I$2=\"Design 1\",(F135),(IF($I$2=\"Design 2\",(G135),(IF($I$2=\"Optimal\",(I135),E135)))))))","v":0},{"$f":"IF(AND($B$139=1,I$46=\"Sag\",I$133=0),1,0)","v":{"$error":"#VALUE!"}},null,{"$f":"INDEX($D135:$I135,K$100)","v":0},{"$f":"INDEX($D135:$I135,L$100)","v":0},0]
[null,"Yes/No"]
[null,null,"HC and VC:"]
[null,{"$f":"IF(B31=\"Yes\",1,0)","v":0},"HC and Grade",{"$f":"IF($B$139=0,\n  EXP(0.042*ABS(D$40)\n    +$B$138*0.16*LN(2*5730/IF(ISNUMBER(D$33),D$33,1))*$B$138\n    +4.16*$B$138/IF(ISNUMBER(D$33),D$33,1)/IF( AND(ISNUMBER(D$34),D$34<>0),D$34,1)),\n  1)","v":1},{"$f":"IF($B$139=0,\n  EXP(0.042*ABS(D$40)\n    +$B$138*0.16*LN(2*5730/IF(ISNUMBER(E$33),E$33,1))*$B$138\n    +4.16*$B$138/IF(ISNUMBER(E$33),E$33,1)/IF( AND(ISNUMBER(E$34),E$34<>0),E$34,1)),\n  1)","v":1},{"$f":"IF($B$139=0,\n  EXP(0.042*ABS(F$40)\n    +$B$138*0.16*LN(2*5730/IF(ISNUMBER(F$33),F$33,1))*$B$138\n    +4.16*$B$138/IF(ISNUMBER(F$33),F$33,1)/IF( AND(ISNUMBER(F$34),F$34<>0),F$34,1)),\n  1)","v":1},{"$f":"IF($B$139=0,\n  EXP(0.042*ABS(G$40)\n    +$B$138*0.16*LN(2*5730/IF(ISNUMBER(G$33),G$33,1))*$B$138\n    +4.16*$B$138/IF(ISNUMBER(G$33),G$33,1)/IF( AND(ISNUMBER(G$34),G$34<>0),G$34,1)),\n  1)","v":1},null,{"$f":"IF($B$139=0,\n  EXP(0.042*ABS(I$40)\n    +$B$138*0.16*LN(2*5730/IF(ISNUMBER(I$33),I$33,1))*$B$138\n    +4.16*$B$138/IF(ISNUMBER(I$33),I$33,1)/IF( AND(ISNUMBER(I$34),I$34<>0),I$34,1)),\n  1)","v":{"$error":"#VALUE!"}},null,{"$f":"INDEX($D138:$I138,K$100)","v":1},{"$f":"INDEX($D138:$I138,L$100)","v":1},{"$f":"IF(ISERROR(1-L138/K138), 0, 1-L138/K138)","v":0},null,0]
[null,{"$f":"IF(B38=\"Yes\",1,0)","v":0},"HC and VC Crest type I",{"$f":"IF($B$139=0,1,EXP(0.005648908*5730*ABS(+D$40-D$41)*$B$139/D$145*$B$138))","v":1},{"$f":"IF($B$139=0,1,EXP(0.005648908*5730*ABS(+E$40-E$41)*$B$139/E$145*$B$138))","v":1},1,1,{"$f":"IF($I$2=\"Existing\",(D139),(IF($I$2=\"Design 1\",(F139),(IF($I$2=\"Design 2\",(G139),(IF($I$2=\"Optimal\",(I139),E139)))))))","v":1},1,null,{"$f":"INDEX($D139:$I139,K$100)","v":1},{"$f":"INDEX($D139:$I139,L$100)","v":1},0,null,0]
[null,null,"HC and VC Sag type I",{"$f":"IF($B$139=0,1,EXP(9.15857042*$B$139/D$146+0.010284958*5730*$B$139*$B$138*ABS(+D$40-D$41)/D$145))","v":1},{"$f":"IF($B$139=0,1,EXP(9.15857042*$B$139/E$146+0.010284958*5730*$B$139*$B$138*ABS(+E$40-E$41)/E$145))","v":1},1,1,{"$f":"IF($I$2=\"Existing\",(D140),(IF($I$2=\"Design 1\",(F140),(IF($I$2=\"Design 2\",(G140),(IF($I$2=\"Optimal\",(I140),E140)))))))","v":1},1,null,{"$f":"INDEX($D140:$I140,K$100)","v":1},{"$f":"INDEX($D140:$I140,L$100)","v":1},0,null,0]
[null,null,"HC and VC Crest type II",{"$f":"IF($B$139=0,1,EXP(0.005648908*5730*ABS(+D$40-D$41)*$B$139/D$145*$B$138))","v":1},{"$f":"IF($B$139=0,1,EXP(0.005648908*5730*ABS(+E$40-E$41)*$B$139/E$145*$B$138))","v":1},1,1,{"$f":"IF($I$2=\"Existing\",(D141),(IF($I$2=\"Design 1\",(F141),(IF($I$2=\"Design 2\",(G141),(IF($I$2=\"Optimal\",(I141),E141)))))))","v":1},1,null,{"$f":"INDEX($D141:$I141,K$100)","v":1},{"$f":"INDEX($D141:$I141,L$100)","v":1},0,null,0]
[null,null,"HC and VC Sag type II",{"$f":"IF($B$139=0,1,(0.246011284*EXP(LN(0.188*2*5730/D$145)*$B$138)+0.753988716*EXP(0.022*5730/D$145*ABS(D$40-D$41)*$B$139*$B$138)))","v":1},{"$f":"IF($B$139=0,1,(0.246011284*EXP(LN(0.188*2*5730/E$145)*$B$138)+0.753988716*EXP(0.022*5730/E$145*ABS(E$40-E$41)*$B$139*$B$138)))","v":1},1,1,{"$f":"IF($I$2=\"Existing\",(D142),(IF($I$2=\"Design 1\",(F142),(IF($I$2=\"Design 2\",(G142),(IF($I$2=\"Optimal\",(I142),E142)))))))","v":1},1,null,{"$f":"INDEX($D142:$I142,K$100)","v":1},{"$f":"INDEX($D142:$I142,L$100)","v":1},0,null,0]
[]
[null,null,"Combined HZ and VT",{"$f":"MMULT(TRANSPOSE(D131:D135),D138:D142)","v":1},{"$f":"MMULT(TRANSPOSE(E131:E135),E138:E142)","v":1},{"$f":"MMULT(TRANSPOSE(F131:F135),F138:F142)","v":1},{"$f":"MMULT(TRANSPOSE(G131:G135),G138:G142)","v":1},{"$f":"IF($I$2=\"Existing\",(D144),(IF($I$2=\"Design 1\",(F144),(IF($I$2=\"Design 2\",(G144),(IF($I$2=\"Optimal\",(I144),E144)))))))","v":1},{"$f":"MMULT(TRANSPOSE(I131:I135),I138:I142)","v":{"$error":"#VALUE!"}},null,{"$f":"INDEX($D144:$I144,K$100)","v":1},{"$f":"INDEX($D144:$I144,L$100)","v":1},{"$f":"IF(ISERROR(1-L144/K144), 0, 1-L144/K144)","v":0},null,0]
[null,null,"effective R for calculation",{"$f":"IF(ISNUMBER(D33), D33, 99999999)","v":99999999},{"$f":"IF(ISNUMBER(E33), E33, 99999999)","v":590},99999999,99999999,null,590]
[null,null,"effective K for calculation",{"$f":"IF(ISNUMBER(D43), D43, 99999999)","v":99999999},{"$f":"IF(ISNUMBER(E43), E43, 99999999)","v":99999999},99999999,99999999,null,99999999]
[null,"Traffic"]
[null,null,null,"Existing","Standard","Design 1","Design 2"]
[null,null,"Advance static curve warning signs",{"$f":"IF(D24=INDEX(MedConf_Header,1,2),IF(AND($B$31=\"Yes\",D$56=\"Yes\"),(Traffic!$F$4-1)*AVERAGE(Constraints!$F$24,Constraints!$H$24)/Constraints!$D$24+1,1),(IF(AND($B$31=\"Yes\",D$56=\"Yes\"),(Traffic!$F$4-1)*AVERAGE(Constraints!$F$38,Constraints!$H$38)/Constraints!$D$38+1,1)))","v":1},{"$f":"IF(AND($B$31=\"Yes\",E$56=\"Yes\"),(Traffic!$F$4-1)*AVERAGE(Constraints!$F$24,Constraints!$H$24)/Constraints!$D$24+1,1)","v":1},{"$f":"IF(F24=INDEX(MedConf_Header,1,2),IF(AND($B$31=\"Yes\",F$56=\"Yes\"),(Traffic!$F$4-1)*AVERAGE(Constraints!$F$24,Constraints!$H$24)/Constraints!$D$24+1,1),(IF(AND($B$31=\"Yes\",F$56=\"Yes\"),(Traffic!$F$4-1)*AVERAGE(Constraints!$F$38,Constraints!$H$38)/Constraints!$D$38+1,1)))","v":1},{"$f":"IF(G24=INDEX(MedConf_Header,1,2),IF(AND($B$31=\"Yes\",G$56=\"Yes\"),(Traffic!$F$4-1)*AVERAGE(Constraints!$F$24,Constraints!$H$24)/Constraints!$D$24+1,1),(IF(AND($B$31=\"Yes\",G$56=\"Yes\"),(Traffic!$F$4-1)*AVERAGE(Constraints!$F$38,Constraints!$H$38)/Constraints!$D$38+1,1)))","v":1},{"$f":"IF($I$2=\"Existing\",(D149),(IF($I$2=\"Design 1\",(F149),(IF($I$2=\"Design 2\",(G149),(IF($I$2=\"Optimal\",(I149),E149)))))))","v":1},{"$f":"IF(AND($B$31=\"Yes\",I$56=\"Yes\"),(Traffic!$F$4-1)*AVERAGE(Constraints!$F$24,Constraints!$H$24)/Constraints!$D$24+1,1)","v":1},null,{"$f":"INDEX($D149:$I149,K$100)","v":1},{"$f":"INDEX($D149:$I149,L$100)","v":1},{"$f":"IF(ISERROR(1-L149/K149), 0, 1-L149/K149)","v":0},null,0]
[null,null,"Install chevron signs on horizontal curves",{"$f":"IF(D24=INDEX(MedConf_Header,1,2),(IF(D$57=\"No\",1,(IF(AND($B$31=\"Yes\",D$27<11.5),((Traffic!$F$6-1)*(Constraints!$E$18+Constraints!$E$22))+1,1)))),(IF(D$57=\"No\",1,(IF(AND($B$31=\"Yes\",D$27<11.5),((Traffic!$F$6-1)*(Constraints!$E$32+Constraints!$E$36))+1,1)))))","v":1},{"$f":"IF(E$57=\"No\",1,(IF(AND($B$31=\"Yes\",E$27<11.5),((Traffic!$F$6-1)*(Constraints!$E$18+Constraints!$E$22))+1,1)))","v":1},{"$f":"IF(F24=INDEX(MedConf_Header,1,2),(IF(F$57=\"No\",1,(IF(AND($B$31=\"Yes\",F$27<11.5),((Traffic!$F$6-1)*(Constraints!$E$18+Constraints!$E$22))+1,1)))),(IF(F$57=\"No\",1,(IF(AND($B$31=\"Yes\",F$27<11.5),((Traffic!$F$6-1)*(Constraints!$E$32+Constraints!$E$36))+1,1)))))","v":1},{"$f":"IF(G24=INDEX(MedConf_Header,1,2),(IF(G$57=\"No\",1,(IF(AND($B$31=\"Yes\",G$27<11.5),((Traffic!$F$6-1)*(Constraints!$E$18+Constraints!$E$22))+1,1)))),(IF(G$57=\"No\",1,(IF(AND($B$31=\"Yes\",G$27<11.5),((Traffic!$F$6-1)*(Constraints!$E$32+Constraints!$E$36))+1,1)))))","v":1},{"$f":"IF($I$2=\"Existing\",(D150),(IF($I$2=\"Design 1\",(F150),(IF($I$2=\"Design 2\",(G150),(IF($I$2=\"Optimal\",(I150),E150)))))))","v":1},{"$f":"IF(I$57=\"No\",1,(IF(AND($B$31=\"Yes\",I$27<11.5),((Traffic!$F$6-1)*(Constraints!$E$18+Constraints!$E$22))+1,1)))","v":1},null,{"$f":"INDEX($D150:$I150,K$100)","v":1},{"$f":"INDEX($D150:$I150,L$100)","v":1},0,null,0]
[null,null,"Install post-mounted delineators",{"$f":"IF(D24=INDEX(MedConf_Header,1,2),IF(AND($B$31=\"Yes\",D$58=\"Yes\"),(Traffic!$F$12-1)*Constraints!$E$17+1,1),(IF(AND($B$31=\"Yes\",D$58=\"Yes\"),(Traffic!$F$12-1)*Constraints!$E$31+1,1)))","v":1},{"$f":"IF(AND($B$31=\"Yes\",E$58=\"Yes\"),(Traffic!$F$12-1)*Constraints!$E$17+1,1)","v":1},{"$f":"IF(F24=INDEX(MedConf_Header,1,2),IF(AND($B$31=\"Yes\",F$58=\"Yes\"),(Traffic!$F$12-1)*Constraints!$E$17+1,1),(IF(AND($B$31=\"Yes\",F$58=\"Yes\"),(Traffic!$F$12-1)*Constraints!$E$31+1,1)))","v":1},{"$f":"IF(G24=INDEX(MedConf_Header,1,2),IF(AND($B$31=\"Yes\",G$58=\"Yes\"),(Traffic!$F$12-1)*Constraints!$E$17+1,1),(IF(AND($B$31=\"Yes\",G$58=\"Yes\"),(Traffic!$F$12-1)*Constraints!$E$31+1,1)))","v":1},{"$f":"IF($I$2=\"Existing\",(D151),(IF($I$2=\"Design 1\",(F151),(IF($I$2=\"Design 2\",(G151),(IF($I$2=\"Optimal\",(I151),E151)))))))","v":1},{"$f":"IF(AND($B$31=\"Yes\",I$58=\"Yes\"),(Traffic!$F$12-1)*Constraints!$E$17+1,1)","v":1},null,{"$f":"INDEX($D151:$I151,K$100)","v":1},{"$f":"INDEX($D151:$I151,L$100)","v":1},0,null,0]
[null,null,"Install edgeline  or Profile pavement markings ",{"$f":"IF(D24=INDEX(MedConf_Header,1,2),(IF(D$59=\"Yes\",Traffic!$F$18*0.5+((Traffic!$F$20*(Constraints!$H$17+Constraints!$H$20+Constraints!$H$21)+1*(Constraints!$H$24-(Constraints!$H$17+Constraints!$H$20+Constraints!$H$21)))/Constraints!$H$24)*0.5,1)),(IF(D$59=\"Yes\",Traffic!$F$18*0.5+((Traffic!$F$20*(Constraints!$H$31+Constraints!$H$34+Constraints!$H$35)+1*(Constraints!$H$38-(Constraints!$H$31+Constraints!$H$34+Constraints!$H$35)))/Constraints!$H$38)*0.5,1)))","v":1},{"$f":"IF(E24=INDEX(MedConf_Header,1,2),(IF(E$59=\"Yes\",Traffic!$F$18*0.5+((Traffic!$F$20*(Constraints!$H$17+Constraints!$H$20+Constraints!$H$21)+1*(Constraints!$H$24-(Constraints!$H$17+Constraints!$H$20+Constraints!$H$21)))/Constraints!$H$24)*0.5,1)),(IF(E$59=\"Yes\",Traffic!$F$18*0.5+((Traffic!$F$20*(Constraints!$H$31+Constraints!$H$34+Constraints!$H$35)+1*(Constraints!$H$38-(Constraints!$H$31+Constraints!$H$34+Constraints!$H$35)))/Constraints!$H$38)*0.5,1)))","v":1},{"$f":"IF(F24=INDEX(MedConf_Header,1,2),(IF(F$59=\"Yes\",Traffic!$F$18*0.5+((Traffic!$F$20*(Constraints!$H$17+Constraints!$H$20+Constraints!$H$21)+1*(Constraints!$H$24-(Constraints!$H$17+Constraints!$H$20+Constraints!$H$21)))/Constraints!$H$24)*0.5,1)),(IF(F$59=\"Yes\",Traffic!$F$18*0.5+((Traffic!$F$20*(Constraints!$H$31+Constraints!$H$34+Constraints!$H$35)+1*(Constraints!$H$38-(Constraints!$H$31+Constraints!$H$34+Constraints!$H$35)))/Constraints!$H$38)*0.5,1)))","v":1},{"$f":"IF(G24=INDEX(MedConf_Header,1,2),(IF(G$59=\"Yes\",Traffic!$F$18*0.5+((Traffic!$F$20*(Constraints!$H$17+Constraints!$H$20+Constraints!$H$21)+1*(Constraints!$H$24-(Constraints!$H$17+Constraints!$H$20+Constraints!$H$21)))/Constraints!$H$24)*0.5,1)),(IF(G$59=\"Yes\",Traffic!$F$18*0.5+((Traffic!$F$20*(Constraints!$H$31+Constraints!$H$34+Constraints!$H$35)+1*(Constraints!$H$38-(Constraints!$H$31+Constraints!$H$34+Constraints!$H$35)))/Constraints!$H$38)*0.5,1)))","v":1},{"$f":"IF($I$2=\"Existing\",(D152),(IF($I$2=\"Design 1\",(F152),(IF($I$2=\"Design 2\",(G152),(IF($I$2=\"Optimal\",(I152),E152)))))))","v":1},{"$f":"IF(I24=INDEX(MedConf_Header,1,2),(IF(I$59=\"Yes\",Traffic!$F$18*0.5+((Traffic!$F$20*(Constraints!$H$17+Constraints!$H$20+Constraints!$H$21)+1*(Constraints!$H$24-(Constraints!$H$17+Constraints!$H$20+Constraints!$H$21)))/Constraints!$H$24)*0.5,1)),(IF(I$59=\"Yes\",Traffic!$F$18*0.5+((Traffic!$F$20*(Constraints!$H$31+Constraints!$H$34+Constraints!$H$35)+1*(Constraints!$H$38-(Constraints!$H$31+Constraints!$H$34+Constraints!$H$35)))/Constraints!$H$38)*0.5,1)))","v":0.87439641434262949},null,{"$f":"INDEX($D152:$I152,K$100)","v":1},{"$f":"INDEX($D152:$I152,L$100)","v":1},0,null,0.13824118691351761]
[null,null,"Profiles",1,1,1,1,1,1,null,{"$f":"INDEX($D153:$I153,K$100)","v":1},{"$f":"INDEX($D153:$I153,L$100)","v":1},0,null,0]
[null,null,"Shoulder rumble strips",{"$f":"IF(D24=INDEX(MedConf_Header,1,2),(IF(D$60=\"No\",1,(Traffic!$F$27*(Constraints!$H$17+Constraints!$H$20+Constraints!$H$21)+1*(Constraints!$H$24-(Constraints!$H$17+Constraints!$H$20+Constraints!$H$21)))/Constraints!$H$24)),(IF(D$60=\"No\",1,(Traffic!$F$27*(Constraints!$H$31+Constraints!$H$34+Constraints!$H$35)+1*(Constraints!$H$38-(Constraints!$H$31+Constraints!$H$34+Constraints!$H$35)))/Constraints!$H$38)))","v":0.93956289460903353},{"$f":"IF(E$60=\"No\",1,(Traffic!$F$27*(Constraints!$H$17+Constraints!$H$20+Constraints!$H$21)+1*(Constraints!$H$24-(Constraints!$H$17+Constraints!$H$20+Constraints!$H$21)))/Constraints!$H$24)","v":0.91807038512616201},{"$f":"IF(F24=INDEX(MedConf_Header,1,2),(IF(F$60=\"No\",1,(Traffic!$F$27*(Constraints!$H$17+Constraints!$H$20+Constraints!$H$21)+1*(Constraints!$H$24-(Constraints!$H$17+Constraints!$H$20+Constraints!$H$21)))/Constraints!$H$24)),(IF(F$60=\"No\",1,(Traffic!$F$27*(Constraints!$H$31+Constraints!$H$34+Constraints!$H$35)+1*(Constraints!$H$38-(Constraints!$H$31+Constraints!$H$34+Constraints!$H$35)))/Constraints!$H$38)))","v":0.93956289460903353},{"$f":"IF(G24=INDEX(MedConf_Header,1,2),(IF(G$60=\"No\",1,(Traffic!$F$27*(Constraints!$H$17+Constraints!$H$20+Constraints!$H$21)+1*(Constraints!$H$24-(Constraints!$H$17+Constraints!$H$20+Constraints!$H$21)))/Constraints!$H$24)),(IF(G$60=\"No\",1,(Traffic!$F$27*(Constraints!$H$31+Constraints!$H$34+Constraints!$H$35)+1*(Constraints!$H$38-(Constraints!$H$31+Constraints!$H$34+Constraints!$H$35)))/Constraints!$H$38)))","v":0.93956289460903353},{"$f":"IF($I$2=\"Existing\",(D154),(IF($I$2=\"Design 1\",(F154),(IF($I$2=\"Design 2\",(G154),(IF($I$2=\"Optimal\",(I154),E154)))))))","v":0.91807038512616201},{"$f":"IF(I$60=\"No\",1,(Traffic!$F$27*(Constraints!$H$17+Constraints!$H$20+Constraints!$H$21)+1*(Constraints!$H$24-(Constraints!$H$17+Constraints!$H$20+Constraints!$H$21)))/Constraints!$H$24)","v":0.91807038512616201},null,{"$f":"INDEX($D154:$I154,K$100)","v":0.93956289460903353},{"$f":"INDEX($D154:$I154,L$100)","v":0.91807038512616201},2.2875008800570917E-2,null,0]
[null,null,"Install centerline rumble strips",{"$f":"IF(D24=INDEX(MedConf_Header,1,3),(IF(D$61=\"No\",1,(Traffic!$E$81*(Constraints!$H$31+Constraints!$H$34+Constraints!$H$35)+1*(Constraints!$H$38-(Constraints!$H$31+Constraints!$H$34+Constraints!$H$35)))/Constraints!$H$38)+0.001),1)","v":1},{"$f":"IF(E24=INDEX(MedConf_Header,1,3),(IF(E$61=\"No\",1,(Traffic!$E$81*(Constraints!$H$31+Constraints!$H$34+Constraints!$H$35)+1*(Constraints!$H$38-(Constraints!$H$31+Constraints!$H$34+Constraints!$H$35)))/Constraints!$H$38)+0.001),1)","v":1},{"$f":"IF(F24=INDEX(MedConf_Header,1,3),(IF(F$61=\"No\",1,(Traffic!$E$81*(Constraints!$H$31+Constraints!$H$34+Constraints!$H$35)+1*(Constraints!$H$38-(Constraints!$H$31+Constraints!$H$34+Constraints!$H$35)))/Constraints!$H$38)+0.001),1)","v":1},{"$f":"IF(G24=INDEX(MedConf_Header,1,3),(IF(G$61=\"No\",1,(Traffic!$E$81*(Constraints!$H$31+Constraints!$H$34+Constraints!$H$35)+1*(Constraints!$H$38-(Constraints!$H$31+Constraints!$H$34+Constraints!$H$35)))/Constraints!$H$38)+0.001),1)","v":1},{"$f":"IF($I$2=\"Existing\",(D155),(IF($I$2=\"Design 1\",(F155),(IF($I$2=\"Design 2\",(G155),(IF($I$2=\"Optimal\",(I155),E155)))))))","v":1},{"$f":"IF(I24=INDEX(MedConf_Header,1,3),(IF(I$61=\"No\",1,(Traffic!$E$81*(Constraints!$H$31+Constraints!$H$34+Constraints!$H$35)+1*(Constraints!$H$38-(Constraints!$H$31+Constraints!$H$34+Constraints!$H$35)))/Constraints!$H$38)+0.001),1)","v":1},null,{"$f":"INDEX($D155:$I155,K$100)","v":1},{"$f":"INDEX($D155:$I155,L$100)","v":1},0,null,-0.16279069767441867]
[null,null,"Driveway Density (driveways per mile)",{"$f":"EXP(-LN(Traffic!$F$31)*(D$62-$E$62))","v":0.81707280688754669},{"$f":"EXP(-LN(Traffic!$F$31)*(E$62-$E$62))","v":1},{"$f":"EXP(-LN(Traffic!$F$31)*(F$62-$E$62))","v":0.81707280688754669},{"$f":"EXP(-LN(Traffic!$F$31)*(G$62-$E$62))","v":0.81707280688754669},{"$f":"IF($I$2=\"Existing\",(D156),(IF($I$2=\"Design 1\",(F156),(IF($I$2=\"Design 2\",(G156),(IF($I$2=\"Optimal\",(I156),E156)))))))","v":1},{"$f":"EXP(-LN(Traffic!$F$31)*(I$62-$E$62))","v":0.81707280688754669},null,{"$f":"INDEX($D156:$I156,K$100)","v":0.81707280688754669},{"$f":"INDEX($D156:$I156,L$100)","v":1},-0.22388114201141129,null,-0.22388114201141129]
[null,null,"Install lighting",{"$f":"IF(D24=INDEX(MedConf_Header,1,2),(IF(D$63=\"No\",1,1-(((1-Traffic!$F$54*Constraints!$H$24-Constraints!$F$24/3)+((1-Traffic!$F$54*Constraints!$D$24-Constraints!$H$24)))*$S$19+((1-Traffic!$F$56)*Constraints!$F$24/3))/Constraints!$D$24)),(IF(D$63=\"No\",1,1-(((1-Traffic!$F$54*Constraints!$H$38-Constraints!$F$38/3)+((1-Traffic!$F$54*Constraints!$D$38-Constraints!$H$38)))*$S$19+((1-Traffic!$F$56)*Constraints!$F$38/3))/Constraints!$D$38)))","v":0.98319080068143105},{"$f":"IF(E$63=\"No\",1,1-(((1-Traffic!$F$54*Constraints!$H$24-Constraints!$F$24/3)+((1-Traffic!$F$54*Constraints!$D$24-Constraints!$H$24)))*$S$19+((1-Traffic!$F$56)*Constraints!$F$24/3))/Constraints!$D$24)","v":1},{"$f":"IF(F24=INDEX(MedConf_Header,1,2),(IF(F$63=\"No\",1,1-(((1-Traffic!$F$54*Constraints!$H$24-Constraints!$F$24/3)+((1-Traffic!$F$54*Constraints!$D$24-Constraints!$H$24)))*$S$19+((1-Traffic!$F$56)*Constraints!$F$24/3))/Constraints!$D$24)),(IF(F$63=\"No\",1,1-(((1-Traffic!$F$54*Constraints!$H$38-Constraints!$F$38/3)+((1-Traffic!$F$54*Constraints!$D$38-Constraints!$H$38)))*$S$19+((1-Traffic!$F$56)*Constraints!$F$38/3))/Constraints!$D$38)))","v":0.98319080068143105},{"$f":"IF(G24=INDEX(MedConf_Header,1,2),(IF(G$63=\"No\",1,1-(((1-Traffic!$F$54*Constraints!$H$24-Constraints!$F$24/3)+((1-Traffic!$F$54*Constraints!$D$24-Constraints!$H$24)))*$S$19+((1-Traffic!$F$56)*Constraints!$F$24/3))/Constraints!$D$24)),(IF(G$63=\"No\",1,1-(((1-Traffic!$F$54*Constraints!$H$38-Constraints!$F$38/3)+((1-Traffic!$F$54*Constraints!$D$38-Constraints!$H$38)))*$S$19+((1-Traffic!$F$56)*Constraints!$F$38/3))/Constraints!$D$38)))","v":0.98319080068143105},{"$f":"IF($I$2=\"Existing\",(D157),(IF($I$2=\"Design 1\",(F157),(IF($I$2=\"Design 2\",(G157),(IF($I$2=\"Optimal\",(I157),E157)))))))","v":1},{"$f":"IF(I$63=\"No\",1,1-(((1-Traffic!$F$54*Constraints!$H$24-Constraints!$F$24/3)+((1-Traffic!$F$54*Constraints!$D$24-Constraints!$H$24)))*$S$19+((1-Traffic!$F$56)*Constraints!$F$24/3))/Constraints!$D$24)","v":0.98062689234129152},null,{"$f":"INDEX($D157:$I157,K$100)","v":0.98319080068143105},{"$f":"INDEX($D157:$I157,L$100)","v":1},-1.7096579124742384E-2,null,-2.3499081529478438E-2]
[null,null,"Pavement friction (skid number)",{"$f":"EXP(LN(Traffic!$F$48)*(D$64-$E$64))","v":1.3972521419325798},{"$f":"EXP(LN(Traffic!$F$48)*(E$64-$E$64))","v":1},{"$f":"IF(MATCH(F64,SkidNums,0)=3, $D158,EXP(LN([5]Traffic!$F$49)*(RIGHT(F$64,2)-$E$64)))","v":{"$error":"#N/A"}},{"$f":"IF(MATCH(G64,SkidNums,0)=3, $D158,EXP(LN([5]Traffic!$F$49)*(RIGHT(G$64,2)-$E$64)))","v":{"$error":"#N/A"}},{"$f":"IF($I$2=\"Existing\",(D158),(IF($I$2=\"Design 1\",(F158),(IF($I$2=\"Design 2\",(G158),(IF($I$2=\"Optimal\",(I158),E158)))))))","v":1},{"$f":"EXP(LN(Traffic!$F$48)*(I$64-$E$64))","v":0.85753553626991963},null,{"$f":"INDEX($D158:$I158,K$100)","v":1.3972521419325798},{"$f":"INDEX($D158:$I158,L$100)","v":1},0.28430956017940245,null,0]
[]
[]
[null,null,"COMBINED Calculated CMF",{"$f":"+D149*D150*D151*D152*D153*D154*D155*D156*D157*D158","v":1.0546277742651902},{"$f":"+E149*E150*E151*E152*E153*E154*E155*E156*E157*E158","v":0.91807038512616201},{"$error":"#N/A"},{"$error":"#N/A"},{"$f":"IF($I$2=\"Existing\",(D161),(IF($I$2=\"Design 1\",(F161),(IF($I$2=\"Design 2\",(G161),(IF($I$2=\"Optimal\",(I161),E161)))))))","v":0.91807038512616201},{"$f":"+I149*I150*I151*I152*I153*I154*I155*I156*I157*I158","v":0.55157049744255038},null,{"$f":"INDEX($D161:$I161,K$100)","v":1.0546277742651902},{"$f":"INDEX($D161:$I161,L$100)","v":0.91807038512616201},{"$f":"IF(ISERROR(1-L161/K161), 0, 1-L161/K161)","v":0.12948396815565966},null,0]
[null,null,"Calculated Relative to Design Standards (Column E)",{"$f":"+D161/$E$161","v":1.1487439213282784},{"$f":"+E161/$E$161","v":1},{"$error":"#N/A"},{"$error":"#N/A"},1,{"$f":"+I161/$E$161","v":0.60079325766156055},null,{"$f":"INDEX($D162:$I162,K$100)","v":1.1487439213282784},{"$f":"INDEX($D162:$I162,L$100)","v":1},0.12948396815565966,null,0]
[null,null,"P(Crash)",{"$f":"+D162/(D162+1)","v":0.53461183062622242},0.5,{"$error":"#N/A"},{"$error":"#N/A"},0.5,{"$f":"+I162/(I162+1)","v":0.37530971272280322},null,{"$f":"INDEX($D163:$I163,K$100)","v":0.53461183062622242},{"$f":"INDEX($D163:$I163,L$100)","v":0.5},6.4741984077829939E-2]
[null,null,"Factor Change on S curve",{"$f":"+D163/$E$163","v":1.0692236612524448},{"$f":"+E163/$E$163","v":1},{"$f":"+F163/$E$163","v":{"$error":"#N/A"}},{"$error":"#N/A"},1,{"$f":"+I163/$E$163","v":0.75061942544560645},null,{"$f":"INDEX($D164:$I164,K$100)","v":1.0692236612524448},{"$f":"INDEX($D164:$I164,L$100)","v":1},6.4741984077829939E-2]
[null,null,"Adjust to Scale of 100",{"$f":"+$I$118/D164*100","v":{"$error":"#VALUE!"}},{"$error":"#VALUE!"},{"$error":"#VALUE!"},{"$error":"#VALUE!"},{"$error":"#VALUE!"},{"$f":"+$I$118/I164*100","v":{"$error":"#VALUE!"}}]
[null,null,"Unadjusted Combined Relative to Standard",{"$f":"+D161/$E$161","v":1.1487439213282784},{"$f":"+E161/$E$161","v":1},{"$f":"+F161/$E$161","v":{"$error":"#N/A"}},{"$error":"#N/A"},1,{"$f":"+I161/$E$161","v":0.60079325766156055},{"$f":"I172/E172","v":1.3333333333333333},{"$f":"INDEX($D166:$I166,K$100)","v":1.1487439213282784},{"$f":"INDEX($D166:$I166,L$100)","v":1},{"$f":"IF(ISERROR(1-L166/K166), 0, 1-L166/K166)","v":0.12948396815565966}]
[null,null,null,null,null,null,null,0,null,null,{"$f":"INDEX($D167:$I167,K$100)","v":0},{"$f":"INDEX($D167:$I167,L$100)","v":0},0]
[null,null,"Adjusted for PA Basis",{"$f":"+D161*(1+1)/(1+D161*1)","v":1.0265876743950504},0.95728539707970672,{"$error":"#N/A"},{"$error":"#N/A"},0.95728539707970672,{"$f":"+I161*(1+1)/(1+I161*1)","v":0.71098348202895401},null,{"$f":"INDEX($D168:$I168,K$100)","v":1.0265876743950504},{"$f":"INDEX($D168:$I168,L$100)","v":0.95728539707970672},6.750741221998624E-2]
[null,null,"Corrected by Odds Ratio",{"$f":"+D168/$E$168","v":1.0723945831898796},{"$f":"+E168/$E$168","v":1},{"$f":"+F168/$E$168","v":{"$error":"#N/A"}},{"$error":"#N/A"},1,{"$f":"+I168/$E$168","v":0.74270795752017016},{"$f":"I175/E175","v":1.4285714285714286},{"$f":"INDEX($D169:$I169,K$100)","v":1.0723945831898796},{"$f":"INDEX($D169:$I169,L$100)","v":1},6.750741221998624E-2]
[null,null,null,{"$f":"(1/D169)^$D173","v":0.19732178070922252},{"$f":"(1/E169)^$D173","v":1},{"$error":"#N/A"},{"$error":"#N/A"},1,998.99999999999955,null,{"$f":"INDEX($D170:$I170,K$100)","v":0.19732178070922252},{"$f":"INDEX($D170:$I170,L$100)","v":1},-4.0678642591089362]
[null,null,null,{"$f":"(D170+$F174-1)/(1+(D170+$F174-1))","v":0.6048454036857811},{"$f":"(E170+$F174-1)/(1+(E170+$F174-1))","v":0.70000000000000007},{"$error":"#N/A"},{"$error":"#N/A"},0.70000000000000007,0.99900133155792281,null,{"$f":"INDEX($D171:$I171,K$100)","v":0.6048454036857811},{"$f":"INDEX($D171:$I171,L$100)","v":0.70000000000000007},-0.15732052477272696]
[null,null,"Score Odds Ratio with Optimal as 100 (old)",{"$f":"MIN(ROUND($I$169/D169*Construction!$I$3,0),$I172)","v":14},{"$f":"MIN(ROUND($I$169/E169*Construction!$I$3,0),$I172)","v":15},{"$f":"MIN(ROUND($I$169/F169*Construction!$I$3,0),$I172)","v":{"$error":"#N/A"}},{"$f":"MIN(ROUND($I$169/G169*Construction!$I$3,0),$I172)","v":{"$error":"#N/A"}},null,{"$f":"ROUND($I$169/I169*Construction!$I$3,0)","v":20}]
[null,null,"Logistic1",{"$f":"LN((D174/(1-D174))/(0.5/0.5))/LN($E169/I169)","v":23.2196999386987}]
[null,null,"Logistic Param",0.999,null,{"$f":"0.7/0.3","v":2.3333333333333335}]
[null,null,"Score ",{"$f":"MIN(ROUND(D171*Construction!$I$3,0),$I172)","v":12},{"$f":"MIN(ROUND(E171*Construction!$I$3,0),$I172)","v":14},{"$f":"MIN(ROUND(F171*Construction!$I$3,0),$I172)","v":{"$error":"#N/A"}},{"$f":"MIN(ROUND(G171*Construction!$I$3,0),$I172)","v":{"$error":"#N/A"}},null,{"$f":"MIN(ROUND(I171*Construction!$I$3,0),$I172)","v":20}]
[]
[]
[]
[]
[null,null,null,{"$f":"INDEX(MedConf_Header,1,2)","v":"Divided - Unsurfaced Median"}]
[]
[null,"Roadsde",null,"Existing","Standard","Design 1","Design 2"]
[null,null,null,{"$f":"IF(ISBLANK(D75), 0, MID(D75,FIND(\":\",D75,1)+1,FIND(\"H\",D75,1)-FIND(\":\",D75,1)-1)+0)","v":0},{"$f":"MID(E75,FIND(\":\",E75,1)+1,FIND(\"H\",E75,1)-FIND(\":\",E75,1)-1)+0","v":4},{"$f":"IF(ISBLANK(F75), 0, MID(F75,FIND(\":\",F75,1)+1,FIND(\"H\",F75,1)-FIND(\":\",F75,1)-1)+0)","v":0},{"$f":"IF(ISBLANK(G75), 0, MID(G75,FIND(\":\",G75,1)+1,FIND(\"H\",G75,1)-FIND(\":\",G75,1)-1)+0)","v":0},null,{"$f":"MID(I75,FIND(\":\",I75,1)+1,FIND(\"H\",I75,1)-FIND(\":\",I75,1)-1)+0","v":6},null,null,null,null,null,0]
[null,null,"Sideslope (Foreslope)",{"$f":"IF(D24=INDEX(MedConf_Header,1,2),(IF(D183<=3,1,IF(OR(D183=4,D183=5),(Roadside!$F$15-1)*Constraints!$H$24/Constraints!$D$24+1,(Roadside!$F$15*Roadside!$F$16-1)*Constraints!$H$24/Constraints!$D$24+1))),(IF(D183<=3,1,IF(OR(D183=4,D183=5),(Roadside!$F$15-1)*Constraints!$H$38/Constraints!$D$38+1,(Roadside!$F$15*Roadside!$F$16-1)*Constraints!$H$38/Constraints!$D$38+1))))","v":1},{"$f":"IF(E24=INDEX(MedConf_Header,1,2),(IF(E183<=3,1,IF(OR(E183=4,E183=5),(Roadside!$F$15-1)*Constraints!$H$24/Constraints!$D$24+1,(Roadside!$F$15*Roadside!$F$16-1)*Constraints!$H$24/Constraints!$D$24+1))),(IF(E183<=3,1,IF(OR(E183=4,E183=5),(Roadside!$F$15-1)*Constraints!$H$38/Constraints!$D$38+1,(Roadside!$F$15*Roadside!$F$16-1)*Constraints!$H$38/Constraints!$D$38+1))))","v":0.84302377525189853},{"$f":"IF(F24=INDEX(MedConf_Header,1,2),(IF(F183<=3,1,IF(OR(F183=4,F183=5),(Roadside!$F$15-1)*Constraints!$H$24/Constraints!$D$24+1,(Roadside!$F$15*Roadside!$F$16-1)*Constraints!$H$24/Constraints!$D$24+1))),(IF(F183<=3,1,IF(OR(F183=4,F183=5),(Roadside!$F$15-1)*Constraints!$H$38/Constraints!$D$38+1,(Roadside!$F$15*Roadside!$F$16-1)*Constraints!$H$38/Constraints!$D$38+1))))","v":1},{"$f":"IF(G24=INDEX(MedConf_Header,1,2),(IF(G183<=3,1,IF(OR(G183=4,G183=5),(Roadside!$F$15-1)*Constraints!$H$24/Constraints!$D$24+1,(Roadside!$F$15*Roadside!$F$16-1)*Constraints!$H$24/Constraints!$D$24+1))),(IF(G183<=3,1,IF(OR(G183=4,G183=5),(Roadside!$F$15-1)*Constraints!$H$38/Constraints!$D$38+1,(Roadside!$F$15*Roadside!$F$16-1)*Constraints!$H$38/Constraints!$D$38+1))))","v":1},{"$f":"IF($I$2=\"Existing\",(D184),(IF($I$2=\"Design 1\",(F184),(IF($I$2=\"Design 2\",(G184),(IF($I$2=\"Optimal\",(I184),E184)))))))","v":0.84302377525189853},{"$f":"IF(I24=INDEX(MedConf_Header,1,2),(IF(I183<=3,1,IF(OR(I183=4,I183=5),(Roadside!$F$15-1)*Constraints!$H$24/Constraints!$D$24+1,(Roadside!$F$15*Roadside!$F$16-1)*Constraints!$H$24/Constraints!$D$24+1))),(IF(I183<=3,1,IF(OR(I183=4,I183=5),(Roadside!$F$15-1)*Constraints!$H$38/Constraints!$D$38+1,(Roadside!$F$15*Roadside!$F$16-1)*Constraints!$H$38/Constraints!$D$38+1))))","v":0.79533290316176108},null,{"$f":"INDEX($D184:$I184,K$100)","v":1},{"$f":"INDEX($D184:$I184,L$100)","v":0.84302377525189853},{"$f":"IF(ISERROR(1-L184/K184), 0, 1-L184/K184)","v":0.15697622474810147},null,0]
[null,null,"Backslope",1,1,1,1,{"$f":"IF($I$2=\"Existing\",(D185),(IF($I$2=\"Design 1\",(F185),(IF($I$2=\"Design 2\",(G185),(IF($I$2=\"Optimal\",(I185),E185)))))))","v":1},1,null,{"$f":"INDEX($D185:$I185,K$100)","v":1},{"$f":"INDEX($D185:$I185,L$100)","v":1},0,null,0]
[null,null,"SafetyEdge",{"$f":"IF(D24=INDEX(MedConf_Header,1,2),(IF(D$77=\"No\",1,(Roadside!$F$23-1)*AVERAGE(Constraints!$H$24,Constraints!$F$24)/Constraints!$D$24+1)),(IF(D$77=\"No\",1,(Roadside!$F$23-1)*AVERAGE(Constraints!$H$38,Constraints!$F$38)/Constraints!$D$38+1)))","v":0.97711209540034072},{"$f":"IF(E$77=\"No\",1,(Roadside!$F$23-1)*AVERAGE(Constraints!$H$24,Constraints!$F$24)/Constraints!$D$24+1)","v":1},{"$f":"IF(F24=INDEX(MedConf_Header,1,2),(IF(F$77=\"No\",1,(Roadside!$F$23-1)*AVERAGE(Constraints!$H$24,Constraints!$F$24)/Constraints!$D$24+1)),(IF(F$77=\"No\",1,(Roadside!$F$23-1)*AVERAGE(Constraints!$H$38,Constraints!$F$38)/Constraints!$D$38+1)))","v":0.97711209540034072},{"$f":"IF(G24=INDEX(MedConf_Header,1,2),(IF(G$77=\"No\",1,(Roadside!$F$23-1)*AVERAGE(Constraints!$H$24,Constraints!$F$24)/Constraints!$D$24+1)),(IF(G$77=\"No\",1,(Roadside!$F$23-1)*AVERAGE(Constraints!$H$38,Constraints!$F$38)/Constraints!$D$38+1)))","v":0.97711209540034072},{"$f":"IF($I$2=\"Existing\",(D186),(IF($I$2=\"Design 1\",(F186),(IF($I$2=\"Design 2\",(G186),(IF($I$2=\"Optimal\",(I186),E186)))))))","v":1},{"$f":"IF(I$77=\"No\",1,(Roadside!$F$23-1)*AVERAGE(Constraints!$H$24,Constraints!$F$24)/Constraints!$D$24+1)","v":0.97526887377773364},null,{"$f":"INDEX($D186:$I186,K$100)","v":0.97711209540034072},{"$f":"INDEX($D186:$I186,L$100)","v":1},-2.3424031600265627E-2,null,-2.8188991921691331E-2]
[null,null,"Lateral Clearance (ft)",{"$f":"IF(D24=INDEX(MedConf_Header,1,2),(IF($B$31=\"Yes\",((EXP(LN(Roadside!$F$11)*(IF(D$79=\"None\",40,D$78)-30)/30)-1))*Constraints!$H$17/Constraints!$D$24+1,((EXP(LN(Roadside!$F$10)*(IF(D$79=\"None\",40,D$78)-30)/30)-1))*Constraints!$H$17/Constraints!$D$24+1)),(IF($B$31=\"Yes\",((EXP(LN(Roadside!$F$11)*(IF(D$79=\"None\",40,D$78)-30)/30)-1))*Constraints!$H$31/Constraints!$D$38+1,((EXP(LN(Roadside!$F$10)*(IF(D$79=\"None\",40,D$78)-30)/30)-1))*Constraints!$H$31/Constraints!$D$38+1)))","v":1.0472592444132678},{"$f":"IF(E24=INDEX(MedConf_Header,1,2),(IF($B$31=\"Yes\",((EXP(LN(Roadside!$F$11)*(IF(E$79=\"None\",40,E$78)-30)/30)-1))*Constraints!$H$17/Constraints!$D$24+1,((EXP(LN(Roadside!$F$10)*(IF(E$79=\"None\",40,E$78)-30)/30)-1))*Constraints!$H$17/Constraints!$D$24+1)),(IF($B$31=\"Yes\",((EXP(LN(Roadside!$F$11)*(IF(E$79=\"None\",40,E$78)-30)/30)-1))*Constraints!$H$31/Constraints!$D$38+1,((EXP(LN(Roadside!$F$10)*(IF(E$79=\"None\",40,E$78)-30)/30)-1))*Constraints!$H$31/Constraints!$D$38+1)))","v":0.97942029665168673},{"$f":"IF(F24=INDEX(MedConf_Header,1,2),(IF($B$31=\"Yes\",((EXP(LN(Roadside!$F$11)*(IF(F$79=\"None\",40,F$78)-30)/30)-1))*Constraints!$H$17/Constraints!$D$24+1,((EXP(LN(Roadside!$F$10)*(IF(F$79=\"None\",40,F$78)-30)/30)-1))*Constraints!$H$17/Constraints!$D$24+1)),(IF($B$31=\"Yes\",((EXP(LN(Roadside!$F$11)*(IF(F$79=\"None\",40,F$78)-30)/30)-1))*Constraints!$H$31/Constraints!$D$38+1,((EXP(LN(Roadside!$F$10)*(IF(F$79=\"None\",40,F$78)-30)/30)-1))*Constraints!$H$31/Constraints!$D$38+1)))","v":1.0472592444132678},{"$f":"IF(G24=INDEX(MedConf_Header,1,2),(IF($B$31=\"Yes\",((EXP(LN(Roadside!$F$11)*(IF(G$79=\"None\",40,G$78)-30)/30)-1))*Constraints!$H$17/Constraints!$D$24+1,((EXP(LN(Roadside!$F$10)*(IF(G$79=\"None\",40,G$78)-30)/30)-1))*Constraints!$H$17/Constraints!$D$24+1)),(IF($B$31=\"Yes\",((EXP(LN(Roadside!$F$11)*(IF(G$79=\"None\",40,G$78)-30)/30)-1))*Constraints!$H$31/Constraints!$D$38+1,((EXP(LN(Roadside!$F$10)*(IF(G$79=\"None\",40,G$78)-30)/30)-1))*Constraints!$H$31/Constraints!$D$38+1)))","v":1.0472592444132678},{"$f":"IF($I$2=\"Existing\",(D187),(IF($I$2=\"Design 1\",(F187),(IF($I$2=\"Design 2\",(G187),(IF($I$2=\"Optimal\",(I187),E187)))))))","v":0.97942029665168673},{"$f":"IF(I24=INDEX(MedConf_Header,1,2),(IF($B$31=\"Yes\",((EXP(LN(Roadside!$F$11)*(IF(I$79=\"None\",40,I$78)-30)/30)-1))*Constraints!$H$17/Constraints!$D$24+1,((EXP(LN(Roadside!$F$10)*(IF(I$79=\"None\",40,I$78)-30)/30)-1))*Constraints!$H$17/Constraints!$D$24+1)),(IF($B$31=\"Yes\",((EXP(LN(Roadside!$F$11)*(IF(I$79=\"None\",40,I$78)-30)/30)-1))*Constraints!$H$31/Constraints!$D$38+1,((EXP(LN(Roadside!$F$10)*(IF(I$79=\"None\",40,I$78)-30)/30)-1))*Constraints!$H$31/Constraints!$D$38+1)))","v":0.97942029665168673},null,{"$f":"INDEX($D187:$I187,K$100)","v":1.0472592444132678},{"$f":"INDEX($D187:$I187,L$100)","v":0.97942029665168673},6.4777606999867676E-2,null,9.0307162971216326E-2]
[null,null,"Roadside Obstruction Type",{"$f":"IF(D24=INDEX(MedConf_Header,1,2),(IF(D$79=\"Guardrail\",(Roadside!$F$25-1)*(($I$78-D$78)/$I$78)^2*Constraints!$H$17/Constraints!$D$24+1,1)),(IF(D$79=\"Guardrail\",(Roadside!$F$25-1)*(($I$78-D$78)/$I$78)^2*Constraints!$H$31/Constraints!$D$38+1,1)))","v":1},{"$f":"IF(E24=INDEX(MedConf_Header,1,2),(IF(E$79=\"Guardrail\",(Roadside!$F$25-1)*(($I$78-E$78)/$I$78)^2*Constraints!$H$17/Constraints!$D$24+1,1)),(IF(E$79=\"Guardrail\",(Roadside!$F$25-1)*(($I$78-E$78)/$I$78)^2*Constraints!$H$31/Constraints!$D$38+1,1)))","v":1},{"$f":"IF(F24=INDEX(MedConf_Header,1,2),(IF(F$79=\"Guardrail\",(Roadside!$F$25-1)*(($I$78-F$78)/$I$78)^2*Constraints!$H$17/Constraints!$D$24+1,1)),(IF(F$79=\"Guardrail\",(Roadside!$F$25-1)*(($I$78-F$78)/$I$78)^2*Constraints!$H$31/Constraints!$D$38+1,1)))","v":1},{"$f":"IF(G24=INDEX(MedConf_Header,1,2),(IF(G$79=\"Guardrail\",(Roadside!$F$25-1)*(($I$78-G$78)/$I$78)^2*Constraints!$H$17/Constraints!$D$24+1,1)),(IF(G$79=\"Guardrail\",(Roadside!$F$25-1)*(($I$78-G$78)/$I$78)^2*Constraints!$H$31/Constraints!$D$38+1,1)))","v":1},{"$f":"IF($I$2=\"Existing\",(D188),(IF($I$2=\"Design 1\",(F188),(IF($I$2=\"Design 2\",(G188),(IF($I$2=\"Optimal\",(I188),E188)))))))","v":1},{"$f":"IF(I24=INDEX(MedConf_Header,1,2),(IF(I$79=\"Guardrail\",(Roadside!$F$25-1)*(($I$78-I$78)/$I$78)^2*Constraints!$H$17/Constraints!$D$24+1,1)),(IF(I$79=\"Guardrail\",(Roadside!$F$25-1)*(($I$78-I$78)/$I$78)^2*Constraints!$H$31/Constraints!$D$38+1,1)))","v":1},null,{"$f":"INDEX($D188:$I188,K$100)","v":1},{"$f":"INDEX($D188:$I188,L$100)","v":1},0,null,0]
[null,null,null,null,null,null,null,null,null,null,{"$f":"INDEX($D189:$I189,K$100)","v":0},{"$f":"INDEX($D189:$I189,L$100)","v":0},0]
[null,null,null,null,null,null,null,null,null,null,{"$f":"INDEX($D190:$I190,K$100)","v":0},{"$f":"INDEX($D190:$I190,L$100)","v":0},0]
[null,null,"COMBINED Calculated CMF",{"$f":"+D184*D185*D186*D187*D188","v":1.0232896747360256},{"$f":"+E184*E185*E186*E187*E188","v":0.82567459604163929},1.0232896747360256,1.0232896747360256,{"$f":"IF($I$2=\"Existing\",(D191),(IF($I$2=\"Design 1\",(F191),(IF($I$2=\"Design 2\",(G191),(IF($I$2=\"Optimal\",(I191),E191)))))))","v":0.82567459604163929},{"$f":"+I184*I185*I186*I187*I188","v":0.75970050156555824},null,{"$f":"INDEX($D191:$I191,K$100)","v":1.0232896747360256},{"$f":"INDEX($D191:$I191,L$100)","v":0.82567459604163929},0.1931174364144389]
[null,null,"Calculated Relative to Design Standards (Column E)",{"$f":"+D191/$E$191","v":1.2393377241370527},{"$f":"+E191/$E$191","v":1},1.2393377241370527,1.2393377241370527,1,{"$f":"+I191/$E$191","v":0.92009673690777583},null,{"$f":"INDEX($D192:$I192,K$100)","v":1.2393377241370527},{"$f":"INDEX($D192:$I192,L$100)","v":1},0.1931174364144389]
[null,null,"P(Crash)",{"$f":"+D192/(D192+1)","v":0.55343939896990835},0.5,0.55343939896990835,0.55343939896990835,0.5,{"$f":"+I192/(I192+1)","v":0.47919290691027777},null,{"$f":"INDEX($D193:$I193,K$100)","v":0.55343939896990835},{"$f":"INDEX($D193:$I193,L$100)","v":0.5},9.6558718207219618E-2]
[null,null,"Factor Change on S curve",{"$f":"+D193/$E$193","v":1.1068787979398167},{"$f":"+E193/$E$193","v":1},1.1068787979398167,1.1068787979398167,1,{"$f":"+I193/$E$193","v":0.95838581382055554},null,{"$f":"INDEX($D194:$I194,K$100)","v":1.1068787979398167},{"$f":"INDEX($D194:$I194,L$100)","v":1},9.6558718207219618E-2]
[null,null,"Adjust to Scale of 100",{"$f":"+$I$118/D194*100","v":{"$error":"#VALUE!"}},{"$error":"#VALUE!"},{"$error":"#VALUE!"},{"$error":"#VALUE!"},{"$error":"#VALUE!"},{"$f":"+$I$118/I194*100","v":{"$error":"#VALUE!"}},null,{"$f":"INDEX($D195:$I195,K$100)","v":{"$error":"#VALUE!"}},{"$f":"INDEX($D195:$I195,L$100)","v":{"$error":"#VALUE!"}},0]
[null,null,"Unadjusted Combined Relative to Standard",{"$f":"+D191/$E$191","v":1.2393377241370527},{"$f":"+E191/$E$191","v":1},1.2393377241370527,1.2393377241370527,1,{"$f":"+I191/$E$191","v":0.92009673690777583},{"$f":"I202/E202","v":1.0810810810810811},{"$f":"INDEX($D196:$I196,K$100)","v":1.2393377241370527},{"$f":"INDEX($D196:$I196,L$100)","v":1},0.1931174364144389]
[null,null,null,null,null,null,null,null,null,null,{"$f":"INDEX($D197:$I197,K$100)","v":0},{"$f":"INDEX($D197:$I197,L$100)","v":0},0]
[null,null,"Adjusted for PA Basis",{"$f":"+D191*(1+1)/(1+D191*1)","v":1.0115107960203793},0.90451452611745442,1.0115107960203793,1.0115107960203793,{"$f":"IF($I$2=\"Existing\",(D198),(IF($I$2=\"Design 1\",(F198),(IF($I$2=\"Design 2\",(G198),(IF($I$2=\"Optimal\",(I198),E198)))))))","v":0.90451452611745442},{"$f":"+I191*(1+1)/(1+I191*1)","v":0.86344295621859868},null,{"$f":"INDEX($D198:$I198,K$100)","v":1.0115107960203793},{"$f":"INDEX($D198:$I198,L$100)","v":0.90451452611745442},0.10577867317272727]
[null,null,"Corrected by Odds Ratio",{"$f":"+D191/$E$191","v":1.2393377241370527},{"$f":"+E191/$E$191","v":1},1.2393377241370527,1.2393377241370527,{"$f":"IF($I$2=\"Existing\",(D199),(IF($I$2=\"Design 1\",(F199),(IF($I$2=\"Design 2\",(G199),(IF($I$2=\"Optimal\",(I199),E199)))))))","v":1},{"$f":"+I191/$E$191","v":0.92009673690777583},{"$f":"I205/E205","v":1.4814814814814814},{"$f":"INDEX($D199:$I199,K$100)","v":1.2393377241370527},{"$f":"INDEX($D199:$I199,L$100)","v":1},0.1931174364144389]
[null,null,null,{"$f":"(1/D199)^$D203","v":1.8666691582346016E-8},{"$f":"(1/E199)^$D203","v":1},1.8666691582346016E-8,1.8666691582346016E-8,1,998.99999999999955]
[null,null,null,{"$f":"(D200+$F204-1)/(1+(D200+$F204-1))","v":0.50000000466667294},{"$f":"(E200+$F204-1)/(1+(E200+$F204-1))","v":0.66666666666666663},0.50000000466667294,0.50000000466667294,0.66666666666666663,0.99900099900099903]
[null,null,"Score Odds Ratio with Optimal as 100 (old)",{"$f":"MIN(ROUND($I$199/D199*Construction!$I$4,0),$I202)","v":30},{"$f":"MIN(ROUND($I$199/E199*Construction!$I$4,0),$I202)","v":37},{"$f":"MIN(ROUND($I$199/F199*Construction!$I$4,0),$I202)","v":30},{"$f":"MIN(ROUND($I$199/G199*Construction!$I$4,0),$I202)","v":30},null,{"$f":"ROUND($I$199/I199*Construction!$I$4,0)","v":40}]
[null,null,"Logistic1",{"$f":"LN((D204/(1-D204))/(0.5/0.5))/LN($E199/I199)","v":82.937655007418002}]
[null,null,"Logistic Param",0.999,null,2]
[null,null,"Score ",{"$f":"MIN(ROUND(D201*Construction!$I$4,0),$I202)","v":20},{"$f":"MIN(ROUND(E201*Construction!$I$4,0),$I202)","v":27},{"$f":"MIN(ROUND(F201*Construction!$I$4,0),$I202)","v":20},{"$f":"MIN(ROUND(G201*Construction!$I$4,0),$I202)","v":20},null,{"$f":"MIN(ROUND(I201*Construction!$I$4,0),$I202)","v":40}]
[]
[]
[]
[]
[null,null,{"$f":"D87/D183","v":{"$error":"#DIV/0!"}},null,{"$f":"ROUNDUP((MIN($I$14,$I$15)-E27-E28)/$C$210,0)","v":{"$error":"#DIV/0!"}},{"$f":"ROUNDUP((MIN($I$14,$I$15)-F27-F28)/$C$210,0)","v":{"$error":"#DIV/0!"}},{"$f":"ROUNDUP((MIN($I$14,$I$15)-G27-G28)/$C$210,0)","v":{"$error":"#DIV/0!"}},null,{"$f":"ROUNDUP((MIN($I$14,$I$15)-I27-I28)/$C$210,0)","v":{"$error":"#DIV/0!"}}]
[]
[]
[null,null,"Distance to low point","Distance to low point",{"$f":"$C$210*E183","v":{"$error":"#DIV/0!"}},{"$f":"$C$210*F183","v":{"$error":"#DIV/0!"}},{"$error":"#DIV/0!"},null,{"$f":"$C$210*I183","v":{"$error":"#DIV/0!"}}]
[null,null,null,"Additional ROW1 Needed for Foreslope",{"$f":"IF(E213>($I$14-E27-E28),E213-($I$14-E27-E28),0)","v":{"$error":"#DIV/0!"}},{"$f":"IF(F213>($I$14-F27-F28),F213-($I$14-F27-F28),0)","v":{"$error":"#DIV/0!"}},{"$f":"IF(G213>($I$14-G27-G28),G213-($I$14-G27-G28),0)","v":{"$error":"#DIV/0!"}},null,{"$f":"IF(I213>($I$14-I27-I28),I213-($I$14-I27-I28),0)","v":{"$error":"#DIV/0!"}}]
[null,null,null,"Additional ROW2 Needed for Foreslope",{"$f":"IF(E213>($I$15-E27-E28),E213-($I$15-E27-E28),0)","v":{"$error":"#DIV/0!"}},{"$f":"IF(F213>($I$15-F27-F28),F213-($I$15-F27-F28),0)","v":{"$error":"#DIV/0!"}},{"$f":"IF(G213>($I$15-G27-G28),G213-($I$15-G27-G28),0)","v":{"$error":"#DIV/0!"}},null,{"$f":"IF(I213>($I$15-I27-I28),I213-($I$15-I27-I28),0)","v":{"$error":"#DIV/0!"}}]
[]
[null,null,null,"Additional ROW1 Needed for Lateral Clearance",{"$f":"IF((CL251+E30)-$I$14<0,0,(CL251+E30)-$I$14)","v":2},{"$f":"IF((CM251+F30)-$I$14<0,0,(CM251+F30)-$I$14)","v":0},{"$f":"IF((CN251+G30)-$I$14<0,0,(CN251+G30)-$I$14)","v":0},null,{"$f":"IF((CP251+I30)-$I$14<0,0,(CP251+I30)-$I$14)","v":2}]
[null,null,null,"Additional ROW2 Needed for Lateral Clearance",{"$f":"IF((CL251+E30)-$I$15<0,0,(CL251+E30)-$I$15)","v":2},{"$f":"IF((CM251+F30)-$I$15<0,0,(CM251+F30)-$I$15)","v":0},{"$f":"IF((CN251+G30)-$I$15<0,0,(CN251+G30)-$I$15)","v":0},null,{"$f":"IF((CP251+I30)-$I$15<0,0,(CP251+I30)-$I$15)","v":2}]
[]
[]
[]
[]
[]
[]
[]
[]
[]
[]
[]
[null,null,"For Vertical Opt Use when Yes Vertical:"]
[null,null,"G1",{"$f":"D40","v":0},null,{"$f":"F40","v":0},{"$f":"G40","v":0},null,{"$f":"IF(ISERROR($E$238),\"\",INDEX(D231:G231,$E$238))","v":""}]
[null,null,"G2",{"$f":"D41","v":0},null,{"$f":"F41","v":0},{"$f":"G41","v":0},null,{"$f":"IF(ISERROR($E$238),\"\",INDEX(D232:G232,$E$238))","v":""}]
[null,null,"abs(G2-G1)",{"$f":"ABS(D40-D41)","v":0},null,{"$f":"ABS(F40-F41)","v":0},{"$f":"ABS(G40-G41)","v":0}]
[null,null,"Count in indicator (K no change; or K change but accept)",{"$f":"IF(D43<>\"\",1,\"\")","v":""},null,{"$f":"IF(OR(AND($B$38 = \"Yes\", $D$43 <> F43, F43 <>\"\", $D$43 <> \"\", F45=\"Yes.\"),AND($B$38 = \"Yes\", $D$43 = F43, F43 <>\"\", $D$43 <> \"\")), 1,\"\")","v":""},{"$f":"IF(OR(AND($B$38 = \"Yes\", $D$43 <> G43, G43 <>\"\", $D$43 <> \"\", G45=\"Yes.\"),AND($B$38 = \"Yes\", $D$43 = G43, G43 <>\"\", $D$43 <> \"\")), 1,\"\")","v":""}]
[]
[null,null,"Valid abs(G2-G1)",{"$f":"IF(ISERROR(D233*D234),\"\",D233*D234)","v":""},null,{"$f":"IF(ISERROR(F233*F234),\"\",F233*F234)","v":""},{"$f":"IF(ISERROR(G233*G234),\"\",G233*G234)","v":""}]
[null,null,"The min valid abs(G2-G1)",null,{"$f":"MIN(D236,F236,G236)","v":0}]
[null,null,"Index",null,{"$f":"MATCH(E237,D236:G236,0)","v":{"$error":"#N/A"}}]
[]
[null,null,"For Vertical Opt Use When No Vertical:"]
[null,null,"G1",{"$f":"IF(ISBLANK(D40), 999, D40)","v":999},null,{"$f":"IF(ISBLANK(F40), 999, F40)","v":999},{"$f":"IF(ISBLANK(G40), 999, G40)","v":999},null,{"$f":"IF(E246=999,\"\",E246)","v":""}]
[null,null,"Sign of G1",{"$f":"IF(D241>=0,1,-1)","v":1},null,{"$f":"IF(F241>=0,1,-1)","v":1},{"$f":"IF(G241>=0,1,-1)","v":1}]
[null,null,"Abs G1",{"$f":"ABS(D241)","v":999},null,{"$f":"ABS(F241)","v":999},{"$f":"ABS(G241)","v":999}]
[null,null,"Min Abs G1",null,{"$f":"MIN(D243:G243)","v":999}]
[null,null,"Which is the Best G1",null,{"$f":"MATCH(E244,D243:G243,0)","v":1}]
[null,null,"Best G1 Value",null,{"$f":"INDEX(D241:G241,1,E245)","v":999}]
[]
[]
[null,null,"Check if all cells filled",{"$f":"SUM(D251:D314)","v":19},{"$f":"SUM(E251:E314)","v":1},19,19,0,0]
[]
[null,null,{"$f":"C24","v":"Configuration of Multilane Roadway"},{"$f":"IF(ISBLANK(D24),1,0)","v":1},{"$f":"IF(ISBLANK(E24),1,0)","v":0},1,1,null,0]
[null,null,{"$f":"C25","v":"Median Configuration (Width or Type)"},{"$f":"IF(AND(D24<>\"No Median\", ISBLANK(D25)),1,0)","v":1},0,{"$f":"IF(AND(F24<>\"No Median\", ISBLANK(F25)),1,0)","v":1},{"$f":"IF(AND(G24<>\"No Median\", ISBLANK(G25)),1,0)","v":1},null,0]
[]
[null,null,"Lane Width (feet)",{"$f":"IF(ISBLANK(D27),1,0)","v":1},0,1,1,null,{"$f":"IF(ISBLANK(I27),1,0)","v":0}]
[null,null,"Average Outside Shoulder Width (feet)",1,0,1,1,null,0]
[null,null,"Average Inside Shoulder Width (feet)",1,0,1,1,null,0]
[null,null,"Number of Lanes per Direction of Travel",1,0,1,1,null,0]
[null,null,"Horizontal Curve Present?"]
[null,null,"Horizontal Curve Data for Controlling Element:"]
[null,null,"  Radius (feet)",{"$f":"IF(AND($B$31=\"Yes\", ISBLANK(D33)),1,0)","v":0},null,{"$f":"IF(AND($B$31=\"Yes\", ISBLANK(F33)),1,0)","v":0},{"$f":"IF(AND($B$31=\"Yes\", ISBLANK(G33)),1,0)","v":0},null,{"$f":"IF(ISBLANK(I33),1,0)","v":0}]
[null,null,"Length of Horizontal Curve (feet)",{"$f":"IF(AND($B$31=\"Yes\", ISBLANK(D34)),1,0)","v":0},null,{"$f":"IF(AND($B$31=\"Yes\", ISBLANK(F34)),1,0)","v":0},{"$f":"IF(AND($B$31=\"Yes\", ISBLANK(G34)),1,0)","v":0},null,0]
[null,null,"Calculated Deflection Angle ∆"]
[]
[null,null,null,null,null,{"$f":"IF(AND($B$31 = \"Yes\", $D$35 <> F35, F35<>\"\",ISBLANK(F37)),1,0)","v":0},{"$f":"IF(AND($B$31 = \"Yes\", $D$35 <> G35, G35<>\"\",ISBLANK(G37)),1,0)","v":0}]
[null,null,"Vertical Curve Present?"]
[null,null,"Vertical Curve Data for Controlling Element:"]
[null,null,"  Approach (Entry) Grade, G1 (%)",{"$f":"IF(ISBLANK(D40),1,0)","v":1},0,1,1,null,{"$f":"IF(ISBLANK(I40),1,0)","v":0}]
[null,null,"  Departure (Exit) Grade, G2 (%)",{"$f":"IF(AND($B$38=\"Yes\", ISBLANK(D41)),1,0)","v":0},{"$f":"IF(AND($B$38=\"Yes\", ISBLANK(E41)),1,0)","v":0},0,0,null,0]
[null,null,"  Length (feet)",{"$f":"IF(AND($B$38=\"Yes\", ISBLANK(D42)),1,0)","v":0},0,0,0,null,0]
[null,null,"  Calculated Rate of Change, K (ft/ft)"]
[]
[]
[null,null,"  Calculated Sag or Crest?"]
[]
[]
[null,null,"Geometric Design Element (Partial Score)"]
[null,null,"Total Safety Score"]
[]
[]
[]
[]
[]
[null,null,"Advance Static Curve Warning Signs",{"$f":"IF(AND($B$31=\"Yes\", ISBLANK(D56)),1,0)","v":0},{"$f":"IF(AND($B$31=\"Yes\", ISBLANK(E56)),1,0)","v":0},0,0,null,{"$f":"IF(ISBLANK(I56),1,0)","v":0}]
[null,null,"Chevron Signs on Horizontal Curves",{"$f":"IF(AND($B$31=\"Yes\", ISBLANK(D57)),1,0)","v":0},0,0,0,null,0]
[null,null,"Post-Mounted Delineators",0,0,0,0,null,0]
[null,null,"Edgeline Pavement Markings or Profile Markings",{"$f":"IF(ISBLANK(D59),1,0)","v":1},0,1,1,null,0]
[null,null,"Shoulder Rumble Strips",1,0,1,1,null,0]
[null,null,"Centerline Rumble Strips",1,0,1,1,null,0]
[null,null,"Driveway Density (driveways per mile)",1,0,1,1,null,0]
[null,null,"Lighting",1,0,1,1,null,0]
[null,null,"Pavement Friction (skid number) ***",1,0,1,1,null,0]
[null,null,"Traffic Control Element (Partial Score):"]
[null,null,"Total Safety Score"]
[]
[]
[]
[]
[]
[]
[]
[]
[null,null,"Roadside Sideslope (Foreslope)",{"$f":"IF(ISBLANK(D75),1,0)","v":1},0,1,1,null,{"$f":"IF(ISBLANK(I75),1,0)","v":0}]
[null,null,"Roadside Backslope",1,0,1,1,null,0]
[null,null,"Safety Edge",1,0,1,1,null,0]
[null,null,"Roadside Lateral Clearance to Obstruction (ft)",1,0,1,1,null,0]
[null,null,"Roadside Obstruction Type",1,0,1,1,null,0]
[null,null,"Roadside Element (Partial Score):"]
[null,null,"Total Safety Score"]
[]
[]
[]
[]
[]
[null,null,"Distance to Slope Toe from Shoulder (ft)",{"$f":"IF(ISBLANK(D87),1,0)","v":1},{"$f":"D314","v":1},{"$f":"E314","v":1},1,null,0]
[null,null,null,null,null,null,null,null,{"$f":"SUM(I316:I324)","v":9}]
[null,null,null,null,null,null,null,{"$f":"F9","v":"Location "},{"$f":"IF(ISBLANK(I9),1,0)","v":1}]
[null,null,null,null,null,null,null,{"$f":"F10","v":"Design Speed (mph)"},{"$f":"IF(ISBLANK(I10),1,0)","v":1}]
[null,null,null,null,null,null,null,"Posted Speed (mph)",1]
[null,null,null,null,null,null,null,"E max (%)",1]
[null,null,null,null,null,null,null,"    Design Year AADT (vehicles per day)",1]
[null,null,null,null,null,null,null,"    Dist. from Centerline to Left   ROW (feet)",1]
[null,null,null,null,null,null,null,"    Dist. from Centerline to Right ROW (feet)",1]
[null,null,null,null,null,null,null,"H CV",{"$f":"IF(ISBLANK(B31),1,0)","v":1}]
[null,null,null,null,null,null,null,"V HV",{"$f":"IF(ISBLANK(B38),1,0)","v":1}]
[]
[]
[]
[]
[]
[]
[]
[]
[]
[]
[]
[]
[]
[]
[]
[]
[]
[]
[]
[]
[]
[]
[]
[]
[]
[]
[]
[]
[]
[]
[]
[]
[]
[]
[]
[]
[]
[]
[]
[]
[]
[]
[]
[]
[]
[]
[]
[]
[]
[]
[]
[]
[]
[]
[1]
[22]
[21]
[20]
[19,null,null,{"$f":"Constraints!P174","v":"Emax=6%"}]
[18]
[17,null,{"$f":"HLOOKUP($I$10,Constraints!$Q$176:AD197,A379,TRUE)","v":{"$error":"#N/A"}},{"$f":"Constraints!P176","v":"super"}]
[16,null,{"$f":"HLOOKUP($I$10,Constraints!$Q$176:AD198,A380,TRUE)","v":{"$error":"#N/A"}},{"$f":"Constraints!P197","v":6},1050]
[15,null,{"$f":"HLOOKUP($I$10,Constraints!$Q$176:AD199,A381,TRUE)","v":{"$error":"#N/A"}},{"$f":"Constraints!P196","v":5.8}]
[14,null,{"$f":"HLOOKUP($I$10,Constraints!$Q$176:AD200,A382,TRUE)","v":{"$error":"#N/A"}},{"$f":"Constraints!P195","v":5.6}]
[13,null,{"$f":"HLOOKUP($I$10,Constraints!$Q$176:AD201,A383,TRUE)","v":{"$error":"#N/A"}},{"$f":"Constraints!P194","v":5.4}]
[12,null,{"$f":"HLOOKUP($I$10,Constraints!$Q$176:AD202,A384,TRUE)","v":{"$error":"#N/A"}},{"$f":"Constraints!P193","v":5.2}]
[11,null,{"$f":"HLOOKUP($I$10,Constraints!$Q$176:AD203,A385,TRUE)","v":{"$error":"#N/A"}},{"$f":"Constraints!P192","v":5}]
[10,null,{"$f":"HLOOKUP($I$10,Constraints!$Q$176:AD204,A386,TRUE)","v":{"$error":"#N/A"}},{"$f":"Constraints!P191","v":4.8}]
[9,null,{"$f":"HLOOKUP($I$10,Constraints!$Q$176:AD205,A387,TRUE)","v":{"$error":"#N/A"}},{"$f":"Constraints!P190","v":4.5999999999999996}]
[8,null,{"$f":"HLOOKUP($I$10,Constraints!$Q$176:AD206,A388,TRUE)","v":{"$error":"#N/A"}},{"$f":"Constraints!P189","v":4.4000000000000004}]
[7,null,{"$f":"HLOOKUP($I$10,Constraints!$Q$176:AD207,A389,TRUE)","v":{"$error":"#N/A"}},{"$f":"Constraints!P188","v":4.2}]
[6,null,{"$f":"HLOOKUP($I$10,Constraints!$Q$176:AD208,A390,TRUE)","v":{"$error":"#N/A"}},{"$f":"Constraints!P187","v":4}]
[5,null,{"$f":"HLOOKUP($I$10,Constraints!$Q$176:AD209,A391,TRUE)","v":{"$error":"#N/A"}},{"$f":"Constraints!P186","v":3.8}]
[4,null,{"$f":"HLOOKUP($I$10,Constraints!$Q$176:AD210,A392,TRUE)","v":{"$error":"#N/A"}},{"$f":"Constraints!P185","v":3.6}]
[3,null,{"$f":"HLOOKUP($I$10,Constraints!$Q$176:AD211,A393,TRUE)","v":{"$error":"#N/A"}},{"$f":"Constraints!P184","v":3.4}]
[2,null,{"$f":"HLOOKUP($I$10,Constraints!$Q$176:AD212,A394,TRUE)","v":{"$error":"#N/A"}},{"$f":"Constraints!P183","v":3.2}]
[null,null,{"$f":"HLOOKUP($I$10,Constraints!$Q$176:AD213,A395,TRUE)","v":{"$error":"#N/A"}},{"$f":"Constraints!P182","v":3}]
[null,null,{"$f":"HLOOKUP($I$10,Constraints!$Q$176:AD214,A396,TRUE)","v":{"$error":"#N/A"}},{"$f":"Constraints!P181","v":2.8}]
[null,null,{"$f":"HLOOKUP($I$10,Constraints!$Q$176:AD215,A397,TRUE)","v":{"$error":"#N/A"}},{"$f":"Constraints!P180","v":2.6}]
[null,null,{"$f":"HLOOKUP($I$10,Constraints!$Q$176:AD216,A398,TRUE)","v":{"$error":"#N/A"}},{"$f":"Constraints!P179","v":2.4}]
[null,null,{"$f":"HLOOKUP($I$10,Constraints!$Q$176:AD217,A399,TRUE)","v":{"$error":"#N/A"}},{"$f":"Constraints!P178","v":2.2000000000000002}]
[1,null,{"$f":"HLOOKUP($I$10,Constraints!$Q$176:AD218,A400,TRUE)","v":{"$error":"#N/A"}},{"$f":"Constraints!P177","v":2}]
[32]
[31]
[30]
[29,null,null,{"$f":"Constraints!P201","v":"Emax=8%"}]
[28]
[27,null,{"$f":"HLOOKUP($I$10,Constraints!$Q$203:AD234,A406,TRUE)","v":{"$error":"#N/A"}},{"$f":"Constraints!P203","v":"super"}]
[26,null,{"$f":"HLOOKUP($I$10,Constraints!$Q$203:AD235,A407,TRUE)","v":{"$error":"#N/A"}},{"$f":"INDEX(Constraints!$P$203:$P$234,A407,)","v":8}]
[25,null,{"$f":"HLOOKUP($I$10,Constraints!$Q$203:AD236,A408,TRUE)","v":{"$error":"#N/A"}},{"$f":"INDEX(Constraints!$P$203:$P$234,A408,)","v":7.8}]
[24,null,{"$f":"HLOOKUP($I$10,Constraints!$Q$203:AD237,A409,TRUE)","v":{"$error":"#N/A"}},{"$f":"INDEX(Constraints!$P$203:$P$234,A409,)","v":7.6}]
[23,null,{"$f":"HLOOKUP($I$10,Constraints!$Q$203:AD238,A410,TRUE)","v":{"$error":"#N/A"}},{"$f":"INDEX(Constraints!$P$203:$P$234,A410,)","v":7.4}]
[22,null,{"$f":"HLOOKUP($I$10,Constraints!$Q$203:AD239,A411,TRUE)","v":{"$error":"#N/A"}},{"$f":"INDEX(Constraints!$P$203:$P$234,A411,)","v":7.2}]
[21,null,{"$f":"HLOOKUP($I$10,Constraints!$Q$203:AD240,A412,TRUE)","v":{"$error":"#N/A"}},{"$f":"INDEX(Constraints!$P$203:$P$234,A412,)","v":7}]
[20,null,{"$f":"HLOOKUP($I$10,Constraints!$Q$203:AD241,A413,TRUE)","v":{"$error":"#N/A"}},{"$f":"INDEX(Constraints!$P$203:$P$234,A413,)","v":6.8}]
[19,null,{"$f":"HLOOKUP($I$10,Constraints!$Q$203:AD242,A414,TRUE)","v":{"$error":"#N/A"}},{"$f":"INDEX(Constraints!$P$203:$P$234,A414,)","v":6.6}]
[18,null,{"$f":"HLOOKUP($I$10,Constraints!$Q$203:AD243,A415,TRUE)","v":{"$error":"#N/A"}},{"$f":"INDEX(Constraints!$P$203:$P$234,A415,)","v":6.4}]
[17,null,{"$f":"HLOOKUP($I$10,Constraints!$Q$203:AD244,A416,TRUE)","v":{"$error":"#N/A"}},{"$f":"INDEX(Constraints!$P$203:$P$234,A416,)","v":6.2}]
[16,null,{"$f":"HLOOKUP($I$10,Constraints!$Q$203:AD245,A417,TRUE)","v":{"$error":"#N/A"}},{"$f":"INDEX(Constraints!$P$203:$P$234,A417,)","v":6}]
[15,null,{"$f":"HLOOKUP($I$10,Constraints!$Q$203:AD246,A418,TRUE)","v":{"$error":"#N/A"}},{"$f":"INDEX(Constraints!$P$203:$P$234,A418,)","v":5.8}]
[14,null,{"$f":"HLOOKUP($I$10,Constraints!$Q$203:AD247,A419,TRUE)","v":{"$error":"#N/A"}},{"$f":"INDEX(Constraints!$P$203:$P$234,A419,)","v":5.6}]
[13,null,{"$f":"HLOOKUP($I$10,Constraints!$Q$203:AD248,A420,TRUE)","v":{"$error":"#N/A"}},{"$f":"INDEX(Constraints!$P$203:$P$234,A420,)","v":5.4}]
[12,null,{"$f":"HLOOKUP($I$10,Constraints!$Q$203:AD249,A421,TRUE)","v":{"$error":"#N/A"}},{"$f":"INDEX(Constraints!$P$203:$P$234,A421,)","v":5.2}]
[11,null,{"$f":"HLOOKUP($I$10,Constraints!$Q$203:AD250,A422,TRUE)","v":{"$error":"#N/A"}},{"$f":"INDEX(Constraints!$P$203:$P$234,A422,)","v":5}]
[10,null,{"$f":"HLOOKUP($I$10,Constraints!$Q$203:AD251,A423,TRUE)","v":{"$error":"#N/A"}},{"$f":"INDEX(Constraints!$P$203:$P$234,A423,)","v":4.8}]
[9,null,{"$f":"HLOOKUP($I$10,Constraints!$Q$203:AD252,A424,TRUE)","v":{"$error":"#N/A"}},{"$f":"INDEX(Constraints!$P$203:$P$234,A424,)","v":4.5999999999999996}]
[8,null,{"$f":"HLOOKUP($I$10,Constraints!$Q$203:AD253,A425,TRUE)","v":{"$error":"#N/A"}},{"$f":"INDEX(Constraints!$P$203:$P$234,A425,)","v":4.4000000000000004}]
[7,null,{"$f":"HLOOKUP($I$10,Constraints!$Q$203:AD254,A426,TRUE)","v":{"$error":"#N/A"}},{"$f":"INDEX(Constraints!$P$203:$P$234,A426,)","v":4.2}]
[6,null,{"$f":"HLOOKUP($I$10,Constraints!$Q$203:AD255,A427,TRUE)","v":{"$error":"#N/A"}},{"$f":"INDEX(Constraints!$P$203:$P$234,A427,)","v":4}]
[5,null,{"$f":"HLOOKUP($I$10,Constraints!$Q$203:AD256,A428,TRUE)","v":{"$error":"#N/A"}},{"$f":"INDEX(Constraints!$P$203:$P$234,A428,)","v":3.8}]
[4,null,{"$f":"HLOOKUP($I$10,Constraints!$Q$203:AD257,A429,TRUE)","v":{"$error":"#N/A"}},{"$f":"INDEX(Constraints!$P$203:$P$234,A429,)","v":3.6}]
[3,null,{"$f":"HLOOKUP($I$10,Constraints!$Q$203:AD258,A430,TRUE)","v":{"$error":"#N/A"}},{"$f":"INDEX(Constraints!$P$203:$P$234,A430,)","v":3.4}]
[2,null,{"$f":"HLOOKUP($I$10,Constraints!$Q$203:AD259,A431,TRUE)","v":{"$error":"#N/A"}},{"$f":"INDEX(Constraints!$P$203:$P$234,A431,)","v":3.2}]
[null,null,{"$f":"HLOOKUP($I$10,Constraints!$Q$203:AD260,A432,TRUE)","v":{"$error":"#N/A"}},{"$f":"INDEX(Constraints!$P$203:$P$234,A432,)","v":3}]
[null,null,{"$f":"HLOOKUP($I$10,Constraints!$Q$203:AD261,A433,TRUE)","v":{"$error":"#N/A"}},{"$f":"INDEX(Constraints!$P$203:$P$234,A433,)","v":2.8}]
[null,null,{"$f":"HLOOKUP($I$10,Constraints!$Q$203:AD262,A434,TRUE)","v":{"$error":"#N/A"}},{"$f":"INDEX(Constraints!$P$203:$P$234,A434,)","v":2.6}]
[null,null,{"$f":"HLOOKUP($I$10,Constraints!$Q$203:AD263,A435,TRUE)","v":{"$error":"#N/A"}},{"$f":"INDEX(Constraints!$P$203:$P$234,A435,)","v":2.4}]
[null,null,{"$f":"HLOOKUP($I$10,Constraints!$Q$203:AD264,A436,TRUE)","v":{"$error":"#N/A"}},{"$f":"INDEX(Constraints!$P$203:$P$234,A436,)","v":2.2000000000000002}]
[null,null,{"$f":"HLOOKUP($I$10,Constraints!$Q$203:AD265,A437,TRUE)","v":{"$error":"#N/A"}},{"$f":"INDEX(Constraints!$P$203:$P$234,A437,)","v":2}]

{"sheet":"Configuration 3","index":13,"n_rows":443,"n_cols":113,"rows_kept":443,"cut":false,"hidden":false,"merged":[[87,1,87,2],[88,1,88,2],[89,1,89,2],[97,10,97,12],[69,16,69,21],[69,22,69,23],[70,16,70,21],[70,22,70,23],[71,16,71,21],[71,22,71,23],[68,16,68,21],[68,22,68,23],[17,2,17,8],[18,2,18,8],[19,2,19,8],[20,5,20,7],[41,9,41,10],[46,2,47,2],[4,21,44,28],[48,12,48,19],[55,15,55,16],[55,18,55,19],[55,21,55,22],[67,16,67,23],[4,3,4,4],[9,3,9,4],[9,5,9,6],[10,3,10,4],[10,5,10,6],[8,3,8,4],[8,5,8,6],[12,2,15,4],[12,5,12,6],[13,5,13,6],[14,5,14,6],[11,5,11,6],[1,6,2,7],[1,8,2,8],[1,21,1,37],[2,1,2,4],[2,21,3,28],[2,30,3,37],[3,1,3,4],[3,6,4,7],[3,8,4,8],[4,1,4,2],[4,30,44,37],[5,1,5,2],[5,3,5,4],[6,1,6,7],[7,1,7,4],[7,7,7,8]]}
[]
[null,null,null,null,null,null,"Preferred Schematic View to Display",null,"Standard",null,null,null,null,null,null,null,null,null,null,null,null,"NOTES: "]
[null,"CHARACTERISTICS TO CONSIDER FOR ANALYSIS",null,null,null,null,null,null,null,null,null,null,null,null,null,null,null,null,null,null,null,"ELEMENTS INCREASING SAFETY",null,null,null,null,null,null,null,null,"COMMENTS ON PRIMARY CONSTRAINTS"]
[null,"INPUT INSTRUCTIONS",null,null,null,null,"Relative to",null,"Existing"]
[null,"Blue Boxes -- Select from pulldown options",null,"Select from Pulldown"]
[null,"Yellow Boxes -- Type input information into box",null,"Type Input Value"]
[null," Rural Multi-Lane Road Segment -- Safety Score Input",null,null,null,null,null,null,null,null,null,null,null,null,null,null,null,null,null,null,null,null,null,null,null,null,null,null,null,null,null,null,null,null,null,null,null,null,null,null,null,null,null,null,null,null,null,null,null,null,null,null,null,null,null,null,null,null,null,null,null,null,null,null,null,null,null,null,null,null,null,null,null,null,null,null,null,null,null,null,null,null,null,"Unadjusted Marginal Safety"]
[null,"General Information:",null,null,null,"General Site Features",null,{"$f":" I315 & \" Missing Features and Curves\"","v":"9 Missing Features and Curves"},null,null,null,null,null,null,null,null,null,null,null,null,null,null,null,null,null,null,null,null,null,null,null,null,null,null,null,null,null,null,null,null,null,null,null,null,null,null,null,null,null,null,null,null,null,null,null,null,null,null,null,null,null,null,null,null,null,null,null,null,null,null,null,null,null,null,null,null,null,null,null,null,null,null,null,{"$f":"I2&\" relative to \" &I4","v":"Standard relative to Existing"}]
[null,null,"Analyst:",{"$f":"+'Start Here'!H7","v":0},null,"Location "]
[null,null,"Agency or Company:",{"$f":"+'Start Here'!H8","v":0},null,"Design Speed (mph)"]
[null,null,"Date:",{"$f":"+'Start Here'!H9","v":"00:00:00"},null,"Posted Speed (mph)"]
[null,null,"Description:",null,null,"E max (%)"]
[null,null,"Input additional site information here",null,null,"    Design Year AADT (vehicles per day)"]
[null,null,null,null,null,"    Dist. from Centerline to Left   ROW (feet)"]
[null,null,null,null,null,"    Dist. from Centerline to Right ROW (feet)"]
[]
[null,"Warning:"]
[null,null,{"$f":"+IF(+I11>I10,\"Posted speed exceeds design speed. Optimal safety will only be achieved if design speed exceeds posted speed. The Safety Assessment Score is based on the higher of the two speed values.\",\"No speed warnings identified\")","v":"No speed warnings identified"}]
[null,null,{"$f":"IF(OR(F24=INDEX(MedConf_Header,1,3),+G24=INDEX(MedConf_Header,1,3)), \"Multilane undivided facilities are known to have substantially more collisions than multilane facilities with medians. In new construction a median or TWLTL should be considered.\",\" \")","v":" "},null,null,null,null,null,null,null,null,null,null,null,null,null,null,null,null,null,null,null,null,null,null,null,null,null,null,null,null,null,null,null,null,null,null,null,null,null,null,null,null,null,null,null,null,null,null,null,null,null,null,null,null,null,null,null,null,null,null,null,null,null,null,null,null,null,null,null,null,null,null,null,null,null,null,null,null,null,null,null,null,null,null,null,null,null,null,null,null,null,null,null,null,null,null,null,null,null,null,null,null,null,null,{"$f":"COUNTIF(DB23:DB46,DB20)","v":1}]
[null,null,{"$f":"IF(I13=\"40,001 < AADT < 60,000\", \"Multi-lane Road Should be Divided Due to High AADT Value\",\"\")","v":""},null,null,null,null,null,null,null,null,null,null,null,null,null,null,null,null,null,null,null,null,null,null,null,null,null,null,null,null,null,null,null,null,null,null,null,null,null,null,null,null,null,null,null,null,null,null,null,null,null,null,null,null,null,null,null,null,null,null,null,null,null,null,null,null,null,null,null,null,null,null,null,null,null,null,null,null,null,null,null,null,null,null,null,null,null,null,null,null,null,null,null,null,null,null,null,null,null,null,null,null,null,null,{"$f":"VLOOKUP(0,CZ23:DB46,3,)","v":10.01}]
[null,null,null,"Fill all elements",null,"To enter notes, use boxes to the right of the vortex ",null,null,null,null," "]
[null,{"$f":"+Construction!$I$2&\"  Total Available Points\"","v":"40  Total Available Points"},null,{"$f":" D249 & \" Missing Elements\"","v":"19 Missing Elements"},null,{"$f":" F249 & \" Missing Elements\"","v":"19 Missing Elements"},{"$f":" G249 & \" Missing Elements\"","v":"19 Missing Elements"},null,null,null,null,null,null,null,null,null,null,null,null,null,null,null,null,null,null,null,null,null,null,null,null,null,null,null,null,null,null,null,null,null,null,null,null,null,null,null,null,null,null,null,null,null,null,null,null,null,null,null,null,null,null,null,null,null,null,null,null,null,null,null,null,null,null,null,null,null,null,null,null,null,null,null,null,null,null,null,null,null,null,null,null,null,null,null,null,null,null,null,null,null,null,"Ranked element","CRF","abs","Re-rank","Rank","Ranked CRF","Element","New Element","crf.abs","rank","Sorted Element","Sorted CRF"]
[null,"Geometric Design Elements",null,"Existing","Standard (Based on Multi-lane Divided)","Design 1","Design 2",{"$f":"\"Marginal Safety for \"&$I$2&\" (compared to \" & $I$4 & \")\"","v":"Marginal Safety for Standard (compared to Existing)"},"Optimal (Based on Multi-lane Divided)",null,null,null,null,null,null,null,null,null,null,null,null,null,null,null,null,null,null,null,null,null,null,null,null,null,null,null,null,null,null,null,null,null,null,null,null,null,null,null,null,null,null,null,null,null,null,null,null,null,null,null,null,null,null,null,null,null,null,null,null,null,null,null,null,null,null,null,null,null,null,null,null,null,null,null,null,null,null,null,null,null,null,null,null,null,null,null,null,null,null,null,null,{"$f":"IF(CY23=0,\"\",DB23&\". \"&DD23)","v":""},{"$f":"H24","v":0},{"$f":"ABS(CY23)","v":0},{"$f":"_xlfn.RANK.EQ(DB23,$DB$23:$DB$46,1)","v":10},{"$f":"_xlfn.RANK.EQ(CZ23,$CZ$23:$CZ$46)+DG23/100","v":10.01},{"$f":"CY23","v":0},{"$f":"IF(ROUND(DF23,2)=0,\"\",C24)","v":""},{"$f":"DD23","v":""},{"$f":"CZ23","v":0},1,{"$f":"IFERROR(IF(IFERROR(VLOOKUP(DG23,$DA$23:$DF$46,4,)&\", \"&CY23=0,\"\"),\"\",IFERROR(VLOOKUP(DG23,$DA$23:$DE$46,4,),\"\")),\"\")","v":"Pavement Friction (skid number) ***"},{"$f":"IFERROR(IF(IFERROR(VLOOKUP(DG23,$DA$23:$DF$46,3,)&\", \"&CY23=0,\"\"),\"\",IFERROR(VLOOKUP(DG23,$DA$23:$DE$46,3,),\"\")),\"\")","v":0.28430956017940245}]
[null,null,"Configuration of Multilane Roadway",null,"Divided - Unsurfaced Median",null,null,null,"Divided - Unsurfaced Median",null,null,null,null,null,null,null,null,null,null,null,null,null,null,null,null,null,null,null,null,null,null,null,null,null,null,null,null,null,null,null,null,null,null,null,null,null,null,null,null,null,null,null,null,null,null,null,null,null,null,null,null,null,null,null,null,null,null,null,null,null,null,null,null,null,null,null,null,null,null,null,null,null,null,null,null,null,null,null,null,null,null,null,null,null,null,null,null,null,null,null,null,"5.02. Median Configuration (Width or Type)",{"$f":"H25","v":8.9999999999999969E-2},8.9999999999999969E-2,{"$f":"_xlfn.RANK.EQ(DB24,$DB$23:$DB$46,1)","v":5},{"$f":"_xlfn.RANK.EQ(CZ24,$CZ$23:$CZ$46)+DG24/100","v":5.0199999999999996},{"$f":"CY24","v":8.9999999999999969E-2},{"$f":"IF(ROUND(DF24,2)=0,\"\",C25)","v":"Median Configuration (Width or Type)"},{"$f":"DD24","v":"Median Configuration (Width or Type)"},8.9999999999999969E-2,2,{"$f":"IFERROR(IF(IFERROR(VLOOKUP(DG24,$DA$23:$DF$46,4,)&\", \"&CY24=0,\"\"),\"\",IFERROR(VLOOKUP(DG24,$DA$23:$DE$46,4,),\"\")),\"\")","v":"Driveway Density (driveways per mile)"},{"$f":"IFERROR(IF(IFERROR(VLOOKUP(DG24,$DA$23:$DF$46,3,)&\", \"&CY24=0,\"\"),\"\",IFERROR(VLOOKUP(DG24,$DA$23:$DE$46,3,),\"\")),\"\")","v":-0.22388114201141129}]
[null,null,"Median Configuration (Width or Type)",null,30,null,null,{"$f":"M103","v":8.9999999999999969E-2},100,null,null,null,null,null,null,null,null,null,null,null,null,null,null,null,null,null,null,null,null,null,null,null,null,null,null,null,null,null,null,null,null,null,null,null,null,null,null,null,null,null,null,null,null,null,null,null,null,null,null,null,null,null,null,null,null,null,null,null,null,null,null,null,null,null,null,null,null,null,null,null,null,null,null,null,null,null,null,null,null,null,null,null,null,null,null,null,null,null,null,null,null,"",{"$f":"H27","v":0},0,11,10.029999999999999,{"$f":"CY25","v":0},{"$f":"IF(ROUND(DF25,2)=0,\"\",C27)","v":""},{"$f":"DD25","v":""},0,3,{"$f":"IFERROR(IF(IFERROR(VLOOKUP(DG25,$DA$23:$DF$46,4,)&\", \"&CY25=0,\"\"),\"\",IFERROR(VLOOKUP(DG25,$DA$23:$DE$46,4,),\"\")),\"\")","v":"Average Outside Shoulder Width (feet)"},{"$f":"IFERROR(IF(IFERROR(VLOOKUP(DG25,$DA$23:$DF$46,3,)&\", \"&CY25=0,\"\"),\"\",IFERROR(VLOOKUP(DG25,$DA$23:$DE$46,3,),\"\")),\"\")","v":0.18061674008810569}]
[null,null,null,null,null,null,null,null,null,null,null,null,null,null,null,null,null,null,null,null,null,null,null,null,null,null,null,null,null,null,null,null,null,null,null,null,null,null,null,null,null,null,null,null,null,null,null,null,null,null,null,null,null,null,null,null,null,null,null,null,null,null,null,null,null,null,null,null,null,null,null,null,null,null,null,null,null,null,null,null,null,null,null,null,null,null,null,null,null,null,null,null,null,null,null,null,null,null,null,null,null,null,null,null,null,null,null,null,null,null,4,{"$f":"IFERROR(IF(IFERROR(VLOOKUP(DG26,$DA$23:$DF$46,4,)&\", \"&CY26=0,\"\"),\"\",IFERROR(VLOOKUP(DG26,$DA$23:$DE$46,4,),\"\")),\"\")","v":"Roadside Sideslope (Foreslope)"},{"$f":"IFERROR(IF(IFERROR(VLOOKUP(DG26,$DA$23:$DF$46,3,)&\", \"&CY26=0,\"\"),\"\",IFERROR(VLOOKUP(DG26,$DA$23:$DE$46,3,),\"\")),\"\")","v":0.15697622474810147}]
[null,null,"Lane Width (feet)",null,12,null,null,{"$f":"M104","v":0},12,null,null,null,null,null,null,null,null,null,null,null,null,null,null,null,null,null,null,null,null,null,null,null,null,null,null,null,null,null,null,null,null,null,null,null,null,null,null,null,null,null,null,null,null,null,null,null,null,null,null,null,null,null,null,null,null,null,null,null,null,null,null,null,null,null,null,null,null,null,null,null,null,null,null,null,null,null,null,null,null,null,null,null,null,null,null,null,null,null,null,null,null,null,null,null,null,null,null,null,null,null,5,"Median Configuration (Width or Type)",8.9999999999999969E-2]
[null,null,"Average Outside Shoulder Width (feet)",null,8,null,null,{"$f":"M105","v":0.18061674008810569},10,null,null,null,null,null,null,null,null,null,null,null,null,null,null,null,null,null,null,null,null,null,null,null,null,null,null,null,null,null,null,null,null,null,null,null,null,null,null,null,null,null,null,null,null,null,null,null,null,null,null,null,null,null,null,null,null,null,null,null,null,null,null,null,null,null,null,null,null,null,null,null,null,null,null,null,null,null,null,null,null,null,null,null,null,null,null,null,null,null,null,null,null,{"$f":"IF(CY28=0,\"\",DB28&\". \"&DD28)","v":"3.06. Average Outside Shoulder Width (feet)"},{"$f":"H28","v":0.18061674008810569},{"$f":"ABS(CY28)","v":0.18061674008810569},3,3.06,{"$f":"CY28","v":0.18061674008810569},{"$f":"IF(ROUND(DF28,2)=0,\"\",C28)","v":"Average Outside Shoulder Width (feet)"},{"$f":"DD28","v":"Average Outside Shoulder Width (feet)"},{"$f":"CZ28","v":0.18061674008810569},6,"Roadside Lateral Clearance to Obstruction (ft)",6.4777606999867676E-2]
[null,null,"Average Inside Shoulder Width (feet)",null,4,null,null,{"$f":"M106","v":0},10,null,null,null,null,null,null,null,null,null,null,null,null,null,null,null,null,null,null,null,null,null,null,null,null,null,null,null,null,null,null,null,null,null,null,null,null,null,null,null,null,null,null,null,null,null,null,null,null,null,null,null,null,null,null,null,null,null,null,null,null,null,null,null,null,null,null,null,null,null,null,null,null,null,null,null,null,null,null,null,null,null,null,null,null,null,null,null,null,null,null,null,null,{"$f":"IF(CY29=0,\"\",DB29&\". \"&DD29)","v":""},{"$f":"H33","v":0},{"$f":"ABS(CY29)","v":0},12,10.07,0,{"$f":"IF(ROUND(DF29,2)=0,\"\",\"Hz and Vt Alignment\")","v":""},"",{"$f":"CZ29","v":0},7,"Safety Edge",-2.3424031600265627E-2]
["",null,"Number of Lanes per Direction of Travel",null,2,null,null,null,2,null,null,null,null,null,null,null,null,null,null,null,null,null,null,null,null,null,null,null,null,null,null,null,null,null,null,null,null,null,null,null,null,null,null,null,null,null,null,null,null,null,null,null,null,null,null,null,null,null,null,null,null,null,null,null,null,null,null,null,null,null,null,null,null,null,null,null,null,null,null,null,null,null,null,null,null,null,null,null,null,null,null,null,null,null,null,null,null,null,null,null,null,{"$f":"IF(CY30=0,\"\",DB30&\". \"&DD30)","v":""},{"$f":"H29","v":0},{"$f":"ABS(CY30)","v":0},13,10.08,0,{"$f":"IF(ROUND(DF30,2)=0,\"\",C29)","v":""},"",{"$f":"CZ30","v":0},8,"Shoulder Rumble Strips",2.2875008800570917E-2]
[null,null,"Horizontal Curve Present?","--","--","--","--",null,"--",null,null,null,null,null,null,null,null,null,null,null,null,null,null,null,null,null,null,null,null,null,null,null,null,null,null,null,null,null,null,null,null,null,null,null,null,null,null,null,null,null,null,null,null,null,null,null,null,null,null,null,null,null,null,null,null,null,null,null,null,null,null,null,null,null,null,null,null,null,null,null,null,null,null,null,null,null,null,null,null,null,null,null,null,null,null,null,null,null,null,null,null,{"$f":"IF(CY31=0,\"\",DB31&\". \"&DD31)","v":""},{"$f":"H47","v":0},{"$f":"ABS(CY31)","v":0},14,10.09,0,{"$f":"IF(ROUND(DF31,2)=0,\"\",C47)","v":""},"",{"$f":"CZ31","v":0},9,"Lighting",-1.7096579124742384E-2]
[null,null,"Horizontal Curve Data for Controlling Element:","--","--","--","--",null,"--",null,null,null,null,null,null,null,null,null,null,null,null,null,null,null,null,null,null,null,null,null,null,null,null,null,null,null,null,null,null,null,null,null,null,null,null,null,null,null,null,null,null,null,null,null,null,null,null,null,null,null,null,null,null,null,null,null,null,null,null,null,null,null,null,null,null,null,null,null,null,null,null,null,null,null,null,null,null,null,null,null,null,null,null,null,null,null,null,null,null,null,null,"",{"$f":"H48","v":0},0,15,10.1,0,{"$f":"IF(ROUND(DF32,2)=0,\"\",C48)","v":""},"",0,10,"",0]
[null,null,"  Radius (feet)",null,{"$f":"IF(MAX($I$10,$I$11)<45,590,IF($I$12=6,VLOOKUP(MAX($I$10,$I$11),Construction!$B$27:$D$34,2,TRUE),VLOOKUP(MAX($I$10,$I$11),Construction!$G$27:$I$34,2,TRUE)))","v":590},null,null,{"$f":"M144","v":0},{"$f":"IF(MAX($I$10,$I$11)<45,590,IF($I$12=6,VLOOKUP(MAX($I$10,$I$11),Construction!$B$43:$C$50,2,TRUE),VLOOKUP(MAX($I$10,$I$11),Construction!$G$43:$H$50,2,TRUE)))","v":590},null,null,null,null,null,null,null,null,null,null,null,null,null,null,null,null,null,null,null,null,null,null,null,null,null,null,null,null,null,null,null,null,null,null,null,null,null,null,null,null,null,null,null,null,null,null,null,null,null,null,null,null,null,null,null,null,null,null,null,null,null,null,null,null,null,null,null,null,null,null,null,null,null,null,null,null,null,null,null,null,null,null,null,null,null,null,null,null,null,null,null,null,"",{"$f":"H56","v":0},0,16,10.11,0,{"$f":"IF(ROUND(DF33,2)=0,\"\",C56)","v":""},"",0,11,"",0]
[null,null,"Length of Horizontal Curve (feet)",null,{"$f":"IF(D35=\"\", \"\", E33*E35/57.296)","v":""},null,null,null,{"$f":"I33*I35/57.296","v":3758.5520804244625},null,null,null,null,null,null,null,null,null,null,null,null,null,null,null,null,null,null,null,null,null,null,null,null,null,null,null,null,null,null,null,null,null,null,null,null,null,null,null,null,null,null,null,null,null,null,null,null,null,null,null,null,null,null,null,null,null,null,null,null,null,null,null,null,null,null,null,null,null,null,null,null,null,null,null,null,null,null,null,null,null,null,null,null,null,null,null,null,null,null,null,null,"",0,0,17,10.119999999999999,0,"","",0,12,"",0]
[null,null,"Calculated Deflection Angle ∆",{"$f":"IF(OR(ISBLANK(D33),ISBLANK(D34),$B$31=\"No\",ISBLANK($B$31)),\"\",ROUND(D34/D33*57.296,1))","v":""},{"$f":"IF(ISBLANK(D35), \"\",D35)","v":""},{"$f":"IF(OR(ISBLANK(F33),ISBLANK(F34),$B$31=\"No\",ISBLANK($B$31)),\"\",ROUND(F34/F33*57.296,1))","v":""},{"$f":"IF(OR(ISBLANK(G33),ISBLANK(G34),$B$31=\"No\",ISBLANK($B$31)),\"\",ROUND(G34/G33*57.296,1))","v":""},null,{"$f":"MIN(D35,IF(F37=INDEX(HCurveChange,1,0), F35, 365),IF(G37=INDEX(HCurveChange,1,0), G35, 365))","v":365},null,null,null,null,null,null,null,null,null,null,null,null,null,null,null,null,null,null,null,null,null,null,null,null,null,null,null,null,null,null,null,null,null,null,null,null,null,null,null,null,null,null,null,null,null,null,null,null,null,null,null,null,null,null,null,null,null,null,null,null,null,null,null,null,null,null,null,null,null,null,null,null,null,null,null,null,null,null,null,null,null,null,null,null,null,null,null,null,null,null,null,null,"",0,0,18,10.130000000000001,0,"","",0,13,"",0]
[null,null,null,null,null,"∆ has changed. \nAre you changing the ∆?","∆ has changed. \nAre you changing the ∆?",null,null,null,null,null,null,null,null,null,null,null,null,null,null,null,null,null,null,null,null,null,null,null,null,null,null,null,null,null,null,null,null,null,null,null,null,null,null,null,null,null,null,null,null,null,null,null,null,null,null,null,null,null,null,null,null,null,null,null,null,null,null,null,null,null,null,null,null,null,null,null,null,null,null,null,null,null,null,null,null,null,null,null,null,null,null,null,null,null,null,null,null,null,null,"",0,0,19,10.14,0,"","",0,14,"",0]
[null,null,null,null,null,null,null,null,null,null,null,null,null,null,null,null,null,null,null,null,null,null,null,null,null,null,null,null,null,null,null,null,null,null,null,null,null,null,null,null,null,null,null,null,null,null,null,null,null,null,null,null,null,null,null,null,null,null,null,null,null,null,null,null,null,null,null,null,null,null,null,null,null,null,null,null,null,null,null,null,null,null,null,null,null,null,null,null,null,null,null,null,null,null,null,null,null,null,null,null,null,"8.15. Shoulder Rumble Strips",2.2875008800570917E-2,2.2875008800570917E-2,8,8.15,2.2875008800570917E-2,"Shoulder Rumble Strips","Shoulder Rumble Strips",2.2875008800570917E-2,15,"",0]
[null,null,"Vertical Curve Present?","--","--","--","--",null,{"$f":"E38","v":"--"},null,null,null,null,null,null,null,null,null,null,null,null,null,null,null,null,null,null,null,null,null,null,null,null,null,null,null,null,null,null,null,null,null,null,null,null,null,null,null,null,null,null,null,null,null,null,null,null,null,null,null,null,null,null,null,null,null,null,null,null,null,null,null,null,null,null,null,null,null,null,null,null,null,null,null,null,null,null,null,null,null,null,null,null,null,null,null,null,null,null,null,null,"",0,0,20,10.16,0,"","",0,16,"",0]
[null,null,"Vertical Curve Data for Controlling Element:","--","--","--","--",null,"--",null,null,null,null,null,null,null,null,null,null,null,null,null,null,null,null,null,null,null,null,null,null,null,null,null,null,null,null,null,null,null,null,null,null,null,null,null,null,null,null,null,null,null,null,null,null,null,null,null,null,null,null,null,null,null,null,null,null,null,null,null,null,null,null,null,null,null,null,null,null,null,null,null,null,null,null,null,null,null,null,null,null,null,null,null,null,null,null,null,null,null,null,"2.17. Driveway Density (driveways per mile)",-0.22388114201141129,0.22388114201141129,2,2.17,-0.22388114201141129,{"$f":"IF(DF39=0,\"\",C62)","v":"Driveway Density (driveways per mile)"},"Driveway Density (driveways per mile)",0.22388114201141129,17,"",0]
[null,null,"  Approach (Entry) Grade, G1 (%)",null,{"$f":"IF(ISBLANK(D40),\"\", D40)","v":""},null,null,null,{"$f":"IF(B38=\"Yes\",I231,I241)","v":""},null,null,null,null,null,null,null,null,null,null,null,null,null,null,null,null,null,null,null,null,null,null,null,null,null,null,null,null,null,null,null,null,null,null,null,null,null,null,null,null,null,null,null,null,null,null,null,null,null,null,null,null,null,null,null,null,null,null,null,null,null,null,null,null,null,null,null,null,null,null,null,null,null,null,null,null,null,null,null,null,null,null,null,null,null,null,null,null,null,null,null,null,"9.18. Lighting",-1.7096579124742384E-2,1.7096579124742384E-2,9,9.18,-1.7096579124742384E-2,{"$f":"IF(DF40=0,\"\",C63)","v":"Lighting"},"Lighting",1.7096579124742384E-2,18,"",0]
[null,null,"  Departure (Exit) Grade, G2 (%)",null,{"$f":"IF(ISBLANK(D41),\"\", D41)","v":""},null,null,null,{"$f":"IF($B$38=\"Yes\",I232,\"\")","v":""},null,null,null,null,null,null,null,null,null,null,null,null,null,null,null,null,null,null,null,null,null,null,null,null,null,null,null,null,null,null,null,null,null,null,null,null,null,null,null,null,null,null,null,null,null,null,null,null,null,null,null,null,null,null,null,null,null,null,null,null,null,null,null,null,null,null,null,null,null,null,null,null,null,null,null,null,null,null,null,null,null,null,null,null,null,null,null,null,null,null,null,null,"1.19. Pavement Friction (skid number) ***",0.28430956017940245,0.28430956017940245,1,1.19,0.28430956017940245,{"$f":"IF(DF41=0,\"\",C64)","v":"Pavement Friction (skid number) ***"},"Pavement Friction (skid number) ***",0.28430956017940245,19,"",0]
[null,null,"  Length (feet)",null,{"$f":"IF(AND($B$38=\"Yes\", D43<>\"\"), ABS(E40-E41)*D43, \"\")","v":""},null,null,null,{"$f":"IF(AND($B$38=\"Yes\",I40<>\"\",I41<>\"\", NOT(ISBLANK($I$10)), NOT(ISBLANK($I$11))),ABS(I41-I40)*I43,\"\")","v":""},null,null,null,null,null,null,null,null,null,null,null,null,null,null,null,null,null,null,null,null,null,null,null,null,null,null,null,null,null,null,null,null,null,null,null,null,null,null,null,null,null,null,null,null,null,null,null,null,null,null,null,null,null,null,null,null,null,null,null,null,null,null,null,null,null,null,null,null,null,null,null,null,null,null,null,null,null,null,null,null,null,null,null,null,null,null,null,null,null,null,null,null,"4.2. Roadside Sideslope (Foreslope)",{"$f":"H75","v":0.15697622474810147},0.15697622474810147,4,4.2,0.15697622474810147,{"$f":"IF(DF42=0,\"\",C75)","v":"Roadside Sideslope (Foreslope)"},"Roadside Sideslope (Foreslope)",0.15697622474810147,20,"",0]
[null,null,"  Calculated Rate of Change, K (ft/ft)",{"$f":"IF(OR($B$38=\"No\",ISBLANK($B$38), ISBLANK(D40), ISBLANK(D41),ISBLANK(D42), D40=D41), \"\", ROUND(D42/(ABS(D41-D40)),1))","v":""},{"$f":"IF(AND($B$38=\"Yes\", NOT(ISBLANK($I$10)), NOT(ISBLANK($I$11)), D43<>\"\"), IF($E$46=\"Crest\",  VLOOKUP(MAX($I$10,$I$11),Construction!$B$159:$D$171,2,TRUE), VLOOKUP(MAX($I$10,$I$11),Construction!$B$159:$D$171,3,TRUE)), \"\")","v":""},{"$f":"IF(AND($B$38=\"Yes\", SUM(F267:F269)=0),ROUND(F42/(ABS(F41-F40)),1),\"\")","v":""},{"$f":"IF(AND($B$38=\"Yes\", SUM(G267:G269)=0),ROUND(G42/(ABS(G41-G40)),1),\"\")","v":""},null,{"$f":"IF(OR($B$38<>\"Yes\", ISBLANK($I$10), ISBLANK($I$11), $I$40=\"\", $I$41=\"\", $I$46=\"--\", ISBLANK($I$46)),\"\",IF(I$46=\"Crest\",VLOOKUP(MAX($I$10,$I$11),Construction!$B$177:$D$189,2,TRUE),VLOOKUP(MAX($I$10,$I$11),Construction!$B$177:$D$189,3,TRUE)))","v":""},null,null,null,null,null,null,null,null,null,null,null,null,null,null,null,null,null,null,null,null,null,null,null,null,null,null,null,null,null,null,null,null,null,null,null,null,null,null,null,null,null,null,null,null,null,null,null,null,null,null,null,null,null,null,null,null,null,null,null,null,null,null,null,null,null,null,null,null,null,null,null,null,null,null,null,null,null,null,null,null,null,null,null,null,null,null,null,null,null,null,null,null,"",{"$f":"H76","v":0},0,21,10.210000000000001,0,{"$f":"IF(DF43=0,\"\",C76)","v":""},"",0,21,"",0]
[null,null,null,null,null,"Are you changing the geometry?","Are you changing the geometry?",null,null,null,null,null,null,null,null,null,null,null,null,null,null,null,null,null,null,null,null,null,null,null,null,null,null,null,null,null,null,null,null,null,null,null,null,null,null,null,null,null,null,null,null,null,null,null,null,null,null,null,null,null,null,null,null,null,null,null,null,null,null,null,null,null,null,null,null,null,null,null,null,null,null,null,null,null,null,null,null,null,null,null,null,null,null,null,null,null,null,null,null,null,null,"7.22. Safety Edge",{"$f":"H77","v":-2.3424031600265627E-2},2.3424031600265627E-2,7,7.22,-2.3424031600265627E-2,{"$f":"IF(DF44=0,\"\",C77)","v":"Safety Edge"},"Safety Edge",2.3424031600265627E-2,22,"",0]
[null,null,null,null,null,null,null,null,null,null,null,null,null,null,null,null,null,null,null,null,null,null,null,null,null,null,null,null,null,null,null,null,null,null,null,null,null,null,null,null,null,null,null,null,null,null,null,null,null,null,null,null,null,null,null,null,null,null,null,null,null,null,null,null,null,null,null,null,null,null,null,null,null,null,null,null,null,null,null,null,null,null,null,null,null,null,null,null,null,null,null,null,null,null,null,null,null,null,null,null,null,"6.23. Roadside Lateral Clearance to Obstruction (ft)",{"$f":"H78","v":6.4777606999867676E-2},6.4777606999867676E-2,6,6.23,6.4777606999867676E-2,{"$f":"IF(DF45=0,\"\",C78)","v":"Roadside Lateral Clearance to Obstruction (ft)"},"Roadside Lateral Clearance to Obstruction (ft)",6.4777606999867676E-2,23,"",{"$f":"IFERROR(IF(IFERROR(VLOOKUP(DG45,$DA$23:$DF$46,3,)&\", \"&CY45=0,\"\"),\"\",IFERROR(VLOOKUP(DG45,$DA$23:$DE$46,3,),\"\")),\"\")","v":""}]
[null,null,"  Calculated Sag or Crest?",{"$f":"IF(AND($B$38=\"Yes\", SUM(D267:D269)=0),IF(D40>D41,\"Crest\",\"Sag\"),\"--\")","v":"--"},{"$f":"IF(AND($B$38=\"Yes\", SUM(D267:D269)=0),IF(E40>E41,\"Crest\",\"Sag\"),\"--\")","v":"--"},{"$f":"IF(AND($B$38=\"Yes\", SUM(F267:F269)=0),IF(F40>F41,\"Crest\",\"Sag\"),\"--\")","v":"--"},{"$f":"IF(AND($B$38=\"Yes\", SUM(G267:G269)=0),IF(G40>G41,\"Crest\",\"Sag\"),\"--\")","v":"--"},null,{"$f":"IF($B$38=\"Yes\",IF(I40>I41,\"Crest\",\"Sag\"),\"--\")","v":"--"},null,null,null,null,null,null,null,null,null,null,null,null,null,null,null,null,null,null,null,null,null,null,null,null,null,null,null,null,null,null,null,null,null,null,null,null,null,null,null,null,null,null,null,null,null,null,null,null,null,null,null,null,null,null,null,null,null,null,null,null,null,null,null,null,null,null,null,null,null,null,null,null,null,null,null,null,null,null,null,null,null,null,null,null,null,null,null,null,null,null,null,null,"",{"$f":"H79","v":0},0,22,10.24,0,{"$f":"IF(DF46=0,\"\",C79)","v":""},"",0,24,"",{"$f":"IFERROR(IF(IFERROR(VLOOKUP(DG46,$DA$23:$DF$46,3,)&\", \"&CY46=0,\"\"),\"\",IFERROR(VLOOKUP(DG46,$DA$23:$DE$46,3,),\"\")),\"\")","v":""}]
[]
[]
[null,null,"Geometric Design Element (Partial Score)",{"$f":"IF(OR(SUM(D251:D252,D254:D257,D260:D261,D267:D269)>0, ISERR(D129)),\"\",D129)","v":""},{"$f":"IF(OR(SUM(E251:E252,E254:E257,E260:E261,E267:E269)>0, ISERR(E129)),\"\",E129)","v":""},"","",null,{"$f":"IF(OR(SUM(I251:I252,I254:I257,I260:I261,I267:I269)>0, ISERR(I129)),\"\",I129)","v":""},null,null,null,"SCHEMATIC REPRESENTING INPUT DATA FOR ",null,null,null,null,null,null,null,{"$f":"IF($I$2=\"Existing\",\"EXISTING CONFIGURATION\",IF($I$2=\"Standard\",\"STANDARD OPTION\",IF($I$2=\"Design 1\",\"DESIGN 1 OPTION\",IF($I$2=\"Design 2\",\"DESIGN 2 OPTION\",\"OPTIMAL OPTION\"))))","v":"STANDARD OPTION"}]
[null,null,"Total Safety Score",{"$f":"IF(OR(D$249>0, $I$315>0, ISERROR(D$205+D$175+D$129)),\"\",D$205+D$175+D$129)","v":""},{"$f":"IF(OR(E$249>0, $I$315>0, ISERROR(E$205+E$175+E$129)),\"\",E$205+E$175+E$129)","v":""},{"$f":"IF(OR(F$249>0, $I$315>0, ISERROR(F$205+F$175+F$129)),\"\",F$205+F$175+F$129)","v":""},{"$f":"IF(OR(G$249>0, $I$315>0, ISERROR(G$205+G$175+G$129)),\"\",G$205+G$175+G$129)","v":""},null,{"$f":"IF(OR(I$249>0, $I$315>0, ISERROR(I$205+I$175+I$129)),\"\",I$205+I$175+I$129)","v":""}]
[null,null,null,null,null,null,null,null,null,null,null,"LT",null,null,null,null,null,null,null,null,null,null,null,null,null,null,"RT"]
[null,null,null,null,null,null,null,null,null,null,null,"R/W",null,null,null,null,null,null,{"$f":"+O54+W54","v":0},null,null,null,null,null,null,null,"R/W"]
[]
[null,{"$f":"+Construction!$I$3&\"  Total Available Points\"","v":"20  Total Available Points"},null,null,null,null,null,null,null,null,null,null,null,null,{"$f":"+$I$14","v":0},null,null,null,null,null,null,null,{"$f":"+$I$15","v":0}]
[null,"Traffic Elements",null,"Existing","Standard","Design 1","Design 2",{"$f":"H23","v":"Marginal Safety for Standard (compared to Existing)"},"Optimal"]
[null,null,"Advance Static Curve Warning Signs",null,"No",null,null,{"$f":"M149","v":0},"Yes",null,null,{"$f":"+O54-N56-P56","v":-32},null,{"$f":"IF(+$I$2=\"Existing\",D28,IF($I$2=\"Standard\",E28,IF($I$2=\"Design 1\",F28,IF($I$2=\"Design 2\",G28,I28))))","v":8},null,{"$f":"IF(+$I$2=\"Existing\",D27*D30,IF($I$2=\"Standard\",E27*E30,IF($I$2=\"Design 1\",F27*F30,IF($I$2=\"Design 2\",G27*G30,I27*I30))))","v":24},null,null,null,null,null,{"$f":"+P56","v":24},null,null,{"$f":"+N56","v":8},{"$f":"+W54-V56-Y56","v":-32}]
[null,null,"Chevron Signs on Horizontal Curves",null,"No",null,null,{"$f":"M150","v":0},"Yes"]
[null,null,"Post-Mounted Delineators",null,"No",null,null,{"$f":"M151","v":0},"Yes"]
[null,null,"Edgeline Pavement Markings or Profile Markings",null,"No",null,null,{"$f":"M152","v":0},"Yes"]
[null,null,"Shoulder Rumble Strips",null,"Yes",null,null,{"$f":"M154","v":2.2875008800570917E-2},"Yes"]
[null,null,"Centerline Rumble Strips",null,"No",null,null,{"$f":"M155","v":0},"Yes",null,null,null,null,null,null,null,null,null,"Tangent X-Section"]
[null,null,"Driveway Density (driveways per mile)",null,10,null,null,{"$f":"M156","v":-0.22388114201141129},0]
[null,null,"Lighting",null,"No",null,null,{"$f":"M157","v":-1.7096579124742384E-2},"Yes"]
[null,null,"Pavement Friction (skid number) ***",null,37,null,null,{"$f":"M158","v":0.28430956017940245},54]
[null,null,"Traffic Control Element (Partial Score):",{"$f":"IF(ISERROR(D175), \"\", D175)","v":12},{"$f":"IF(ISERROR(E175), \"\", E175)","v":14},"","",null,{"$f":"IF(ISERROR(I175), \"\", I175)","v":20}]
[null,null,"Total Safety Score",{"$f":"IF(OR(D$249>0, $I$315>0, ISERROR(D$205+D$175+D$129)),\"\",D$205+D$175+D$129)","v":""},{"$f":"IF(OR(E$249>0, $I$315>0, ISERROR(E$205+E$175+E$129)),\"\",E$205+E$175+E$129)","v":""},"","",null,{"$f":"IF(OR(I$249>0, $I$315>0, ISERROR(I$205+I$175+I$129)),\"\",I$205+I$175+I$129)","v":""}]
[null,null,null,null,null,null,null,null,null,null," "]
[null,null,"*** Pavement friction/skid numbers will not be subject to open records requests ***",null,null,null,null,null,null,null,null,null,null,null,null,null,{"$f":"IF($I$2=\"Existing\",\"SCORE SUMMARY FOR EXISTING CONFIGURATION\", IF($I$2=\"Standard\",\"SCORE SUMMARY FOR STANDARD OPTION\",IF($I$2=\"Design 1\",\"SCORE SUMMARY FOR DESIGN 1 OPTION\",IF($I$2=\"Design 2\",\"SCORE SUMMARY FOR DESIGN 2 OPTION\", \"SCORE SUMMARY FOR OPTIMAL OPTION\"))))","v":"SCORE SUMMARY FOR STANDARD OPTION"}]
[null,null,null,null,null,null,null,null,null,null,null,null,null,null,null,null,"GEOMETRIC DESIGN:",null,null,null,null,null,{"$f":"IF($I$2=\"Existing\",D49,IF($I$2=\"Standard\",E49,IF($I$2=\"Design 1\",F49,IF($I$2=\"Design 2\",G49,I49))))","v":""}]
[null,null,null,null,null,null,null,null,null,null,null,null,null,null,null,null,"TRAFFIC CONTROL:",null,null,null,null,null,{"$f":"IF($I$2=\"Existing\",D65,IF($I$2=\"Standard\",E65,IF($I$2=\"Design 1\",F65,IF($I$2=\"Design 2\",G65,I65))))","v":14}]
[null,null,null,null,null,null,null,null,null,null,null,null,null,null,null,null,"ROADSIDE:",null,null,null,null,null,{"$f":"IF($I$2=\"Existing\",D80,IF($I$2=\"Standard\",E80,IF($I$2=\"Design 1\",F80,IF($I$2=\"Design 2\",G80,I80))))","v":27}]
[null,null,null,null,null,null,null,null,null,null,null,null,null,null,null,null,"OVERALL SAFETY SCORE:",null,null,null,null,null,{"$f":"SUM(W69:X71)","v":41}]
[null,{"$f":"+Construction!$I$4&\"  Total Available Points\"","v":"40  Total Available Points"}]
[null,"Roadside  Elements",null,"Existing","Standard","Design 1","Design 2",{"$f":"H23","v":"Marginal Safety for Standard (compared to Existing)"},"Optimal"]
[null,null,"Roadside Sideslope (Foreslope)",null,"1V:4H",null,null,{"$f":"M184","v":0.15697622474810147},"1V:6H"]
[null,null,"Roadside Backslope",null,{"$f":"E75","v":"1V:4H"},null,null,{"$f":"M185","v":0},"1V:4H"]
[null,null,"Safety Edge",null,"No",null,null,-2.3424031600265627E-2,"Yes"]
[null,null,"Roadside Lateral Clearance to Obstruction (ft)",null,30,null,null,6.4777606999867676E-2,40]
[null,null,"Roadside Obstruction Type",null,"None",null,null,0,"None/Removed"]
[null,null,"Roadside Element (Partial Score):",{"$f":"IF(ISERR(D205),\"\",D205)","v":20},{"$f":"IF(ISERR(E205),\"\",E205)","v":27},20,20,null,{"$f":"IF(ISERR(I205),\"\",I205)","v":40},null,null,null,null,null,null,null,null,null,null,null,null,null,null," "]
[null,null,"Total Safety Score",{"$f":"IF(OR(D$249>0, $I$315>0, ISERROR(D$205+D$175+D$129)),\"\",D$205+D$175+D$129)","v":""},{"$f":"IF(OR(E$249>0, $I$315>0, ISERROR(E$205+E$175+E$129)),\"\",E$205+E$175+E$129)","v":""},"","",null,{"$f":"IF(OR(I$249>0, $I$315>0, ISERROR(I$205+I$175+I$129)),\"\",I$205+I$175+I$129)","v":""}]
[]
[]
[]
[]
[null,"ADDITIONAL SIDESLOPE INFORMATION"]
[null,null,"Distance to Slope Toe from Shoulder (ft)",null,{"$f":"D87","v":0},{"$f":"E87","v":0},0,null,{"$f":"G87","v":0}]
[null,"Minimum foreslope feasible within current ROW",null,null,{"$f":"IF(OR(ISBLANK($D$87), ISERROR(E209)), \"\", \"1V:\"&E209&\"H\")","v":""},{"$f":"IF(OR(ISBLANK($D$87), ISERROR(F209)), \"\", \"1V:\"&F209&\"H\")","v":""},{"$f":"IF(OR(ISBLANK($D$87), ISERROR(G209)), \"\", \"1V:\"&G209&\"H\")","v":""},null,{"$f":"IF(OR(ISBLANK($D$87), ISERROR(I209)), \"\", \"1V:\"&I209&\"H\")","v":""}]
[null,"Additional R/W needed on left side",null,null,{"$f":"IF(OR(ISBLANK($D$87), ISERROR(E213)),\"\", MAX(E213,E216))","v":""},{"$f":"IF(OR(ISBLANK($D$87), ISERROR(F213)), \"\", MAX(F213,F216))","v":""},{"$f":"IF(OR(ISBLANK($D$87), ISERROR(G213)),\"\", MAX(G213,G216))","v":""},null,{"$f":"IF(OR(ISBLANK($D$87), ISERROR(I213)),\"\", MAX(I213,I216))","v":""}]
[null,"Additional R/W needed on right side",null,null,{"$f":"IF(OR(ISBLANK($D$87), ISERROR(E214)), \"\", MAX(E214,E217))","v":""},{"$f":"IF(OR(ISBLANK($D$87), ISERROR(F214)), \"\", MAX(F214,F217))","v":""},{"$f":"IF(OR(ISBLANK($D$87), ISERROR(G214)),\"\", MAX(G214,G217))","v":""},null,{"$f":"IF(OR(ISBLANK($D$87), ISERROR(I214)),\"\", MAX(I214,I217))","v":""}]
[]
[]
[]
[]
[]
[]
[]
[null,null,null,{"$f":"GetCMF_MED(D24,D25,2000,D28)","v":1},null,null,null,null,null,{"$f":"1-I104/E104","v":0},"For Plot"]
[null,null,null,null,null,null,null,null,null,{"$f":"1-I105/E105","v":3.2258064516129115E-2},"relative to","Prefer"]
[null,null,null,{"$f":"MAX(SUM(D107:D111)-5,$I$100)","v":{"$error":"#VALUE!"}},{"$f":"MAX(SUM(E107:E111)-5,$I$100)","v":{"$error":"#VALUE!"}},{"$error":"#VALUE!"},{"$error":"#VALUE!"},null,{"$f":"SUM(I107:I111)-5","v":{"$error":"#VALUE!"}},{"$f":"1-I106/E106","v":0.14444080962898154},{"$f":"MATCH(K101,ModView,0)","v":1},{"$f":"MATCH(L101,ModView,0)","v":2}]
[null,"Geometric",null,null,null,null,null,null,null,{"$f":"1-I107/E107","v":{"$error":"#VALUE!"}},{"$f":"I4","v":"Existing"},{"$f":"I2","v":"Standard"},"%"]
[null,null,"Divided versus Undivided",1,1,1,1,null,1,null,{"$f":"INDEX($D102:$I102,K$100)","v":1},{"$f":"INDEX($D102:$I102,L$100)","v":1},{"$f":"IF(ISERROR(1-L102/K102), 0, 1-L102/K102)","v":0}]
[null,null,"Median Width",{"$f":"GetCMF_MED(D24,D25,$I$13,D28)","v":1},{"$f":"GetCMF_MED(E24,E25,$I$13,E28)","v":0.91},{"$f":"GetCMF_MED(F24,F25,$I$13,F28)","v":1},{"$f":"GetCMF_MED(G24,G25,$I$13,G28)","v":1},{"$f":"H25","v":8.9999999999999969E-2},{"$f":"GetCMF_MED(I24,I25,$I$13,I28)","v":0.66},null,{"$f":"INDEX($D103:$I103,K$100)","v":1},{"$f":"INDEX($D103:$I103,L$100)","v":0.91},{"$f":"IF(ISERROR(1-L103/K103), 0, 1-L103/K103)","v":8.9999999999999969E-2}]
[null,null,"LW CMF",{"$f":"IF(D24=INDEX(MedConf_Header,1,2),VLOOKUP(+D27,Construction!$N$30:$O$36,2),VLOOKUP(D27,Construction!$I$15:$J$21,2))","v":{"$error":"#N/A"}},{"$f":"IF(E24=INDEX(MedConf_Header,1,2),VLOOKUP(+E27,Construction!$N$30:$O$36,2),VLOOKUP(E27,Construction!$I$15:$J$21,2))","v":1},{"$f":"IF(F24=INDEX(MedConf_Header,1,2),VLOOKUP(+F27,Construction!$N$30:$O$36,2),VLOOKUP(F27,Construction!$I$15:$J$21,2))","v":{"$error":"#N/A"}},{"$f":"IF(G24=INDEX(MedConf_Header,1,2),VLOOKUP(+G27,Construction!$N$30:$O$36,2),VLOOKUP(G27,Construction!$I$15:$J$21,2))","v":{"$error":"#N/A"}},{"$f":"H27","v":0},{"$f":"IF(I24=INDEX(MedConf_Header,1,2),VLOOKUP(+I27,Construction!$N$30:$O$36,2),VLOOKUP(I27,Construction!$I$15:$J$21,2))","v":1},null,{"$f":"INDEX($D104:$I104,K$100)","v":{"$error":"#N/A"}},{"$f":"INDEX($D104:$I104,L$100)","v":1},0,null,0]
[null,null,"SW CMF",{"$f":"IF(D24=INDEX(MedConf_Header,1,2),VLOOKUP(D28,Construction!$C$11:D21,2),(VLOOKUP(D28,Construction!$O$43:$P$53,2)-1)*0.27+1)","v":1.135},{"$f":"IF(E24=INDEX(MedConf_Header,1,2),VLOOKUP(E28,Construction!$C$11:E21,2),(VLOOKUP(E28,Construction!$O$43:$P$53,2)-1)*0.27+1)","v":0.93},{"$f":"IF(F24=INDEX(MedConf_Header,1,2),VLOOKUP(F28,Construction!$C$11:F21,2),(VLOOKUP(F28,Construction!$O$43:$P$53,2)-1)*0.27+1)","v":1.135},{"$f":"IF(G24=INDEX(MedConf_Header,1,2),VLOOKUP(G28,Construction!$C$11:G21,2),(VLOOKUP(G28,Construction!$O$43:$P$53,2)-1)*0.27+1)","v":1.135},{"$f":"IF($I$2=\"Existing\",(1-D105/E105),(IF($I$2=\"Design 1\",(1-F105/E105),(IF($I$2=\"Design 2\",(1-G105/E105),(IF($I$2=\"Optimal\",(1-I105/E105),0)))))))","v":0},{"$f":"IF(I24=INDEX(MedConf_Header,1,2),VLOOKUP(I28,Construction!$C$11:I21,2),(VLOOKUP(I28,Construction!$O$43:$P$53,2)-1)*0.27+1)","v":0.9},null,{"$f":"INDEX($D105:$I105,K$100)","v":1.135},{"$f":"INDEX($D105:$I105,L$100)","v":0.93},0.18061674008810569,null,0.15503875968992242]
[null,null,"Inside Shoulder Width",{"$f":"IF(AND(D24=INDEX(MedConf_Header,1,2), NOT(ISBLANK(D29))), EXP(-0.026*(D29-4)), 1)","v":1},{"$f":"IF(AND(E24=INDEX(MedConf_Header,1,2), NOT(ISBLANK(E29))), EXP(-0.026*(E29-4)), 1)","v":1},{"$f":"IF(AND(F24=INDEX(MedConf_Header,1,2), NOT(ISBLANK(F29))), EXP(-0.026*(F29-4)), 1)","v":1},{"$f":"IF(AND(G24=INDEX(MedConf_Header,1,2), NOT(ISBLANK(G29))), EXP(-0.026*(G29-4)), 1)","v":1},0,{"$f":"IF(AND(I24=INDEX(MedConf_Header,1,2), NOT(ISBLANK(I29))), EXP(-0.026*(I29-4)), 1)","v":0.85555919037101846},null,{"$f":"INDEX($D106:$I106,K$100)","v":1},{"$f":"INDEX($D106:$I106,L$100)","v":1},0,null,0]
[null,null,"HC and Grade",{"$f":"D$138^D$131","v":1},{"$f":"E$138^E$131","v":1},1,1,0,{"$f":"I$138^I$131","v":{"$error":"#VALUE!"}},null,{"$f":"INDEX($D107:$I107,K$100)","v":1},{"$f":"INDEX($D107:$I107,L$100)","v":1},0,null,0]
[null,null,"HC and VC Crest type I",{"$f":"D$139^D$132","v":1},{"$f":"E$139^E$132","v":1},1,1,0,{"$f":"I$139^I$132","v":{"$error":"#VALUE!"}},null,{"$f":"INDEX($D108:$I108,K$100)","v":1},{"$f":"INDEX($D108:$I108,L$100)","v":1},0,null,0]
[null,null,"HC and VC Sag type I",{"$f":"D$140^D$133","v":1},{"$f":"E$140^E$133","v":1},1,1,0,{"$f":"I$140^I$133","v":{"$error":"#VALUE!"}},{"$f":"1-I115/E115","v":{"$error":"#VALUE!"}},{"$f":"INDEX($D109:$I109,K$100)","v":1},{"$f":"INDEX($D109:$I109,L$100)","v":1},0,null,0]
[null,null,"HC and VC Crest type II",{"$f":"D$141^D$134","v":1},{"$f":"E$141^E$134","v":1},1,1,0,{"$f":"I$141^I$134","v":{"$error":"#VALUE!"}},{"$f":"1-I116/E116","v":{"$error":"#VALUE!"}},{"$f":"INDEX($D110:$I110,K$100)","v":1},{"$f":"INDEX($D110:$I110,L$100)","v":1},0,null,0]
[null,null,"HC and VC Sag type II",{"$f":"D$142^D$135","v":1},{"$f":"E$142^E$135","v":1},1,1,0,{"$f":"I$142^I$135","v":{"$error":"#VALUE!"}},{"$f":"1-I117/E117","v":{"$error":"#VALUE!"}},{"$f":"INDEX($D111:$I111,K$100)","v":1},{"$f":"INDEX($D111:$I111,L$100)","v":1},0,null,0]
[null,null,"Add TWLTL",{"$f":"IF(D$47=\"No\",1,CMFs!$F$17)","v":0.71},{"$f":"IF(E$47=\"No\",1,CMFs!$F$17)","v":0.71},{"$f":"IF(F$47=\"No\",1,CMFs!$F$17)","v":0.71},{"$f":"IF(G$47=\"No\",1,CMFs!$F$17)","v":0.71},0,{"$f":"IF(I$47=\"No\",1,CMFs!$F$17)","v":0.71},{"$f":"1-I118/E118","v":{"$error":"#VALUE!"}},{"$f":"INDEX($D112:$I112,K$100)","v":0.71},{"$f":"INDEX($D112:$I112,L$100)","v":0.71},0,null,0]
[null,null,"Provide passing lane",{"$f":"IF(D$48=\"No\",1,CMFs!$F$21)","v":0.75},{"$f":"IF(E$48=\"No\",1,CMFs!$F$21)","v":0.75},{"$f":"IF(F$48=\"No\",1,CMFs!$F$21)","v":0.75},{"$f":"IF(G$48=\"No\",1,CMFs!$F$21)","v":0.75},0,{"$f":"IF(I$48=\"No\",1,CMFs!$F$21)","v":0.75},{"$f":"I119/E119","v":{"$error":"#VALUE!"}},{"$f":"INDEX($D113:$I113,K$100)","v":0.75},{"$f":"INDEX($D113:$I113,L$100)","v":0.75},0,null,0]
[]
[null,null,"COMBINED Calculated CMF",{"$f":"+D104*D105*D106*D107*D108*D109*D110*D111*D112*D113*D103*D102","v":{"$error":"#N/A"}},{"$f":"+E104*E105*E106*E107*E108*E109*E110*E111*E112*E113*E103*E102","v":0.45065475000000005},{"$error":"#N/A"},{"$error":"#N/A"},{"$f":"IF($I$2=\"Existing\",(D115),(IF($I$2=\"Design 1\",(F115),(IF($I$2=\"Design 2\",(G115),(IF($I$2=\"Optimal\",(I115),E115)))))))","v":0.45065475000000005},{"$f":"+I104*I105*I106*I107*I108*I109*I110*I111*I112*I113*I103*I102","v":{"$error":"#VALUE!"}},null,{"$f":"INDEX($D115:$I115,K$100)","v":{"$error":"#N/A"}},{"$f":"INDEX($D115:$I115,L$100)","v":0.45065475000000005},{"$f":"IF(ISERROR(1-L115/K115), 0, 1-L115/K115)","v":0},null,0]
[null,null,"Calculated Relative to Design Standards (Column E)",{"$f":"+D115/$E$115","v":{"$error":"#N/A"}},1,{"$error":"#N/A"},{"$error":"#N/A"},1,{"$error":"#VALUE!"},null,{"$f":"INDEX($D116:$I116,K$100)","v":{"$error":"#N/A"}},{"$f":"INDEX($D116:$I116,L$100)","v":1},0,null,0]
[null,null,"P(Crash)",{"$f":"+D116/(D116+1)","v":{"$error":"#N/A"}},0.5,{"$error":"#N/A"},{"$error":"#N/A"},0.5,{"$error":"#VALUE!"},null,{"$f":"INDEX($D117:$I117,K$100)","v":{"$error":"#N/A"}},{"$f":"INDEX($D117:$I117,L$100)","v":0.5},0,null,0]
[null,null,"Factor Change on S curve",{"$f":"+D117/$E$117","v":{"$error":"#N/A"}},1,{"$error":"#N/A"},{"$error":"#N/A"},1,{"$error":"#VALUE!"},null,{"$f":"INDEX($D118:$I118,K$100)","v":{"$error":"#N/A"}},{"$f":"INDEX($D118:$I118,L$100)","v":1},0,null,0]
[null,null,"Adjust to Scale of 100",{"$f":"+$I$118/D118*100","v":{"$error":"#VALUE!"}},{"$error":"#VALUE!"},{"$error":"#VALUE!"},{"$error":"#VALUE!"},{"$error":"#VALUE!"},{"$error":"#VALUE!"},null,{"$f":"INDEX($D119:$I119,K$100)","v":{"$error":"#VALUE!"}},{"$f":"INDEX($D119:$I119,L$100)","v":{"$error":"#VALUE!"}},0]
[null,null,"Unadjusted Combined Relative to Standard",{"$f":"+D115/$E$115","v":{"$error":"#N/A"}},1,{"$error":"#N/A"},{"$error":"#N/A"},1,{"$error":"#VALUE!"},{"$f":"I126/E126","v":{"$error":"#VALUE!"}},{"$f":"INDEX($D120:$I120,K$100)","v":{"$error":"#N/A"}},{"$f":"INDEX($D120:$I120,L$100)","v":1},0,null,0]
[]
[null,null,"Adjusted for PA Basis",{"$f":"+D115*(1+1)/(1+D115*1)","v":{"$error":"#N/A"}},0.62131220402373488,{"$error":"#N/A"},{"$error":"#N/A"},{"$f":"IF($I$2=\"Existing\",(D122),(IF($I$2=\"Design 1\",(F122),(IF($I$2=\"Design 2\",(G122),(IF($I$2=\"Optimal\",(I122),E122)))))))","v":0.62131220402373488},{"$error":"#VALUE!"},null,{"$f":"INDEX($D122:$I122,K$100)","v":{"$error":"#N/A"}},{"$f":"INDEX($D122:$I122,L$100)","v":0.62131220402373488},{"$f":"IF(ISERROR(1-L122/K122), 0, 1-L122/K122)","v":0},null,0]
[null,null,"Corrected by Odds Ratio",{"$f":"+D122/$E$122","v":{"$error":"#N/A"}},1,{"$error":"#N/A"},{"$error":"#N/A"},{"$f":"IF($I$2=\"Existing\",(D123),(IF($I$2=\"Design 1\",(F123),(IF($I$2=\"Design 2\",(G123),(IF($I$2=\"Optimal\",(I123),E123)))))))","v":1},{"$error":"#VALUE!"},{"$f":"I129/E129","v":{"$error":"#VALUE!"}},{"$f":"INDEX($D123:$I123,K$100)","v":{"$error":"#N/A"}},{"$f":"INDEX($D123:$I123,L$100)","v":1},0,null,0]
[null,null,"Pinned s",{"$f":"(1/D123)^$D127","v":{"$error":"#N/A"}},{"$f":"(1/E123)^$D127","v":{"$error":"#VALUE!"}},{"$error":"#N/A"},{"$f":"IF(ISERROR((1/G123)^$D127), 0, (1/G123)^$D127)","v":0},{"$error":"#VALUE!"},{"$error":"#VALUE!"},null,{"$f":"INDEX($D124:$I124,K$100)","v":{"$error":"#N/A"}},{"$f":"INDEX($D124:$I124,L$100)","v":{"$error":"#VALUE!"}},0,null,0]
[null,null,null,{"$f":"(D124+$F128-1)/(1+(D124+$F128-1))","v":{"$error":"#N/A"}},{"$f":"(E124+$F128-1)/(1+(E124+$F128-1))","v":{"$error":"#VALUE!"}},{"$error":"#N/A"},0.57142857142857151,{"$error":"#VALUE!"},{"$error":"#VALUE!"},null,{"$f":"INDEX($D125:$I125,K$100)","v":{"$error":"#N/A"}},{"$f":"INDEX($D125:$I125,L$100)","v":{"$error":"#VALUE!"}},0,null,0]
[null,null,"Score Odds Ratio with Optimal (old)",{"$f":"MIN(ROUND($I$123/D123*Construction!$I$2,0),$I126)","v":{"$error":"#VALUE!"}},{"$f":"MIN(ROUND($I$123/E123*Construction!$I$2,0),$I126)","v":{"$error":"#VALUE!"}},{"$f":"MIN(ROUND($I$123/F123*Construction!$I$2,0),$I126)","v":{"$error":"#VALUE!"}},{"$f":"MIN(ROUND($I$123/G123*Construction!$I$2,0),$I126)","v":{"$error":"#VALUE!"}},{"$f":"IF($I$2=\"Existing\",(D126),(IF($I$2=\"Design 1\",(F126),(IF($I$2=\"Design 2\",(G126),(IF($I$2=\"Optimal\",(I126),E126)))))))","v":{"$error":"#VALUE!"}},{"$f":"ROUND($I$123/I123*Construction!$I$2,0)","v":{"$error":"#VALUE!"}}]
[null,null,"Logistic1",{"$f":"LN((D128/(1-D128))/(0.5/0.5))/LN(IF($E123/I123=1,0.999,$E123/I123))","v":{"$error":"#VALUE!"}}]
[null,null,"Logistic Param",0.999,null,{"$f":"0.7/0.3","v":2.3333333333333335}]
[null,null,"Score ",{"$f":"MIN(ROUND(D125*Construction!$I$2,0),$I126)","v":{"$error":"#N/A"}},{"$f":"MIN(ROUND(E125*Construction!$I$2,0),$I126)","v":{"$error":"#VALUE!"}},{"$f":"MIN(ROUND(F125*Construction!$I$2,0),$I126)","v":{"$error":"#N/A"}},{"$f":"MIN(ROUND(G125*Construction!$I$2,0),$I126)","v":{"$error":"#VALUE!"}},{"$f":"MIN(ROUND(H125*Construction!$I$2,0),$I126)","v":{"$error":"#VALUE!"}},{"$f":"MIN(ROUND(I125*Construction!$I$2,0),$I126)","v":{"$error":"#VALUE!"}}]
[]
[null,null,"HC and Grade",{"$f":"IF($B$139,0,1)","v":1},{"$f":"IF($B$139,0,1)","v":1},1,1,{"$f":"IF($I$2=\"Existing\",(D131),(IF($I$2=\"Design 1\",(F131),(IF($I$2=\"Design 2\",(G131),(IF($I$2=\"Optimal\",(I131),E131)))))))","v":1},{"$f":"IF($B$139,0,1)","v":1}]
["HC?",null,"HC and VC Crest type I",{"$f":"IF(AND($B$139=1,SIGN(D$40)=1,ABS(D$40)<=ABS(D$40-D$41),D$46=\"Crest\"),1,0)","v":0},{"$f":"IF(AND($B$139=1,SIGN(IF(ISNUMBER(E$40),E$40,0))=1,\n  ABS(IF(ISNUMBER(E$40),E$40,0))<=ABS(IF(ISNUMBER(E$40),E$40,0)-IF(ISNUMBER(E$41),E$41,0)),E$46=\"Crest\"),\n  1,0)","v":0},{"$f":"IF(AND($B$139=1,SIGN(F$40)=1,ABS(F$40)<=ABS(F$40-F$41),F$46=\"Crest\"),1,0)","v":0},{"$f":"IF(AND($B$139=1,SIGN(G$40)=1,ABS(G$40)<=ABS(G$40-G$41),G$46=\"Crest\"),1,0)","v":0},{"$f":"IF($I$2=\"Existing\",(D132),(IF($I$2=\"Design 1\",(F132),(IF($I$2=\"Design 2\",(G132),(IF($I$2=\"Optimal\",(I132),E132)))))))","v":0},{"$f":"IF(AND($B$138=1,SIGN(I$40)=1,ABS(I$40)<=ABS(I$40-IF(ISNUMBER(I$41), I$41,0)),I$46=\"Crest\"),1,0)","v":{"$error":"#VALUE!"}},null,{"$f":"INDEX($D132:$I132,K$100)","v":0},{"$f":"INDEX($D132:$I132,L$100)","v":0},{"$f":"IF(ISERROR(1-L132/K132), 0, 1-L132/K132)","v":0}]
["VC?",null,"HC and VC Sag type I",{"$f":"IF(AND($B$139=1,SIGN(D$40)=1,ABS(D$40)<=ABS(D$40-D$41),D$46=\"Sag\"),1,0)","v":0},{"$f":"IF(AND($B$139=1,SIGN(IF(ISNUMBER(E$40),E$40,0))=1,\n  ABS(IF(ISNUMBER(E$40),E$40,0))<=ABS(IF(ISNUMBER(E$40),E$40,0)-IF(ISNUMBER(E$41),E$41,0)),E$46=\"Sag\"),\n  1,0)","v":0},{"$f":"IF(AND($B$139=1,SIGN(F$40)=1,ABS(F$40)<=ABS(F$40-F$41),F$46=\"Sag\"),1,0)","v":0},{"$f":"IF(AND($B$139=1,SIGN(G$40)=1,ABS(G$40)<=ABS(G$40-G$41),G$46=\"Sag\"),1,0)","v":0},{"$f":"IF($I$2=\"Existing\",(D133),(IF($I$2=\"Design 1\",(F133),(IF($I$2=\"Design 2\",(G133),(IF($I$2=\"Optimal\",(I133),E133)))))))","v":0},{"$f":"IF(AND($B$138=1,SIGN(I$40)=1,ABS(I$40)<=ABS(I$40-IF(ISNUMBER(I$41), I$41,0)),I$46=\"Sag\"),1,0)","v":{"$error":"#VALUE!"}},null,{"$f":"INDEX($D133:$I133,K$100)","v":0},{"$f":"INDEX($D133:$I133,L$100)","v":0},0]
[null,null,"HC and VC Crest type II",{"$f":"IF(AND($B$139=1,D$46=\"Crest\",D$132=0),1,0)","v":0},{"$f":"IF(AND($B$139=1,E$46=\"Crest\",E$132=0),1,0)","v":0},{"$f":"IF(AND($B$139=1,F$46=\"Crest\",F$132=0),1,0)","v":0},{"$f":"IF(AND($B$139=1,G$46=\"Crest\",G$132=0),1,0)","v":0},{"$f":"IF($I$2=\"Existing\",(D134),(IF($I$2=\"Design 1\",(F134),(IF($I$2=\"Design 2\",(G134),(IF($I$2=\"Optimal\",(I134),E134)))))))","v":0},{"$f":"IF(AND($B$139=1,I$46=\"Crest\",I$132=0),1,0)","v":{"$error":"#VALUE!"}},null,{"$f":"INDEX($D134:$I134,K$100)","v":0},{"$f":"INDEX($D134:$I134,L$100)","v":0},0]
[null,null,"HC and VC Sag type II",{"$f":"IF(AND($B$139=1,D$46=\"Sag\",D$133=0),1,0)","v":0},{"$f":"IF(AND($B$139=1,E$46=\"Sag\",E$133=0),1,0)","v":0},{"$f":"IF(AND($B$139=1,F$46=\"Sag\",F$133=0),1,0)","v":0},{"$f":"IF(AND($B$139=1,G$46=\"Sag\",G$133=0),1,0)","v":0},{"$f":"IF($I$2=\"Existing\",(D135),(IF($I$2=\"Design 1\",(F135),(IF($I$2=\"Design 2\",(G135),(IF($I$2=\"Optimal\",(I135),E135)))))))","v":0},{"$f":"IF(AND($B$139=1,I$46=\"Sag\",I$133=0),1,0)","v":{"$error":"#VALUE!"}},null,{"$f":"INDEX($D135:$I135,K$100)","v":0},{"$f":"INDEX($D135:$I135,L$100)","v":0},0]
[null,"Yes/No"]
[null,null,"HC and VC:"]
[null,{"$f":"IF(B31=\"Yes\",1,0)","v":0},"HC and Grade",{"$f":"IF($B$139=0,\n  EXP(0.042*ABS(D$40)\n    +$B$138*0.16*LN(2*5730/IF(ISNUMBER(D$33),D$33,1))*$B$138\n    +4.16*$B$138/IF(ISNUMBER(D$33),D$33,1)/IF( AND(ISNUMBER(D$34),D$34<>0),D$34,1)),\n  1)","v":1},{"$f":"IF($B$139=0,\n  EXP(0.042*ABS(D$40)\n    +$B$138*0.16*LN(2*5730/IF(ISNUMBER(E$33),E$33,1))*$B$138\n    +4.16*$B$138/IF(ISNUMBER(E$33),E$33,1)/IF( AND(ISNUMBER(E$34),E$34<>0),E$34,1)),\n  1)","v":1},{"$f":"IF($B$139=0,\n  EXP(0.042*ABS(F$40)\n    +$B$138*0.16*LN(2*5730/IF(ISNUMBER(F$33),F$33,1))*$B$138\n    +4.16*$B$138/IF(ISNUMBER(F$33),F$33,1)/IF( AND(ISNUMBER(F$34),F$34<>0),F$34,1)),\n  1)","v":1},{"$f":"IF($B$139=0,\n  EXP(0.042*ABS(G$40)\n    +$B$138*0.16*LN(2*5730/IF(ISNUMBER(G$33),G$33,1))*$B$138\n    +4.16*$B$138/IF(ISNUMBER(G$33),G$33,1)/IF( AND(ISNUMBER(G$34),G$34<>0),G$34,1)),\n  1)","v":1},null,{"$f":"IF($B$139=0,\n  EXP(0.042*ABS(I$40)\n    +$B$138*0.16*LN(2*5730/IF(ISNUMBER(I$33),I$33,1))*$B$138\n    +4.16*$B$138/IF(ISNUMBER(I$33),I$33,1)/IF( AND(ISNUMBER(I$34),I$34<>0),I$34,1)),\n  1)","v":{"$error":"#VALUE!"}},null,{"$f":"INDEX($D138:$I138,K$100)","v":1},{"$f":"INDEX($D138:$I138,L$100)","v":1},{"$f":"IF(ISERROR(1-L138/K138), 0, 1-L138/K138)","v":0},null,0]
[null,{"$f":"IF(B38=\"Yes\",1,0)","v":0},"HC and VC Crest type I",{"$f":"IF($B$139=0,1,EXP(0.005648908*5730*ABS(+D$40-D$41)*$B$139/D$145*$B$138))","v":1},{"$f":"IF($B$139=0,1,EXP(0.005648908*5730*ABS(+E$40-E$41)*$B$139/E$145*$B$138))","v":1},1,1,{"$f":"IF($I$2=\"Existing\",(D139),(IF($I$2=\"Design 1\",(F139),(IF($I$2=\"Design 2\",(G139),(IF($I$2=\"Optimal\",(I139),E139)))))))","v":1},1,null,{"$f":"INDEX($D139:$I139,K$100)","v":1},{"$f":"INDEX($D139:$I139,L$100)","v":1},0,null,0]
[null,null,"HC and VC Sag type I",{"$f":"IF($B$139=0,1,EXP(9.15857042*$B$139/D$146+0.010284958*5730*$B$139*$B$138*ABS(+D$40-D$41)/D$145))","v":1},{"$f":"IF($B$139=0,1,EXP(9.15857042*$B$139/E$146+0.010284958*5730*$B$139*$B$138*ABS(+E$40-E$41)/E$145))","v":1},1,1,{"$f":"IF($I$2=\"Existing\",(D140),(IF($I$2=\"Design 1\",(F140),(IF($I$2=\"Design 2\",(G140),(IF($I$2=\"Optimal\",(I140),E140)))))))","v":1},1,null,{"$f":"INDEX($D140:$I140,K$100)","v":1},{"$f":"INDEX($D140:$I140,L$100)","v":1},0,null,0]
[null,null,"HC and VC Crest type II",{"$f":"IF($B$139=0,1,EXP(0.005648908*5730*ABS(+D$40-D$41)*$B$139/D$145*$B$138))","v":1},{"$f":"IF($B$139=0,1,EXP(0.005648908*5730*ABS(+E$40-E$41)*$B$139/E$145*$B$138))","v":1},1,1,{"$f":"IF($I$2=\"Existing\",(D141),(IF($I$2=\"Design 1\",(F141),(IF($I$2=\"Design 2\",(G141),(IF($I$2=\"Optimal\",(I141),E141)))))))","v":1},1,null,{"$f":"INDEX($D141:$I141,K$100)","v":1},{"$f":"INDEX($D141:$I141,L$100)","v":1},0,null,0]
[null,null,"HC and VC Sag type II",{"$f":"IF($B$139=0,1,(0.246011284*EXP(LN(0.188*2*5730/D$145)*$B$138)+0.753988716*EXP(0.022*5730/D$145*ABS(D$40-D$41)*$B$139*$B$138)))","v":1},{"$f":"IF($B$139=0,1,(0.246011284*EXP(LN(0.188*2*5730/E$145)*$B$138)+0.753988716*EXP(0.022*5730/E$145*ABS(E$40-E$41)*$B$139*$B$138)))","v":1},1,1,{"$f":"IF($I$2=\"Existing\",(D142),(IF($I$2=\"Design 1\",(F142),(IF($I$2=\"Design 2\",(G142),(IF($I$2=\"Optimal\",(I142),E142)))))))","v":1},1,null,{"$f":"INDEX($D142:$I142,K$100)","v":1},{"$f":"INDEX($D142:$I142,L$100)","v":1},0,null,0]
[]
[null,null,"Combined HZ and VT",{"$f":"MMULT(TRANSPOSE(D131:D135),D138:D142)","v":1},{"$f":"MMULT(TRANSPOSE(E131:E135),E138:E142)","v":1},{"$f":"MMULT(TRANSPOSE(F131:F135),F138:F142)","v":1},{"$f":"MMULT(TRANSPOSE(G131:G135),G138:G142)","v":1},{"$f":"IF($I$2=\"Existing\",(D144),(IF($I$2=\"Design 1\",(F144),(IF($I$2=\"Design 2\",(G144),(IF($I$2=\"Optimal\",(I144),E144)))))))","v":1},{"$f":"MMULT(TRANSPOSE(I131:I135),I138:I142)","v":{"$error":"#VALUE!"}},null,{"$f":"INDEX($D144:$I144,K$100)","v":1},{"$f":"INDEX($D144:$I144,L$100)","v":1},{"$f":"IF(ISERROR(1-L144/K144), 0, 1-L144/K144)","v":0},null,0]
[null,null,"effective R for calculation",{"$f":"IF(ISNUMBER(D33), D33, 99999999)","v":99999999},{"$f":"IF(ISNUMBER(E33), E33, 99999999)","v":590},99999999,99999999,null,590]
[null,null,"effective K for calculation",{"$f":"IF(ISNUMBER(D43), D43, 99999999)","v":99999999},{"$f":"IF(ISNUMBER(E43), E43, 99999999)","v":99999999},99999999,99999999,null,99999999]
[null,"Traffic"]
[null,null,null,"Existing","Standard","Design 1","Design 2"]
[null,null,"Advance static curve warning signs",{"$f":"IF(D24=INDEX(MedConf_Header,1,2),IF(AND($B$31=\"Yes\",D$56=\"Yes\"),(Traffic!$F$4-1)*AVERAGE(Constraints!$F$24,Constraints!$H$24)/Constraints!$D$24+1,1),(IF(AND($B$31=\"Yes\",D$56=\"Yes\"),(Traffic!$F$4-1)*AVERAGE(Constraints!$F$38,Constraints!$H$38)/Constraints!$D$38+1,1)))","v":1},{"$f":"IF(AND($B$31=\"Yes\",E$56=\"Yes\"),(Traffic!$F$4-1)*AVERAGE(Constraints!$F$24,Constraints!$H$24)/Constraints!$D$24+1,1)","v":1},{"$f":"IF(F24=INDEX(MedConf_Header,1,2),IF(AND($B$31=\"Yes\",F$56=\"Yes\"),(Traffic!$F$4-1)*AVERAGE(Constraints!$F$24,Constraints!$H$24)/Constraints!$D$24+1,1),(IF(AND($B$31=\"Yes\",F$56=\"Yes\"),(Traffic!$F$4-1)*AVERAGE(Constraints!$F$38,Constraints!$H$38)/Constraints!$D$38+1,1)))","v":1},{"$f":"IF(G24=INDEX(MedConf_Header,1,2),IF(AND($B$31=\"Yes\",G$56=\"Yes\"),(Traffic!$F$4-1)*AVERAGE(Constraints!$F$24,Constraints!$H$24)/Constraints!$D$24+1,1),(IF(AND($B$31=\"Yes\",G$56=\"Yes\"),(Traffic!$F$4-1)*AVERAGE(Constraints!$F$38,Constraints!$H$38)/Constraints!$D$38+1,1)))","v":1},{"$f":"IF($I$2=\"Existing\",(D149),(IF($I$2=\"Design 1\",(F149),(IF($I$2=\"Design 2\",(G149),(IF($I$2=\"Optimal\",(I149),E149)))))))","v":1},{"$f":"IF(AND($B$31=\"Yes\",I$56=\"Yes\"),(Traffic!$F$4-1)*AVERAGE(Constraints!$F$24,Constraints!$H$24)/Constraints!$D$24+1,1)","v":1},null,{"$f":"INDEX($D149:$I149,K$100)","v":1},{"$f":"INDEX($D149:$I149,L$100)","v":1},{"$f":"IF(ISERROR(1-L149/K149), 0, 1-L149/K149)","v":0},null,0]
[null,null,"Install chevron signs on horizontal curves",{"$f":"IF(D24=INDEX(MedConf_Header,1,2),(IF(D$57=\"No\",1,(IF(AND($B$31=\"Yes\",D$27<11.5),((Traffic!$F$6-1)*(Constraints!$E$18+Constraints!$E$22))+1,1)))),(IF(D$57=\"No\",1,(IF(AND($B$31=\"Yes\",D$27<11.5),((Traffic!$F$6-1)*(Constraints!$E$32+Constraints!$E$36))+1,1)))))","v":1},{"$f":"IF(E$57=\"No\",1,(IF(AND($B$31=\"Yes\",E$27<11.5),((Traffic!$F$6-1)*(Constraints!$E$18+Constraints!$E$22))+1,1)))","v":1},{"$f":"IF(F24=INDEX(MedConf_Header,1,2),(IF(F$57=\"No\",1,(IF(AND($B$31=\"Yes\",F$27<11.5),((Traffic!$F$6-1)*(Constraints!$E$18+Constraints!$E$22))+1,1)))),(IF(F$57=\"No\",1,(IF(AND($B$31=\"Yes\",F$27<11.5),((Traffic!$F$6-1)*(Constraints!$E$32+Constraints!$E$36))+1,1)))))","v":1},{"$f":"IF(G24=INDEX(MedConf_Header,1,2),(IF(G$57=\"No\",1,(IF(AND($B$31=\"Yes\",G$27<11.5),((Traffic!$F$6-1)*(Constraints!$E$18+Constraints!$E$22))+1,1)))),(IF(G$57=\"No\",1,(IF(AND($B$31=\"Yes\",G$27<11.5),((Traffic!$F$6-1)*(Constraints!$E$32+Constraints!$E$36))+1,1)))))","v":1},{"$f":"IF($I$2=\"Existing\",(D150),(IF($I$2=\"Design 1\",(F150),(IF($I$2=\"Design 2\",(G150),(IF($I$2=\"Optimal\",(I150),E150)))))))","v":1},{"$f":"IF(I$57=\"No\",1,(IF(AND($B$31=\"Yes\",I$27<11.5),((Traffic!$F$6-1)*(Constraints!$E$18+Constraints!$E$22))+1,1)))","v":1},null,{"$f":"INDEX($D150:$I150,K$100)","v":1},{"$f":"INDEX($D150:$I150,L$100)","v":1},0,null,0]
[null,null,"Install post-mounted delineators",{"$f":"IF(D24=INDEX(MedConf_Header,1,2),IF(AND($B$31=\"Yes\",D$58=\"Yes\"),(Traffic!$F$12-1)*Constraints!$E$17+1,1),(IF(AND($B$31=\"Yes\",D$58=\"Yes\"),(Traffic!$F$12-1)*Constraints!$E$31+1,1)))","v":1},{"$f":"IF(AND($B$31=\"Yes\",E$58=\"Yes\"),(Traffic!$F$12-1)*Constraints!$E$17+1,1)","v":1},{"$f":"IF(F24=INDEX(MedConf_Header,1,2),IF(AND($B$31=\"Yes\",F$58=\"Yes\"),(Traffic!$F$12-1)*Constraints!$E$17+1,1),(IF(AND($B$31=\"Yes\",F$58=\"Yes\"),(Traffic!$F$12-1)*Constraints!$E$31+1,1)))","v":1},{"$f":"IF(G24=INDEX(MedConf_Header,1,2),IF(AND($B$31=\"Yes\",G$58=\"Yes\"),(Traffic!$F$12-1)*Constraints!$E$17+1,1),(IF(AND($B$31=\"Yes\",G$58=\"Yes\"),(Traffic!$F$12-1)*Constraints!$E$31+1,1)))","v":1},{"$f":"IF($I$2=\"Existing\",(D151),(IF($I$2=\"Design 1\",(F151),(IF($I$2=\"Design 2\",(G151),(IF($I$2=\"Optimal\",(I151),E151)))))))","v":1},{"$f":"IF(AND($B$31=\"Yes\",I$58=\"Yes\"),(Traffic!$F$12-1)*Constraints!$E$17+1,1)","v":1},null,{"$f":"INDEX($D151:$I151,K$100)","v":1},{"$f":"INDEX($D151:$I151,L$100)","v":1},0,null,0]
[null,null,"Install edgeline  or Profile pavement markings ",{"$f":"IF(D24=INDEX(MedConf_Header,1,2),(IF(D$59=\"Yes\",Traffic!$F$18*0.5+((Traffic!$F$20*(Constraints!$H$17+Constraints!$H$20+Constraints!$H$21)+1*(Constraints!$H$24-(Constraints!$H$17+Constraints!$H$20+Constraints!$H$21)))/Constraints!$H$24)*0.5,1)),(IF(D$59=\"Yes\",Traffic!$F$18*0.5+((Traffic!$F$20*(Constraints!$H$31+Constraints!$H$34+Constraints!$H$35)+1*(Constraints!$H$38-(Constraints!$H$31+Constraints!$H$34+Constraints!$H$35)))/Constraints!$H$38)*0.5,1)))","v":1},{"$f":"IF(E24=INDEX(MedConf_Header,1,2),(IF(E$59=\"Yes\",Traffic!$F$18*0.5+((Traffic!$F$20*(Constraints!$H$17+Constraints!$H$20+Constraints!$H$21)+1*(Constraints!$H$24-(Constraints!$H$17+Constraints!$H$20+Constraints!$H$21)))/Constraints!$H$24)*0.5,1)),(IF(E$59=\"Yes\",Traffic!$F$18*0.5+((Traffic!$F$20*(Constraints!$H$31+Constraints!$H$34+Constraints!$H$35)+1*(Constraints!$H$38-(Constraints!$H$31+Constraints!$H$34+Constraints!$H$35)))/Constraints!$H$38)*0.5,1)))","v":1},{"$f":"IF(F24=INDEX(MedConf_Header,1,2),(IF(F$59=\"Yes\",Traffic!$F$18*0.5+((Traffic!$F$20*(Constraints!$H$17+Constraints!$H$20+Constraints!$H$21)+1*(Constraints!$H$24-(Constraints!$H$17+Constraints!$H$20+Constraints!$H$21)))/Constraints!$H$24)*0.5,1)),(IF(F$59=\"Yes\",Traffic!$F$18*0.5+((Traffic!$F$20*(Constraints!$H$31+Constraints!$H$34+Constraints!$H$35)+1*(Constraints!$H$38-(Constraints!$H$31+Constraints!$H$34+Constraints!$H$35)))/Constraints!$H$38)*0.5,1)))","v":1},{"$f":"IF(G24=INDEX(MedConf_Header,1,2),(IF(G$59=\"Yes\",Traffic!$F$18*0.5+((Traffic!$F$20*(Constraints!$H$17+Constraints!$H$20+Constraints!$H$21)+1*(Constraints!$H$24-(Constraints!$H$17+Constraints!$H$20+Constraints!$H$21)))/Constraints!$H$24)*0.5,1)),(IF(G$59=\"Yes\",Traffic!$F$18*0.5+((Traffic!$F$20*(Constraints!$H$31+Constraints!$H$34+Constraints!$H$35)+1*(Constraints!$H$38-(Constraints!$H$31+Constraints!$H$34+Constraints!$H$35)))/Constraints!$H$38)*0.5,1)))","v":1},{"$f":"IF($I$2=\"Existing\",(D152),(IF($I$2=\"Design 1\",(F152),(IF($I$2=\"Design 2\",(G152),(IF($I$2=\"Optimal\",(I152),E152)))))))","v":1},{"$f":"IF(I24=INDEX(MedConf_Header,1,2),(IF(I$59=\"Yes\",Traffic!$F$18*0.5+((Traffic!$F$20*(Constraints!$H$17+Constraints!$H$20+Constraints!$H$21)+1*(Constraints!$H$24-(Constraints!$H$17+Constraints!$H$20+Constraints!$H$21)))/Constraints!$H$24)*0.5,1)),(IF(I$59=\"Yes\",Traffic!$F$18*0.5+((Traffic!$F$20*(Constraints!$H$31+Constraints!$H$34+Constraints!$H$35)+1*(Constraints!$H$38-(Constraints!$H$31+Constraints!$H$34+Constraints!$H$35)))/Constraints!$H$38)*0.5,1)))","v":0.87439641434262949},null,{"$f":"INDEX($D152:$I152,K$100)","v":1},{"$f":"INDEX($D152:$I152,L$100)","v":1},0,null,0.13824118691351761]
[null,null,"Profiles",1,1,1,1,1,1,null,{"$f":"INDEX($D153:$I153,K$100)","v":1},{"$f":"INDEX($D153:$I153,L$100)","v":1},0,null,0]
[null,null,"Shoulder rumble strips",{"$f":"IF(D24=INDEX(MedConf_Header,1,2),(IF(D$60=\"No\",1,(Traffic!$F$27*(Constraints!$H$17+Constraints!$H$20+Constraints!$H$21)+1*(Constraints!$H$24-(Constraints!$H$17+Constraints!$H$20+Constraints!$H$21)))/Constraints!$H$24)),(IF(D$60=\"No\",1,(Traffic!$F$27*(Constraints!$H$31+Constraints!$H$34+Constraints!$H$35)+1*(Constraints!$H$38-(Constraints!$H$31+Constraints!$H$34+Constraints!$H$35)))/Constraints!$H$38)))","v":0.93956289460903353},{"$f":"IF(E$60=\"No\",1,(Traffic!$F$27*(Constraints!$H$17+Constraints!$H$20+Constraints!$H$21)+1*(Constraints!$H$24-(Constraints!$H$17+Constraints!$H$20+Constraints!$H$21)))/Constraints!$H$24)","v":0.91807038512616201},{"$f":"IF(F24=INDEX(MedConf_Header,1,2),(IF(F$60=\"No\",1,(Traffic!$F$27*(Constraints!$H$17+Constraints!$H$20+Constraints!$H$21)+1*(Constraints!$H$24-(Constraints!$H$17+Constraints!$H$20+Constraints!$H$21)))/Constraints!$H$24)),(IF(F$60=\"No\",1,(Traffic!$F$27*(Constraints!$H$31+Constraints!$H$34+Constraints!$H$35)+1*(Constraints!$H$38-(Constraints!$H$31+Constraints!$H$34+Constraints!$H$35)))/Constraints!$H$38)))","v":0.93956289460903353},{"$f":"IF(G24=INDEX(MedConf_Header,1,2),(IF(G$60=\"No\",1,(Traffic!$F$27*(Constraints!$H$17+Constraints!$H$20+Constraints!$H$21)+1*(Constraints!$H$24-(Constraints!$H$17+Constraints!$H$20+Constraints!$H$21)))/Constraints!$H$24)),(IF(G$60=\"No\",1,(Traffic!$F$27*(Constraints!$H$31+Constraints!$H$34+Constraints!$H$35)+1*(Constraints!$H$38-(Constraints!$H$31+Constraints!$H$34+Constraints!$H$35)))/Constraints!$H$38)))","v":0.93956289460903353},{"$f":"IF($I$2=\"Existing\",(D154),(IF($I$2=\"Design 1\",(F154),(IF($I$2=\"Design 2\",(G154),(IF($I$2=\"Optimal\",(I154),E154)))))))","v":0.91807038512616201},{"$f":"IF(I$60=\"No\",1,(Traffic!$F$27*(Constraints!$H$17+Constraints!$H$20+Constraints!$H$21)+1*(Constraints!$H$24-(Constraints!$H$17+Constraints!$H$20+Constraints!$H$21)))/Constraints!$H$24)","v":0.91807038512616201},null,{"$f":"INDEX($D154:$I154,K$100)","v":0.93956289460903353},{"$f":"INDEX($D154:$I154,L$100)","v":0.91807038512616201},2.2875008800570917E-2,null,0]
[null,null,"Install centerline rumble strips",{"$f":"IF(D24=INDEX(MedConf_Header,1,3),(IF(D$61=\"No\",1,(Traffic!$E$81*(Constraints!$H$31+Constraints!$H$34+Constraints!$H$35)+1*(Constraints!$H$38-(Constraints!$H$31+Constraints!$H$34+Constraints!$H$35)))/Constraints!$H$38)+0.001),1)","v":1},{"$f":"IF(E24=INDEX(MedConf_Header,1,3),(IF(E$61=\"No\",1,(Traffic!$E$81*(Constraints!$H$31+Constraints!$H$34+Constraints!$H$35)+1*(Constraints!$H$38-(Constraints!$H$31+Constraints!$H$34+Constraints!$H$35)))/Constraints!$H$38)+0.001),1)","v":1},{"$f":"IF(F24=INDEX(MedConf_Header,1,3),(IF(F$61=\"No\",1,(Traffic!$E$81*(Constraints!$H$31+Constraints!$H$34+Constraints!$H$35)+1*(Constraints!$H$38-(Constraints!$H$31+Constraints!$H$34+Constraints!$H$35)))/Constraints!$H$38)+0.001),1)","v":1},{"$f":"IF(G24=INDEX(MedConf_Header,1,3),(IF(G$61=\"No\",1,(Traffic!$E$81*(Constraints!$H$31+Constraints!$H$34+Constraints!$H$35)+1*(Constraints!$H$38-(Constraints!$H$31+Constraints!$H$34+Constraints!$H$35)))/Constraints!$H$38)+0.001),1)","v":1},{"$f":"IF($I$2=\"Existing\",(D155),(IF($I$2=\"Design 1\",(F155),(IF($I$2=\"Design 2\",(G155),(IF($I$2=\"Optimal\",(I155),E155)))))))","v":1},{"$f":"IF(I24=INDEX(MedConf_Header,1,3),(IF(I$61=\"No\",1,(Traffic!$E$81*(Constraints!$H$31+Constraints!$H$34+Constraints!$H$35)+1*(Constraints!$H$38-(Constraints!$H$31+Constraints!$H$34+Constraints!$H$35)))/Constraints!$H$38)+0.001),1)","v":1},null,{"$f":"INDEX($D155:$I155,K$100)","v":1},{"$f":"INDEX($D155:$I155,L$100)","v":1},0,null,-0.16279069767441867]
[null,null,"Driveway Density (driveways per mile)",{"$f":"EXP(-LN(Traffic!$F$31)*(D$62-$E$62))","v":0.81707280688754669},{"$f":"EXP(-LN(Traffic!$F$31)*(E$62-$E$62))","v":1},{"$f":"EXP(-LN(Traffic!$F$31)*(F$62-$E$62))","v":0.81707280688754669},{"$f":"EXP(-LN(Traffic!$F$31)*(G$62-$E$62))","v":0.81707280688754669},{"$f":"IF($I$2=\"Existing\",(D156),(IF($I$2=\"Design 1\",(F156),(IF($I$2=\"Design 2\",(G156),(IF($I$2=\"Optimal\",(I156),E156)))))))","v":1},{"$f":"EXP(-LN(Traffic!$F$31)*(I$62-$E$62))","v":0.81707280688754669},null,{"$f":"INDEX($D156:$I156,K$100)","v":0.81707280688754669},{"$f":"INDEX($D156:$I156,L$100)","v":1},-0.22388114201141129,null,-0.22388114201141129]
[null,null,"Install lighting",{"$f":"IF(D24=INDEX(MedConf_Header,1,2),(IF(D$63=\"No\",1,1-(((1-Traffic!$F$54*Constraints!$H$24-Constraints!$F$24/3)+((1-Traffic!$F$54*Constraints!$D$24-Constraints!$H$24)))*$S$19+((1-Traffic!$F$56)*Constraints!$F$24/3))/Constraints!$D$24)),(IF(D$63=\"No\",1,1-(((1-Traffic!$F$54*Constraints!$H$38-Constraints!$F$38/3)+((1-Traffic!$F$54*Constraints!$D$38-Constraints!$H$38)))*$S$19+((1-Traffic!$F$56)*Constraints!$F$38/3))/Constraints!$D$38)))","v":0.98319080068143105},{"$f":"IF(E$63=\"No\",1,1-(((1-Traffic!$F$54*Constraints!$H$24-Constraints!$F$24/3)+((1-Traffic!$F$54*Constraints!$D$24-Constraints!$H$24)))*$S$19+((1-Traffic!$F$56)*Constraints!$F$24/3))/Constraints!$D$24)","v":1},{"$f":"IF(F24=INDEX(MedConf_Header,1,2),(IF(F$63=\"No\",1,1-(((1-Traffic!$F$54*Constraints!$H$24-Constraints!$F$24/3)+((1-Traffic!$F$54*Constraints!$D$24-Constraints!$H$24)))*$S$19+((1-Traffic!$F$56)*Constraints!$F$24/3))/Constraints!$D$24)),(IF(F$63=\"No\",1,1-(((1-Traffic!$F$54*Constraints!$H$38-Constraints!$F$38/3)+((1-Traffic!$F$54*Constraints!$D$38-Constraints!$H$38)))*$S$19+((1-Traffic!$F$56)*Constraints!$F$38/3))/Constraints!$D$38)))","v":0.98319080068143105},{"$f":"IF(G24=INDEX(MedConf_Header,1,2),(IF(G$63=\"No\",1,1-(((1-Traffic!$F$54*Constraints!$H$24-Constraints!$F$24/3)+((1-Traffic!$F$54*Constraints!$D$24-Constraints!$H$24)))*$S$19+((1-Traffic!$F$56)*Constraints!$F$24/3))/Constraints!$D$24)),(IF(G$63=\"No\",1,1-(((1-Traffic!$F$54*Constraints!$H$38-Constraints!$F$38/3)+((1-Traffic!$F$54*Constraints!$D$38-Constraints!$H$38)))*$S$19+((1-Traffic!$F$56)*Constraints!$F$38/3))/Constraints!$D$38)))","v":0.98319080068143105},{"$f":"IF($I$2=\"Existing\",(D157),(IF($I$2=\"Design 1\",(F157),(IF($I$2=\"Design 2\",(G157),(IF($I$2=\"Optimal\",(I157),E157)))))))","v":1},{"$f":"IF(I$63=\"No\",1,1-(((1-Traffic!$F$54*Constraints!$H$24-Constraints!$F$24/3)+((1-Traffic!$F$54*Constraints!$D$24-Constraints!$H$24)))*$S$19+((1-Traffic!$F$56)*Constraints!$F$24/3))/Constraints!$D$24)","v":0.98062689234129152},null,{"$f":"INDEX($D157:$I157,K$100)","v":0.98319080068143105},{"$f":"INDEX($D157:$I157,L$100)","v":1},-1.7096579124742384E-2,null,-2.3499081529478438E-2]
[null,null,"Pavement friction (skid number)",{"$f":"EXP(LN(Traffic!$F$48)*(D$64-$E$64))","v":1.3972521419325798},{"$f":"EXP(LN(Traffic!$F$48)*(E$64-$E$64))","v":1},{"$f":"IF(MATCH(F64,SkidNums,0)=3, $D158,EXP(LN([5]Traffic!$F$49)*(RIGHT(F$64,2)-$E$64)))","v":{"$error":"#N/A"}},{"$f":"IF(MATCH(G64,SkidNums,0)=3, $D158,EXP(LN([5]Traffic!$F$49)*(RIGHT(G$64,2)-$E$64)))","v":{"$error":"#N/A"}},{"$f":"IF($I$2=\"Existing\",(D158),(IF($I$2=\"Design 1\",(F158),(IF($I$2=\"Design 2\",(G158),(IF($I$2=\"Optimal\",(I158),E158)))))))","v":1},{"$f":"EXP(LN(Traffic!$F$48)*(I$64-$E$64))","v":0.85753553626991963},null,{"$f":"INDEX($D158:$I158,K$100)","v":1.3972521419325798},{"$f":"INDEX($D158:$I158,L$100)","v":1},0.28430956017940245,null,0]
[]
[]
[null,null,"COMBINED Calculated CMF",{"$f":"+D149*D150*D151*D152*D153*D154*D155*D156*D157*D158","v":1.0546277742651902},{"$f":"+E149*E150*E151*E152*E153*E154*E155*E156*E157*E158","v":0.91807038512616201},{"$error":"#N/A"},{"$error":"#N/A"},{"$f":"IF($I$2=\"Existing\",(D161),(IF($I$2=\"Design 1\",(F161),(IF($I$2=\"Design 2\",(G161),(IF($I$2=\"Optimal\",(I161),E161)))))))","v":0.91807038512616201},{"$f":"+I149*I150*I151*I152*I153*I154*I155*I156*I157*I158","v":0.55157049744255038},null,{"$f":"INDEX($D161:$I161,K$100)","v":1.0546277742651902},{"$f":"INDEX($D161:$I161,L$100)","v":0.91807038512616201},{"$f":"IF(ISERROR(1-L161/K161), 0, 1-L161/K161)","v":0.12948396815565966},null,0]
[null,null,"Calculated Relative to Design Standards (Column E)",{"$f":"+D161/$E$161","v":1.1487439213282784},{"$f":"+E161/$E$161","v":1},{"$error":"#N/A"},{"$error":"#N/A"},1,{"$f":"+I161/$E$161","v":0.60079325766156055},null,{"$f":"INDEX($D162:$I162,K$100)","v":1.1487439213282784},{"$f":"INDEX($D162:$I162,L$100)","v":1},0.12948396815565966,null,0]
[null,null,"P(Crash)",{"$f":"+D162/(D162+1)","v":0.53461183062622242},0.5,{"$error":"#N/A"},{"$error":"#N/A"},0.5,{"$f":"+I162/(I162+1)","v":0.37530971272280322},null,{"$f":"INDEX($D163:$I163,K$100)","v":0.53461183062622242},{"$f":"INDEX($D163:$I163,L$100)","v":0.5},6.4741984077829939E-2]
[null,null,"Factor Change on S curve",{"$f":"+D163/$E$163","v":1.0692236612524448},{"$f":"+E163/$E$163","v":1},{"$f":"+F163/$E$163","v":{"$error":"#N/A"}},{"$error":"#N/A"},1,{"$f":"+I163/$E$163","v":0.75061942544560645},null,{"$f":"INDEX($D164:$I164,K$100)","v":1.0692236612524448},{"$f":"INDEX($D164:$I164,L$100)","v":1},6.4741984077829939E-2]
[null,null,"Adjust to Scale of 100",{"$f":"+$I$118/D164*100","v":{"$error":"#VALUE!"}},{"$error":"#VALUE!"},{"$error":"#VALUE!"},{"$error":"#VALUE!"},{"$error":"#VALUE!"},{"$f":"+$I$118/I164*100","v":{"$error":"#VALUE!"}}]
[null,null,"Unadjusted Combined Relative to Standard",{"$f":"+D161/$E$161","v":1.1487439213282784},{"$f":"+E161/$E$161","v":1},{"$f":"+F161/$E$161","v":{"$error":"#N/A"}},{"$error":"#N/A"},1,{"$f":"+I161/$E$161","v":0.60079325766156055},{"$f":"I172/E172","v":1.3333333333333333},{"$f":"INDEX($D166:$I166,K$100)","v":1.1487439213282784},{"$f":"INDEX($D166:$I166,L$100)","v":1},{"$f":"IF(ISERROR(1-L166/K166), 0, 1-L166/K166)","v":0.12948396815565966}]
[null,null,null,null,null,null,null,0,null,null,{"$f":"INDEX($D167:$I167,K$100)","v":0},{"$f":"INDEX($D167:$I167,L$100)","v":0},0]
[null,null,"Adjusted for PA Basis",{"$f":"+D161*(1+1)/(1+D161*1)","v":1.0265876743950504},0.95728539707970672,{"$error":"#N/A"},{"$error":"#N/A"},0.95728539707970672,{"$f":"+I161*(1+1)/(1+I161*1)","v":0.71098348202895401},null,{"$f":"INDEX($D168:$I168,K$100)","v":1.0265876743950504},{"$f":"INDEX($D168:$I168,L$100)","v":0.95728539707970672},6.750741221998624E-2]
[null,null,"Corrected by Odds Ratio",{"$f":"+D168/$E$168","v":1.0723945831898796},{"$f":"+E168/$E$168","v":1},{"$f":"+F168/$E$168","v":{"$error":"#N/A"}},{"$error":"#N/A"},1,{"$f":"+I168/$E$168","v":0.74270795752017016},{"$f":"I175/E175","v":1.4285714285714286},{"$f":"INDEX($D169:$I169,K$100)","v":1.0723945831898796},{"$f":"INDEX($D169:$I169,L$100)","v":1},6.750741221998624E-2]
[null,null,null,{"$f":"(1/D169)^$D173","v":0.19732178070922252},{"$f":"(1/E169)^$D173","v":1},{"$error":"#N/A"},{"$error":"#N/A"},1,998.99999999999955,null,{"$f":"INDEX($D170:$I170,K$100)","v":0.19732178070922252},{"$f":"INDEX($D170:$I170,L$100)","v":1},-4.0678642591089362]
[null,null,null,{"$f":"(D170+$F174-1)/(1+(D170+$F174-1))","v":0.6048454036857811},{"$f":"(E170+$F174-1)/(1+(E170+$F174-1))","v":0.70000000000000007},{"$error":"#N/A"},{"$error":"#N/A"},0.70000000000000007,0.99900133155792281,null,{"$f":"INDEX($D171:$I171,K$100)","v":0.6048454036857811},{"$f":"INDEX($D171:$I171,L$100)","v":0.70000000000000007},-0.15732052477272696]
[null,null,"Score Odds Ratio with Optimal as 100 (old)",{"$f":"MIN(ROUND($I$169/D169*Construction!$I$3,0),$I172)","v":14},{"$f":"MIN(ROUND($I$169/E169*Construction!$I$3,0),$I172)","v":15},{"$f":"MIN(ROUND($I$169/F169*Construction!$I$3,0),$I172)","v":{"$error":"#N/A"}},{"$f":"MIN(ROUND($I$169/G169*Construction!$I$3,0),$I172)","v":{"$error":"#N/A"}},null,{"$f":"ROUND($I$169/I169*Construction!$I$3,0)","v":20}]
[null,null,"Logistic1",{"$f":"LN((D174/(1-D174))/(0.5/0.5))/LN($E169/I169)","v":23.2196999386987}]
[null,null,"Logistic Param",0.999,null,{"$f":"0.7/0.3","v":2.3333333333333335}]
[null,null,"Score ",{"$f":"MIN(ROUND(D171*Construction!$I$3,0),$I172)","v":12},{"$f":"MIN(ROUND(E171*Construction!$I$3,0),$I172)","v":14},{"$f":"MIN(ROUND(F171*Construction!$I$3,0),$I172)","v":{"$error":"#N/A"}},{"$f":"MIN(ROUND(G171*Construction!$I$3,0),$I172)","v":{"$error":"#N/A"}},null,{"$f":"MIN(ROUND(I171*Construction!$I$3,0),$I172)","v":20}]
[]
[]
[]
[]
[null,null,null,{"$f":"INDEX(MedConf_Header,1,2)","v":"Divided - Unsurfaced Median"}]
[]
[null,"Roadsde",null,"Existing","Standard","Design 1","Design 2"]
[null,null,null,{"$f":"IF(ISBLANK(D75), 0, MID(D75,FIND(\":\",D75,1)+1,FIND(\"H\",D75,1)-FIND(\":\",D75,1)-1)+0)","v":0},{"$f":"MID(E75,FIND(\":\",E75,1)+1,FIND(\"H\",E75,1)-FIND(\":\",E75,1)-1)+0","v":4},{"$f":"IF(ISBLANK(F75), 0, MID(F75,FIND(\":\",F75,1)+1,FIND(\"H\",F75,1)-FIND(\":\",F75,1)-1)+0)","v":0},{"$f":"IF(ISBLANK(G75), 0, MID(G75,FIND(\":\",G75,1)+1,FIND(\"H\",G75,1)-FIND(\":\",G75,1)-1)+0)","v":0},null,{"$f":"MID(I75,FIND(\":\",I75,1)+1,FIND(\"H\",I75,1)-FIND(\":\",I75,1)-1)+0","v":6},null,null,null,null,null,0]
[null,null,"Sideslope (Foreslope)",{"$f":"IF(D24=INDEX(MedConf_Header,1,2),(IF(D183<=3,1,IF(OR(D183=4,D183=5),(Roadside!$F$15-1)*Constraints!$H$24/Constraints!$D$24+1,(Roadside!$F$15*Roadside!$F$16-1)*Constraints!$H$24/Constraints!$D$24+1))),(IF(D183<=3,1,IF(OR(D183=4,D183=5),(Roadside!$F$15-1)*Constraints!$H$38/Constraints!$D$38+1,(Roadside!$F$15*Roadside!$F$16-1)*Constraints!$H$38/Constraints!$D$38+1))))","v":1},{"$f":"IF(E24=INDEX(MedConf_Header,1,2),(IF(E183<=3,1,IF(OR(E183=4,E183=5),(Roadside!$F$15-1)*Constraints!$H$24/Constraints!$D$24+1,(Roadside!$F$15*Roadside!$F$16-1)*Constraints!$H$24/Constraints!$D$24+1))),(IF(E183<=3,1,IF(OR(E183=4,E183=5),(Roadside!$F$15-1)*Constraints!$H$38/Constraints!$D$38+1,(Roadside!$F$15*Roadside!$F$16-1)*Constraints!$H$38/Constraints!$D$38+1))))","v":0.84302377525189853},{"$f":"IF(F24=INDEX(MedConf_Header,1,2),(IF(F183<=3,1,IF(OR(F183=4,F183=5),(Roadside!$F$15-1)*Constraints!$H$24/Constraints!$D$24+1,(Roadside!$F$15*Roadside!$F$16-1)*Constraints!$H$24/Constraints!$D$24+1))),(IF(F183<=3,1,IF(OR(F183=4,F183=5),(Roadside!$F$15-1)*Constraints!$H$38/Constraints!$D$38+1,(Roadside!$F$15*Roadside!$F$16-1)*Constraints!$H$38/Constraints!$D$38+1))))","v":1},{"$f":"IF(G24=INDEX(MedConf_Header,1,2),(IF(G183<=3,1,IF(OR(G183=4,G183=5),(Roadside!$F$15-1)*Constraints!$H$24/Constraints!$D$24+1,(Roadside!$F$15*Roadside!$F$16-1)*Constraints!$H$24/Constraints!$D$24+1))),(IF(G183<=3,1,IF(OR(G183=4,G183=5),(Roadside!$F$15-1)*Constraints!$H$38/Constraints!$D$38+1,(Roadside!$F$15*Roadside!$F$16-1)*Constraints!$H$38/Constraints!$D$38+1))))","v":1},{"$f":"IF($I$2=\"Existing\",(D184),(IF($I$2=\"Design 1\",(F184),(IF($I$2=\"Design 2\",(G184),(IF($I$2=\"Optimal\",(I184),E184)))))))","v":0.84302377525189853},{"$f":"IF(I24=INDEX(MedConf_Header,1,2),(IF(I183<=3,1,IF(OR(I183=4,I183=5),(Roadside!$F$15-1)*Constraints!$H$24/Constraints!$D$24+1,(Roadside!$F$15*Roadside!$F$16-1)*Constraints!$H$24/Constraints!$D$24+1))),(IF(I183<=3,1,IF(OR(I183=4,I183=5),(Roadside!$F$15-1)*Constraints!$H$38/Constraints!$D$38+1,(Roadside!$F$15*Roadside!$F$16-1)*Constraints!$H$38/Constraints!$D$38+1))))","v":0.79533290316176108},null,{"$f":"INDEX($D184:$I184,K$100)","v":1},{"$f":"INDEX($D184:$I184,L$100)","v":0.84302377525189853},{"$f":"IF(ISERROR(1-L184/K184), 0, 1-L184/K184)","v":0.15697622474810147},null,0]
[null,null,"Backslope",1,1,1,1,{"$f":"IF($I$2=\"Existing\",(D185),(IF($I$2=\"Design 1\",(F185),(IF($I$2=\"Design 2\",(G185),(IF($I$2=\"Optimal\",(I185),E185)))))))","v":1},1,null,{"$f":"INDEX($D185:$I185,K$100)","v":1},{"$f":"INDEX($D185:$I185,L$100)","v":1},0,null,0]
[null,null,"SafetyEdge",{"$f":"IF(D24=INDEX(MedConf_Header,1,2),(IF(D$77=\"No\",1,(Roadside!$F$23-1)*AVERAGE(Constraints!$H$24,Constraints!$F$24)/Constraints!$D$24+1)),(IF(D$77=\"No\",1,(Roadside!$F$23-1)*AVERAGE(Constraints!$H$38,Constraints!$F$38)/Constraints!$D$38+1)))","v":0.97711209540034072},{"$f":"IF(E$77=\"No\",1,(Roadside!$F$23-1)*AVERAGE(Constraints!$H$24,Constraints!$F$24)/Constraints!$D$24+1)","v":1},{"$f":"IF(F24=INDEX(MedConf_Header,1,2),(IF(F$77=\"No\",1,(Roadside!$F$23-1)*AVERAGE(Constraints!$H$24,Constraints!$F$24)/Constraints!$D$24+1)),(IF(F$77=\"No\",1,(Roadside!$F$23-1)*AVERAGE(Constraints!$H$38,Constraints!$F$38)/Constraints!$D$38+1)))","v":0.97711209540034072},{"$f":"IF(G24=INDEX(MedConf_Header,1,2),(IF(G$77=\"No\",1,(Roadside!$F$23-1)*AVERAGE(Constraints!$H$24,Constraints!$F$24)/Constraints!$D$24+1)),(IF(G$77=\"No\",1,(Roadside!$F$23-1)*AVERAGE(Constraints!$H$38,Constraints!$F$38)/Constraints!$D$38+1)))","v":0.97711209540034072},{"$f":"IF($I$2=\"Existing\",(D186),(IF($I$2=\"Design 1\",(F186),(IF($I$2=\"Design 2\",(G186),(IF($I$2=\"Optimal\",(I186),E186)))))))","v":1},{"$f":"IF(I$77=\"No\",1,(Roadside!$F$23-1)*AVERAGE(Constraints!$H$24,Constraints!$F$24)/Constraints!$D$24+1)","v":0.97526887377773364},null,{"$f":"INDEX($D186:$I186,K$100)","v":0.97711209540034072},{"$f":"INDEX($D186:$I186,L$100)","v":1},-2.3424031600265627E-2,null,-2.8188991921691331E-2]
[null,null,"Lateral Clearance (ft)",{"$f":"IF(D24=INDEX(MedConf_Header,1,2),(IF($B$31=\"Yes\",((EXP(LN(Roadside!$F$11)*(IF(D$79=\"None\",40,D$78)-30)/30)-1))*Constraints!$H$17/Constraints!$D$24+1,((EXP(LN(Roadside!$F$10)*(IF(D$79=\"None\",40,D$78)-30)/30)-1))*Constraints!$H$17/Constraints!$D$24+1)),(IF($B$31=\"Yes\",((EXP(LN(Roadside!$F$11)*(IF(D$79=\"None\",40,D$78)-30)/30)-1))*Constraints!$H$31/Constraints!$D$38+1,((EXP(LN(Roadside!$F$10)*(IF(D$79=\"None\",40,D$78)-30)/30)-1))*Constraints!$H$31/Constraints!$D$38+1)))","v":1.0472592444132678},{"$f":"IF(E24=INDEX(MedConf_Header,1,2),(IF($B$31=\"Yes\",((EXP(LN(Roadside!$F$11)*(IF(E$79=\"None\",40,E$78)-30)/30)-1))*Constraints!$H$17/Constraints!$D$24+1,((EXP(LN(Roadside!$F$10)*(IF(E$79=\"None\",40,E$78)-30)/30)-1))*Constraints!$H$17/Constraints!$D$24+1)),(IF($B$31=\"Yes\",((EXP(LN(Roadside!$F$11)*(IF(E$79=\"None\",40,E$78)-30)/30)-1))*Constraints!$H$31/Constraints!$D$38+1,((EXP(LN(Roadside!$F$10)*(IF(E$79=\"None\",40,E$78)-30)/30)-1))*Constraints!$H$31/Constraints!$D$38+1)))","v":0.97942029665168673},{"$f":"IF(F24=INDEX(MedConf_Header,1,2),(IF($B$31=\"Yes\",((EXP(LN(Roadside!$F$11)*(IF(F$79=\"None\",40,F$78)-30)/30)-1))*Constraints!$H$17/Constraints!$D$24+1,((EXP(LN(Roadside!$F$10)*(IF(F$79=\"None\",40,F$78)-30)/30)-1))*Constraints!$H$17/Constraints!$D$24+1)),(IF($B$31=\"Yes\",((EXP(LN(Roadside!$F$11)*(IF(F$79=\"None\",40,F$78)-30)/30)-1))*Constraints!$H$31/Constraints!$D$38+1,((EXP(LN(Roadside!$F$10)*(IF(F$79=\"None\",40,F$78)-30)/30)-1))*Constraints!$H$31/Constraints!$D$38+1)))","v":1.0472592444132678},{"$f":"IF(G24=INDEX(MedConf_Header,1,2),(IF($B$31=\"Yes\",((EXP(LN(Roadside!$F$11)*(IF(G$79=\"None\",40,G$78)-30)/30)-1))*Constraints!$H$17/Constraints!$D$24+1,((EXP(LN(Roadside!$F$10)*(IF(G$79=\"None\",40,G$78)-30)/30)-1))*Constraints!$H$17/Constraints!$D$24+1)),(IF($B$31=\"Yes\",((EXP(LN(Roadside!$F$11)*(IF(G$79=\"None\",40,G$78)-30)/30)-1))*Constraints!$H$31/Constraints!$D$38+1,((EXP(LN(Roadside!$F$10)*(IF(G$79=\"None\",40,G$78)-30)/30)-1))*Constraints!$H$31/Constraints!$D$38+1)))","v":1.0472592444132678},{"$f":"IF($I$2=\"Existing\",(D187),(IF($I$2=\"Design 1\",(F187),(IF($I$2=\"Design 2\",(G187),(IF($I$2=\"Optimal\",(I187),E187)))))))","v":0.97942029665168673},{"$f":"IF(I24=INDEX(MedConf_Header,1,2),(IF($B$31=\"Yes\",((EXP(LN(Roadside!$F$11)*(IF(I$79=\"None\",40,I$78)-30)/30)-1))*Constraints!$H$17/Constraints!$D$24+1,((EXP(LN(Roadside!$F$10)*(IF(I$79=\"None\",40,I$78)-30)/30)-1))*Constraints!$H$17/Constraints!$D$24+1)),(IF($B$31=\"Yes\",((EXP(LN(Roadside!$F$11)*(IF(I$79=\"None\",40,I$78)-30)/30)-1))*Constraints!$H$31/Constraints!$D$38+1,((EXP(LN(Roadside!$F$10)*(IF(I$79=\"None\",40,I$78)-30)/30)-1))*Constraints!$H$31/Constraints!$D$38+1)))","v":0.97942029665168673},null,{"$f":"INDEX($D187:$I187,K$100)","v":1.0472592444132678},{"$f":"INDEX($D187:$I187,L$100)","v":0.97942029665168673},6.4777606999867676E-2,null,9.0307162971216326E-2]
[null,null,"Roadside Obstruction Type",{"$f":"IF(D24=INDEX(MedConf_Header,1,2),(IF(D$79=\"Guardrail\",(Roadside!$F$25-1)*(($I$78-D$78)/$I$78)^2*Constraints!$H$17/Constraints!$D$24+1,1)),(IF(D$79=\"Guardrail\",(Roadside!$F$25-1)*(($I$78-D$78)/$I$78)^2*Constraints!$H$31/Constraints!$D$38+1,1)))","v":1},{"$f":"IF(E24=INDEX(MedConf_Header,1,2),(IF(E$79=\"Guardrail\",(Roadside!$F$25-1)*(($I$78-E$78)/$I$78)^2*Constraints!$H$17/Constraints!$D$24+1,1)),(IF(E$79=\"Guardrail\",(Roadside!$F$25-1)*(($I$78-E$78)/$I$78)^2*Constraints!$H$31/Constraints!$D$38+1,1)))","v":1},{"$f":"IF(F24=INDEX(MedConf_Header,1,2),(IF(F$79=\"Guardrail\",(Roadside!$F$25-1)*(($I$78-F$78)/$I$78)^2*Constraints!$H$17/Constraints!$D$24+1,1)),(IF(F$79=\"Guardrail\",(Roadside!$F$25-1)*(($I$78-F$78)/$I$78)^2*Constraints!$H$31/Constraints!$D$38+1,1)))","v":1},{"$f":"IF(G24=INDEX(MedConf_Header,1,2),(IF(G$79=\"Guardrail\",(Roadside!$F$25-1)*(($I$78-G$78)/$I$78)^2*Constraints!$H$17/Constraints!$D$24+1,1)),(IF(G$79=\"Guardrail\",(Roadside!$F$25-1)*(($I$78-G$78)/$I$78)^2*Constraints!$H$31/Constraints!$D$38+1,1)))","v":1},{"$f":"IF($I$2=\"Existing\",(D188),(IF($I$2=\"Design 1\",(F188),(IF($I$2=\"Design 2\",(G188),(IF($I$2=\"Optimal\",(I188),E188)))))))","v":1},{"$f":"IF(I24=INDEX(MedConf_Header,1,2),(IF(I$79=\"Guardrail\",(Roadside!$F$25-1)*(($I$78-I$78)/$I$78)^2*Constraints!$H$17/Constraints!$D$24+1,1)),(IF(I$79=\"Guardrail\",(Roadside!$F$25-1)*(($I$78-I$78)/$I$78)^2*Constraints!$H$31/Constraints!$D$38+1,1)))","v":1},null,{"$f":"INDEX($D188:$I188,K$100)","v":1},{"$f":"INDEX($D188:$I188,L$100)","v":1},0,null,0]
[null,null,null,null,null,null,null,null,null,null,{"$f":"INDEX($D189:$I189,K$100)","v":0},{"$f":"INDEX($D189:$I189,L$100)","v":0},0]
[null,null,null,null,null,null,null,null,null,null,{"$f":"INDEX($D190:$I190,K$100)","v":0},{"$f":"INDEX($D190:$I190,L$100)","v":0},0]
[null,null,"COMBINED Calculated CMF",{"$f":"+D184*D185*D186*D187*D188","v":1.0232896747360256},{"$f":"+E184*E185*E186*E187*E188","v":0.82567459604163929},1.0232896747360256,1.0232896747360256,{"$f":"IF($I$2=\"Existing\",(D191),(IF($I$2=\"Design 1\",(F191),(IF($I$2=\"Design 2\",(G191),(IF($I$2=\"Optimal\",(I191),E191)))))))","v":0.82567459604163929},{"$f":"+I184*I185*I186*I187*I188","v":0.75970050156555824},null,{"$f":"INDEX($D191:$I191,K$100)","v":1.0232896747360256},{"$f":"INDEX($D191:$I191,L$100)","v":0.82567459604163929},0.1931174364144389]
[null,null,"Calculated Relative to Design Standards (Column E)",{"$f":"+D191/$E$191","v":1.2393377241370527},{"$f":"+E191/$E$191","v":1},1.2393377241370527,1.2393377241370527,1,{"$f":"+I191/$E$191","v":0.92009673690777583},null,{"$f":"INDEX($D192:$I192,K$100)","v":1.2393377241370527},{"$f":"INDEX($D192:$I192,L$100)","v":1},0.1931174364144389]
[null,null,"P(Crash)",{"$f":"+D192/(D192+1)","v":0.55343939896990835},0.5,0.55343939896990835,0.55343939896990835,0.5,{"$f":"+I192/(I192+1)","v":0.47919290691027777},null,{"$f":"INDEX($D193:$I193,K$100)","v":0.55343939896990835},{"$f":"INDEX($D193:$I193,L$100)","v":0.5},9.6558718207219618E-2]
[null,null,"Factor Change on S curve",{"$f":"+D193/$E$193","v":1.1068787979398167},{"$f":"+E193/$E$193","v":1},1.1068787979398167,1.1068787979398167,1,{"$f":"+I193/$E$193","v":0.95838581382055554},null,{"$f":"INDEX($D194:$I194,K$100)","v":1.1068787979398167},{"$f":"INDEX($D194:$I194,L$100)","v":1},9.6558718207219618E-2]
[null,null,"Adjust to Scale of 100",{"$f":"+$I$118/D194*100","v":{"$error":"#VALUE!"}},{"$error":"#VALUE!"},{"$error":"#VALUE!"},{"$error":"#VALUE!"},{"$error":"#VALUE!"},{"$f":"+$I$118/I194*100","v":{"$error":"#VALUE!"}},null,{"$f":"INDEX($D195:$I195,K$100)","v":{"$error":"#VALUE!"}},{"$f":"INDEX($D195:$I195,L$100)","v":{"$error":"#VALUE!"}},0]
[null,null,"Unadjusted Combined Relative to Standard",{"$f":"+D191/$E$191","v":1.2393377241370527},{"$f":"+E191/$E$191","v":1},1.2393377241370527,1.2393377241370527,1,{"$f":"+I191/$E$191","v":0.92009673690777583},{"$f":"I202/E202","v":1.0810810810810811},{"$f":"INDEX($D196:$I196,K$100)","v":1.2393377241370527},{"$f":"INDEX($D196:$I196,L$100)","v":1},0.1931174364144389]
[null,null,null,null,null,null,null,null,null,null,{"$f":"INDEX($D197:$I197,K$100)","v":0},{"$f":"INDEX($D197:$I197,L$100)","v":0},0]
[null,null,"Adjusted for PA Basis",{"$f":"+D191*(1+1)/(1+D191*1)","v":1.0115107960203793},0.90451452611745442,1.0115107960203793,1.0115107960203793,{"$f":"IF($I$2=\"Existing\",(D198),(IF($I$2=\"Design 1\",(F198),(IF($I$2=\"Design 2\",(G198),(IF($I$2=\"Optimal\",(I198),E198)))))))","v":0.90451452611745442},{"$f":"+I191*(1+1)/(1+I191*1)","v":0.86344295621859868},null,{"$f":"INDEX($D198:$I198,K$100)","v":1.0115107960203793},{"$f":"INDEX($D198:$I198,L$100)","v":0.90451452611745442},0.10577867317272727]
[null,null,"Corrected by Odds Ratio",{"$f":"+D191/$E$191","v":1.2393377241370527},{"$f":"+E191/$E$191","v":1},1.2393377241370527,1.2393377241370527,{"$f":"IF($I$2=\"Existing\",(D199),(IF($I$2=\"Design 1\",(F199),(IF($I$2=\"Design 2\",(G199),(IF($I$2=\"Optimal\",(I199),E199)))))))","v":1},{"$f":"+I191/$E$191","v":0.92009673690777583},{"$f":"I205/E205","v":1.4814814814814814},{"$f":"INDEX($D199:$I199,K$100)","v":1.2393377241370527},{"$f":"INDEX($D199:$I199,L$100)","v":1},0.1931174364144389]
[null,null,null,{"$f":"(1/D199)^$D203","v":1.8666691582346016E-8},{"$f":"(1/E199)^$D203","v":1},1.8666691582346016E-8,1.8666691582346016E-8,1,998.99999999999955]
[null,null,null,{"$f":"(D200+$F204-1)/(1+(D200+$F204-1))","v":0.50000000466667294},{"$f":"(E200+$F204-1)/(1+(E200+$F204-1))","v":0.66666666666666663},0.50000000466667294,0.50000000466667294,0.66666666666666663,0.99900099900099903]
[null,null,"Score Odds Ratio with Optimal as 100 (old)",{"$f":"MIN(ROUND($I$199/D199*Construction!$I$4,0),$I202)","v":30},{"$f":"MIN(ROUND($I$199/E199*Construction!$I$4,0),$I202)","v":37},{"$f":"MIN(ROUND($I$199/F199*Construction!$I$4,0),$I202)","v":30},{"$f":"MIN(ROUND($I$199/G199*Construction!$I$4,0),$I202)","v":30},null,{"$f":"ROUND($I$199/I199*Construction!$I$4,0)","v":40}]
[null,null,"Logistic1",{"$f":"LN((D204/(1-D204))/(0.5/0.5))/LN($E199/I199)","v":82.937655007418002}]
[null,null,"Logistic Param",0.999,null,2]
[null,null,"Score ",{"$f":"MIN(ROUND(D201*Construction!$I$4,0),$I202)","v":20},{"$f":"MIN(ROUND(E201*Construction!$I$4,0),$I202)","v":27},{"$f":"MIN(ROUND(F201*Construction!$I$4,0),$I202)","v":20},{"$f":"MIN(ROUND(G201*Construction!$I$4,0),$I202)","v":20},null,{"$f":"MIN(ROUND(I201*Construction!$I$4,0),$I202)","v":40}]
[]
[]
[]
[]
[null,null,{"$f":"D87/D183","v":{"$error":"#DIV/0!"}},null,{"$f":"ROUNDUP((MIN($I$14,$I$15)-E27-E28)/$C$210,0)","v":{"$error":"#DIV/0!"}},{"$f":"ROUNDUP((MIN($I$14,$I$15)-F27-F28)/$C$210,0)","v":{"$error":"#DIV/0!"}},{"$f":"ROUNDUP((MIN($I$14,$I$15)-G27-G28)/$C$210,0)","v":{"$error":"#DIV/0!"}},null,{"$f":"ROUNDUP((MIN($I$14,$I$15)-I27-I28)/$C$210,0)","v":{"$error":"#DIV/0!"}}]
[]
[]
[null,null,"Distance to low point","Distance to low point",{"$f":"$C$210*E183","v":{"$error":"#DIV/0!"}},{"$f":"$C$210*F183","v":{"$error":"#DIV/0!"}},{"$error":"#DIV/0!"},null,{"$f":"$C$210*I183","v":{"$error":"#DIV/0!"}}]
[null,null,null,"Additional ROW1 Needed for Foreslope",{"$f":"IF(E213>($I$14-E27-E28),E213-($I$14-E27-E28),0)","v":{"$error":"#DIV/0!"}},{"$f":"IF(F213>($I$14-F27-F28),F213-($I$14-F27-F28),0)","v":{"$error":"#DIV/0!"}},{"$f":"IF(G213>($I$14-G27-G28),G213-($I$14-G27-G28),0)","v":{"$error":"#DIV/0!"}},null,{"$f":"IF(I213>($I$14-I27-I28),I213-($I$14-I27-I28),0)","v":{"$error":"#DIV/0!"}}]
[null,null,null,"Additional ROW2 Needed for Foreslope",{"$f":"IF(E213>($I$15-E27-E28),E213-($I$15-E27-E28),0)","v":{"$error":"#DIV/0!"}},{"$f":"IF(F213>($I$15-F27-F28),F213-($I$15-F27-F28),0)","v":{"$error":"#DIV/0!"}},{"$f":"IF(G213>($I$15-G27-G28),G213-($I$15-G27-G28),0)","v":{"$error":"#DIV/0!"}},null,{"$f":"IF(I213>($I$15-I27-I28),I213-($I$15-I27-I28),0)","v":{"$error":"#DIV/0!"}}]
[]
[null,null,null,"Additional ROW1 Needed for Lateral Clearance",{"$f":"IF((CL251+E30)-$I$14<0,0,(CL251+E30)-$I$14)","v":2},{"$f":"IF((CM251+F30)-$I$14<0,0,(CM251+F30)-$I$14)","v":0},{"$f":"IF((CN251+G30)-$I$14<0,0,(CN251+G30)-$I$14)","v":0},null,{"$f":"IF((CP251+I30)-$I$14<0,0,(CP251+I30)-$I$14)","v":2}]
[null,null,null,"Additional ROW2 Needed for Lateral Clearance",{"$f":"IF((CL251+E30)-$I$15<0,0,(CL251+E30)-$I$15)","v":2},{"$f":"IF((CM251+F30)-$I$15<0,0,(CM251+F30)-$I$15)","v":0},{"$f":"IF((CN251+G30)-$I$15<0,0,(CN251+G30)-$I$15)","v":0},null,{"$f":"IF((CP251+I30)-$I$15<0,0,(CP251+I30)-$I$15)","v":2}]
[]
[]
[]
[]
[]
[]
[]
[]
[]
[]
[]
[null,null,"For Vertical Opt Use when Yes Vertical:"]
[null,null,"G1",{"$f":"D40","v":0},null,{"$f":"F40","v":0},{"$f":"G40","v":0},null,{"$f":"IF(ISERROR($E$238),\"\",INDEX(D231:G231,$E$238))","v":""}]
[null,null,"G2",{"$f":"D41","v":0},null,{"$f":"F41","v":0},{"$f":"G41","v":0},null,{"$f":"IF(ISERROR($E$238),\"\",INDEX(D232:G232,$E$238))","v":""}]
[null,null,"abs(G2-G1)",{"$f":"ABS(D40-D41)","v":0},null,{"$f":"ABS(F40-F41)","v":0},{"$f":"ABS(G40-G41)","v":0}]
[null,null,"Count in indicator (K no change; or K change but accept)",{"$f":"IF(D43<>\"\",1,\"\")","v":""},null,{"$f":"IF(OR(AND($B$38 = \"Yes\", $D$43 <> F43, F43 <>\"\", $D$43 <> \"\", F45=\"Yes.\"),AND($B$38 = \"Yes\", $D$43 = F43, F43 <>\"\", $D$43 <> \"\")), 1,\"\")","v":""},{"$f":"IF(OR(AND($B$38 = \"Yes\", $D$43 <> G43, G43 <>\"\", $D$43 <> \"\", G45=\"Yes.\"),AND($B$38 = \"Yes\", $D$43 = G43, G43 <>\"\", $D$43 <> \"\")), 1,\"\")","v":""}]
[]
[null,null,"Valid abs(G2-G1)",{"$f":"IF(ISERROR(D233*D234),\"\",D233*D234)","v":""},null,{"$f":"IF(ISERROR(F233*F234),\"\",F233*F234)","v":""},{"$f":"IF(ISERROR(G233*G234),\"\",G233*G234)","v":""}]
[null,null,"The min valid abs(G2-G1)",null,{"$f":"MIN(D236,F236,G236)","v":0}]
[null,null,"Index",null,{"$f":"MATCH(E237,D236:G236,0)","v":{"$error":"#N/A"}}]
[]
[null,null,"For Vertical Opt Use When No Vertical:"]
[null,null,"G1",{"$f":"IF(ISBLANK(D40), 999, D40)","v":999},null,{"$f":"IF(ISBLANK(F40), 999, F40)","v":999},{"$f":"IF(ISBLANK(G40), 999, G40)","v":999},null,{"$f":"IF(E246=999,\"\",E246)","v":""}]
[null,null,"Sign of G1",{"$f":"IF(D241>=0,1,-1)","v":1},null,{"$f":"IF(F241>=0,1,-1)","v":1},{"$f":"IF(G241>=0,1,-1)","v":1}]
[null,null,"Abs G1",{"$f":"ABS(D241)","v":999},null,{"$f":"ABS(F241)","v":999},{"$f":"ABS(G241)","v":999}]
[null,null,"Min Abs G1",null,{"$f":"MIN(D243:G243)","v":999}]
[null,null,"Which is the Best G1",null,{"$f":"MATCH(E244,D243:G243,0)","v":1}]
[null,null,"Best G1 Value",null,{"$f":"INDEX(D241:G241,1,E245)","v":999}]
[]
[]
[null,null,"Check if all cells filled",{"$f":"SUM(D251:D314)","v":19},{"$f":"SUM(E251:E314)","v":1},19,19,0,0]
[]
[null,null,{"$f":"C24","v":"Configuration of Multilane Roadway"},{"$f":"IF(ISBLANK(D24),1,0)","v":1},{"$f":"IF(ISBLANK(E24),1,0)","v":0},1,1,null,0]
[null,null,{"$f":"C25","v":"Median Configuration (Width or Type)"},{"$f":"IF(AND(D24<>\"No Median\", ISBLANK(D25)),1,0)","v":1},0,{"$f":"IF(AND(F24<>\"No Median\", ISBLANK(F25)),1,0)","v":1},{"$f":"IF(AND(G24<>\"No Median\", ISBLANK(G25)),1,0)","v":1},null,0]
[]
[null,null,"Lane Width (feet)",{"$f":"IF(ISBLANK(D27),1,0)","v":1},0,1,1,null,{"$f":"IF(ISBLANK(I27),1,0)","v":0}]
[null,null,"Average Outside Shoulder Width (feet)",1,0,1,1,null,0]
[null,null,"Average Inside Shoulder Width (feet)",1,0,1,1,null,0]
[null,null,"Number of Lanes per Direction of Travel",1,0,1,1,null,0]
[null,null,"Horizontal Curve Present?"]
[null,null,"Horizontal Curve Data for Controlling Element:"]
[null,null,"  Radius (feet)",{"$f":"IF(AND($B$31=\"Yes\", ISBLANK(D33)),1,0)","v":0},null,{"$f":"IF(AND($B$31=\"Yes\", ISBLANK(F33)),1,0)","v":0},{"$f":"IF(AND($B$31=\"Yes\", ISBLANK(G33)),1,0)","v":0},null,{"$f":"IF(ISBLANK(I33),1,0)","v":0}]
[null,null,"Length of Horizontal Curve (feet)",{"$f":"IF(AND($B$31=\"Yes\", ISBLANK(D34)),1,0)","v":0},null,{"$f":"IF(AND($B$31=\"Yes\", ISBLANK(F34)),1,0)","v":0},{"$f":"IF(AND($B$31=\"Yes\", ISBLANK(G34)),1,0)","v":0},null,0]
[null,null,"Calculated Deflection Angle ∆"]
[]
[null,null,null,null,null,{"$f":"IF(AND($B$31 = \"Yes\", $D$35 <> F35, F35<>\"\",ISBLANK(F37)),1,0)","v":0},{"$f":"IF(AND($B$31 = \"Yes\", $D$35 <> G35, G35<>\"\",ISBLANK(G37)),1,0)","v":0}]
[null,null,"Vertical Curve Present?"]
[null,null,"Vertical Curve Data for Controlling Element:"]
[null,null,"  Approach (Entry) Grade, G1 (%)",{"$f":"IF(ISBLANK(D40),1,0)","v":1},0,1,1,null,{"$f":"IF(ISBLANK(I40),1,0)","v":0}]
[null,null,"  Departure (Exit) Grade, G2 (%)",{"$f":"IF(AND($B$38=\"Yes\", ISBLANK(D41)),1,0)","v":0},{"$f":"IF(AND($B$38=\"Yes\", ISBLANK(E41)),1,0)","v":0},0,0,null,0]
[null,null,"  Length (feet)",{"$f":"IF(AND($B$38=\"Yes\", ISBLANK(D42)),1,0)","v":0},0,0,0,null,0]
[null,null,"  Calculated Rate of Change, K (ft/ft)"]
[]
[]
[null,null,"  Calculated Sag or Crest?"]
[]
[]
[null,null,"Geometric Design Element (Partial Score)"]
[null,null,"Total Safety Score"]
[]
[]
[]
[]
[]
[null,null,"Advance Static Curve Warning Signs",{"$f":"IF(AND($B$31=\"Yes\", ISBLANK(D56)),1,0)","v":0},{"$f":"IF(AND($B$31=\"Yes\", ISBLANK(E56)),1,0)","v":0},0,0,null,{"$f":"IF(ISBLANK(I56),1,0)","v":0}]
[null,null,"Chevron Signs on Horizontal Curves",{"$f":"IF(AND($B$31=\"Yes\", ISBLANK(D57)),1,0)","v":0},0,0,0,null,0]
[null,null,"Post-Mounted Delineators",0,0,0,0,null,0]
[null,null,"Edgeline Pavement Markings or Profile Markings",{"$f":"IF(ISBLANK(D59),1,0)","v":1},0,1,1,null,0]
[null,null,"Shoulder Rumble Strips",1,0,1,1,null,0]
[null,null,"Centerline Rumble Strips",1,0,1,1,null,0]
[null,null,"Driveway Density (driveways per mile)",1,0,1,1,null,0]
[null,null,"Lighting",1,0,1,1,null,0]
[null,null,"Pavement Friction (skid number) ***",1,0,1,1,null,0]
[null,null,"Traffic Control Element (Partial Score):"]
[null,null,"Total Safety Score"]
[]
[]
[]
[]
[]
[]
[]
[]
[null,null,"Roadside Sideslope (Foreslope)",{"$f":"IF(ISBLANK(D75),1,0)","v":1},0,1,1,null,{"$f":"IF(ISBLANK(I75),1,0)","v":0}]
[null,null,"Roadside Backslope",1,0,1,1,null,0]
[null,null,"Safety Edge",1,0,1,1,null,0]
[null,null,"Roadside Lateral Clearance to Obstruction (ft)",1,0,1,1,null,0]
[null,null,"Roadside Obstruction Type",1,0,1,1,null,0]
[null,null,"Roadside Element (Partial Score):"]
[null,null,"Total Safety Score"]
[]
[]
[]
[]
[]
[null,null,"Distance to Slope Toe from Shoulder (ft)",{"$f":"IF(ISBLANK(D87),1,0)","v":1},{"$f":"D314","v":1},{"$f":"E314","v":1},1,null,0]
[null,null,null,null,null,null,null,null,{"$f":"SUM(I316:I324)","v":9}]
[null,null,null,null,null,null,null,{"$f":"F9","v":"Location "},{"$f":"IF(ISBLANK(I9),1,0)","v":1}]
[null,null,null,null,null,null,null,{"$f":"F10","v":"Design Speed (mph)"},{"$f":"IF(ISBLANK(I10),1,0)","v":1}]
[null,null,null,null,null,null,null,"Posted Speed (mph)",1]
[null,null,null,null,null,null,null,"E max (%)",1]
[null,null,null,null,null,null,null,"    Design Year AADT (vehicles per day)",1]
[null,null,null,null,null,null,null,"    Dist. from Centerline to Left   ROW (feet)",1]
[null,null,null,null,null,null,null,"    Dist. from Centerline to Right ROW (feet)",1]
[null,null,null,null,null,null,null,"H CV",{"$f":"IF(ISBLANK(B31),1,0)","v":1}]
[null,null,null,null,null,null,null,"V HV",{"$f":"IF(ISBLANK(B38),1,0)","v":1}]
[]
[]
[]
[]
[]
[]
[]
[]
[]
[]
[]
[]
[]
[]
[]
[]
[]
[]
[]
[]
[]
[]
[]
[]
[]
[]
[]
[]
[]
[]
[]
[]
[]
[]
[]
[]
[]
[]
[]
[]
[]
[]
[]
[]
[]
[]
[]
[]
[]
[]
[]
[]
[]
[]
[1]
[22]
[21]
[20]
[19,null,null,{"$f":"Constraints!P174","v":"Emax=6%"}]
[18]
[17,null,{"$f":"HLOOKUP($I$10,Constraints!$Q$176:AD197,A379,TRUE)","v":{"$error":"#N/A"}},{"$f":"Constraints!P176","v":"super"}]
[16,null,{"$f":"HLOOKUP($I$10,Constraints!$Q$176:AD198,A380,TRUE)","v":{"$error":"#N/A"}},{"$f":"Constraints!P197","v":6},1050]
[15,null,{"$f":"HLOOKUP($I$10,Constraints!$Q$176:AD199,A381,TRUE)","v":{"$error":"#N/A"}},{"$f":"Constraints!P196","v":5.8}]
[14,null,{"$f":"HLOOKUP($I$10,Constraints!$Q$176:AD200,A382,TRUE)","v":{"$error":"#N/A"}},{"$f":"Constraints!P195","v":5.6}]
[13,null,{"$f":"HLOOKUP($I$10,Constraints!$Q$176:AD201,A383,TRUE)","v":{"$error":"#N/A"}},{"$f":"Constraints!P194","v":5.4}]
[12,null,{"$f":"HLOOKUP($I$10,Constraints!$Q$176:AD202,A384,TRUE)","v":{"$error":"#N/A"}},{"$f":"Constraints!P193","v":5.2}]
[11,null,{"$f":"HLOOKUP($I$10,Constraints!$Q$176:AD203,A385,TRUE)","v":{"$error":"#N/A"}},{"$f":"Constraints!P192","v":5}]
[10,null,{"$f":"HLOOKUP($I$10,Constraints!$Q$176:AD204,A386,TRUE)","v":{"$error":"#N/A"}},{"$f":"Constraints!P191","v":4.8}]
[9,null,{"$f":"HLOOKUP($I$10,Constraints!$Q$176:AD205,A387,TRUE)","v":{"$error":"#N/A"}},{"$f":"Constraints!P190","v":4.5999999999999996}]
[8,null,{"$f":"HLOOKUP($I$10,Constraints!$Q$176:AD206,A388,TRUE)","v":{"$error":"#N/A"}},{"$f":"Constraints!P189","v":4.4000000000000004}]
[7,null,{"$f":"HLOOKUP($I$10,Constraints!$Q$176:AD207,A389,TRUE)","v":{"$error":"#N/A"}},{"$f":"Constraints!P188","v":4.2}]
[6,null,{"$f":"HLOOKUP($I$10,Constraints!$Q$176:AD208,A390,TRUE)","v":{"$error":"#N/A"}},{"$f":"Constraints!P187","v":4}]
[5,null,{"$f":"HLOOKUP($I$10,Constraints!$Q$176:AD209,A391,TRUE)","v":{"$error":"#N/A"}},{"$f":"Constraints!P186","v":3.8}]
[4,null,{"$f":"HLOOKUP($I$10,Constraints!$Q$176:AD210,A392,TRUE)","v":{"$error":"#N/A"}},{"$f":"Constraints!P185","v":3.6}]
[3,null,{"$f":"HLOOKUP($I$10,Constraints!$Q$176:AD211,A393,TRUE)","v":{"$error":"#N/A"}},{"$f":"Constraints!P184","v":3.4}]
[2,null,{"$f":"HLOOKUP($I$10,Constraints!$Q$176:AD212,A394,TRUE)","v":{"$error":"#N/A"}},{"$f":"Constraints!P183","v":3.2}]
[null,null,{"$f":"HLOOKUP($I$10,Constraints!$Q$176:AD213,A395,TRUE)","v":{"$error":"#N/A"}},{"$f":"Constraints!P182","v":3}]
[null,null,{"$f":"HLOOKUP($I$10,Constraints!$Q$176:AD214,A396,TRUE)","v":{"$error":"#N/A"}},{"$f":"Constraints!P181","v":2.8}]
[null,null,{"$f":"HLOOKUP($I$10,Constraints!$Q$176:AD215,A397,TRUE)","v":{"$error":"#N/A"}},{"$f":"Constraints!P180","v":2.6}]
[null,null,{"$f":"HLOOKUP($I$10,Constraints!$Q$176:AD216,A398,TRUE)","v":{"$error":"#N/A"}},{"$f":"Constraints!P179","v":2.4}]
[null,null,{"$f":"HLOOKUP($I$10,Constraints!$Q$176:AD217,A399,TRUE)","v":{"$error":"#N/A"}},{"$f":"Constraints!P178","v":2.2000000000000002}]
[1,null,{"$f":"HLOOKUP($I$10,Constraints!$Q$176:AD218,A400,TRUE)","v":{"$error":"#N/A"}},{"$f":"Constraints!P177","v":2}]
[32]
[31]
[30]
[29,null,null,{"$f":"Constraints!P201","v":"Emax=8%"}]
[28]
[27,null,{"$f":"HLOOKUP($I$10,Constraints!$Q$203:AD234,A406,TRUE)","v":{"$error":"#N/A"}},{"$f":"Constraints!P203","v":"super"}]
[26,null,{"$f":"HLOOKUP($I$10,Constraints!$Q$203:AD235,A407,TRUE)","v":{"$error":"#N/A"}},{"$f":"INDEX(Constraints!$P$203:$P$234,A407,)","v":8}]
[25,null,{"$f":"HLOOKUP($I$10,Constraints!$Q$203:AD236,A408,TRUE)","v":{"$error":"#N/A"}},{"$f":"INDEX(Constraints!$P$203:$P$234,A408,)","v":7.8}]
[24,null,{"$f":"HLOOKUP($I$10,Constraints!$Q$203:AD237,A409,TRUE)","v":{"$error":"#N/A"}},{"$f":"INDEX(Constraints!$P$203:$P$234,A409,)","v":7.6}]
[23,null,{"$f":"HLOOKUP($I$10,Constraints!$Q$203:AD238,A410,TRUE)","v":{"$error":"#N/A"}},{"$f":"INDEX(Constraints!$P$203:$P$234,A410,)","v":7.4}]
[22,null,{"$f":"HLOOKUP($I$10,Constraints!$Q$203:AD239,A411,TRUE)","v":{"$error":"#N/A"}},{"$f":"INDEX(Constraints!$P$203:$P$234,A411,)","v":7.2}]
[21,null,{"$f":"HLOOKUP($I$10,Constraints!$Q$203:AD240,A412,TRUE)","v":{"$error":"#N/A"}},{"$f":"INDEX(Constraints!$P$203:$P$234,A412,)","v":7}]
[20,null,{"$f":"HLOOKUP($I$10,Constraints!$Q$203:AD241,A413,TRUE)","v":{"$error":"#N/A"}},{"$f":"INDEX(Constraints!$P$203:$P$234,A413,)","v":6.8}]
[19,null,{"$f":"HLOOKUP($I$10,Constraints!$Q$203:AD242,A414,TRUE)","v":{"$error":"#N/A"}},{"$f":"INDEX(Constraints!$P$203:$P$234,A414,)","v":6.6}]
[18,null,{"$f":"HLOOKUP($I$10,Constraints!$Q$203:AD243,A415,TRUE)","v":{"$error":"#N/A"}},{"$f":"INDEX(Constraints!$P$203:$P$234,A415,)","v":6.4}]
[17,null,{"$f":"HLOOKUP($I$10,Constraints!$Q$203:AD244,A416,TRUE)","v":{"$error":"#N/A"}},{"$f":"INDEX(Constraints!$P$203:$P$234,A416,)","v":6.2}]
[16,null,{"$f":"HLOOKUP($I$10,Constraints!$Q$203:AD245,A417,TRUE)","v":{"$error":"#N/A"}},{"$f":"INDEX(Constraints!$P$203:$P$234,A417,)","v":6}]
[15,null,{"$f":"HLOOKUP($I$10,Constraints!$Q$203:AD246,A418,TRUE)","v":{"$error":"#N/A"}},{"$f":"INDEX(Constraints!$P$203:$P$234,A418,)","v":5.8}]
[14,null,{"$f":"HLOOKUP($I$10,Constraints!$Q$203:AD247,A419,TRUE)","v":{"$error":"#N/A"}},{"$f":"INDEX(Constraints!$P$203:$P$234,A419,)","v":5.6}]
[13,null,{"$f":"HLOOKUP($I$10,Constraints!$Q$203:AD248,A420,TRUE)","v":{"$error":"#N/A"}},{"$f":"INDEX(Constraints!$P$203:$P$234,A420,)","v":5.4}]
[12,null,{"$f":"HLOOKUP($I$10,Constraints!$Q$203:AD249,A421,TRUE)","v":{"$error":"#N/A"}},{"$f":"INDEX(Constraints!$P$203:$P$234,A421,)","v":5.2}]
[11,null,{"$f":"HLOOKUP($I$10,Constraints!$Q$203:AD250,A422,TRUE)","v":{"$error":"#N/A"}},{"$f":"INDEX(Constraints!$P$203:$P$234,A422,)","v":5}]
[10,null,{"$f":"HLOOKUP($I$10,Constraints!$Q$203:AD251,A423,TRUE)","v":{"$error":"#N/A"}},{"$f":"INDEX(Constraints!$P$203:$P$234,A423,)","v":4.8}]
[9,null,{"$f":"HLOOKUP($I$10,Constraints!$Q$203:AD252,A424,TRUE)","v":{"$error":"#N/A"}},{"$f":"INDEX(Constraints!$P$203:$P$234,A424,)","v":4.5999999999999996}]
[8,null,{"$f":"HLOOKUP($I$10,Constraints!$Q$203:AD253,A425,TRUE)","v":{"$error":"#N/A"}},{"$f":"INDEX(Constraints!$P$203:$P$234,A425,)","v":4.4000000000000004}]
[7,null,{"$f":"HLOOKUP($I$10,Constraints!$Q$203:AD254,A426,TRUE)","v":{"$error":"#N/A"}},{"$f":"INDEX(Constraints!$P$203:$P$234,A426,)","v":4.2}]
[6,null,{"$f":"HLOOKUP($I$10,Constraints!$Q$203:AD255,A427,TRUE)","v":{"$error":"#N/A"}},{"$f":"INDEX(Constraints!$P$203:$P$234,A427,)","v":4}]
[5,null,{"$f":"HLOOKUP($I$10,Constraints!$Q$203:AD256,A428,TRUE)","v":{"$error":"#N/A"}},{"$f":"INDEX(Constraints!$P$203:$P$234,A428,)","v":3.8}]
[4,null,{"$f":"HLOOKUP($I$10,Constraints!$Q$203:AD257,A429,TRUE)","v":{"$error":"#N/A"}},{"$f":"INDEX(Constraints!$P$203:$P$234,A429,)","v":3.6}]
[3,null,{"$f":"HLOOKUP($I$10,Constraints!$Q$203:AD258,A430,TRUE)","v":{"$error":"#N/A"}},{"$f":"INDEX(Constraints!$P$203:$P$234,A430,)","v":3.4}]
[2,null,{"$f":"HLOOKUP($I$10,Constraints!$Q$203:AD259,A431,TRUE)","v":{"$error":"#N/A"}},{"$f":"INDEX(Constraints!$P$203:$P$234,A431,)","v":3.2}]
[null,null,{"$f":"HLOOKUP($I$10,Constraints!$Q$203:AD260,A432,TRUE)","v":{"$error":"#N/A"}},{"$f":"INDEX(Constraints!$P$203:$P$234,A432,)","v":3}]
[null,null,{"$f":"HLOOKUP($I$10,Constraints!$Q$203:AD261,A433,TRUE)","v":{"$error":"#N/A"}},{"$f":"INDEX(Constraints!$P$203:$P$234,A433,)","v":2.8}]
[null,null,{"$f":"HLOOKUP($I$10,Constraints!$Q$203:AD262,A434,TRUE)","v":{"$error":"#N/A"}},{"$f":"INDEX(Constraints!$P$203:$P$234,A434,)","v":2.6}]
[null,null,{"$f":"HLOOKUP($I$10,Constraints!$Q$203:AD263,A435,TRUE)","v":{"$error":"#N/A"}},{"$f":"INDEX(Constraints!$P$203:$P$234,A435,)","v":2.4}]
[null,null,{"$f":"HLOOKUP($I$10,Constraints!$Q$203:AD264,A436,TRUE)","v":{"$error":"#N/A"}},{"$f":"INDEX(Constraints!$P$203:$P$234,A436,)","v":2.2000000000000002}]
[null,null,{"$f":"HLOOKUP($I$10,Constraints!$Q$203:AD265,A437,TRUE)","v":{"$error":"#N/A"}},{"$f":"INDEX(Constraints!$P$203:$P$234,A437,)","v":2}]

{"sheet":"Configuration 4","index":14,"n_rows":443,"n_cols":113,"rows_kept":443,"cut":false,"hidden":false,"merged":[[87,1,87,2],[88,1,88,2],[89,1,89,2],[97,10,97,12],[69,16,69,21],[69,22,69,23],[70,16,70,21],[70,22,70,23],[71,16,71,21],[71,22,71,23],[68,16,68,21],[68,22,68,23],[17,2,17,8],[18,2,18,8],[19,2,19,8],[20,5,20,7],[41,9,41,10],[46,2,47,2],[4,21,44,28],[48,12,48,19],[55,15,55,16],[55,18,55,19],[55,21,55,22],[67,16,67,23],[4,3,4,4],[9,3,9,4],[9,5,9,6],[10,3,10,4],[10,5,10,6],[8,3,8,4],[8,5,8,6],[12,2,15,4],[12,5,12,6],[13,5,13,6],[14,5,14,6],[11,5,11,6],[1,6,2,7],[1,8,2,8],[1,21,1,37],[2,1,2,4],[2,21,3,28],[2,30,3,37],[3,1,3,4],[3,6,4,7],[3,8,4,8],[4,1,4,2],[4,30,44,37],[5,1,5,2],[5,3,5,4],[6,1,6,7],[7,1,7,4],[7,7,7,8]]}
[]
[null,null,null,null,null,null,"Preferred Schematic View to Display",null,"Standard",null,null,null,null,null,null,null,null,null,null,null,null,"NOTES: "]
[null,"CHARACTERISTICS TO CONSIDER FOR ANALYSIS",null,null,null,null,null,null,null,null,null,null,null,null,null,null,null,null,null,null,null,"ELEMENTS INCREASING SAFETY",null,null,null,null,null,null,null,null,"COMMENTS ON PRIMARY CONSTRAINTS"]
[null,"INPUT INSTRUCTIONS",null,null,null,null,"Relative to",null,"Existing"]
[null,"Blue Boxes -- Select from pulldown options",null,"Select from Pulldown"]
[null,"Yellow Boxes -- Type input information into box",null,"Type Input Value"]
[null," Rural Multi-Lane Road Segment -- Safety Score Input",null,null,null,null,null,null,null,null,null,null,null,null,null,null,null,null,null,null,null,null,null,null,null,null,null,null,null,null,null,null,null,null,null,null,null,null,null,null,null,null,null,null,null,null,null,null,null,null,null,null,null,null,null,null,null,null,null,null,null,null,null,null,null,null,null,null,null,null,null,null,null,null,null,null,null,null,null,null,null,null,null,"Unadjusted Marginal Safety"]
[null,"General Information:",null,null,null,"General Site Features",null,{"$f":" I315 & \" Missing Features and Curves\"","v":"9 Missing Features and Curves"},null,null,null,null,null,null,null,null,null,null,null,null,null,null,null,null,null,null,null,null,null,null,null,null,null,null,null,null,null,null,null,null,null,null,null,null,null,null,null,null,null,null,null,null,null,null,null,null,null,null,null,null,null,null,null,null,null,null,null,null,null,null,null,null,null,null,null,null,null,null,null,null,null,null,null,{"$f":"I2&\" relative to \" &I4","v":"Standard relative to Existing"}]
[null,null,"Analyst:",{"$f":"+'Start Here'!H7","v":0},null,"Location "]
[null,null,"Agency or Company:",{"$f":"+'Start Here'!H8","v":0},null,"Design Speed (mph)"]
[null,null,"Date:",{"$f":"+'Start Here'!H9","v":"00:00:00"},null,"Posted Speed (mph)"]
[null,null,"Description:",null,null,"E max (%)"]
[null,null,"Input additional site information here",null,null,"    Design Year AADT (vehicles per day)"]
[null,null,null,null,null,"    Dist. from Centerline to Left   ROW (feet)"]
[null,null,null,null,null,"    Dist. from Centerline to Right ROW (feet)"]
[]
[null,"Warning:"]
[null,null,{"$f":"+IF(+I11>I10,\"Posted speed exceeds design speed. Optimal safety will only be achieved if design speed exceeds posted speed. The Safety Assessment Score is based on the higher of the two speed values.\",\"No speed warnings identified\")","v":"No speed warnings identified"}]
[null,null,{"$f":"IF(OR(F24=INDEX(MedConf_Header,1,3),+G24=INDEX(MedConf_Header,1,3)), \"Multilane undivided facilities are known to have substantially more collisions than multilane facilities with medians. In new construction a median or TWLTL should be considered.\",\" \")","v":" "},null,null,null,null,null,null,null,null,null,null,null,null,null,null,null,null,null,null,null,null,null,null,null,null,null,null,null,null,null,null,null,null,null,null,null,null,null,null,null,null,null,null,null,null,null,null,null,null,null,null,null,null,null,null,null,null,null,null,null,null,null,null,null,null,null,null,null,null,null,null,null,null,null,null,null,null,null,null,null,null,null,null,null,null,null,null,null,null,null,null,null,null,null,null,null,null,null,null,null,null,null,null,{"$f":"COUNTIF(DB23:DB46,DB20)","v":1}]
[null,null,{"$f":"IF(I13=\"40,001 < AADT < 60,000\", \"Multi-lane Road Should be Divided Due to High AADT Value\",\"\")","v":""},null,null,null,null,null,null,null,null,null,null,null,null,null,null,null,null,null,null,null,null,null,null,null,null,null,null,null,null,null,null,null,null,null,null,null,null,null,null,null,null,null,null,null,null,null,null,null,null,null,null,null,null,null,null,null,null,null,null,null,null,null,null,null,null,null,null,null,null,null,null,null,null,null,null,null,null,null,null,null,null,null,null,null,null,null,null,null,null,null,null,null,null,null,null,null,null,null,null,null,null,null,null,{"$f":"VLOOKUP(0,CZ23:DB46,3,)","v":10.01}]
[null,null,null,"Fill all elements",null,"To enter notes, use boxes to the right of the vortex ",null,null,null,null," "]
[null,{"$f":"+Construction!$I$2&\"  Total Available Points\"","v":"40  Total Available Points"},null,{"$f":" D249 & \" Missing Elements\"","v":"19 Missing Elements"},null,{"$f":" F249 & \" Missing Elements\"","v":"19 Missing Elements"},{"$f":" G249 & \" Missing Elements\"","v":"19 Missing Elements"},null,null,null,null,null,null,null,null,null,null,null,null,null,null,null,null,null,null,null,null,null,null,null,null,null,null,null,null,null,null,null,null,null,null,null,null,null,null,null,null,null,null,null,null,null,null,null,null,null,null,null,null,null,null,null,null,null,null,null,null,null,null,null,null,null,null,null,null,null,null,null,null,null,null,null,null,null,null,null,null,null,null,null,null,null,null,null,null,null,null,null,null,null,null,"Ranked element","CRF","abs","Re-rank","Rank","Ranked CRF","Element","New Element","crf.abs","rank","Sorted Element","Sorted CRF"]
[null,"Geometric Design Elements",null,"Existing","Standard (Based on Multi-lane Divided)","Design 1","Design 2",{"$f":"\"Marginal Safety for \"&$I$2&\" (compared to \" & $I$4 & \")\"","v":"Marginal Safety for Standard (compared to Existing)"},"Optimal (Based on Multi-lane Divided)",null,null,null,null,null,null,null,null,null,null,null,null,null,null,null,null,null,null,null,null,null,null,null,null,null,null,null,null,null,null,null,null,null,null,null,null,null,null,null,null,null,null,null,null,null,null,null,null,null,null,null,null,null,null,null,null,null,null,null,null,null,null,null,null,null,null,null,null,null,null,null,null,null,null,null,null,null,null,null,null,null,null,null,null,null,null,null,null,null,null,null,null,{"$f":"IF(CY23=0,\"\",DB23&\". \"&DD23)","v":""},{"$f":"H24","v":0},{"$f":"ABS(CY23)","v":0},{"$f":"_xlfn.RANK.EQ(DB23,$DB$23:$DB$46,1)","v":10},{"$f":"_xlfn.RANK.EQ(CZ23,$CZ$23:$CZ$46)+DG23/100","v":10.01},{"$f":"CY23","v":0},{"$f":"IF(ROUND(DF23,2)=0,\"\",C24)","v":""},{"$f":"DD23","v":""},{"$f":"CZ23","v":0},1,{"$f":"IFERROR(IF(IFERROR(VLOOKUP(DG23,$DA$23:$DF$46,4,)&\", \"&CY23=0,\"\"),\"\",IFERROR(VLOOKUP(DG23,$DA$23:$DE$46,4,),\"\")),\"\")","v":"Pavement Friction (skid number) ***"},{"$f":"IFERROR(IF(IFERROR(VLOOKUP(DG23,$DA$23:$DF$46,3,)&\", \"&CY23=0,\"\"),\"\",IFERROR(VLOOKUP(DG23,$DA$23:$DE$46,3,),\"\")),\"\")","v":0.28430956017940245}]
[null,null,"Configuration of Multilane Roadway",null,"Divided - Unsurfaced Median",null,null,null,"Divided - Unsurfaced Median",null,null,null,null,null,null,null,null,null,null,null,null,null,null,null,null,null,null,null,null,null,null,null,null,null,null,null,null,null,null,null,null,null,null,null,null,null,null,null,null,null,null,null,null,null,null,null,null,null,null,null,null,null,null,null,null,null,null,null,null,null,null,null,null,null,null,null,null,null,null,null,null,null,null,null,null,null,null,null,null,null,null,null,null,null,null,null,null,null,null,null,null,"5.02. Median Configuration (Width or Type)",{"$f":"H25","v":8.9999999999999969E-2},8.9999999999999969E-2,{"$f":"_xlfn.RANK.EQ(DB24,$DB$23:$DB$46,1)","v":5},{"$f":"_xlfn.RANK.EQ(CZ24,$CZ$23:$CZ$46)+DG24/100","v":5.0199999999999996},{"$f":"CY24","v":8.9999999999999969E-2},{"$f":"IF(ROUND(DF24,2)=0,\"\",C25)","v":"Median Configuration (Width or Type)"},{"$f":"DD24","v":"Median Configuration (Width or Type)"},8.9999999999999969E-2,2,{"$f":"IFERROR(IF(IFERROR(VLOOKUP(DG24,$DA$23:$DF$46,4,)&\", \"&CY24=0,\"\"),\"\",IFERROR(VLOOKUP(DG24,$DA$23:$DE$46,4,),\"\")),\"\")","v":"Driveway Density (driveways per mile)"},{"$f":"IFERROR(IF(IFERROR(VLOOKUP(DG24,$DA$23:$DF$46,3,)&\", \"&CY24=0,\"\"),\"\",IFERROR(VLOOKUP(DG24,$DA$23:$DE$46,3,),\"\")),\"\")","v":-0.22388114201141129}]
[null,null,"Median Configuration (Width or Type)",null,30,null,null,{"$f":"M103","v":8.9999999999999969E-2},100,null,null,null,null,null,null,null,null,null,null,null,null,null,null,null,null,null,null,null,null,null,null,null,null,null,null,null,null,null,null,null,null,null,null,null,null,null,null,null,null,null,null,null,null,null,null,null,null,null,null,null,null,null,null,null,null,null,null,null,null,null,null,null,null,null,null,null,null,null,null,null,null,null,null,null,null,null,null,null,null,null,null,null,null,null,null,null,null,null,null,null,null,"",{"$f":"H27","v":0},0,11,10.029999999999999,{"$f":"CY25","v":0},{"$f":"IF(ROUND(DF25,2)=0,\"\",C27)","v":""},{"$f":"DD25","v":""},0,3,{"$f":"IFERROR(IF(IFERROR(VLOOKUP(DG25,$DA$23:$DF$46,4,)&\", \"&CY25=0,\"\"),\"\",IFERROR(VLOOKUP(DG25,$DA$23:$DE$46,4,),\"\")),\"\")","v":"Average Outside Shoulder Width (feet)"},{"$f":"IFERROR(IF(IFERROR(VLOOKUP(DG25,$DA$23:$DF$46,3,)&\", \"&CY25=0,\"\"),\"\",IFERROR(VLOOKUP(DG25,$DA$23:$DE$46,3,),\"\")),\"\")","v":0.18061674008810569}]
[null,null,null,null,null,null,null,null,null,null,null,null,null,null,null,null,null,null,null,null,null,null,null,null,null,null,null,null,null,null,null,null,null,null,null,null,null,null,null,null,null,null,null,null,null,null,null,null,null,null,null,null,null,null,null,null,null,null,null,null,null,null,null,null,null,null,null,null,null,null,null,null,null,null,null,null,null,null,null,null,null,null,null,null,null,null,null,null,null,null,null,null,null,null,null,null,null,null,null,null,null,null,null,null,null,null,null,null,null,null,4,{"$f":"IFERROR(IF(IFERROR(VLOOKUP(DG26,$DA$23:$DF$46,4,)&\", \"&CY26=0,\"\"),\"\",IFERROR(VLOOKUP(DG26,$DA$23:$DE$46,4,),\"\")),\"\")","v":"Roadside Sideslope (Foreslope)"},{"$f":"IFERROR(IF(IFERROR(VLOOKUP(DG26,$DA$23:$DF$46,3,)&\", \"&CY26=0,\"\"),\"\",IFERROR(VLOOKUP(DG26,$DA$23:$DE$46,3,),\"\")),\"\")","v":0.15697622474810147}]
[null,null,"Lane Width (feet)",null,12,null,null,{"$f":"M104","v":0},12,null,null,null,null,null,null,null,null,null,null,null,null,null,null,null,null,null,null,null,null,null,null,null,null,null,null,null,null,null,null,null,null,null,null,null,null,null,null,null,null,null,null,null,null,null,null,null,null,null,null,null,null,null,null,null,null,null,null,null,null,null,null,null,null,null,null,null,null,null,null,null,null,null,null,null,null,null,null,null,null,null,null,null,null,null,null,null,null,null,null,null,null,null,null,null,null,null,null,null,null,null,5,"Median Configuration (Width or Type)",8.9999999999999969E-2]
[null,null,"Average Outside Shoulder Width (feet)",null,8,null,null,{"$f":"M105","v":0.18061674008810569},10,null,null,null,null,null,null,null,null,null,null,null,null,null,null,null,null,null,null,null,null,null,null,null,null,null,null,null,null,null,null,null,null,null,null,null,null,null,null,null,null,null,null,null,null,null,null,null,null,null,null,null,null,null,null,null,null,null,null,null,null,null,null,null,null,null,null,null,null,null,null,null,null,null,null,null,null,null,null,null,null,null,null,null,null,null,null,null,null,null,null,null,null,{"$f":"IF(CY28=0,\"\",DB28&\". \"&DD28)","v":"3.06. Average Outside Shoulder Width (feet)"},{"$f":"H28","v":0.18061674008810569},{"$f":"ABS(CY28)","v":0.18061674008810569},3,3.06,{"$f":"CY28","v":0.18061674008810569},{"$f":"IF(ROUND(DF28,2)=0,\"\",C28)","v":"Average Outside Shoulder Width (feet)"},{"$f":"DD28","v":"Average Outside Shoulder Width (feet)"},{"$f":"CZ28","v":0.18061674008810569},6,"Roadside Lateral Clearance to Obstruction (ft)",6.4777606999867676E-2]
[null,null,"Average Inside Shoulder Width (feet)",null,4,null,null,{"$f":"M106","v":0},10,null,null,null,null,null,null,null,null,null,null,null,null,null,null,null,null,null,null,null,null,null,null,null,null,null,null,null,null,null,null,null,null,null,null,null,null,null,null,null,null,null,null,null,null,null,null,null,null,null,null,null,null,null,null,null,null,null,null,null,null,null,null,null,null,null,null,null,null,null,null,null,null,null,null,null,null,null,null,null,null,null,null,null,null,null,null,null,null,null,null,null,null,{"$f":"IF(CY29=0,\"\",DB29&\". \"&DD29)","v":""},{"$f":"H33","v":0},{"$f":"ABS(CY29)","v":0},12,10.07,0,{"$f":"IF(ROUND(DF29,2)=0,\"\",\"Hz and Vt Alignment\")","v":""},"",{"$f":"CZ29","v":0},7,"Safety Edge",-2.3424031600265627E-2]
["",null,"Number of Lanes per Direction of Travel",null,2,null,null,null,2,null,null,null,null,null,null,null,null,null,null,null,null,null,null,null,null,null,null,null,null,null,null,null,null,null,null,null,null,null,null,null,null,null,null,null,null,null,null,null,null,null,null,null,null,null,null,null,null,null,null,null,null,null,null,null,null,null,null,null,null,null,null,null,null,null,null,null,null,null,null,null,null,null,null,null,null,null,null,null,null,null,null,null,null,null,null,null,null,null,null,null,null,{"$f":"IF(CY30=0,\"\",DB30&\". \"&DD30)","v":""},{"$f":"H29","v":0},{"$f":"ABS(CY30)","v":0},13,10.08,0,{"$f":"IF(ROUND(DF30,2)=0,\"\",C29)","v":""},"",{"$f":"CZ30","v":0},8,"Shoulder Rumble Strips",2.2875008800570917E-2]
[null,null,"Horizontal Curve Present?","--","--","--","--",null,"--",null,null,null,null,null,null,null,null,null,null,null,null,null,null,null,null,null,null,null,null,null,null,null,null,null,null,null,null,null,null,null,null,null,null,null,null,null,null,null,null,null,null,null,null,null,null,null,null,null,null,null,null,null,null,null,null,null,null,null,null,null,null,null,null,null,null,null,null,null,null,null,null,null,null,null,null,null,null,null,null,null,null,null,null,null,null,null,null,null,null,null,null,{"$f":"IF(CY31=0,\"\",DB31&\". \"&DD31)","v":""},{"$f":"H47","v":0},{"$f":"ABS(CY31)","v":0},14,10.09,0,{"$f":"IF(ROUND(DF31,2)=0,\"\",C47)","v":""},"",{"$f":"CZ31","v":0},9,"Lighting",-1.7096579124742384E-2]
[null,null,"Horizontal Curve Data for Controlling Element:","--","--","--","--",null,"--",null,null,null,null,null,null,null,null,null,null,null,null,null,null,null,null,null,null,null,null,null,null,null,null,null,null,null,null,null,null,null,null,null,null,null,null,null,null,null,null,null,null,null,null,null,null,null,null,null,null,null,null,null,null,null,null,null,null,null,null,null,null,null,null,null,null,null,null,null,null,null,null,null,null,null,null,null,null,null,null,null,null,null,null,null,null,null,null,null,null,null,null,"",{"$f":"H48","v":0},0,15,10.1,0,{"$f":"IF(ROUND(DF32,2)=0,\"\",C48)","v":""},"",0,10,"",0]
[null,null,"  Radius (feet)",null,{"$f":"IF(MAX($I$10,$I$11)<45,590,IF($I$12=6,VLOOKUP(MAX($I$10,$I$11),Construction!$B$27:$D$34,2,TRUE),VLOOKUP(MAX($I$10,$I$11),Construction!$G$27:$I$34,2,TRUE)))","v":590},null,null,{"$f":"M144","v":0},{"$f":"IF(MAX($I$10,$I$11)<45,590,IF($I$12=6,VLOOKUP(MAX($I$10,$I$11),Construction!$B$43:$C$50,2,TRUE),VLOOKUP(MAX($I$10,$I$11),Construction!$G$43:$H$50,2,TRUE)))","v":590},null,null,null,null,null,null,null,null,null,null,null,null,null,null,null,null,null,null,null,null,null,null,null,null,null,null,null,null,null,null,null,null,null,null,null,null,null,null,null,null,null,null,null,null,null,null,null,null,null,null,null,null,null,null,null,null,null,null,null,null,null,null,null,null,null,null,null,null,null,null,null,null,null,null,null,null,null,null,null,null,null,null,null,null,null,null,null,null,null,null,null,null,"",{"$f":"H56","v":0},0,16,10.11,0,{"$f":"IF(ROUND(DF33,2)=0,\"\",C56)","v":""},"",0,11,"",0]
[null,null,"Length of Horizontal Curve (feet)",null,{"$f":"IF(D35=\"\", \"\", E33*E35/57.296)","v":""},null,null,null,{"$f":"I33*I35/57.296","v":3758.5520804244625},null,null,null,null,null,null,null,null,null,null,null,null,null,null,null,null,null,null,null,null,null,null,null,null,null,null,null,null,null,null,null,null,null,null,null,null,null,null,null,null,null,null,null,null,null,null,null,null,null,null,null,null,null,null,null,null,null,null,null,null,null,null,null,null,null,null,null,null,null,null,null,null,null,null,null,null,null,null,null,null,null,null,null,null,null,null,null,null,null,null,null,null,"",0,0,17,10.119999999999999,0,"","",0,12,"",0]
[null,null,"Calculated Deflection Angle ∆",{"$f":"IF(OR(ISBLANK(D33),ISBLANK(D34),$B$31=\"No\",ISBLANK($B$31)),\"\",ROUND(D34/D33*57.296,1))","v":""},{"$f":"IF(ISBLANK(D35), \"\",D35)","v":""},{"$f":"IF(OR(ISBLANK(F33),ISBLANK(F34),$B$31=\"No\",ISBLANK($B$31)),\"\",ROUND(F34/F33*57.296,1))","v":""},{"$f":"IF(OR(ISBLANK(G33),ISBLANK(G34),$B$31=\"No\",ISBLANK($B$31)),\"\",ROUND(G34/G33*57.296,1))","v":""},null,{"$f":"MIN(D35,IF(F37=INDEX(HCurveChange,1,0), F35, 365),IF(G37=INDEX(HCurveChange,1,0), G35, 365))","v":365},null,null,null,null,null,null,null,null,null,null,null,null,null,null,null,null,null,null,null,null,null,null,null,null,null,null,null,null,null,null,null,null,null,null,null,null,null,null,null,null,null,null,null,null,null,null,null,null,null,null,null,null,null,null,null,null,null,null,null,null,null,null,null,null,null,null,null,null,null,null,null,null,null,null,null,null,null,null,null,null,null,null,null,null,null,null,null,null,null,null,null,null,"",0,0,18,10.130000000000001,0,"","",0,13,"",0]
[null,null,null,null,null,"∆ has changed. \nAre you changing the ∆?","∆ has changed. \nAre you changing the ∆?",null,null,null,null,null,null,null,null,null,null,null,null,null,null,null,null,null,null,null,null,null,null,null,null,null,null,null,null,null,null,null,null,null,null,null,null,null,null,null,null,null,null,null,null,null,null,null,null,null,null,null,null,null,null,null,null,null,null,null,null,null,null,null,null,null,null,null,null,null,null,null,null,null,null,null,null,null,null,null,null,null,null,null,null,null,null,null,null,null,null,null,null,null,null,"",0,0,19,10.14,0,"","",0,14,"",0]
[null,null,null,null,null,null,null,null,null,null,null,null,null,null,null,null,null,null,null,null,null,null,null,null,null,null,null,null,null,null,null,null,null,null,null,null,null,null,null,null,null,null,null,null,null,null,null,null,null,null,null,null,null,null,null,null,null,null,null,null,null,null,null,null,null,null,null,null,null,null,null,null,null,null,null,null,null,null,null,null,null,null,null,null,null,null,null,null,null,null,null,null,null,null,null,null,null,null,null,null,null,"8.15. Shoulder Rumble Strips",2.2875008800570917E-2,2.2875008800570917E-2,8,8.15,2.2875008800570917E-2,"Shoulder Rumble Strips","Shoulder Rumble Strips",2.2875008800570917E-2,15,"",0]
[null,null,"Vertical Curve Present?","--","--","--","--",null,{"$f":"E38","v":"--"},null,null,null,null,null,null,null,null,null,null,null,null,null,null,null,null,null,null,null,null,null,null,null,null,null,null,null,null,null,null,null,null,null,null,null,null,null,null,null,null,null,null,null,null,null,null,null,null,null,null,null,null,null,null,null,null,null,null,null,null,null,null,null,null,null,null,null,null,null,null,null,null,null,null,null,null,null,null,null,null,null,null,null,null,null,null,null,null,null,null,null,null,"",0,0,20,10.16,0,"","",0,16,"",0]
[null,null,"Vertical Curve Data for Controlling Element:","--","--","--","--",null,"--",null,null,null,null,null,null,null,null,null,null,null,null,null,null,null,null,null,null,null,null,null,null,null,null,null,null,null,null,null,null,null,null,null,null,null,null,null,null,null,null,null,null,null,null,null,null,null,null,null,null,null,null,null,null,null,null,null,null,null,null,null,null,null,null,null,null,null,null,null,null,null,null,null,null,null,null,null,null,null,null,null,null,null,null,null,null,null,null,null,null,null,null,"2.17. Driveway Density (driveways per mile)",-0.22388114201141129,0.22388114201141129,2,2.17,-0.22388114201141129,{"$f":"IF(DF39=0,\"\",C62)","v":"Driveway Density (driveways per mile)"},"Driveway Density (driveways per mile)",0.22388114201141129,17,"",0]
[null,null,"  Approach (Entry) Grade, G1 (%)",null,{"$f":"IF(ISBLANK(D40),\"\", D40)","v":""},null,null,null,{"$f":"IF(B38=\"Yes\",I231,I241)","v":""},null,null,null,null,null,null,null,null,null,null,null,null,null,null,null,null,null,null,null,null,null,null,null,null,null,null,null,null,null,null,null,null,null,null,null,null,null,null,null,null,null,null,null,null,null,null,null,null,null,null,null,null,null,null,null,null,null,null,null,null,null,null,null,null,null,null,null,null,null,null,null,null,null,null,null,null,null,null,null,null,null,null,null,null,null,null,null,null,null,null,null,null,"9.18. Lighting",-1.7096579124742384E-2,1.7096579124742384E-2,9,9.18,-1.7096579124742384E-2,{"$f":"IF(DF40=0,\"\",C63)","v":"Lighting"},"Lighting",1.7096579124742384E-2,18,"",0]
[null,null,"  Departure (Exit) Grade, G2 (%)",null,{"$f":"IF(ISBLANK(D41),\"\", D41)","v":""},null,null,null,{"$f":"IF($B$38=\"Yes\",I232,\"\")","v":""},null,null,null,null,null,null,null,null,null,null,null,null,null,null,null,null,null,null,null,null,null,null,null,null,null,null,null,null,null,null,null,null,null,null,null,null,null,null,null,null,null,null,null,null,null,null,null,null,null,null,null,null,null,null,null,null,null,null,null,null,null,null,null,null,null,null,null,null,null,null,null,null,null,null,null,null,null,null,null,null,null,null,null,null,null,null,null,null,null,null,null,null,"1.19. Pavement Friction (skid number) ***",0.28430956017940245,0.28430956017940245,1,1.19,0.28430956017940245,{"$f":"IF(DF41=0,\"\",C64)","v":"Pavement Friction (skid number) ***"},"Pavement Friction (skid number) ***",0.28430956017940245,19,"",0]
[null,null,"  Length (feet)",null,{"$f":"IF(AND($B$38=\"Yes\", D43<>\"\"), ABS(E40-E41)*D43, \"\")","v":""},null,null,null,{"$f":"IF(AND($B$38=\"Yes\",I40<>\"\",I41<>\"\", NOT(ISBLANK($I$10)), NOT(ISBLANK($I$11))),ABS(I41-I40)*I43,\"\")","v":""},null,null,null,null,null,null,null,null,null,null,null,null,null,null,null,null,null,null,null,null,null,null,null,null,null,null,null,null,null,null,null,null,null,null,null,null,null,null,null,null,null,null,null,null,null,null,null,null,null,null,null,null,null,null,null,null,null,null,null,null,null,null,null,null,null,null,null,null,null,null,null,null,null,null,null,null,null,null,null,null,null,null,null,null,null,null,null,null,null,null,null,null,"4.2. Roadside Sideslope (Foreslope)",{"$f":"H75","v":0.15697622474810147},0.15697622474810147,4,4.2,0.15697622474810147,{"$f":"IF(DF42=0,\"\",C75)","v":"Roadside Sideslope (Foreslope)"},"Roadside Sideslope (Foreslope)",0.15697622474810147,20,"",0]
[null,null,"  Calculated Rate of Change, K (ft/ft)",{"$f":"IF(OR($B$38=\"No\",ISBLANK($B$38), ISBLANK(D40), ISBLANK(D41),ISBLANK(D42), D40=D41), \"\", ROUND(D42/(ABS(D41-D40)),1))","v":""},{"$f":"IF(AND($B$38=\"Yes\", NOT(ISBLANK($I$10)), NOT(ISBLANK($I$11)), D43<>\"\"), IF($E$46=\"Crest\",  VLOOKUP(MAX($I$10,$I$11),Construction!$B$159:$D$171,2,TRUE), VLOOKUP(MAX($I$10,$I$11),Construction!$B$159:$D$171,3,TRUE)), \"\")","v":""},{"$f":"IF(AND($B$38=\"Yes\", SUM(F267:F269)=0),ROUND(F42/(ABS(F41-F40)),1),\"\")","v":""},{"$f":"IF(AND($B$38=\"Yes\", SUM(G267:G269)=0),ROUND(G42/(ABS(G41-G40)),1),\"\")","v":""},null,{"$f":"IF(OR($B$38<>\"Yes\", ISBLANK($I$10), ISBLANK($I$11), $I$40=\"\", $I$41=\"\", $I$46=\"--\", ISBLANK($I$46)),\"\",IF(I$46=\"Crest\",VLOOKUP(MAX($I$10,$I$11),Construction!$B$177:$D$189,2,TRUE),VLOOKUP(MAX($I$10,$I$11),Construction!$B$177:$D$189,3,TRUE)))","v":""},null,null,null,null,null,null,null,null,null,null,null,null,null,null,null,null,null,null,null,null,null,null,null,null,null,null,null,null,null,null,null,null,null,null,null,null,null,null,null,null,null,null,null,null,null,null,null,null,null,null,null,null,null,null,null,null,null,null,null,null,null,null,null,null,null,null,null,null,null,null,null,null,null,null,null,null,null,null,null,null,null,null,null,null,null,null,null,null,null,null,null,null,"",{"$f":"H76","v":0},0,21,10.210000000000001,0,{"$f":"IF(DF43=0,\"\",C76)","v":""},"",0,21,"",0]
[null,null,null,null,null,"Are you changing the geometry?","Are you changing the geometry?",null,null,null,null,null,null,null,null,null,null,null,null,null,null,null,null,null,null,null,null,null,null,null,null,null,null,null,null,null,null,null,null,null,null,null,null,null,null,null,null,null,null,null,null,null,null,null,null,null,null,null,null,null,null,null,null,null,null,null,null,null,null,null,null,null,null,null,null,null,null,null,null,null,null,null,null,null,null,null,null,null,null,null,null,null,null,null,null,null,null,null,null,null,null,"7.22. Safety Edge",{"$f":"H77","v":-2.3424031600265627E-2},2.3424031600265627E-2,7,7.22,-2.3424031600265627E-2,{"$f":"IF(DF44=0,\"\",C77)","v":"Safety Edge"},"Safety Edge",2.3424031600265627E-2,22,"",0]
[null,null,null,null,null,null,null,null,null,null,null,null,null,null,null,null,null,null,null,null,null,null,null,null,null,null,null,null,null,null,null,null,null,null,null,null,null,null,null,null,null,null,null,null,null,null,null,null,null,null,null,null,null,null,null,null,null,null,null,null,null,null,null,null,null,null,null,null,null,null,null,null,null,null,null,null,null,null,null,null,null,null,null,null,null,null,null,null,null,null,null,null,null,null,null,null,null,null,null,null,null,"6.23. Roadside Lateral Clearance to Obstruction (ft)",{"$f":"H78","v":6.4777606999867676E-2},6.4777606999867676E-2,6,6.23,6.4777606999867676E-2,{"$f":"IF(DF45=0,\"\",C78)","v":"Roadside Lateral Clearance to Obstruction (ft)"},"Roadside Lateral Clearance to Obstruction (ft)",6.4777606999867676E-2,23,"",{"$f":"IFERROR(IF(IFERROR(VLOOKUP(DG45,$DA$23:$DF$46,3,)&\", \"&CY45=0,\"\"),\"\",IFERROR(VLOOKUP(DG45,$DA$23:$DE$46,3,),\"\")),\"\")","v":""}]
[null,null,"  Calculated Sag or Crest?",{"$f":"IF(AND($B$38=\"Yes\", SUM(D267:D269)=0),IF(D40>D41,\"Crest\",\"Sag\"),\"--\")","v":"--"},{"$f":"IF(AND($B$38=\"Yes\", SUM(D267:D269)=0),IF(E40>E41,\"Crest\",\"Sag\"),\"--\")","v":"--"},{"$f":"IF(AND($B$38=\"Yes\", SUM(F267:F269)=0),IF(F40>F41,\"Crest\",\"Sag\"),\"--\")","v":"--"},{"$f":"IF(AND($B$38=\"Yes\", SUM(G267:G269)=0),IF(G40>G41,\"Crest\",\"Sag\"),\"--\")","v":"--"},null,{"$f":"IF($B$38=\"Yes\",IF(I40>I41,\"Crest\",\"Sag\"),\"--\")","v":"--"},null,null,null,null,null,null,null,null,null,null,null,null,null,null,null,null,null,null,null,null,null,null,null,null,null,null,null,null,null,null,null,null,null,null,null,null,null,null,null,null,null,null,null,null,null,null,null,null,null,null,null,null,null,null,null,null,null,null,null,null,null,null,null,null,null,null,null,null,null,null,null,null,null,null,null,null,null,null,null,null,null,null,null,null,null,null,null,null,null,null,null,null,"",{"$f":"H79","v":0},0,22,10.24,0,{"$f":"IF(DF46=0,\"\",C79)","v":""},"",0,24,"",{"$f":"IFERROR(IF(IFERROR(VLOOKUP(DG46,$DA$23:$DF$46,3,)&\", \"&CY46=0,\"\"),\"\",IFERROR(VLOOKUP(DG46,$DA$23:$DE$46,3,),\"\")),\"\")","v":""}]
[]
[]
[null,null,"Geometric Design Element (Partial Score)",{"$f":"IF(OR(SUM(D251:D252,D254:D257,D260:D261,D267:D269)>0, ISERR(D129)),\"\",D129)","v":""},{"$f":"IF(OR(SUM(E251:E252,E254:E257,E260:E261,E267:E269)>0, ISERR(E129)),\"\",E129)","v":""},"","",null,{"$f":"IF(OR(SUM(I251:I252,I254:I257,I260:I261,I267:I269)>0, ISERR(I129)),\"\",I129)","v":""},null,null,null,"SCHEMATIC REPRESENTING INPUT DATA FOR ",null,null,null,null,null,null,null,{"$f":"IF($I$2=\"Existing\",\"EXISTING CONFIGURATION\",IF($I$2=\"Standard\",\"STANDARD OPTION\",IF($I$2=\"Design 1\",\"DESIGN 1 OPTION\",IF($I$2=\"Design 2\",\"DESIGN 2 OPTION\",\"OPTIMAL OPTION\"))))","v":"STANDARD OPTION"}]
[null,null,"Total Safety Score",{"$f":"IF(OR(D$249>0, $I$315>0, ISERROR(D$205+D$175+D$129)),\"\",D$205+D$175+D$129)","v":""},{"$f":"IF(OR(E$249>0, $I$315>0, ISERROR(E$205+E$175+E$129)),\"\",E$205+E$175+E$129)","v":""},{"$f":"IF(OR(F$249>0, $I$315>0, ISERROR(F$205+F$175+F$129)),\"\",F$205+F$175+F$129)","v":""},{"$f":"IF(OR(G$249>0, $I$315>0, ISERROR(G$205+G$175+G$129)),\"\",G$205+G$175+G$129)","v":""},null,{"$f":"IF(OR(I$249>0, $I$315>0, ISERROR(I$205+I$175+I$129)),\"\",I$205+I$175+I$129)","v":""}]
[null,null,null,null,null,null,null,null,null,null,null,"LT",null,null,null,null,null,null,null,null,null,null,null,null,null,null,"RT"]
[null,null,null,null,null,null,null,null,null,null,null,"R/W",null,null,null,null,null,null,{"$f":"+O54+W54","v":0},null,null,null,null,null,null,null,"R/W"]
[]
[null,{"$f":"+Construction!$I$3&\"  Total Available Points\"","v":"20  Total Available Points"},null,null,null,null,null,null,null,null,null,null,null,null,{"$f":"+$I$14","v":0},null,null,null,null,null,null,null,{"$f":"+$I$15","v":0}]
[null,"Traffic Elements",null,"Existing","Standard","Design 1","Design 2",{"$f":"H23","v":"Marginal Safety for Standard (compared to Existing)"},"Optimal"]
[null,null,"Advance Static Curve Warning Signs",null,"No",null,null,{"$f":"M149","v":0},"Yes",null,null,{"$f":"+O54-N56-P56","v":-32},null,{"$f":"IF(+$I$2=\"Existing\",D28,IF($I$2=\"Standard\",E28,IF($I$2=\"Design 1\",F28,IF($I$2=\"Design 2\",G28,I28))))","v":8},null,{"$f":"IF(+$I$2=\"Existing\",D27*D30,IF($I$2=\"Standard\",E27*E30,IF($I$2=\"Design 1\",F27*F30,IF($I$2=\"Design 2\",G27*G30,I27*I30))))","v":24},null,null,null,null,null,{"$f":"+P56","v":24},null,null,{"$f":"+N56","v":8},{"$f":"+W54-V56-Y56","v":-32}]
[null,null,"Chevron Signs on Horizontal Curves",null,"No",null,null,{"$f":"M150","v":0},"Yes"]
[null,null,"Post-Mounted Delineators",null,"No",null,null,{"$f":"M151","v":0},"Yes"]
[null,null,"Edgeline Pavement Markings or Profile Markings",null,"No",null,null,{"$f":"M152","v":0},"Yes"]
[null,null,"Shoulder Rumble Strips",null,"Yes",null,null,{"$f":"M154","v":2.2875008800570917E-2},"Yes"]
[null,null,"Centerline Rumble Strips",null,"No",null,null,{"$f":"M155","v":0},"Yes",null,null,null,null,null,null,null,null,null,"Tangent X-Section"]
[null,null,"Driveway Density (driveways per mile)",null,10,null,null,{"$f":"M156","v":-0.22388114201141129},0]
[null,null,"Lighting",null,"No",null,null,{"$f":"M157","v":-1.7096579124742384E-2},"Yes"]
[null,null,"Pavement Friction (skid number) ***",null,37,null,null,{"$f":"M158","v":0.28430956017940245},54]
[null,null,"Traffic Control Element (Partial Score):",{"$f":"IF(ISERROR(D175), \"\", D175)","v":12},{"$f":"IF(ISERROR(E175), \"\", E175)","v":14},"","",null,{"$f":"IF(ISERROR(I175), \"\", I175)","v":20}]
[null,null,"Total Safety Score",{"$f":"IF(OR(D$249>0, $I$315>0, ISERROR(D$205+D$175+D$129)),\"\",D$205+D$175+D$129)","v":""},{"$f":"IF(OR(E$249>0, $I$315>0, ISERROR(E$205+E$175+E$129)),\"\",E$205+E$175+E$129)","v":""},"","",null,{"$f":"IF(OR(I$249>0, $I$315>0, ISERROR(I$205+I$175+I$129)),\"\",I$205+I$175+I$129)","v":""}]
[null,null,null,null,null,null,null,null,null,null," "]
[null,null,"*** Pavement friction/skid numbers will not be subject to open records requests ***",null,null,null,null,null,null,null,null,null,null,null,null,null,{"$f":"IF($I$2=\"Existing\",\"SCORE SUMMARY FOR EXISTING CONFIGURATION\", IF($I$2=\"Standard\",\"SCORE SUMMARY FOR STANDARD OPTION\",IF($I$2=\"Design 1\",\"SCORE SUMMARY FOR DESIGN 1 OPTION\",IF($I$2=\"Design 2\",\"SCORE SUMMARY FOR DESIGN 2 OPTION\", \"SCORE SUMMARY FOR OPTIMAL OPTION\"))))","v":"SCORE SUMMARY FOR STANDARD OPTION"}]
[null,null,null,null,null,null,null,null,null,null,null,null,null,null,null,null,"GEOMETRIC DESIGN:",null,null,null,null,null,{"$f":"IF($I$2=\"Existing\",D49,IF($I$2=\"Standard\",E49,IF($I$2=\"Design 1\",F49,IF($I$2=\"Design 2\",G49,I49))))","v":""}]
[null,null,null,null,null,null,null,null,null,null,null,null,null,null,null,null,"TRAFFIC CONTROL:",null,null,null,null,null,{"$f":"IF($I$2=\"Existing\",D65,IF($I$2=\"Standard\",E65,IF($I$2=\"Design 1\",F65,IF($I$2=\"Design 2\",G65,I65))))","v":14}]
[null,null,null,null,null,null,null,null,null,null,null,null,null,null,null,null,"ROADSIDE:",null,null,null,null,null,{"$f":"IF($I$2=\"Existing\",D80,IF($I$2=\"Standard\",E80,IF($I$2=\"Design 1\",F80,IF($I$2=\"Design 2\",G80,I80))))","v":27}]
[null,null,null,null,null,null,null,null,null,null,null,null,null,null,null,null,"OVERALL SAFETY SCORE:",null,null,null,null,null,{"$f":"SUM(W69:X71)","v":41}]
[null,{"$f":"+Construction!$I$4&\"  Total Available Points\"","v":"40  Total Available Points"}]
[null,"Roadside  Elements",null,"Existing","Standard","Design 1","Design 2",{"$f":"H23","v":"Marginal Safety for Standard (compared to Existing)"},"Optimal"]
[null,null,"Roadside Sideslope (Foreslope)",null,"1V:4H",null,null,{"$f":"M184","v":0.15697622474810147},"1V:6H"]
[null,null,"Roadside Backslope",null,{"$f":"E75","v":"1V:4H"},null,null,{"$f":"M185","v":0},"1V:4H"]
[null,null,"Safety Edge",null,"No",null,null,-2.3424031600265627E-2,"Yes"]
[null,null,"Roadside Lateral Clearance to Obstruction (ft)",null,30,null,null,6.4777606999867676E-2,40]
[null,null,"Roadside Obstruction Type",null,"None",null,null,0,"None/Removed"]
[null,null,"Roadside Element (Partial Score):",{"$f":"IF(ISERR(D205),\"\",D205)","v":20},{"$f":"IF(ISERR(E205),\"\",E205)","v":27},20,20,null,{"$f":"IF(ISERR(I205),\"\",I205)","v":40},null,null,null,null,null,null,null,null,null,null,null,null,null,null," "]
[null,null,"Total Safety Score",{"$f":"IF(OR(D$249>0, $I$315>0, ISERROR(D$205+D$175+D$129)),\"\",D$205+D$175+D$129)","v":""},{"$f":"IF(OR(E$249>0, $I$315>0, ISERROR(E$205+E$175+E$129)),\"\",E$205+E$175+E$129)","v":""},"","",null,{"$f":"IF(OR(I$249>0, $I$315>0, ISERROR(I$205+I$175+I$129)),\"\",I$205+I$175+I$129)","v":""}]
[]
[]
[]
[]
[null,"ADDITIONAL SIDESLOPE INFORMATION"]
[null,null,"Distance to Slope Toe from Shoulder (ft)",null,{"$f":"D87","v":0},{"$f":"E87","v":0},0,null,{"$f":"G87","v":0}]
[null,"Minimum foreslope feasible within current ROW",null,null,{"$f":"IF(OR(ISBLANK($D$87), ISERROR(E209)), \"\", \"1V:\"&E209&\"H\")","v":""},{"$f":"IF(OR(ISBLANK($D$87), ISERROR(F209)), \"\", \"1V:\"&F209&\"H\")","v":""},{"$f":"IF(OR(ISBLANK($D$87), ISERROR(G209)), \"\", \"1V:\"&G209&\"H\")","v":""},null,{"$f":"IF(OR(ISBLANK($D$87), ISERROR(I209)), \"\", \"1V:\"&I209&\"H\")","v":""}]
[null,"Additional R/W needed on left side",null,null,{"$f":"IF(OR(ISBLANK($D$87), ISERROR(E213)),\"\", MAX(E213,E216))","v":""},{"$f":"IF(OR(ISBLANK($D$87), ISERROR(F213)), \"\", MAX(F213,F216))","v":""},{"$f":"IF(OR(ISBLANK($D$87), ISERROR(G213)),\"\", MAX(G213,G216))","v":""},null,{"$f":"IF(OR(ISBLANK($D$87), ISERROR(I213)),\"\", MAX(I213,I216))","v":""}]
[null,"Additional R/W needed on right side",null,null,{"$f":"IF(OR(ISBLANK($D$87), ISERROR(E214)), \"\", MAX(E214,E217))","v":""},{"$f":"IF(OR(ISBLANK($D$87), ISERROR(F214)), \"\", MAX(F214,F217))","v":""},{"$f":"IF(OR(ISBLANK($D$87), ISERROR(G214)),\"\", MAX(G214,G217))","v":""},null,{"$f":"IF(OR(ISBLANK($D$87), ISERROR(I214)),\"\", MAX(I214,I217))","v":""}]
[]
[]
[]
[]
[]
[]
[]
[null,null,null,{"$f":"GetCMF_MED(D24,D25,2000,D28)","v":1},null,null,null,null,null,{"$f":"1-I104/E104","v":0},"For Plot"]
[null,null,null,null,null,null,null,null,null,{"$f":"1-I105/E105","v":3.2258064516129115E-2},"relative to","Prefer"]
[null,null,null,{"$f":"MAX(SUM(D107:D111)-5,$I$100)","v":{"$error":"#VALUE!"}},{"$f":"MAX(SUM(E107:E111)-5,$I$100)","v":{"$error":"#VALUE!"}},{"$error":"#VALUE!"},{"$error":"#VALUE!"},null,{"$f":"SUM(I107:I111)-5","v":{"$error":"#VALUE!"}},{"$f":"1-I106/E106","v":0.14444080962898154},{"$f":"MATCH(K101,ModView,0)","v":1},{"$f":"MATCH(L101,ModView,0)","v":2}]
[null,"Geometric",null,null,null,null,null,null,null,{"$f":"1-I107/E107","v":{"$error":"#VALUE!"}},{"$f":"I4","v":"Existing"},{"$f":"I2","v":"Standard"},"%"]
[null,null,"Divided versus Undivided",1,1,1,1,null,1,null,{"$f":"INDEX($D102:$I102,K$100)","v":1},{"$f":"INDEX($D102:$I102,L$100)","v":1},{"$f":"IF(ISERROR(1-L102/K102), 0, 1-L102/K102)","v":0}]
[null,null,"Median Width",{"$f":"GetCMF_MED(D24,D25,$I$13,D28)","v":1},{"$f":"GetCMF_MED(E24,E25,$I$13,E28)","v":0.91},{"$f":"GetCMF_MED(F24,F25,$I$13,F28)","v":1},{"$f":"GetCMF_MED(G24,G25,$I$13,G28)","v":1},{"$f":"H25","v":8.9999999999999969E-2},{"$f":"GetCMF_MED(I24,I25,$I$13,I28)","v":0.66},null,{"$f":"INDEX($D103:$I103,K$100)","v":1},{"$f":"INDEX($D103:$I103,L$100)","v":0.91},{"$f":"IF(ISERROR(1-L103/K103), 0, 1-L103/K103)","v":8.9999999999999969E-2}]
[null,null,"LW CMF",{"$f":"IF(D24=INDEX(MedConf_Header,1,2),VLOOKUP(+D27,Construction!$N$30:$O$36,2),VLOOKUP(D27,Construction!$I$15:$J$21,2))","v":{"$error":"#N/A"}},{"$f":"IF(E24=INDEX(MedConf_Header,1,2),VLOOKUP(+E27,Construction!$N$30:$O$36,2),VLOOKUP(E27,Construction!$I$15:$J$21,2))","v":1},{"$f":"IF(F24=INDEX(MedConf_Header,1,2),VLOOKUP(+F27,Construction!$N$30:$O$36,2),VLOOKUP(F27,Construction!$I$15:$J$21,2))","v":{"$error":"#N/A"}},{"$f":"IF(G24=INDEX(MedConf_Header,1,2),VLOOKUP(+G27,Construction!$N$30:$O$36,2),VLOOKUP(G27,Construction!$I$15:$J$21,2))","v":{"$error":"#N/A"}},{"$f":"H27","v":0},{"$f":"IF(I24=INDEX(MedConf_Header,1,2),VLOOKUP(+I27,Construction!$N$30:$O$36,2),VLOOKUP(I27,Construction!$I$15:$J$21,2))","v":1},null,{"$f":"INDEX($D104:$I104,K$100)","v":{"$error":"#N/A"}},{"$f":"INDEX($D104:$I104,L$100)","v":1},0,null,0]
[null,null,"SW CMF",{"$f":"IF(D24=INDEX(MedConf_Header,1,2),VLOOKUP(D28,Construction!$C$11:D21,2),(VLOOKUP(D28,Construction!$O$43:$P$53,2)-1)*0.27+1)","v":1.135},{"$f":"IF(E24=INDEX(MedConf_Header,1,2),VLOOKUP(E28,Construction!$C$11:E21,2),(VLOOKUP(E28,Construction!$O$43:$P$53,2)-1)*0.27+1)","v":0.93},{"$f":"IF(F24=INDEX(MedConf_Header,1,2),VLOOKUP(F28,Construction!$C$11:F21,2),(VLOOKUP(F28,Construction!$O$43:$P$53,2)-1)*0.27+1)","v":1.135},{"$f":"IF(G24=INDEX(MedConf_Header,1,2),VLOOKUP(G28,Construction!$C$11:G21,2),(VLOOKUP(G28,Construction!$O$43:$P$53,2)-1)*0.27+1)","v":1.135},{"$f":"IF($I$2=\"Existing\",(1-D105/E105),(IF($I$2=\"Design 1\",(1-F105/E105),(IF($I$2=\"Design 2\",(1-G105/E105),(IF($I$2=\"Optimal\",(1-I105/E105),0)))))))","v":0},{"$f":"IF(I24=INDEX(MedConf_Header,1,2),VLOOKUP(I28,Construction!$C$11:I21,2),(VLOOKUP(I28,Construction!$O$43:$P$53,2)-1)*0.27+1)","v":0.9},null,{"$f":"INDEX($D105:$I105,K$100)","v":1.135},{"$f":"INDEX($D105:$I105,L$100)","v":0.93},0.18061674008810569,null,0.15503875968992242]
[null,null,"Inside Shoulder Width",{"$f":"IF(AND(D24=INDEX(MedConf_Header,1,2), NOT(ISBLANK(D29))), EXP(-0.026*(D29-4)), 1)","v":1},{"$f":"IF(AND(E24=INDEX(MedConf_Header,1,2), NOT(ISBLANK(E29))), EXP(-0.026*(E29-4)), 1)","v":1},{"$f":"IF(AND(F24=INDEX(MedConf_Header,1,2), NOT(ISBLANK(F29))), EXP(-0.026*(F29-4)), 1)","v":1},{"$f":"IF(AND(G24=INDEX(MedConf_Header,1,2), NOT(ISBLANK(G29))), EXP(-0.026*(G29-4)), 1)","v":1},0,{"$f":"IF(AND(I24=INDEX(MedConf_Header,1,2), NOT(ISBLANK(I29))), EXP(-0.026*(I29-4)), 1)","v":0.85555919037101846},null,{"$f":"INDEX($D106:$I106,K$100)","v":1},{"$f":"INDEX($D106:$I106,L$100)","v":1},0,null,0]
[null,null,"HC and Grade",{"$f":"D$138^D$131","v":1},{"$f":"E$138^E$131","v":1},1,1,0,{"$f":"I$138^I$131","v":{"$error":"#VALUE!"}},null,{"$f":"INDEX($D107:$I107,K$100)","v":1},{"$f":"INDEX($D107:$I107,L$100)","v":1},0,null,0]
[null,null,"HC and VC Crest type I",{"$f":"D$139^D$132","v":1},{"$f":"E$139^E$132","v":1},1,1,0,{"$f":"I$139^I$132","v":{"$error":"#VALUE!"}},null,{"$f":"INDEX($D108:$I108,K$100)","v":1},{"$f":"INDEX($D108:$I108,L$100)","v":1},0,null,0]
[null,null,"HC and VC Sag type I",{"$f":"D$140^D$133","v":1},{"$f":"E$140^E$133","v":1},1,1,0,{"$f":"I$140^I$133","v":{"$error":"#VALUE!"}},{"$f":"1-I115/E115","v":{"$error":"#VALUE!"}},{"$f":"INDEX($D109:$I109,K$100)","v":1},{"$f":"INDEX($D109:$I109,L$100)","v":1},0,null,0]
[null,null,"HC and VC Crest type II",{"$f":"D$141^D$134","v":1},{"$f":"E$141^E$134","v":1},1,1,0,{"$f":"I$141^I$134","v":{"$error":"#VALUE!"}},{"$f":"1-I116/E116","v":{"$error":"#VALUE!"}},{"$f":"INDEX($D110:$I110,K$100)","v":1},{"$f":"INDEX($D110:$I110,L$100)","v":1},0,null,0]
[null,null,"HC and VC Sag type II",{"$f":"D$142^D$135","v":1},{"$f":"E$142^E$135","v":1},1,1,0,{"$f":"I$142^I$135","v":{"$error":"#VALUE!"}},{"$f":"1-I117/E117","v":{"$error":"#VALUE!"}},{"$f":"INDEX($D111:$I111,K$100)","v":1},{"$f":"INDEX($D111:$I111,L$100)","v":1},0,null,0]
[null,null,"Add TWLTL",{"$f":"IF(D$47=\"No\",1,CMFs!$F$17)","v":0.71},{"$f":"IF(E$47=\"No\",1,CMFs!$F$17)","v":0.71},{"$f":"IF(F$47=\"No\",1,CMFs!$F$17)","v":0.71},{"$f":"IF(G$47=\"No\",1,CMFs!$F$17)","v":0.71},0,{"$f":"IF(I$47=\"No\",1,CMFs!$F$17)","v":0.71},{"$f":"1-I118/E118","v":{"$error":"#VALUE!"}},{"$f":"INDEX($D112:$I112,K$100)","v":0.71},{"$f":"INDEX($D112:$I112,L$100)","v":0.71},0,null,0]
[null,null,"Provide passing lane",{"$f":"IF(D$48=\"No\",1,CMFs!$F$21)","v":0.75},{"$f":"IF(E$48=\"No\",1,CMFs!$F$21)","v":0.75},{"$f":"IF(F$48=\"No\",1,CMFs!$F$21)","v":0.75},{"$f":"IF(G$48=\"No\",1,CMFs!$F$21)","v":0.75},0,{"$f":"IF(I$48=\"No\",1,CMFs!$F$21)","v":0.75},{"$f":"I119/E119","v":{"$error":"#VALUE!"}},{"$f":"INDEX($D113:$I113,K$100)","v":0.75},{"$f":"INDEX($D113:$I113,L$100)","v":0.75},0,null,0]
[]
[null,null,"COMBINED Calculated CMF",{"$f":"+D104*D105*D106*D107*D108*D109*D110*D111*D112*D113*D103*D102","v":{"$error":"#N/A"}},{"$f":"+E104*E105*E106*E107*E108*E109*E110*E111*E112*E113*E103*E102","v":0.45065475000000005},{"$error":"#N/A"},{"$error":"#N/A"},{"$f":"IF($I$2=\"Existing\",(D115),(IF($I$2=\"Design 1\",(F115),(IF($I$2=\"Design 2\",(G115),(IF($I$2=\"Optimal\",(I115),E115)))))))","v":0.45065475000000005},{"$f":"+I104*I105*I106*I107*I108*I109*I110*I111*I112*I113*I103*I102","v":{"$error":"#VALUE!"}},null,{"$f":"INDEX($D115:$I115,K$100)","v":{"$error":"#N/A"}},{"$f":"INDEX($D115:$I115,L$100)","v":0.45065475000000005},{"$f":"IF(ISERROR(1-L115/K115), 0, 1-L115/K115)","v":0},null,0]
[null,null,"Calculated Relative to Design Standards (Column E)",{"$f":"+D115/$E$115","v":{"$error":"#N/A"}},1,{"$error":"#N/A"},{"$error":"#N/A"},1,{"$error":"#VALUE!"},null,{"$f":"INDEX($D116:$I116,K$100)","v":{"$error":"#N/A"}},{"$f":"INDEX($D116:$I116,L$100)","v":1},0,null,0]
[null,null,"P(Crash)",{"$f":"+D116/(D116+1)","v":{"$error":"#N/A"}},0.5,{"$error":"#N/A"},{"$error":"#N/A"},0.5,{"$error":"#VALUE!"},null,{"$f":"INDEX($D117:$I117,K$100)","v":{"$error":"#N/A"}},{"$f":"INDEX($D117:$I117,L$100)","v":0.5},0,null,0]
[null,null,"Factor Change on S curve",{"$f":"+D117/$E$117","v":{"$error":"#N/A"}},1,{"$error":"#N/A"},{"$error":"#N/A"},1,{"$error":"#VALUE!"},null,{"$f":"INDEX($D118:$I118,K$100)","v":{"$error":"#N/A"}},{"$f":"INDEX($D118:$I118,L$100)","v":1},0,null,0]
[null,null,"Adjust to Scale of 100",{"$f":"+$I$118/D118*100","v":{"$error":"#VALUE!"}},{"$error":"#VALUE!"},{"$error":"#VALUE!"},{"$error":"#VALUE!"},{"$error":"#VALUE!"},{"$error":"#VALUE!"},null,{"$f":"INDEX($D119:$I119,K$100)","v":{"$error":"#VALUE!"}},{"$f":"INDEX($D119:$I119,L$100)","v":{"$error":"#VALUE!"}},0]
[null,null,"Unadjusted Combined Relative to Standard",{"$f":"+D115/$E$115","v":{"$error":"#N/A"}},1,{"$error":"#N/A"},{"$error":"#N/A"},1,{"$error":"#VALUE!"},{"$f":"I126/E126","v":{"$error":"#VALUE!"}},{"$f":"INDEX($D120:$I120,K$100)","v":{"$error":"#N/A"}},{"$f":"INDEX($D120:$I120,L$100)","v":1},0,null,0]
[]
[null,null,"Adjusted for PA Basis",{"$f":"+D115*(1+1)/(1+D115*1)","v":{"$error":"#N/A"}},0.62131220402373488,{"$error":"#N/A"},{"$error":"#N/A"},{"$f":"IF($I$2=\"Existing\",(D122),(IF($I$2=\"Design 1\",(F122),(IF($I$2=\"Design 2\",(G122),(IF($I$2=\"Optimal\",(I122),E122)))))))","v":0.62131220402373488},{"$error":"#VALUE!"},null,{"$f":"INDEX($D122:$I122,K$100)","v":{"$error":"#N/A"}},{"$f":"INDEX($D122:$I122,L$100)","v":0.62131220402373488},{"$f":"IF(ISERROR(1-L122/K122), 0, 1-L122/K122)","v":0},null,0]
[null,null,"Corrected by Odds Ratio",{"$f":"+D122/$E$122","v":{"$error":"#N/A"}},1,{"$error":"#N/A"},{"$error":"#N/A"},{"$f":"IF($I$2=\"Existing\",(D123),(IF($I$2=\"Design 1\",(F123),(IF($I$2=\"Design 2\",(G123),(IF($I$2=\"Optimal\",(I123),E123)))))))","v":1},{"$error":"#VALUE!"},{"$f":"I129/E129","v":{"$error":"#VALUE!"}},{"$f":"INDEX($D123:$I123,K$100)","v":{"$error":"#N/A"}},{"$f":"INDEX($D123:$I123,L$100)","v":1},0,null,0]
[null,null,"Pinned s",{"$f":"(1/D123)^$D127","v":{"$error":"#N/A"}},{"$f":"(1/E123)^$D127","v":{"$error":"#VALUE!"}},{"$error":"#N/A"},{"$f":"IF(ISERROR((1/G123)^$D127), 0, (1/G123)^$D127)","v":0},{"$error":"#VALUE!"},{"$error":"#VALUE!"},null,{"$f":"INDEX($D124:$I124,K$100)","v":{"$error":"#N/A"}},{"$f":"INDEX($D124:$I124,L$100)","v":{"$error":"#VALUE!"}},0,null,0]
[null,null,null,{"$f":"(D124+$F128-1)/(1+(D124+$F128-1))","v":{"$error":"#N/A"}},{"$f":"(E124+$F128-1)/(1+(E124+$F128-1))","v":{"$error":"#VALUE!"}},{"$error":"#N/A"},0.57142857142857151,{"$error":"#VALUE!"},{"$error":"#VALUE!"},null,{"$f":"INDEX($D125:$I125,K$100)","v":{"$error":"#N/A"}},{"$f":"INDEX($D125:$I125,L$100)","v":{"$error":"#VALUE!"}},0,null,0]
[null,null,"Score Odds Ratio with Optimal (old)",{"$f":"MIN(ROUND($I$123/D123*Construction!$I$2,0),$I126)","v":{"$error":"#VALUE!"}},{"$f":"MIN(ROUND($I$123/E123*Construction!$I$2,0),$I126)","v":{"$error":"#VALUE!"}},{"$f":"MIN(ROUND($I$123/F123*Construction!$I$2,0),$I126)","v":{"$error":"#VALUE!"}},{"$f":"MIN(ROUND($I$123/G123*Construction!$I$2,0),$I126)","v":{"$error":"#VALUE!"}},{"$f":"IF($I$2=\"Existing\",(D126),(IF($I$2=\"Design 1\",(F126),(IF($I$2=\"Design 2\",(G126),(IF($I$2=\"Optimal\",(I126),E126)))))))","v":{"$error":"#VALUE!"}},{"$f":"ROUND($I$123/I123*Construction!$I$2,0)","v":{"$error":"#VALUE!"}}]
[null,null,"Logistic1",{"$f":"LN((D128/(1-D128))/(0.5/0.5))/LN(IF($E123/I123=1,0.999,$E123/I123))","v":{"$error":"#VALUE!"}}]
[null,null,"Logistic Param",0.999,null,{"$f":"0.7/0.3","v":2.3333333333333335}]
[null,null,"Score ",{"$f":"MIN(ROUND(D125*Construction!$I$2,0),$I126)","v":{"$error":"#N/A"}},{"$f":"MIN(ROUND(E125*Construction!$I$2,0),$I126)","v":{"$error":"#VALUE!"}},{"$f":"MIN(ROUND(F125*Construction!$I$2,0),$I126)","v":{"$error":"#N/A"}},{"$f":"MIN(ROUND(G125*Construction!$I$2,0),$I126)","v":{"$error":"#VALUE!"}},{"$f":"MIN(ROUND(H125*Construction!$I$2,0),$I126)","v":{"$error":"#VALUE!"}},{"$f":"MIN(ROUND(I125*Construction!$I$2,0),$I126)","v":{"$error":"#VALUE!"}}]
[]
[null,null,"HC and Grade",{"$f":"IF($B$139,0,1)","v":1},{"$f":"IF($B$139,0,1)","v":1},1,1,{"$f":"IF($I$2=\"Existing\",(D131),(IF($I$2=\"Design 1\",(F131),(IF($I$2=\"Design 2\",(G131),(IF($I$2=\"Optimal\",(I131),E131)))))))","v":1},{"$f":"IF($B$139,0,1)","v":1}]
["HC?",null,"HC and VC Crest type I",{"$f":"IF(AND($B$139=1,SIGN(D$40)=1,ABS(D$40)<=ABS(D$40-D$41),D$46=\"Crest\"),1,0)","v":0},{"$f":"IF(AND($B$139=1,SIGN(IF(ISNUMBER(E$40),E$40,0))=1,\n  ABS(IF(ISNUMBER(E$40),E$40,0))<=ABS(IF(ISNUMBER(E$40),E$40,0)-IF(ISNUMBER(E$41),E$41,0)),E$46=\"Crest\"),\n  1,0)","v":0},{"$f":"IF(AND($B$139=1,SIGN(F$40)=1,ABS(F$40)<=ABS(F$40-F$41),F$46=\"Crest\"),1,0)","v":0},{"$f":"IF(AND($B$139=1,SIGN(G$40)=1,ABS(G$40)<=ABS(G$40-G$41),G$46=\"Crest\"),1,0)","v":0},{"$f":"IF($I$2=\"Existing\",(D132),(IF($I$2=\"Design 1\",(F132),(IF($I$2=\"Design 2\",(G132),(IF($I$2=\"Optimal\",(I132),E132)))))))","v":0},{"$f":"IF(AND($B$138=1,SIGN(I$40)=1,ABS(I$40)<=ABS(I$40-IF(ISNUMBER(I$41), I$41,0)),I$46=\"Crest\"),1,0)","v":{"$error":"#VALUE!"}},null,{"$f":"INDEX($D132:$I132,K$100)","v":0},{"$f":"INDEX($D132:$I132,L$100)","v":0},{"$f":"IF(ISERROR(1-L132/K132), 0, 1-L132/K132)","v":0}]
["VC?",null,"HC and VC Sag type I",{"$f":"IF(AND($B$139=1,SIGN(D$40)=1,ABS(D$40)<=ABS(D$40-D$41),D$46=\"Sag\"),1,0)","v":0},{"$f":"IF(AND($B$139=1,SIGN(IF(ISNUMBER(E$40),E$40,0))=1,\n  ABS(IF(ISNUMBER(E$40),E$40,0))<=ABS(IF(ISNUMBER(E$40),E$40,0)-IF(ISNUMBER(E$41),E$41,0)),E$46=\"Sag\"),\n  1,0)","v":0},{"$f":"IF(AND($B$139=1,SIGN(F$40)=1,ABS(F$40)<=ABS(F$40-F$41),F$46=\"Sag\"),1,0)","v":0},{"$f":"IF(AND($B$139=1,SIGN(G$40)=1,ABS(G$40)<=ABS(G$40-G$41),G$46=\"Sag\"),1,0)","v":0},{"$f":"IF($I$2=\"Existing\",(D133),(IF($I$2=\"Design 1\",(F133),(IF($I$2=\"Design 2\",(G133),(IF($I$2=\"Optimal\",(I133),E133)))))))","v":0},{"$f":"IF(AND($B$138=1,SIGN(I$40)=1,ABS(I$40)<=ABS(I$40-IF(ISNUMBER(I$41), I$41,0)),I$46=\"Sag\"),1,0)","v":{"$error":"#VALUE!"}},null,{"$f":"INDEX($D133:$I133,K$100)","v":0},{"$f":"INDEX($D133:$I133,L$100)","v":0},0]
[null,null,"HC and VC Crest type II",{"$f":"IF(AND($B$139=1,D$46=\"Crest\",D$132=0),1,0)","v":0},{"$f":"IF(AND($B$139=1,E$46=\"Crest\",E$132=0),1,0)","v":0},{"$f":"IF(AND($B$139=1,F$46=\"Crest\",F$132=0),1,0)","v":0},{"$f":"IF(AND($B$139=1,G$46=\"Crest\",G$132=0),1,0)","v":0},{"$f":"IF($I$2=\"Existing\",(D134),(IF($I$2=\"Design 1\",(F134),(IF($I$2=\"Design 2\",(G134),(IF($I$2=\"Optimal\",(I134),E134)))))))","v":0},{"$f":"IF(AND($B$139=1,I$46=\"Crest\",I$132=0),1,0)","v":{"$error":"#VALUE!"}},null,{"$f":"INDEX($D134:$I134,K$100)","v":0},{"$f":"INDEX($D134:$I134,L$100)","v":0},0]
[null,null,"HC and VC Sag type II",{"$f":"IF(AND($B$139=1,D$46=\"Sag\",D$133=0),1,0)","v":0},{"$f":"IF(AND($B$139=1,E$46=\"Sag\",E$133=0),1,0)","v":0},{"$f":"IF(AND($B$139=1,F$46=\"Sag\",F$133=0),1,0)","v":0},{"$f":"IF(AND($B$139=1,G$46=\"Sag\",G$133=0),1,0)","v":0},{"$f":"IF($I$2=\"Existing\",(D135),(IF($I$2=\"Design 1\",(F135),(IF($I$2=\"Design 2\",(G135),(IF($I$2=\"Optimal\",(I135),E135)))))))","v":0},{"$f":"IF(AND($B$139=1,I$46=\"Sag\",I$133=0),1,0)","v":{"$error":"#VALUE!"}},null,{"$f":"INDEX($D135:$I135,K$100)","v":0},{"$f":"INDEX($D135:$I135,L$100)","v":0},0]
[null,"Yes/No"]
[null,null,"HC and VC:"]
[null,{"$f":"IF(B31=\"Yes\",1,0)","v":0},"HC and Grade",{"$f":"IF($B$139=0,\n  EXP(0.042*ABS(D$40)\n    +$B$138*0.16*LN(2*5730/IF(ISNUMBER(D$33),D$33,1))*$B$138\n    +4.16*$B$138/IF(ISNUMBER(D$33),D$33,1)/IF( AND(ISNUMBER(D$34),D$34<>0),D$34,1)),\n  1)","v":1},{"$f":"IF($B$139=0,\n  EXP(0.042*ABS(D$40)\n    +$B$138*0.16*LN(2*5730/IF(ISNUMBER(E$33),E$33,1))*$B$138\n    +4.16*$B$138/IF(ISNUMBER(E$33),E$33,1)/IF( AND(ISNUMBER(E$34),E$34<>0),E$34,1)),\n  1)","v":1},{"$f":"IF($B$139=0,\n  EXP(0.042*ABS(F$40)\n    +$B$138*0.16*LN(2*5730/IF(ISNUMBER(F$33),F$33,1))*$B$138\n    +4.16*$B$138/IF(ISNUMBER(F$33),F$33,1)/IF( AND(ISNUMBER(F$34),F$34<>0),F$34,1)),\n  1)","v":1},{"$f":"IF($B$139=0,\n  EXP(0.042*ABS(G$40)\n    +$B$138*0.16*LN(2*5730/IF(ISNUMBER(G$33),G$33,1))*$B$138\n    +4.16*$B$138/IF(ISNUMBER(G$33),G$33,1)/IF( AND(ISNUMBER(G$34),G$34<>0),G$34,1)),\n  1)","v":1},null,{"$f":"IF($B$139=0,\n  EXP(0.042*ABS(I$40)\n    +$B$138*0.16*LN(2*5730/IF(ISNUMBER(I$33),I$33,1))*$B$138\n    +4.16*$B$138/IF(ISNUMBER(I$33),I$33,1)/IF( AND(ISNUMBER(I$34),I$34<>0),I$34,1)),\n  1)","v":{"$error":"#VALUE!"}},null,{"$f":"INDEX($D138:$I138,K$100)","v":1},{"$f":"INDEX($D138:$I138,L$100)","v":1},{"$f":"IF(ISERROR(1-L138/K138), 0, 1-L138/K138)","v":0},null,0]
[null,{"$f":"IF(B38=\"Yes\",1,0)","v":0},"HC and VC Crest type I",{"$f":"IF($B$139=0,1,EXP(0.005648908*5730*ABS(+D$40-D$41)*$B$139/D$145*$B$138))","v":1},{"$f":"IF($B$139=0,1,EXP(0.005648908*5730*ABS(+E$40-E$41)*$B$139/E$145*$B$138))","v":1},1,1,{"$f":"IF($I$2=\"Existing\",(D139),(IF($I$2=\"Design 1\",(F139),(IF($I$2=\"Design 2\",(G139),(IF($I$2=\"Optimal\",(I139),E139)))))))","v":1},1,null,{"$f":"INDEX($D139:$I139,K$100)","v":1},{"$f":"INDEX($D139:$I139,L$100)","v":1},0,null,0]
[null,null,"HC and VC Sag type I",{"$f":"IF($B$139=0,1,EXP(9.15857042*$B$139/D$146+0.010284958*5730*$B$139*$B$138*ABS(+D$40-D$41)/D$145))","v":1},{"$f":"IF($B$139=0,1,EXP(9.15857042*$B$139/E$146+0.010284958*5730*$B$139*$B$138*ABS(+E$40-E$41)/E$145))","v":1},1,1,{"$f":"IF($I$2=\"Existing\",(D140),(IF($I$2=\"Design 1\",(F140),(IF($I$2=\"Design 2\",(G140),(IF($I$2=\"Optimal\",(I140),E140)))))))","v":1},1,null,{"$f":"INDEX($D140:$I140,K$100)","v":1},{"$f":"INDEX($D140:$I140,L$100)","v":1},0,null,0]
[null,null,"HC and VC Crest type II",{"$f":"IF($B$139=0,1,EXP(0.005648908*5730*ABS(+D$40-D$41)*$B$139/D$145*$B$138))","v":1},{"$f":"IF($B$139=0,1,EXP(0.005648908*5730*ABS(+E$40-E$41)*$B$139/E$145*$B$138))","v":1},1,1,{"$f":"IF($I$2=\"Existing\",(D141),(IF($I$2=\"Design 1\",(F141),(IF($I$2=\"Design 2\",(G141),(IF($I$2=\"Optimal\",(I141),E141)))))))","v":1},1,null,{"$f":"INDEX($D141:$I141,K$100)","v":1},{"$f":"INDEX($D141:$I141,L$100)","v":1},0,null,0]
[null,null,"HC and VC Sag type II",{"$f":"IF($B$139=0,1,(0.246011284*EXP(LN(0.188*2*5730/D$145)*$B$138)+0.753988716*EXP(0.022*5730/D$145*ABS(D$40-D$41)*$B$139*$B$138)))","v":1},{"$f":"IF($B$139=0,1,(0.246011284*EXP(LN(0.188*2*5730/E$145)*$B$138)+0.753988716*EXP(0.022*5730/E$145*ABS(E$40-E$41)*$B$139*$B$138)))","v":1},1,1,{"$f":"IF($I$2=\"Existing\",(D142),(IF($I$2=\"Design 1\",(F142),(IF($I$2=\"Design 2\",(G142),(IF($I$2=\"Optimal\",(I142),E142)))))))","v":1},1,null,{"$f":"INDEX($D142:$I142,K$100)","v":1},{"$f":"INDEX($D142:$I142,L$100)","v":1},0,null,0]
[]
[null,null,"Combined HZ and VT",{"$f":"MMULT(TRANSPOSE(D131:D135),D138:D142)","v":1},{"$f":"MMULT(TRANSPOSE(E131:E135),E138:E142)","v":1},{"$f":"MMULT(TRANSPOSE(F131:F135),F138:F142)","v":1},{"$f":"MMULT(TRANSPOSE(G131:G135),G138:G142)","v":1},{"$f":"IF($I$2=\"Existing\",(D144),(IF($I$2=\"Design 1\",(F144),(IF($I$2=\"Design 2\",(G144),(IF($I$2=\"Optimal\",(I144),E144)))))))","v":1},{"$f":"MMULT(TRANSPOSE(I131:I135),I138:I142)","v":{"$error":"#VALUE!"}},null,{"$f":"INDEX($D144:$I144,K$100)","v":1},{"$f":"INDEX($D144:$I144,L$100)","v":1},{"$f":"IF(ISERROR(1-L144/K144), 0, 1-L144/K144)","v":0},null,0]
[null,null,"effective R for calculation",{"$f":"IF(ISNUMBER(D33), D33, 99999999)","v":99999999},{"$f":"IF(ISNUMBER(E33), E33, 99999999)","v":590},99999999,99999999,null,590]
[null,null,"effective K for calculation",{"$f":"IF(ISNUMBER(D43), D43, 99999999)","v":99999999},{"$f":"IF(ISNUMBER(E43), E43, 99999999)","v":99999999},99999999,99999999,null,99999999]
[null,"Traffic"]
[null,null,null,"Existing","Standard","Design 1","Design 2"]
[null,null,"Advance static curve warning signs",{"$f":"IF(D24=INDEX(MedConf_Header,1,2),IF(AND($B$31=\"Yes\",D$56=\"Yes\"),(Traffic!$F$4-1)*AVERAGE(Constraints!$F$24,Constraints!$H$24)/Constraints!$D$24+1,1),(IF(AND($B$31=\"Yes\",D$56=\"Yes\"),(Traffic!$F$4-1)*AVERAGE(Constraints!$F$38,Constraints!$H$38)/Constraints!$D$38+1,1)))","v":1},{"$f":"IF(AND($B$31=\"Yes\",E$56=\"Yes\"),(Traffic!$F$4-1)*AVERAGE(Constraints!$F$24,Constraints!$H$24)/Constraints!$D$24+1,1)","v":1},{"$f":"IF(F24=INDEX(MedConf_Header,1,2),IF(AND($B$31=\"Yes\",F$56=\"Yes\"),(Traffic!$F$4-1)*AVERAGE(Constraints!$F$24,Constraints!$H$24)/Constraints!$D$24+1,1),(IF(AND($B$31=\"Yes\",F$56=\"Yes\"),(Traffic!$F$4-1)*AVERAGE(Constraints!$F$38,Constraints!$H$38)/Constraints!$D$38+1,1)))","v":1},{"$f":"IF(G24=INDEX(MedConf_Header,1,2),IF(AND($B$31=\"Yes\",G$56=\"Yes\"),(Traffic!$F$4-1)*AVERAGE(Constraints!$F$24,Constraints!$H$24)/Constraints!$D$24+1,1),(IF(AND($B$31=\"Yes\",G$56=\"Yes\"),(Traffic!$F$4-1)*AVERAGE(Constraints!$F$38,Constraints!$H$38)/Constraints!$D$38+1,1)))","v":1},{"$f":"IF($I$2=\"Existing\",(D149),(IF($I$2=\"Design 1\",(F149),(IF($I$2=\"Design 2\",(G149),(IF($I$2=\"Optimal\",(I149),E149)))))))","v":1},{"$f":"IF(AND($B$31=\"Yes\",I$56=\"Yes\"),(Traffic!$F$4-1)*AVERAGE(Constraints!$F$24,Constraints!$H$24)/Constraints!$D$24+1,1)","v":1},null,{"$f":"INDEX($D149:$I149,K$100)","v":1},{"$f":"INDEX($D149:$I149,L$100)","v":1},{"$f":"IF(ISERROR(1-L149/K149), 0, 1-L149/K149)","v":0},null,0]
[null,null,"Install chevron signs on horizontal curves",{"$f":"IF(D24=INDEX(MedConf_Header,1,2),(IF(D$57=\"No\",1,(IF(AND($B$31=\"Yes\",D$27<11.5),((Traffic!$F$6-1)*(Constraints!$E$18+Constraints!$E$22))+1,1)))),(IF(D$57=\"No\",1,(IF(AND($B$31=\"Yes\",D$27<11.5),((Traffic!$F$6-1)*(Constraints!$E$32+Constraints!$E$36))+1,1)))))","v":1},{"$f":"IF(E$57=\"No\",1,(IF(AND($B$31=\"Yes\",E$27<11.5),((Traffic!$F$6-1)*(Constraints!$E$18+Constraints!$E$22))+1,1)))","v":1},{"$f":"IF(F24=INDEX(MedConf_Header,1,2),(IF(F$57=\"No\",1,(IF(AND($B$31=\"Yes\",F$27<11.5),((Traffic!$F$6-1)*(Constraints!$E$18+Constraints!$E$22))+1,1)))),(IF(F$57=\"No\",1,(IF(AND($B$31=\"Yes\",F$27<11.5),((Traffic!$F$6-1)*(Constraints!$E$32+Constraints!$E$36))+1,1)))))","v":1},{"$f":"IF(G24=INDEX(MedConf_Header,1,2),(IF(G$57=\"No\",1,(IF(AND($B$31=\"Yes\",G$27<11.5),((Traffic!$F$6-1)*(Constraints!$E$18+Constraints!$E$22))+1,1)))),(IF(G$57=\"No\",1,(IF(AND($B$31=\"Yes\",G$27<11.5),((Traffic!$F$6-1)*(Constraints!$E$32+Constraints!$E$36))+1,1)))))","v":1},{"$f":"IF($I$2=\"Existing\",(D150),(IF($I$2=\"Design 1\",(F150),(IF($I$2=\"Design 2\",(G150),(IF($I$2=\"Optimal\",(I150),E150)))))))","v":1},{"$f":"IF(I$57=\"No\",1,(IF(AND($B$31=\"Yes\",I$27<11.5),((Traffic!$F$6-1)*(Constraints!$E$18+Constraints!$E$22))+1,1)))","v":1},null,{"$f":"INDEX($D150:$I150,K$100)","v":1},{"$f":"INDEX($D150:$I150,L$100)","v":1},0,null,0]
[null,null,"Install post-mounted delineators",{"$f":"IF(D24=INDEX(MedConf_Header,1,2),IF(AND($B$31=\"Yes\",D$58=\"Yes\"),(Traffic!$F$12-1)*Constraints!$E$17+1,1),(IF(AND($B$31=\"Yes\",D$58=\"Yes\"),(Traffic!$F$12-1)*Constraints!$E$31+1,1)))","v":1},{"$f":"IF(AND($B$31=\"Yes\",E$58=\"Yes\"),(Traffic!$F$12-1)*Constraints!$E$17+1,1)","v":1},{"$f":"IF(F24=INDEX(MedConf_Header,1,2),IF(AND($B$31=\"Yes\",F$58=\"Yes\"),(Traffic!$F$12-1)*Constraints!$E$17+1,1),(IF(AND($B$31=\"Yes\",F$58=\"Yes\"),(Traffic!$F$12-1)*Constraints!$E$31+1,1)))","v":1},{"$f":"IF(G24=INDEX(MedConf_Header,1,2),IF(AND($B$31=\"Yes\",G$58=\"Yes\"),(Traffic!$F$12-1)*Constraints!$E$17+1,1),(IF(AND($B$31=\"Yes\",G$58=\"Yes\"),(Traffic!$F$12-1)*Constraints!$E$31+1,1)))","v":1},{"$f":"IF($I$2=\"Existing\",(D151),(IF($I$2=\"Design 1\",(F151),(IF($I$2=\"Design 2\",(G151),(IF($I$2=\"Optimal\",(I151),E151)))))))","v":1},{"$f":"IF(AND($B$31=\"Yes\",I$58=\"Yes\"),(Traffic!$F$12-1)*Constraints!$E$17+1,1)","v":1},null,{"$f":"INDEX($D151:$I151,K$100)","v":1},{"$f":"INDEX($D151:$I151,L$100)","v":1},0,null,0]
[null,null,"Install edgeline  or Profile pavement markings ",{"$f":"IF(D24=INDEX(MedConf_Header,1,2),(IF(D$59=\"Yes\",Traffic!$F$18*0.5+((Traffic!$F$20*(Constraints!$H$17+Constraints!$H$20+Constraints!$H$21)+1*(Constraints!$H$24-(Constraints!$H$17+Constraints!$H$20+Constraints!$H$21)))/Constraints!$H$24)*0.5,1)),(IF(D$59=\"Yes\",Traffic!$F$18*0.5+((Traffic!$F$20*(Constraints!$H$31+Constraints!$H$34+Constraints!$H$35)+1*(Constraints!$H$38-(Constraints!$H$31+Constraints!$H$34+Constraints!$H$35)))/Constraints!$H$38)*0.5,1)))","v":1},{"$f":"IF(E24=INDEX(MedConf_Header,1,2),(IF(E$59=\"Yes\",Traffic!$F$18*0.5+((Traffic!$F$20*(Constraints!$H$17+Constraints!$H$20+Constraints!$H$21)+1*(Constraints!$H$24-(Constraints!$H$17+Constraints!$H$20+Constraints!$H$21)))/Constraints!$H$24)*0.5,1)),(IF(E$59=\"Yes\",Traffic!$F$18*0.5+((Traffic!$F$20*(Constraints!$H$31+Constraints!$H$34+Constraints!$H$35)+1*(Constraints!$H$38-(Constraints!$H$31+Constraints!$H$34+Constraints!$H$35)))/Constraints!$H$38)*0.5,1)))","v":1},{"$f":"IF(F24=INDEX(MedConf_Header,1,2),(IF(F$59=\"Yes\",Traffic!$F$18*0.5+((Traffic!$F$20*(Constraints!$H$17+Constraints!$H$20+Constraints!$H$21)+1*(Constraints!$H$24-(Constraints!$H$17+Constraints!$H$20+Constraints!$H$21)))/Constraints!$H$24)*0.5,1)),(IF(F$59=\"Yes\",Traffic!$F$18*0.5+((Traffic!$F$20*(Constraints!$H$31+Constraints!$H$34+Constraints!$H$35)+1*(Constraints!$H$38-(Constraints!$H$31+Constraints!$H$34+Constraints!$H$35)))/Constraints!$H$38)*0.5,1)))","v":1},{"$f":"IF(G24=INDEX(MedConf_Header,1,2),(IF(G$59=\"Yes\",Traffic!$F$18*0.5+((Traffic!$F$20*(Constraints!$H$17+Constraints!$H$20+Constraints!$H$21)+1*(Constraints!$H$24-(Constraints!$H$17+Constraints!$H$20+Constraints!$H$21)))/Constraints!$H$24)*0.5,1)),(IF(G$59=\"Yes\",Traffic!$F$18*0.5+((Traffic!$F$20*(Constraints!$H$31+Constraints!$H$34+Constraints!$H$35)+1*(Constraints!$H$38-(Constraints!$H$31+Constraints!$H$34+Constraints!$H$35)))/Constraints!$H$38)*0.5,1)))","v":1},{"$f":"IF($I$2=\"Existing\",(D152),(IF($I$2=\"Design 1\",(F152),(IF($I$2=\"Design 2\",(G152),(IF($I$2=\"Optimal\",(I152),E152)))))))","v":1},{"$f":"IF(I24=INDEX(MedConf_Header,1,2),(IF(I$59=\"Yes\",Traffic!$F$18*0.5+((Traffic!$F$20*(Constraints!$H$17+Constraints!$H$20+Constraints!$H$21)+1*(Constraints!$H$24-(Constraints!$H$17+Constraints!$H$20+Constraints!$H$21)))/Constraints!$H$24)*0.5,1)),(IF(I$59=\"Yes\",Traffic!$F$18*0.5+((Traffic!$F$20*(Constraints!$H$31+Constraints!$H$34+Constraints!$H$35)+1*(Constraints!$H$38-(Constraints!$H$31+Constraints!$H$34+Constraints!$H$35)))/Constraints!$H$38)*0.5,1)))","v":0.87439641434262949},null,{"$f":"INDEX($D152:$I152,K$100)","v":1},{"$f":"INDEX($D152:$I152,L$100)","v":1},0,null,0.13824118691351761]
[null,null,"Profiles",1,1,1,1,1,1,null,{"$f":"INDEX($D153:$I153,K$100)","v":1},{"$f":"INDEX($D153:$I153,L$100)","v":1},0,null,0]
[null,null,"Shoulder rumble strips",{"$f":"IF(D24=INDEX(MedConf_Header,1,2),(IF(D$60=\"No\",1,(Traffic!$F$27*(Constraints!$H$17+Constraints!$H$20+Constraints!$H$21)+1*(Constraints!$H$24-(Constraints!$H$17+Constraints!$H$20+Constraints!$H$21)))/Constraints!$H$24)),(IF(D$60=\"No\",1,(Traffic!$F$27*(Constraints!$H$31+Constraints!$H$34+Constraints!$H$35)+1*(Constraints!$H$38-(Constraints!$H$31+Constraints!$H$34+Constraints!$H$35)))/Constraints!$H$38)))","v":0.93956289460903353},{"$f":"IF(E$60=\"No\",1,(Traffic!$F$27*(Constraints!$H$17+Constraints!$H$20+Constraints!$H$21)+1*(Constraints!$H$24-(Constraints!$H$17+Constraints!$H$20+Constraints!$H$21)))/Constraints!$H$24)","v":0.91807038512616201},{"$f":"IF(F24=INDEX(MedConf_Header,1,2),(IF(F$60=\"No\",1,(Traffic!$F$27*(Constraints!$H$17+Constraints!$H$20+Constraints!$H$21)+1*(Constraints!$H$24-(Constraints!$H$17+Constraints!$H$20+Constraints!$H$21)))/Constraints!$H$24)),(IF(F$60=\"No\",1,(Traffic!$F$27*(Constraints!$H$31+Constraints!$H$34+Constraints!$H$35)+1*(Constraints!$H$38-(Constraints!$H$31+Constraints!$H$34+Constraints!$H$35)))/Constraints!$H$38)))","v":0.93956289460903353},{"$f":"IF(G24=INDEX(MedConf_Header,1,2),(IF(G$60=\"No\",1,(Traffic!$F$27*(Constraints!$H$17+Constraints!$H$20+Constraints!$H$21)+1*(Constraints!$H$24-(Constraints!$H$17+Constraints!$H$20+Constraints!$H$21)))/Constraints!$H$24)),(IF(G$60=\"No\",1,(Traffic!$F$27*(Constraints!$H$31+Constraints!$H$34+Constraints!$H$35)+1*(Constraints!$H$38-(Constraints!$H$31+Constraints!$H$34+Constraints!$H$35)))/Constraints!$H$38)))","v":0.93956289460903353},{"$f":"IF($I$2=\"Existing\",(D154),(IF($I$2=\"Design 1\",(F154),(IF($I$2=\"Design 2\",(G154),(IF($I$2=\"Optimal\",(I154),E154)))))))","v":0.91807038512616201},{"$f":"IF(I$60=\"No\",1,(Traffic!$F$27*(Constraints!$H$17+Constraints!$H$20+Constraints!$H$21)+1*(Constraints!$H$24-(Constraints!$H$17+Constraints!$H$20+Constraints!$H$21)))/Constraints!$H$24)","v":0.91807038512616201},null,{"$f":"INDEX($D154:$I154,K$100)","v":0.93956289460903353},{"$f":"INDEX($D154:$I154,L$100)","v":0.91807038512616201},2.2875008800570917E-2,null,0]
[null,null,"Install centerline rumble strips",{"$f":"IF(D24=INDEX(MedConf_Header,1,3),(IF(D$61=\"No\",1,(Traffic!$E$81*(Constraints!$H$31+Constraints!$H$34+Constraints!$H$35)+1*(Constraints!$H$38-(Constraints!$H$31+Constraints!$H$34+Constraints!$H$35)))/Constraints!$H$38)+0.001),1)","v":1},{"$f":"IF(E24=INDEX(MedConf_Header,1,3),(IF(E$61=\"No\",1,(Traffic!$E$81*(Constraints!$H$31+Constraints!$H$34+Constraints!$H$35)+1*(Constraints!$H$38-(Constraints!$H$31+Constraints!$H$34+Constraints!$H$35)))/Constraints!$H$38)+0.001),1)","v":1},{"$f":"IF(F24=INDEX(MedConf_Header,1,3),(IF(F$61=\"No\",1,(Traffic!$E$81*(Constraints!$H$31+Constraints!$H$34+Constraints!$H$35)+1*(Constraints!$H$38-(Constraints!$H$31+Constraints!$H$34+Constraints!$H$35)))/Constraints!$H$38)+0.001),1)","v":1},{"$f":"IF(G24=INDEX(MedConf_Header,1,3),(IF(G$61=\"No\",1,(Traffic!$E$81*(Constraints!$H$31+Constraints!$H$34+Constraints!$H$35)+1*(Constraints!$H$38-(Constraints!$H$31+Constraints!$H$34+Constraints!$H$35)))/Constraints!$H$38)+0.001),1)","v":1},{"$f":"IF($I$2=\"Existing\",(D155),(IF($I$2=\"Design 1\",(F155),(IF($I$2=\"Design 2\",(G155),(IF($I$2=\"Optimal\",(I155),E155)))))))","v":1},{"$f":"IF(I24=INDEX(MedConf_Header,1,3),(IF(I$61=\"No\",1,(Traffic!$E$81*(Constraints!$H$31+Constraints!$H$34+Constraints!$H$35)+1*(Constraints!$H$38-(Constraints!$H$31+Constraints!$H$34+Constraints!$H$35)))/Constraints!$H$38)+0.001),1)","v":1},null,{"$f":"INDEX($D155:$I155,K$100)","v":1},{"$f":"INDEX($D155:$I155,L$100)","v":1},0,null,-0.16279069767441867]
[null,null,"Driveway Density (driveways per mile)",{"$f":"EXP(-LN(Traffic!$F$31)*(D$62-$E$62))","v":0.81707280688754669},{"$f":"EXP(-LN(Traffic!$F$31)*(E$62-$E$62))","v":1},{"$f":"EXP(-LN(Traffic!$F$31)*(F$62-$E$62))","v":0.81707280688754669},{"$f":"EXP(-LN(Traffic!$F$31)*(G$62-$E$62))","v":0.81707280688754669},{"$f":"IF($I$2=\"Existing\",(D156),(IF($I$2=\"Design 1\",(F156),(IF($I$2=\"Design 2\",(G156),(IF($I$2=\"Optimal\",(I156),E156)))))))","v":1},{"$f":"EXP(-LN(Traffic!$F$31)*(I$62-$E$62))","v":0.81707280688754669},null,{"$f":"INDEX($D156:$I156,K$100)","v":0.81707280688754669},{"$f":"INDEX($D156:$I156,L$100)","v":1},-0.22388114201141129,null,-0.22388114201141129]
[null,null,"Install lighting",{"$f":"IF(D24=INDEX(MedConf_Header,1,2),(IF(D$63=\"No\",1,1-(((1-Traffic!$F$54*Constraints!$H$24-Constraints!$F$24/3)+((1-Traffic!$F$54*Constraints!$D$24-Constraints!$H$24)))*$S$19+((1-Traffic!$F$56)*Constraints!$F$24/3))/Constraints!$D$24)),(IF(D$63=\"No\",1,1-(((1-Traffic!$F$54*Constraints!$H$38-Constraints!$F$38/3)+((1-Traffic!$F$54*Constraints!$D$38-Constraints!$H$38)))*$S$19+((1-Traffic!$F$56)*Constraints!$F$38/3))/Constraints!$D$38)))","v":0.98319080068143105},{"$f":"IF(E$63=\"No\",1,1-(((1-Traffic!$F$54*Constraints!$H$24-Constraints!$F$24/3)+((1-Traffic!$F$54*Constraints!$D$24-Constraints!$H$24)))*$S$19+((1-Traffic!$F$56)*Constraints!$F$24/3))/Constraints!$D$24)","v":1},{"$f":"IF(F24=INDEX(MedConf_Header,1,2),(IF(F$63=\"No\",1,1-(((1-Traffic!$F$54*Constraints!$H$24-Constraints!$F$24/3)+((1-Traffic!$F$54*Constraints!$D$24-Constraints!$H$24)))*$S$19+((1-Traffic!$F$56)*Constraints!$F$24/3))/Constraints!$D$24)),(IF(F$63=\"No\",1,1-(((1-Traffic!$F$54*Constraints!$H$38-Constraints!$F$38/3)+((1-Traffic!$F$54*Constraints!$D$38-Constraints!$H$38)))*$S$19+((1-Traffic!$F$56)*Constraints!$F$38/3))/Constraints!$D$38)))","v":0.98319080068143105},{"$f":"IF(G24=INDEX(MedConf_Header,1,2),(IF(G$63=\"No\",1,1-(((1-Traffic!$F$54*Constraints!$H$24-Constraints!$F$24/3)+((1-Traffic!$F$54*Constraints!$D$24-Constraints!$H$24)))*$S$19+((1-Traffic!$F$56)*Constraints!$F$24/3))/Constraints!$D$24)),(IF(G$63=\"No\",1,1-(((1-Traffic!$F$54*Constraints!$H$38-Constraints!$F$38/3)+((1-Traffic!$F$54*Constraints!$D$38-Constraints!$H$38)))*$S$19+((1-Traffic!$F$56)*Constraints!$F$38/3))/Constraints!$D$38)))","v":0.98319080068143105},{"$f":"IF($I$2=\"Existing\",(D157),(IF($I$2=\"Design 1\",(F157),(IF($I$2=\"Design 2\",(G157),(IF($I$2=\"Optimal\",(I157),E157)))))))","v":1},{"$f":"IF(I$63=\"No\",1,1-(((1-Traffic!$F$54*Constraints!$H$24-Constraints!$F$24/3)+((1-Traffic!$F$54*Constraints!$D$24-Constraints!$H$24)))*$S$19+((1-Traffic!$F$56)*Constraints!$F$24/3))/Constraints!$D$24)","v":0.98062689234129152},null,{"$f":"INDEX($D157:$I157,K$100)","v":0.98319080068143105},{"$f":"INDEX($D157:$I157,L$100)","v":1},-1.7096579124742384E-2,null,-2.3499081529478438E-2]
[null,null,"Pavement friction (skid number)",{"$f":"EXP(LN(Traffic!$F$48)*(D$64-$E$64))","v":1.3972521419325798},{"$f":"EXP(LN(Traffic!$F$48)*(E$64-$E$64))","v":1},{"$f":"IF(MATCH(F64,SkidNums,0)=3, $D158,EXP(LN([5]Traffic!$F$49)*(RIGHT(F$64,2)-$E$64)))","v":{"$error":"#N/A"}},{"$f":"IF(MATCH(G64,SkidNums,0)=3, $D158,EXP(LN([5]Traffic!$F$49)*(RIGHT(G$64,2)-$E$64)))","v":{"$error":"#N/A"}},{"$f":"IF($I$2=\"Existing\",(D158),(IF($I$2=\"Design 1\",(F158),(IF($I$2=\"Design 2\",(G158),(IF($I$2=\"Optimal\",(I158),E158)))))))","v":1},{"$f":"EXP(LN(Traffic!$F$48)*(I$64-$E$64))","v":0.85753553626991963},null,{"$f":"INDEX($D158:$I158,K$100)","v":1.3972521419325798},{"$f":"INDEX($D158:$I158,L$100)","v":1},0.28430956017940245,null,0]
[]
[]
[null,null,"COMBINED Calculated CMF",{"$f":"+D149*D150*D151*D152*D153*D154*D155*D156*D157*D158","v":1.0546277742651902},{"$f":"+E149*E150*E151*E152*E153*E154*E155*E156*E157*E158","v":0.91807038512616201},{"$error":"#N/A"},{"$error":"#N/A"},{"$f":"IF($I$2=\"Existing\",(D161),(IF($I$2=\"Design 1\",(F161),(IF($I$2=\"Design 2\",(G161),(IF($I$2=\"Optimal\",(I161),E161)))))))","v":0.91807038512616201},{"$f":"+I149*I150*I151*I152*I153*I154*I155*I156*I157*I158","v":0.55157049744255038},null,{"$f":"INDEX($D161:$I161,K$100)","v":1.0546277742651902},{"$f":"INDEX($D161:$I161,L$100)","v":0.91807038512616201},{"$f":"IF(ISERROR(1-L161/K161), 0, 1-L161/K161)","v":0.12948396815565966},null,0]
[null,null,"Calculated Relative to Design Standards (Column E)",{"$f":"+D161/$E$161","v":1.1487439213282784},{"$f":"+E161/$E$161","v":1},{"$error":"#N/A"},{"$error":"#N/A"},1,{"$f":"+I161/$E$161","v":0.60079325766156055},null,{"$f":"INDEX($D162:$I162,K$100)","v":1.1487439213282784},{"$f":"INDEX($D162:$I162,L$100)","v":1},0.12948396815565966,null,0]
[null,null,"P(Crash)",{"$f":"+D162/(D162+1)","v":0.53461183062622242},0.5,{"$error":"#N/A"},{"$error":"#N/A"},0.5,{"$f":"+I162/(I162+1)","v":0.37530971272280322},null,{"$f":"INDEX($D163:$I163,K$100)","v":0.53461183062622242},{"$f":"INDEX($D163:$I163,L$100)","v":0.5},6.4741984077829939E-2]
[null,null,"Factor Change on S curve",{"$f":"+D163/$E$163","v":1.0692236612524448},{"$f":"+E163/$E$163","v":1},{"$f":"+F163/$E$163","v":{"$error":"#N/A"}},{"$error":"#N/A"},1,{"$f":"+I163/$E$163","v":0.75061942544560645},null,{"$f":"INDEX($D164:$I164,K$100)","v":1.0692236612524448},{"$f":"INDEX($D164:$I164,L$100)","v":1},6.4741984077829939E-2]
[null,null,"Adjust to Scale of 100",{"$f":"+$I$118/D164*100","v":{"$error":"#VALUE!"}},{"$error":"#VALUE!"},{"$error":"#VALUE!"},{"$error":"#VALUE!"},{"$error":"#VALUE!"},{"$f":"+$I$118/I164*100","v":{"$error":"#VALUE!"}}]
[null,null,"Unadjusted Combined Relative to Standard",{"$f":"+D161/$E$161","v":1.1487439213282784},{"$f":"+E161/$E$161","v":1},{"$f":"+F161/$E$161","v":{"$error":"#N/A"}},{"$error":"#N/A"},1,{"$f":"+I161/$E$161","v":0.60079325766156055},{"$f":"I172/E172","v":1.3333333333333333},{"$f":"INDEX($D166:$I166,K$100)","v":1.1487439213282784},{"$f":"INDEX($D166:$I166,L$100)","v":1},{"$f":"IF(ISERROR(1-L166/K166), 0, 1-L166/K166)","v":0.12948396815565966}]
[null,null,null,null,null,null,null,0,null,null,{"$f":"INDEX($D167:$I167,K$100)","v":0},{"$f":"INDEX($D167:$I167,L$100)","v":0},0]
[null,null,"Adjusted for PA Basis",{"$f":"+D161*(1+1)/(1+D161*1)","v":1.0265876743950504},0.95728539707970672,{"$error":"#N/A"},{"$error":"#N/A"},0.95728539707970672,{"$f":"+I161*(1+1)/(1+I161*1)","v":0.71098348202895401},null,{"$f":"INDEX($D168:$I168,K$100)","v":1.0265876743950504},{"$f":"INDEX($D168:$I168,L$100)","v":0.95728539707970672},6.750741221998624E-2]
[null,null,"Corrected by Odds Ratio",{"$f":"+D168/$E$168","v":1.0723945831898796},{"$f":"+E168/$E$168","v":1},{"$f":"+F168/$E$168","v":{"$error":"#N/A"}},{"$error":"#N/A"},1,{"$f":"+I168/$E$168","v":0.74270795752017016},{"$f":"I175/E175","v":1.4285714285714286},{"$f":"INDEX($D169:$I169,K$100)","v":1.0723945831898796},{"$f":"INDEX($D169:$I169,L$100)","v":1},6.750741221998624E-2]
[null,null,null,{"$f":"(1/D169)^$D173","v":0.19732178070922252},{"$f":"(1/E169)^$D173","v":1},{"$error":"#N/A"},{"$error":"#N/A"},1,998.99999999999955,null,{"$f":"INDEX($D170:$I170,K$100)","v":0.19732178070922252},{"$f":"INDEX($D170:$I170,L$100)","v":1},-4.0678642591089362]
[null,null,null,{"$f":"(D170+$F174-1)/(1+(D170+$F174-1))","v":0.6048454036857811},{"$f":"(E170+$F174-1)/(1+(E170+$F174-1))","v":0.70000000000000007},{"$error":"#N/A"},{"$error":"#N/A"},0.70000000000000007,0.99900133155792281,null,{"$f":"INDEX($D171:$I171,K$100)","v":0.6048454036857811},{"$f":"INDEX($D171:$I171,L$100)","v":0.70000000000000007},-0.15732052477272696]
[null,null,"Score Odds Ratio with Optimal as 100 (old)",{"$f":"MIN(ROUND($I$169/D169*Construction!$I$3,0),$I172)","v":14},{"$f":"MIN(ROUND($I$169/E169*Construction!$I$3,0),$I172)","v":15},{"$f":"MIN(ROUND($I$169/F169*Construction!$I$3,0),$I172)","v":{"$error":"#N/A"}},{"$f":"MIN(ROUND($I$169/G169*Construction!$I$3,0),$I172)","v":{"$error":"#N/A"}},null,{"$f":"ROUND($I$169/I169*Construction!$I$3,0)","v":20}]
[null,null,"Logistic1",{"$f":"LN((D174/(1-D174))/(0.5/0.5))/LN($E169/I169)","v":23.2196999386987}]
[null,null,"Logistic Param",0.999,null,{"$f":"0.7/0.3","v":2.3333333333333335}]
[null,null,"Score ",{"$f":"MIN(ROUND(D171*Construction!$I$3,0),$I172)","v":12},{"$f":"MIN(ROUND(E171*Construction!$I$3,0),$I172)","v":14},{"$f":"MIN(ROUND(F171*Construction!$I$3,0),$I172)","v":{"$error":"#N/A"}},{"$f":"MIN(ROUND(G171*Construction!$I$3,0),$I172)","v":{"$error":"#N/A"}},null,{"$f":"MIN(ROUND(I171*Construction!$I$3,0),$I172)","v":20}]
[]
[]
[]
[]
[null,null,null,{"$f":"INDEX(MedConf_Header,1,2)","v":"Divided - Unsurfaced Median"}]
[]
[null,"Roadsde",null,"Existing","Standard","Design 1","Design 2"]
[null,null,null,{"$f":"IF(ISBLANK(D75), 0, MID(D75,FIND(\":\",D75,1)+1,FIND(\"H\",D75,1)-FIND(\":\",D75,1)-1)+0)","v":0},{"$f":"MID(E75,FIND(\":\",E75,1)+1,FIND(\"H\",E75,1)-FIND(\":\",E75,1)-1)+0","v":4},{"$f":"IF(ISBLANK(F75), 0, MID(F75,FIND(\":\",F75,1)+1,FIND(\"H\",F75,1)-FIND(\":\",F75,1)-1)+0)","v":0},{"$f":"IF(ISBLANK(G75), 0, MID(G75,FIND(\":\",G75,1)+1,FIND(\"H\",G75,1)-FIND(\":\",G75,1)-1)+0)","v":0},null,{"$f":"MID(I75,FIND(\":\",I75,1)+1,FIND(\"H\",I75,1)-FIND(\":\",I75,1)-1)+0","v":6},null,null,null,null,null,0]
[null,null,"Sideslope (Foreslope)",{"$f":"IF(D24=INDEX(MedConf_Header,1,2),(IF(D183<=3,1,IF(OR(D183=4,D183=5),(Roadside!$F$15-1)*Constraints!$H$24/Constraints!$D$24+1,(Roadside!$F$15*Roadside!$F$16-1)*Constraints!$H$24/Constraints!$D$24+1))),(IF(D183<=3,1,IF(OR(D183=4,D183=5),(Roadside!$F$15-1)*Constraints!$H$38/Constraints!$D$38+1,(Roadside!$F$15*Roadside!$F$16-1)*Constraints!$H$38/Constraints!$D$38+1))))","v":1},{"$f":"IF(E24=INDEX(MedConf_Header,1,2),(IF(E183<=3,1,IF(OR(E183=4,E183=5),(Roadside!$F$15-1)*Constraints!$H$24/Constraints!$D$24+1,(Roadside!$F$15*Roadside!$F$16-1)*Constraints!$H$24/Constraints!$D$24+1))),(IF(E183<=3,1,IF(OR(E183=4,E183=5),(Roadside!$F$15-1)*Constraints!$H$38/Constraints!$D$38+1,(Roadside!$F$15*Roadside!$F$16-1)*Constraints!$H$38/Constraints!$D$38+1))))","v":0.84302377525189853},{"$f":"IF(F24=INDEX(MedConf_Header,1,2),(IF(F183<=3,1,IF(OR(F183=4,F183=5),(Roadside!$F$15-1)*Constraints!$H$24/Constraints!$D$24+1,(Roadside!$F$15*Roadside!$F$16-1)*Constraints!$H$24/Constraints!$D$24+1))),(IF(F183<=3,1,IF(OR(F183=4,F183=5),(Roadside!$F$15-1)*Constraints!$H$38/Constraints!$D$38+1,(Roadside!$F$15*Roadside!$F$16-1)*Constraints!$H$38/Constraints!$D$38+1))))","v":1},{"$f":"IF(G24=INDEX(MedConf_Header,1,2),(IF(G183<=3,1,IF(OR(G183=4,G183=5),(Roadside!$F$15-1)*Constraints!$H$24/Constraints!$D$24+1,(Roadside!$F$15*Roadside!$F$16-1)*Constraints!$H$24/Constraints!$D$24+1))),(IF(G183<=3,1,IF(OR(G183=4,G183=5),(Roadside!$F$15-1)*Constraints!$H$38/Constraints!$D$38+1,(Roadside!$F$15*Roadside!$F$16-1)*Constraints!$H$38/Constraints!$D$38+1))))","v":1},{"$f":"IF($I$2=\"Existing\",(D184),(IF($I$2=\"Design 1\",(F184),(IF($I$2=\"Design 2\",(G184),(IF($I$2=\"Optimal\",(I184),E184)))))))","v":0.84302377525189853},{"$f":"IF(I24=INDEX(MedConf_Header,1,2),(IF(I183<=3,1,IF(OR(I183=4,I183=5),(Roadside!$F$15-1)*Constraints!$H$24/Constraints!$D$24+1,(Roadside!$F$15*Roadside!$F$16-1)*Constraints!$H$24/Constraints!$D$24+1))),(IF(I183<=3,1,IF(OR(I183=4,I183=5),(Roadside!$F$15-1)*Constraints!$H$38/Constraints!$D$38+1,(Roadside!$F$15*Roadside!$F$16-1)*Constraints!$H$38/Constraints!$D$38+1))))","v":0.79533290316176108},null,{"$f":"INDEX($D184:$I184,K$100)","v":1},{"$f":"INDEX($D184:$I184,L$100)","v":0.84302377525189853},{"$f":"IF(ISERROR(1-L184/K184), 0, 1-L184/K184)","v":0.15697622474810147},null,0]
[null,null,"Backslope",1,1,1,1,{"$f":"IF($I$2=\"Existing\",(D185),(IF($I$2=\"Design 1\",(F185),(IF($I$2=\"Design 2\",(G185),(IF($I$2=\"Optimal\",(I185),E185)))))))","v":1},1,null,{"$f":"INDEX($D185:$I185,K$100)","v":1},{"$f":"INDEX($D185:$I185,L$100)","v":1},0,null,0]
[null,null,"SafetyEdge",{"$f":"IF(D24=INDEX(MedConf_Header,1,2),(IF(D$77=\"No\",1,(Roadside!$F$23-1)*AVERAGE(Constraints!$H$24,Constraints!$F$24)/Constraints!$D$24+1)),(IF(D$77=\"No\",1,(Roadside!$F$23-1)*AVERAGE(Constraints!$H$38,Constraints!$F$38)/Constraints!$D$38+1)))","v":0.97711209540034072},{"$f":"IF(E$77=\"No\",1,(Roadside!$F$23-1)*AVERAGE(Constraints!$H$24,Constraints!$F$24)/Constraints!$D$24+1)","v":1},{"$f":"IF(F24=INDEX(MedConf_Header,1,2),(IF(F$77=\"No\",1,(Roadside!$F$23-1)*AVERAGE(Constraints!$H$24,Constraints!$F$24)/Constraints!$D$24+1)),(IF(F$77=\"No\",1,(Roadside!$F$23-1)*AVERAGE(Constraints!$H$38,Constraints!$F$38)/Constraints!$D$38+1)))","v":0.97711209540034072},{"$f":"IF(G24=INDEX(MedConf_Header,1,2),(IF(G$77=\"No\",1,(Roadside!$F$23-1)*AVERAGE(Constraints!$H$24,Constraints!$F$24)/Constraints!$D$24+1)),(IF(G$77=\"No\",1,(Roadside!$F$23-1)*AVERAGE(Constraints!$H$38,Constraints!$F$38)/Constraints!$D$38+1)))","v":0.97711209540034072},{"$f":"IF($I$2=\"Existing\",(D186),(IF($I$2=\"Design 1\",(F186),(IF($I$2=\"Design 2\",(G186),(IF($I$2=\"Optimal\",(I186),E186)))))))","v":1},{"$f":"IF(I$77=\"No\",1,(Roadside!$F$23-1)*AVERAGE(Constraints!$H$24,Constraints!$F$24)/Constraints!$D$24+1)","v":0.97526887377773364},null,{"$f":"INDEX($D186:$I186,K$100)","v":0.97711209540034072},{"$f":"INDEX($D186:$I186,L$100)","v":1},-2.3424031600265627E-2,null,-2.8188991921691331E-2]
[null,null,"Lateral Clearance (ft)",{"$f":"IF(D24=INDEX(MedConf_Header,1,2),(IF($B$31=\"Yes\",((EXP(LN(Roadside!$F$11)*(IF(D$79=\"None\",40,D$78)-30)/30)-1))*Constraints!$H$17/Constraints!$D$24+1,((EXP(LN(Roadside!$F$10)*(IF(D$79=\"None\",40,D$78)-30)/30)-1))*Constraints!$H$17/Constraints!$D$24+1)),(IF($B$31=\"Yes\",((EXP(LN(Roadside!$F$11)*(IF(D$79=\"None\",40,D$78)-30)/30)-1))*Constraints!$H$31/Constraints!$D$38+1,((EXP(LN(Roadside!$F$10)*(IF(D$79=\"None\",40,D$78)-30)/30)-1))*Constraints!$H$31/Constraints!$D$38+1)))","v":1.0472592444132678},{"$f":"IF(E24=INDEX(MedConf_Header,1,2),(IF($B$31=\"Yes\",((EXP(LN(Roadside!$F$11)*(IF(E$79=\"None\",40,E$78)-30)/30)-1))*Constraints!$H$17/Constraints!$D$24+1,((EXP(LN(Roadside!$F$10)*(IF(E$79=\"None\",40,E$78)-30)/30)-1))*Constraints!$H$17/Constraints!$D$24+1)),(IF($B$31=\"Yes\",((EXP(LN(Roadside!$F$11)*(IF(E$79=\"None\",40,E$78)-30)/30)-1))*Constraints!$H$31/Constraints!$D$38+1,((EXP(LN(Roadside!$F$10)*(IF(E$79=\"None\",40,E$78)-30)/30)-1))*Constraints!$H$31/Constraints!$D$38+1)))","v":0.97942029665168673},{"$f":"IF(F24=INDEX(MedConf_Header,1,2),(IF($B$31=\"Yes\",((EXP(LN(Roadside!$F$11)*(IF(F$79=\"None\",40,F$78)-30)/30)-1))*Constraints!$H$17/Constraints!$D$24+1,((EXP(LN(Roadside!$F$10)*(IF(F$79=\"None\",40,F$78)-30)/30)-1))*Constraints!$H$17/Constraints!$D$24+1)),(IF($B$31=\"Yes\",((EXP(LN(Roadside!$F$11)*(IF(F$79=\"None\",40,F$78)-30)/30)-1))*Constraints!$H$31/Constraints!$D$38+1,((EXP(LN(Roadside!$F$10)*(IF(F$79=\"None\",40,F$78)-30)/30)-1))*Constraints!$H$31/Constraints!$D$38+1)))","v":1.0472592444132678},{"$f":"IF(G24=INDEX(MedConf_Header,1,2),(IF($B$31=\"Yes\",((EXP(LN(Roadside!$F$11)*(IF(G$79=\"None\",40,G$78)-30)/30)-1))*Constraints!$H$17/Constraints!$D$24+1,((EXP(LN(Roadside!$F$10)*(IF(G$79=\"None\",40,G$78)-30)/30)-1))*Constraints!$H$17/Constraints!$D$24+1)),(IF($B$31=\"Yes\",((EXP(LN(Roadside!$F$11)*(IF(G$79=\"None\",40,G$78)-30)/30)-1))*Constraints!$H$31/Constraints!$D$38+1,((EXP(LN(Roadside!$F$10)*(IF(G$79=\"None\",40,G$78)-30)/30)-1))*Constraints!$H$31/Constraints!$D$38+1)))","v":1.0472592444132678},{"$f":"IF($I$2=\"Existing\",(D187),(IF($I$2=\"Design 1\",(F187),(IF($I$2=\"Design 2\",(G187),(IF($I$2=\"Optimal\",(I187),E187)))))))","v":0.97942029665168673},{"$f":"IF(I24=INDEX(MedConf_Header,1,2),(IF($B$31=\"Yes\",((EXP(LN(Roadside!$F$11)*(IF(I$79=\"None\",40,I$78)-30)/30)-1))*Constraints!$H$17/Constraints!$D$24+1,((EXP(LN(Roadside!$F$10)*(IF(I$79=\"None\",40,I$78)-30)/30)-1))*Constraints!$H$17/Constraints!$D$24+1)),(IF($B$31=\"Yes\",((EXP(LN(Roadside!$F$11)*(IF(I$79=\"None\",40,I$78)-30)/30)-1))*Constraints!$H$31/Constraints!$D$38+1,((EXP(LN(Roadside!$F$10)*(IF(I$79=\"None\",40,I$78)-30)/30)-1))*Constraints!$H$31/Constraints!$D$38+1)))","v":0.97942029665168673},null,{"$f":"INDEX($D187:$I187,K$100)","v":1.0472592444132678},{"$f":"INDEX($D187:$I187,L$100)","v":0.97942029665168673},6.4777606999867676E-2,null,9.0307162971216326E-2]
[null,null,"Roadside Obstruction Type",{"$f":"IF(D24=INDEX(MedConf_Header,1,2),(IF(D$79=\"Guardrail\",(Roadside!$F$25-1)*(($I$78-D$78)/$I$78)^2*Constraints!$H$17/Constraints!$D$24+1,1)),(IF(D$79=\"Guardrail\",(Roadside!$F$25-1)*(($I$78-D$78)/$I$78)^2*Constraints!$H$31/Constraints!$D$38+1,1)))","v":1},{"$f":"IF(E24=INDEX(MedConf_Header,1,2),(IF(E$79=\"Guardrail\",(Roadside!$F$25-1)*(($I$78-E$78)/$I$78)^2*Constraints!$H$17/Constraints!$D$24+1,1)),(IF(E$79=\"Guardrail\",(Roadside!$F$25-1)*(($I$78-E$78)/$I$78)^2*Constraints!$H$31/Constraints!$D$38+1,1)))","v":1},{"$f":"IF(F24=INDEX(MedConf_Header,1,2),(IF(F$79=\"Guardrail\",(Roadside!$F$25-1)*(($I$78-F$78)/$I$78)^2*Constraints!$H$17/Constraints!$D$24+1,1)),(IF(F$79=\"Guardrail\",(Roadside!$F$25-1)*(($I$78-F$78)/$I$78)^2*Constraints!$H$31/Constraints!$D$38+1,1)))","v":1},{"$f":"IF(G24=INDEX(MedConf_Header,1,2),(IF(G$79=\"Guardrail\",(Roadside!$F$25-1)*(($I$78-G$78)/$I$78)^2*Constraints!$H$17/Constraints!$D$24+1,1)),(IF(G$79=\"Guardrail\",(Roadside!$F$25-1)*(($I$78-G$78)/$I$78)^2*Constraints!$H$31/Constraints!$D$38+1,1)))","v":1},{"$f":"IF($I$2=\"Existing\",(D188),(IF($I$2=\"Design 1\",(F188),(IF($I$2=\"Design 2\",(G188),(IF($I$2=\"Optimal\",(I188),E188)))))))","v":1},{"$f":"IF(I24=INDEX(MedConf_Header,1,2),(IF(I$79=\"Guardrail\",(Roadside!$F$25-1)*(($I$78-I$78)/$I$78)^2*Constraints!$H$17/Constraints!$D$24+1,1)),(IF(I$79=\"Guardrail\",(Roadside!$F$25-1)*(($I$78-I$78)/$I$78)^2*Constraints!$H$31/Constraints!$D$38+1,1)))","v":1},null,{"$f":"INDEX($D188:$I188,K$100)","v":1},{"$f":"INDEX($D188:$I188,L$100)","v":1},0,null,0]
[null,null,null,null,null,null,null,null,null,null,{"$f":"INDEX($D189:$I189,K$100)","v":0},{"$f":"INDEX($D189:$I189,L$100)","v":0},0]
[null,null,null,null,null,null,null,null,null,null,{"$f":"INDEX($D190:$I190,K$100)","v":0},{"$f":"INDEX($D190:$I190,L$100)","v":0},0]
[null,null,"COMBINED Calculated CMF",{"$f":"+D184*D185*D186*D187*D188","v":1.0232896747360256},{"$f":"+E184*E185*E186*E187*E188","v":0.82567459604163929},1.0232896747360256,1.0232896747360256,{"$f":"IF($I$2=\"Existing\",(D191),(IF($I$2=\"Design 1\",(F191),(IF($I$2=\"Design 2\",(G191),(IF($I$2=\"Optimal\",(I191),E191)))))))","v":0.82567459604163929},{"$f":"+I184*I185*I186*I187*I188","v":0.75970050156555824},null,{"$f":"INDEX($D191:$I191,K$100)","v":1.0232896747360256},{"$f":"INDEX($D191:$I191,L$100)","v":0.82567459604163929},0.1931174364144389]
[null,null,"Calculated Relative to Design Standards (Column E)",{"$f":"+D191/$E$191","v":1.2393377241370527},{"$f":"+E191/$E$191","v":1},1.2393377241370527,1.2393377241370527,1,{"$f":"+I191/$E$191","v":0.92009673690777583},null,{"$f":"INDEX($D192:$I192,K$100)","v":1.2393377241370527},{"$f":"INDEX($D192:$I192,L$100)","v":1},0.1931174364144389]
[null,null,"P(Crash)",{"$f":"+D192/(D192+1)","v":0.55343939896990835},0.5,0.55343939896990835,0.55343939896990835,0.5,{"$f":"+I192/(I192+1)","v":0.47919290691027777},null,{"$f":"INDEX($D193:$I193,K$100)","v":0.55343939896990835},{"$f":"INDEX($D193:$I193,L$100)","v":0.5},9.6558718207219618E-2]
[null,null,"Factor Change on S curve",{"$f":"+D193/$E$193","v":1.1068787979398167},{"$f":"+E193/$E$193","v":1},1.1068787979398167,1.1068787979398167,1,{"$f":"+I193/$E$193","v":0.95838581382055554},null,{"$f":"INDEX($D194:$I194,K$100)","v":1.1068787979398167},{"$f":"INDEX($D194:$I194,L$100)","v":1},9.6558718207219618E-2]
[null,null,"Adjust to Scale of 100",{"$f":"+$I$118/D194*100","v":{"$error":"#VALUE!"}},{"$error":"#VALUE!"},{"$error":"#VALUE!"},{"$error":"#VALUE!"},{"$error":"#VALUE!"},{"$f":"+$I$118/I194*100","v":{"$error":"#VALUE!"}},null,{"$f":"INDEX($D195:$I195,K$100)","v":{"$error":"#VALUE!"}},{"$f":"INDEX($D195:$I195,L$100)","v":{"$error":"#VALUE!"}},0]
[null,null,"Unadjusted Combined Relative to Standard",{"$f":"+D191/$E$191","v":1.2393377241370527},{"$f":"+E191/$E$191","v":1},1.2393377241370527,1.2393377241370527,1,{"$f":"+I191/$E$191","v":0.92009673690777583},{"$f":"I202/E202","v":1.0810810810810811},{"$f":"INDEX($D196:$I196,K$100)","v":1.2393377241370527},{"$f":"INDEX($D196:$I196,L$100)","v":1},0.1931174364144389]
[null,null,null,null,null,null,null,null,null,null,{"$f":"INDEX($D197:$I197,K$100)","v":0},{"$f":"INDEX($D197:$I197,L$100)","v":0},0]
[null,null,"Adjusted for PA Basis",{"$f":"+D191*(1+1)/(1+D191*1)","v":1.0115107960203793},0.90451452611745442,1.0115107960203793,1.0115107960203793,{"$f":"IF($I$2=\"Existing\",(D198),(IF($I$2=\"Design 1\",(F198),(IF($I$2=\"Design 2\",(G198),(IF($I$2=\"Optimal\",(I198),E198)))))))","v":0.90451452611745442},{"$f":"+I191*(1+1)/(1+I191*1)","v":0.86344295621859868},null,{"$f":"INDEX($D198:$I198,K$100)","v":1.0115107960203793},{"$f":"INDEX($D198:$I198,L$100)","v":0.90451452611745442},0.10577867317272727]
[null,null,"Corrected by Odds Ratio",{"$f":"+D191/$E$191","v":1.2393377241370527},{"$f":"+E191/$E$191","v":1},1.2393377241370527,1.2393377241370527,{"$f":"IF($I$2=\"Existing\",(D199),(IF($I$2=\"Design 1\",(F199),(IF($I$2=\"Design 2\",(G199),(IF($I$2=\"Optimal\",(I199),E199)))))))","v":1},{"$f":"+I191/$E$191","v":0.92009673690777583},{"$f":"I205/E205","v":1.4814814814814814},{"$f":"INDEX($D199:$I199,K$100)","v":1.2393377241370527},{"$f":"INDEX($D199:$I199,L$100)","v":1},0.1931174364144389]
[null,null,null,{"$f":"(1/D199)^$D203","v":1.8666691582346016E-8},{"$f":"(1/E199)^$D203","v":1},1.8666691582346016E-8,1.8666691582346016E-8,1,998.99999999999955]
[null,null,null,{"$f":"(D200+$F204-1)/(1+(D200+$F204-1))","v":0.50000000466667294},{"$f":"(E200+$F204-1)/(1+(E200+$F204-1))","v":0.66666666666666663},0.50000000466667294,0.50000000466667294,0.66666666666666663,0.99900099900099903]
[null,null,"Score Odds Ratio with Optimal as 100 (old)",{"$f":"MIN(ROUND($I$199/D199*Construction!$I$4,0),$I202)","v":30},{"$f":"MIN(ROUND($I$199/E199*Construction!$I$4,0),$I202)","v":37},{"$f":"MIN(ROUND($I$199/F199*Construction!$I$4,0),$I202)","v":30},{"$f":"MIN(ROUND($I$199/G199*Construction!$I$4,0),$I202)","v":30},null,{"$f":"ROUND($I$199/I199*Construction!$I$4,0)","v":40}]
[null,null,"Logistic1",{"$f":"LN((D204/(1-D204))/(0.5/0.5))/LN($E199/I199)","v":82.937655007418002}]
[null,null,"Logistic Param",0.999,null,2]
[null,null,"Score ",{"$f":"MIN(ROUND(D201*Construction!$I$4,0),$I202)","v":20},{"$f":"MIN(ROUND(E201*Construction!$I$4,0),$I202)","v":27},{"$f":"MIN(ROUND(F201*Construction!$I$4,0),$I202)","v":20},{"$f":"MIN(ROUND(G201*Construction!$I$4,0),$I202)","v":20},null,{"$f":"MIN(ROUND(I201*Construction!$I$4,0),$I202)","v":40}]
[]
[]
[]
[]
[null,null,{"$f":"D87/D183","v":{"$error":"#DIV/0!"}},null,{"$f":"ROUNDUP((MIN($I$14,$I$15)-E27-E28)/$C$210,0)","v":{"$error":"#DIV/0!"}},{"$f":"ROUNDUP((MIN($I$14,$I$15)-F27-F28)/$C$210,0)","v":{"$error":"#DIV/0!"}},{"$f":"ROUNDUP((MIN($I$14,$I$15)-G27-G28)/$C$210,0)","v":{"$error":"#DIV/0!"}},null,{"$f":"ROUNDUP((MIN($I$14,$I$15)-I27-I28)/$C$210,0)","v":{"$error":"#DIV/0!"}}]
[]
[]
[null,null,"Distance to low point","Distance to low point",{"$f":"$C$210*E183","v":{"$error":"#DIV/0!"}},{"$f":"$C$210*F183","v":{"$error":"#DIV/0!"}},{"$error":"#DIV/0!"},null,{"$f":"$C$210*I183","v":{"$error":"#DIV/0!"}}]
[null,null,null,"Additional ROW1 Needed for Foreslope",{"$f":"IF(E213>($I$14-E27-E28),E213-($I$14-E27-E28),0)","v":{"$error":"#DIV/0!"}},{"$f":"IF(F213>($I$14-F27-F28),F213-($I$14-F27-F28),0)","v":{"$error":"#DIV/0!"}},{"$f":"IF(G213>($I$14-G27-G28),G213-($I$14-G27-G28),0)","v":{"$error":"#DIV/0!"}},null,{"$f":"IF(I213>($I$14-I27-I28),I213-($I$14-I27-I28),0)","v":{"$error":"#DIV/0!"}}]
[null,null,null,"Additional ROW2 Needed for Foreslope",{"$f":"IF(E213>($I$15-E27-E28),E213-($I$15-E27-E28),0)","v":{"$error":"#DIV/0!"}},{"$f":"IF(F213>($I$15-F27-F28),F213-($I$15-F27-F28),0)","v":{"$error":"#DIV/0!"}},{"$f":"IF(G213>($I$15-G27-G28),G213-($I$15-G27-G28),0)","v":{"$error":"#DIV/0!"}},null,{"$f":"IF(I213>($I$15-I27-I28),I213-($I$15-I27-I28),0)","v":{"$error":"#DIV/0!"}}]
[]
[null,null,null,"Additional ROW1 Needed for Lateral Clearance",{"$f":"IF((CL251+E30)-$I$14<0,0,(CL251+E30)-$I$14)","v":2},{"$f":"IF((CM251+F30)-$I$14<0,0,(CM251+F30)-$I$14)","v":0},{"$f":"IF((CN251+G30)-$I$14<0,0,(CN251+G30)-$I$14)","v":0},null,{"$f":"IF((CP251+I30)-$I$14<0,0,(CP251+I30)-$I$14)","v":2}]
[null,null,null,"Additional ROW2 Needed for Lateral Clearance",{"$f":"IF((CL251+E30)-$I$15<0,0,(CL251+E30)-$I$15)","v":2},{"$f":"IF((CM251+F30)-$I$15<0,0,(CM251+F30)-$I$15)","v":0},{"$f":"IF((CN251+G30)-$I$15<0,0,(CN251+G30)-$I$15)","v":0},null,{"$f":"IF((CP251+I30)-$I$15<0,0,(CP251+I30)-$I$15)","v":2}]
[]
[]
[]
[]
[]
[]
[]
[]
[]
[]
[]
[null,null,"For Vertical Opt Use when Yes Vertical:"]
[null,null,"G1",{"$f":"D40","v":0},null,{"$f":"F40","v":0},{"$f":"G40","v":0},null,{"$f":"IF(ISERROR($E$238),\"\",INDEX(D231:G231,$E$238))","v":""}]
[null,null,"G2",{"$f":"D41","v":0},null,{"$f":"F41","v":0},{"$f":"G41","v":0},null,{"$f":"IF(ISERROR($E$238),\"\",INDEX(D232:G232,$E$238))","v":""}]
[null,null,"abs(G2-G1)",{"$f":"ABS(D40-D41)","v":0},null,{"$f":"ABS(F40-F41)","v":0},{"$f":"ABS(G40-G41)","v":0}]
[null,null,"Count in indicator (K no change; or K change but accept)",{"$f":"IF(D43<>\"\",1,\"\")","v":""},null,{"$f":"IF(OR(AND($B$38 = \"Yes\", $D$43 <> F43, F43 <>\"\", $D$43 <> \"\", F45=\"Yes.\"),AND($B$38 = \"Yes\", $D$43 = F43, F43 <>\"\", $D$43 <> \"\")), 1,\"\")","v":""},{"$f":"IF(OR(AND($B$38 = \"Yes\", $D$43 <> G43, G43 <>\"\", $D$43 <> \"\", G45=\"Yes.\"),AND($B$38 = \"Yes\", $D$43 = G43, G43 <>\"\", $D$43 <> \"\")), 1,\"\")","v":""}]
[]
[null,null,"Valid abs(G2-G1)",{"$f":"IF(ISERROR(D233*D234),\"\",D233*D234)","v":""},null,{"$f":"IF(ISERROR(F233*F234),\"\",F233*F234)","v":""},{"$f":"IF(ISERROR(G233*G234),\"\",G233*G234)","v":""}]
[null,null,"The min valid abs(G2-G1)",null,{"$f":"MIN(D236,F236,G236)","v":0}]
[null,null,"Index",null,{"$f":"MATCH(E237,D236:G236,0)","v":{"$error":"#N/A"}}]
[]
[null,null,"For Vertical Opt Use When No Vertical:"]
[null,null,"G1",{"$f":"IF(ISBLANK(D40), 999, D40)","v":999},null,{"$f":"IF(ISBLANK(F40), 999, F40)","v":999},{"$f":"IF(ISBLANK(G40), 999, G40)","v":999},null,{"$f":"IF(E246=999,\"\",E246)","v":""}]
[null,null,"Sign of G1",{"$f":"IF(D241>=0,1,-1)","v":1},null,{"$f":"IF(F241>=0,1,-1)","v":1},{"$f":"IF(G241>=0,1,-1)","v":1}]
[null,null,"Abs G1",{"$f":"ABS(D241)","v":999},null,{"$f":"ABS(F241)","v":999},{"$f":"ABS(G241)","v":999}]
[null,null,"Min Abs G1",null,{"$f":"MIN(D243:G243)","v":999}]
[null,null,"Which is the Best G1",null,{"$f":"MATCH(E244,D243:G243,0)","v":1}]
[null,null,"Best G1 Value",null,{"$f":"INDEX(D241:G241,1,E245)","v":999}]
[]
[]
[null,null,"Check if all cells filled",{"$f":"SUM(D251:D314)","v":19},{"$f":"SUM(E251:E314)","v":1},19,19,0,0]
[]
[null,null,{"$f":"C24","v":"Configuration of Multilane Roadway"},{"$f":"IF(ISBLANK(D24),1,0)","v":1},{"$f":"IF(ISBLANK(E24),1,0)","v":0},1,1,null,0]
[null,null,{"$f":"C25","v":"Median Configuration (Width or Type)"},{"$f":"IF(AND(D24<>\"No Median\", ISBLANK(D25)),1,0)","v":1},0,{"$f":"IF(AND(F24<>\"No Median\", ISBLANK(F25)),1,0)","v":1},{"$f":"IF(AND(G24<>\"No Median\", ISBLANK(G25)),1,0)","v":1},null,0]
[]
[null,null,"Lane Width (feet)",{"$f":"IF(ISBLANK(D27),1,0)","v":1},0,1,1,null,{"$f":"IF(ISBLANK(I27),1,0)","v":0}]
[null,null,"Average Outside Shoulder Width (feet)",1,0,1,1,null,0]
[null,null,"Average Inside Shoulder Width (feet)",1,0,1,1,null,0]
[null,null,"Number of Lanes per Direction of Travel",1,0,1,1,null,0]
[null,null,"Horizontal Curve Present?"]
[null,null,"Horizontal Curve Data for Controlling Element:"]
[null,null,"  Radius (feet)",{"$f":"IF(AND($B$31=\"Yes\", ISBLANK(D33)),1,0)","v":0},null,{"$f":"IF(AND($B$31=\"Yes\", ISBLANK(F33)),1,0)","v":0},{"$f":"IF(AND($B$31=\"Yes\", ISBLANK(G33)),1,0)","v":0},null,{"$f":"IF(ISBLANK(I33),1,0)","v":0}]
[null,null,"Length of Horizontal Curve (feet)",{"$f":"IF(AND($B$31=\"Yes\", ISBLANK(D34)),1,0)","v":0},null,{"$f":"IF(AND($B$31=\"Yes\", ISBLANK(F34)),1,0)","v":0},{"$f":"IF(AND($B$31=\"Yes\", ISBLANK(G34)),1,0)","v":0},null,0]
[null,null,"Calculated Deflection Angle ∆"]
[]
[null,null,null,null,null,{"$f":"IF(AND($B$31 = \"Yes\", $D$35 <> F35, F35<>\"\",ISBLANK(F37)),1,0)","v":0},{"$f":"IF(AND($B$31 = \"Yes\", $D$35 <> G35, G35<>\"\",ISBLANK(G37)),1,0)","v":0}]
[null,null,"Vertical Curve Present?"]
[null,null,"Vertical Curve Data for Controlling Element:"]
[null,null,"  Approach (Entry) Grade, G1 (%)",{"$f":"IF(ISBLANK(D40),1,0)","v":1},0,1,1,null,{"$f":"IF(ISBLANK(I40),1,0)","v":0}]
[null,null,"  Departure (Exit) Grade, G2 (%)",{"$f":"IF(AND($B$38=\"Yes\", ISBLANK(D41)),1,0)","v":0},{"$f":"IF(AND($B$38=\"Yes\", ISBLANK(E41)),1,0)","v":0},0,0,null,0]
[null,null,"  Length (feet)",{"$f":"IF(AND($B$38=\"Yes\", ISBLANK(D42)),1,0)","v":0},0,0,0,null,0]
[null,null,"  Calculated Rate of Change, K (ft/ft)"]
[]
[]
[null,null,"  Calculated Sag or Crest?"]
[]
[]
[null,null,"Geometric Design Element (Partial Score)"]
[null,null,"Total Safety Score"]
[]
[]
[]
[]
[]
[null,null,"Advance Static Curve Warning Signs",{"$f":"IF(AND($B$31=\"Yes\", ISBLANK(D56)),1,0)","v":0},{"$f":"IF(AND($B$31=\"Yes\", ISBLANK(E56)),1,0)","v":0},0,0,null,{"$f":"IF(ISBLANK(I56),1,0)","v":0}]
[null,null,"Chevron Signs on Horizontal Curves",{"$f":"IF(AND($B$31=\"Yes\", ISBLANK(D57)),1,0)","v":0},0,0,0,null,0]
[null,null,"Post-Mounted Delineators",0,0,0,0,null,0]
[null,null,"Edgeline Pavement Markings or Profile Markings",{"$f":"IF(ISBLANK(D59),1,0)","v":1},0,1,1,null,0]
[null,null,"Shoulder Rumble Strips",1,0,1,1,null,0]
[null,null,"Centerline Rumble Strips",1,0,1,1,null,0]
[null,null,"Driveway Density (driveways per mile)",1,0,1,1,null,0]
[null,null,"Lighting",1,0,1,1,null,0]
[null,null,"Pavement Friction (skid number) ***",1,0,1,1,null,0]
[null,null,"Traffic Control Element (Partial Score):"]
[null,null,"Total Safety Score"]
[]
[]
[]
[]
[]
[]
[]
[]
[null,null,"Roadside Sideslope (Foreslope)",{"$f":"IF(ISBLANK(D75),1,0)","v":1},0,1,1,null,{"$f":"IF(ISBLANK(I75),1,0)","v":0}]
[null,null,"Roadside Backslope",1,0,1,1,null,0]
[null,null,"Safety Edge",1,0,1,1,null,0]
[null,null,"Roadside Lateral Clearance to Obstruction (ft)",1,0,1,1,null,0]
[null,null,"Roadside Obstruction Type",1,0,1,1,null,0]
[null,null,"Roadside Element (Partial Score):"]
[null,null,"Total Safety Score"]
[]
[]
[]
[]
[]
[null,null,"Distance to Slope Toe from Shoulder (ft)",{"$f":"IF(ISBLANK(D87),1,0)","v":1},{"$f":"D314","v":1},{"$f":"E314","v":1},1,null,0]
[null,null,null,null,null,null,null,null,{"$f":"SUM(I316:I324)","v":9}]
[null,null,null,null,null,null,null,{"$f":"F9","v":"Location "},{"$f":"IF(ISBLANK(I9),1,0)","v":1}]
[null,null,null,null,null,null,null,{"$f":"F10","v":"Design Speed (mph)"},{"$f":"IF(ISBLANK(I10),1,0)","v":1}]
[null,null,null,null,null,null,null,"Posted Speed (mph)",1]
[null,null,null,null,null,null,null,"E max (%)",1]
[null,null,null,null,null,null,null,"    Design Year AADT (vehicles per day)",1]
[null,null,null,null,null,null,null,"    Dist. from Centerline to Left   ROW (feet)",1]
[null,null,null,null,null,null,null,"    Dist. from Centerline to Right ROW (feet)",1]
[null,null,null,null,null,null,null,"H CV",{"$f":"IF(ISBLANK(B31),1,0)","v":1}]
[null,null,null,null,null,null,null,"V HV",{"$f":"IF(ISBLANK(B38),1,0)","v":1}]
[]
[]
[]
[]
[]
[]
[]
[]
[]
[]
[]
[]
[]
[]
[]
[]
[]
[]
[]
[]
[]
[]
[]
[]
[]
[]
[]
[]
[]
[]
[]
[]
[]
[]
[]
[]
[]
[]
[]
[]
[]
[]
[]
[]
[]
[]
[]
[]
[]
[]
[]
[]
[]
[]
[1]
[22]
[21]
[20]
[19,null,null,{"$f":"Constraints!P174","v":"Emax=6%"}]
[18]
[17,null,{"$f":"HLOOKUP($I$10,Constraints!$Q$176:AD197,A379,TRUE)","v":{"$error":"#N/A"}},{"$f":"Constraints!P176","v":"super"}]
[16,null,{"$f":"HLOOKUP($I$10,Constraints!$Q$176:AD198,A380,TRUE)","v":{"$error":"#N/A"}},{"$f":"Constraints!P197","v":6},1050]
[15,null,{"$f":"HLOOKUP($I$10,Constraints!$Q$176:AD199,A381,TRUE)","v":{"$error":"#N/A"}},{"$f":"Constraints!P196","v":5.8}]
[14,null,{"$f":"HLOOKUP($I$10,Constraints!$Q$176:AD200,A382,TRUE)","v":{"$error":"#N/A"}},{"$f":"Constraints!P195","v":5.6}]
[13,null,{"$f":"HLOOKUP($I$10,Constraints!$Q$176:AD201,A383,TRUE)","v":{"$error":"#N/A"}},{"$f":"Constraints!P194","v":5.4}]
[12,null,{"$f":"HLOOKUP($I$10,Constraints!$Q$176:AD202,A384,TRUE)","v":{"$error":"#N/A"}},{"$f":"Constraints!P193","v":5.2}]
[11,null,{"$f":"HLOOKUP($I$10,Constraints!$Q$176:AD203,A385,TRUE)","v":{"$error":"#N/A"}},{"$f":"Constraints!P192","v":5}]
[10,null,{"$f":"HLOOKUP($I$10,Constraints!$Q$176:AD204,A386,TRUE)","v":{"$error":"#N/A"}},{"$f":"Constraints!P191","v":4.8}]
[9,null,{"$f":"HLOOKUP($I$10,Constraints!$Q$176:AD205,A387,TRUE)","v":{"$error":"#N/A"}},{"$f":"Constraints!P190","v":4.5999999999999996}]
[8,null,{"$f":"HLOOKUP($I$10,Constraints!$Q$176:AD206,A388,TRUE)","v":{"$error":"#N/A"}},{"$f":"Constraints!P189","v":4.4000000000000004}]
[7,null,{"$f":"HLOOKUP($I$10,Constraints!$Q$176:AD207,A389,TRUE)","v":{"$error":"#N/A"}},{"$f":"Constraints!P188","v":4.2}]
[6,null,{"$f":"HLOOKUP($I$10,Constraints!$Q$176:AD208,A390,TRUE)","v":{"$error":"#N/A"}},{"$f":"Constraints!P187","v":4}]
[5,null,{"$f":"HLOOKUP($I$10,Constraints!$Q$176:AD209,A391,TRUE)","v":{"$error":"#N/A"}},{"$f":"Constraints!P186","v":3.8}]
[4,null,{"$f":"HLOOKUP($I$10,Constraints!$Q$176:AD210,A392,TRUE)","v":{"$error":"#N/A"}},{"$f":"Constraints!P185","v":3.6}]
[3,null,{"$f":"HLOOKUP($I$10,Constraints!$Q$176:AD211,A393,TRUE)","v":{"$error":"#N/A"}},{"$f":"Constraints!P184","v":3.4}]
[2,null,{"$f":"HLOOKUP($I$10,Constraints!$Q$176:AD212,A394,TRUE)","v":{"$error":"#N/A"}},{"$f":"Constraints!P183","v":3.2}]
[null,null,{"$f":"HLOOKUP($I$10,Constraints!$Q$176:AD213,A395,TRUE)","v":{"$error":"#N/A"}},{"$f":"Constraints!P182","v":3}]
[null,null,{"$f":"HLOOKUP($I$10,Constraints!$Q$176:AD214,A396,TRUE)","v":{"$error":"#N/A"}},{"$f":"Constraints!P181","v":2.8}]
[null,null,{"$f":"HLOOKUP($I$10,Constraints!$Q$176:AD215,A397,TRUE)","v":{"$error":"#N/A"}},{"$f":"Constraints!P180","v":2.6}]
[null,null,{"$f":"HLOOKUP($I$10,Constraints!$Q$176:AD216,A398,TRUE)","v":{"$error":"#N/A"}},{"$f":"Constraints!P179","v":2.4}]
[null,null,{"$f":"HLOOKUP($I$10,Constraints!$Q$176:AD217,A399,TRUE)","v":{"$error":"#N/A"}},{"$f":"Constraints!P178","v":2.2000000000000002}]
[1,null,{"$f":"HLOOKUP($I$10,Constraints!$Q$176:AD218,A400,TRUE)","v":{"$error":"#N/A"}},{"$f":"Constraints!P177","v":2}]
[32]
[31]
[30]
[29,null,null,{"$f":"Constraints!P201","v":"Emax=8%"}]
[28]
[27,null,{"$f":"HLOOKUP($I$10,Constraints!$Q$203:AD234,A406,TRUE)","v":{"$error":"#N/A"}},{"$f":"Constraints!P203","v":"super"}]
[26,null,{"$f":"HLOOKUP($I$10,Constraints!$Q$203:AD235,A407,TRUE)","v":{"$error":"#N/A"}},{"$f":"INDEX(Constraints!$P$203:$P$234,A407,)","v":8}]
[25,null,{"$f":"HLOOKUP($I$10,Constraints!$Q$203:AD236,A408,TRUE)","v":{"$error":"#N/A"}},{"$f":"INDEX(Constraints!$P$203:$P$234,A408,)","v":7.8}]
[24,null,{"$f":"HLOOKUP($I$10,Constraints!$Q$203:AD237,A409,TRUE)","v":{"$error":"#N/A"}},{"$f":"INDEX(Constraints!$P$203:$P$234,A409,)","v":7.6}]
[23,null,{"$f":"HLOOKUP($I$10,Constraints!$Q$203:AD238,A410,TRUE)","v":{"$error":"#N/A"}},{"$f":"INDEX(Constraints!$P$203:$P$234,A410,)","v":7.4}]
[22,null,{"$f":"HLOOKUP($I$10,Constraints!$Q$203:AD239,A411,TRUE)","v":{"$error":"#N/A"}},{"$f":"INDEX(Constraints!$P$203:$P$234,A411,)","v":7.2}]
[21,null,{"$f":"HLOOKUP($I$10,Constraints!$Q$203:AD240,A412,TRUE)","v":{"$error":"#N/A"}},{"$f":"INDEX(Constraints!$P$203:$P$234,A412,)","v":7}]
[20,null,{"$f":"HLOOKUP($I$10,Constraints!$Q$203:AD241,A413,TRUE)","v":{"$error":"#N/A"}},{"$f":"INDEX(Constraints!$P$203:$P$234,A413,)","v":6.8}]
[19,null,{"$f":"HLOOKUP($I$10,Constraints!$Q$203:AD242,A414,TRUE)","v":{"$error":"#N/A"}},{"$f":"INDEX(Constraints!$P$203:$P$234,A414,)","v":6.6}]
[18,null,{"$f":"HLOOKUP($I$10,Constraints!$Q$203:AD243,A415,TRUE)","v":{"$error":"#N/A"}},{"$f":"INDEX(Constraints!$P$203:$P$234,A415,)","v":6.4}]
[17,null,{"$f":"HLOOKUP($I$10,Constraints!$Q$203:AD244,A416,TRUE)","v":{"$error":"#N/A"}},{"$f":"INDEX(Constraints!$P$203:$P$234,A416,)","v":6.2}]
[16,null,{"$f":"HLOOKUP($I$10,Constraints!$Q$203:AD245,A417,TRUE)","v":{"$error":"#N/A"}},{"$f":"INDEX(Constraints!$P$203:$P$234,A417,)","v":6}]
[15,null,{"$f":"HLOOKUP($I$10,Constraints!$Q$203:AD246,A418,TRUE)","v":{"$error":"#N/A"}},{"$f":"INDEX(Constraints!$P$203:$P$234,A418,)","v":5.8}]
[14,null,{"$f":"HLOOKUP($I$10,Constraints!$Q$203:AD247,A419,TRUE)","v":{"$error":"#N/A"}},{"$f":"INDEX(Constraints!$P$203:$P$234,A419,)","v":5.6}]
[13,null,{"$f":"HLOOKUP($I$10,Constraints!$Q$203:AD248,A420,TRUE)","v":{"$error":"#N/A"}},{"$f":"INDEX(Constraints!$P$203:$P$234,A420,)","v":5.4}]
[12,null,{"$f":"HLOOKUP($I$10,Constraints!$Q$203:AD249,A421,TRUE)","v":{"$error":"#N/A"}},{"$f":"INDEX(Constraints!$P$203:$P$234,A421,)","v":5.2}]
[11,null,{"$f":"HLOOKUP($I$10,Constraints!$Q$203:AD250,A422,TRUE)","v":{"$error":"#N/A"}},{"$f":"INDEX(Constraints!$P$203:$P$234,A422,)","v":5}]
[10,null,{"$f":"HLOOKUP($I$10,Constraints!$Q$203:AD251,A423,TRUE)","v":{"$error":"#N/A"}},{"$f":"INDEX(Constraints!$P$203:$P$234,A423,)","v":4.8}]
[9,null,{"$f":"HLOOKUP($I$10,Constraints!$Q$203:AD252,A424,TRUE)","v":{"$error":"#N/A"}},{"$f":"INDEX(Constraints!$P$203:$P$234,A424,)","v":4.5999999999999996}]
[8,null,{"$f":"HLOOKUP($I$10,Constraints!$Q$203:AD253,A425,TRUE)","v":{"$error":"#N/A"}},{"$f":"INDEX(Constraints!$P$203:$P$234,A425,)","v":4.4000000000000004}]
[7,null,{"$f":"HLOOKUP($I$10,Constraints!$Q$203:AD254,A426,TRUE)","v":{"$error":"#N/A"}},{"$f":"INDEX(Constraints!$P$203:$P$234,A426,)","v":4.2}]
[6,null,{"$f":"HLOOKUP($I$10,Constraints!$Q$203:AD255,A427,TRUE)","v":{"$error":"#N/A"}},{"$f":"INDEX(Constraints!$P$203:$P$234,A427,)","v":4}]
[5,null,{"$f":"HLOOKUP($I$10,Constraints!$Q$203:AD256,A428,TRUE)","v":{"$error":"#N/A"}},{"$f":"INDEX(Constraints!$P$203:$P$234,A428,)","v":3.8}]
[4,null,{"$f":"HLOOKUP($I$10,Constraints!$Q$203:AD257,A429,TRUE)","v":{"$error":"#N/A"}},{"$f":"INDEX(Constraints!$P$203:$P$234,A429,)","v":3.6}]
[3,null,{"$f":"HLOOKUP($I$10,Constraints!$Q$203:AD258,A430,TRUE)","v":{"$error":"#N/A"}},{"$f":"INDEX(Constraints!$P$203:$P$234,A430,)","v":3.4}]
[2,null,{"$f":"HLOOKUP($I$10,Constraints!$Q$203:AD259,A431,TRUE)","v":{"$error":"#N/A"}},{"$f":"INDEX(Constraints!$P$203:$P$234,A431,)","v":3.2}]
[null,null,{"$f":"HLOOKUP($I$10,Constraints!$Q$203:AD260,A432,TRUE)","v":{"$error":"#N/A"}},{"$f":"INDEX(Constraints!$P$203:$P$234,A432,)","v":3}]
[null,null,{"$f":"HLOOKUP($I$10,Constraints!$Q$203:AD261,A433,TRUE)","v":{"$error":"#N/A"}},{"$f":"INDEX(Constraints!$P$203:$P$234,A433,)","v":2.8}]
[null,null,{"$f":"HLOOKUP($I$10,Constraints!$Q$203:AD262,A434,TRUE)","v":{"$error":"#N/A"}},{"$f":"INDEX(Constraints!$P$203:$P$234,A434,)","v":2.6}]
[null,null,{"$f":"HLOOKUP($I$10,Constraints!$Q$203:AD263,A435,TRUE)","v":{"$error":"#N/A"}},{"$f":"INDEX(Constraints!$P$203:$P$234,A435,)","v":2.4}]
[null,null,{"$f":"HLOOKUP($I$10,Constraints!$Q$203:AD264,A436,TRUE)","v":{"$error":"#N/A"}},{"$f":"INDEX(Constraints!$P$203:$P$234,A436,)","v":2.2000000000000002}]
[null,null,{"$f":"HLOOKUP($I$10,Constraints!$Q$203:AD265,A437,TRUE)","v":{"$error":"#N/A"}},{"$f":"INDEX(Constraints!$P$203:$P$234,A437,)","v":2}]

{"sheet":"Configuration 5","index":15,"n_rows":443,"n_cols":113,"rows_kept":443,"cut":false,"hidden":false,"merged":[[87,1,87,2],[88,1,88,2],[89,1,89,2],[97,10,97,12],[69,16,69,21],[69,22,69,23],[70,16,70,21],[70,22,70,23],[71,16,71,21],[71,22,71,23],[68,16,68,21],[68,22,68,23],[17,2,17,8],[18,2,18,8],[19,2,19,8],[20,5,20,7],[41,9,41,10],[46,2,47,2],[4,21,44,28],[48,12,48,19],[55,15,55,16],[55,18,55,19],[55,21,55,22],[67,16,67,23],[4,3,4,4],[9,3,9,4],[9,5,9,6],[10,3,10,4],[10,5,10,6],[8,3,8,4],[8,5,8,6],[12,2,15,4],[12,5,12,6],[13,5,13,6],[14,5,14,6],[11,5,11,6],[1,6,2,7],[1,8,2,8],[1,21,1,37],[2,1,2,4],[2,21,3,28],[2,30,3,37],[3,1,3,4],[3,6,4,7],[3,8,4,8],[4,1,4,2],[4,30,44,37],[5,1,5,2],[5,3,5,4],[6,1,6,7],[7,1,7,4],[7,7,7,8]]}
[]
[null,null,null,null,null,null,"Preferred Schematic View to Display",null,"Standard",null,null,null,null,null,null,null,null,null,null,null,null,"NOTES: "]
[null,"CHARACTERISTICS TO CONSIDER FOR ANALYSIS",null,null,null,null,null,null,null,null,null,null,null,null,null,null,null,null,null,null,null,"ELEMENTS INCREASING SAFETY",null,null,null,null,null,null,null,null,"COMMENTS ON PRIMARY CONSTRAINTS"]
[null,"INPUT INSTRUCTIONS",null,null,null,null,"Relative to",null,"Existing"]
[null,"Blue Boxes -- Select from pulldown options",null,"Select from Pulldown"]
[null,"Yellow Boxes -- Type input information into box",null,"Type Input Value"]
[null," Rural Multi-Lane Road Segment -- Safety Score Input",null,null,null,null,null,null,null,null,null,null,null,null,null,null,null,null,null,null,null,null,null,null,null,null,null,null,null,null,null,null,null,null,null,null,null,null,null,null,null,null,null,null,null,null,null,null,null,null,null,null,null,null,null,null,null,null,null,null,null,null,null,null,null,null,null,null,null,null,null,null,null,null,null,null,null,null,null,null,null,null,null,"Unadjusted Marginal Safety"]
[null,"General Information:",null,null,null,"General Site Features",null,{"$f":" I315 & \" Missing Features and Curves\"","v":"9 Missing Features and Curves"},null,null,null,null,null,null,null,null,null,null,null,null,null,null,null,null,null,null,null,null,null,null,null,null,null,null,null,null,null,null,null,null,null,null,null,null,null,null,null,null,null,null,null,null,null,null,null,null,null,null,null,null,null,null,null,null,null,null,null,null,null,null,null,null,null,null,null,null,null,null,null,null,null,null,null,{"$f":"I2&\" relative to \" &I4","v":"Standard relative to Existing"}]
[null,null,"Analyst:",{"$f":"+'Start Here'!H7","v":0},null,"Location "]
[null,null,"Agency or Company:",{"$f":"+'Start Here'!H8","v":0},null,"Design Speed (mph)"]
[null,null,"Date:",{"$f":"+'Start Here'!H9","v":"00:00:00"},null,"Posted Speed (mph)"]
[null,null,"Description:",null,null,"E max (%)"]
[null,null,"Input additional site information here",null,null,"    Design Year AADT (vehicles per day)"]
[null,null,null,null,null,"    Dist. from Centerline to Left   ROW (feet)"]
[null,null,null,null,null,"    Dist. from Centerline to Right ROW (feet)"]
[]
[null,"Warning:"]
[null,null,{"$f":"+IF(+I11>I10,\"Posted speed exceeds design speed. Optimal safety will only be achieved if design speed exceeds posted speed. The Safety Assessment Score is based on the higher of the two speed values.\",\"No speed warnings identified\")","v":"No speed warnings identified"}]
[null,null,{"$f":"IF(OR(F24=INDEX(MedConf_Header,1,3),+G24=INDEX(MedConf_Header,1,3)), \"Multilane undivided facilities are known to have substantially more collisions than multilane facilities with medians. In new construction a median or TWLTL should be considered.\",\" \")","v":" "},null,null,null,null,null,null,null,null,null,null,null,null,null,null,null,null,null,null,null,null,null,null,null,null,null,null,null,null,null,null,null,null,null,null,null,null,null,null,null,null,null,null,null,null,null,null,null,null,null,null,null,null,null,null,null,null,null,null,null,null,null,null,null,null,null,null,null,null,null,null,null,null,null,null,null,null,null,null,null,null,null,null,null,null,null,null,null,null,null,null,null,null,null,null,null,null,null,null,null,null,null,null,{"$f":"COUNTIF(DB23:DB46,DB20)","v":1}]
[null,null,{"$f":"IF(I13=\"40,001 < AADT < 60,000\", \"Multi-lane Road Should be Divided Due to High AADT Value\",\"\")","v":""},null,null,null,null,null,null,null,null,null,null,null,null,null,null,null,null,null,null,null,null,null,null,null,null,null,null,null,null,null,null,null,null,null,null,null,null,null,null,null,null,null,null,null,null,null,null,null,null,null,null,null,null,null,null,null,null,null,null,null,null,null,null,null,null,null,null,null,null,null,null,null,null,null,null,null,null,null,null,null,null,null,null,null,null,null,null,null,null,null,null,null,null,null,null,null,null,null,null,null,null,null,null,{"$f":"VLOOKUP(0,CZ23:DB46,3,)","v":10.01}]
[null,null,null,"Fill all elements",null,"To enter notes, use boxes to the right of the vortex ",null,null,null,null," "]
[null,{"$f":"+Construction!$I$2&\"  Total Available Points\"","v":"40  Total Available Points"},null,{"$f":" D249 & \" Missing Elements\"","v":"19 Missing Elements"},null,{"$f":" F249 & \" Missing Elements\"","v":"19 Missing Elements"},{"$f":" G249 & \" Missing Elements\"","v":"19 Missing Elements"},null,null,null,null,null,null,null,null,null,null,null,null,null,null,null,null,null,null,null,null,null,null,null,null,null,null,null,null,null,null,null,null,null,null,null,null,null,null,null,null,null,null,null,null,null,null,null,null,null,null,null,null,null,null,null,null,null,null,null,null,null,null,null,null,null,null,null,null,null,null,null,null,null,null,null,null,null,null,null,null,null,null,null,null,null,null,null,null,null,null,null,null,null,null,"Ranked element","CRF","abs","Re-rank","Rank","Ranked CRF","Element","New Element","crf.abs","rank","Sorted Element","Sorted CRF"]
[null,"Geometric Design Elements",null,"Existing","Standard (Based on Multi-lane Divided)","Design 1","Design 2",{"$f":"\"Marginal Safety for \"&$I$2&\" (compared to \" & $I$4 & \")\"","v":"Marginal Safety for Standard (compared to Existing)"},"Optimal (Based on Multi-lane Divided)",null,null,null,null,null,null,null,null,null,null,null,null,null,null,null,null,null,null,null,null,null,null,null,null,null,null,null,null,null,null,null,null,null,null,null,null,null,null,null,null,null,null,null,null,null,null,null,null,null,null,null,null,null,null,null,null,null,null,null,null,null,null,null,null,null,null,null,null,null,null,null,null,null,null,null,null,null,null,null,null,null,null,null,null,null,null,null,null,null,null,null,null,{"$f":"IF(CY23=0,\"\",DB23&\". \"&DD23)","v":""},{"$f":"H24","v":0},{"$f":"ABS(CY23)","v":0},{"$f":"_xlfn.RANK.EQ(DB23,$DB$23:$DB$46,1)","v":10},{"$f":"_xlfn.RANK.EQ(CZ23,$CZ$23:$CZ$46)+DG23/100","v":10.01},{"$f":"CY23","v":0},{"$f":"IF(ROUND(DF23,2)=0,\"\",C24)","v":""},{"$f":"DD23","v":""},{"$f":"CZ23","v":0},1,{"$f":"IFERROR(IF(IFERROR(VLOOKUP(DG23,$DA$23:$DF$46,4,)&\", \"&CY23=0,\"\"),\"\",IFERROR(VLOOKUP(DG23,$DA$23:$DE$46,4,),\"\")),\"\")","v":"Pavement Friction (skid number) ***"},{"$f":"IFERROR(IF(IFERROR(VLOOKUP(DG23,$DA$23:$DF$46,3,)&\", \"&CY23=0,\"\"),\"\",IFERROR(VLOOKUP(DG23,$DA$23:$DE$46,3,),\"\")),\"\")","v":0.28430956017940245}]
[null,null,"Configuration of Multilane Roadway",null,"Divided - Unsurfaced Median",null,null,null,"Divided - Unsurfaced Median",null,null,null,null,null,null,null,null,null,null,null,null,null,null,null,null,null,null,null,null,null,null,null,null,null,null,null,null,null,null,null,null,null,null,null,null,null,null,null,null,null,null,null,null,null,null,null,null,null,null,null,null,null,null,null,null,null,null,null,null,null,null,null,null,null,null,null,null,null,null,null,null,null,null,null,null,null,null,null,null,null,null,null,null,null,null,null,null,null,null,null,null,"5.02. Median Configuration (Width or Type)",{"$f":"H25","v":8.9999999999999969E-2},8.9999999999999969E-2,{"$f":"_xlfn.RANK.EQ(DB24,$DB$23:$DB$46,1)","v":5},{"$f":"_xlfn.RANK.EQ(CZ24,$CZ$23:$CZ$46)+DG24/100","v":5.0199999999999996},{"$f":"CY24","v":8.9999999999999969E-2},{"$f":"IF(ROUND(DF24,2)=0,\"\",C25)","v":"Median Configuration (Width or Type)"},{"$f":"DD24","v":"Median Configuration (Width or Type)"},8.9999999999999969E-2,2,{"$f":"IFERROR(IF(IFERROR(VLOOKUP(DG24,$DA$23:$DF$46,4,)&\", \"&CY24=0,\"\"),\"\",IFERROR(VLOOKUP(DG24,$DA$23:$DE$46,4,),\"\")),\"\")","v":"Driveway Density (driveways per mile)"},{"$f":"IFERROR(IF(IFERROR(VLOOKUP(DG24,$DA$23:$DF$46,3,)&\", \"&CY24=0,\"\"),\"\",IFERROR(VLOOKUP(DG24,$DA$23:$DE$46,3,),\"\")),\"\")","v":-0.22388114201141129}]
[null,null,"Median Configuration (Width or Type)",null,30,null,null,{"$f":"M103","v":8.9999999999999969E-2},100,null,null,null,null,null,null,null,null,null,null,null,null,null,null,null,null,null,null,null,null,null,null,null,null,null,null,null,null,null,null,null,null,null,null,null,null,null,null,null,null,null,null,null,null,null,null,null,null,null,null,null,null,null,null,null,null,null,null,null,null,null,null,null,null,null,null,null,null,null,null,null,null,null,null,null,null,null,null,null,null,null,null,null,null,null,null,null,null,null,null,null,null,"",{"$f":"H27","v":0},0,11,10.029999999999999,{"$f":"CY25","v":0},{"$f":"IF(ROUND(DF25,2)=0,\"\",C27)","v":""},{"$f":"DD25","v":""},0,3,{"$f":"IFERROR(IF(IFERROR(VLOOKUP(DG25,$DA$23:$DF$46,4,)&\", \"&CY25=0,\"\"),\"\",IFERROR(VLOOKUP(DG25,$DA$23:$DE$46,4,),\"\")),\"\")","v":"Average Outside Shoulder Width (feet)"},{"$f":"IFERROR(IF(IFERROR(VLOOKUP(DG25,$DA$23:$DF$46,3,)&\", \"&CY25=0,\"\"),\"\",IFERROR(VLOOKUP(DG25,$DA$23:$DE$46,3,),\"\")),\"\")","v":0.18061674008810569}]
[null,null,null,null,null,null,null,null,null,null,null,null,null,null,null,null,null,null,null,null,null,null,null,null,null,null,null,null,null,null,null,null,null,null,null,null,null,null,null,null,null,null,null,null,null,null,null,null,null,null,null,null,null,null,null,null,null,null,null,null,null,null,null,null,null,null,null,null,null,null,null,null,null,null,null,null,null,null,null,null,null,null,null,null,null,null,null,null,null,null,null,null,null,null,null,null,null,null,null,null,null,null,null,null,null,null,null,null,null,null,4,{"$f":"IFERROR(IF(IFERROR(VLOOKUP(DG26,$DA$23:$DF$46,4,)&\", \"&CY26=0,\"\"),\"\",IFERROR(VLOOKUP(DG26,$DA$23:$DE$46,4,),\"\")),\"\")","v":"Roadside Sideslope (Foreslope)"},{"$f":"IFERROR(IF(IFERROR(VLOOKUP(DG26,$DA$23:$DF$46,3,)&\", \"&CY26=0,\"\"),\"\",IFERROR(VLOOKUP(DG26,$DA$23:$DE$46,3,),\"\")),\"\")","v":0.15697622474810147}]
[null,null,"Lane Width (feet)",null,12,null,null,{"$f":"M104","v":0},12,null,null,null,null,null,null,null,null,null,null,null,null,null,null,null,null,null,null,null,null,null,null,null,null,null,null,null,null,null,null,null,null,null,null,null,null,null,null,null,null,null,null,null,null,null,null,null,null,null,null,null,null,null,null,null,null,null,null,null,null,null,null,null,null,null,null,null,null,null,null,null,null,null,null,null,null,null,null,null,null,null,null,null,null,null,null,null,null,null,null,null,null,null,null,null,null,null,null,null,null,null,5,"Median Configuration (Width or Type)",8.9999999999999969E-2]
[null,null,"Average Outside Shoulder Width (feet)",null,8,null,null,{"$f":"M105","v":0.18061674008810569},10,null,null,null,null,null,null,null,null,null,null,null,null,null,null,null,null,null,null,null,null,null,null,null,null,null,null,null,null,null,null,null,null,null,null,null,null,null,null,null,null,null,null,null,null,null,null,null,null,null,null,null,null,null,null,null,null,null,null,null,null,null,null,null,null,null,null,null,null,null,null,null,null,null,null,null,null,null,null,null,null,null,null,null,null,null,null,null,null,null,null,null,null,{"$f":"IF(CY28=0,\"\",DB28&\". \"&DD28)","v":"3.06. Average Outside Shoulder Width (feet)"},{"$f":"H28","v":0.18061674008810569},{"$f":"ABS(CY28)","v":0.18061674008810569},3,3.06,{"$f":"CY28","v":0.18061674008810569},{"$f":"IF(ROUND(DF28,2)=0,\"\",C28)","v":"Average Outside Shoulder Width (feet)"},{"$f":"DD28","v":"Average Outside Shoulder Width (feet)"},{"$f":"CZ28","v":0.18061674008810569},6,"Roadside Lateral Clearance to Obstruction (ft)",6.4777606999867676E-2]
[null,null,"Average Inside Shoulder Width (feet)",null,4,null,null,{"$f":"M106","v":0},10,null,null,null,null,null,null,null,null,null,null,null,null,null,null,null,null,null,null,null,null,null,null,null,null,null,null,null,null,null,null,null,null,null,null,null,null,null,null,null,null,null,null,null,null,null,null,null,null,null,null,null,null,null,null,null,null,null,null,null,null,null,null,null,null,null,null,null,null,null,null,null,null,null,null,null,null,null,null,null,null,null,null,null,null,null,null,null,null,null,null,null,null,{"$f":"IF(CY29=0,\"\",DB29&\". \"&DD29)","v":""},{"$f":"H33","v":0},{"$f":"ABS(CY29)","v":0},12,10.07,0,{"$f":"IF(ROUND(DF29,2)=0,\"\",\"Hz and Vt Alignment\")","v":""},"",{"$f":"CZ29","v":0},7,"Safety Edge",-2.3424031600265627E-2]
["",null,"Number of Lanes per Direction of Travel",null,2,null,null,null,2,null,null,null,null,null,null,null,null,null,null,null,null,null,null,null,null,null,null,null,null,null,null,null,null,null,null,null,null,null,null,null,null,null,null,null,null,null,null,null,null,null,null,null,null,null,null,null,null,null,null,null,null,null,null,null,null,null,null,null,null,null,null,null,null,null,null,null,null,null,null,null,null,null,null,null,null,null,null,null,null,null,null,null,null,null,null,null,null,null,null,null,null,{"$f":"IF(CY30=0,\"\",DB30&\". \"&DD30)","v":""},{"$f":"H29","v":0},{"$f":"ABS(CY30)","v":0},13,10.08,0,{"$f":"IF(ROUND(DF30,2)=0,\"\",C29)","v":""},"",{"$f":"CZ30","v":0},8,"Shoulder Rumble Strips",2.2875008800570917E-2]
[null,null,"Horizontal Curve Present?","--","--","--","--",null,"--",null,null,null,null,null,null,null,null,null,null,null,null,null,null,null,null,null,null,null,null,null,null,null,null,null,null,null,null,null,null,null,null,null,null,null,null,null,null,null,null,null,null,null,null,null,null,null,null,null,null,null,null,null,null,null,null,null,null,null,null,null,null,null,null,null,null,null,null,null,null,null,null,null,null,null,null,null,null,null,null,null,null,null,null,null,null,null,null,null,null,null,null,{"$f":"IF(CY31=0,\"\",DB31&\". \"&DD31)","v":""},{"$f":"H47","v":0},{"$f":"ABS(CY31)","v":0},14,10.09,0,{"$f":"IF(ROUND(DF31,2)=0,\"\",C47)","v":""},"",{"$f":"CZ31","v":0},9,"Lighting",-1.7096579124742384E-2]
[null,null,"Horizontal Curve Data for Controlling Element:","--","--","--","--",null,"--",null,null,null,null,null,null,null,null,null,null,null,null,null,null,null,null,null,null,null,null,null,null,null,null,null,null,null,null,null,null,null,null,null,null,null,null,null,null,null,null,null,null,null,null,null,null,null,null,null,null,null,null,null,null,null,null,null,null,null,null,null,null,null,null,null,null,null,null,null,null,null,null,null,null,null,null,null,null,null,null,null,null,null,null,null,null,null,null,null,null,null,null,"",{"$f":"H48","v":0},0,15,10.1,0,{"$f":"IF(ROUND(DF32,2)=0,\"\",C48)","v":""},"",0,10,"",0]
[null,null,"  Radius (feet)",null,{"$f":"IF(MAX($I$10,$I$11)<45,590,IF($I$12=6,VLOOKUP(MAX($I$10,$I$11),Construction!$B$27:$D$34,2,TRUE),VLOOKUP(MAX($I$10,$I$11),Construction!$G$27:$I$34,2,TRUE)))","v":590},null,null,{"$f":"M144","v":0},{"$f":"IF(MAX($I$10,$I$11)<45,590,IF($I$12=6,VLOOKUP(MAX($I$10,$I$11),Construction!$B$43:$C$50,2,TRUE),VLOOKUP(MAX($I$10,$I$11),Construction!$G$43:$H$50,2,TRUE)))","v":590},null,null,null,null,null,null,null,null,null,null,null,null,null,null,null,null,null,null,null,null,null,null,null,null,null,null,null,null,null,null,null,null,null,null,null,null,null,null,null,null,null,null,null,null,null,null,null,null,null,null,null,null,null,null,null,null,null,null,null,null,null,null,null,null,null,null,null,null,null,null,null,null,null,null,null,null,null,null,null,null,null,null,null,null,null,null,null,null,null,null,null,null,"",{"$f":"H56","v":0},0,16,10.11,0,{"$f":"IF(ROUND(DF33,2)=0,\"\",C56)","v":""},"",0,11,"",0]
[null,null,"Length of Horizontal Curve (feet)",null,{"$f":"IF(D35=\"\", \"\", E33*E35/57.296)","v":""},null,null,null,{"$f":"I33*I35/57.296","v":3758.5520804244625},null,null,null,null,null,null,null,null,null,null,null,null,null,null,null,null,null,null,null,null,null,null,null,null,null,null,null,null,null,null,null,null,null,null,null,null,null,null,null,null,null,null,null,null,null,null,null,null,null,null,null,null,null,null,null,null,null,null,null,null,null,null,null,null,null,null,null,null,null,null,null,null,null,null,null,null,null,null,null,null,null,null,null,null,null,null,null,null,null,null,null,null,"",0,0,17,10.119999999999999,0,"","",0,12,"",0]
[null,null,"Calculated Deflection Angle ∆",{"$f":"IF(OR(ISBLANK(D33),ISBLANK(D34),$B$31=\"No\",ISBLANK($B$31)),\"\",ROUND(D34/D33*57.296,1))","v":""},{"$f":"IF(ISBLANK(D35), \"\",D35)","v":""},{"$f":"IF(OR(ISBLANK(F33),ISBLANK(F34),$B$31=\"No\",ISBLANK($B$31)),\"\",ROUND(F34/F33*57.296,1))","v":""},{"$f":"IF(OR(ISBLANK(G33),ISBLANK(G34),$B$31=\"No\",ISBLANK($B$31)),\"\",ROUND(G34/G33*57.296,1))","v":""},null,{"$f":"MIN(D35,IF(F37=INDEX(HCurveChange,1,0), F35, 365),IF(G37=INDEX(HCurveChange,1,0), G35, 365))","v":365},null,null,null,null,null,null,null,null,null,null,null,null,null,null,null,null,null,null,null,null,null,null,null,null,null,null,null,null,null,null,null,null,null,null,null,null,null,null,null,null,null,null,null,null,null,null,null,null,null,null,null,null,null,null,null,null,null,null,null,null,null,null,null,null,null,null,null,null,null,null,null,null,null,null,null,null,null,null,null,null,null,null,null,null,null,null,null,null,null,null,null,null,"",0,0,18,10.130000000000001,0,"","",0,13,"",0]
[null,null,null,null,null,"∆ has changed. \nAre you changing the ∆?","∆ has changed. \nAre you changing the ∆?",null,null,null,null,null,null,null,null,null,null,null,null,null,null,null,null,null,null,null,null,null,null,null,null,null,null,null,null,null,null,null,null,null,null,null,null,null,null,null,null,null,null,null,null,null,null,null,null,null,null,null,null,null,null,null,null,null,null,null,null,null,null,null,null,null,null,null,null,null,null,null,null,null,null,null,null,null,null,null,null,null,null,null,null,null,null,null,null,null,null,null,null,null,null,"",0,0,19,10.14,0,"","",0,14,"",0]
[null,null,null,null,null,null,null,null,null,null,null,null,null,null,null,null,null,null,null,null,null,null,null,null,null,null,null,null,null,null,null,null,null,null,null,null,null,null,null,null,null,null,null,null,null,null,null,null,null,null,null,null,null,null,null,null,null,null,null,null,null,null,null,null,null,null,null,null,null,null,null,null,null,null,null,null,null,null,null,null,null,null,null,null,null,null,null,null,null,null,null,null,null,null,null,null,null,null,null,null,null,"8.15. Shoulder Rumble Strips",2.2875008800570917E-2,2.2875008800570917E-2,8,8.15,2.2875008800570917E-2,"Shoulder Rumble Strips","Shoulder Rumble Strips",2.2875008800570917E-2,15,"",0]
[null,null,"Vertical Curve Present?","--","--","--","--",null,{"$f":"E38","v":"--"},null,null,null,null,null,null,null,null,null,null,null,null,null,null,null,null,null,null,null,null,null,null,null,null,null,null,null,null,null,null,null,null,null,null,null,null,null,null,null,null,null,null,null,null,null,null,null,null,null,null,null,null,null,null,null,null,null,null,null,null,null,null,null,null,null,null,null,null,null,null,null,null,null,null,null,null,null,null,null,null,null,null,null,null,null,null,null,null,null,null,null,null,"",0,0,20,10.16,0,"","",0,16,"",0]
[null,null,"Vertical Curve Data for Controlling Element:","--","--","--","--",null,"--",null,null,null,null,null,null,null,null,null,null,null,null,null,null,null,null,null,null,null,null,null,null,null,null,null,null,null,null,null,null,null,null,null,null,null,null,null,null,null,null,null,null,null,null,null,null,null,null,null,null,null,null,null,null,null,null,null,null,null,null,null,null,null,null,null,null,null,null,null,null,null,null,null,null,null,null,null,null,null,null,null,null,null,null,null,null,null,null,null,null,null,null,"2.17. Driveway Density (driveways per mile)",-0.22388114201141129,0.22388114201141129,2,2.17,-0.22388114201141129,{"$f":"IF(DF39=0,\"\",C62)","v":"Driveway Density (driveways per mile)"},"Driveway Density (driveways per mile)",0.22388114201141129,17,"",0]
[null,null,"  Approach (Entry) Grade, G1 (%)",null,{"$f":"IF(ISBLANK(D40),\"\", D40)","v":""},null,null,null,{"$f":"IF(B38=\"Yes\",I231,I241)","v":""},null,null,null,null,null,null,null,null,null,null,null,null,null,null,null,null,null,null,null,null,null,null,null,null,null,null,null,null,null,null,null,null,null,null,null,null,null,null,null,null,null,null,null,null,null,null,null,null,null,null,null,null,null,null,null,null,null,null,null,null,null,null,null,null,null,null,null,null,null,null,null,null,null,null,null,null,null,null,null,null,null,null,null,null,null,null,null,null,null,null,null,null,"9.18. Lighting",-1.7096579124742384E-2,1.7096579124742384E-2,9,9.18,-1.7096579124742384E-2,{"$f":"IF(DF40=0,\"\",C63)","v":"Lighting"},"Lighting",1.7096579124742384E-2,18,"",0]
[null,null,"  Departure (Exit) Grade, G2 (%)",null,{"$f":"IF(ISBLANK(D41),\"\", D41)","v":""},null,null,null,{"$f":"IF($B$38=\"Yes\",I232,\"\")","v":""},null,null,null,null,null,null,null,null,null,null,null,null,null,null,null,null,null,null,null,null,null,null,null,null,null,null,null,null,null,null,null,null,null,null,null,null,null,null,null,null,null,null,null,null,null,null,null,null,null,null,null,null,null,null,null,null,null,null,null,null,null,null,null,null,null,null,null,null,null,null,null,null,null,null,null,null,null,null,null,null,null,null,null,null,null,null,null,null,null,null,null,null,"1.19. Pavement Friction (skid number) ***",0.28430956017940245,0.28430956017940245,1,1.19,0.28430956017940245,{"$f":"IF(DF41=0,\"\",C64)","v":"Pavement Friction (skid number) ***"},"Pavement Friction (skid number) ***",0.28430956017940245,19,"",0]
[null,null,"  Length (feet)",null,{"$f":"IF(AND($B$38=\"Yes\", D43<>\"\"), ABS(E40-E41)*D43, \"\")","v":""},null,null,null,{"$f":"IF(AND($B$38=\"Yes\",I40<>\"\",I41<>\"\", NOT(ISBLANK($I$10)), NOT(ISBLANK($I$11))),ABS(I41-I40)*I43,\"\")","v":""},null,null,null,null,null,null,null,null,null,null,null,null,null,null,null,null,null,null,null,null,null,null,null,null,null,null,null,null,null,null,null,null,null,null,null,null,null,null,null,null,null,null,null,null,null,null,null,null,null,null,null,null,null,null,null,null,null,null,null,null,null,null,null,null,null,null,null,null,null,null,null,null,null,null,null,null,null,null,null,null,null,null,null,null,null,null,null,null,null,null,null,null,"4.2. Roadside Sideslope (Foreslope)",{"$f":"H75","v":0.15697622474810147},0.15697622474810147,4,4.2,0.15697622474810147,{"$f":"IF(DF42=0,\"\",C75)","v":"Roadside Sideslope (Foreslope)"},"Roadside Sideslope (Foreslope)",0.15697622474810147,20,"",0]
[null,null,"  Calculated Rate of Change, K (ft/ft)",{"$f":"IF(OR($B$38=\"No\",ISBLANK($B$38), ISBLANK(D40), ISBLANK(D41),ISBLANK(D42), D40=D41), \"\", ROUND(D42/(ABS(D41-D40)),1))","v":""},{"$f":"IF(AND($B$38=\"Yes\", NOT(ISBLANK($I$10)), NOT(ISBLANK($I$11)), D43<>\"\"), IF($E$46=\"Crest\",  VLOOKUP(MAX($I$10,$I$11),Construction!$B$159:$D$171,2,TRUE), VLOOKUP(MAX($I$10,$I$11),Construction!$B$159:$D$171,3,TRUE)), \"\")","v":""},{"$f":"IF(AND($B$38=\"Yes\", SUM(F267:F269)=0),ROUND(F42/(ABS(F41-F40)),1),\"\")","v":""},{"$f":"IF(AND($B$38=\"Yes\", SUM(G267:G269)=0),ROUND(G42/(ABS(G41-G40)),1),\"\")","v":""},null,{"$f":"IF(OR($B$38<>\"Yes\", ISBLANK($I$10), ISBLANK($I$11), $I$40=\"\", $I$41=\"\", $I$46=\"--\", ISBLANK($I$46)),\"\",IF(I$46=\"Crest\",VLOOKUP(MAX($I$10,$I$11),Construction!$B$177:$D$189,2,TRUE),VLOOKUP(MAX($I$10,$I$11),Construction!$B$177:$D$189,3,TRUE)))","v":""},null,null,null,null,null,null,null,null,null,null,null,null,null,null,null,null,null,null,null,null,null,null,null,null,null,null,null,null,null,null,null,null,null,null,null,null,null,null,null,null,null,null,null,null,null,null,null,null,null,null,null,null,null,null,null,null,null,null,null,null,null,null,null,null,null,null,null,null,null,null,null,null,null,null,null,null,null,null,null,null,null,null,null,null,null,null,null,null,null,null,null,null,"",{"$f":"H76","v":0},0,21,10.210000000000001,0,{"$f":"IF(DF43=0,\"\",C76)","v":""},"",0,21,"",0]
[null,null,null,null,null,"Are you changing the geometry?","Are you changing the geometry?",null,null,null,null,null,null,null,null,null,null,null,null,null,null,null,null,null,null,null,null,null,null,null,null,null,null,null,null,null,null,null,null,null,null,null,null,null,null,null,null,null,null,null,null,null,null,null,null,null,null,null,null,null,null,null,null,null,null,null,null,null,null,null,null,null,null,null,null,null,null,null,null,null,null,null,null,null,null,null,null,null,null,null,null,null,null,null,null,null,null,null,null,null,null,"7.22. Safety Edge",{"$f":"H77","v":-2.3424031600265627E-2},2.3424031600265627E-2,7,7.22,-2.3424031600265627E-2,{"$f":"IF(DF44=0,\"\",C77)","v":"Safety Edge"},"Safety Edge",2.3424031600265627E-2,22,"",0]
[null,null,null,null,null,null,null,null,null,null,null,null,null,null,null,null,null,null,null,null,null,null,null,null,null,null,null,null,null,null,null,null,null,null,null,null,null,null,null,null,null,null,null,null,null,null,null,null,null,null,null,null,null,null,null,null,null,null,null,null,null,null,null,null,null,null,null,null,null,null,null,null,null,null,null,null,null,null,null,null,null,null,null,null,null,null,null,null,null,null,null,null,null,null,null,null,null,null,null,null,null,"6.23. Roadside Lateral Clearance to Obstruction (ft)",{"$f":"H78","v":6.4777606999867676E-2},6.4777606999867676E-2,6,6.23,6.4777606999867676E-2,{"$f":"IF(DF45=0,\"\",C78)","v":"Roadside Lateral Clearance to Obstruction (ft)"},"Roadside Lateral Clearance to Obstruction (ft)",6.4777606999867676E-2,23,"",{"$f":"IFERROR(IF(IFERROR(VLOOKUP(DG45,$DA$23:$DF$46,3,)&\", \"&CY45=0,\"\"),\"\",IFERROR(VLOOKUP(DG45,$DA$23:$DE$46,3,),\"\")),\"\")","v":""}]
[null,null,"  Calculated Sag or Crest?",{"$f":"IF(AND($B$38=\"Yes\", SUM(D267:D269)=0),IF(D40>D41,\"Crest\",\"Sag\"),\"--\")","v":"--"},{"$f":"IF(AND($B$38=\"Yes\", SUM(D267:D269)=0),IF(E40>E41,\"Crest\",\"Sag\"),\"--\")","v":"--"},{"$f":"IF(AND($B$38=\"Yes\", SUM(F267:F269)=0),IF(F40>F41,\"Crest\",\"Sag\"),\"--\")","v":"--"},{"$f":"IF(AND($B$38=\"Yes\", SUM(G267:G269)=0),IF(G40>G41,\"Crest\",\"Sag\"),\"--\")","v":"--"},null,{"$f":"IF($B$38=\"Yes\",IF(I40>I41,\"Crest\",\"Sag\"),\"--\")","v":"--"},null,null,null,null,null,null,null,null,null,null,null,null,null,null,null,null,null,null,null,null,null,null,null,null,null,null,null,null,null,null,null,null,null,null,null,null,null,null,null,null,null,null,null,null,null,null,null,null,null,null,null,null,null,null,null,null,null,null,null,null,null,null,null,null,null,null,null,null,null,null,null,null,null,null,null,null,null,null,null,null,null,null,null,null,null,null,null,null,null,null,null,null,"",{"$f":"H79","v":0},0,22,10.24,0,{"$f":"IF(DF46=0,\"\",C79)","v":""},"",0,24,"",{"$f":"IFERROR(IF(IFERROR(VLOOKUP(DG46,$DA$23:$DF$46,3,)&\", \"&CY46=0,\"\"),\"\",IFERROR(VLOOKUP(DG46,$DA$23:$DE$46,3,),\"\")),\"\")","v":""}]
[]
[]
[null,null,"Geometric Design Element (Partial Score)",{"$f":"IF(OR(SUM(D251:D252,D254:D257,D260:D261,D267:D269)>0, ISERR(D129)),\"\",D129)","v":""},{"$f":"IF(OR(SUM(E251:E252,E254:E257,E260:E261,E267:E269)>0, ISERR(E129)),\"\",E129)","v":""},"","",null,{"$f":"IF(OR(SUM(I251:I252,I254:I257,I260:I261,I267:I269)>0, ISERR(I129)),\"\",I129)","v":""},null,null,null,"SCHEMATIC REPRESENTING INPUT DATA FOR ",null,null,null,null,null,null,null,{"$f":"IF($I$2=\"Existing\",\"EXISTING CONFIGURATION\",IF($I$2=\"Standard\",\"STANDARD OPTION\",IF($I$2=\"Design 1\",\"DESIGN 1 OPTION\",IF($I$2=\"Design 2\",\"DESIGN 2 OPTION\",\"OPTIMAL OPTION\"))))","v":"STANDARD OPTION"}]
[null,null,"Total Safety Score",{"$f":"IF(OR(D$249>0, $I$315>0, ISERROR(D$205+D$175+D$129)),\"\",D$205+D$175+D$129)","v":""},{"$f":"IF(OR(E$249>0, $I$315>0, ISERROR(E$205+E$175+E$129)),\"\",E$205+E$175+E$129)","v":""},{"$f":"IF(OR(F$249>0, $I$315>0, ISERROR(F$205+F$175+F$129)),\"\",F$205+F$175+F$129)","v":""},{"$f":"IF(OR(G$249>0, $I$315>0, ISERROR(G$205+G$175+G$129)),\"\",G$205+G$175+G$129)","v":""},null,{"$f":"IF(OR(I$249>0, $I$315>0, ISERROR(I$205+I$175+I$129)),\"\",I$205+I$175+I$129)","v":""}]
[null,null,null,null,null,null,null,null,null,null,null,"LT",null,null,null,null,null,null,null,null,null,null,null,null,null,null,"RT"]
[null,null,null,null,null,null,null,null,null,null,null,"R/W",null,null,null,null,null,null,{"$f":"+O54+W54","v":0},null,null,null,null,null,null,null,"R/W"]
[]
[null,{"$f":"+Construction!$I$3&\"  Total Available Points\"","v":"20  Total Available Points"},null,null,null,null,null,null,null,null,null,null,null,null,{"$f":"+$I$14","v":0},null,null,null,null,null,null,null,{"$f":"+$I$15","v":0}]
[null,"Traffic Elements",null,"Existing","Standard","Design 1","Design 2",{"$f":"H23","v":"Marginal Safety for Standard (compared to Existing)"},"Optimal"]
[null,null,"Advance Static Curve Warning Signs",null,"No",null,null,{"$f":"M149","v":0},"Yes",null,null,{"$f":"+O54-N56-P56","v":-32},null,{"$f":"IF(+$I$2=\"Existing\",D28,IF($I$2=\"Standard\",E28,IF($I$2=\"Design 1\",F28,IF($I$2=\"Design 2\",G28,I28))))","v":8},null,{"$f":"IF(+$I$2=\"Existing\",D27*D30,IF($I$2=\"Standard\",E27*E30,IF($I$2=\"Design 1\",F27*F30,IF($I$2=\"Design 2\",G27*G30,I27*I30))))","v":24},null,null,null,null,null,{"$f":"+P56","v":24},null,null,{"$f":"+N56","v":8},{"$f":"+W54-V56-Y56","v":-32}]
[null,null,"Chevron Signs on Horizontal Curves",null,"No",null,null,{"$f":"M150","v":0},"Yes"]
[null,null,"Post-Mounted Delineators",null,"No",null,null,{"$f":"M151","v":0},"Yes"]
[null,null,"Edgeline Pavement Markings or Profile Markings",null,"No",null,null,{"$f":"M152","v":0},"Yes"]
[null,null,"Shoulder Rumble Strips",null,"Yes",null,null,{"$f":"M154","v":2.2875008800570917E-2},"Yes"]
[null,null,"Centerline Rumble Strips",null,"No",null,null,{"$f":"M155","v":0},"Yes",null,null,null,null,null,null,null,null,null,"Tangent X-Section"]
[null,null,"Driveway Density (driveways per mile)",null,10,null,null,{"$f":"M156","v":-0.22388114201141129},0]
[null,null,"Lighting",null,"No",null,null,{"$f":"M157","v":-1.7096579124742384E-2},"Yes"]
[null,null,"Pavement Friction (skid number) ***",null,37,null,null,{"$f":"M158","v":0.28430956017940245},54]
[null,null,"Traffic Control Element (Partial Score):",{"$f":"IF(ISERROR(D175), \"\", D175)","v":12},{"$f":"IF(ISERROR(E175), \"\", E175)","v":14},"","",null,{"$f":"IF(ISERROR(I175), \"\", I175)","v":20}]
[null,null,"Total Safety Score",{"$f":"IF(OR(D$249>0, $I$315>0, ISERROR(D$205+D$175+D$129)),\"\",D$205+D$175+D$129)","v":""},{"$f":"IF(OR(E$249>0, $I$315>0, ISERROR(E$205+E$175+E$129)),\"\",E$205+E$175+E$129)","v":""},"","",null,{"$f":"IF(OR(I$249>0, $I$315>0, ISERROR(I$205+I$175+I$129)),\"\",I$205+I$175+I$129)","v":""}]
[null,null,null,null,null,null,null,null,null,null," "]
[null,null,"*** Pavement friction/skid numbers will not be subject to open records requests ***",null,null,null,null,null,null,null,null,null,null,null,null,null,{"$f":"IF($I$2=\"Existing\",\"SCORE SUMMARY FOR EXISTING CONFIGURATION\", IF($I$2=\"Standard\",\"SCORE SUMMARY FOR STANDARD OPTION\",IF($I$2=\"Design 1\",\"SCORE SUMMARY FOR DESIGN 1 OPTION\",IF($I$2=\"Design 2\",\"SCORE SUMMARY FOR DESIGN 2 OPTION\", \"SCORE SUMMARY FOR OPTIMAL OPTION\"))))","v":"SCORE SUMMARY FOR STANDARD OPTION"}]
[null,null,null,null,null,null,null,null,null,null,null,null,null,null,null,null,"GEOMETRIC DESIGN:",null,null,null,null,null,{"$f":"IF($I$2=\"Existing\",D49,IF($I$2=\"Standard\",E49,IF($I$2=\"Design 1\",F49,IF($I$2=\"Design 2\",G49,I49))))","v":""}]
[null,null,null,null,null,null,null,null,null,null,null,null,null,null,null,null,"TRAFFIC CONTROL:",null,null,null,null,null,{"$f":"IF($I$2=\"Existing\",D65,IF($I$2=\"Standard\",E65,IF($I$2=\"Design 1\",F65,IF($I$2=\"Design 2\",G65,I65))))","v":14}]
[null,null,null,null,null,null,null,null,null,null,null,null,null,null,null,null,"ROADSIDE:",null,null,null,null,null,{"$f":"IF($I$2=\"Existing\",D80,IF($I$2=\"Standard\",E80,IF($I$2=\"Design 1\",F80,IF($I$2=\"Design 2\",G80,I80))))","v":27}]
[null,null,null,null,null,null,null,null,null,null,null,null,null,null,null,null,"OVERALL SAFETY SCORE:",null,null,null,null,null,{"$f":"SUM(W69:X71)","v":41}]
[null,{"$f":"+Construction!$I$4&\"  Total Available Points\"","v":"40  Total Available Points"}]
[null,"Roadside  Elements",null,"Existing","Standard","Design 1","Design 2",{"$f":"H23","v":"Marginal Safety for Standard (compared to Existing)"},"Optimal"]
[null,null,"Roadside Sideslope (Foreslope)",null,"1V:4H",null,null,{"$f":"M184","v":0.15697622474810147},"1V:6H"]
[null,null,"Roadside Backslope",null,{"$f":"E75","v":"1V:4H"},null,null,{"$f":"M185","v":0},"1V:4H"]
[null,null,"Safety Edge",null,"No",null,null,-2.3424031600265627E-2,"Yes"]
[null,null,"Roadside Lateral Clearance to Obstruction (ft)",null,30,null,null,6.4777606999867676E-2,40]
[null,null,"Roadside Obstruction Type",null,"None",null,null,0,"None/Removed"]
[null,null,"Roadside Element (Partial Score):",{"$f":"IF(ISERR(D205),\"\",D205)","v":20},{"$f":"IF(ISERR(E205),\"\",E205)","v":27},20,20,null,{"$f":"IF(ISERR(I205),\"\",I205)","v":40},null,null,null,null,null,null,null,null,null,null,null,null,null,null," "]
[null,null,"Total Safety Score",{"$f":"IF(OR(D$249>0, $I$315>0, ISERROR(D$205+D$175+D$129)),\"\",D$205+D$175+D$129)","v":""},{"$f":"IF(OR(E$249>0, $I$315>0, ISERROR(E$205+E$175+E$129)),\"\",E$205+E$175+E$129)","v":""},"","",null,{"$f":"IF(OR(I$249>0, $I$315>0, ISERROR(I$205+I$175+I$129)),\"\",I$205+I$175+I$129)","v":""}]
[]
[]
[]
[]
[null,"ADDITIONAL SIDESLOPE INFORMATION"]
[null,null,"Distance to Slope Toe from Shoulder (ft)",null,{"$f":"D87","v":0},{"$f":"E87","v":0},0,null,{"$f":"G87","v":0}]
[null,"Minimum foreslope feasible within current ROW",null,null,{"$f":"IF(OR(ISBLANK($D$87), ISERROR(E209)), \"\", \"1V:\"&E209&\"H\")","v":""},{"$f":"IF(OR(ISBLANK($D$87), ISERROR(F209)), \"\", \"1V:\"&F209&\"H\")","v":""},{"$f":"IF(OR(ISBLANK($D$87), ISERROR(G209)), \"\", \"1V:\"&G209&\"H\")","v":""},null,{"$f":"IF(OR(ISBLANK($D$87), ISERROR(I209)), \"\", \"1V:\"&I209&\"H\")","v":""}]
[null,"Additional R/W needed on left side",null,null,{"$f":"IF(OR(ISBLANK($D$87), ISERROR(E213)),\"\", MAX(E213,E216))","v":""},{"$f":"IF(OR(ISBLANK($D$87), ISERROR(F213)), \"\", MAX(F213,F216))","v":""},{"$f":"IF(OR(ISBLANK($D$87), ISERROR(G213)),\"\", MAX(G213,G216))","v":""},null,{"$f":"IF(OR(ISBLANK($D$87), ISERROR(I213)),\"\", MAX(I213,I216))","v":""}]
[null,"Additional R/W needed on right side",null,null,{"$f":"IF(OR(ISBLANK($D$87), ISERROR(E214)), \"\", MAX(E214,E217))","v":""},{"$f":"IF(OR(ISBLANK($D$87), ISERROR(F214)), \"\", MAX(F214,F217))","v":""},{"$f":"IF(OR(ISBLANK($D$87), ISERROR(G214)),\"\", MAX(G214,G217))","v":""},null,{"$f":"IF(OR(ISBLANK($D$87), ISERROR(I214)),\"\", MAX(I214,I217))","v":""}]
[]
[]
[]
[]
[]
[]
[]
[null,null,null,{"$f":"GetCMF_MED(D24,D25,2000,D28)","v":1},null,null,null,null,null,{"$f":"1-I104/E104","v":0},"For Plot"]
[null,null,null,null,null,null,null,null,null,{"$f":"1-I105/E105","v":3.2258064516129115E-2},"relative to","Prefer"]
[null,null,null,{"$f":"MAX(SUM(D107:D111)-5,$I$100)","v":{"$error":"#VALUE!"}},{"$f":"MAX(SUM(E107:E111)-5,$I$100)","v":{"$error":"#VALUE!"}},{"$error":"#VALUE!"},{"$error":"#VALUE!"},null,{"$f":"SUM(I107:I111)-5","v":{"$error":"#VALUE!"}},{"$f":"1-I106/E106","v":0.14444080962898154},{"$f":"MATCH(K101,ModView,0)","v":1},{"$f":"MATCH(L101,ModView,0)","v":2}]
[null,"Geometric",null,null,null,null,null,null,null,{"$f":"1-I107/E107","v":{"$error":"#VALUE!"}},{"$f":"I4","v":"Existing"},{"$f":"I2","v":"Standard"},"%"]
[null,null,"Divided versus Undivided",1,1,1,1,null,1,null,{"$f":"INDEX($D102:$I102,K$100)","v":1},{"$f":"INDEX($D102:$I102,L$100)","v":1},{"$f":"IF(ISERROR(1-L102/K102), 0, 1-L102/K102)","v":0}]
[null,null,"Median Width",{"$f":"GetCMF_MED(D24,D25,$I$13,D28)","v":1},{"$f":"GetCMF_MED(E24,E25,$I$13,E28)","v":0.91},{"$f":"GetCMF_MED(F24,F25,$I$13,F28)","v":1},{"$f":"GetCMF_MED(G24,G25,$I$13,G28)","v":1},{"$f":"H25","v":8.9999999999999969E-2},{"$f":"GetCMF_MED(I24,I25,$I$13,I28)","v":0.66},null,{"$f":"INDEX($D103:$I103,K$100)","v":1},{"$f":"INDEX($D103:$I103,L$100)","v":0.91},{"$f":"IF(ISERROR(1-L103/K103), 0, 1-L103/K103)","v":8.9999999999999969E-2}]
[null,null,"LW CMF",{"$f":"IF(D24=INDEX(MedConf_Header,1,2),VLOOKUP(+D27,Construction!$N$30:$O$36,2),VLOOKUP(D27,Construction!$I$15:$J$21,2))","v":{"$error":"#N/A"}},{"$f":"IF(E24=INDEX(MedConf_Header,1,2),VLOOKUP(+E27,Construction!$N$30:$O$36,2),VLOOKUP(E27,Construction!$I$15:$J$21,2))","v":1},{"$f":"IF(F24=INDEX(MedConf_Header,1,2),VLOOKUP(+F27,Construction!$N$30:$O$36,2),VLOOKUP(F27,Construction!$I$15:$J$21,2))","v":{"$error":"#N/A"}},{"$f":"IF(G24=INDEX(MedConf_Header,1,2),VLOOKUP(+G27,Construction!$N$30:$O$36,2),VLOOKUP(G27,Construction!$I$15:$J$21,2))","v":{"$error":"#N/A"}},{"$f":"H27","v":0},{"$f":"IF(I24=INDEX(MedConf_Header,1,2),VLOOKUP(+I27,Construction!$N$30:$O$36,2),VLOOKUP(I27,Construction!$I$15:$J$21,2))","v":1},null,{"$f":"INDEX($D104:$I104,K$100)","v":{"$error":"#N/A"}},{"$f":"INDEX($D104:$I104,L$100)","v":1},0,null,0]
[null,null,"SW CMF",{"$f":"IF(D24=INDEX(MedConf_Header,1,2),VLOOKUP(D28,Construction!$C$11:D21,2),(VLOOKUP(D28,Construction!$O$43:$P$53,2)-1)*0.27+1)","v":1.135},{"$f":"IF(E24=INDEX(MedConf_Header,1,2),VLOOKUP(E28,Construction!$C$11:E21,2),(VLOOKUP(E28,Construction!$O$43:$P$53,2)-1)*0.27+1)","v":0.93},{"$f":"IF(F24=INDEX(MedConf_Header,1,2),VLOOKUP(F28,Construction!$C$11:F21,2),(VLOOKUP(F28,Construction!$O$43:$P$53,2)-1)*0.27+1)","v":1.135},{"$f":"IF(G24=INDEX(MedConf_Header,1,2),VLOOKUP(G28,Construction!$C$11:G21,2),(VLOOKUP(G28,Construction!$O$43:$P$53,2)-1)*0.27+1)","v":1.135},{"$f":"IF($I$2=\"Existing\",(1-D105/E105),(IF($I$2=\"Design 1\",(1-F105/E105),(IF($I$2=\"Design 2\",(1-G105/E105),(IF($I$2=\"Optimal\",(1-I105/E105),0)))))))","v":0},{"$f":"IF(I24=INDEX(MedConf_Header,1,2),VLOOKUP(I28,Construction!$C$11:I21,2),(VLOOKUP(I28,Construction!$O$43:$P$53,2)-1)*0.27+1)","v":0.9},null,{"$f":"INDEX($D105:$I105,K$100)","v":1.135},{"$f":"INDEX($D105:$I105,L$100)","v":0.93},0.18061674008810569,null,0.15503875968992242]
[null,null,"Inside Shoulder Width",{"$f":"IF(AND(D24=INDEX(MedConf_Header,1,2), NOT(ISBLANK(D29))), EXP(-0.026*(D29-4)), 1)","v":1},{"$f":"IF(AND(E24=INDEX(MedConf_Header,1,2), NOT(ISBLANK(E29))), EXP(-0.026*(E29-4)), 1)","v":1},{"$f":"IF(AND(F24=INDEX(MedConf_Header,1,2), NOT(ISBLANK(F29))), EXP(-0.026*(F29-4)), 1)","v":1},{"$f":"IF(AND(G24=INDEX(MedConf_Header,1,2), NOT(ISBLANK(G29))), EXP(-0.026*(G29-4)), 1)","v":1},0,{"$f":"IF(AND(I24=INDEX(MedConf_Header,1,2), NOT(ISBLANK(I29))), EXP(-0.026*(I29-4)), 1)","v":0.85555919037101846},null,{"$f":"INDEX($D106:$I106,K$100)","v":1},{"$f":"INDEX($D106:$I106,L$100)","v":1},0,null,0]
[null,null,"HC and Grade",{"$f":"D$138^D$131","v":1},{"$f":"E$138^E$131","v":1},1,1,0,{"$f":"I$138^I$131","v":{"$error":"#VALUE!"}},null,{"$f":"INDEX($D107:$I107,K$100)","v":1},{"$f":"INDEX($D107:$I107,L$100)","v":1},0,null,0]
[null,null,"HC and VC Crest type I",{"$f":"D$139^D$132","v":1},{"$f":"E$139^E$132","v":1},1,1,0,{"$f":"I$139^I$132","v":{"$error":"#VALUE!"}},null,{"$f":"INDEX($D108:$I108,K$100)","v":1},{"$f":"INDEX($D108:$I108,L$100)","v":1},0,null,0]
[null,null,"HC and VC Sag type I",{"$f":"D$140^D$133","v":1},{"$f":"E$140^E$133","v":1},1,1,0,{"$f":"I$140^I$133","v":{"$error":"#VALUE!"}},{"$f":"1-I115/E115","v":{"$error":"#VALUE!"}},{"$f":"INDEX($D109:$I109,K$100)","v":1},{"$f":"INDEX($D109:$I109,L$100)","v":1},0,null,0]
[null,null,"HC and VC Crest type II",{"$f":"D$141^D$134","v":1},{"$f":"E$141^E$134","v":1},1,1,0,{"$f":"I$141^I$134","v":{"$error":"#VALUE!"}},{"$f":"1-I116/E116","v":{"$error":"#VALUE!"}},{"$f":"INDEX($D110:$I110,K$100)","v":1},{"$f":"INDEX($D110:$I110,L$100)","v":1},0,null,0]
[null,null,"HC and VC Sag type II",{"$f":"D$142^D$135","v":1},{"$f":"E$142^E$135","v":1},1,1,0,{"$f":"I$142^I$135","v":{"$error":"#VALUE!"}},{"$f":"1-I117/E117","v":{"$error":"#VALUE!"}},{"$f":"INDEX($D111:$I111,K$100)","v":1},{"$f":"INDEX($D111:$I111,L$100)","v":1},0,null,0]
[null,null,"Add TWLTL",{"$f":"IF(D$47=\"No\",1,CMFs!$F$17)","v":0.71},{"$f":"IF(E$47=\"No\",1,CMFs!$F$17)","v":0.71},{"$f":"IF(F$47=\"No\",1,CMFs!$F$17)","v":0.71},{"$f":"IF(G$47=\"No\",1,CMFs!$F$17)","v":0.71},0,{"$f":"IF(I$47=\"No\",1,CMFs!$F$17)","v":0.71},{"$f":"1-I118/E118","v":{"$error":"#VALUE!"}},{"$f":"INDEX($D112:$I112,K$100)","v":0.71},{"$f":"INDEX($D112:$I112,L$100)","v":0.71},0,null,0]
[null,null,"Provide passing lane",{"$f":"IF(D$48=\"No\",1,CMFs!$F$21)","v":0.75},{"$f":"IF(E$48=\"No\",1,CMFs!$F$21)","v":0.75},{"$f":"IF(F$48=\"No\",1,CMFs!$F$21)","v":0.75},{"$f":"IF(G$48=\"No\",1,CMFs!$F$21)","v":0.75},0,{"$f":"IF(I$48=\"No\",1,CMFs!$F$21)","v":0.75},{"$f":"I119/E119","v":{"$error":"#VALUE!"}},{"$f":"INDEX($D113:$I113,K$100)","v":0.75},{"$f":"INDEX($D113:$I113,L$100)","v":0.75},0,null,0]
[]
[null,null,"COMBINED Calculated CMF",{"$f":"+D104*D105*D106*D107*D108*D109*D110*D111*D112*D113*D103*D102","v":{"$error":"#N/A"}},{"$f":"+E104*E105*E106*E107*E108*E109*E110*E111*E112*E113*E103*E102","v":0.45065475000000005},{"$error":"#N/A"},{"$error":"#N/A"},{"$f":"IF($I$2=\"Existing\",(D115),(IF($I$2=\"Design 1\",(F115),(IF($I$2=\"Design 2\",(G115),(IF($I$2=\"Optimal\",(I115),E115)))))))","v":0.45065475000000005},{"$f":"+I104*I105*I106*I107*I108*I109*I110*I111*I112*I113*I103*I102","v":{"$error":"#VALUE!"}},null,{"$f":"INDEX($D115:$I115,K$100)","v":{"$error":"#N/A"}},{"$f":"INDEX($D115:$I115,L$100)","v":0.45065475000000005},{"$f":"IF(ISERROR(1-L115/K115), 0, 1-L115/K115)","v":0},null,0]
[null,null,"Calculated Relative to Design Standards (Column E)",{"$f":"+D115/$E$115","v":{"$error":"#N/A"}},1,{"$error":"#N/A"},{"$error":"#N/A"},1,{"$error":"#VALUE!"},null,{"$f":"INDEX($D116:$I116,K$100)","v":{"$error":"#N/A"}},{"$f":"INDEX($D116:$I116,L$100)","v":1},0,null,0]
[null,null,"P(Crash)",{"$f":"+D116/(D116+1)","v":{"$error":"#N/A"}},0.5,{"$error":"#N/A"},{"$error":"#N/A"},0.5,{"$error":"#VALUE!"},null,{"$f":"INDEX($D117:$I117,K$100)","v":{"$error":"#N/A"}},{"$f":"INDEX($D117:$I117,L$100)","v":0.5},0,null,0]
[null,null,"Factor Change on S curve",{"$f":"+D117/$E$117","v":{"$error":"#N/A"}},1,{"$error":"#N/A"},{"$error":"#N/A"},1,{"$error":"#VALUE!"},null,{"$f":"INDEX($D118:$I118,K$100)","v":{"$error":"#N/A"}},{"$f":"INDEX($D118:$I118,L$100)","v":1},0,null,0]
[null,null,"Adjust to Scale of 100",{"$f":"+$I$118/D118*100","v":{"$error":"#VALUE!"}},{"$error":"#VALUE!"},{"$error":"#VALUE!"},{"$error":"#VALUE!"},{"$error":"#VALUE!"},{"$error":"#VALUE!"},null,{"$f":"INDEX($D119:$I119,K$100)","v":{"$error":"#VALUE!"}},{"$f":"INDEX($D119:$I119,L$100)","v":{"$error":"#VALUE!"}},0]
[null,null,"Unadjusted Combined Relative to Standard",{"$f":"+D115/$E$115","v":{"$error":"#N/A"}},1,{"$error":"#N/A"},{"$error":"#N/A"},1,{"$error":"#VALUE!"},{"$f":"I126/E126","v":{"$error":"#VALUE!"}},{"$f":"INDEX($D120:$I120,K$100)","v":{"$error":"#N/A"}},{"$f":"INDEX($D120:$I120,L$100)","v":1},0,null,0]
[]
[null,null,"Adjusted for PA Basis",{"$f":"+D115*(1+1)/(1+D115*1)","v":{"$error":"#N/A"}},0.62131220402373488,{"$error":"#N/A"},{"$error":"#N/A"},{"$f":"IF($I$2=\"Existing\",(D122),(IF($I$2=\"Design 1\",(F122),(IF($I$2=\"Design 2\",(G122),(IF($I$2=\"Optimal\",(I122),E122)))))))","v":0.62131220402373488},{"$error":"#VALUE!"},null,{"$f":"INDEX($D122:$I122,K$100)","v":{"$error":"#N/A"}},{"$f":"INDEX($D122:$I122,L$100)","v":0.62131220402373488},{"$f":"IF(ISERROR(1-L122/K122), 0, 1-L122/K122)","v":0},null,0]
[null,null,"Corrected by Odds Ratio",{"$f":"+D122/$E$122","v":{"$error":"#N/A"}},1,{"$error":"#N/A"},{"$error":"#N/A"},{"$f":"IF($I$2=\"Existing\",(D123),(IF($I$2=\"Design 1\",(F123),(IF($I$2=\"Design 2\",(G123),(IF($I$2=\"Optimal\",(I123),E123)))))))","v":1},{"$error":"#VALUE!"},{"$f":"I129/E129","v":{"$error":"#VALUE!"}},{"$f":"INDEX($D123:$I123,K$100)","v":{"$error":"#N/A"}},{"$f":"INDEX($D123:$I123,L$100)","v":1},0,null,0]
[null,null,"Pinned s",{"$f":"(1/D123)^$D127","v":{"$error":"#N/A"}},{"$f":"(1/E123)^$D127","v":{"$error":"#VALUE!"}},{"$error":"#N/A"},{"$f":"IF(ISERROR((1/G123)^$D127), 0, (1/G123)^$D127)","v":0},{"$error":"#VALUE!"},{"$error":"#VALUE!"},null,{"$f":"INDEX($D124:$I124,K$100)","v":{"$error":"#N/A"}},{"$f":"INDEX($D124:$I124,L$100)","v":{"$error":"#VALUE!"}},0,null,0]
[null,null,null,{"$f":"(D124+$F128-1)/(1+(D124+$F128-1))","v":{"$error":"#N/A"}},{"$f":"(E124+$F128-1)/(1+(E124+$F128-1))","v":{"$error":"#VALUE!"}},{"$error":"#N/A"},0.57142857142857151,{"$error":"#VALUE!"},{"$error":"#VALUE!"},null,{"$f":"INDEX($D125:$I125,K$100)","v":{"$error":"#N/A"}},{"$f":"INDEX($D125:$I125,L$100)","v":{"$error":"#VALUE!"}},0,null,0]
[null,null,"Score Odds Ratio with Optimal (old)",{"$f":"MIN(ROUND($I$123/D123*Construction!$I$2,0),$I126)","v":{"$error":"#VALUE!"}},{"$f":"MIN(ROUND($I$123/E123*Construction!$I$2,0),$I126)","v":{"$error":"#VALUE!"}},{"$f":"MIN(ROUND($I$123/F123*Construction!$I$2,0),$I126)","v":{"$error":"#VALUE!"}},{"$f":"MIN(ROUND($I$123/G123*Construction!$I$2,0),$I126)","v":{"$error":"#VALUE!"}},{"$f":"IF($I$2=\"Existing\",(D126),(IF($I$2=\"Design 1\",(F126),(IF($I$2=\"Design 2\",(G126),(IF($I$2=\"Optimal\",(I126),E126)))))))","v":{"$error":"#VALUE!"}},{"$f":"ROUND($I$123/I123*Construction!$I$2,0)","v":{"$error":"#VALUE!"}}]
[null,null,"Logistic1",{"$f":"LN((D128/(1-D128))/(0.5/0.5))/LN(IF($E123/I123=1,0.999,$E123/I123))","v":{"$error":"#VALUE!"}}]
[null,null,"Logistic Param",0.999,null,{"$f":"0.7/0.3","v":2.3333333333333335}]
[null,null,"Score ",{"$f":"MIN(ROUND(D125*Construction!$I$2,0),$I126)","v":{"$error":"#N/A"}},{"$f":"MIN(ROUND(E125*Construction!$I$2,0),$I126)","v":{"$error":"#VALUE!"}},{"$f":"MIN(ROUND(F125*Construction!$I$2,0),$I126)","v":{"$error":"#N/A"}},{"$f":"MIN(ROUND(G125*Construction!$I$2,0),$I126)","v":{"$error":"#VALUE!"}},{"$f":"MIN(ROUND(H125*Construction!$I$2,0),$I126)","v":{"$error":"#VALUE!"}},{"$f":"MIN(ROUND(I125*Construction!$I$2,0),$I126)","v":{"$error":"#VALUE!"}}]
[]
[null,null,"HC and Grade",{"$f":"IF($B$139,0,1)","v":1},{"$f":"IF($B$139,0,1)","v":1},1,1,{"$f":"IF($I$2=\"Existing\",(D131),(IF($I$2=\"Design 1\",(F131),(IF($I$2=\"Design 2\",(G131),(IF($I$2=\"Optimal\",(I131),E131)))))))","v":1},{"$f":"IF($B$139,0,1)","v":1}]
["HC?",null,"HC and VC Crest type I",{"$f":"IF(AND($B$139=1,SIGN(D$40)=1,ABS(D$40)<=ABS(D$40-D$41),D$46=\"Crest\"),1,0)","v":0},{"$f":"IF(AND($B$139=1,SIGN(IF(ISNUMBER(E$40),E$40,0))=1,\n  ABS(IF(ISNUMBER(E$40),E$40,0))<=ABS(IF(ISNUMBER(E$40),E$40,0)-IF(ISNUMBER(E$41),E$41,0)),E$46=\"Crest\"),\n  1,0)","v":0},{"$f":"IF(AND($B$139=1,SIGN(F$40)=1,ABS(F$40)<=ABS(F$40-F$41),F$46=\"Crest\"),1,0)","v":0},{"$f":"IF(AND($B$139=1,SIGN(G$40)=1,ABS(G$40)<=ABS(G$40-G$41),G$46=\"Crest\"),1,0)","v":0},{"$f":"IF($I$2=\"Existing\",(D132),(IF($I$2=\"Design 1\",(F132),(IF($I$2=\"Design 2\",(G132),(IF($I$2=\"Optimal\",(I132),E132)))))))","v":0},{"$f":"IF(AND($B$138=1,SIGN(I$40)=1,ABS(I$40)<=ABS(I$40-IF(ISNUMBER(I$41), I$41,0)),I$46=\"Crest\"),1,0)","v":{"$error":"#VALUE!"}},null,{"$f":"INDEX($D132:$I132,K$100)","v":0},{"$f":"INDEX($D132:$I132,L$100)","v":0},{"$f":"IF(ISERROR(1-L132/K132), 0, 1-L132/K132)","v":0}]
["VC?",null,"HC and VC Sag type I",{"$f":"IF(AND($B$139=1,SIGN(D$40)=1,ABS(D$40)<=ABS(D$40-D$41),D$46=\"Sag\"),1,0)","v":0},{"$f":"IF(AND($B$139=1,SIGN(IF(ISNUMBER(E$40),E$40,0))=1,\n  ABS(IF(ISNUMBER(E$40),E$40,0))<=ABS(IF(ISNUMBER(E$40),E$40,0)-IF(ISNUMBER(E$41),E$41,0)),E$46=\"Sag\"),\n  1,0)","v":0},{"$f":"IF(AND($B$139=1,SIGN(F$40)=1,ABS(F$40)<=ABS(F$40-F$41),F$46=\"Sag\"),1,0)","v":0},{"$f":"IF(AND($B$139=1,SIGN(G$40)=1,ABS(G$40)<=ABS(G$40-G$41),G$46=\"Sag\"),1,0)","v":0},{"$f":"IF($I$2=\"Existing\",(D133),(IF($I$2=\"Design 1\",(F133),(IF($I$2=\"Design 2\",(G133),(IF($I$2=\"Optimal\",(I133),E133)))))))","v":0},{"$f":"IF(AND($B$138=1,SIGN(I$40)=1,ABS(I$40)<=ABS(I$40-IF(ISNUMBER(I$41), I$41,0)),I$46=\"Sag\"),1,0)","v":{"$error":"#VALUE!"}},null,{"$f":"INDEX($D133:$I133,K$100)","v":0},{"$f":"INDEX($D133:$I133,L$100)","v":0},0]
[null,null,"HC and VC Crest type II",{"$f":"IF(AND($B$139=1,D$46=\"Crest\",D$132=0),1,0)","v":0},{"$f":"IF(AND($B$139=1,E$46=\"Crest\",E$132=0),1,0)","v":0},{"$f":"IF(AND($B$139=1,F$46=\"Crest\",F$132=0),1,0)","v":0},{"$f":"IF(AND($B$139=1,G$46=\"Crest\",G$132=0),1,0)","v":0},{"$f":"IF($I$2=\"Existing\",(D134),(IF($I$2=\"Design 1\",(F134),(IF($I$2=\"Design 2\",(G134),(IF($I$2=\"Optimal\",(I134),E134)))))))","v":0},{"$f":"IF(AND($B$139=1,I$46=\"Crest\",I$132=0),1,0)","v":{"$error":"#VALUE!"}},null,{"$f":"INDEX($D134:$I134,K$100)","v":0},{"$f":"INDEX($D134:$I134,L$100)","v":0},0]
[null,null,"HC and VC Sag type II",{"$f":"IF(AND($B$139=1,D$46=\"Sag\",D$133=0),1,0)","v":0},{"$f":"IF(AND($B$139=1,E$46=\"Sag\",E$133=0),1,0)","v":0},{"$f":"IF(AND($B$139=1,F$46=\"Sag\",F$133=0),1,0)","v":0},{"$f":"IF(AND($B$139=1,G$46=\"Sag\",G$133=0),1,0)","v":0},{"$f":"IF($I$2=\"Existing\",(D135),(IF($I$2=\"Design 1\",(F135),(IF($I$2=\"Design 2\",(G135),(IF($I$2=\"Optimal\",(I135),E135)))))))","v":0},{"$f":"IF(AND($B$139=1,I$46=\"Sag\",I$133=0),1,0)","v":{"$error":"#VALUE!"}},null,{"$f":"INDEX($D135:$I135,K$100)","v":0},{"$f":"INDEX($D135:$I135,L$100)","v":0},0]
[null,"Yes/No"]
[null,null,"HC and VC:"]
[null,{"$f":"IF(B31=\"Yes\",1,0)","v":0},"HC and Grade",{"$f":"IF($B$139=0,\n  EXP(0.042*ABS(D$40)\n    +$B$138*0.16*LN(2*5730/IF(ISNUMBER(D$33),D$33,1))*$B$138\n    +4.16*$B$138/IF(ISNUMBER(D$33),D$33,1)/IF( AND(ISNUMBER(D$34),D$34<>0),D$34,1)),\n  1)","v":1},{"$f":"IF($B$139=0,\n  EXP(0.042*ABS(D$40)\n    +$B$138*0.16*LN(2*5730/IF(ISNUMBER(E$33),E$33,1))*$B$138\n    +4.16*$B$138/IF(ISNUMBER(E$33),E$33,1)/IF( AND(ISNUMBER(E$34),E$34<>0),E$34,1)),\n  1)","v":1},{"$f":"IF($B$139=0,\n  EXP(0.042*ABS(F$40)\n    +$B$138*0.16*LN(2*5730/IF(ISNUMBER(F$33),F$33,1))*$B$138\n    +4.16*$B$138/IF(ISNUMBER(F$33),F$33,1)/IF( AND(ISNUMBER(F$34),F$34<>0),F$34,1)),\n  1)","v":1},{"$f":"IF($B$139=0,\n  EXP(0.042*ABS(G$40)\n    +$B$138*0.16*LN(2*5730/IF(ISNUMBER(G$33),G$33,1))*$B$138\n    +4.16*$B$138/IF(ISNUMBER(G$33),G$33,1)/IF( AND(ISNUMBER(G$34),G$34<>0),G$34,1)),\n  1)","v":1},null,{"$f":"IF($B$139=0,\n  EXP(0.042*ABS(I$40)\n    +$B$138*0.16*LN(2*5730/IF(ISNUMBER(I$33),I$33,1))*$B$138\n    +4.16*$B$138/IF(ISNUMBER(I$33),I$33,1)/IF( AND(ISNUMBER(I$34),I$34<>0),I$34,1)),\n  1)","v":{"$error":"#VALUE!"}},null,{"$f":"INDEX($D138:$I138,K$100)","v":1},{"$f":"INDEX($D138:$I138,L$100)","v":1},{"$f":"IF(ISERROR(1-L138/K138), 0, 1-L138/K138)","v":0},null,0]
[null,{"$f":"IF(B38=\"Yes\",1,0)","v":0},"HC and VC Crest type I",{"$f":"IF($B$139=0,1,EXP(0.005648908*5730*ABS(+D$40-D$41)*$B$139/D$145*$B$138))","v":1},{"$f":"IF($B$139=0,1,EXP(0.005648908*5730*ABS(+E$40-E$41)*$B$139/E$145*$B$138))","v":1},1,1,{"$f":"IF($I$2=\"Existing\",(D139),(IF($I$2=\"Design 1\",(F139),(IF($I$2=\"Design 2\",(G139),(IF($I$2=\"Optimal\",(I139),E139)))))))","v":1},1,null,{"$f":"INDEX($D139:$I139,K$100)","v":1},{"$f":"INDEX($D139:$I139,L$100)","v":1},0,null,0]
[null,null,"HC and VC Sag type I",{"$f":"IF($B$139=0,1,EXP(9.15857042*$B$139/D$146+0.010284958*5730*$B$139*$B$138*ABS(+D$40-D$41)/D$145))","v":1},{"$f":"IF($B$139=0,1,EXP(9.15857042*$B$139/E$146+0.010284958*5730*$B$139*$B$138*ABS(+E$40-E$41)/E$145))","v":1},1,1,{"$f":"IF($I$2=\"Existing\",(D140),(IF($I$2=\"Design 1\",(F140),(IF($I$2=\"Design 2\",(G140),(IF($I$2=\"Optimal\",(I140),E140)))))))","v":1},1,null,{"$f":"INDEX($D140:$I140,K$100)","v":1},{"$f":"INDEX($D140:$I140,L$100)","v":1},0,null,0]
[null,null,"HC and VC Crest type II",{"$f":"IF($B$139=0,1,EXP(0.005648908*5730*ABS(+D$40-D$41)*$B$139/D$145*$B$138))","v":1},{"$f":"IF($B$139=0,1,EXP(0.005648908*5730*ABS(+E$40-E$41)*$B$139/E$145*$B$138))","v":1},1,1,{"$f":"IF($I$2=\"Existing\",(D141),(IF($I$2=\"Design 1\",(F141),(IF($I$2=\"Design 2\",(G141),(IF($I$2=\"Optimal\",(I141),E141)))))))","v":1},1,null,{"$f":"INDEX($D141:$I141,K$100)","v":1},{"$f":"INDEX($D141:$I141,L$100)","v":1},0,null,0]
[null,null,"HC and VC Sag type II",{"$f":"IF($B$139=0,1,(0.246011284*EXP(LN(0.188*2*5730/D$145)*$B$138)+0.753988716*EXP(0.022*5730/D$145*ABS(D$40-D$41)*$B$139*$B$138)))","v":1},{"$f":"IF($B$139=0,1,(0.246011284*EXP(LN(0.188*2*5730/E$145)*$B$138)+0.753988716*EXP(0.022*5730/E$145*ABS(E$40-E$41)*$B$139*$B$138)))","v":1},1,1,{"$f":"IF($I$2=\"Existing\",(D142),(IF($I$2=\"Design 1\",(F142),(IF($I$2=\"Design 2\",(G142),(IF($I$2=\"Optimal\",(I142),E142)))))))","v":1},1,null,{"$f":"INDEX($D142:$I142,K$100)","v":1},{"$f":"INDEX($D142:$I142,L$100)","v":1},0,null,0]
[]
[null,null,"Combined HZ and VT",{"$f":"MMULT(TRANSPOSE(D131:D135),D138:D142)","v":1},{"$f":"MMULT(TRANSPOSE(E131:E135),E138:E142)","v":1},{"$f":"MMULT(TRANSPOSE(F131:F135),F138:F142)","v":1},{"$f":"MMULT(TRANSPOSE(G131:G135),G138:G142)","v":1},{"$f":"IF($I$2=\"Existing\",(D144),(IF($I$2=\"Design 1\",(F144),(IF($I$2=\"Design 2\",(G144),(IF($I$2=\"Optimal\",(I144),E144)))))))","v":1},{"$f":"MMULT(TRANSPOSE(I131:I135),I138:I142)","v":{"$error":"#VALUE!"}},null,{"$f":"INDEX($D144:$I144,K$100)","v":1},{"$f":"INDEX($D144:$I144,L$100)","v":1},{"$f":"IF(ISERROR(1-L144/K144), 0, 1-L144/K144)","v":0},null,0]
[null,null,"effective R for calculation",{"$f":"IF(ISNUMBER(D33), D33, 99999999)","v":99999999},{"$f":"IF(ISNUMBER(E33), E33, 99999999)","v":590},99999999,99999999,null,590]
[null,null,"effective K for calculation",{"$f":"IF(ISNUMBER(D43), D43, 99999999)","v":99999999},{"$f":"IF(ISNUMBER(E43), E43, 99999999)","v":99999999},99999999,99999999,null,99999999]
[null,"Traffic"]
[null,null,null,"Existing","Standard","Design 1","Design 2"]
[null,null,"Advance static curve warning signs",{"$f":"IF(D24=INDEX(MedConf_Header,1,2),IF(AND($B$31=\"Yes\",D$56=\"Yes\"),(Traffic!$F$4-1)*AVERAGE(Constraints!$F$24,Constraints!$H$24)/Constraints!$D$24+1,1),(IF(AND($B$31=\"Yes\",D$56=\"Yes\"),(Traffic!$F$4-1)*AVERAGE(Constraints!$F$38,Constraints!$H$38)/Constraints!$D$38+1,1)))","v":1},{"$f":"IF(AND($B$31=\"Yes\",E$56=\"Yes\"),(Traffic!$F$4-1)*AVERAGE(Constraints!$F$24,Constraints!$H$24)/Constraints!$D$24+1,1)","v":1},{"$f":"IF(F24=INDEX(MedConf_Header,1,2),IF(AND($B$31=\"Yes\",F$56=\"Yes\"),(Traffic!$F$4-1)*AVERAGE(Constraints!$F$24,Constraints!$H$24)/Constraints!$D$24+1,1),(IF(AND($B$31=\"Yes\",F$56=\"Yes\"),(Traffic!$F$4-1)*AVERAGE(Constraints!$F$38,Constraints!$H$38)/Constraints!$D$38+1,1)))","v":1},{"$f":"IF(G24=INDEX(MedConf_Header,1,2),IF(AND($B$31=\"Yes\",G$56=\"Yes\"),(Traffic!$F$4-1)*AVERAGE(Constraints!$F$24,Constraints!$H$24)/Constraints!$D$24+1,1),(IF(AND($B$31=\"Yes\",G$56=\"Yes\"),(Traffic!$F$4-1)*AVERAGE(Constraints!$F$38,Constraints!$H$38)/Constraints!$D$38+1,1)))","v":1},{"$f":"IF($I$2=\"Existing\",(D149),(IF($I$2=\"Design 1\",(F149),(IF($I$2=\"Design 2\",(G149),(IF($I$2=\"Optimal\",(I149),E149)))))))","v":1},{"$f":"IF(AND($B$31=\"Yes\",I$56=\"Yes\"),(Traffic!$F$4-1)*AVERAGE(Constraints!$F$24,Constraints!$H$24)/Constraints!$D$24+1,1)","v":1},null,{"$f":"INDEX($D149:$I149,K$100)","v":1},{"$f":"INDEX($D149:$I149,L$100)","v":1},{"$f":"IF(ISERROR(1-L149/K149), 0, 1-L149/K149)","v":0},null,0]
[null,null,"Install chevron signs on horizontal curves",{"$f":"IF(D24=INDEX(MedConf_Header,1,2),(IF(D$57=\"No\",1,(IF(AND($B$31=\"Yes\",D$27<11.5),((Traffic!$F$6-1)*(Constraints!$E$18+Constraints!$E$22))+1,1)))),(IF(D$57=\"No\",1,(IF(AND($B$31=\"Yes\",D$27<11.5),((Traffic!$F$6-1)*(Constraints!$E$32+Constraints!$E$36))+1,1)))))","v":1},{"$f":"IF(E$57=\"No\",1,(IF(AND($B$31=\"Yes\",E$27<11.5),((Traffic!$F$6-1)*(Constraints!$E$18+Constraints!$E$22))+1,1)))","v":1},{"$f":"IF(F24=INDEX(MedConf_Header,1,2),(IF(F$57=\"No\",1,(IF(AND($B$31=\"Yes\",F$27<11.5),((Traffic!$F$6-1)*(Constraints!$E$18+Constraints!$E$22))+1,1)))),(IF(F$57=\"No\",1,(IF(AND($B$31=\"Yes\",F$27<11.5),((Traffic!$F$6-1)*(Constraints!$E$32+Constraints!$E$36))+1,1)))))","v":1},{"$f":"IF(G24=INDEX(MedConf_Header,1,2),(IF(G$57=\"No\",1,(IF(AND($B$31=\"Yes\",G$27<11.5),((Traffic!$F$6-1)*(Constraints!$E$18+Constraints!$E$22))+1,1)))),(IF(G$57=\"No\",1,(IF(AND($B$31=\"Yes\",G$27<11.5),((Traffic!$F$6-1)*(Constraints!$E$32+Constraints!$E$36))+1,1)))))","v":1},{"$f":"IF($I$2=\"Existing\",(D150),(IF($I$2=\"Design 1\",(F150),(IF($I$2=\"Design 2\",(G150),(IF($I$2=\"Optimal\",(I150),E150)))))))","v":1},{"$f":"IF(I$57=\"No\",1,(IF(AND($B$31=\"Yes\",I$27<11.5),((Traffic!$F$6-1)*(Constraints!$E$18+Constraints!$E$22))+1,1)))","v":1},null,{"$f":"INDEX($D150:$I150,K$100)","v":1},{"$f":"INDEX($D150:$I150,L$100)","v":1},0,null,0]
[null,null,"Install post-mounted delineators",{"$f":"IF(D24=INDEX(MedConf_Header,1,2),IF(AND($B$31=\"Yes\",D$58=\"Yes\"),(Traffic!$F$12-1)*Constraints!$E$17+1,1),(IF(AND($B$31=\"Yes\",D$58=\"Yes\"),(Traffic!$F$12-1)*Constraints!$E$31+1,1)))","v":1},{"$f":"IF(AND($B$31=\"Yes\",E$58=\"Yes\"),(Traffic!$F$12-1)*Constraints!$E$17+1,1)","v":1},{"$f":"IF(F24=INDEX(MedConf_Header,1,2),IF(AND($B$31=\"Yes\",F$58=\"Yes\"),(Traffic!$F$12-1)*Constraints!$E$17+1,1),(IF(AND($B$31=\"Yes\",F$58=\"Yes\"),(Traffic!$F$12-1)*Constraints!$E$31+1,1)))","v":1},{"$f":"IF(G24=INDEX(MedConf_Header,1,2),IF(AND($B$31=\"Yes\",G$58=\"Yes\"),(Traffic!$F$12-1)*Constraints!$E$17+1,1),(IF(AND($B$31=\"Yes\",G$58=\"Yes\"),(Traffic!$F$12-1)*Constraints!$E$31+1,1)))","v":1},{"$f":"IF($I$2=\"Existing\",(D151),(IF($I$2=\"Design 1\",(F151),(IF($I$2=\"Design 2\",(G151),(IF($I$2=\"Optimal\",(I151),E151)))))))","v":1},{"$f":"IF(AND($B$31=\"Yes\",I$58=\"Yes\"),(Traffic!$F$12-1)*Constraints!$E$17+1,1)","v":1},null,{"$f":"INDEX($D151:$I151,K$100)","v":1},{"$f":"INDEX($D151:$I151,L$100)","v":1},0,null,0]
[null,null,"Install edgeline  or Profile pavement markings ",{"$f":"IF(D24=INDEX(MedConf_Header,1,2),(IF(D$59=\"Yes\",Traffic!$F$18*0.5+((Traffic!$F$20*(Constraints!$H$17+Constraints!$H$20+Constraints!$H$21)+1*(Constraints!$H$24-(Constraints!$H$17+Constraints!$H$20+Constraints!$H$21)))/Constraints!$H$24)*0.5,1)),(IF(D$59=\"Yes\",Traffic!$F$18*0.5+((Traffic!$F$20*(Constraints!$H$31+Constraints!$H$34+Constraints!$H$35)+1*(Constraints!$H$38-(Constraints!$H$31+Constraints!$H$34+Constraints!$H$35)))/Constraints!$H$38)*0.5,1)))","v":1},{"$f":"IF(E24=INDEX(MedConf_Header,1,2),(IF(E$59=\"Yes\",Traffic!$F$18*0.5+((Traffic!$F$20*(Constraints!$H$17+Constraints!$H$20+Constraints!$H$21)+1*(Constraints!$H$24-(Constraints!$H$17+Constraints!$H$20+Constraints!$H$21)))/Constraints!$H$24)*0.5,1)),(IF(E$59=\"Yes\",Traffic!$F$18*0.5+((Traffic!$F$20*(Constraints!$H$31+Constraints!$H$34+Constraints!$H$35)+1*(Constraints!$H$38-(Constraints!$H$31+Constraints!$H$34+Constraints!$H$35)))/Constraints!$H$38)*0.5,1)))","v":1},{"$f":"IF(F24=INDEX(MedConf_Header,1,2),(IF(F$59=\"Yes\",Traffic!$F$18*0.5+((Traffic!$F$20*(Constraints!$H$17+Constraints!$H$20+Constraints!$H$21)+1*(Constraints!$H$24-(Constraints!$H$17+Constraints!$H$20+Constraints!$H$21)))/Constraints!$H$24)*0.5,1)),(IF(F$59=\"Yes\",Traffic!$F$18*0.5+((Traffic!$F$20*(Constraints!$H$31+Constraints!$H$34+Constraints!$H$35)+1*(Constraints!$H$38-(Constraints!$H$31+Constraints!$H$34+Constraints!$H$35)))/Constraints!$H$38)*0.5,1)))","v":1},{"$f":"IF(G24=INDEX(MedConf_Header,1,2),(IF(G$59=\"Yes\",Traffic!$F$18*0.5+((Traffic!$F$20*(Constraints!$H$17+Constraints!$H$20+Constraints!$H$21)+1*(Constraints!$H$24-(Constraints!$H$17+Constraints!$H$20+Constraints!$H$21)))/Constraints!$H$24)*0.5,1)),(IF(G$59=\"Yes\",Traffic!$F$18*0.5+((Traffic!$F$20*(Constraints!$H$31+Constraints!$H$34+Constraints!$H$35)+1*(Constraints!$H$38-(Constraints!$H$31+Constraints!$H$34+Constraints!$H$35)))/Constraints!$H$38)*0.5,1)))","v":1},{"$f":"IF($I$2=\"Existing\",(D152),(IF($I$2=\"Design 1\",(F152),(IF($I$2=\"Design 2\",(G152),(IF($I$2=\"Optimal\",(I152),E152)))))))","v":1},{"$f":"IF(I24=INDEX(MedConf_Header,1,2),(IF(I$59=\"Yes\",Traffic!$F$18*0.5+((Traffic!$F$20*(Constraints!$H$17+Constraints!$H$20+Constraints!$H$21)+1*(Constraints!$H$24-(Constraints!$H$17+Constraints!$H$20+Constraints!$H$21)))/Constraints!$H$24)*0.5,1)),(IF(I$59=\"Yes\",Traffic!$F$18*0.5+((Traffic!$F$20*(Constraints!$H$31+Constraints!$H$34+Constraints!$H$35)+1*(Constraints!$H$38-(Constraints!$H$31+Constraints!$H$34+Constraints!$H$35)))/Constraints!$H$38)*0.5,1)))","v":0.87439641434262949},null,{"$f":"INDEX($D152:$I152,K$100)","v":1},{"$f":"INDEX($D152:$I152,L$100)","v":1},0,null,0.13824118691351761]
[null,null,"Profiles",1,1,1,1,1,1,null,{"$f":"INDEX($D153:$I153,K$100)","v":1},{"$f":"INDEX($D153:$I153,L$100)","v":1},0,null,0]
[null,null,"Shoulder rumble strips",{"$f":"IF(D24=INDEX(MedConf_Header,1,2),(IF(D$60=\"No\",1,(Traffic!$F$27*(Constraints!$H$17+Constraints!$H$20+Constraints!$H$21)+1*(Constraints!$H$24-(Constraints!$H$17+Constraints!$H$20+Constraints!$H$21)))/Constraints!$H$24)),(IF(D$60=\"No\",1,(Traffic!$F$27*(Constraints!$H$31+Constraints!$H$34+Constraints!$H$35)+1*(Constraints!$H$38-(Constraints!$H$31+Constraints!$H$34+Constraints!$H$35)))/Constraints!$H$38)))","v":0.93956289460903353},{"$f":"IF(E$60=\"No\",1,(Traffic!$F$27*(Constraints!$H$17+Constraints!$H$20+Constraints!$H$21)+1*(Constraints!$H$24-(Constraints!$H$17+Constraints!$H$20+Constraints!$H$21)))/Constraints!$H$24)","v":0.91807038512616201},{"$f":"IF(F24=INDEX(MedConf_Header,1,2),(IF(F$60=\"No\",1,(Traffic!$F$27*(Constraints!$H$17+Constraints!$H$20+Constraints!$H$21)+1*(Constraints!$H$24-(Constraints!$H$17+Constraints!$H$20+Constraints!$H$21)))/Constraints!$H$24)),(IF(F$60=\"No\",1,(Traffic!$F$27*(Constraints!$H$31+Constraints!$H$34+Constraints!$H$35)+1*(Constraints!$H$38-(Constraints!$H$31+Constraints!$H$34+Constraints!$H$35)))/Constraints!$H$38)))","v":0.93956289460903353},{"$f":"IF(G24=INDEX(MedConf_Header,1,2),(IF(G$60=\"No\",1,(Traffic!$F$27*(Constraints!$H$17+Constraints!$H$20+Constraints!$H$21)+1*(Constraints!$H$24-(Constraints!$H$17+Constraints!$H$20+Constraints!$H$21)))/Constraints!$H$24)),(IF(G$60=\"No\",1,(Traffic!$F$27*(Constraints!$H$31+Constraints!$H$34+Constraints!$H$35)+1*(Constraints!$H$38-(Constraints!$H$31+Constraints!$H$34+Constraints!$H$35)))/Constraints!$H$38)))","v":0.93956289460903353},{"$f":"IF($I$2=\"Existing\",(D154),(IF($I$2=\"Design 1\",(F154),(IF($I$2=\"Design 2\",(G154),(IF($I$2=\"Optimal\",(I154),E154)))))))","v":0.91807038512616201},{"$f":"IF(I$60=\"No\",1,(Traffic!$F$27*(Constraints!$H$17+Constraints!$H$20+Constraints!$H$21)+1*(Constraints!$H$24-(Constraints!$H$17+Constraints!$H$20+Constraints!$H$21)))/Constraints!$H$24)","v":0.91807038512616201},null,{"$f":"INDEX($D154:$I154,K$100)","v":0.93956289460903353},{"$f":"INDEX($D154:$I154,L$100)","v":0.91807038512616201},2.2875008800570917E-2,null,0]
[null,null,"Install centerline rumble strips",{"$f":"IF(D24=INDEX(MedConf_Header,1,3),(IF(D$61=\"No\",1,(Traffic!$E$81*(Constraints!$H$31+Constraints!$H$34+Constraints!$H$35)+1*(Constraints!$H$38-(Constraints!$H$31+Constraints!$H$34+Constraints!$H$35)))/Constraints!$H$38)+0.001),1)","v":1},{"$f":"IF(E24=INDEX(MedConf_Header,1,3),(IF(E$61=\"No\",1,(Traffic!$E$81*(Constraints!$H$31+Constraints!$H$34+Constraints!$H$35)+1*(Constraints!$H$38-(Constraints!$H$31+Constraints!$H$34+Constraints!$H$35)))/Constraints!$H$38)+0.001),1)","v":1},{"$f":"IF(F24=INDEX(MedConf_Header,1,3),(IF(F$61=\"No\",1,(Traffic!$E$81*(Constraints!$H$31+Constraints!$H$34+Constraints!$H$35)+1*(Constraints!$H$38-(Constraints!$H$31+Constraints!$H$34+Constraints!$H$35)))/Constraints!$H$38)+0.001),1)","v":1},{"$f":"IF(G24=INDEX(MedConf_Header,1,3),(IF(G$61=\"No\",1,(Traffic!$E$81*(Constraints!$H$31+Constraints!$H$34+Constraints!$H$35)+1*(Constraints!$H$38-(Constraints!$H$31+Constraints!$H$34+Constraints!$H$35)))/Constraints!$H$38)+0.001),1)","v":1},{"$f":"IF($I$2=\"Existing\",(D155),(IF($I$2=\"Design 1\",(F155),(IF($I$2=\"Design 2\",(G155),(IF($I$2=\"Optimal\",(I155),E155)))))))","v":1},{"$f":"IF(I24=INDEX(MedConf_Header,1,3),(IF(I$61=\"No\",1,(Traffic!$E$81*(Constraints!$H$31+Constraints!$H$34+Constraints!$H$35)+1*(Constraints!$H$38-(Constraints!$H$31+Constraints!$H$34+Constraints!$H$35)))/Constraints!$H$38)+0.001),1)","v":1},null,{"$f":"INDEX($D155:$I155,K$100)","v":1},{"$f":"INDEX($D155:$I155,L$100)","v":1},0,null,-0.16279069767441867]
[null,null,"Driveway Density (driveways per mile)",{"$f":"EXP(-LN(Traffic!$F$31)*(D$62-$E$62))","v":0.81707280688754669},{"$f":"EXP(-LN(Traffic!$F$31)*(E$62-$E$62))","v":1},{"$f":"EXP(-LN(Traffic!$F$31)*(F$62-$E$62))","v":0.81707280688754669},{"$f":"EXP(-LN(Traffic!$F$31)*(G$62-$E$62))","v":0.81707280688754669},{"$f":"IF($I$2=\"Existing\",(D156),(IF($I$2=\"Design 1\",(F156),(IF($I$2=\"Design 2\",(G156),(IF($I$2=\"Optimal\",(I156),E156)))))))","v":1},{"$f":"EXP(-LN(Traffic!$F$31)*(I$62-$E$62))","v":0.81707280688754669},null,{"$f":"INDEX($D156:$I156,K$100)","v":0.81707280688754669},{"$f":"INDEX($D156:$I156,L$100)","v":1},-0.22388114201141129,null,-0.22388114201141129]
[null,null,"Install lighting",{"$f":"IF(D24=INDEX(MedConf_Header,1,2),(IF(D$63=\"No\",1,1-(((1-Traffic!$F$54*Constraints!$H$24-Constraints!$F$24/3)+((1-Traffic!$F$54*Constraints!$D$24-Constraints!$H$24)))*$S$19+((1-Traffic!$F$56)*Constraints!$F$24/3))/Constraints!$D$24)),(IF(D$63=\"No\",1,1-(((1-Traffic!$F$54*Constraints!$H$38-Constraints!$F$38/3)+((1-Traffic!$F$54*Constraints!$D$38-Constraints!$H$38)))*$S$19+((1-Traffic!$F$56)*Constraints!$F$38/3))/Constraints!$D$38)))","v":0.98319080068143105},{"$f":"IF(E$63=\"No\",1,1-(((1-Traffic!$F$54*Constraints!$H$24-Constraints!$F$24/3)+((1-Traffic!$F$54*Constraints!$D$24-Constraints!$H$24)))*$S$19+((1-Traffic!$F$56)*Constraints!$F$24/3))/Constraints!$D$24)","v":1},{"$f":"IF(F24=INDEX(MedConf_Header,1,2),(IF(F$63=\"No\",1,1-(((1-Traffic!$F$54*Constraints!$H$24-Constraints!$F$24/3)+((1-Traffic!$F$54*Constraints!$D$24-Constraints!$H$24)))*$S$19+((1-Traffic!$F$56)*Constraints!$F$24/3))/Constraints!$D$24)),(IF(F$63=\"No\",1,1-(((1-Traffic!$F$54*Constraints!$H$38-Constraints!$F$38/3)+((1-Traffic!$F$54*Constraints!$D$38-Constraints!$H$38)))*$S$19+((1-Traffic!$F$56)*Constraints!$F$38/3))/Constraints!$D$38)))","v":0.98319080068143105},{"$f":"IF(G24=INDEX(MedConf_Header,1,2),(IF(G$63=\"No\",1,1-(((1-Traffic!$F$54*Constraints!$H$24-Constraints!$F$24/3)+((1-Traffic!$F$54*Constraints!$D$24-Constraints!$H$24)))*$S$19+((1-Traffic!$F$56)*Constraints!$F$24/3))/Constraints!$D$24)),(IF(G$63=\"No\",1,1-(((1-Traffic!$F$54*Constraints!$H$38-Constraints!$F$38/3)+((1-Traffic!$F$54*Constraints!$D$38-Constraints!$H$38)))*$S$19+((1-Traffic!$F$56)*Constraints!$F$38/3))/Constraints!$D$38)))","v":0.98319080068143105},{"$f":"IF($I$2=\"Existing\",(D157),(IF($I$2=\"Design 1\",(F157),(IF($I$2=\"Design 2\",(G157),(IF($I$2=\"Optimal\",(I157),E157)))))))","v":1},{"$f":"IF(I$63=\"No\",1,1-(((1-Traffic!$F$54*Constraints!$H$24-Constraints!$F$24/3)+((1-Traffic!$F$54*Constraints!$D$24-Constraints!$H$24)))*$S$19+((1-Traffic!$F$56)*Constraints!$F$24/3))/Constraints!$D$24)","v":0.98062689234129152},null,{"$f":"INDEX($D157:$I157,K$100)","v":0.98319080068143105},{"$f":"INDEX($D157:$I157,L$100)","v":1},-1.7096579124742384E-2,null,-2.3499081529478438E-2]
[null,null,"Pavement friction (skid number)",{"$f":"EXP(LN(Traffic!$F$48)*(D$64-$E$64))","v":1.3972521419325798},{"$f":"EXP(LN(Traffic!$F$48)*(E$64-$E$64))","v":1},{"$f":"IF(MATCH(F64,SkidNums,0)=3, $D158,EXP(LN([5]Traffic!$F$49)*(RIGHT(F$64,2)-$E$64)))","v":{"$error":"#N/A"}},{"$f":"IF(MATCH(G64,SkidNums,0)=3, $D158,EXP(LN([5]Traffic!$F$49)*(RIGHT(G$64,2)-$E$64)))","v":{"$error":"#N/A"}},{"$f":"IF($I$2=\"Existing\",(D158),(IF($I$2=\"Design 1\",(F158),(IF($I$2=\"Design 2\",(G158),(IF($I$2=\"Optimal\",(I158),E158)))))))","v":1},{"$f":"EXP(LN(Traffic!$F$48)*(I$64-$E$64))","v":0.85753553626991963},null,{"$f":"INDEX($D158:$I158,K$100)","v":1.3972521419325798},{"$f":"INDEX($D158:$I158,L$100)","v":1},0.28430956017940245,null,0]
[]
[]
[null,null,"COMBINED Calculated CMF",{"$f":"+D149*D150*D151*D152*D153*D154*D155*D156*D157*D158","v":1.0546277742651902},{"$f":"+E149*E150*E151*E152*E153*E154*E155*E156*E157*E158","v":0.91807038512616201},{"$error":"#N/A"},{"$error":"#N/A"},{"$f":"IF($I$2=\"Existing\",(D161),(IF($I$2=\"Design 1\",(F161),(IF($I$2=\"Design 2\",(G161),(IF($I$2=\"Optimal\",(I161),E161)))))))","v":0.91807038512616201},{"$f":"+I149*I150*I151*I152*I153*I154*I155*I156*I157*I158","v":0.55157049744255038},null,{"$f":"INDEX($D161:$I161,K$100)","v":1.0546277742651902},{"$f":"INDEX($D161:$I161,L$100)","v":0.91807038512616201},{"$f":"IF(ISERROR(1-L161/K161), 0, 1-L161/K161)","v":0.12948396815565966},null,0]
[null,null,"Calculated Relative to Design Standards (Column E)",{"$f":"+D161/$E$161","v":1.1487439213282784},{"$f":"+E161/$E$161","v":1},{"$error":"#N/A"},{"$error":"#N/A"},1,{"$f":"+I161/$E$161","v":0.60079325766156055},null,{"$f":"INDEX($D162:$I162,K$100)","v":1.1487439213282784},{"$f":"INDEX($D162:$I162,L$100)","v":1},0.12948396815565966,null,0]
[null,null,"P(Crash)",{"$f":"+D162/(D162+1)","v":0.53461183062622242},0.5,{"$error":"#N/A"},{"$error":"#N/A"},0.5,{"$f":"+I162/(I162+1)","v":0.37530971272280322},null,{"$f":"INDEX($D163:$I163,K$100)","v":0.53461183062622242},{"$f":"INDEX($D163:$I163,L$100)","v":0.5},6.4741984077829939E-2]
[null,null,"Factor Change on S curve",{"$f":"+D163/$E$163","v":1.0692236612524448},{"$f":"+E163/$E$163","v":1},{"$f":"+F163/$E$163","v":{"$error":"#N/A"}},{"$error":"#N/A"},1,{"$f":"+I163/$E$163","v":0.75061942544560645},null,{"$f":"INDEX($D164:$I164,K$100)","v":1.0692236612524448},{"$f":"INDEX($D164:$I164,L$100)","v":1},6.4741984077829939E-2]
[null,null,"Adjust to Scale of 100",{"$f":"+$I$118/D164*100","v":{"$error":"#VALUE!"}},{"$error":"#VALUE!"},{"$error":"#VALUE!"},{"$error":"#VALUE!"},{"$error":"#VALUE!"},{"$f":"+$I$118/I164*100","v":{"$error":"#VALUE!"}}]
[null,null,"Unadjusted Combined Relative to Standard",{"$f":"+D161/$E$161","v":1.1487439213282784},{"$f":"+E161/$E$161","v":1},{"$f":"+F161/$E$161","v":{"$error":"#N/A"}},{"$error":"#N/A"},1,{"$f":"+I161/$E$161","v":0.60079325766156055},{"$f":"I172/E172","v":1.3333333333333333},{"$f":"INDEX($D166:$I166,K$100)","v":1.1487439213282784},{"$f":"INDEX($D166:$I166,L$100)","v":1},{"$f":"IF(ISERROR(1-L166/K166), 0, 1-L166/K166)","v":0.12948396815565966}]
[null,null,null,null,null,null,null,0,null,null,{"$f":"INDEX($D167:$I167,K$100)","v":0},{"$f":"INDEX($D167:$I167,L$100)","v":0},0]
[null,null,"Adjusted for PA Basis",{"$f":"+D161*(1+1)/(1+D161*1)","v":1.0265876743950504},0.95728539707970672,{"$error":"#N/A"},{"$error":"#N/A"},0.95728539707970672,{"$f":"+I161*(1+1)/(1+I161*1)","v":0.71098348202895401},null,{"$f":"INDEX($D168:$I168,K$100)","v":1.0265876743950504},{"$f":"INDEX($D168:$I168,L$100)","v":0.95728539707970672},6.750741221998624E-2]
[null,null,"Corrected by Odds Ratio",{"$f":"+D168/$E$168","v":1.0723945831898796},{"$f":"+E168/$E$168","v":1},{"$f":"+F168/$E$168","v":{"$error":"#N/A"}},{"$error":"#N/A"},1,{"$f":"+I168/$E$168","v":0.74270795752017016},{"$f":"I175/E175","v":1.4285714285714286},{"$f":"INDEX($D169:$I169,K$100)","v":1.0723945831898796},{"$f":"INDEX($D169:$I169,L$100)","v":1},6.750741221998624E-2]
[null,null,null,{"$f":"(1/D169)^$D173","v":0.19732178070922252},{"$f":"(1/E169)^$D173","v":1},{"$error":"#N/A"},{"$error":"#N/A"},1,998.99999999999955,null,{"$f":"INDEX($D170:$I170,K$100)","v":0.19732178070922252},{"$f":"INDEX($D170:$I170,L$100)","v":1},-4.0678642591089362]
[null,null,null,{"$f":"(D170+$F174-1)/(1+(D170+$F174-1))","v":0.6048454036857811},{"$f":"(E170+$F174-1)/(1+(E170+$F174-1))","v":0.70000000000000007},{"$error":"#N/A"},{"$error":"#N/A"},0.70000000000000007,0.99900133155792281,null,{"$f":"INDEX($D171:$I171,K$100)","v":0.6048454036857811},{"$f":"INDEX($D171:$I171,L$100)","v":0.70000000000000007},-0.15732052477272696]
[null,null,"Score Odds Ratio with Optimal as 100 (old)",{"$f":"MIN(ROUND($I$169/D169*Construction!$I$3,0),$I172)","v":14},{"$f":"MIN(ROUND($I$169/E169*Construction!$I$3,0),$I172)","v":15},{"$f":"MIN(ROUND($I$169/F169*Construction!$I$3,0),$I172)","v":{"$error":"#N/A"}},{"$f":"MIN(ROUND($I$169/G169*Construction!$I$3,0),$I172)","v":{"$error":"#N/A"}},null,{"$f":"ROUND($I$169/I169*Construction!$I$3,0)","v":20}]
[null,null,"Logistic1",{"$f":"LN((D174/(1-D174))/(0.5/0.5))/LN($E169/I169)","v":23.2196999386987}]
[null,null,"Logistic Param",0.999,null,{"$f":"0.7/0.3","v":2.3333333333333335}]
[null,null,"Score ",{"$f":"MIN(ROUND(D171*Construction!$I$3,0),$I172)","v":12},{"$f":"MIN(ROUND(E171*Construction!$I$3,0),$I172)","v":14},{"$f":"MIN(ROUND(F171*Construction!$I$3,0),$I172)","v":{"$error":"#N/A"}},{"$f":"MIN(ROUND(G171*Construction!$I$3,0),$I172)","v":{"$error":"#N/A"}},null,{"$f":"MIN(ROUND(I171*Construction!$I$3,0),$I172)","v":20}]
[]
[]
[]
[]
[null,null,null,{"$f":"INDEX(MedConf_Header,1,2)","v":"Divided - Unsurfaced Median"}]
[]
[null,"Roadsde",null,"Existing","Standard","Design 1","Design 2"]
[null,null,null,{"$f":"IF(ISBLANK(D75), 0, MID(D75,FIND(\":\",D75,1)+1,FIND(\"H\",D75,1)-FIND(\":\",D75,1)-1)+0)","v":0},{"$f":"MID(E75,FIND(\":\",E75,1)+1,FIND(\"H\",E75,1)-FIND(\":\",E75,1)-1)+0","v":4},{"$f":"IF(ISBLANK(F75), 0, MID(F75,FIND(\":\",F75,1)+1,FIND(\"H\",F75,1)-FIND(\":\",F75,1)-1)+0)","v":0},{"$f":"IF(ISBLANK(G75), 0, MID(G75,FIND(\":\",G75,1)+1,FIND(\"H\",G75,1)-FIND(\":\",G75,1)-1)+0)","v":0},null,{"$f":"MID(I75,FIND(\":\",I75,1)+1,FIND(\"H\",I75,1)-FIND(\":\",I75,1)-1)+0","v":6},null,null,null,null,null,0]
[null,null,"Sideslope (Foreslope)",{"$f":"IF(D24=INDEX(MedConf_Header,1,2),(IF(D183<=3,1,IF(OR(D183=4,D183=5),(Roadside!$F$15-1)*Constraints!$H$24/Constraints!$D$24+1,(Roadside!$F$15*Roadside!$F$16-1)*Constraints!$H$24/Constraints!$D$24+1))),(IF(D183<=3,1,IF(OR(D183=4,D183=5),(Roadside!$F$15-1)*Constraints!$H$38/Constraints!$D$38+1,(Roadside!$F$15*Roadside!$F$16-1)*Constraints!$H$38/Constraints!$D$38+1))))","v":1},{"$f":"IF(E24=INDEX(MedConf_Header,1,2),(IF(E183<=3,1,IF(OR(E183=4,E183=5),(Roadside!$F$15-1)*Constraints!$H$24/Constraints!$D$24+1,(Roadside!$F$15*Roadside!$F$16-1)*Constraints!$H$24/Constraints!$D$24+1))),(IF(E183<=3,1,IF(OR(E183=4,E183=5),(Roadside!$F$15-1)*Constraints!$H$38/Constraints!$D$38+1,(Roadside!$F$15*Roadside!$F$16-1)*Constraints!$H$38/Constraints!$D$38+1))))","v":0.84302377525189853},{"$f":"IF(F24=INDEX(MedConf_Header,1,2),(IF(F183<=3,1,IF(OR(F183=4,F183=5),(Roadside!$F$15-1)*Constraints!$H$24/Constraints!$D$24+1,(Roadside!$F$15*Roadside!$F$16-1)*Constraints!$H$24/Constraints!$D$24+1))),(IF(F183<=3,1,IF(OR(F183=4,F183=5),(Roadside!$F$15-1)*Constraints!$H$38/Constraints!$D$38+1,(Roadside!$F$15*Roadside!$F$16-1)*Constraints!$H$38/Constraints!$D$38+1))))","v":1},{"$f":"IF(G24=INDEX(MedConf_Header,1,2),(IF(G183<=3,1,IF(OR(G183=4,G183=5),(Roadside!$F$15-1)*Constraints!$H$24/Constraints!$D$24+1,(Roadside!$F$15*Roadside!$F$16-1)*Constraints!$H$24/Constraints!$D$24+1))),(IF(G183<=3,1,IF(OR(G183=4,G183=5),(Roadside!$F$15-1)*Constraints!$H$38/Constraints!$D$38+1,(Roadside!$F$15*Roadside!$F$16-1)*Constraints!$H$38/Constraints!$D$38+1))))","v":1},{"$f":"IF($I$2=\"Existing\",(D184),(IF($I$2=\"Design 1\",(F184),(IF($I$2=\"Design 2\",(G184),(IF($I$2=\"Optimal\",(I184),E184)))))))","v":0.84302377525189853},{"$f":"IF(I24=INDEX(MedConf_Header,1,2),(IF(I183<=3,1,IF(OR(I183=4,I183=5),(Roadside!$F$15-1)*Constraints!$H$24/Constraints!$D$24+1,(Roadside!$F$15*Roadside!$F$16-1)*Constraints!$H$24/Constraints!$D$24+1))),(IF(I183<=3,1,IF(OR(I183=4,I183=5),(Roadside!$F$15-1)*Constraints!$H$38/Constraints!$D$38+1,(Roadside!$F$15*Roadside!$F$16-1)*Constraints!$H$38/Constraints!$D$38+1))))","v":0.79533290316176108},null,{"$f":"INDEX($D184:$I184,K$100)","v":1},{"$f":"INDEX($D184:$I184,L$100)","v":0.84302377525189853},{"$f":"IF(ISERROR(1-L184/K184), 0, 1-L184/K184)","v":0.15697622474810147},null,0]
[null,null,"Backslope",1,1,1,1,{"$f":"IF($I$2=\"Existing\",(D185),(IF($I$2=\"Design 1\",(F185),(IF($I$2=\"Design 2\",(G185),(IF($I$2=\"Optimal\",(I185),E185)))))))","v":1},1,null,{"$f":"INDEX($D185:$I185,K$100)","v":1},{"$f":"INDEX($D185:$I185,L$100)","v":1},0,null,0]
[null,null,"SafetyEdge",{"$f":"IF(D24=INDEX(MedConf_Header,1,2),(IF(D$77=\"No\",1,(Roadside!$F$23-1)*AVERAGE(Constraints!$H$24,Constraints!$F$24)/Constraints!$D$24+1)),(IF(D$77=\"No\",1,(Roadside!$F$23-1)*AVERAGE(Constraints!$H$38,Constraints!$F$38)/Constraints!$D$38+1)))","v":0.97711209540034072},{"$f":"IF(E$77=\"No\",1,(Roadside!$F$23-1)*AVERAGE(Constraints!$H$24,Constraints!$F$24)/Constraints!$D$24+1)","v":1},{"$f":"IF(F24=INDEX(MedConf_Header,1,2),(IF(F$77=\"No\",1,(Roadside!$F$23-1)*AVERAGE(Constraints!$H$24,Constraints!$F$24)/Constraints!$D$24+1)),(IF(F$77=\"No\",1,(Roadside!$F$23-1)*AVERAGE(Constraints!$H$38,Constraints!$F$38)/Constraints!$D$38+1)))","v":0.97711209540034072},{"$f":"IF(G24=INDEX(MedConf_Header,1,2),(IF(G$77=\"No\",1,(Roadside!$F$23-1)*AVERAGE(Constraints!$H$24,Constraints!$F$24)/Constraints!$D$24+1)),(IF(G$77=\"No\",1,(Roadside!$F$23-1)*AVERAGE(Constraints!$H$38,Constraints!$F$38)/Constraints!$D$38+1)))","v":0.97711209540034072},{"$f":"IF($I$2=\"Existing\",(D186),(IF($I$2=\"Design 1\",(F186),(IF($I$2=\"Design 2\",(G186),(IF($I$2=\"Optimal\",(I186),E186)))))))","v":1},{"$f":"IF(I$77=\"No\",1,(Roadside!$F$23-1)*AVERAGE(Constraints!$H$24,Constraints!$F$24)/Constraints!$D$24+1)","v":0.97526887377773364},null,{"$f":"INDEX($D186:$I186,K$100)","v":0.97711209540034072},{"$f":"INDEX($D186:$I186,L$100)","v":1},-2.3424031600265627E-2,null,-2.8188991921691331E-2]
[null,null,"Lateral Clearance (ft)",{"$f":"IF(D24=INDEX(MedConf_Header,1,2),(IF($B$31=\"Yes\",((EXP(LN(Roadside!$F$11)*(IF(D$79=\"None\",40,D$78)-30)/30)-1))*Constraints!$H$17/Constraints!$D$24+1,((EXP(LN(Roadside!$F$10)*(IF(D$79=\"None\",40,D$78)-30)/30)-1))*Constraints!$H$17/Constraints!$D$24+1)),(IF($B$31=\"Yes\",((EXP(LN(Roadside!$F$11)*(IF(D$79=\"None\",40,D$78)-30)/30)-1))*Constraints!$H$31/Constraints!$D$38+1,((EXP(LN(Roadside!$F$10)*(IF(D$79=\"None\",40,D$78)-30)/30)-1))*Constraints!$H$31/Constraints!$D$38+1)))","v":1.0472592444132678},{"$f":"IF(E24=INDEX(MedConf_Header,1,2),(IF($B$31=\"Yes\",((EXP(LN(Roadside!$F$11)*(IF(E$79=\"None\",40,E$78)-30)/30)-1))*Constraints!$H$17/Constraints!$D$24+1,((EXP(LN(Roadside!$F$10)*(IF(E$79=\"None\",40,E$78)-30)/30)-1))*Constraints!$H$17/Constraints!$D$24+1)),(IF($B$31=\"Yes\",((EXP(LN(Roadside!$F$11)*(IF(E$79=\"None\",40,E$78)-30)/30)-1))*Constraints!$H$31/Constraints!$D$38+1,((EXP(LN(Roadside!$F$10)*(IF(E$79=\"None\",40,E$78)-30)/30)-1))*Constraints!$H$31/Constraints!$D$38+1)))","v":0.97942029665168673},{"$f":"IF(F24=INDEX(MedConf_Header,1,2),(IF($B$31=\"Yes\",((EXP(LN(Roadside!$F$11)*(IF(F$79=\"None\",40,F$78)-30)/30)-1))*Constraints!$H$17/Constraints!$D$24+1,((EXP(LN(Roadside!$F$10)*(IF(F$79=\"None\",40,F$78)-30)/30)-1))*Constraints!$H$17/Constraints!$D$24+1)),(IF($B$31=\"Yes\",((EXP(LN(Roadside!$F$11)*(IF(F$79=\"None\",40,F$78)-30)/30)-1))*Constraints!$H$31/Constraints!$D$38+1,((EXP(LN(Roadside!$F$10)*(IF(F$79=\"None\",40,F$78)-30)/30)-1))*Constraints!$H$31/Constraints!$D$38+1)))","v":1.0472592444132678},{"$f":"IF(G24=INDEX(MedConf_Header,1,2),(IF($B$31=\"Yes\",((EXP(LN(Roadside!$F$11)*(IF(G$79=\"None\",40,G$78)-30)/30)-1))*Constraints!$H$17/Constraints!$D$24+1,((EXP(LN(Roadside!$F$10)*(IF(G$79=\"None\",40,G$78)-30)/30)-1))*Constraints!$H$17/Constraints!$D$24+1)),(IF($B$31=\"Yes\",((EXP(LN(Roadside!$F$11)*(IF(G$79=\"None\",40,G$78)-30)/30)-1))*Constraints!$H$31/Constraints!$D$38+1,((EXP(LN(Roadside!$F$10)*(IF(G$79=\"None\",40,G$78)-30)/30)-1))*Constraints!$H$31/Constraints!$D$38+1)))","v":1.0472592444132678},{"$f":"IF($I$2=\"Existing\",(D187),(IF($I$2=\"Design 1\",(F187),(IF($I$2=\"Design 2\",(G187),(IF($I$2=\"Optimal\",(I187),E187)))))))","v":0.97942029665168673},{"$f":"IF(I24=INDEX(MedConf_Header,1,2),(IF($B$31=\"Yes\",((EXP(LN(Roadside!$F$11)*(IF(I$79=\"None\",40,I$78)-30)/30)-1))*Constraints!$H$17/Constraints!$D$24+1,((EXP(LN(Roadside!$F$10)*(IF(I$79=\"None\",40,I$78)-30)/30)-1))*Constraints!$H$17/Constraints!$D$24+1)),(IF($B$31=\"Yes\",((EXP(LN(Roadside!$F$11)*(IF(I$79=\"None\",40,I$78)-30)/30)-1))*Constraints!$H$31/Constraints!$D$38+1,((EXP(LN(Roadside!$F$10)*(IF(I$79=\"None\",40,I$78)-30)/30)-1))*Constraints!$H$31/Constraints!$D$38+1)))","v":0.97942029665168673},null,{"$f":"INDEX($D187:$I187,K$100)","v":1.0472592444132678},{"$f":"INDEX($D187:$I187,L$100)","v":0.97942029665168673},6.4777606999867676E-2,null,9.0307162971216326E-2]
[null,null,"Roadside Obstruction Type",{"$f":"IF(D24=INDEX(MedConf_Header,1,2),(IF(D$79=\"Guardrail\",(Roadside!$F$25-1)*(($I$78-D$78)/$I$78)^2*Constraints!$H$17/Constraints!$D$24+1,1)),(IF(D$79=\"Guardrail\",(Roadside!$F$25-1)*(($I$78-D$78)/$I$78)^2*Constraints!$H$31/Constraints!$D$38+1,1)))","v":1},{"$f":"IF(E24=INDEX(MedConf_Header,1,2),(IF(E$79=\"Guardrail\",(Roadside!$F$25-1)*(($I$78-E$78)/$I$78)^2*Constraints!$H$17/Constraints!$D$24+1,1)),(IF(E$79=\"Guardrail\",(Roadside!$F$25-1)*(($I$78-E$78)/$I$78)^2*Constraints!$H$31/Constraints!$D$38+1,1)))","v":1},{"$f":"IF(F24=INDEX(MedConf_Header,1,2),(IF(F$79=\"Guardrail\",(Roadside!$F$25-1)*(($I$78-F$78)/$I$78)^2*Constraints!$H$17/Constraints!$D$24+1,1)),(IF(F$79=\"Guardrail\",(Roadside!$F$25-1)*(($I$78-F$78)/$I$78)^2*Constraints!$H$31/Constraints!$D$38+1,1)))","v":1},{"$f":"IF(G24=INDEX(MedConf_Header,1,2),(IF(G$79=\"Guardrail\",(Roadside!$F$25-1)*(($I$78-G$78)/$I$78)^2*Constraints!$H$17/Constraints!$D$24+1,1)),(IF(G$79=\"Guardrail\",(Roadside!$F$25-1)*(($I$78-G$78)/$I$78)^2*Constraints!$H$31/Constraints!$D$38+1,1)))","v":1},{"$f":"IF($I$2=\"Existing\",(D188),(IF($I$2=\"Design 1\",(F188),(IF($I$2=\"Design 2\",(G188),(IF($I$2=\"Optimal\",(I188),E188)))))))","v":1},{"$f":"IF(I24=INDEX(MedConf_Header,1,2),(IF(I$79=\"Guardrail\",(Roadside!$F$25-1)*(($I$78-I$78)/$I$78)^2*Constraints!$H$17/Constraints!$D$24+1,1)),(IF(I$79=\"Guardrail\",(Roadside!$F$25-1)*(($I$78-I$78)/$I$78)^2*Constraints!$H$31/Constraints!$D$38+1,1)))","v":1},null,{"$f":"INDEX($D188:$I188,K$100)","v":1},{"$f":"INDEX($D188:$I188,L$100)","v":1},0,null,0]
[null,null,null,null,null,null,null,null,null,null,{"$f":"INDEX($D189:$I189,K$100)","v":0},{"$f":"INDEX($D189:$I189,L$100)","v":0},0]
[null,null,null,null,null,null,null,null,null,null,{"$f":"INDEX($D190:$I190,K$100)","v":0},{"$f":"INDEX($D190:$I190,L$100)","v":0},0]
[null,null,"COMBINED Calculated CMF",{"$f":"+D184*D185*D186*D187*D188","v":1.0232896747360256},{"$f":"+E184*E185*E186*E187*E188","v":0.82567459604163929},1.0232896747360256,1.0232896747360256,{"$f":"IF($I$2=\"Existing\",(D191),(IF($I$2=\"Design 1\",(F191),(IF($I$2=\"Design 2\",(G191),(IF($I$2=\"Optimal\",(I191),E191)))))))","v":0.82567459604163929},{"$f":"+I184*I185*I186*I187*I188","v":0.75970050156555824},null,{"$f":"INDEX($D191:$I191,K$100)","v":1.0232896747360256},{"$f":"INDEX($D191:$I191,L$100)","v":0.82567459604163929},0.1931174364144389]
[null,null,"Calculated Relative to Design Standards (Column E)",{"$f":"+D191/$E$191","v":1.2393377241370527},{"$f":"+E191/$E$191","v":1},1.2393377241370527,1.2393377241370527,1,{"$f":"+I191/$E$191","v":0.92009673690777583},null,{"$f":"INDEX($D192:$I192,K$100)","v":1.2393377241370527},{"$f":"INDEX($D192:$I192,L$100)","v":1},0.1931174364144389]
[null,null,"P(Crash)",{"$f":"+D192/(D192+1)","v":0.55343939896990835},0.5,0.55343939896990835,0.55343939896990835,0.5,{"$f":"+I192/(I192+1)","v":0.47919290691027777},null,{"$f":"INDEX($D193:$I193,K$100)","v":0.55343939896990835},{"$f":"INDEX($D193:$I193,L$100)","v":0.5},9.6558718207219618E-2]
[null,null,"Factor Change on S curve",{"$f":"+D193/$E$193","v":1.1068787979398167},{"$f":"+E193/$E$193","v":1},1.1068787979398167,1.1068787979398167,1,{"$f":"+I193/$E$193","v":0.95838581382055554},null,{"$f":"INDEX($D194:$I194,K$100)","v":1.1068787979398167},{"$f":"INDEX($D194:$I194,L$100)","v":1},9.6558718207219618E-2]
[null,null,"Adjust to Scale of 100",{"$f":"+$I$118/D194*100","v":{"$error":"#VALUE!"}},{"$error":"#VALUE!"},{"$error":"#VALUE!"},{"$error":"#VALUE!"},{"$error":"#VALUE!"},{"$f":"+$I$118/I194*100","v":{"$error":"#VALUE!"}},null,{"$f":"INDEX($D195:$I195,K$100)","v":{"$error":"#VALUE!"}},{"$f":"INDEX($D195:$I195,L$100)","v":{"$error":"#VALUE!"}},0]
[null,null,"Unadjusted Combined Relative to Standard",{"$f":"+D191/$E$191","v":1.2393377241370527},{"$f":"+E191/$E$191","v":1},1.2393377241370527,1.2393377241370527,1,{"$f":"+I191/$E$191","v":0.92009673690777583},{"$f":"I202/E202","v":1.0810810810810811},{"$f":"INDEX($D196:$I196,K$100)","v":1.2393377241370527},{"$f":"INDEX($D196:$I196,L$100)","v":1},0.1931174364144389]
[null,null,null,null,null,null,null,null,null,null,{"$f":"INDEX($D197:$I197,K$100)","v":0},{"$f":"INDEX($D197:$I197,L$100)","v":0},0]
[null,null,"Adjusted for PA Basis",{"$f":"+D191*(1+1)/(1+D191*1)","v":1.0115107960203793},0.90451452611745442,1.0115107960203793,1.0115107960203793,{"$f":"IF($I$2=\"Existing\",(D198),(IF($I$2=\"Design 1\",(F198),(IF($I$2=\"Design 2\",(G198),(IF($I$2=\"Optimal\",(I198),E198)))))))","v":0.90451452611745442},{"$f":"+I191*(1+1)/(1+I191*1)","v":0.86344295621859868},null,{"$f":"INDEX($D198:$I198,K$100)","v":1.0115107960203793},{"$f":"INDEX($D198:$I198,L$100)","v":0.90451452611745442},0.10577867317272727]
[null,null,"Corrected by Odds Ratio",{"$f":"+D191/$E$191","v":1.2393377241370527},{"$f":"+E191/$E$191","v":1},1.2393377241370527,1.2393377241370527,{"$f":"IF($I$2=\"Existing\",(D199),(IF($I$2=\"Design 1\",(F199),(IF($I$2=\"Design 2\",(G199),(IF($I$2=\"Optimal\",(I199),E199)))))))","v":1},{"$f":"+I191/$E$191","v":0.92009673690777583},{"$f":"I205/E205","v":1.4814814814814814},{"$f":"INDEX($D199:$I199,K$100)","v":1.2393377241370527},{"$f":"INDEX($D199:$I199,L$100)","v":1},0.1931174364144389]
[null,null,null,{"$f":"(1/D199)^$D203","v":1.8666691582346016E-8},{"$f":"(1/E199)^$D203","v":1},1.8666691582346016E-8,1.8666691582346016E-8,1,998.99999999999955]
[null,null,null,{"$f":"(D200+$F204-1)/(1+(D200+$F204-1))","v":0.50000000466667294},{"$f":"(E200+$F204-1)/(1+(E200+$F204-1))","v":0.66666666666666663},0.50000000466667294,0.50000000466667294,0.66666666666666663,0.99900099900099903]
[null,null,"Score Odds Ratio with Optimal as 100 (old)",{"$f":"MIN(ROUND($I$199/D199*Construction!$I$4,0),$I202)","v":30},{"$f":"MIN(ROUND($I$199/E199*Construction!$I$4,0),$I202)","v":37},{"$f":"MIN(ROUND($I$199/F199*Construction!$I$4,0),$I202)","v":30},{"$f":"MIN(ROUND($I$199/G199*Construction!$I$4,0),$I202)","v":30},null,{"$f":"ROUND($I$199/I199*Construction!$I$4,0)","v":40}]
[null,null,"Logistic1",{"$f":"LN((D204/(1-D204))/(0.5/0.5))/LN($E199/I199)","v":82.937655007418002}]
[null,null,"Logistic Param",0.999,null,2]
[null,null,"Score ",{"$f":"MIN(ROUND(D201*Construction!$I$4,0),$I202)","v":20},{"$f":"MIN(ROUND(E201*Construction!$I$4,0),$I202)","v":27},{"$f":"MIN(ROUND(F201*Construction!$I$4,0),$I202)","v":20},{"$f":"MIN(ROUND(G201*Construction!$I$4,0),$I202)","v":20},null,{"$f":"MIN(ROUND(I201*Construction!$I$4,0),$I202)","v":40}]
[]
[]
[]
[]
[null,null,{"$f":"D87/D183","v":{"$error":"#DIV/0!"}},null,{"$f":"ROUNDUP((MIN($I$14,$I$15)-E27-E28)/$C$210,0)","v":{"$error":"#DIV/0!"}},{"$f":"ROUNDUP((MIN($I$14,$I$15)-F27-F28)/$C$210,0)","v":{"$error":"#DIV/0!"}},{"$f":"ROUNDUP((MIN($I$14,$I$15)-G27-G28)/$C$210,0)","v":{"$error":"#DIV/0!"}},null,{"$f":"ROUNDUP((MIN($I$14,$I$15)-I27-I28)/$C$210,0)","v":{"$error":"#DIV/0!"}}]
[]
[]
[null,null,"Distance to low point","Distance to low point",{"$f":"$C$210*E183","v":{"$error":"#DIV/0!"}},{"$f":"$C$210*F183","v":{"$error":"#DIV/0!"}},{"$error":"#DIV/0!"},null,{"$f":"$C$210*I183","v":{"$error":"#DIV/0!"}}]
[null,null,null,"Additional ROW1 Needed for Foreslope",{"$f":"IF(E213>($I$14-E27-E28),E213-($I$14-E27-E28),0)","v":{"$error":"#DIV/0!"}},{"$f":"IF(F213>($I$14-F27-F28),F213-($I$14-F27-F28),0)","v":{"$error":"#DIV/0!"}},{"$f":"IF(G213>($I$14-G27-G28),G213-($I$14-G27-G28),0)","v":{"$error":"#DIV/0!"}},null,{"$f":"IF(I213>($I$14-I27-I28),I213-($I$14-I27-I28),0)","v":{"$error":"#DIV/0!"}}]
[null,null,null,"Additional ROW2 Needed for Foreslope",{"$f":"IF(E213>($I$15-E27-E28),E213-($I$15-E27-E28),0)","v":{"$error":"#DIV/0!"}},{"$f":"IF(F213>($I$15-F27-F28),F213-($I$15-F27-F28),0)","v":{"$error":"#DIV/0!"}},{"$f":"IF(G213>($I$15-G27-G28),G213-($I$15-G27-G28),0)","v":{"$error":"#DIV/0!"}},null,{"$f":"IF(I213>($I$15-I27-I28),I213-($I$15-I27-I28),0)","v":{"$error":"#DIV/0!"}}]
[]
[null,null,null,"Additional ROW1 Needed for Lateral Clearance",{"$f":"IF((CL251+E30)-$I$14<0,0,(CL251+E30)-$I$14)","v":2},{"$f":"IF((CM251+F30)-$I$14<0,0,(CM251+F30)-$I$14)","v":0},{"$f":"IF((CN251+G30)-$I$14<0,0,(CN251+G30)-$I$14)","v":0},null,{"$f":"IF((CP251+I30)-$I$14<0,0,(CP251+I30)-$I$14)","v":2}]
[null,null,null,"Additional ROW2 Needed for Lateral Clearance",{"$f":"IF((CL251+E30)-$I$15<0,0,(CL251+E30)-$I$15)","v":2},{"$f":"IF((CM251+F30)-$I$15<0,0,(CM251+F30)-$I$15)","v":0},{"$f":"IF((CN251+G30)-$I$15<0,0,(CN251+G30)-$I$15)","v":0},null,{"$f":"IF((CP251+I30)-$I$15<0,0,(CP251+I30)-$I$15)","v":2}]
[]
[]
[]
[]
[]
[]
[]
[]
[]
[]
[]
[null,null,"For Vertical Opt Use when Yes Vertical:"]
[null,null,"G1",{"$f":"D40","v":0},null,{"$f":"F40","v":0},{"$f":"G40","v":0},null,{"$f":"IF(ISERROR($E$238),\"\",INDEX(D231:G231,$E$238))","v":""}]
[null,null,"G2",{"$f":"D41","v":0},null,{"$f":"F41","v":0},{"$f":"G41","v":0},null,{"$f":"IF(ISERROR($E$238),\"\",INDEX(D232:G232,$E$238))","v":""}]
[null,null,"abs(G2-G1)",{"$f":"ABS(D40-D41)","v":0},null,{"$f":"ABS(F40-F41)","v":0},{"$f":"ABS(G40-G41)","v":0}]
[null,null,"Count in indicator (K no change; or K change but accept)",{"$f":"IF(D43<>\"\",1,\"\")","v":""},null,{"$f":"IF(OR(AND($B$38 = \"Yes\", $D$43 <> F43, F43 <>\"\", $D$43 <> \"\", F45=\"Yes.\"),AND($B$38 = \"Yes\", $D$43 = F43, F43 <>\"\", $D$43 <> \"\")), 1,\"\")","v":""},{"$f":"IF(OR(AND($B$38 = \"Yes\", $D$43 <> G43, G43 <>\"\", $D$43 <> \"\", G45=\"Yes.\"),AND($B$38 = \"Yes\", $D$43 = G43, G43 <>\"\", $D$43 <> \"\")), 1,\"\")","v":""}]
[]
[null,null,"Valid abs(G2-G1)",{"$f":"IF(ISERROR(D233*D234),\"\",D233*D234)","v":""},null,{"$f":"IF(ISERROR(F233*F234),\"\",F233*F234)","v":""},{"$f":"IF(ISERROR(G233*G234),\"\",G233*G234)","v":""}]
[null,null,"The min valid abs(G2-G1)",null,{"$f":"MIN(D236,F236,G236)","v":0}]
[null,null,"Index",null,{"$f":"MATCH(E237,D236:G236,0)","v":{"$error":"#N/A"}}]
[]
[null,null,"For Vertical Opt Use When No Vertical:"]
[null,null,"G1",{"$f":"IF(ISBLANK(D40), 999, D40)","v":999},null,{"$f":"IF(ISBLANK(F40), 999, F40)","v":999},{"$f":"IF(ISBLANK(G40), 999, G40)","v":999},null,{"$f":"IF(E246=999,\"\",E246)","v":""}]
[null,null,"Sign of G1",{"$f":"IF(D241>=0,1,-1)","v":1},null,{"$f":"IF(F241>=0,1,-1)","v":1},{"$f":"IF(G241>=0,1,-1)","v":1}]
[null,null,"Abs G1",{"$f":"ABS(D241)","v":999},null,{"$f":"ABS(F241)","v":999},{"$f":"ABS(G241)","v":999}]
[null,null,"Min Abs G1",null,{"$f":"MIN(D243:G243)","v":999}]
[null,null,"Which is the Best G1",null,{"$f":"MATCH(E244,D243:G243,0)","v":1}]
[null,null,"Best G1 Value",null,{"$f":"INDEX(D241:G241,1,E245)","v":999}]
[]
[]
[null,null,"Check if all cells filled",{"$f":"SUM(D251:D314)","v":19},{"$f":"SUM(E251:E314)","v":1},19,19,0,0]
[]
[null,null,{"$f":"C24","v":"Configuration of Multilane Roadway"},{"$f":"IF(ISBLANK(D24),1,0)","v":1},{"$f":"IF(ISBLANK(E24),1,0)","v":0},1,1,null,0]
[null,null,{"$f":"C25","v":"Median Configuration (Width or Type)"},{"$f":"IF(AND(D24<>\"No Median\", ISBLANK(D25)),1,0)","v":1},0,{"$f":"IF(AND(F24<>\"No Median\", ISBLANK(F25)),1,0)","v":1},{"$f":"IF(AND(G24<>\"No Median\", ISBLANK(G25)),1,0)","v":1},null,0]
[]
[null,null,"Lane Width (feet)",{"$f":"IF(ISBLANK(D27),1,0)","v":1},0,1,1,null,{"$f":"IF(ISBLANK(I27),1,0)","v":0}]
[null,null,"Average Outside Shoulder Width (feet)",1,0,1,1,null,0]
[null,null,"Average Inside Shoulder Width (feet)",1,0,1,1,null,0]
[null,null,"Number of Lanes per Direction of Travel",1,0,1,1,null,0]
[null,null,"Horizontal Curve Present?"]
[null,null,"Horizontal Curve Data for Controlling Element:"]
[null,null,"  Radius (feet)",{"$f":"IF(AND($B$31=\"Yes\", ISBLANK(D33)),1,0)","v":0},null,{"$f":"IF(AND($B$31=\"Yes\", ISBLANK(F33)),1,0)","v":0},{"$f":"IF(AND($B$31=\"Yes\", ISBLANK(G33)),1,0)","v":0},null,{"$f":"IF(ISBLANK(I33),1,0)","v":0}]
[null,null,"Length of Horizontal Curve (feet)",{"$f":"IF(AND($B$31=\"Yes\", ISBLANK(D34)),1,0)","v":0},null,{"$f":"IF(AND($B$31=\"Yes\", ISBLANK(F34)),1,0)","v":0},{"$f":"IF(AND($B$31=\"Yes\", ISBLANK(G34)),1,0)","v":0},null,0]
[null,null,"Calculated Deflection Angle ∆"]
[]
[null,null,null,null,null,{"$f":"IF(AND($B$31 = \"Yes\", $D$35 <> F35, F35<>\"\",ISBLANK(F37)),1,0)","v":0},{"$f":"IF(AND($B$31 = \"Yes\", $D$35 <> G35, G35<>\"\",ISBLANK(G37)),1,0)","v":0}]
[null,null,"Vertical Curve Present?"]
[null,null,"Vertical Curve Data for Controlling Element:"]
[null,null,"  Approach (Entry) Grade, G1 (%)",{"$f":"IF(ISBLANK(D40),1,0)","v":1},0,1,1,null,{"$f":"IF(ISBLANK(I40),1,0)","v":0}]
[null,null,"  Departure (Exit) Grade, G2 (%)",{"$f":"IF(AND($B$38=\"Yes\", ISBLANK(D41)),1,0)","v":0},{"$f":"IF(AND($B$38=\"Yes\", ISBLANK(E41)),1,0)","v":0},0,0,null,0]
[null,null,"  Length (feet)",{"$f":"IF(AND($B$38=\"Yes\", ISBLANK(D42)),1,0)","v":0},0,0,0,null,0]
[null,null,"  Calculated Rate of Change, K (ft/ft)"]
[]
[]
[null,null,"  Calculated Sag or Crest?"]
[]
[]
[null,null,"Geometric Design Element (Partial Score)"]
[null,null,"Total Safety Score"]
[]
[]
[]
[]
[]
[null,null,"Advance Static Curve Warning Signs",{"$f":"IF(AND($B$31=\"Yes\", ISBLANK(D56)),1,0)","v":0},{"$f":"IF(AND($B$31=\"Yes\", ISBLANK(E56)),1,0)","v":0},0,0,null,{"$f":"IF(ISBLANK(I56),1,0)","v":0}]
[null,null,"Chevron Signs on Horizontal Curves",{"$f":"IF(AND($B$31=\"Yes\", ISBLANK(D57)),1,0)","v":0},0,0,0,null,0]
[null,null,"Post-Mounted Delineators",0,0,0,0,null,0]
[null,null,"Edgeline Pavement Markings or Profile Markings",{"$f":"IF(ISBLANK(D59),1,0)","v":1},0,1,1,null,0]
[null,null,"Shoulder Rumble Strips",1,0,1,1,null,0]
[null,null,"Centerline Rumble Strips",1,0,1,1,null,0]
[null,null,"Driveway Density (driveways per mile)",1,0,1,1,null,0]
[null,null,"Lighting",1,0,1,1,null,0]
[null,null,"Pavement Friction (skid number) ***",1,0,1,1,null,0]
[null,null,"Traffic Control Element (Partial Score):"]
[null,null,"Total Safety Score"]
[]
[]
[]
[]
[]
[]
[]
[]
[null,null,"Roadside Sideslope (Foreslope)",{"$f":"IF(ISBLANK(D75),1,0)","v":1},0,1,1,null,{"$f":"IF(ISBLANK(I75),1,0)","v":0}]
[null,null,"Roadside Backslope",1,0,1,1,null,0]
[null,null,"Safety Edge",1,0,1,1,null,0]
[null,null,"Roadside Lateral Clearance to Obstruction (ft)",1,0,1,1,null,0]
[null,null,"Roadside Obstruction Type",1,0,1,1,null,0]
[null,null,"Roadside Element (Partial Score):"]
[null,null,"Total Safety Score"]
[]
[]
[]
[]
[]
[null,null,"Distance to Slope Toe from Shoulder (ft)",{"$f":"IF(ISBLANK(D87),1,0)","v":1},{"$f":"D314","v":1},{"$f":"E314","v":1},1,null,0]
[null,null,null,null,null,null,null,null,{"$f":"SUM(I316:I324)","v":9}]
[null,null,null,null,null,null,null,{"$f":"F9","v":"Location "},{"$f":"IF(ISBLANK(I9),1,0)","v":1}]
[null,null,null,null,null,null,null,{"$f":"F10","v":"Design Speed (mph)"},{"$f":"IF(ISBLANK(I10),1,0)","v":1}]
[null,null,null,null,null,null,null,"Posted Speed (mph)",1]
[null,null,null,null,null,null,null,"E max (%)",1]
[null,null,null,null,null,null,null,"    Design Year AADT (vehicles per day)",1]
[null,null,null,null,null,null,null,"    Dist. from Centerline to Left   ROW (feet)",1]
[null,null,null,null,null,null,null,"    Dist. from Centerline to Right ROW (feet)",1]
[null,null,null,null,null,null,null,"H CV",{"$f":"IF(ISBLANK(B31),1,0)","v":1}]
[null,null,null,null,null,null,null,"V HV",{"$f":"IF(ISBLANK(B38),1,0)","v":1}]
[]
[]
[]
[]
[]
[]
[]
[]
[]
[]
[]
[]
[]
[]
[]
[]
[]
[]
[]
[]
[]
[]
[]
[]
[]
[]
[]
[]
[]
[]
[]
[]
[]
[]
[]
[]
[]
[]
[]
[]
[]
[]
[]
[]
[]
[]
[]
[]
[]
[]
[]
[]
[]
[]
[1]
[22]
[21]
[20]
[19,null,null,{"$f":"Constraints!P174","v":"Emax=6%"}]
[18]
[17,null,{"$f":"HLOOKUP($I$10,Constraints!$Q$176:AD197,A379,TRUE)","v":{"$error":"#N/A"}},{"$f":"Constraints!P176","v":"super"}]
[16,null,{"$f":"HLOOKUP($I$10,Constraints!$Q$176:AD198,A380,TRUE)","v":{"$error":"#N/A"}},{"$f":"Constraints!P197","v":6},1050]
[15,null,{"$f":"HLOOKUP($I$10,Constraints!$Q$176:AD199,A381,TRUE)","v":{"$error":"#N/A"}},{"$f":"Constraints!P196","v":5.8}]
[14,null,{"$f":"HLOOKUP($I$10,Constraints!$Q$176:AD200,A382,TRUE)","v":{"$error":"#N/A"}},{"$f":"Constraints!P195","v":5.6}]
[13,null,{"$f":"HLOOKUP($I$10,Constraints!$Q$176:AD201,A383,TRUE)","v":{"$error":"#N/A"}},{"$f":"Constraints!P194","v":5.4}]
[12,null,{"$f":"HLOOKUP($I$10,Constraints!$Q$176:AD202,A384,TRUE)","v":{"$error":"#N/A"}},{"$f":"Constraints!P193","v":5.2}]
[11,null,{"$f":"HLOOKUP($I$10,Constraints!$Q$176:AD203,A385,TRUE)","v":{"$error":"#N/A"}},{"$f":"Constraints!P192","v":5}]
[10,null,{"$f":"HLOOKUP($I$10,Constraints!$Q$176:AD204,A386,TRUE)","v":{"$error":"#N/A"}},{"$f":"Constraints!P191","v":4.8}]
[9,null,{"$f":"HLOOKUP($I$10,Constraints!$Q$176:AD205,A387,TRUE)","v":{"$error":"#N/A"}},{"$f":"Constraints!P190","v":4.5999999999999996}]
[8,null,{"$f":"HLOOKUP($I$10,Constraints!$Q$176:AD206,A388,TRUE)","v":{"$error":"#N/A"}},{"$f":"Constraints!P189","v":4.4000000000000004}]
[7,null,{"$f":"HLOOKUP($I$10,Constraints!$Q$176:AD207,A389,TRUE)","v":{"$error":"#N/A"}},{"$f":"Constraints!P188","v":4.2}]
[6,null,{"$f":"HLOOKUP($I$10,Constraints!$Q$176:AD208,A390,TRUE)","v":{"$error":"#N/A"}},{"$f":"Constraints!P187","v":4}]
[5,null,{"$f":"HLOOKUP($I$10,Constraints!$Q$176:AD209,A391,TRUE)","v":{"$error":"#N/A"}},{"$f":"Constraints!P186","v":3.8}]
[4,null,{"$f":"HLOOKUP($I$10,Constraints!$Q$176:AD210,A392,TRUE)","v":{"$error":"#N/A"}},{"$f":"Constraints!P185","v":3.6}]
[3,null,{"$f":"HLOOKUP($I$10,Constraints!$Q$176:AD211,A393,TRUE)","v":{"$error":"#N/A"}},{"$f":"Constraints!P184","v":3.4}]
[2,null,{"$f":"HLOOKUP($I$10,Constraints!$Q$176:AD212,A394,TRUE)","v":{"$error":"#N/A"}},{"$f":"Constraints!P183","v":3.2}]
[null,null,{"$f":"HLOOKUP($I$10,Constraints!$Q$176:AD213,A395,TRUE)","v":{"$error":"#N/A"}},{"$f":"Constraints!P182","v":3}]
[null,null,{"$f":"HLOOKUP($I$10,Constraints!$Q$176:AD214,A396,TRUE)","v":{"$error":"#N/A"}},{"$f":"Constraints!P181","v":2.8}]
[null,null,{"$f":"HLOOKUP($I$10,Constraints!$Q$176:AD215,A397,TRUE)","v":{"$error":"#N/A"}},{"$f":"Constraints!P180","v":2.6}]
[null,null,{"$f":"HLOOKUP($I$10,Constraints!$Q$176:AD216,A398,TRUE)","v":{"$error":"#N/A"}},{"$f":"Constraints!P179","v":2.4}]
[null,null,{"$f":"HLOOKUP($I$10,Constraints!$Q$176:AD217,A399,TRUE)","v":{"$error":"#N/A"}},{"$f":"Constraints!P178","v":2.2000000000000002}]
[1,null,{"$f":"HLOOKUP($I$10,Constraints!$Q$176:AD218,A400,TRUE)","v":{"$error":"#N/A"}},{"$f":"Constraints!P177","v":2}]
[32]
[31]
[30]
[29,null,null,{"$f":"Constraints!P201","v":"Emax=8%"}]
[28]
[27,null,{"$f":"HLOOKUP($I$10,Constraints!$Q$203:AD234,A406,TRUE)","v":{"$error":"#N/A"}},{"$f":"Constraints!P203","v":"super"}]
[26,null,{"$f":"HLOOKUP($I$10,Constraints!$Q$203:AD235,A407,TRUE)","v":{"$error":"#N/A"}},{"$f":"INDEX(Constraints!$P$203:$P$234,A407,)","v":8}]
[25,null,{"$f":"HLOOKUP($I$10,Constraints!$Q$203:AD236,A408,TRUE)","v":{"$error":"#N/A"}},{"$f":"INDEX(Constraints!$P$203:$P$234,A408,)","v":7.8}]
[24,null,{"$f":"HLOOKUP($I$10,Constraints!$Q$203:AD237,A409,TRUE)","v":{"$error":"#N/A"}},{"$f":"INDEX(Constraints!$P$203:$P$234,A409,)","v":7.6}]
[23,null,{"$f":"HLOOKUP($I$10,Constraints!$Q$203:AD238,A410,TRUE)","v":{"$error":"#N/A"}},{"$f":"INDEX(Constraints!$P$203:$P$234,A410,)","v":7.4}]
[22,null,{"$f":"HLOOKUP($I$10,Constraints!$Q$203:AD239,A411,TRUE)","v":{"$error":"#N/A"}},{"$f":"INDEX(Constraints!$P$203:$P$234,A411,)","v":7.2}]
[21,null,{"$f":"HLOOKUP($I$10,Constraints!$Q$203:AD240,A412,TRUE)","v":{"$error":"#N/A"}},{"$f":"INDEX(Constraints!$P$203:$P$234,A412,)","v":7}]
[20,null,{"$f":"HLOOKUP($I$10,Constraints!$Q$203:AD241,A413,TRUE)","v":{"$error":"#N/A"}},{"$f":"INDEX(Constraints!$P$203:$P$234,A413,)","v":6.8}]
[19,null,{"$f":"HLOOKUP($I$10,Constraints!$Q$203:AD242,A414,TRUE)","v":{"$error":"#N/A"}},{"$f":"INDEX(Constraints!$P$203:$P$234,A414,)","v":6.6}]
[18,null,{"$f":"HLOOKUP($I$10,Constraints!$Q$203:AD243,A415,TRUE)","v":{"$error":"#N/A"}},{"$f":"INDEX(Constraints!$P$203:$P$234,A415,)","v":6.4}]
[17,null,{"$f":"HLOOKUP($I$10,Constraints!$Q$203:AD244,A416,TRUE)","v":{"$error":"#N/A"}},{"$f":"INDEX(Constraints!$P$203:$P$234,A416,)","v":6.2}]
[16,null,{"$f":"HLOOKUP($I$10,Constraints!$Q$203:AD245,A417,TRUE)","v":{"$error":"#N/A"}},{"$f":"INDEX(Constraints!$P$203:$P$234,A417,)","v":6}]
[15,null,{"$f":"HLOOKUP($I$10,Constraints!$Q$203:AD246,A418,TRUE)","v":{"$error":"#N/A"}},{"$f":"INDEX(Constraints!$P$203:$P$234,A418,)","v":5.8}]
[14,null,{"$f":"HLOOKUP($I$10,Constraints!$Q$203:AD247,A419,TRUE)","v":{"$error":"#N/A"}},{"$f":"INDEX(Constraints!$P$203:$P$234,A419,)","v":5.6}]
[13,null,{"$f":"HLOOKUP($I$10,Constraints!$Q$203:AD248,A420,TRUE)","v":{"$error":"#N/A"}},{"$f":"INDEX(Constraints!$P$203:$P$234,A420,)","v":5.4}]
[12,null,{"$f":"HLOOKUP($I$10,Constraints!$Q$203:AD249,A421,TRUE)","v":{"$error":"#N/A"}},{"$f":"INDEX(Constraints!$P$203:$P$234,A421,)","v":5.2}]
[11,null,{"$f":"HLOOKUP($I$10,Constraints!$Q$203:AD250,A422,TRUE)","v":{"$error":"#N/A"}},{"$f":"INDEX(Constraints!$P$203:$P$234,A422,)","v":5}]
[10,null,{"$f":"HLOOKUP($I$10,Constraints!$Q$203:AD251,A423,TRUE)","v":{"$error":"#N/A"}},{"$f":"INDEX(Constraints!$P$203:$P$234,A423,)","v":4.8}]
[9,null,{"$f":"HLOOKUP($I$10,Constraints!$Q$203:AD252,A424,TRUE)","v":{"$error":"#N/A"}},{"$f":"INDEX(Constraints!$P$203:$P$234,A424,)","v":4.5999999999999996}]
[8,null,{"$f":"HLOOKUP($I$10,Constraints!$Q$203:AD253,A425,TRUE)","v":{"$error":"#N/A"}},{"$f":"INDEX(Constraints!$P$203:$P$234,A425,)","v":4.4000000000000004}]
[7,null,{"$f":"HLOOKUP($I$10,Constraints!$Q$203:AD254,A426,TRUE)","v":{"$error":"#N/A"}},{"$f":"INDEX(Constraints!$P$203:$P$234,A426,)","v":4.2}]
[6,null,{"$f":"HLOOKUP($I$10,Constraints!$Q$203:AD255,A427,TRUE)","v":{"$error":"#N/A"}},{"$f":"INDEX(Constraints!$P$203:$P$234,A427,)","v":4}]
[5,null,{"$f":"HLOOKUP($I$10,Constraints!$Q$203:AD256,A428,TRUE)","v":{"$error":"#N/A"}},{"$f":"INDEX(Constraints!$P$203:$P$234,A428,)","v":3.8}]
[4,null,{"$f":"HLOOKUP($I$10,Constraints!$Q$203:AD257,A429,TRUE)","v":{"$error":"#N/A"}},{"$f":"INDEX(Constraints!$P$203:$P$234,A429,)","v":3.6}]
[3,null,{"$f":"HLOOKUP($I$10,Constraints!$Q$203:AD258,A430,TRUE)","v":{"$error":"#N/A"}},{"$f":"INDEX(Constraints!$P$203:$P$234,A430,)","v":3.4}]
[2,null,{"$f":"HLOOKUP($I$10,Constraints!$Q$203:AD259,A431,TRUE)","v":{"$error":"#N/A"}},{"$f":"INDEX(Constraints!$P$203:$P$234,A431,)","v":3.2}]
[null,null,{"$f":"HLOOKUP($I$10,Constraints!$Q$203:AD260,A432,TRUE)","v":{"$error":"#N/A"}},{"$f":"INDEX(Constraints!$P$203:$P$234,A432,)","v":3}]
[null,null,{"$f":"HLOOKUP($I$10,Constraints!$Q$203:AD261,A433,TRUE)","v":{"$error":"#N/A"}},{"$f":"INDEX(Constraints!$P$203:$P$234,A433,)","v":2.8}]
[null,null,{"$f":"HLOOKUP($I$10,Constraints!$Q$203:AD262,A434,TRUE)","v":{"$error":"#N/A"}},{"$f":"INDEX(Constraints!$P$203:$P$234,A434,)","v":2.6}]
[null,null,{"$f":"HLOOKUP($I$10,Constraints!$Q$203:AD263,A435,TRUE)","v":{"$error":"#N/A"}},{"$f":"INDEX(Constraints!$P$203:$P$234,A435,)","v":2.4}]
[null,null,{"$f":"HLOOKUP($I$10,Constraints!$Q$203:AD264,A436,TRUE)","v":{"$error":"#N/A"}},{"$f":"INDEX(Constraints!$P$203:$P$234,A436,)","v":2.2000000000000002}]
[null,null,{"$f":"HLOOKUP($I$10,Constraints!$Q$203:AD265,A437,TRUE)","v":{"$error":"#N/A"}},{"$f":"INDEX(Constraints!$P$203:$P$234,A437,)","v":2}]

{"sheet":"Configuration 6","index":16,"n_rows":443,"n_cols":113,"rows_kept":443,"cut":false,"hidden":false,"merged":[[87,1,87,2],[88,1,88,2],[89,1,89,2],[97,10,97,12],[69,16,69,21],[69,22,69,23],[70,16,70,21],[70,22,70,23],[71,16,71,21],[71,22,71,23],[68,16,68,21],[68,22,68,23],[17,2,17,8],[18,2,18,8],[19,2,19,8],[20,5,20,7],[41,9,41,10],[46,2,47,2],[4,21,44,28],[48,12,48,19],[55,15,55,16],[55,18,55,19],[55,21,55,22],[67,16,67,23],[4,3,4,4],[9,3,9,4],[9,5,9,6],[10,3,10,4],[10,5,10,6],[8,3,8,4],[8,5,8,6],[12,2,15,4],[12,5,12,6],[13,5,13,6],[14,5,14,6],[11,5,11,6],[1,6,2,7],[1,8,2,8],[1,21,1,37],[2,1,2,4],[2,21,3,28],[2,30,3,37],[3,1,3,4],[3,6,4,7],[3,8,4,8],[4,1,4,2],[4,30,44,37],[5,1,5,2],[5,3,5,4],[6,1,6,7],[7,1,7,4],[7,7,7,8]]}
[]
[null,null,null,null,null,null,"Preferred Schematic View to Display",null,"Standard",null,null,null,null,null,null,null,null,null,null,null,null,"NOTES: "]
[null,"CHARACTERISTICS TO CONSIDER FOR ANALYSIS",null,null,null,null,null,null,null,null,null,null,null,null,null,null,null,null,null,null,null,"ELEMENTS INCREASING SAFETY",null,null,null,null,null,null,null,null,"COMMENTS ON PRIMARY CONSTRAINTS"]
[null,"INPUT INSTRUCTIONS",null,null,null,null,"Relative to",null,"Existing"]
[null,"Blue Boxes -- Select from pulldown options",null,"Select from Pulldown"]
[null,"Yellow Boxes -- Type input information into box",null,"Type Input Value"]
[null," Rural Multi-Lane Road Segment -- Safety Score Input",null,null,null,null,null,null,null,null,null,null,null,null,null,null,null,null,null,null,null,null,null,null,null,null,null,null,null,null,null,null,null,null,null,null,null,null,null,null,null,null,null,null,null,null,null,null,null,null,null,null,null,null,null,null,null,null,null,null,null,null,null,null,null,null,null,null,null,null,null,null,null,null,null,null,null,null,null,null,null,null,null,"Unadjusted Marginal Safety"]
[null,"General Information:",null,null,null,"General Site Features",null,{"$f":" I315 & \" Missing Features and Curves\"","v":"9 Missing Features and Curves"},null,null,null,null,null,null,null,null,null,null,null,null,null,null,null,null,null,null,null,null,null,null,null,null,null,null,null,null,null,null,null,null,null,null,null,null,null,null,null,null,null,null,null,null,null,null,null,null,null,null,null,null,null,null,null,null,null,null,null,null,null,null,null,null,null,null,null,null,null,null,null,null,null,null,null,{"$f":"I2&\" relative to \" &I4","v":"Standard relative to Existing"}]
[null,null,"Analyst:",{"$f":"+'Start Here'!H7","v":0},null,"Location "]
[null,null,"Agency or Company:",{"$f":"+'Start Here'!H8","v":0},null,"Design Speed (mph)"]
[null,null,"Date:",{"$f":"+'Start Here'!H9","v":"00:00:00"},null,"Posted Speed (mph)"]
[null,null,"Description:",null,null,"E max (%)"]
[null,null,"Input additional site information here",null,null,"    Design Year AADT (vehicles per day)"]
[null,null,null,null,null,"    Dist. from Centerline to Left   ROW (feet)"]
[null,null,null,null,null,"    Dist. from Centerline to Right ROW (feet)"]
[]
[null,"Warning:"]
[null,null,{"$f":"+IF(+I11>I10,\"Posted speed exceeds design speed. Optimal safety will only be achieved if design speed exceeds posted speed. The Safety Assessment Score is based on the higher of the two speed values.\",\"No speed warnings identified\")","v":"No speed warnings identified"}]
[null,null,{"$f":"IF(OR(F24=INDEX(MedConf_Header,1,3),+G24=INDEX(MedConf_Header,1,3)), \"Multilane undivided facilities are known to have substantially more collisions than multilane facilities with medians. In new construction a median or TWLTL should be considered.\",\" \")","v":" "},null,null,null,null,null,null,null,null,null,null,null,null,null,null,null,null,null,null,null,null,null,null,null,null,null,null,null,null,null,null,null,null,null,null,null,null,null,null,null,null,null,null,null,null,null,null,null,null,null,null,null,null,null,null,null,null,null,null,null,null,null,null,null,null,null,null,null,null,null,null,null,null,null,null,null,null,null,null,null,null,null,null,null,null,null,null,null,null,null,null,null,null,null,null,null,null,null,null,null,null,null,null,{"$f":"COUNTIF(DB23:DB46,DB20)","v":1}]
[null,null,{"$f":"IF(I13=\"40,001 < AADT < 60,000\", \"Multi-lane Road Should be Divided Due to High AADT Value\",\"\")","v":""},null,null,null,null,null,null,null,null,null,null,null,null,null,null,null,null,null,null,null,null,null,null,null,null,null,null,null,null,null,null,null,null,null,null,null,null,null,null,null,null,null,null,null,null,null,null,null,null,null,null,null,null,null,null,null,null,null,null,null,null,null,null,null,null,null,null,null,null,null,null,null,null,null,null,null,null,null,null,null,null,null,null,null,null,null,null,null,null,null,null,null,null,null,null,null,null,null,null,null,null,null,null,{"$f":"VLOOKUP(0,CZ23:DB46,3,)","v":10.01}]
[null,null,null,"Fill all elements",null,"To enter notes, use boxes to the right of the vortex ",null,null,null,null," "]
[null,{"$f":"+Construction!$I$2&\"  Total Available Points\"","v":"40  Total Available Points"},null,{"$f":" D249 & \" Missing Elements\"","v":"19 Missing Elements"},null,{"$f":" F249 & \" Missing Elements\"","v":"19 Missing Elements"},{"$f":" G249 & \" Missing Elements\"","v":"19 Missing Elements"},null,null,null,null,null,null,null,null,null,null,null,null,null,null,null,null,null,null,null,null,null,null,null,null,null,null,null,null,null,null,null,null,null,null,null,null,null,null,null,null,null,null,null,null,null,null,null,null,null,null,null,null,null,null,null,null,null,null,null,null,null,null,null,null,null,null,null,null,null,null,null,null,null,null,null,null,null,null,null,null,null,null,null,null,null,null,null,null,null,null,null,null,null,null,"Ranked element","CRF","abs","Re-rank","Rank","Ranked CRF","Element","New Element","crf.abs","rank","Sorted Element","Sorted CRF"]
[null,"Geometric Design Elements",null,"Existing","Standard (Based on Multi-lane Divided)","Design 1","Design 2",{"$f":"\"Marginal Safety for \"&$I$2&\" (compared to \" & $I$4 & \")\"","v":"Marginal Safety for Standard (compared to Existing)"},"Optimal (Based on Multi-lane Divided)",null,null,null,null,null,null,null,null,null,null,null,null,null,null,null,null,null,null,null,null,null,null,null,null,null,null,null,null,null,null,null,null,null,null,null,null,null,null,null,null,null,null,null,null,null,null,null,null,null,null,null,null,null,null,null,null,null,null,null,null,null,null,null,null,null,null,null,null,null,null,null,null,null,null,null,null,null,null,null,null,null,null,null,null,null,null,null,null,null,null,null,null,{"$f":"IF(CY23=0,\"\",DB23&\". \"&DD23)","v":""},{"$f":"H24","v":0},{"$f":"ABS(CY23)","v":0},{"$f":"_xlfn.RANK.EQ(DB23,$DB$23:$DB$46,1)","v":10},{"$f":"_xlfn.RANK.EQ(CZ23,$CZ$23:$CZ$46)+DG23/100","v":10.01},{"$f":"CY23","v":0},{"$f":"IF(ROUND(DF23,2)=0,\"\",C24)","v":""},{"$f":"DD23","v":""},{"$f":"CZ23","v":0},1,{"$f":"IFERROR(IF(IFERROR(VLOOKUP(DG23,$DA$23:$DF$46,4,)&\", \"&CY23=0,\"\"),\"\",IFERROR(VLOOKUP(DG23,$DA$23:$DE$46,4,),\"\")),\"\")","v":"Pavement Friction (skid number) ***"},{"$f":"IFERROR(IF(IFERROR(VLOOKUP(DG23,$DA$23:$DF$46,3,)&\", \"&CY23=0,\"\"),\"\",IFERROR(VLOOKUP(DG23,$DA$23:$DE$46,3,),\"\")),\"\")","v":0.28430956017940245}]
[null,null,"Configuration of Multilane Roadway",null,"Divided - Unsurfaced Median",null,null,null,"Divided - Unsurfaced Median",null,null,null,null,null,null,null,null,null,null,null,null,null,null,null,null,null,null,null,null,null,null,null,null,null,null,null,null,null,null,null,null,null,null,null,null,null,null,null,null,null,null,null,null,null,null,null,null,null,null,null,null,null,null,null,null,null,null,null,null,null,null,null,null,null,null,null,null,null,null,null,null,null,null,null,null,null,null,null,null,null,null,null,null,null,null,null,null,null,null,null,null,"5.02. Median Configuration (Width or Type)",{"$f":"H25","v":8.9999999999999969E-2},8.9999999999999969E-2,{"$f":"_xlfn.RANK.EQ(DB24,$DB$23:$DB$46,1)","v":5},{"$f":"_xlfn.RANK.EQ(CZ24,$CZ$23:$CZ$46)+DG24/100","v":5.0199999999999996},{"$f":"CY24","v":8.9999999999999969E-2},{"$f":"IF(ROUND(DF24,2)=0,\"\",C25)","v":"Median Configuration (Width or Type)"},{"$f":"DD24","v":"Median Configuration (Width or Type)"},8.9999999999999969E-2,2,{"$f":"IFERROR(IF(IFERROR(VLOOKUP(DG24,$DA$23:$DF$46,4,)&\", \"&CY24=0,\"\"),\"\",IFERROR(VLOOKUP(DG24,$DA$23:$DE$46,4,),\"\")),\"\")","v":"Driveway Density (driveways per mile)"},{"$f":"IFERROR(IF(IFERROR(VLOOKUP(DG24,$DA$23:$DF$46,3,)&\", \"&CY24=0,\"\"),\"\",IFERROR(VLOOKUP(DG24,$DA$23:$DE$46,3,),\"\")),\"\")","v":-0.22388114201141129}]
[null,null,"Median Configuration (Width or Type)",null,30,null,null,{"$f":"M103","v":8.9999999999999969E-2},100,null,null,null,null,null,null,null,null,null,null,null,null,null,null,null,null,null,null,null,null,null,null,null,null,null,null,null,null,null,null,null,null,null,null,null,null,null,null,null,null,null,null,null,null,null,null,null,null,null,null,null,null,null,null,null,null,null,null,null,null,null,null,null,null,null,null,null,null,null,null,null,null,null,null,null,null,null,null,null,null,null,null,null,null,null,null,null,null,null,null,null,null,"",{"$f":"H27","v":0},0,11,10.029999999999999,{"$f":"CY25","v":0},{"$f":"IF(ROUND(DF25,2)=0,\"\",C27)","v":""},{"$f":"DD25","v":""},0,3,{"$f":"IFERROR(IF(IFERROR(VLOOKUP(DG25,$DA$23:$DF$46,4,)&\", \"&CY25=0,\"\"),\"\",IFERROR(VLOOKUP(DG25,$DA$23:$DE$46,4,),\"\")),\"\")","v":"Average Outside Shoulder Width (feet)"},{"$f":"IFERROR(IF(IFERROR(VLOOKUP(DG25,$DA$23:$DF$46,3,)&\", \"&CY25=0,\"\"),\"\",IFERROR(VLOOKUP(DG25,$DA$23:$DE$46,3,),\"\")),\"\")","v":0.18061674008810569}]
[null,null,null,null,null,null,null,null,null,null,null,null,null,null,null,null,null,null,null,null,null,null,null,null,null,null,null,null,null,null,null,null,null,null,null,null,null,null,null,null,null,null,null,null,null,null,null,null,null,null,null,null,null,null,null,null,null,null,null,null,null,null,null,null,null,null,null,null,null,null,null,null,null,null,null,null,null,null,null,null,null,null,null,null,null,null,null,null,null,null,null,null,null,null,null,null,null,null,null,null,null,null,null,null,null,null,null,null,null,null,4,{"$f":"IFERROR(IF(IFERROR(VLOOKUP(DG26,$DA$23:$DF$46,4,)&\", \"&CY26=0,\"\"),\"\",IFERROR(VLOOKUP(DG26,$DA$23:$DE$46,4,),\"\")),\"\")","v":"Roadside Sideslope (Foreslope)"},{"$f":"IFERROR(IF(IFERROR(VLOOKUP(DG26,$DA$23:$DF$46,3,)&\", \"&CY26=0,\"\"),\"\",IFERROR(VLOOKUP(DG26,$DA$23:$DE$46,3,),\"\")),\"\")","v":0.15697622474810147}]
[null,null,"Lane Width (feet)",null,12,null,null,{"$f":"M104","v":0},12,null,null,null,null,null,null,null,null,null,null,null,null,null,null,null,null,null,null,null,null,null,null,null,null,null,null,null,null,null,null,null,null,null,null,null,null,null,null,null,null,null,null,null,null,null,null,null,null,null,null,null,null,null,null,null,null,null,null,null,null,null,null,null,null,null,null,null,null,null,null,null,null,null,null,null,null,null,null,null,null,null,null,null,null,null,null,null,null,null,null,null,null,null,null,null,null,null,null,null,null,null,5,"Median Configuration (Width or Type)",8.9999999999999969E-2]
[null,null,"Average Outside Shoulder Width (feet)",null,8,null,null,{"$f":"M105","v":0.18061674008810569},10,null,null,null,null,null,null,null,null,null,null,null,null,null,null,null,null,null,null,null,null,null,null,null,null,null,null,null,null,null,null,null,null,null,null,null,null,null,null,null,null,null,null,null,null,null,null,null,null,null,null,null,null,null,null,null,null,null,null,null,null,null,null,null,null,null,null,null,null,null,null,null,null,null,null,null,null,null,null,null,null,null,null,null,null,null,null,null,null,null,null,null,null,{"$f":"IF(CY28=0,\"\",DB28&\". \"&DD28)","v":"3.06. Average Outside Shoulder Width (feet)"},{"$f":"H28","v":0.18061674008810569},{"$f":"ABS(CY28)","v":0.18061674008810569},3,3.06,{"$f":"CY28","v":0.18061674008810569},{"$f":"IF(ROUND(DF28,2)=0,\"\",C28)","v":"Average Outside Shoulder Width (feet)"},{"$f":"DD28","v":"Average Outside Shoulder Width (feet)"},{"$f":"CZ28","v":0.18061674008810569},6,"Roadside Lateral Clearance to Obstruction (ft)",6.4777606999867676E-2]
[null,null,"Average Inside Shoulder Width (feet)",null,4,null,null,{"$f":"M106","v":0},10,null,null,null,null,null,null,null,null,null,null,null,null,null,null,null,null,null,null,null,null,null,null,null,null,null,null,null,null,null,null,null,null,null,null,null,null,null,null,null,null,null,null,null,null,null,null,null,null,null,null,null,null,null,null,null,null,null,null,null,null,null,null,null,null,null,null,null,null,null,null,null,null,null,null,null,null,null,null,null,null,null,null,null,null,null,null,null,null,null,null,null,null,{"$f":"IF(CY29=0,\"\",DB29&\". \"&DD29)","v":""},{"$f":"H33","v":0},{"$f":"ABS(CY29)","v":0},12,10.07,0,{"$f":"IF(ROUND(DF29,2)=0,\"\",\"Hz and Vt Alignment\")","v":""},"",{"$f":"CZ29","v":0},7,"Safety Edge",-2.3424031600265627E-2]
["",null,"Number of Lanes per Direction of Travel",null,2,null,null,null,2,null,null,null,null,null,null,null,null,null,null,null,null,null,null,null,null,null,null,null,null,null,null,null,null,null,null,null,null,null,null,null,null,null,null,null,null,null,null,null,null,null,null,null,null,null,null,null,null,null,null,null,null,null,null,null,null,null,null,null,null,null,null,null,null,null,null,null,null,null,null,null,null,null,null,null,null,null,null,null,null,null,null,null,null,null,null,null,null,null,null,null,null,{"$f":"IF(CY30=0,\"\",DB30&\". \"&DD30)","v":""},{"$f":"H29","v":0},{"$f":"ABS(CY30)","v":0},13,10.08,0,{"$f":"IF(ROUND(DF30,2)=0,\"\",C29)","v":""},"",{"$f":"CZ30","v":0},8,"Shoulder Rumble Strips",2.2875008800570917E-2]
[null,null,"Horizontal Curve Present?","--","--","--","--",null,"--",null,null,null,null,null,null,null,null,null,null,null,null,null,null,null,null,null,null,null,null,null,null,null,null,null,null,null,null,null,null,null,null,null,null,null,null,null,null,null,null,null,null,null,null,null,null,null,null,null,null,null,null,null,null,null,null,null,null,null,null,null,null,null,null,null,null,null,null,null,null,null,null,null,null,null,null,null,null,null,null,null,null,null,null,null,null,null,null,null,null,null,null,{"$f":"IF(CY31=0,\"\",DB31&\". \"&DD31)","v":""},{"$f":"H47","v":0},{"$f":"ABS(CY31)","v":0},14,10.09,0,{"$f":"IF(ROUND(DF31,2)=0,\"\",C47)","v":""},"",{"$f":"CZ31","v":0},9,"Lighting",-1.7096579124742384E-2]
[null,null,"Horizontal Curve Data for Controlling Element:","--","--","--","--",null,"--",null,null,null,null,null,null,null,null,null,null,null,null,null,null,null,null,null,null,null,null,null,null,null,null,null,null,null,null,null,null,null,null,null,null,null,null,null,null,null,null,null,null,null,null,null,null,null,null,null,null,null,null,null,null,null,null,null,null,null,null,null,null,null,null,null,null,null,null,null,null,null,null,null,null,null,null,null,null,null,null,null,null,null,null,null,null,null,null,null,null,null,null,"",{"$f":"H48","v":0},0,15,10.1,0,{"$f":"IF(ROUND(DF32,2)=0,\"\",C48)","v":""},"",0,10,"",0]
[null,null,"  Radius (feet)",null,{"$f":"IF(MAX($I$10,$I$11)<45,590,IF($I$12=6,VLOOKUP(MAX($I$10,$I$11),Construction!$B$27:$D$34,2,TRUE),VLOOKUP(MAX($I$10,$I$11),Construction!$G$27:$I$34,2,TRUE)))","v":590},null,null,{"$f":"M144","v":0},{"$f":"IF(MAX($I$10,$I$11)<45,590,IF($I$12=6,VLOOKUP(MAX($I$10,$I$11),Construction!$B$43:$C$50,2,TRUE),VLOOKUP(MAX($I$10,$I$11),Construction!$G$43:$H$50,2,TRUE)))","v":590},null,null,null,null,null,null,null,null,null,null,null,null,null,null,null,null,null,null,null,null,null,null,null,null,null,null,null,null,null,null,null,null,null,null,null,null,null,null,null,null,null,null,null,null,null,null,null,null,null,null,null,null,null,null,null,null,null,null,null,null,null,null,null,null,null,null,null,null,null,null,null,null,null,null,null,null,null,null,null,null,null,null,null,null,null,null,null,null,null,null,null,null,"",{"$f":"H56","v":0},0,16,10.11,0,{"$f":"IF(ROUND(DF33,2)=0,\"\",C56)","v":""},"",0,11,"",0]
[null,null,"Length of Horizontal Curve (feet)",null,{"$f":"IF(D35=\"\", \"\", E33*E35/57.296)","v":""},null,null,null,{"$f":"I33*I35/57.296","v":3758.5520804244625},null,null,null,null,null,null,null,null,null,null,null,null,null,null,null,null,null,null,null,null,null,null,null,null,null,null,null,null,null,null,null,null,null,null,null,null,null,null,null,null,null,null,null,null,null,null,null,null,null,null,null,null,null,null,null,null,null,null,null,null,null,null,null,null,null,null,null,null,null,null,null,null,null,null,null,null,null,null,null,null,null,null,null,null,null,null,null,null,null,null,null,null,"",0,0,17,10.119999999999999,0,"","",0,12,"",0]
[null,null,"Calculated Deflection Angle ∆",{"$f":"IF(OR(ISBLANK(D33),ISBLANK(D34),$B$31=\"No\",ISBLANK($B$31)),\"\",ROUND(D34/D33*57.296,1))","v":""},{"$f":"IF(ISBLANK(D35), \"\",D35)","v":""},{"$f":"IF(OR(ISBLANK(F33),ISBLANK(F34),$B$31=\"No\",ISBLANK($B$31)),\"\",ROUND(F34/F33*57.296,1))","v":""},{"$f":"IF(OR(ISBLANK(G33),ISBLANK(G34),$B$31=\"No\",ISBLANK($B$31)),\"\",ROUND(G34/G33*57.296,1))","v":""},null,{"$f":"MIN(D35,IF(F37=INDEX(HCurveChange,1,0), F35, 365),IF(G37=INDEX(HCurveChange,1,0), G35, 365))","v":365},null,null,null,null,null,null,null,null,null,null,null,null,null,null,null,null,null,null,null,null,null,null,null,null,null,null,null,null,null,null,null,null,null,null,null,null,null,null,null,null,null,null,null,null,null,null,null,null,null,null,null,null,null,null,null,null,null,null,null,null,null,null,null,null,null,null,null,null,null,null,null,null,null,null,null,null,null,null,null,null,null,null,null,null,null,null,null,null,null,null,null,null,"",0,0,18,10.130000000000001,0,"","",0,13,"",0]
[null,null,null,null,null,"∆ has changed. \nAre you changing the ∆?","∆ has changed. \nAre you changing the ∆?",null,null,null,null,null,null,null,null,null,null,null,null,null,null,null,null,null,null,null,null,null,null,null,null,null,null,null,null,null,null,null,null,null,null,null,null,null,null,null,null,null,null,null,null,null,null,null,null,null,null,null,null,null,null,null,null,null,null,null,null,null,null,null,null,null,null,null,null,null,null,null,null,null,null,null,null,null,null,null,null,null,null,null,null,null,null,null,null,null,null,null,null,null,null,"",0,0,19,10.14,0,"","",0,14,"",0]
[null,null,null,null,null,null,null,null,null,null,null,null,null,null,null,null,null,null,null,null,null,null,null,null,null,null,null,null,null,null,null,null,null,null,null,null,null,null,null,null,null,null,null,null,null,null,null,null,null,null,null,null,null,null,null,null,null,null,null,null,null,null,null,null,null,null,null,null,null,null,null,null,null,null,null,null,null,null,null,null,null,null,null,null,null,null,null,null,null,null,null,null,null,null,null,null,null,null,null,null,null,"8.15. Shoulder Rumble Strips",2.2875008800570917E-2,2.2875008800570917E-2,8,8.15,2.2875008800570917E-2,"Shoulder Rumble Strips","Shoulder Rumble Strips",2.2875008800570917E-2,15,"",0]
[null,null,"Vertical Curve Present?","--","--","--","--",null,{"$f":"E38","v":"--"},null,null,null,null,null,null,null,null,null,null,null,null,null,null,null,null,null,null,null,null,null,null,null,null,null,null,null,null,null,null,null,null,null,null,null,null,null,null,null,null,null,null,null,null,null,null,null,null,null,null,null,null,null,null,null,null,null,null,null,null,null,null,null,null,null,null,null,null,null,null,null,null,null,null,null,null,null,null,null,null,null,null,null,null,null,null,null,null,null,null,null,null,"",0,0,20,10.16,0,"","",0,16,"",0]
[null,null,"Vertical Curve Data for Controlling Element:","--","--","--","--",null,"--",null,null,null,null,null,null,null,null,null,null,null,null,null,null,null,null,null,null,null,null,null,null,null,null,null,null,null,null,null,null,null,null,null,null,null,null,null,null,null,null,null,null,null,null,null,null,null,null,null,null,null,null,null,null,null,null,null,null,null,null,null,null,null,null,null,null,null,null,null,null,null,null,null,null,null,null,null,null,null,null,null,null,null,null,null,null,null,null,null,null,null,null,"2.17. Driveway Density (driveways per mile)",-0.22388114201141129,0.22388114201141129,2,2.17,-0.22388114201141129,{"$f":"IF(DF39=0,\"\",C62)","v":"Driveway Density (driveways per mile)"},"Driveway Density (driveways per mile)",0.22388114201141129,17,"",0]
[null,null,"  Approach (Entry) Grade, G1 (%)",null,{"$f":"IF(ISBLANK(D40),\"\", D40)","v":""},null,null,null,{"$f":"IF(B38=\"Yes\",I231,I241)","v":""},null,null,null,null,null,null,null,null,null,null,null,null,null,null,null,null,null,null,null,null,null,null,null,null,null,null,null,null,null,null,null,null,null,null,null,null,null,null,null,null,null,null,null,null,null,null,null,null,null,null,null,null,null,null,null,null,null,null,null,null,null,null,null,null,null,null,null,null,null,null,null,null,null,null,null,null,null,null,null,null,null,null,null,null,null,null,null,null,null,null,null,null,"9.18. Lighting",-1.7096579124742384E-2,1.7096579124742384E-2,9,9.18,-1.7096579124742384E-2,{"$f":"IF(DF40=0,\"\",C63)","v":"Lighting"},"Lighting",1.7096579124742384E-2,18,"",0]
[null,null,"  Departure (Exit) Grade, G2 (%)",null,{"$f":"IF(ISBLANK(D41),\"\", D41)","v":""},null,null,null,{"$f":"IF($B$38=\"Yes\",I232,\"\")","v":""},null,null,null,null,null,null,null,null,null,null,null,null,null,null,null,null,null,null,null,null,null,null,null,null,null,null,null,null,null,null,null,null,null,null,null,null,null,null,null,null,null,null,null,null,null,null,null,null,null,null,null,null,null,null,null,null,null,null,null,null,null,null,null,null,null,null,null,null,null,null,null,null,null,null,null,null,null,null,null,null,null,null,null,null,null,null,null,null,null,null,null,null,"1.19. Pavement Friction (skid number) ***",0.28430956017940245,0.28430956017940245,1,1.19,0.28430956017940245,{"$f":"IF(DF41=0,\"\",C64)","v":"Pavement Friction (skid number) ***"},"Pavement Friction (skid number) ***",0.28430956017940245,19,"",0]
[null,null,"  Length (feet)",null,{"$f":"IF(AND($B$38=\"Yes\", D43<>\"\"), ABS(E40-E41)*D43, \"\")","v":""},null,null,null,{"$f":"IF(AND($B$38=\"Yes\",I40<>\"\",I41<>\"\", NOT(ISBLANK($I$10)), NOT(ISBLANK($I$11))),ABS(I41-I40)*I43,\"\")","v":""},null,null,null,null,null,null,null,null,null,null,null,null,null,null,null,null,null,null,null,null,null,null,null,null,null,null,null,null,null,null,null,null,null,null,null,null,null,null,null,null,null,null,null,null,null,null,null,null,null,null,null,null,null,null,null,null,null,null,null,null,null,null,null,null,null,null,null,null,null,null,null,null,null,null,null,null,null,null,null,null,null,null,null,null,null,null,null,null,null,null,null,null,"4.2. Roadside Sideslope (Foreslope)",{"$f":"H75","v":0.15697622474810147},0.15697622474810147,4,4.2,0.15697622474810147,{"$f":"IF(DF42=0,\"\",C75)","v":"Roadside Sideslope (Foreslope)"},"Roadside Sideslope (Foreslope)",0.15697622474810147,20,"",0]
[null,null,"  Calculated Rate of Change, K (ft/ft)",{"$f":"IF(OR($B$38=\"No\",ISBLANK($B$38), ISBLANK(D40), ISBLANK(D41),ISBLANK(D42), D40=D41), \"\", ROUND(D42/(ABS(D41-D40)),1))","v":""},{"$f":"IF(AND($B$38=\"Yes\", NOT(ISBLANK($I$10)), NOT(ISBLANK($I$11)), D43<>\"\"), IF($E$46=\"Crest\",  VLOOKUP(MAX($I$10,$I$11),Construction!$B$159:$D$171,2,TRUE), VLOOKUP(MAX($I$10,$I$11),Construction!$B$159:$D$171,3,TRUE)), \"\")","v":""},{"$f":"IF(AND($B$38=\"Yes\", SUM(F267:F269)=0),ROUND(F42/(ABS(F41-F40)),1),\"\")","v":""},{"$f":"IF(AND($B$38=\"Yes\", SUM(G267:G269)=0),ROUND(G42/(ABS(G41-G40)),1),\"\")","v":""},null,{"$f":"IF(OR($B$38<>\"Yes\", ISBLANK($I$10), ISBLANK($I$11), $I$40=\"\", $I$41=\"\", $I$46=\"--\", ISBLANK($I$46)),\"\",IF(I$46=\"Crest\",VLOOKUP(MAX($I$10,$I$11),Construction!$B$177:$D$189,2,TRUE),VLOOKUP(MAX($I$10,$I$11),Construction!$B$177:$D$189,3,TRUE)))","v":""},null,null,null,null,null,null,null,null,null,null,null,null,null,null,null,null,null,null,null,null,null,null,null,null,null,null,null,null,null,null,null,null,null,null,null,null,null,null,null,null,null,null,null,null,null,null,null,null,null,null,null,null,null,null,null,null,null,null,null,null,null,null,null,null,null,null,null,null,null,null,null,null,null,null,null,null,null,null,null,null,null,null,null,null,null,null,null,null,null,null,null,null,"",{"$f":"H76","v":0},0,21,10.210000000000001,0,{"$f":"IF(DF43=0,\"\",C76)","v":""},"",0,21,"",0]
[null,null,null,null,null,"Are you changing the geometry?","Are you changing the geometry?",null,null,null,null,null,null,null,null,null,null,null,null,null,null,null,null,null,null,null,null,null,null,null,null,null,null,null,null,null,null,null,null,null,null,null,null,null,null,null,null,null,null,null,null,null,null,null,null,null,null,null,null,null,null,null,null,null,null,null,null,null,null,null,null,null,null,null,null,null,null,null,null,null,null,null,null,null,null,null,null,null,null,null,null,null,null,null,null,null,null,null,null,null,null,"7.22. Safety Edge",{"$f":"H77","v":-2.3424031600265627E-2},2.3424031600265627E-2,7,7.22,-2.3424031600265627E-2,{"$f":"IF(DF44=0,\"\",C77)","v":"Safety Edge"},"Safety Edge",2.3424031600265627E-2,22,"",0]
[null,null,null,null,null,null,null,null,null,null,null,null,null,null,null,null,null,null,null,null,null,null,null,null,null,null,null,null,null,null,null,null,null,null,null,null,null,null,null,null,null,null,null,null,null,null,null,null,null,null,null,null,null,null,null,null,null,null,null,null,null,null,null,null,null,null,null,null,null,null,null,null,null,null,null,null,null,null,null,null,null,null,null,null,null,null,null,null,null,null,null,null,null,null,null,null,null,null,null,null,null,"6.23. Roadside Lateral Clearance to Obstruction (ft)",{"$f":"H78","v":6.4777606999867676E-2},6.4777606999867676E-2,6,6.23,6.4777606999867676E-2,{"$f":"IF(DF45=0,\"\",C78)","v":"Roadside Lateral Clearance to Obstruction (ft)"},"Roadside Lateral Clearance to Obstruction (ft)",6.4777606999867676E-2,23,"",{"$f":"IFERROR(IF(IFERROR(VLOOKUP(DG45,$DA$23:$DF$46,3,)&\", \"&CY45=0,\"\"),\"\",IFERROR(VLOOKUP(DG45,$DA$23:$DE$46,3,),\"\")),\"\")","v":""}]
[null,null,"  Calculated Sag or Crest?",{"$f":"IF(AND($B$38=\"Yes\", SUM(D267:D269)=0),IF(D40>D41,\"Crest\",\"Sag\"),\"--\")","v":"--"},{"$f":"IF(AND($B$38=\"Yes\", SUM(D267:D269)=0),IF(E40>E41,\"Crest\",\"Sag\"),\"--\")","v":"--"},{"$f":"IF(AND($B$38=\"Yes\", SUM(F267:F269)=0),IF(F40>F41,\"Crest\",\"Sag\"),\"--\")","v":"--"},{"$f":"IF(AND($B$38=\"Yes\", SUM(G267:G269)=0),IF(G40>G41,\"Crest\",\"Sag\"),\"--\")","v":"--"},null,{"$f":"IF($B$38=\"Yes\",IF(I40>I41,\"Crest\",\"Sag\"),\"--\")","v":"--"},null,null,null,null,null,null,null,null,null,null,null,null,null,null,null,null,null,null,null,null,null,null,null,null,null,null,null,null,null,null,null,null,null,null,null,null,null,null,null,null,null,null,null,null,null,null,null,null,null,null,null,null,null,null,null,null,null,null,null,null,null,null,null,null,null,null,null,null,null,null,null,null,null,null,null,null,null,null,null,null,null,null,null,null,null,null,null,null,null,null,null,null,"",{"$f":"H79","v":0},0,22,10.24,0,{"$f":"IF(DF46=0,\"\",C79)","v":""},"",0,24,"",{"$f":"IFERROR(IF(IFERROR(VLOOKUP(DG46,$DA$23:$DF$46,3,)&\", \"&CY46=0,\"\"),\"\",IFERROR(VLOOKUP(DG46,$DA$23:$DE$46,3,),\"\")),\"\")","v":""}]
[]
[]
[null,null,"Geometric Design Element (Partial Score)",{"$f":"IF(OR(SUM(D251:D252,D254:D257,D260:D261,D267:D269)>0, ISERR(D129)),\"\",D129)","v":""},{"$f":"IF(OR(SUM(E251:E252,E254:E257,E260:E261,E267:E269)>0, ISERR(E129)),\"\",E129)","v":""},"","",null,{"$f":"IF(OR(SUM(I251:I252,I254:I257,I260:I261,I267:I269)>0, ISERR(I129)),\"\",I129)","v":""},null,null,null,"SCHEMATIC REPRESENTING INPUT DATA FOR ",null,null,null,null,null,null,null,{"$f":"IF($I$2=\"Existing\",\"EXISTING CONFIGURATION\",IF($I$2=\"Standard\",\"STANDARD OPTION\",IF($I$2=\"Design 1\",\"DESIGN 1 OPTION\",IF($I$2=\"Design 2\",\"DESIGN 2 OPTION\",\"OPTIMAL OPTION\"))))","v":"STANDARD OPTION"}]
[null,null,"Total Safety Score",{"$f":"IF(OR(D$249>0, $I$315>0, ISERROR(D$205+D$175+D$129)),\"\",D$205+D$175+D$129)","v":""},{"$f":"IF(OR(E$249>0, $I$315>0, ISERROR(E$205+E$175+E$129)),\"\",E$205+E$175+E$129)","v":""},{"$f":"IF(OR(F$249>0, $I$315>0, ISERROR(F$205+F$175+F$129)),\"\",F$205+F$175+F$129)","v":""},{"$f":"IF(OR(G$249>0, $I$315>0, ISERROR(G$205+G$175+G$129)),\"\",G$205+G$175+G$129)","v":""},null,{"$f":"IF(OR(I$249>0, $I$315>0, ISERROR(I$205+I$175+I$129)),\"\",I$205+I$175+I$129)","v":""}]
[null,null,null,null,null,null,null,null,null,null,null,"LT",null,null,null,null,null,null,null,null,null,null,null,null,null,null,"RT"]
[null,null,null,null,null,null,null,null,null,null,null,"R/W",null,null,null,null,null,null,{"$f":"+O54+W54","v":0},null,null,null,null,null,null,null,"R/W"]
[]
[null,{"$f":"+Construction!$I$3&\"  Total Available Points\"","v":"20  Total Available Points"},null,null,null,null,null,null,null,null,null,null,null,null,{"$f":"+$I$14","v":0},null,null,null,null,null,null,null,{"$f":"+$I$15","v":0}]
[null,"Traffic Elements",null,"Existing","Standard","Design 1","Design 2",{"$f":"H23","v":"Marginal Safety for Standard (compared to Existing)"},"Optimal"]
[null,null,"Advance Static Curve Warning Signs",null,"No",null,null,{"$f":"M149","v":0},"Yes",null,null,{"$f":"+O54-N56-P56","v":-32},null,{"$f":"IF(+$I$2=\"Existing\",D28,IF($I$2=\"Standard\",E28,IF($I$2=\"Design 1\",F28,IF($I$2=\"Design 2\",G28,I28))))","v":8},null,{"$f":"IF(+$I$2=\"Existing\",D27*D30,IF($I$2=\"Standard\",E27*E30,IF($I$2=\"Design 1\",F27*F30,IF($I$2=\"Design 2\",G27*G30,I27*I30))))","v":24},null,null,null,null,null,{"$f":"+P56","v":24},null,null,{"$f":"+N56","v":8},{"$f":"+W54-V56-Y56","v":-32}]
[null,null,"Chevron Signs on Horizontal Curves",null,"No",null,null,{"$f":"M150","v":0},"Yes"]
[null,null,"Post-Mounted Delineators",null,"No",null,null,{"$f":"M151","v":0},"Yes"]
[null,null,"Edgeline Pavement Markings or Profile Markings",null,"No",null,null,{"$f":"M152","v":0},"Yes"]
[null,null,"Shoulder Rumble Strips",null,"Yes",null,null,{"$f":"M154","v":2.2875008800570917E-2},"Yes"]
[null,null,"Centerline Rumble Strips",null,"No",null,null,{"$f":"M155","v":0},"Yes",null,null,null,null,null,null,null,null,null,"Tangent X-Section"]
[null,null,"Driveway Density (driveways per mile)",null,10,null,null,{"$f":"M156","v":-0.22388114201141129},0]
[null,null,"Lighting",null,"No",null,null,{"$f":"M157","v":-1.7096579124742384E-2},"Yes"]
[null,null,"Pavement Friction (skid number) ***",null,37,null,null,{"$f":"M158","v":0.28430956017940245},54]
[null,null,"Traffic Control Element (Partial Score):",{"$f":"IF(ISERROR(D175), \"\", D175)","v":12},{"$f":"IF(ISERROR(E175), \"\", E175)","v":14},"","",null,{"$f":"IF(ISERROR(I175), \"\", I175)","v":20}]
[null,null,"Total Safety Score",{"$f":"IF(OR(D$249>0, $I$315>0, ISERROR(D$205+D$175+D$129)),\"\",D$205+D$175+D$129)","v":""},{"$f":"IF(OR(E$249>0, $I$315>0, ISERROR(E$205+E$175+E$129)),\"\",E$205+E$175+E$129)","v":""},"","",null,{"$f":"IF(OR(I$249>0, $I$315>0, ISERROR(I$205+I$175+I$129)),\"\",I$205+I$175+I$129)","v":""}]
[null,null,null,null,null,null,null,null,null,null," "]
[null,null,"*** Pavement friction/skid numbers will not be subject to open records requests ***",null,null,null,null,null,null,null,null,null,null,null,null,null,{"$f":"IF($I$2=\"Existing\",\"SCORE SUMMARY FOR EXISTING CONFIGURATION\", IF($I$2=\"Standard\",\"SCORE SUMMARY FOR STANDARD OPTION\",IF($I$2=\"Design 1\",\"SCORE SUMMARY FOR DESIGN 1 OPTION\",IF($I$2=\"Design 2\",\"SCORE SUMMARY FOR DESIGN 2 OPTION\", \"SCORE SUMMARY FOR OPTIMAL OPTION\"))))","v":"SCORE SUMMARY FOR STANDARD OPTION"}]
[null,null,null,null,null,null,null,null,null,null,null,null,null,null,null,null,"GEOMETRIC DESIGN:",null,null,null,null,null,{"$f":"IF($I$2=\"Existing\",D49,IF($I$2=\"Standard\",E49,IF($I$2=\"Design 1\",F49,IF($I$2=\"Design 2\",G49,I49))))","v":""}]
[null,null,null,null,null,null,null,null,null,null,null,null,null,null,null,null,"TRAFFIC CONTROL:",null,null,null,null,null,{"$f":"IF($I$2=\"Existing\",D65,IF($I$2=\"Standard\",E65,IF($I$2=\"Design 1\",F65,IF($I$2=\"Design 2\",G65,I65))))","v":14}]
[null,null,null,null,null,null,null,null,null,null,null,null,null,null,null,null,"ROADSIDE:",null,null,null,null,null,{"$f":"IF($I$2=\"Existing\",D80,IF($I$2=\"Standard\",E80,IF($I$2=\"Design 1\",F80,IF($I$2=\"Design 2\",G80,I80))))","v":27}]
[null,null,null,null,null,null,null,null,null,null,null,null,null,null,null,null,"OVERALL SAFETY SCORE:",null,null,null,null,null,{"$f":"SUM(W69:X71)","v":41}]
[null,{"$f":"+Construction!$I$4&\"  Total Available Points\"","v":"40  Total Available Points"}]
[null,"Roadside  Elements",null,"Existing","Standard","Design 1","Design 2",{"$f":"H23","v":"Marginal Safety for Standard (compared to Existing)"},"Optimal"]
[null,null,"Roadside Sideslope (Foreslope)",null,"1V:4H",null,null,{"$f":"M184","v":0.15697622474810147},"1V:6H"]
[null,null,"Roadside Backslope",null,{"$f":"E75","v":"1V:4H"},null,null,{"$f":"M185","v":0},"1V:4H"]
[null,null,"Safety Edge",null,"No",null,null,-2.3424031600265627E-2,"Yes"]
[null,null,"Roadside Lateral Clearance to Obstruction (ft)",null,30,null,null,6.4777606999867676E-2,40]
[null,null,"Roadside Obstruction Type",null,"None",null,null,0,"None/Removed"]
[null,null,"Roadside Element (Partial Score):",{"$f":"IF(ISERR(D205),\"\",D205)","v":20},{"$f":"IF(ISERR(E205),\"\",E205)","v":27},20,20,null,{"$f":"IF(ISERR(I205),\"\",I205)","v":40},null,null,null,null,null,null,null,null,null,null,null,null,null,null," "]
[null,null,"Total Safety Score",{"$f":"IF(OR(D$249>0, $I$315>0, ISERROR(D$205+D$175+D$129)),\"\",D$205+D$175+D$129)","v":""},{"$f":"IF(OR(E$249>0, $I$315>0, ISERROR(E$205+E$175+E$129)),\"\",E$205+E$175+E$129)","v":""},"","",null,{"$f":"IF(OR(I$249>0, $I$315>0, ISERROR(I$205+I$175+I$129)),\"\",I$205+I$175+I$129)","v":""}]
[]
[]
[]
[]
[null,"ADDITIONAL SIDESLOPE INFORMATION"]
[null,null,"Distance to Slope Toe from Shoulder (ft)",null,{"$f":"D87","v":0},{"$f":"E87","v":0},0,null,{"$f":"G87","v":0}]
[null,"Minimum foreslope feasible within current ROW",null,null,{"$f":"IF(OR(ISBLANK($D$87), ISERROR(E209)), \"\", \"1V:\"&E209&\"H\")","v":""},{"$f":"IF(OR(ISBLANK($D$87), ISERROR(F209)), \"\", \"1V:\"&F209&\"H\")","v":""},{"$f":"IF(OR(ISBLANK($D$87), ISERROR(G209)), \"\", \"1V:\"&G209&\"H\")","v":""},null,{"$f":"IF(OR(ISBLANK($D$87), ISERROR(I209)), \"\", \"1V:\"&I209&\"H\")","v":""}]
[null,"Additional R/W needed on left side",null,null,{"$f":"IF(OR(ISBLANK($D$87), ISERROR(E213)),\"\", MAX(E213,E216))","v":""},{"$f":"IF(OR(ISBLANK($D$87), ISERROR(F213)), \"\", MAX(F213,F216))","v":""},{"$f":"IF(OR(ISBLANK($D$87), ISERROR(G213)),\"\", MAX(G213,G216))","v":""},null,{"$f":"IF(OR(ISBLANK($D$87), ISERROR(I213)),\"\", MAX(I213,I216))","v":""}]
[null,"Additional R/W needed on right side",null,null,{"$f":"IF(OR(ISBLANK($D$87), ISERROR(E214)), \"\", MAX(E214,E217))","v":""},{"$f":"IF(OR(ISBLANK($D$87), ISERROR(F214)), \"\", MAX(F214,F217))","v":""},{"$f":"IF(OR(ISBLANK($D$87), ISERROR(G214)),\"\", MAX(G214,G217))","v":""},null,{"$f":"IF(OR(ISBLANK($D$87), ISERROR(I214)),\"\", MAX(I214,I217))","v":""}]
[]
[]
[]
[]
[]
[]
[]
[null,null,null,{"$f":"GetCMF_MED(D24,D25,2000,D28)","v":1},null,null,null,null,null,{"$f":"1-I104/E104","v":0},"For Plot"]
[null,null,null,null,null,null,null,null,null,{"$f":"1-I105/E105","v":3.2258064516129115E-2},"relative to","Prefer"]
[null,null,null,{"$f":"MAX(SUM(D107:D111)-5,$I$100)","v":{"$error":"#VALUE!"}},{"$f":"MAX(SUM(E107:E111)-5,$I$100)","v":{"$error":"#VALUE!"}},{"$error":"#VALUE!"},{"$error":"#VALUE!"},null,{"$f":"SUM(I107:I111)-5","v":{"$error":"#VALUE!"}},{"$f":"1-I106/E106","v":0.14444080962898154},{"$f":"MATCH(K101,ModView,0)","v":1},{"$f":"MATCH(L101,ModView,0)","v":2}]
[null,"Geometric",null,null,null,null,null,null,null,{"$f":"1-I107/E107","v":{"$error":"#VALUE!"}},{"$f":"I4","v":"Existing"},{"$f":"I2","v":"Standard"},"%"]
[null,null,"Divided versus Undivided",1,1,1,1,null,1,null,{"$f":"INDEX($D102:$I102,K$100)","v":1},{"$f":"INDEX($D102:$I102,L$100)","v":1},{"$f":"IF(ISERROR(1-L102/K102), 0, 1-L102/K102)","v":0}]
[null,null,"Median Width",{"$f":"GetCMF_MED(D24,D25,$I$13,D28)","v":1},{"$f":"GetCMF_MED(E24,E25,$I$13,E28)","v":0.91},{"$f":"GetCMF_MED(F24,F25,$I$13,F28)","v":1},{"$f":"GetCMF_MED(G24,G25,$I$13,G28)","v":1},{"$f":"H25","v":8.9999999999999969E-2},{"$f":"GetCMF_MED(I24,I25,$I$13,I28)","v":0.66},null,{"$f":"INDEX($D103:$I103,K$100)","v":1},{"$f":"INDEX($D103:$I103,L$100)","v":0.91},{"$f":"IF(ISERROR(1-L103/K103), 0, 1-L103/K103)","v":8.9999999999999969E-2}]
[null,null,"LW CMF",{"$f":"IF(D24=INDEX(MedConf_Header,1,2),VLOOKUP(+D27,Construction!$N$30:$O$36,2),VLOOKUP(D27,Construction!$I$15:$J$21,2))","v":{"$error":"#N/A"}},{"$f":"IF(E24=INDEX(MedConf_Header,1,2),VLOOKUP(+E27,Construction!$N$30:$O$36,2),VLOOKUP(E27,Construction!$I$15:$J$21,2))","v":1},{"$f":"IF(F24=INDEX(MedConf_Header,1,2),VLOOKUP(+F27,Construction!$N$30:$O$36,2),VLOOKUP(F27,Construction!$I$15:$J$21,2))","v":{"$error":"#N/A"}},{"$f":"IF(G24=INDEX(MedConf_Header,1,2),VLOOKUP(+G27,Construction!$N$30:$O$36,2),VLOOKUP(G27,Construction!$I$15:$J$21,2))","v":{"$error":"#N/A"}},{"$f":"H27","v":0},{"$f":"IF(I24=INDEX(MedConf_Header,1,2),VLOOKUP(+I27,Construction!$N$30:$O$36,2),VLOOKUP(I27,Construction!$I$15:$J$21,2))","v":1},null,{"$f":"INDEX($D104:$I104,K$100)","v":{"$error":"#N/A"}},{"$f":"INDEX($D104:$I104,L$100)","v":1},0,null,0]
[null,null,"SW CMF",{"$f":"IF(D24=INDEX(MedConf_Header,1,2),VLOOKUP(D28,Construction!$C$11:D21,2),(VLOOKUP(D28,Construction!$O$43:$P$53,2)-1)*0.27+1)","v":1.135},{"$f":"IF(E24=INDEX(MedConf_Header,1,2),VLOOKUP(E28,Construction!$C$11:E21,2),(VLOOKUP(E28,Construction!$O$43:$P$53,2)-1)*0.27+1)","v":0.93},{"$f":"IF(F24=INDEX(MedConf_Header,1,2),VLOOKUP(F28,Construction!$C$11:F21,2),(VLOOKUP(F28,Construction!$O$43:$P$53,2)-1)*0.27+1)","v":1.135},{"$f":"IF(G24=INDEX(MedConf_Header,1,2),VLOOKUP(G28,Construction!$C$11:G21,2),(VLOOKUP(G28,Construction!$O$43:$P$53,2)-1)*0.27+1)","v":1.135},{"$f":"IF($I$2=\"Existing\",(1-D105/E105),(IF($I$2=\"Design 1\",(1-F105/E105),(IF($I$2=\"Design 2\",(1-G105/E105),(IF($I$2=\"Optimal\",(1-I105/E105),0)))))))","v":0},{"$f":"IF(I24=INDEX(MedConf_Header,1,2),VLOOKUP(I28,Construction!$C$11:I21,2),(VLOOKUP(I28,Construction!$O$43:$P$53,2)-1)*0.27+1)","v":0.9},null,{"$f":"INDEX($D105:$I105,K$100)","v":1.135},{"$f":"INDEX($D105:$I105,L$100)","v":0.93},0.18061674008810569,null,0.15503875968992242]
[null,null,"Inside Shoulder Width",{"$f":"IF(AND(D24=INDEX(MedConf_Header,1,2), NOT(ISBLANK(D29))), EXP(-0.026*(D29-4)), 1)","v":1},{"$f":"IF(AND(E24=INDEX(MedConf_Header,1,2), NOT(ISBLANK(E29))), EXP(-0.026*(E29-4)), 1)","v":1},{"$f":"IF(AND(F24=INDEX(MedConf_Header,1,2), NOT(ISBLANK(F29))), EXP(-0.026*(F29-4)), 1)","v":1},{"$f":"IF(AND(G24=INDEX(MedConf_Header,1,2), NOT(ISBLANK(G29))), EXP(-0.026*(G29-4)), 1)","v":1},0,{"$f":"IF(AND(I24=INDEX(MedConf_Header,1,2), NOT(ISBLANK(I29))), EXP(-0.026*(I29-4)), 1)","v":0.85555919037101846},null,{"$f":"INDEX($D106:$I106,K$100)","v":1},{"$f":"INDEX($D106:$I106,L$100)","v":1},0,null,0]
[null,null,"HC and Grade",{"$f":"D$138^D$131","v":1},{"$f":"E$138^E$131","v":1},1,1,0,{"$f":"I$138^I$131","v":{"$error":"#VALUE!"}},null,{"$f":"INDEX($D107:$I107,K$100)","v":1},{"$f":"INDEX($D107:$I107,L$100)","v":1},0,null,0]
[null,null,"HC and VC Crest type I",{"$f":"D$139^D$132","v":1},{"$f":"E$139^E$132","v":1},1,1,0,{"$f":"I$139^I$132","v":{"$error":"#VALUE!"}},null,{"$f":"INDEX($D108:$I108,K$100)","v":1},{"$f":"INDEX($D108:$I108,L$100)","v":1},0,null,0]
[null,null,"HC and VC Sag type I",{"$f":"D$140^D$133","v":1},{"$f":"E$140^E$133","v":1},1,1,0,{"$f":"I$140^I$133","v":{"$error":"#VALUE!"}},{"$f":"1-I115/E115","v":{"$error":"#VALUE!"}},{"$f":"INDEX($D109:$I109,K$100)","v":1},{"$f":"INDEX($D109:$I109,L$100)","v":1},0,null,0]
[null,null,"HC and VC Crest type II",{"$f":"D$141^D$134","v":1},{"$f":"E$141^E$134","v":1},1,1,0,{"$f":"I$141^I$134","v":{"$error":"#VALUE!"}},{"$f":"1-I116/E116","v":{"$error":"#VALUE!"}},{"$f":"INDEX($D110:$I110,K$100)","v":1},{"$f":"INDEX($D110:$I110,L$100)","v":1},0,null,0]
[null,null,"HC and VC Sag type II",{"$f":"D$142^D$135","v":1},{"$f":"E$142^E$135","v":1},1,1,0,{"$f":"I$142^I$135","v":{"$error":"#VALUE!"}},{"$f":"1-I117/E117","v":{"$error":"#VALUE!"}},{"$f":"INDEX($D111:$I111,K$100)","v":1},{"$f":"INDEX($D111:$I111,L$100)","v":1},0,null,0]
[null,null,"Add TWLTL",{"$f":"IF(D$47=\"No\",1,CMFs!$F$17)","v":0.71},{"$f":"IF(E$47=\"No\",1,CMFs!$F$17)","v":0.71},{"$f":"IF(F$47=\"No\",1,CMFs!$F$17)","v":0.71},{"$f":"IF(G$47=\"No\",1,CMFs!$F$17)","v":0.71},0,{"$f":"IF(I$47=\"No\",1,CMFs!$F$17)","v":0.71},{"$f":"1-I118/E118","v":{"$error":"#VALUE!"}},{"$f":"INDEX($D112:$I112,K$100)","v":0.71},{"$f":"INDEX($D112:$I112,L$100)","v":0.71},0,null,0]
[null,null,"Provide passing lane",{"$f":"IF(D$48=\"No\",1,CMFs!$F$21)","v":0.75},{"$f":"IF(E$48=\"No\",1,CMFs!$F$21)","v":0.75},{"$f":"IF(F$48=\"No\",1,CMFs!$F$21)","v":0.75},{"$f":"IF(G$48=\"No\",1,CMFs!$F$21)","v":0.75},0,{"$f":"IF(I$48=\"No\",1,CMFs!$F$21)","v":0.75},{"$f":"I119/E119","v":{"$error":"#VALUE!"}},{"$f":"INDEX($D113:$I113,K$100)","v":0.75},{"$f":"INDEX($D113:$I113,L$100)","v":0.75},0,null,0]
[]
[null,null,"COMBINED Calculated CMF",{"$f":"+D104*D105*D106*D107*D108*D109*D110*D111*D112*D113*D103*D102","v":{"$error":"#N/A"}},{"$f":"+E104*E105*E106*E107*E108*E109*E110*E111*E112*E113*E103*E102","v":0.45065475000000005},{"$error":"#N/A"},{"$error":"#N/A"},{"$f":"IF($I$2=\"Existing\",(D115),(IF($I$2=\"Design 1\",(F115),(IF($I$2=\"Design 2\",(G115),(IF($I$2=\"Optimal\",(I115),E115)))))))","v":0.45065475000000005},{"$f":"+I104*I105*I106*I107*I108*I109*I110*I111*I112*I113*I103*I102","v":{"$error":"#VALUE!"}},null,{"$f":"INDEX($D115:$I115,K$100)","v":{"$error":"#N/A"}},{"$f":"INDEX($D115:$I115,L$100)","v":0.45065475000000005},{"$f":"IF(ISERROR(1-L115/K115), 0, 1-L115/K115)","v":0},null,0]
[null,null,"Calculated Relative to Design Standards (Column E)",{"$f":"+D115/$E$115","v":{"$error":"#N/A"}},1,{"$error":"#N/A"},{"$error":"#N/A"},1,{"$error":"#VALUE!"},null,{"$f":"INDEX($D116:$I116,K$100)","v":{"$error":"#N/A"}},{"$f":"INDEX($D116:$I116,L$100)","v":1},0,null,0]
[null,null,"P(Crash)",{"$f":"+D116/(D116+1)","v":{"$error":"#N/A"}},0.5,{"$error":"#N/A"},{"$error":"#N/A"},0.5,{"$error":"#VALUE!"},null,{"$f":"INDEX($D117:$I117,K$100)","v":{"$error":"#N/A"}},{"$f":"INDEX($D117:$I117,L$100)","v":0.5},0,null,0]
[null,null,"Factor Change on S curve",{"$f":"+D117/$E$117","v":{"$error":"#N/A"}},1,{"$error":"#N/A"},{"$error":"#N/A"},1,{"$error":"#VALUE!"},null,{"$f":"INDEX($D118:$I118,K$100)","v":{"$error":"#N/A"}},{"$f":"INDEX($D118:$I118,L$100)","v":1},0,null,0]
[null,null,"Adjust to Scale of 100",{"$f":"+$I$118/D118*100","v":{"$error":"#VALUE!"}},{"$error":"#VALUE!"},{"$error":"#VALUE!"},{"$error":"#VALUE!"},{"$error":"#VALUE!"},{"$error":"#VALUE!"},null,{"$f":"INDEX($D119:$I119,K$100)","v":{"$error":"#VALUE!"}},{"$f":"INDEX($D119:$I119,L$100)","v":{"$error":"#VALUE!"}},0]
[null,null,"Unadjusted Combined Relative to Standard",{"$f":"+D115/$E$115","v":{"$error":"#N/A"}},1,{"$error":"#N/A"},{"$error":"#N/A"},1,{"$error":"#VALUE!"},{"$f":"I126/E126","v":{"$error":"#VALUE!"}},{"$f":"INDEX($D120:$I120,K$100)","v":{"$error":"#N/A"}},{"$f":"INDEX($D120:$I120,L$100)","v":1},0,null,0]
[]
[null,null,"Adjusted for PA Basis",{"$f":"+D115*(1+1)/(1+D115*1)","v":{"$error":"#N/A"}},0.62131220402373488,{"$error":"#N/A"},{"$error":"#N/A"},{"$f":"IF($I$2=\"Existing\",(D122),(IF($I$2=\"Design 1\",(F122),(IF($I$2=\"Design 2\",(G122),(IF($I$2=\"Optimal\",(I122),E122)))))))","v":0.62131220402373488},{"$error":"#VALUE!"},null,{"$f":"INDEX($D122:$I122,K$100)","v":{"$error":"#N/A"}},{"$f":"INDEX($D122:$I122,L$100)","v":0.62131220402373488},{"$f":"IF(ISERROR(1-L122/K122), 0, 1-L122/K122)","v":0},null,0]
[null,null,"Corrected by Odds Ratio",{"$f":"+D122/$E$122","v":{"$error":"#N/A"}},1,{"$error":"#N/A"},{"$error":"#N/A"},{"$f":"IF($I$2=\"Existing\",(D123),(IF($I$2=\"Design 1\",(F123),(IF($I$2=\"Design 2\",(G123),(IF($I$2=\"Optimal\",(I123),E123)))))))","v":1},{"$error":"#VALUE!"},{"$f":"I129/E129","v":{"$error":"#VALUE!"}},{"$f":"INDEX($D123:$I123,K$100)","v":{"$error":"#N/A"}},{"$f":"INDEX($D123:$I123,L$100)","v":1},0,null,0]
[null,null,"Pinned s",{"$f":"(1/D123)^$D127","v":{"$error":"#N/A"}},{"$f":"(1/E123)^$D127","v":{"$error":"#VALUE!"}},{"$error":"#N/A"},{"$f":"IF(ISERROR((1/G123)^$D127), 0, (1/G123)^$D127)","v":0},{"$error":"#VALUE!"},{"$error":"#VALUE!"},null,{"$f":"INDEX($D124:$I124,K$100)","v":{"$error":"#N/A"}},{"$f":"INDEX($D124:$I124,L$100)","v":{"$error":"#VALUE!"}},0,null,0]
[null,null,null,{"$f":"(D124+$F128-1)/(1+(D124+$F128-1))","v":{"$error":"#N/A"}},{"$f":"(E124+$F128-1)/(1+(E124+$F128-1))","v":{"$error":"#VALUE!"}},{"$error":"#N/A"},0.57142857142857151,{"$error":"#VALUE!"},{"$error":"#VALUE!"},null,{"$f":"INDEX($D125:$I125,K$100)","v":{"$error":"#N/A"}},{"$f":"INDEX($D125:$I125,L$100)","v":{"$error":"#VALUE!"}},0,null,0]
[null,null,"Score Odds Ratio with Optimal (old)",{"$f":"MIN(ROUND($I$123/D123*Construction!$I$2,0),$I126)","v":{"$error":"#VALUE!"}},{"$f":"MIN(ROUND($I$123/E123*Construction!$I$2,0),$I126)","v":{"$error":"#VALUE!"}},{"$f":"MIN(ROUND($I$123/F123*Construction!$I$2,0),$I126)","v":{"$error":"#VALUE!"}},{"$f":"MIN(ROUND($I$123/G123*Construction!$I$2,0),$I126)","v":{"$error":"#VALUE!"}},{"$f":"IF($I$2=\"Existing\",(D126),(IF($I$2=\"Design 1\",(F126),(IF($I$2=\"Design 2\",(G126),(IF($I$2=\"Optimal\",(I126),E126)))))))","v":{"$error":"#VALUE!"}},{"$f":"ROUND($I$123/I123*Construction!$I$2,0)","v":{"$error":"#VALUE!"}}]
[null,null,"Logistic1",{"$f":"LN((D128/(1-D128))/(0.5/0.5))/LN(IF($E123/I123=1,0.999,$E123/I123))","v":{"$error":"#VALUE!"}}]
[null,null,"Logistic Param",0.999,null,{"$f":"0.7/0.3","v":2.3333333333333335}]
[null,null,"Score ",{"$f":"MIN(ROUND(D125*Construction!$I$2,0),$I126)","v":{"$error":"#N/A"}},{"$f":"MIN(ROUND(E125*Construction!$I$2,0),$I126)","v":{"$error":"#VALUE!"}},{"$f":"MIN(ROUND(F125*Construction!$I$2,0),$I126)","v":{"$error":"#N/A"}},{"$f":"MIN(ROUND(G125*Construction!$I$2,0),$I126)","v":{"$error":"#VALUE!"}},{"$f":"MIN(ROUND(H125*Construction!$I$2,0),$I126)","v":{"$error":"#VALUE!"}},{"$f":"MIN(ROUND(I125*Construction!$I$2,0),$I126)","v":{"$error":"#VALUE!"}}]
[]
[null,null,"HC and Grade",{"$f":"IF($B$139,0,1)","v":1},{"$f":"IF($B$139,0,1)","v":1},1,1,{"$f":"IF($I$2=\"Existing\",(D131),(IF($I$2=\"Design 1\",(F131),(IF($I$2=\"Design 2\",(G131),(IF($I$2=\"Optimal\",(I131),E131)))))))","v":1},{"$f":"IF($B$139,0,1)","v":1}]
["HC?",null,"HC and VC Crest type I",{"$f":"IF(AND($B$139=1,SIGN(D$40)=1,ABS(D$40)<=ABS(D$40-D$41),D$46=\"Crest\"),1,0)","v":0},{"$f":"IF(AND($B$139=1,SIGN(IF(ISNUMBER(E$40),E$40,0))=1,\n  ABS(IF(ISNUMBER(E$40),E$40,0))<=ABS(IF(ISNUMBER(E$40),E$40,0)-IF(ISNUMBER(E$41),E$41,0)),E$46=\"Crest\"),\n  1,0)","v":0},{"$f":"IF(AND($B$139=1,SIGN(F$40)=1,ABS(F$40)<=ABS(F$40-F$41),F$46=\"Crest\"),1,0)","v":0},{"$f":"IF(AND($B$139=1,SIGN(G$40)=1,ABS(G$40)<=ABS(G$40-G$41),G$46=\"Crest\"),1,0)","v":0},{"$f":"IF($I$2=\"Existing\",(D132),(IF($I$2=\"Design 1\",(F132),(IF($I$2=\"Design 2\",(G132),(IF($I$2=\"Optimal\",(I132),E132)))))))","v":0},{"$f":"IF(AND($B$138=1,SIGN(I$40)=1,ABS(I$40)<=ABS(I$40-IF(ISNUMBER(I$41), I$41,0)),I$46=\"Crest\"),1,0)","v":{"$error":"#VALUE!"}},null,{"$f":"INDEX($D132:$I132,K$100)","v":0},{"$f":"INDEX($D132:$I132,L$100)","v":0},{"$f":"IF(ISERROR(1-L132/K132), 0, 1-L132/K132)","v":0}]
["VC?",null,"HC and VC Sag type I",{"$f":"IF(AND($B$139=1,SIGN(D$40)=1,ABS(D$40)<=ABS(D$40-D$41),D$46=\"Sag\"),1,0)","v":0},{"$f":"IF(AND($B$139=1,SIGN(IF(ISNUMBER(E$40),E$40,0))=1,\n  ABS(IF(ISNUMBER(E$40),E$40,0))<=ABS(IF(ISNUMBER(E$40),E$40,0)-IF(ISNUMBER(E$41),E$41,0)),E$46=\"Sag\"),\n  1,0)","v":0},{"$f":"IF(AND($B$139=1,SIGN(F$40)=1,ABS(F$40)<=ABS(F$40-F$41),F$46=\"Sag\"),1,0)","v":0},{"$f":"IF(AND($B$139=1,SIGN(G$40)=1,ABS(G$40)<=ABS(G$40-G$41),G$46=\"Sag\"),1,0)","v":0},{"$f":"IF($I$2=\"Existing\",(D133),(IF($I$2=\"Design 1\",(F133),(IF($I$2=\"Design 2\",(G133),(IF($I$2=\"Optimal\",(I133),E133)))))))","v":0},{"$f":"IF(AND($B$138=1,SIGN(I$40)=1,ABS(I$40)<=ABS(I$40-IF(ISNUMBER(I$41), I$41,0)),I$46=\"Sag\"),1,0)","v":{"$error":"#VALUE!"}},null,{"$f":"INDEX($D133:$I133,K$100)","v":0},{"$f":"INDEX($D133:$I133,L$100)","v":0},0]
[null,null,"HC and VC Crest type II",{"$f":"IF(AND($B$139=1,D$46=\"Crest\",D$132=0),1,0)","v":0},{"$f":"IF(AND($B$139=1,E$46=\"Crest\",E$132=0),1,0)","v":0},{"$f":"IF(AND($B$139=1,F$46=\"Crest\",F$132=0),1,0)","v":0},{"$f":"IF(AND($B$139=1,G$46=\"Crest\",G$132=0),1,0)","v":0},{"$f":"IF($I$2=\"Existing\",(D134),(IF($I$2=\"Design 1\",(F134),(IF($I$2=\"Design 2\",(G134),(IF($I$2=\"Optimal\",(I134),E134)))))))","v":0},{"$f":"IF(AND($B$139=1,I$46=\"Crest\",I$132=0),1,0)","v":{"$error":"#VALUE!"}},null,{"$f":"INDEX($D134:$I134,K$100)","v":0},{"$f":"INDEX($D134:$I134,L$100)","v":0},0]
[null,null,"HC and VC Sag type II",{"$f":"IF(AND($B$139=1,D$46=\"Sag\",D$133=0),1,0)","v":0},{"$f":"IF(AND($B$139=1,E$46=\"Sag\",E$133=0),1,0)","v":0},{"$f":"IF(AND($B$139=1,F$46=\"Sag\",F$133=0),1,0)","v":0},{"$f":"IF(AND($B$139=1,G$46=\"Sag\",G$133=0),1,0)","v":0},{"$f":"IF($I$2=\"Existing\",(D135),(IF($I$2=\"Design 1\",(F135),(IF($I$2=\"Design 2\",(G135),(IF($I$2=\"Optimal\",(I135),E135)))))))","v":0},{"$f":"IF(AND($B$139=1,I$46=\"Sag\",I$133=0),1,0)","v":{"$error":"#VALUE!"}},null,{"$f":"INDEX($D135:$I135,K$100)","v":0},{"$f":"INDEX($D135:$I135,L$100)","v":0},0]
[null,"Yes/No"]
[null,null,"HC and VC:"]
[null,{"$f":"IF(B31=\"Yes\",1,0)","v":0},"HC and Grade",{"$f":"IF($B$139=0,\n  EXP(0.042*ABS(D$40)\n    +$B$138*0.16*LN(2*5730/IF(ISNUMBER(D$33),D$33,1))*$B$138\n    +4.16*$B$138/IF(ISNUMBER(D$33),D$33,1)/IF( AND(ISNUMBER(D$34),D$34<>0),D$34,1)),\n  1)","v":1},{"$f":"IF($B$139=0,\n  EXP(0.042*ABS(D$40)\n    +$B$138*0.16*LN(2*5730/IF(ISNUMBER(E$33),E$33,1))*$B$138\n    +4.16*$B$138/IF(ISNUMBER(E$33),E$33,1)/IF( AND(ISNUMBER(E$34),E$34<>0),E$34,1)),\n  1)","v":1},{"$f":"IF($B$139=0,\n  EXP(0.042*ABS(F$40)\n    +$B$138*0.16*LN(2*5730/IF(ISNUMBER(F$33),F$33,1))*$B$138\n    +4.16*$B$138/IF(ISNUMBER(F$33),F$33,1)/IF( AND(ISNUMBER(F$34),F$34<>0),F$34,1)),\n  1)","v":1},{"$f":"IF($B$139=0,\n  EXP(0.042*ABS(G$40)\n    +$B$138*0.16*LN(2*5730/IF(ISNUMBER(G$33),G$33,1))*$B$138\n    +4.16*$B$138/IF(ISNUMBER(G$33),G$33,1)/IF( AND(ISNUMBER(G$34),G$34<>0),G$34,1)),\n  1)","v":1},null,{"$f":"IF($B$139=0,\n  EXP(0.042*ABS(I$40)\n    +$B$138*0.16*LN(2*5730/IF(ISNUMBER(I$33),I$33,1))*$B$138\n    +4.16*$B$138/IF(ISNUMBER(I$33),I$33,1)/IF( AND(ISNUMBER(I$34),I$34<>0),I$34,1)),\n  1)","v":{"$error":"#VALUE!"}},null,{"$f":"INDEX($D138:$I138,K$100)","v":1},{"$f":"INDEX($D138:$I138,L$100)","v":1},{"$f":"IF(ISERROR(1-L138/K138), 0, 1-L138/K138)","v":0},null,0]
[null,{"$f":"IF(B38=\"Yes\",1,0)","v":0},"HC and VC Crest type I",{"$f":"IF($B$139=0,1,EXP(0.005648908*5730*ABS(+D$40-D$41)*$B$139/D$145*$B$138))","v":1},{"$f":"IF($B$139=0,1,EXP(0.005648908*5730*ABS(+E$40-E$41)*$B$139/E$145*$B$138))","v":1},1,1,{"$f":"IF($I$2=\"Existing\",(D139),(IF($I$2=\"Design 1\",(F139),(IF($I$2=\"Design 2\",(G139),(IF($I$2=\"Optimal\",(I139),E139)))))))","v":1},1,null,{"$f":"INDEX($D139:$I139,K$100)","v":1},{"$f":"INDEX($D139:$I139,L$100)","v":1},0,null,0]
[null,null,"HC and VC Sag type I",{"$f":"IF($B$139=0,1,EXP(9.15857042*$B$139/D$146+0.010284958*5730*$B$139*$B$138*ABS(+D$40-D$41)/D$145))","v":1},{"$f":"IF($B$139=0,1,EXP(9.15857042*$B$139/E$146+0.010284958*5730*$B$139*$B$138*ABS(+E$40-E$41)/E$145))","v":1},1,1,{"$f":"IF($I$2=\"Existing\",(D140),(IF($I$2=\"Design 1\",(F140),(IF($I$2=\"Design 2\",(G140),(IF($I$2=\"Optimal\",(I140),E140)))))))","v":1},1,null,{"$f":"INDEX($D140:$I140,K$100)","v":1},{"$f":"INDEX($D140:$I140,L$100)","v":1},0,null,0]
[null,null,"HC and VC Crest type II",{"$f":"IF($B$139=0,1,EXP(0.005648908*5730*ABS(+D$40-D$41)*$B$139/D$145*$B$138))","v":1},{"$f":"IF($B$139=0,1,EXP(0.005648908*5730*ABS(+E$40-E$41)*$B$139/E$145*$B$138))","v":1},1,1,{"$f":"IF($I$2=\"Existing\",(D141),(IF($I$2=\"Design 1\",(F141),(IF($I$2=\"Design 2\",(G141),(IF($I$2=\"Optimal\",(I141),E141)))))))","v":1},1,null,{"$f":"INDEX($D141:$I141,K$100)","v":1},{"$f":"INDEX($D141:$I141,L$100)","v":1},0,null,0]
[null,null,"HC and VC Sag type II",{"$f":"IF($B$139=0,1,(0.246011284*EXP(LN(0.188*2*5730/D$145)*$B$138)+0.753988716*EXP(0.022*5730/D$145*ABS(D$40-D$41)*$B$139*$B$138)))","v":1},{"$f":"IF($B$139=0,1,(0.246011284*EXP(LN(0.188*2*5730/E$145)*$B$138)+0.753988716*EXP(0.022*5730/E$145*ABS(E$40-E$41)*$B$139*$B$138)))","v":1},1,1,{"$f":"IF($I$2=\"Existing\",(D142),(IF($I$2=\"Design 1\",(F142),(IF($I$2=\"Design 2\",(G142),(IF($I$2=\"Optimal\",(I142),E142)))))))","v":1},1,null,{"$f":"INDEX($D142:$I142,K$100)","v":1},{"$f":"INDEX($D142:$I142,L$100)","v":1},0,null,0]
[]
[null,null,"Combined HZ and VT",{"$f":"MMULT(TRANSPOSE(D131:D135),D138:D142)","v":1},{"$f":"MMULT(TRANSPOSE(E131:E135),E138:E142)","v":1},{"$f":"MMULT(TRANSPOSE(F131:F135),F138:F142)","v":1},{"$f":"MMULT(TRANSPOSE(G131:G135),G138:G142)","v":1},{"$f":"IF($I$2=\"Existing\",(D144),(IF($I$2=\"Design 1\",(F144),(IF($I$2=\"Design 2\",(G144),(IF($I$2=\"Optimal\",(I144),E144)))))))","v":1},{"$f":"MMULT(TRANSPOSE(I131:I135),I138:I142)","v":{"$error":"#VALUE!"}},null,{"$f":"INDEX($D144:$I144,K$100)","v":1},{"$f":"INDEX($D144:$I144,L$100)","v":1},{"$f":"IF(ISERROR(1-L144/K144), 0, 1-L144/K144)","v":0},null,0]
[null,null,"effective R for calculation",{"$f":"IF(ISNUMBER(D33), D33, 99999999)","v":99999999},{"$f":"IF(ISNUMBER(E33), E33, 99999999)","v":590},99999999,99999999,null,590]
[null,null,"effective K for calculation",{"$f":"IF(ISNUMBER(D43), D43, 99999999)","v":99999999},{"$f":"IF(ISNUMBER(E43), E43, 99999999)","v":99999999},99999999,99999999,null,99999999]
[null,"Traffic"]
[null,null,null,"Existing","Standard","Design 1","Design 2"]
[null,null,"Advance static curve warning signs",{"$f":"IF(D24=INDEX(MedConf_Header,1,2),IF(AND($B$31=\"Yes\",D$56=\"Yes\"),(Traffic!$F$4-1)*AVERAGE(Constraints!$F$24,Constraints!$H$24)/Constraints!$D$24+1,1),(IF(AND($B$31=\"Yes\",D$56=\"Yes\"),(Traffic!$F$4-1)*AVERAGE(Constraints!$F$38,Constraints!$H$38)/Constraints!$D$38+1,1)))","v":1},{"$f":"IF(AND($B$31=\"Yes\",E$56=\"Yes\"),(Traffic!$F$4-1)*AVERAGE(Constraints!$F$24,Constraints!$H$24)/Constraints!$D$24+1,1)","v":1},{"$f":"IF(F24=INDEX(MedConf_Header,1,2),IF(AND($B$31=\"Yes\",F$56=\"Yes\"),(Traffic!$F$4-1)*AVERAGE(Constraints!$F$24,Constraints!$H$24)/Constraints!$D$24+1,1),(IF(AND($B$31=\"Yes\",F$56=\"Yes\"),(Traffic!$F$4-1)*AVERAGE(Constraints!$F$38,Constraints!$H$38)/Constraints!$D$38+1,1)))","v":1},{"$f":"IF(G24=INDEX(MedConf_Header,1,2),IF(AND($B$31=\"Yes\",G$56=\"Yes\"),(Traffic!$F$4-1)*AVERAGE(Constraints!$F$24,Constraints!$H$24)/Constraints!$D$24+1,1),(IF(AND($B$31=\"Yes\",G$56=\"Yes\"),(Traffic!$F$4-1)*AVERAGE(Constraints!$F$38,Constraints!$H$38)/Constraints!$D$38+1,1)))","v":1},{"$f":"IF($I$2=\"Existing\",(D149),(IF($I$2=\"Design 1\",(F149),(IF($I$2=\"Design 2\",(G149),(IF($I$2=\"Optimal\",(I149),E149)))))))","v":1},{"$f":"IF(AND($B$31=\"Yes\",I$56=\"Yes\"),(Traffic!$F$4-1)*AVERAGE(Constraints!$F$24,Constraints!$H$24)/Constraints!$D$24+1,1)","v":1},null,{"$f":"INDEX($D149:$I149,K$100)","v":1},{"$f":"INDEX($D149:$I149,L$100)","v":1},{"$f":"IF(ISERROR(1-L149/K149), 0, 1-L149/K149)","v":0},null,0]
[null,null,"Install chevron signs on horizontal curves",{"$f":"IF(D24=INDEX(MedConf_Header,1,2),(IF(D$57=\"No\",1,(IF(AND($B$31=\"Yes\",D$27<11.5),((Traffic!$F$6-1)*(Constraints!$E$18+Constraints!$E$22))+1,1)))),(IF(D$57=\"No\",1,(IF(AND($B$31=\"Yes\",D$27<11.5),((Traffic!$F$6-1)*(Constraints!$E$32+Constraints!$E$36))+1,1)))))","v":1},{"$f":"IF(E$57=\"No\",1,(IF(AND($B$31=\"Yes\",E$27<11.5),((Traffic!$F$6-1)*(Constraints!$E$18+Constraints!$E$22))+1,1)))","v":1},{"$f":"IF(F24=INDEX(MedConf_Header,1,2),(IF(F$57=\"No\",1,(IF(AND($B$31=\"Yes\",F$27<11.5),((Traffic!$F$6-1)*(Constraints!$E$18+Constraints!$E$22))+1,1)))),(IF(F$57=\"No\",1,(IF(AND($B$31=\"Yes\",F$27<11.5),((Traffic!$F$6-1)*(Constraints!$E$32+Constraints!$E$36))+1,1)))))","v":1},{"$f":"IF(G24=INDEX(MedConf_Header,1,2),(IF(G$57=\"No\",1,(IF(AND($B$31=\"Yes\",G$27<11.5),((Traffic!$F$6-1)*(Constraints!$E$18+Constraints!$E$22))+1,1)))),(IF(G$57=\"No\",1,(IF(AND($B$31=\"Yes\",G$27<11.5),((Traffic!$F$6-1)*(Constraints!$E$32+Constraints!$E$36))+1,1)))))","v":1},{"$f":"IF($I$2=\"Existing\",(D150),(IF($I$2=\"Design 1\",(F150),(IF($I$2=\"Design 2\",(G150),(IF($I$2=\"Optimal\",(I150),E150)))))))","v":1},{"$f":"IF(I$57=\"No\",1,(IF(AND($B$31=\"Yes\",I$27<11.5),((Traffic!$F$6-1)*(Constraints!$E$18+Constraints!$E$22))+1,1)))","v":1},null,{"$f":"INDEX($D150:$I150,K$100)","v":1},{"$f":"INDEX($D150:$I150,L$100)","v":1},0,null,0]
[null,null,"Install post-mounted delineators",{"$f":"IF(D24=INDEX(MedConf_Header,1,2),IF(AND($B$31=\"Yes\",D$58=\"Yes\"),(Traffic!$F$12-1)*Constraints!$E$17+1,1),(IF(AND($B$31=\"Yes\",D$58=\"Yes\"),(Traffic!$F$12-1)*Constraints!$E$31+1,1)))","v":1},{"$f":"IF(AND($B$31=\"Yes\",E$58=\"Yes\"),(Traffic!$F$12-1)*Constraints!$E$17+1,1)","v":1},{"$f":"IF(F24=INDEX(MedConf_Header,1,2),IF(AND($B$31=\"Yes\",F$58=\"Yes\"),(Traffic!$F$12-1)*Constraints!$E$17+1,1),(IF(AND($B$31=\"Yes\",F$58=\"Yes\"),(Traffic!$F$12-1)*Constraints!$E$31+1,1)))","v":1},{"$f":"IF(G24=INDEX(MedConf_Header,1,2),IF(AND($B$31=\"Yes\",G$58=\"Yes\"),(Traffic!$F$12-1)*Constraints!$E$17+1,1),(IF(AND($B$31=\"Yes\",G$58=\"Yes\"),(Traffic!$F$12-1)*Constraints!$E$31+1,1)))","v":1},{"$f":"IF($I$2=\"Existing\",(D151),(IF($I$2=\"Design 1\",(F151),(IF($I$2=\"Design 2\",(G151),(IF($I$2=\"Optimal\",(I151),E151)))))))","v":1},{"$f":"IF(AND($B$31=\"Yes\",I$58=\"Yes\"),(Traffic!$F$12-1)*Constraints!$E$17+1,1)","v":1},null,{"$f":"INDEX($D151:$I151,K$100)","v":1},{"$f":"INDEX($D151:$I151,L$100)","v":1},0,null,0]
[null,null,"Install edgeline  or Profile pavement markings ",{"$f":"IF(D24=INDEX(MedConf_Header,1,2),(IF(D$59=\"Yes\",Traffic!$F$18*0.5+((Traffic!$F$20*(Constraints!$H$17+Constraints!$H$20+Constraints!$H$21)+1*(Constraints!$H$24-(Constraints!$H$17+Constraints!$H$20+Constraints!$H$21)))/Constraints!$H$24)*0.5,1)),(IF(D$59=\"Yes\",Traffic!$F$18*0.5+((Traffic!$F$20*(Constraints!$H$31+Constraints!$H$34+Constraints!$H$35)+1*(Constraints!$H$38-(Constraints!$H$31+Constraints!$H$34+Constraints!$H$35)))/Constraints!$H$38)*0.5,1)))","v":1},{"$f":"IF(E24=INDEX(MedConf_Header,1,2),(IF(E$59=\"Yes\",Traffic!$F$18*0.5+((Traffic!$F$20*(Constraints!$H$17+Constraints!$H$20+Constraints!$H$21)+1*(Constraints!$H$24-(Constraints!$H$17+Constraints!$H$20+Constraints!$H$21)))/Constraints!$H$24)*0.5,1)),(IF(E$59=\"Yes\",Traffic!$F$18*0.5+((Traffic!$F$20*(Constraints!$H$31+Constraints!$H$34+Constraints!$H$35)+1*(Constraints!$H$38-(Constraints!$H$31+Constraints!$H$34+Constraints!$H$35)))/Constraints!$H$38)*0.5,1)))","v":1},{"$f":"IF(F24=INDEX(MedConf_Header,1,2),(IF(F$59=\"Yes\",Traffic!$F$18*0.5+((Traffic!$F$20*(Constraints!$H$17+Constraints!$H$20+Constraints!$H$21)+1*(Constraints!$H$24-(Constraints!$H$17+Constraints!$H$20+Constraints!$H$21)))/Constraints!$H$24)*0.5,1)),(IF(F$59=\"Yes\",Traffic!$F$18*0.5+((Traffic!$F$20*(Constraints!$H$31+Constraints!$H$34+Constraints!$H$35)+1*(Constraints!$H$38-(Constraints!$H$31+Constraints!$H$34+Constraints!$H$35)))/Constraints!$H$38)*0.5,1)))","v":1},{"$f":"IF(G24=INDEX(MedConf_Header,1,2),(IF(G$59=\"Yes\",Traffic!$F$18*0.5+((Traffic!$F$20*(Constraints!$H$17+Constraints!$H$20+Constraints!$H$21)+1*(Constraints!$H$24-(Constraints!$H$17+Constraints!$H$20+Constraints!$H$21)))/Constraints!$H$24)*0.5,1)),(IF(G$59=\"Yes\",Traffic!$F$18*0.5+((Traffic!$F$20*(Constraints!$H$31+Constraints!$H$34+Constraints!$H$35)+1*(Constraints!$H$38-(Constraints!$H$31+Constraints!$H$34+Constraints!$H$35)))/Constraints!$H$38)*0.5,1)))","v":1},{"$f":"IF($I$2=\"Existing\",(D152),(IF($I$2=\"Design 1\",(F152),(IF($I$2=\"Design 2\",(G152),(IF($I$2=\"Optimal\",(I152),E152)))))))","v":1},{"$f":"IF(I24=INDEX(MedConf_Header,1,2),(IF(I$59=\"Yes\",Traffic!$F$18*0.5+((Traffic!$F$20*(Constraints!$H$17+Constraints!$H$20+Constraints!$H$21)+1*(Constraints!$H$24-(Constraints!$H$17+Constraints!$H$20+Constraints!$H$21)))/Constraints!$H$24)*0.5,1)),(IF(I$59=\"Yes\",Traffic!$F$18*0.5+((Traffic!$F$20*(Constraints!$H$31+Constraints!$H$34+Constraints!$H$35)+1*(Constraints!$H$38-(Constraints!$H$31+Constraints!$H$34+Constraints!$H$35)))/Constraints!$H$38)*0.5,1)))","v":0.87439641434262949},null,{"$f":"INDEX($D152:$I152,K$100)","v":1},{"$f":"INDEX($D152:$I152,L$100)","v":1},0,null,0.13824118691351761]
[null,null,"Profiles",1,1,1,1,1,1,null,{"$f":"INDEX($D153:$I153,K$100)","v":1},{"$f":"INDEX($D153:$I153,L$100)","v":1},0,null,0]
[null,null,"Shoulder rumble strips",{"$f":"IF(D24=INDEX(MedConf_Header,1,2),(IF(D$60=\"No\",1,(Traffic!$F$27*(Constraints!$H$17+Constraints!$H$20+Constraints!$H$21)+1*(Constraints!$H$24-(Constraints!$H$17+Constraints!$H$20+Constraints!$H$21)))/Constraints!$H$24)),(IF(D$60=\"No\",1,(Traffic!$F$27*(Constraints!$H$31+Constraints!$H$34+Constraints!$H$35)+1*(Constraints!$H$38-(Constraints!$H$31+Constraints!$H$34+Constraints!$H$35)))/Constraints!$H$38)))","v":0.93956289460903353},{"$f":"IF(E$60=\"No\",1,(Traffic!$F$27*(Constraints!$H$17+Constraints!$H$20+Constraints!$H$21)+1*(Constraints!$H$24-(Constraints!$H$17+Constraints!$H$20+Constraints!$H$21)))/Constraints!$H$24)","v":0.91807038512616201},{"$f":"IF(F24=INDEX(MedConf_Header,1,2),(IF(F$60=\"No\",1,(Traffic!$F$27*(Constraints!$H$17+Constraints!$H$20+Constraints!$H$21)+1*(Constraints!$H$24-(Constraints!$H$17+Constraints!$H$20+Constraints!$H$21)))/Constraints!$H$24)),(IF(F$60=\"No\",1,(Traffic!$F$27*(Constraints!$H$31+Constraints!$H$34+Constraints!$H$35)+1*(Constraints!$H$38-(Constraints!$H$31+Constraints!$H$34+Constraints!$H$35)))/Constraints!$H$38)))","v":0.93956289460903353},{"$f":"IF(G24=INDEX(MedConf_Header,1,2),(IF(G$60=\"No\",1,(Traffic!$F$27*(Constraints!$H$17+Constraints!$H$20+Constraints!$H$21)+1*(Constraints!$H$24-(Constraints!$H$17+Constraints!$H$20+Constraints!$H$21)))/Constraints!$H$24)),(IF(G$60=\"No\",1,(Traffic!$F$27*(Constraints!$H$31+Constraints!$H$34+Constraints!$H$35)+1*(Constraints!$H$38-(Constraints!$H$31+Constraints!$H$34+Constraints!$H$35)))/Constraints!$H$38)))","v":0.93956289460903353},{"$f":"IF($I$2=\"Existing\",(D154),(IF($I$2=\"Design 1\",(F154),(IF($I$2=\"Design 2\",(G154),(IF($I$2=\"Optimal\",(I154),E154)))))))","v":0.91807038512616201},{"$f":"IF(I$60=\"No\",1,(Traffic!$F$27*(Constraints!$H$17+Constraints!$H$20+Constraints!$H$21)+1*(Constraints!$H$24-(Constraints!$H$17+Constraints!$H$20+Constraints!$H$21)))/Constraints!$H$24)","v":0.91807038512616201},null,{"$f":"INDEX($D154:$I154,K$100)","v":0.93956289460903353},{"$f":"INDEX($D154:$I154,L$100)","v":0.91807038512616201},2.2875008800570917E-2,null,0]
[null,null,"Install centerline rumble strips",{"$f":"IF(D24=INDEX(MedConf_Header,1,3),(IF(D$61=\"No\",1,(Traffic!$E$81*(Constraints!$H$31+Constraints!$H$34+Constraints!$H$35)+1*(Constraints!$H$38-(Constraints!$H$31+Constraints!$H$34+Constraints!$H$35)))/Constraints!$H$38)+0.001),1)","v":1},{"$f":"IF(E24=INDEX(MedConf_Header,1,3),(IF(E$61=\"No\",1,(Traffic!$E$81*(Constraints!$H$31+Constraints!$H$34+Constraints!$H$35)+1*(Constraints!$H$38-(Constraints!$H$31+Constraints!$H$34+Constraints!$H$35)))/Constraints!$H$38)+0.001),1)","v":1},{"$f":"IF(F24=INDEX(MedConf_Header,1,3),(IF(F$61=\"No\",1,(Traffic!$E$81*(Constraints!$H$31+Constraints!$H$34+Constraints!$H$35)+1*(Constraints!$H$38-(Constraints!$H$31+Constraints!$H$34+Constraints!$H$35)))/Constraints!$H$38)+0.001),1)","v":1},{"$f":"IF(G24=INDEX(MedConf_Header,1,3),(IF(G$61=\"No\",1,(Traffic!$E$81*(Constraints!$H$31+Constraints!$H$34+Constraints!$H$35)+1*(Constraints!$H$38-(Constraints!$H$31+Constraints!$H$34+Constraints!$H$35)))/Constraints!$H$38)+0.001),1)","v":1},{"$f":"IF($I$2=\"Existing\",(D155),(IF($I$2=\"Design 1\",(F155),(IF($I$2=\"Design 2\",(G155),(IF($I$2=\"Optimal\",(I155),E155)))))))","v":1},{"$f":"IF(I24=INDEX(MedConf_Header,1,3),(IF(I$61=\"No\",1,(Traffic!$E$81*(Constraints!$H$31+Constraints!$H$34+Constraints!$H$35)+1*(Constraints!$H$38-(Constraints!$H$31+Constraints!$H$34+Constraints!$H$35)))/Constraints!$H$38)+0.001),1)","v":1},null,{"$f":"INDEX($D155:$I155,K$100)","v":1},{"$f":"INDEX($D155:$I155,L$100)","v":1},0,null,-0.16279069767441867]
[null,null,"Driveway Density (driveways per mile)",{"$f":"EXP(-LN(Traffic!$F$31)*(D$62-$E$62))","v":0.81707280688754669},{"$f":"EXP(-LN(Traffic!$F$31)*(E$62-$E$62))","v":1},{"$f":"EXP(-LN(Traffic!$F$31)*(F$62-$E$62))","v":0.81707280688754669},{"$f":"EXP(-LN(Traffic!$F$31)*(G$62-$E$62))","v":0.81707280688754669},{"$f":"IF($I$2=\"Existing\",(D156),(IF($I$2=\"Design 1\",(F156),(IF($I$2=\"Design 2\",(G156),(IF($I$2=\"Optimal\",(I156),E156)))))))","v":1},{"$f":"EXP(-LN(Traffic!$F$31)*(I$62-$E$62))","v":0.81707280688754669},null,{"$f":"INDEX($D156:$I156,K$100)","v":0.81707280688754669},{"$f":"INDEX($D156:$I156,L$100)","v":1},-0.22388114201141129,null,-0.22388114201141129]
[null,null,"Install lighting",{"$f":"IF(D24=INDEX(MedConf_Header,1,2),(IF(D$63=\"No\",1,1-(((1-Traffic!$F$54*Constraints!$H$24-Constraints!$F$24/3)+((1-Traffic!$F$54*Constraints!$D$24-Constraints!$H$24)))*$S$19+((1-Traffic!$F$56)*Constraints!$F$24/3))/Constraints!$D$24)),(IF(D$63=\"No\",1,1-(((1-Traffic!$F$54*Constraints!$H$38-Constraints!$F$38/3)+((1-Traffic!$F$54*Constraints!$D$38-Constraints!$H$38)))*$S$19+((1-Traffic!$F$56)*Constraints!$F$38/3))/Constraints!$D$38)))","v":0.98319080068143105},{"$f":"IF(E$63=\"No\",1,1-(((1-Traffic!$F$54*Constraints!$H$24-Constraints!$F$24/3)+((1-Traffic!$F$54*Constraints!$D$24-Constraints!$H$24)))*$S$19+((1-Traffic!$F$56)*Constraints!$F$24/3))/Constraints!$D$24)","v":1},{"$f":"IF(F24=INDEX(MedConf_Header,1,2),(IF(F$63=\"No\",1,1-(((1-Traffic!$F$54*Constraints!$H$24-Constraints!$F$24/3)+((1-Traffic!$F$54*Constraints!$D$24-Constraints!$H$24)))*$S$19+((1-Traffic!$F$56)*Constraints!$F$24/3))/Constraints!$D$24)),(IF(F$63=\"No\",1,1-(((1-Traffic!$F$54*Constraints!$H$38-Constraints!$F$38/3)+((1-Traffic!$F$54*Constraints!$D$38-Constraints!$H$38)))*$S$19+((1-Traffic!$F$56)*Constraints!$F$38/3))/Constraints!$D$38)))","v":0.98319080068143105},{"$f":"IF(G24=INDEX(MedConf_Header,1,2),(IF(G$63=\"No\",1,1-(((1-Traffic!$F$54*Constraints!$H$24-Constraints!$F$24/3)+((1-Traffic!$F$54*Constraints!$D$24-Constraints!$H$24)))*$S$19+((1-Traffic!$F$56)*Constraints!$F$24/3))/Constraints!$D$24)),(IF(G$63=\"No\",1,1-(((1-Traffic!$F$54*Constraints!$H$38-Constraints!$F$38/3)+((1-Traffic!$F$54*Constraints!$D$38-Constraints!$H$38)))*$S$19+((1-Traffic!$F$56)*Constraints!$F$38/3))/Constraints!$D$38)))","v":0.98319080068143105},{"$f":"IF($I$2=\"Existing\",(D157),(IF($I$2=\"Design 1\",(F157),(IF($I$2=\"Design 2\",(G157),(IF($I$2=\"Optimal\",(I157),E157)))))))","v":1},{"$f":"IF(I$63=\"No\",1,1-(((1-Traffic!$F$54*Constraints!$H$24-Constraints!$F$24/3)+((1-Traffic!$F$54*Constraints!$D$24-Constraints!$H$24)))*$S$19+((1-Traffic!$F$56)*Constraints!$F$24/3))/Constraints!$D$24)","v":0.98062689234129152},null,{"$f":"INDEX($D157:$I157,K$100)","v":0.98319080068143105},{"$f":"INDEX($D157:$I157,L$100)","v":1},-1.7096579124742384E-2,null,-2.3499081529478438E-2]
[null,null,"Pavement friction (skid number)",{"$f":"EXP(LN(Traffic!$F$48)*(D$64-$E$64))","v":1.3972521419325798},{"$f":"EXP(LN(Traffic!$F$48)*(E$64-$E$64))","v":1},{"$f":"IF(MATCH(F64,SkidNums,0)=3, $D158,EXP(LN([5]Traffic!$F$49)*(RIGHT(F$64,2)-$E$64)))","v":{"$error":"#N/A"}},{"$f":"IF(MATCH(G64,SkidNums,0)=3, $D158,EXP(LN([5]Traffic!$F$49)*(RIGHT(G$64,2)-$E$64)))","v":{"$error":"#N/A"}},{"$f":"IF($I$2=\"Existing\",(D158),(IF($I$2=\"Design 1\",(F158),(IF($I$2=\"Design 2\",(G158),(IF($I$2=\"Optimal\",(I158),E158)))))))","v":1},{"$f":"EXP(LN(Traffic!$F$48)*(I$64-$E$64))","v":0.85753553626991963},null,{"$f":"INDEX($D158:$I158,K$100)","v":1.3972521419325798},{"$f":"INDEX($D158:$I158,L$100)","v":1},0.28430956017940245,null,0]
[]
[]
[null,null,"COMBINED Calculated CMF",{"$f":"+D149*D150*D151*D152*D153*D154*D155*D156*D157*D158","v":1.0546277742651902},{"$f":"+E149*E150*E151*E152*E153*E154*E155*E156*E157*E158","v":0.91807038512616201},{"$error":"#N/A"},{"$error":"#N/A"},{"$f":"IF($I$2=\"Existing\",(D161),(IF($I$2=\"Design 1\",(F161),(IF($I$2=\"Design 2\",(G161),(IF($I$2=\"Optimal\",(I161),E161)))))))","v":0.91807038512616201},{"$f":"+I149*I150*I151*I152*I153*I154*I155*I156*I157*I158","v":0.55157049744255038},null,{"$f":"INDEX($D161:$I161,K$100)","v":1.0546277742651902},{"$f":"INDEX($D161:$I161,L$100)","v":0.91807038512616201},{"$f":"IF(ISERROR(1-L161/K161), 0, 1-L161/K161)","v":0.12948396815565966},null,0]
[null,null,"Calculated Relative to Design Standards (Column E)",{"$f":"+D161/$E$161","v":1.1487439213282784},{"$f":"+E161/$E$161","v":1},{"$error":"#N/A"},{"$error":"#N/A"},1,{"$f":"+I161/$E$161","v":0.60079325766156055},null,{"$f":"INDEX($D162:$I162,K$100)","v":1.1487439213282784},{"$f":"INDEX($D162:$I162,L$100)","v":1},0.12948396815565966,null,0]
[null,null,"P(Crash)",{"$f":"+D162/(D162+1)","v":0.53461183062622242},0.5,{"$error":"#N/A"},{"$error":"#N/A"},0.5,{"$f":"+I162/(I162+1)","v":0.37530971272280322},null,{"$f":"INDEX($D163:$I163,K$100)","v":0.53461183062622242},{"$f":"INDEX($D163:$I163,L$100)","v":0.5},6.4741984077829939E-2]
[null,null,"Factor Change on S curve",{"$f":"+D163/$E$163","v":1.0692236612524448},{"$f":"+E163/$E$163","v":1},{"$f":"+F163/$E$163","v":{"$error":"#N/A"}},{"$error":"#N/A"},1,{"$f":"+I163/$E$163","v":0.75061942544560645},null,{"$f":"INDEX($D164:$I164,K$100)","v":1.0692236612524448},{"$f":"INDEX($D164:$I164,L$100)","v":1},6.4741984077829939E-2]
[null,null,"Adjust to Scale of 100",{"$f":"+$I$118/D164*100","v":{"$error":"#VALUE!"}},{"$error":"#VALUE!"},{"$error":"#VALUE!"},{"$error":"#VALUE!"},{"$error":"#VALUE!"},{"$f":"+$I$118/I164*100","v":{"$error":"#VALUE!"}}]
[null,null,"Unadjusted Combined Relative to Standard",{"$f":"+D161/$E$161","v":1.1487439213282784},{"$f":"+E161/$E$161","v":1},{"$f":"+F161/$E$161","v":{"$error":"#N/A"}},{"$error":"#N/A"},1,{"$f":"+I161/$E$161","v":0.60079325766156055},{"$f":"I172/E172","v":1.3333333333333333},{"$f":"INDEX($D166:$I166,K$100)","v":1.1487439213282784},{"$f":"INDEX($D166:$I166,L$100)","v":1},{"$f":"IF(ISERROR(1-L166/K166), 0, 1-L166/K166)","v":0.12948396815565966}]
[null,null,null,null,null,null,null,0,null,null,{"$f":"INDEX($D167:$I167,K$100)","v":0},{"$f":"INDEX($D167:$I167,L$100)","v":0},0]
[null,null,"Adjusted for PA Basis",{"$f":"+D161*(1+1)/(1+D161*1)","v":1.0265876743950504},0.95728539707970672,{"$error":"#N/A"},{"$error":"#N/A"},0.95728539707970672,{"$f":"+I161*(1+1)/(1+I161*1)","v":0.71098348202895401},null,{"$f":"INDEX($D168:$I168,K$100)","v":1.0265876743950504},{"$f":"INDEX($D168:$I168,L$100)","v":0.95728539707970672},6.750741221998624E-2]
[null,null,"Corrected by Odds Ratio",{"$f":"+D168/$E$168","v":1.0723945831898796},{"$f":"+E168/$E$168","v":1},{"$f":"+F168/$E$168","v":{"$error":"#N/A"}},{"$error":"#N/A"},1,{"$f":"+I168/$E$168","v":0.74270795752017016},{"$f":"I175/E175","v":1.4285714285714286},{"$f":"INDEX($D169:$I169,K$100)","v":1.0723945831898796},{"$f":"INDEX($D169:$I169,L$100)","v":1},6.750741221998624E-2]
[null,null,null,{"$f":"(1/D169)^$D173","v":0.19732178070922252},{"$f":"(1/E169)^$D173","v":1},{"$error":"#N/A"},{"$error":"#N/A"},1,998.99999999999955,null,{"$f":"INDEX($D170:$I170,K$100)","v":0.19732178070922252},{"$f":"INDEX($D170:$I170,L$100)","v":1},-4.0678642591089362]
[null,null,null,{"$f":"(D170+$F174-1)/(1+(D170+$F174-1))","v":0.6048454036857811},{"$f":"(E170+$F174-1)/(1+(E170+$F174-1))","v":0.70000000000000007},{"$error":"#N/A"},{"$error":"#N/A"},0.70000000000000007,0.99900133155792281,null,{"$f":"INDEX($D171:$I171,K$100)","v":0.6048454036857811},{"$f":"INDEX($D171:$I171,L$100)","v":0.70000000000000007},-0.15732052477272696]
[null,null,"Score Odds Ratio with Optimal as 100 (old)",{"$f":"MIN(ROUND($I$169/D169*Construction!$I$3,0),$I172)","v":14},{"$f":"MIN(ROUND($I$169/E169*Construction!$I$3,0),$I172)","v":15},{"$f":"MIN(ROUND($I$169/F169*Construction!$I$3,0),$I172)","v":{"$error":"#N/A"}},{"$f":"MIN(ROUND($I$169/G169*Construction!$I$3,0),$I172)","v":{"$error":"#N/A"}},null,{"$f":"ROUND($I$169/I169*Construction!$I$3,0)","v":20}]
[null,null,"Logistic1",{"$f":"LN((D174/(1-D174))/(0.5/0.5))/LN($E169/I169)","v":23.2196999386987}]
[null,null,"Logistic Param",0.999,null,{"$f":"0.7/0.3","v":2.3333333333333335}]
[null,null,"Score ",{"$f":"MIN(ROUND(D171*Construction!$I$3,0),$I172)","v":12},{"$f":"MIN(ROUND(E171*Construction!$I$3,0),$I172)","v":14},{"$f":"MIN(ROUND(F171*Construction!$I$3,0),$I172)","v":{"$error":"#N/A"}},{"$f":"MIN(ROUND(G171*Construction!$I$3,0),$I172)","v":{"$error":"#N/A"}},null,{"$f":"MIN(ROUND(I171*Construction!$I$3,0),$I172)","v":20}]
[]
[]
[]
[]
[null,null,null,{"$f":"INDEX(MedConf_Header,1,2)","v":"Divided - Unsurfaced Median"}]
[]
[null,"Roadsde",null,"Existing","Standard","Design 1","Design 2"]
[null,null,null,{"$f":"IF(ISBLANK(D75), 0, MID(D75,FIND(\":\",D75,1)+1,FIND(\"H\",D75,1)-FIND(\":\",D75,1)-1)+0)","v":0},{"$f":"MID(E75,FIND(\":\",E75,1)+1,FIND(\"H\",E75,1)-FIND(\":\",E75,1)-1)+0","v":4},{"$f":"IF(ISBLANK(F75), 0, MID(F75,FIND(\":\",F75,1)+1,FIND(\"H\",F75,1)-FIND(\":\",F75,1)-1)+0)","v":0},{"$f":"IF(ISBLANK(G75), 0, MID(G75,FIND(\":\",G75,1)+1,FIND(\"H\",G75,1)-FIND(\":\",G75,1)-1)+0)","v":0},null,{"$f":"MID(I75,FIND(\":\",I75,1)+1,FIND(\"H\",I75,1)-FIND(\":\",I75,1)-1)+0","v":6},null,null,null,null,null,0]
[null,null,"Sideslope (Foreslope)",{"$f":"IF(D24=INDEX(MedConf_Header,1,2),(IF(D183<=3,1,IF(OR(D183=4,D183=5),(Roadside!$F$15-1)*Constraints!$H$24/Constraints!$D$24+1,(Roadside!$F$15*Roadside!$F$16-1)*Constraints!$H$24/Constraints!$D$24+1))),(IF(D183<=3,1,IF(OR(D183=4,D183=5),(Roadside!$F$15-1)*Constraints!$H$38/Constraints!$D$38+1,(Roadside!$F$15*Roadside!$F$16-1)*Constraints!$H$38/Constraints!$D$38+1))))","v":1},{"$f":"IF(E24=INDEX(MedConf_Header,1,2),(IF(E183<=3,1,IF(OR(E183=4,E183=5),(Roadside!$F$15-1)*Constraints!$H$24/Constraints!$D$24+1,(Roadside!$F$15*Roadside!$F$16-1)*Constraints!$H$24/Constraints!$D$24+1))),(IF(E183<=3,1,IF(OR(E183=4,E183=5),(Roadside!$F$15-1)*Constraints!$H$38/Constraints!$D$38+1,(Roadside!$F$15*Roadside!$F$16-1)*Constraints!$H$38/Constraints!$D$38+1))))","v":0.84302377525189853},{"$f":"IF(F24=INDEX(MedConf_Header,1,2),(IF(F183<=3,1,IF(OR(F183=4,F183=5),(Roadside!$F$15-1)*Constraints!$H$24/Constraints!$D$24+1,(Roadside!$F$15*Roadside!$F$16-1)*Constraints!$H$24/Constraints!$D$24+1))),(IF(F183<=3,1,IF(OR(F183=4,F183=5),(Roadside!$F$15-1)*Constraints!$H$38/Constraints!$D$38+1,(Roadside!$F$15*Roadside!$F$16-1)*Constraints!$H$38/Constraints!$D$38+1))))","v":1},{"$f":"IF(G24=INDEX(MedConf_Header,1,2),(IF(G183<=3,1,IF(OR(G183=4,G183=5),(Roadside!$F$15-1)*Constraints!$H$24/Constraints!$D$24+1,(Roadside!$F$15*Roadside!$F$16-1)*Constraints!$H$24/Constraints!$D$24+1))),(IF(G183<=3,1,IF(OR(G183=4,G183=5),(Roadside!$F$15-1)*Constraints!$H$38/Constraints!$D$38+1,(Roadside!$F$15*Roadside!$F$16-1)*Constraints!$H$38/Constraints!$D$38+1))))","v":1},{"$f":"IF($I$2=\"Existing\",(D184),(IF($I$2=\"Design 1\",(F184),(IF($I$2=\"Design 2\",(G184),(IF($I$2=\"Optimal\",(I184),E184)))))))","v":0.84302377525189853},{"$f":"IF(I24=INDEX(MedConf_Header,1,2),(IF(I183<=3,1,IF(OR(I183=4,I183=5),(Roadside!$F$15-1)*Constraints!$H$24/Constraints!$D$24+1,(Roadside!$F$15*Roadside!$F$16-1)*Constraints!$H$24/Constraints!$D$24+1))),(IF(I183<=3,1,IF(OR(I183=4,I183=5),(Roadside!$F$15-1)*Constraints!$H$38/Constraints!$D$38+1,(Roadside!$F$15*Roadside!$F$16-1)*Constraints!$H$38/Constraints!$D$38+1))))","v":0.79533290316176108},null,{"$f":"INDEX($D184:$I184,K$100)","v":1},{"$f":"INDEX($D184:$I184,L$100)","v":0.84302377525189853},{"$f":"IF(ISERROR(1-L184/K184), 0, 1-L184/K184)","v":0.15697622474810147},null,0]
[null,null,"Backslope",1,1,1,1,{"$f":"IF($I$2=\"Existing\",(D185),(IF($I$2=\"Design 1\",(F185),(IF($I$2=\"Design 2\",(G185),(IF($I$2=\"Optimal\",(I185),E185)))))))","v":1},1,null,{"$f":"INDEX($D185:$I185,K$100)","v":1},{"$f":"INDEX($D185:$I185,L$100)","v":1},0,null,0]
[null,null,"SafetyEdge",{"$f":"IF(D24=INDEX(MedConf_Header,1,2),(IF(D$77=\"No\",1,(Roadside!$F$23-1)*AVERAGE(Constraints!$H$24,Constraints!$F$24)/Constraints!$D$24+1)),(IF(D$77=\"No\",1,(Roadside!$F$23-1)*AVERAGE(Constraints!$H$38,Constraints!$F$38)/Constraints!$D$38+1)))","v":0.97711209540034072},{"$f":"IF(E$77=\"No\",1,(Roadside!$F$23-1)*AVERAGE(Constraints!$H$24,Constraints!$F$24)/Constraints!$D$24+1)","v":1},{"$f":"IF(F24=INDEX(MedConf_Header,1,2),(IF(F$77=\"No\",1,(Roadside!$F$23-1)*AVERAGE(Constraints!$H$24,Constraints!$F$24)/Constraints!$D$24+1)),(IF(F$77=\"No\",1,(Roadside!$F$23-1)*AVERAGE(Constraints!$H$38,Constraints!$F$38)/Constraints!$D$38+1)))","v":0.97711209540034072},{"$f":"IF(G24=INDEX(MedConf_Header,1,2),(IF(G$77=\"No\",1,(Roadside!$F$23-1)*AVERAGE(Constraints!$H$24,Constraints!$F$24)/Constraints!$D$24+1)),(IF(G$77=\"No\",1,(Roadside!$F$23-1)*AVERAGE(Constraints!$H$38,Constraints!$F$38)/Constraints!$D$38+1)))","v":0.97711209540034072},{"$f":"IF($I$2=\"Existing\",(D186),(IF($I$2=\"Design 1\",(F186),(IF($I$2=\"Design 2\",(G186),(IF($I$2=\"Optimal\",(I186),E186)))))))","v":1},{"$f":"IF(I$77=\"No\",1,(Roadside!$F$23-1)*AVERAGE(Constraints!$H$24,Constraints!$F$24)/Constraints!$D$24+1)","v":0.97526887377773364},null,{"$f":"INDEX($D186:$I186,K$100)","v":0.97711209540034072},{"$f":"INDEX($D186:$I186,L$100)","v":1},-2.3424031600265627E-2,null,-2.8188991921691331E-2]
[null,null,"Lateral Clearance (ft)",{"$f":"IF(D24=INDEX(MedConf_Header,1,2),(IF($B$31=\"Yes\",((EXP(LN(Roadside!$F$11)*(IF(D$79=\"None\",40,D$78)-30)/30)-1))*Constraints!$H$17/Constraints!$D$24+1,((EXP(LN(Roadside!$F$10)*(IF(D$79=\"None\",40,D$78)-30)/30)-1))*Constraints!$H$17/Constraints!$D$24+1)),(IF($B$31=\"Yes\",((EXP(LN(Roadside!$F$11)*(IF(D$79=\"None\",40,D$78)-30)/30)-1))*Constraints!$H$31/Constraints!$D$38+1,((EXP(LN(Roadside!$F$10)*(IF(D$79=\"None\",40,D$78)-30)/30)-1))*Constraints!$H$31/Constraints!$D$38+1)))","v":1.0472592444132678},{"$f":"IF(E24=INDEX(MedConf_Header,1,2),(IF($B$31=\"Yes\",((EXP(LN(Roadside!$F$11)*(IF(E$79=\"None\",40,E$78)-30)/30)-1))*Constraints!$H$17/Constraints!$D$24+1,((EXP(LN(Roadside!$F$10)*(IF(E$79=\"None\",40,E$78)-30)/30)-1))*Constraints!$H$17/Constraints!$D$24+1)),(IF($B$31=\"Yes\",((EXP(LN(Roadside!$F$11)*(IF(E$79=\"None\",40,E$78)-30)/30)-1))*Constraints!$H$31/Constraints!$D$38+1,((EXP(LN(Roadside!$F$10)*(IF(E$79=\"None\",40,E$78)-30)/30)-1))*Constraints!$H$31/Constraints!$D$38+1)))","v":0.97942029665168673},{"$f":"IF(F24=INDEX(MedConf_Header,1,2),(IF($B$31=\"Yes\",((EXP(LN(Roadside!$F$11)*(IF(F$79=\"None\",40,F$78)-30)/30)-1))*Constraints!$H$17/Constraints!$D$24+1,((EXP(LN(Roadside!$F$10)*(IF(F$79=\"None\",40,F$78)-30)/30)-1))*Constraints!$H$17/Constraints!$D$24+1)),(IF($B$31=\"Yes\",((EXP(LN(Roadside!$F$11)*(IF(F$79=\"None\",40,F$78)-30)/30)-1))*Constraints!$H$31/Constraints!$D$38+1,((EXP(LN(Roadside!$F$10)*(IF(F$79=\"None\",40,F$78)-30)/30)-1))*Constraints!$H$31/Constraints!$D$38+1)))","v":1.0472592444132678},{"$f":"IF(G24=INDEX(MedConf_Header,1,2),(IF($B$31=\"Yes\",((EXP(LN(Roadside!$F$11)*(IF(G$79=\"None\",40,G$78)-30)/30)-1))*Constraints!$H$17/Constraints!$D$24+1,((EXP(LN(Roadside!$F$10)*(IF(G$79=\"None\",40,G$78)-30)/30)-1))*Constraints!$H$17/Constraints!$D$24+1)),(IF($B$31=\"Yes\",((EXP(LN(Roadside!$F$11)*(IF(G$79=\"None\",40,G$78)-30)/30)-1))*Constraints!$H$31/Constraints!$D$38+1,((EXP(LN(Roadside!$F$10)*(IF(G$79=\"None\",40,G$78)-30)/30)-1))*Constraints!$H$31/Constraints!$D$38+1)))","v":1.0472592444132678},{"$f":"IF($I$2=\"Existing\",(D187),(IF($I$2=\"Design 1\",(F187),(IF($I$2=\"Design 2\",(G187),(IF($I$2=\"Optimal\",(I187),E187)))))))","v":0.97942029665168673},{"$f":"IF(I24=INDEX(MedConf_Header,1,2),(IF($B$31=\"Yes\",((EXP(LN(Roadside!$F$11)*(IF(I$79=\"None\",40,I$78)-30)/30)-1))*Constraints!$H$17/Constraints!$D$24+1,((EXP(LN(Roadside!$F$10)*(IF(I$79=\"None\",40,I$78)-30)/30)-1))*Constraints!$H$17/Constraints!$D$24+1)),(IF($B$31=\"Yes\",((EXP(LN(Roadside!$F$11)*(IF(I$79=\"None\",40,I$78)-30)/30)-1))*Constraints!$H$31/Constraints!$D$38+1,((EXP(LN(Roadside!$F$10)*(IF(I$79=\"None\",40,I$78)-30)/30)-1))*Constraints!$H$31/Constraints!$D$38+1)))","v":0.97942029665168673},null,{"$f":"INDEX($D187:$I187,K$100)","v":1.0472592444132678},{"$f":"INDEX($D187:$I187,L$100)","v":0.97942029665168673},6.4777606999867676E-2,null,9.0307162971216326E-2]
[null,null,"Roadside Obstruction Type",{"$f":"IF(D24=INDEX(MedConf_Header,1,2),(IF(D$79=\"Guardrail\",(Roadside!$F$25-1)*(($I$78-D$78)/$I$78)^2*Constraints!$H$17/Constraints!$D$24+1,1)),(IF(D$79=\"Guardrail\",(Roadside!$F$25-1)*(($I$78-D$78)/$I$78)^2*Constraints!$H$31/Constraints!$D$38+1,1)))","v":1},{"$f":"IF(E24=INDEX(MedConf_Header,1,2),(IF(E$79=\"Guardrail\",(Roadside!$F$25-1)*(($I$78-E$78)/$I$78)^2*Constraints!$H$17/Constraints!$D$24+1,1)),(IF(E$79=\"Guardrail\",(Roadside!$F$25-1)*(($I$78-E$78)/$I$78)^2*Constraints!$H$31/Constraints!$D$38+1,1)))","v":1},{"$f":"IF(F24=INDEX(MedConf_Header,1,2),(IF(F$79=\"Guardrail\",(Roadside!$F$25-1)*(($I$78-F$78)/$I$78)^2*Constraints!$H$17/Constraints!$D$24+1,1)),(IF(F$79=\"Guardrail\",(Roadside!$F$25-1)*(($I$78-F$78)/$I$78)^2*Constraints!$H$31/Constraints!$D$38+1,1)))","v":1},{"$f":"IF(G24=INDEX(MedConf_Header,1,2),(IF(G$79=\"Guardrail\",(Roadside!$F$25-1)*(($I$78-G$78)/$I$78)^2*Constraints!$H$17/Constraints!$D$24+1,1)),(IF(G$79=\"Guardrail\",(Roadside!$F$25-1)*(($I$78-G$78)/$I$78)^2*Constraints!$H$31/Constraints!$D$38+1,1)))","v":1},{"$f":"IF($I$2=\"Existing\",(D188),(IF($I$2=\"Design 1\",(F188),(IF($I$2=\"Design 2\",(G188),(IF($I$2=\"Optimal\",(I188),E188)))))))","v":1},{"$f":"IF(I24=INDEX(MedConf_Header,1,2),(IF(I$79=\"Guardrail\",(Roadside!$F$25-1)*(($I$78-I$78)/$I$78)^2*Constraints!$H$17/Constraints!$D$24+1,1)),(IF(I$79=\"Guardrail\",(Roadside!$F$25-1)*(($I$78-I$78)/$I$78)^2*Constraints!$H$31/Constraints!$D$38+1,1)))","v":1},null,{"$f":"INDEX($D188:$I188,K$100)","v":1},{"$f":"INDEX($D188:$I188,L$100)","v":1},0,null,0]
[null,null,null,null,null,null,null,null,null,null,{"$f":"INDEX($D189:$I189,K$100)","v":0},{"$f":"INDEX($D189:$I189,L$100)","v":0},0]
[null,null,null,null,null,null,null,null,null,null,{"$f":"INDEX($D190:$I190,K$100)","v":0},{"$f":"INDEX($D190:$I190,L$100)","v":0},0]
[null,null,"COMBINED Calculated CMF",{"$f":"+D184*D185*D186*D187*D188","v":1.0232896747360256},{"$f":"+E184*E185*E186*E187*E188","v":0.82567459604163929},1.0232896747360256,1.0232896747360256,{"$f":"IF($I$2=\"Existing\",(D191),(IF($I$2=\"Design 1\",(F191),(IF($I$2=\"Design 2\",(G191),(IF($I$2=\"Optimal\",(I191),E191)))))))","v":0.82567459604163929},{"$f":"+I184*I185*I186*I187*I188","v":0.75970050156555824},null,{"$f":"INDEX($D191:$I191,K$100)","v":1.0232896747360256},{"$f":"INDEX($D191:$I191,L$100)","v":0.82567459604163929},0.1931174364144389]
[null,null,"Calculated Relative to Design Standards (Column E)",{"$f":"+D191/$E$191","v":1.2393377241370527},{"$f":"+E191/$E$191","v":1},1.2393377241370527,1.2393377241370527,1,{"$f":"+I191/$E$191","v":0.92009673690777583},null,{"$f":"INDEX($D192:$I192,K$100)","v":1.2393377241370527},{"$f":"INDEX($D192:$I192,L$100)","v":1},0.1931174364144389]
[null,null,"P(Crash)",{"$f":"+D192/(D192+1)","v":0.55343939896990835},0.5,0.55343939896990835,0.55343939896990835,0.5,{"$f":"+I192/(I192+1)","v":0.47919290691027777},null,{"$f":"INDEX($D193:$I193,K$100)","v":0.55343939896990835},{"$f":"INDEX($D193:$I193,L$100)","v":0.5},9.6558718207219618E-2]
[null,null,"Factor Change on S curve",{"$f":"+D193/$E$193","v":1.1068787979398167},{"$f":"+E193/$E$193","v":1},1.1068787979398167,1.1068787979398167,1,{"$f":"+I193/$E$193","v":0.95838581382055554},null,{"$f":"INDEX($D194:$I194,K$100)","v":1.1068787979398167},{"$f":"INDEX($D194:$I194,L$100)","v":1},9.6558718207219618E-2]
[null,null,"Adjust to Scale of 100",{"$f":"+$I$118/D194*100","v":{"$error":"#VALUE!"}},{"$error":"#VALUE!"},{"$error":"#VALUE!"},{"$error":"#VALUE!"},{"$error":"#VALUE!"},{"$f":"+$I$118/I194*100","v":{"$error":"#VALUE!"}},null,{"$f":"INDEX($D195:$I195,K$100)","v":{"$error":"#VALUE!"}},{"$f":"INDEX($D195:$I195,L$100)","v":{"$error":"#VALUE!"}},0]
[null,null,"Unadjusted Combined Relative to Standard",{"$f":"+D191/$E$191","v":1.2393377241370527},{"$f":"+E191/$E$191","v":1},1.2393377241370527,1.2393377241370527,1,{"$f":"+I191/$E$191","v":0.92009673690777583},{"$f":"I202/E202","v":1.0810810810810811},{"$f":"INDEX($D196:$I196,K$100)","v":1.2393377241370527},{"$f":"INDEX($D196:$I196,L$100)","v":1},0.1931174364144389]
[null,null,null,null,null,null,null,null,null,null,{"$f":"INDEX($D197:$I197,K$100)","v":0},{"$f":"INDEX($D197:$I197,L$100)","v":0},0]
[null,null,"Adjusted for PA Basis",{"$f":"+D191*(1+1)/(1+D191*1)","v":1.0115107960203793},0.90451452611745442,1.0115107960203793,1.0115107960203793,{"$f":"IF($I$2=\"Existing\",(D198),(IF($I$2=\"Design 1\",(F198),(IF($I$2=\"Design 2\",(G198),(IF($I$2=\"Optimal\",(I198),E198)))))))","v":0.90451452611745442},{"$f":"+I191*(1+1)/(1+I191*1)","v":0.86344295621859868},null,{"$f":"INDEX($D198:$I198,K$100)","v":1.0115107960203793},{"$f":"INDEX($D198:$I198,L$100)","v":0.90451452611745442},0.10577867317272727]
[null,null,"Corrected by Odds Ratio",{"$f":"+D191/$E$191","v":1.2393377241370527},{"$f":"+E191/$E$191","v":1},1.2393377241370527,1.2393377241370527,{"$f":"IF($I$2=\"Existing\",(D199),(IF($I$2=\"Design 1\",(F199),(IF($I$2=\"Design 2\",(G199),(IF($I$2=\"Optimal\",(I199),E199)))))))","v":1},{"$f":"+I191/$E$191","v":0.92009673690777583},{"$f":"I205/E205","v":1.4814814814814814},{"$f":"INDEX($D199:$I199,K$100)","v":1.2393377241370527},{"$f":"INDEX($D199:$I199,L$100)","v":1},0.1931174364144389]
[null,null,null,{"$f":"(1/D199)^$D203","v":1.8666691582346016E-8},{"$f":"(1/E199)^$D203","v":1},1.8666691582346016E-8,1.8666691582346016E-8,1,998.99999999999955]
[null,null,null,{"$f":"(D200+$F204-1)/(1+(D200+$F204-1))","v":0.50000000466667294},{"$f":"(E200+$F204-1)/(1+(E200+$F204-1))","v":0.66666666666666663},0.50000000466667294,0.50000000466667294,0.66666666666666663,0.99900099900099903]
[null,null,"Score Odds Ratio with Optimal as 100 (old)",{"$f":"MIN(ROUND($I$199/D199*Construction!$I$4,0),$I202)","v":30},{"$f":"MIN(ROUND($I$199/E199*Construction!$I$4,0),$I202)","v":37},{"$f":"MIN(ROUND($I$199/F199*Construction!$I$4,0),$I202)","v":30},{"$f":"MIN(ROUND($I$199/G199*Construction!$I$4,0),$I202)","v":30},null,{"$f":"ROUND($I$199/I199*Construction!$I$4,0)","v":40}]
[null,null,"Logistic1",{"$f":"LN((D204/(1-D204))/(0.5/0.5))/LN($E199/I199)","v":82.937655007418002}]
[null,null,"Logistic Param",0.999,null,2]
[null,null,"Score ",{"$f":"MIN(ROUND(D201*Construction!$I$4,0),$I202)","v":20},{"$f":"MIN(ROUND(E201*Construction!$I$4,0),$I202)","v":27},{"$f":"MIN(ROUND(F201*Construction!$I$4,0),$I202)","v":20},{"$f":"MIN(ROUND(G201*Construction!$I$4,0),$I202)","v":20},null,{"$f":"MIN(ROUND(I201*Construction!$I$4,0),$I202)","v":40}]
[]
[]
[]
[]
[null,null,{"$f":"D87/D183","v":{"$error":"#DIV/0!"}},null,{"$f":"ROUNDUP((MIN($I$14,$I$15)-E27-E28)/$C$210,0)","v":{"$error":"#DIV/0!"}},{"$f":"ROUNDUP((MIN($I$14,$I$15)-F27-F28)/$C$210,0)","v":{"$error":"#DIV/0!"}},{"$f":"ROUNDUP((MIN($I$14,$I$15)-G27-G28)/$C$210,0)","v":{"$error":"#DIV/0!"}},null,{"$f":"ROUNDUP((MIN($I$14,$I$15)-I27-I28)/$C$210,0)","v":{"$error":"#DIV/0!"}}]
[]
[]
[null,null,"Distance to low point","Distance to low point",{"$f":"$C$210*E183","v":{"$error":"#DIV/0!"}},{"$f":"$C$210*F183","v":{"$error":"#DIV/0!"}},{"$error":"#DIV/0!"},null,{"$f":"$C$210*I183","v":{"$error":"#DIV/0!"}}]
[null,null,null,"Additional ROW1 Needed for Foreslope",{"$f":"IF(E213>($I$14-E27-E28),E213-($I$14-E27-E28),0)","v":{"$error":"#DIV/0!"}},{"$f":"IF(F213>($I$14-F27-F28),F213-($I$14-F27-F28),0)","v":{"$error":"#DIV/0!"}},{"$f":"IF(G213>($I$14-G27-G28),G213-($I$14-G27-G28),0)","v":{"$error":"#DIV/0!"}},null,{"$f":"IF(I213>($I$14-I27-I28),I213-($I$14-I27-I28),0)","v":{"$error":"#DIV/0!"}}]
[null,null,null,"Additional ROW2 Needed for Foreslope",{"$f":"IF(E213>($I$15-E27-E28),E213-($I$15-E27-E28),0)","v":{"$error":"#DIV/0!"}},{"$f":"IF(F213>($I$15-F27-F28),F213-($I$15-F27-F28),0)","v":{"$error":"#DIV/0!"}},{"$f":"IF(G213>($I$15-G27-G28),G213-($I$15-G27-G28),0)","v":{"$error":"#DIV/0!"}},null,{"$f":"IF(I213>($I$15-I27-I28),I213-($I$15-I27-I28),0)","v":{"$error":"#DIV/0!"}}]
[]
[null,null,null,"Additional ROW1 Needed for Lateral Clearance",{"$f":"IF((CL251+E30)-$I$14<0,0,(CL251+E30)-$I$14)","v":2},{"$f":"IF((CM251+F30)-$I$14<0,0,(CM251+F30)-$I$14)","v":0},{"$f":"IF((CN251+G30)-$I$14<0,0,(CN251+G30)-$I$14)","v":0},null,{"$f":"IF((CP251+I30)-$I$14<0,0,(CP251+I30)-$I$14)","v":2}]
[null,null,null,"Additional ROW2 Needed for Lateral Clearance",{"$f":"IF((CL251+E30)-$I$15<0,0,(CL251+E30)-$I$15)","v":2},{"$f":"IF((CM251+F30)-$I$15<0,0,(CM251+F30)-$I$15)","v":0},{"$f":"IF((CN251+G30)-$I$15<0,0,(CN251+G30)-$I$15)","v":0},null,{"$f":"IF((CP251+I30)-$I$15<0,0,(CP251+I30)-$I$15)","v":2}]
[]
[]
[]
[]
[]
[]
[]
[]
[]
[]
[]
[null,null,"For Vertical Opt Use when Yes Vertical:"]
[null,null,"G1",{"$f":"D40","v":0},null,{"$f":"F40","v":0},{"$f":"G40","v":0},null,{"$f":"IF(ISERROR($E$238),\"\",INDEX(D231:G231,$E$238))","v":""}]
[null,null,"G2",{"$f":"D41","v":0},null,{"$f":"F41","v":0},{"$f":"G41","v":0},null,{"$f":"IF(ISERROR($E$238),\"\",INDEX(D232:G232,$E$238))","v":""}]
[null,null,"abs(G2-G1)",{"$f":"ABS(D40-D41)","v":0},null,{"$f":"ABS(F40-F41)","v":0},{"$f":"ABS(G40-G41)","v":0}]
[null,null,"Count in indicator (K no change; or K change but accept)",{"$f":"IF(D43<>\"\",1,\"\")","v":""},null,{"$f":"IF(OR(AND($B$38 = \"Yes\", $D$43 <> F43, F43 <>\"\", $D$43 <> \"\", F45=\"Yes.\"),AND($B$38 = \"Yes\", $D$43 = F43, F43 <>\"\", $D$43 <> \"\")), 1,\"\")","v":""},{"$f":"IF(OR(AND($B$38 = \"Yes\", $D$43 <> G43, G43 <>\"\", $D$43 <> \"\", G45=\"Yes.\"),AND($B$38 = \"Yes\", $D$43 = G43, G43 <>\"\", $D$43 <> \"\")), 1,\"\")","v":""}]
[]
[null,null,"Valid abs(G2-G1)",{"$f":"IF(ISERROR(D233*D234),\"\",D233*D234)","v":""},null,{"$f":"IF(ISERROR(F233*F234),\"\",F233*F234)","v":""},{"$f":"IF(ISERROR(G233*G234),\"\",G233*G234)","v":""}]
[null,null,"The min valid abs(G2-G1)",null,{"$f":"MIN(D236,F236,G236)","v":0}]
[null,null,"Index",null,{"$f":"MATCH(E237,D236:G236,0)","v":{"$error":"#N/A"}}]
[]
[null,null,"For Vertical Opt Use When No Vertical:"]
[null,null,"G1",{"$f":"IF(ISBLANK(D40), 999, D40)","v":999},null,{"$f":"IF(ISBLANK(F40), 999, F40)","v":999},{"$f":"IF(ISBLANK(G40), 999, G40)","v":999},null,{"$f":"IF(E246=999,\"\",E246)","v":""}]
[null,null,"Sign of G1",{"$f":"IF(D241>=0,1,-1)","v":1},null,{"$f":"IF(F241>=0,1,-1)","v":1},{"$f":"IF(G241>=0,1,-1)","v":1}]
[null,null,"Abs G1",{"$f":"ABS(D241)","v":999},null,{"$f":"ABS(F241)","v":999},{"$f":"ABS(G241)","v":999}]
[null,null,"Min Abs G1",null,{"$f":"MIN(D243:G243)","v":999}]
[null,null,"Which is the Best G1",null,{"$f":"MATCH(E244,D243:G243,0)","v":1}]
[null,null,"Best G1 Value",null,{"$f":"INDEX(D241:G241,1,E245)","v":999}]
[]
[]
[null,null,"Check if all cells filled",{"$f":"SUM(D251:D314)","v":19},{"$f":"SUM(E251:E314)","v":1},19,19,0,0]
[]
[null,null,{"$f":"C24","v":"Configuration of Multilane Roadway"},{"$f":"IF(ISBLANK(D24),1,0)","v":1},{"$f":"IF(ISBLANK(E24),1,0)","v":0},1,1,null,0]
[null,null,{"$f":"C25","v":"Median Configuration (Width or Type)"},{"$f":"IF(AND(D24<>\"No Median\", ISBLANK(D25)),1,0)","v":1},0,{"$f":"IF(AND(F24<>\"No Median\", ISBLANK(F25)),1,0)","v":1},{"$f":"IF(AND(G24<>\"No Median\", ISBLANK(G25)),1,0)","v":1},null,0]
[]
[null,null,"Lane Width (feet)",{"$f":"IF(ISBLANK(D27),1,0)","v":1},0,1,1,null,{"$f":"IF(ISBLANK(I27),1,0)","v":0}]
[null,null,"Average Outside Shoulder Width (feet)",1,0,1,1,null,0]
[null,null,"Average Inside Shoulder Width (feet)",1,0,1,1,null,0]
[null,null,"Number of Lanes per Direction of Travel",1,0,1,1,null,0]
[null,null,"Horizontal Curve Present?"]
[null,null,"Horizontal Curve Data for Controlling Element:"]
[null,null,"  Radius (feet)",{"$f":"IF(AND($B$31=\"Yes\", ISBLANK(D33)),1,0)","v":0},null,{"$f":"IF(AND($B$31=\"Yes\", ISBLANK(F33)),1,0)","v":0},{"$f":"IF(AND($B$31=\"Yes\", ISBLANK(G33)),1,0)","v":0},null,{"$f":"IF(ISBLANK(I33),1,0)","v":0}]
[null,null,"Length of Horizontal Curve (feet)",{"$f":"IF(AND($B$31=\"Yes\", ISBLANK(D34)),1,0)","v":0},null,{"$f":"IF(AND($B$31=\"Yes\", ISBLANK(F34)),1,0)","v":0},{"$f":"IF(AND($B$31=\"Yes\", ISBLANK(G34)),1,0)","v":0},null,0]
[null,null,"Calculated Deflection Angle ∆"]
[]
[null,null,null,null,null,{"$f":"IF(AND($B$31 = \"Yes\", $D$35 <> F35, F35<>\"\",ISBLANK(F37)),1,0)","v":0},{"$f":"IF(AND($B$31 = \"Yes\", $D$35 <> G35, G35<>\"\",ISBLANK(G37)),1,0)","v":0}]
[null,null,"Vertical Curve Present?"]
[null,null,"Vertical Curve Data for Controlling Element:"]
[null,null,"  Approach (Entry) Grade, G1 (%)",{"$f":"IF(ISBLANK(D40),1,0)","v":1},0,1,1,null,{"$f":"IF(ISBLANK(I40),1,0)","v":0}]
[null,null,"  Departure (Exit) Grade, G2 (%)",{"$f":"IF(AND($B$38=\"Yes\", ISBLANK(D41)),1,0)","v":0},{"$f":"IF(AND($B$38=\"Yes\", ISBLANK(E41)),1,0)","v":0},0,0,null,0]
[null,null,"  Length (feet)",{"$f":"IF(AND($B$38=\"Yes\", ISBLANK(D42)),1,0)","v":0},0,0,0,null,0]
[null,null,"  Calculated Rate of Change, K (ft/ft)"]
[]
[]
[null,null,"  Calculated Sag or Crest?"]
[]
[]
[null,null,"Geometric Design Element (Partial Score)"]
[null,null,"Total Safety Score"]
[]
[]
[]
[]
[]
[null,null,"Advance Static Curve Warning Signs",{"$f":"IF(AND($B$31=\"Yes\", ISBLANK(D56)),1,0)","v":0},{"$f":"IF(AND($B$31=\"Yes\", ISBLANK(E56)),1,0)","v":0},0,0,null,{"$f":"IF(ISBLANK(I56),1,0)","v":0}]
[null,null,"Chevron Signs on Horizontal Curves",{"$f":"IF(AND($B$31=\"Yes\", ISBLANK(D57)),1,0)","v":0},0,0,0,null,0]
[null,null,"Post-Mounted Delineators",0,0,0,0,null,0]
[null,null,"Edgeline Pavement Markings or Profile Markings",{"$f":"IF(ISBLANK(D59),1,0)","v":1},0,1,1,null,0]
[null,null,"Shoulder Rumble Strips",1,0,1,1,null,0]
[null,null,"Centerline Rumble Strips",1,0,1,1,null,0]
[null,null,"Driveway Density (driveways per mile)",1,0,1,1,null,0]
[null,null,"Lighting",1,0,1,1,null,0]
[null,null,"Pavement Friction (skid number) ***",1,0,1,1,null,0]
[null,null,"Traffic Control Element (Partial Score):"]
[null,null,"Total Safety Score"]
[]
[]
[]
[]
[]
[]
[]
[]
[null,null,"Roadside Sideslope (Foreslope)",{"$f":"IF(ISBLANK(D75),1,0)","v":1},0,1,1,null,{"$f":"IF(ISBLANK(I75),1,0)","v":0}]
[null,null,"Roadside Backslope",1,0,1,1,null,0]
[null,null,"Safety Edge",1,0,1,1,null,0]
[null,null,"Roadside Lateral Clearance to Obstruction (ft)",1,0,1,1,null,0]
[null,null,"Roadside Obstruction Type",1,0,1,1,null,0]
[null,null,"Roadside Element (Partial Score):"]
[null,null,"Total Safety Score"]
[]
[]
[]
[]
[]
[null,null,"Distance to Slope Toe from Shoulder (ft)",{"$f":"IF(ISBLANK(D87),1,0)","v":1},{"$f":"D314","v":1},{"$f":"E314","v":1},1,null,0]
[null,null,null,null,null,null,null,null,{"$f":"SUM(I316:I324)","v":9}]
[null,null,null,null,null,null,null,{"$f":"F9","v":"Location "},{"$f":"IF(ISBLANK(I9),1,0)","v":1}]
[null,null,null,null,null,null,null,{"$f":"F10","v":"Design Speed (mph)"},{"$f":"IF(ISBLANK(I10),1,0)","v":1}]
[null,null,null,null,null,null,null,"Posted Speed (mph)",1]
[null,null,null,null,null,null,null,"E max (%)",1]
[null,null,null,null,null,null,null,"    Design Year AADT (vehicles per day)",1]
[null,null,null,null,null,null,null,"    Dist. from Centerline to Left   ROW (feet)",1]
[null,null,null,null,null,null,null,"    Dist. from Centerline to Right ROW (feet)",1]
[null,null,null,null,null,null,null,"H CV",{"$f":"IF(ISBLANK(B31),1,0)","v":1}]
[null,null,null,null,null,null,null,"V HV",{"$f":"IF(ISBLANK(B38),1,0)","v":1}]
[]
[]
[]
[]
[]
[]
[]
[]
[]
[]
[]
[]
[]
[]
[]
[]
[]
[]
[]
[]
[]
[]
[]
[]
[]
[]
[]
[]
[]
[]
[]
[]
[]
[]
[]
[]
[]
[]
[]
[]
[]
[]
[]
[]
[]
[]
[]
[]
[]
[]
[]
[]
[]
[]
[1]
[22]
[21]
[20]
[19,null,null,{"$f":"Constraints!P174","v":"Emax=6%"}]
[18]
[17,null,{"$f":"HLOOKUP($I$10,Constraints!$Q$176:AD197,A379,TRUE)","v":{"$error":"#N/A"}},{"$f":"Constraints!P176","v":"super"}]
[16,null,{"$f":"HLOOKUP($I$10,Constraints!$Q$176:AD198,A380,TRUE)","v":{"$error":"#N/A"}},{"$f":"Constraints!P197","v":6},1050]
[15,null,{"$f":"HLOOKUP($I$10,Constraints!$Q$176:AD199,A381,TRUE)","v":{"$error":"#N/A"}},{"$f":"Constraints!P196","v":5.8}]
[14,null,{"$f":"HLOOKUP($I$10,Constraints!$Q$176:AD200,A382,TRUE)","v":{"$error":"#N/A"}},{"$f":"Constraints!P195","v":5.6}]
[13,null,{"$f":"HLOOKUP($I$10,Constraints!$Q$176:AD201,A383,TRUE)","v":{"$error":"#N/A"}},{"$f":"Constraints!P194","v":5.4}]
[12,null,{"$f":"HLOOKUP($I$10,Constraints!$Q$176:AD202,A384,TRUE)","v":{"$error":"#N/A"}},{"$f":"Constraints!P193","v":5.2}]
[11,null,{"$f":"HLOOKUP($I$10,Constraints!$Q$176:AD203,A385,TRUE)","v":{"$error":"#N/A"}},{"$f":"Constraints!P192","v":5}]
[10,null,{"$f":"HLOOKUP($I$10,Constraints!$Q$176:AD204,A386,TRUE)","v":{"$error":"#N/A"}},{"$f":"Constraints!P191","v":4.8}]
[9,null,{"$f":"HLOOKUP($I$10,Constraints!$Q$176:AD205,A387,TRUE)","v":{"$error":"#N/A"}},{"$f":"Constraints!P190","v":4.5999999999999996}]
[8,null,{"$f":"HLOOKUP($I$10,Constraints!$Q$176:AD206,A388,TRUE)","v":{"$error":"#N/A"}},{"$f":"Constraints!P189","v":4.4000000000000004}]
[7,null,{"$f":"HLOOKUP($I$10,Constraints!$Q$176:AD207,A389,TRUE)","v":{"$error":"#N/A"}},{"$f":"Constraints!P188","v":4.2}]
[6,null,{"$f":"HLOOKUP($I$10,Constraints!$Q$176:AD208,A390,TRUE)","v":{"$error":"#N/A"}},{"$f":"Constraints!P187","v":4}]
[5,null,{"$f":"HLOOKUP($I$10,Constraints!$Q$176:AD209,A391,TRUE)","v":{"$error":"#N/A"}},{"$f":"Constraints!P186","v":3.8}]
[4,null,{"$f":"HLOOKUP($I$10,Constraints!$Q$176:AD210,A392,TRUE)","v":{"$error":"#N/A"}},{"$f":"Constraints!P185","v":3.6}]
[3,null,{"$f":"HLOOKUP($I$10,Constraints!$Q$176:AD211,A393,TRUE)","v":{"$error":"#N/A"}},{"$f":"Constraints!P184","v":3.4}]
[2,null,{"$f":"HLOOKUP($I$10,Constraints!$Q$176:AD212,A394,TRUE)","v":{"$error":"#N/A"}},{"$f":"Constraints!P183","v":3.2}]
[null,null,{"$f":"HLOOKUP($I$10,Constraints!$Q$176:AD213,A395,TRUE)","v":{"$error":"#N/A"}},{"$f":"Constraints!P182","v":3}]
[null,null,{"$f":"HLOOKUP($I$10,Constraints!$Q$176:AD214,A396,TRUE)","v":{"$error":"#N/A"}},{"$f":"Constraints!P181","v":2.8}]
[null,null,{"$f":"HLOOKUP($I$10,Constraints!$Q$176:AD215,A397,TRUE)","v":{"$error":"#N/A"}},{"$f":"Constraints!P180","v":2.6}]
[null,null,{"$f":"HLOOKUP($I$10,Constraints!$Q$176:AD216,A398,TRUE)","v":{"$error":"#N/A"}},{"$f":"Constraints!P179","v":2.4}]
[null,null,{"$f":"HLOOKUP($I$10,Constraints!$Q$176:AD217,A399,TRUE)","v":{"$error":"#N/A"}},{"$f":"Constraints!P178","v":2.2000000000000002}]
[1,null,{"$f":"HLOOKUP($I$10,Constraints!$Q$176:AD218,A400,TRUE)","v":{"$error":"#N/A"}},{"$f":"Constraints!P177","v":2}]
[32]
[31]
[30]
[29,null,null,{"$f":"Constraints!P201","v":"Emax=8%"}]
[28]
[27,null,{"$f":"HLOOKUP($I$10,Constraints!$Q$203:AD234,A406,TRUE)","v":{"$error":"#N/A"}},{"$f":"Constraints!P203","v":"super"}]
[26,null,{"$f":"HLOOKUP($I$10,Constraints!$Q$203:AD235,A407,TRUE)","v":{"$error":"#N/A"}},{"$f":"INDEX(Constraints!$P$203:$P$234,A407,)","v":8}]
[25,null,{"$f":"HLOOKUP($I$10,Constraints!$Q$203:AD236,A408,TRUE)","v":{"$error":"#N/A"}},{"$f":"INDEX(Constraints!$P$203:$P$234,A408,)","v":7.8}]
[24,null,{"$f":"HLOOKUP($I$10,Constraints!$Q$203:AD237,A409,TRUE)","v":{"$error":"#N/A"}},{"$f":"INDEX(Constraints!$P$203:$P$234,A409,)","v":7.6}]
[23,null,{"$f":"HLOOKUP($I$10,Constraints!$Q$203:AD238,A410,TRUE)","v":{"$error":"#N/A"}},{"$f":"INDEX(Constraints!$P$203:$P$234,A410,)","v":7.4}]
[22,null,{"$f":"HLOOKUP($I$10,Constraints!$Q$203:AD239,A411,TRUE)","v":{"$error":"#N/A"}},{"$f":"INDEX(Constraints!$P$203:$P$234,A411,)","v":7.2}]
[21,null,{"$f":"HLOOKUP($I$10,Constraints!$Q$203:AD240,A412,TRUE)","v":{"$error":"#N/A"}},{"$f":"INDEX(Constraints!$P$203:$P$234,A412,)","v":7}]
[20,null,{"$f":"HLOOKUP($I$10,Constraints!$Q$203:AD241,A413,TRUE)","v":{"$error":"#N/A"}},{"$f":"INDEX(Constraints!$P$203:$P$234,A413,)","v":6.8}]
[19,null,{"$f":"HLOOKUP($I$10,Constraints!$Q$203:AD242,A414,TRUE)","v":{"$error":"#N/A"}},{"$f":"INDEX(Constraints!$P$203:$P$234,A414,)","v":6.6}]
[18,null,{"$f":"HLOOKUP($I$10,Constraints!$Q$203:AD243,A415,TRUE)","v":{"$error":"#N/A"}},{"$f":"INDEX(Constraints!$P$203:$P$234,A415,)","v":6.4}]
[17,null,{"$f":"HLOOKUP($I$10,Constraints!$Q$203:AD244,A416,TRUE)","v":{"$error":"#N/A"}},{"$f":"INDEX(Constraints!$P$203:$P$234,A416,)","v":6.2}]
[16,null,{"$f":"HLOOKUP($I$10,Constraints!$Q$203:AD245,A417,TRUE)","v":{"$error":"#N/A"}},{"$f":"INDEX(Constraints!$P$203:$P$234,A417,)","v":6}]
[15,null,{"$f":"HLOOKUP($I$10,Constraints!$Q$203:AD246,A418,TRUE)","v":{"$error":"#N/A"}},{"$f":"INDEX(Constraints!$P$203:$P$234,A418,)","v":5.8}]
[14,null,{"$f":"HLOOKUP($I$10,Constraints!$Q$203:AD247,A419,TRUE)","v":{"$error":"#N/A"}},{"$f":"INDEX(Constraints!$P$203:$P$234,A419,)","v":5.6}]
[13,null,{"$f":"HLOOKUP($I$10,Constraints!$Q$203:AD248,A420,TRUE)","v":{"$error":"#N/A"}},{"$f":"INDEX(Constraints!$P$203:$P$234,A420,)","v":5.4}]
[12,null,{"$f":"HLOOKUP($I$10,Constraints!$Q$203:AD249,A421,TRUE)","v":{"$error":"#N/A"}},{"$f":"INDEX(Constraints!$P$203:$P$234,A421,)","v":5.2}]
[11,null,{"$f":"HLOOKUP($I$10,Constraints!$Q$203:AD250,A422,TRUE)","v":{"$error":"#N/A"}},{"$f":"INDEX(Constraints!$P$203:$P$234,A422,)","v":5}]
[10,null,{"$f":"HLOOKUP($I$10,Constraints!$Q$203:AD251,A423,TRUE)","v":{"$error":"#N/A"}},{"$f":"INDEX(Constraints!$P$203:$P$234,A423,)","v":4.8}]
[9,null,{"$f":"HLOOKUP($I$10,Constraints!$Q$203:AD252,A424,TRUE)","v":{"$error":"#N/A"}},{"$f":"INDEX(Constraints!$P$203:$P$234,A424,)","v":4.5999999999999996}]
[8,null,{"$f":"HLOOKUP($I$10,Constraints!$Q$203:AD253,A425,TRUE)","v":{"$error":"#N/A"}},{"$f":"INDEX(Constraints!$P$203:$P$234,A425,)","v":4.4000000000000004}]
[7,null,{"$f":"HLOOKUP($I$10,Constraints!$Q$203:AD254,A426,TRUE)","v":{"$error":"#N/A"}},{"$f":"INDEX(Constraints!$P$203:$P$234,A426,)","v":4.2}]
[6,null,{"$f":"HLOOKUP($I$10,Constraints!$Q$203:AD255,A427,TRUE)","v":{"$error":"#N/A"}},{"$f":"INDEX(Constraints!$P$203:$P$234,A427,)","v":4}]
[5,null,{"$f":"HLOOKUP($I$10,Constraints!$Q$203:AD256,A428,TRUE)","v":{"$error":"#N/A"}},{"$f":"INDEX(Constraints!$P$203:$P$234,A428,)","v":3.8}]
[4,null,{"$f":"HLOOKUP($I$10,Constraints!$Q$203:AD257,A429,TRUE)","v":{"$error":"#N/A"}},{"$f":"INDEX(Constraints!$P$203:$P$234,A429,)","v":3.6}]
[3,null,{"$f":"HLOOKUP($I$10,Constraints!$Q$203:AD258,A430,TRUE)","v":{"$error":"#N/A"}},{"$f":"INDEX(Constraints!$P$203:$P$234,A430,)","v":3.4}]
[2,null,{"$f":"HLOOKUP($I$10,Constraints!$Q$203:AD259,A431,TRUE)","v":{"$error":"#N/A"}},{"$f":"INDEX(Constraints!$P$203:$P$234,A431,)","v":3.2}]
[null,null,{"$f":"HLOOKUP($I$10,Constraints!$Q$203:AD260,A432,TRUE)","v":{"$error":"#N/A"}},{"$f":"INDEX(Constraints!$P$203:$P$234,A432,)","v":3}]
[null,null,{"$f":"HLOOKUP($I$10,Constraints!$Q$203:AD261,A433,TRUE)","v":{"$error":"#N/A"}},{"$f":"INDEX(Constraints!$P$203:$P$234,A433,)","v":2.8}]
[null,null,{"$f":"HLOOKUP($I$10,Constraints!$Q$203:AD262,A434,TRUE)","v":{"$error":"#N/A"}},{"$f":"INDEX(Constraints!$P$203:$P$234,A434,)","v":2.6}]
[null,null,{"$f":"HLOOKUP($I$10,Constraints!$Q$203:AD263,A435,TRUE)","v":{"$error":"#N/A"}},{"$f":"INDEX(Constraints!$P$203:$P$234,A435,)","v":2.4}]
[null,null,{"$f":"HLOOKUP($I$10,Constraints!$Q$203:AD264,A436,TRUE)","v":{"$error":"#N/A"}},{"$f":"INDEX(Constraints!$P$203:$P$234,A436,)","v":2.2000000000000002}]
[null,null,{"$f":"HLOOKUP($I$10,Constraints!$Q$203:AD265,A437,TRUE)","v":{"$error":"#N/A"}},{"$f":"INDEX(Constraints!$P$203:$P$234,A437,)","v":2}]

{"sheet":"Configuration 7","index":17,"n_rows":443,"n_cols":113,"rows_kept":443,"cut":false,"hidden":false,"merged":[[87,1,87,2],[88,1,88,2],[89,1,89,2],[97,10,97,12],[69,16,69,21],[69,22,69,23],[70,16,70,21],[70,22,70,23],[71,16,71,21],[71,22,71,23],[68,16,68,21],[68,22,68,23],[17,2,17,8],[18,2,18,8],[19,2,19,8],[20,5,20,7],[41,9,41,10],[46,2,47,2],[4,21,44,28],[48,12,48,19],[55,15,55,16],[55,18,55,19],[55,21,55,22],[67,16,67,23],[4,3,4,4],[9,3,9,4],[9,5,9,6],[10,3,10,4],[10,5,10,6],[8,3,8,4],[8,5,8,6],[12,2,15,4],[12,5,12,6],[13,5,13,6],[14,5,14,6],[11,5,11,6],[1,6,2,7],[1,8,2,8],[1,21,1,37],[2,1,2,4],[2,21,3,28],[2,30,3,37],[3,1,3,4],[3,6,4,7],[3,8,4,8],[4,1,4,2],[4,30,44,37],[5,1,5,2],[5,3,5,4],[6,1,6,7],[7,1,7,4],[7,7,7,8]]}
[]
[null,null,null,null,null,null,"Preferred Schematic View to Display",null,"Standard",null,null,null,null,null,null,null,null,null,null,null,null,"NOTES: "]
[null,"CHARACTERISTICS TO CONSIDER FOR ANALYSIS",null,null,null,null,null,null,null,null,null,null,null,null,null,null,null,null,null,null,null,"ELEMENTS INCREASING SAFETY",null,null,null,null,null,null,null,null,"COMMENTS ON PRIMARY CONSTRAINTS"]
[null,"INPUT INSTRUCTIONS",null,null,null,null,"Relative to",null,"Existing"]
[null,"Blue Boxes -- Select from pulldown options",null,"Select from Pulldown"]
[null,"Yellow Boxes -- Type input information into box",null,"Type Input Value"]
[null," Rural Multi-Lane Road Segment -- Safety Score Input",null,null,null,null,null,null,null,null,null,null,null,null,null,null,null,null,null,null,null,null,null,null,null,null,null,null,null,null,null,null,null,null,null,null,null,null,null,null,null,null,null,null,null,null,null,null,null,null,null,null,null,null,null,null,null,null,null,null,null,null,null,null,null,null,null,null,null,null,null,null,null,null,null,null,null,null,null,null,null,null,null,"Unadjusted Marginal Safety"]
[null,"General Information:",null,null,null,"General Site Features",null,{"$f":" I315 & \" Missing Features and Curves\"","v":"9 Missing Features and Curves"},null,null,null,null,null,null,null,null,null,null,null,null,null,null,null,null,null,null,null,null,null,null,null,null,null,null,null,null,null,null,null,null,null,null,null,null,null,null,null,null,null,null,null,null,null,null,null,null,null,null,null,null,null,null,null,null,null,null,null,null,null,null,null,null,null,null,null,null,null,null,null,null,null,null,null,{"$f":"I2&\" relative to \" &I4","v":"Standard relative to Existing"}]
[null,null,"Analyst:",{"$f":"+'Start Here'!H7","v":0},null,"Location "]
[null,null,"Agency or Company:",{"$f":"+'Start Here'!H8","v":0},null,"Design Speed (mph)"]
[null,null,"Date:",{"$f":"+'Start Here'!H9","v":"00:00:00"},null,"Posted Speed (mph)"]
[null,null,"Description:",null,null,"E max (%)"]
[null,null,"Input additional site information here",null,null,"    Design Year AADT (vehicles per day)"]
[null,null,null,null,null,"    Dist. from Centerline to Left   ROW (feet)"]
[null,null,null,null,null,"    Dist. from Centerline to Right ROW (feet)"]
[]
[null,"Warning:"]
[null,null,{"$f":"+IF(+I11>I10,\"Posted speed exceeds design speed. Optimal safety will only be achieved if design speed exceeds posted speed. The Safety Assessment Score is based on the higher of the two speed values.\",\"No speed warnings identified\")","v":"No speed warnings identified"}]
[null,null,{"$f":"IF(OR(F24=INDEX(MedConf_Header,1,3),+G24=INDEX(MedConf_Header,1,3)), \"Multilane undivided facilities are known to have substantially more collisions than multilane facilities with medians. In new construction a median or TWLTL should be considered.\",\" \")","v":" "},null,null,null,null,null,null,null,null,null,null,null,null,null,null,null,null,null,null,null,null,null,null,null,null,null,null,null,null,null,null,null,null,null,null,null,null,null,null,null,null,null,null,null,null,null,null,null,null,null,null,null,null,null,null,null,null,null,null,null,null,null,null,null,null,null,null,null,null,null,null,null,null,null,null,null,null,null,null,null,null,null,null,null,null,null,null,null,null,null,null,null,null,null,null,null,null,null,null,null,null,null,null,{"$f":"COUNTIF(DB23:DB46,DB20)","v":1}]
[null,null,{"$f":"IF(I13=\"40,001 < AADT < 60,000\", \"Multi-lane Road Should be Divided Due to High AADT Value\",\"\")","v":""},null,null,null,null,null,null,null,null,null,null,null,null,null,null,null,null,null,null,null,null,null,null,null,null,null,null,null,null,null,null,null,null,null,null,null,null,null,null,null,null,null,null,null,null,null,null,null,null,null,null,null,null,null,null,null,null,null,null,null,null,null,null,null,null,null,null,null,null,null,null,null,null,null,null,null,null,null,null,null,null,null,null,null,null,null,null,null,null,null,null,null,null,null,null,null,null,null,null,null,null,null,null,{"$f":"VLOOKUP(0,CZ23:DB46,3,)","v":10.01}]
[null,null,null,"Fill all elements",null,"To enter notes, use boxes to the right of the vortex ",null,null,null,null," "]
[null,{"$f":"+Construction!$I$2&\"  Total Available Points\"","v":"40  Total Available Points"},null,{"$f":" D249 & \" Missing Elements\"","v":"19 Missing Elements"},null,{"$f":" F249 & \" Missing Elements\"","v":"19 Missing Elements"},{"$f":" G249 & \" Missing Elements\"","v":"19 Missing Elements"},null,null,null,null,null,null,null,null,null,null,null,null,null,null,null,null,null,null,null,null,null,null,null,null,null,null,null,null,null,null,null,null,null,null,null,null,null,null,null,null,null,null,null,null,null,null,null,null,null,null,null,null,null,null,null,null,null,null,null,null,null,null,null,null,null,null,null,null,null,null,null,null,null,null,null,null,null,null,null,null,null,null,null,null,null,null,null,null,null,null,null,null,null,null,"Ranked element","CRF","abs","Re-rank","Rank","Ranked CRF","Element","New Element","crf.abs","rank","Sorted Element","Sorted CRF"]
[null,"Geometric Design Elements",null,"Existing","Standard (Based on Multi-lane Divided)","Design 1","Design 2",{"$f":"\"Marginal Safety for \"&$I$2&\" (compared to \" & $I$4 & \")\"","v":"Marginal Safety for Standard (compared to Existing)"},"Optimal (Based on Multi-lane Divided)",null,null,null,null,null,null,null,null,null,null,null,null,null,null,null,null,null,null,null,null,null,null,null,null,null,null,null,null,null,null,null,null,null,null,null,null,null,null,null,null,null,null,null,null,null,null,null,null,null,null,null,null,null,null,null,null,null,null,null,null,null,null,null,null,null,null,null,null,null,null,null,null,null,null,null,null,null,null,null,null,null,null,null,null,null,null,null,null,null,null,null,null,{"$f":"IF(CY23=0,\"\",DB23&\". \"&DD23)","v":""},{"$f":"H24","v":0},{"$f":"ABS(CY23)","v":0},{"$f":"_xlfn.RANK.EQ(DB23,$DB$23:$DB$46,1)","v":10},{"$f":"_xlfn.RANK.EQ(CZ23,$CZ$23:$CZ$46)+DG23/100","v":10.01},{"$f":"CY23","v":0},{"$f":"IF(ROUND(DF23,2)=0,\"\",C24)","v":""},{"$f":"DD23","v":""},{"$f":"CZ23","v":0},1,{"$f":"IFERROR(IF(IFERROR(VLOOKUP(DG23,$DA$23:$DF$46,4,)&\", \"&CY23=0,\"\"),\"\",IFERROR(VLOOKUP(DG23,$DA$23:$DE$46,4,),\"\")),\"\")","v":"Pavement Friction (skid number) ***"},{"$f":"IFERROR(IF(IFERROR(VLOOKUP(DG23,$DA$23:$DF$46,3,)&\", \"&CY23=0,\"\"),\"\",IFERROR(VLOOKUP(DG23,$DA$23:$DE$46,3,),\"\")),\"\")","v":0.28430956017940245}]
[null,null,"Configuration of Multilane Roadway",null,"Divided - Unsurfaced Median",null,null,null,"Divided - Unsurfaced Median",null,null,null,null,null,null,null,null,null,null,null,null,null,null,null,null,null,null,null,null,null,null,null,null,null,null,null,null,null,null,null,null,null,null,null,null,null,null,null,null,null,null,null,null,null,null,null,null,null,null,null,null,null,null,null,null,null,null,null,null,null,null,null,null,null,null,null,null,null,null,null,null,null,null,null,null,null,null,null,null,null,null,null,null,null,null,null,null,null,null,null,null,"5.02. Median Configuration (Width or Type)",{"$f":"H25","v":8.9999999999999969E-2},8.9999999999999969E-2,{"$f":"_xlfn.RANK.EQ(DB24,$DB$23:$DB$46,1)","v":5},{"$f":"_xlfn.RANK.EQ(CZ24,$CZ$23:$CZ$46)+DG24/100","v":5.0199999999999996},{"$f":"CY24","v":8.9999999999999969E-2},{"$f":"IF(ROUND(DF24,2)=0,\"\",C25)","v":"Median Configuration (Width or Type)"},{"$f":"DD24","v":"Median Configuration (Width or Type)"},8.9999999999999969E-2,2,{"$f":"IFERROR(IF(IFERROR(VLOOKUP(DG24,$DA$23:$DF$46,4,)&\", \"&CY24=0,\"\"),\"\",IFERROR(VLOOKUP(DG24,$DA$23:$DE$46,4,),\"\")),\"\")","v":"Driveway Density (driveways per mile)"},{"$f":"IFERROR(IF(IFERROR(VLOOKUP(DG24,$DA$23:$DF$46,3,)&\", \"&CY24=0,\"\"),\"\",IFERROR(VLOOKUP(DG24,$DA$23:$DE$46,3,),\"\")),\"\")","v":-0.22388114201141129}]
[null,null,"Median Configuration (Width or Type)",null,30,null,null,{"$f":"M103","v":8.9999999999999969E-2},100,null,null,null,null,null,null,null,null,null,null,null,null,null,null,null,null,null,null,null,null,null,null,null,null,null,null,null,null,null,null,null,null,null,null,null,null,null,null,null,null,null,null,null,null,null,null,null,null,null,null,null,null,null,null,null,null,null,null,null,null,null,null,null,null,null,null,null,null,null,null,null,null,null,null,null,null,null,null,null,null,null,null,null,null,null,null,null,null,null,null,null,null,"",{"$f":"H27","v":0},0,11,10.029999999999999,{"$f":"CY25","v":0},{"$f":"IF(ROUND(DF25,2)=0,\"\",C27)","v":""},{"$f":"DD25","v":""},0,3,{"$f":"IFERROR(IF(IFERROR(VLOOKUP(DG25,$DA$23:$DF$46,4,)&\", \"&CY25=0,\"\"),\"\",IFERROR(VLOOKUP(DG25,$DA$23:$DE$46,4,),\"\")),\"\")","v":"Average Outside Shoulder Width (feet)"},{"$f":"IFERROR(IF(IFERROR(VLOOKUP(DG25,$DA$23:$DF$46,3,)&\", \"&CY25=0,\"\"),\"\",IFERROR(VLOOKUP(DG25,$DA$23:$DE$46,3,),\"\")),\"\")","v":0.18061674008810569}]
[null,null,null,null,null,null,null,null,null,null,null,null,null,null,null,null,null,null,null,null,null,null,null,null,null,null,null,null,null,null,null,null,null,null,null,null,null,null,null,null,null,null,null,null,null,null,null,null,null,null,null,null,null,null,null,null,null,null,null,null,null,null,null,null,null,null,null,null,null,null,null,null,null,null,null,null,null,null,null,null,null,null,null,null,null,null,null,null,null,null,null,null,null,null,null,null,null,null,null,null,null,null,null,null,null,null,null,null,null,null,4,{"$f":"IFERROR(IF(IFERROR(VLOOKUP(DG26,$DA$23:$DF$46,4,)&\", \"&CY26=0,\"\"),\"\",IFERROR(VLOOKUP(DG26,$DA$23:$DE$46,4,),\"\")),\"\")","v":"Roadside Sideslope (Foreslope)"},{"$f":"IFERROR(IF(IFERROR(VLOOKUP(DG26,$DA$23:$DF$46,3,)&\", \"&CY26=0,\"\"),\"\",IFERROR(VLOOKUP(DG26,$DA$23:$DE$46,3,),\"\")),\"\")","v":0.15697622474810147}]
[null,null,"Lane Width (feet)",null,12,null,null,{"$f":"M104","v":0},12,null,null,null,null,null,null,null,null,null,null,null,null,null,null,null,null,null,null,null,null,null,null,null,null,null,null,null,null,null,null,null,null,null,null,null,null,null,null,null,null,null,null,null,null,null,null,null,null,null,null,null,null,null,null,null,null,null,null,null,null,null,null,null,null,null,null,null,null,null,null,null,null,null,null,null,null,null,null,null,null,null,null,null,null,null,null,null,null,null,null,null,null,null,null,null,null,null,null,null,null,null,5,"Median Configuration (Width or Type)",8.9999999999999969E-2]
[null,null,"Average Outside Shoulder Width (feet)",null,8,null,null,{"$f":"M105","v":0.18061674008810569},10,null,null,null,null,null,null,null,null,null,null,null,null,null,null,null,null,null,null,null,null,null,null,null,null,null,null,null,null,null,null,null,null,null,null,null,null,null,null,null,null,null,null,null,null,null,null,null,null,null,null,null,null,null,null,null,null,null,null,null,null,null,null,null,null,null,null,null,null,null,null,null,null,null,null,null,null,null,null,null,null,null,null,null,null,null,null,null,null,null,null,null,null,{"$f":"IF(CY28=0,\"\",DB28&\". \"&DD28)","v":"3.06. Average Outside Shoulder Width (feet)"},{"$f":"H28","v":0.18061674008810569},{"$f":"ABS(CY28)","v":0.18061674008810569},3,3.06,{"$f":"CY28","v":0.18061674008810569},{"$f":"IF(ROUND(DF28,2)=0,\"\",C28)","v":"Average Outside Shoulder Width (feet)"},{"$f":"DD28","v":"Average Outside Shoulder Width (feet)"},{"$f":"CZ28","v":0.18061674008810569},6,"Roadside Lateral Clearance to Obstruction (ft)",6.4777606999867676E-2]
[null,null,"Average Inside Shoulder Width (feet)",null,4,null,null,{"$f":"M106","v":0},10,null,null,null,null,null,null,null,null,null,null,null,null,null,null,null,null,null,null,null,null,null,null,null,null,null,null,null,null,null,null,null,null,null,null,null,null,null,null,null,null,null,null,null,null,null,null,null,null,null,null,null,null,null,null,null,null,null,null,null,null,null,null,null,null,null,null,null,null,null,null,null,null,null,null,null,null,null,null,null,null,null,null,null,null,null,null,null,null,null,null,null,null,{"$f":"IF(CY29=0,\"\",DB29&\". \"&DD29)","v":""},{"$f":"H33","v":0},{"$f":"ABS(CY29)","v":0},12,10.07,0,{"$f":"IF(ROUND(DF29,2)=0,\"\",\"Hz and Vt Alignment\")","v":""},"",{"$f":"CZ29","v":0},7,"Safety Edge",-2.3424031600265627E-2]
["",null,"Number of Lanes per Direction of Travel",null,2,null,null,null,2,null,null,null,null,null,null,null,null,null,null,null,null,null,null,null,null,null,null,null,null,null,null,null,null,null,null,null,null,null,null,null,null,null,null,null,null,null,null,null,null,null,null,null,null,null,null,null,null,null,null,null,null,null,null,null,null,null,null,null,null,null,null,null,null,null,null,null,null,null,null,null,null,null,null,null,null,null,null,null,null,null,null,null,null,null,null,null,null,null,null,null,null,{"$f":"IF(CY30=0,\"\",DB30&\". \"&DD30)","v":""},{"$f":"H29","v":0},{"$f":"ABS(CY30)","v":0},13,10.08,0,{"$f":"IF(ROUND(DF30,2)=0,\"\",C29)","v":""},"",{"$f":"CZ30","v":0},8,"Shoulder Rumble Strips",2.2875008800570917E-2]
[null,null,"Horizontal Curve Present?","--","--","--","--",null,"--",null,null,null,null,null,null,null,null,null,null,null,null,null,null,null,null,null,null,null,null,null,null,null,null,null,null,null,null,null,null,null,null,null,null,null,null,null,null,null,null,null,null,null,null,null,null,null,null,null,null,null,null,null,null,null,null,null,null,null,null,null,null,null,null,null,null,null,null,null,null,null,null,null,null,null,null,null,null,null,null,null,null,null,null,null,null,null,null,null,null,null,null,{"$f":"IF(CY31=0,\"\",DB31&\". \"&DD31)","v":""},{"$f":"H47","v":0},{"$f":"ABS(CY31)","v":0},14,10.09,0,{"$f":"IF(ROUND(DF31,2)=0,\"\",C47)","v":""},"",{"$f":"CZ31","v":0},9,"Lighting",-1.7096579124742384E-2]
[null,null,"Horizontal Curve Data for Controlling Element:","--","--","--","--",null,"--",null,null,null,null,null,null,null,null,null,null,null,null,null,null,null,null,null,null,null,null,null,null,null,null,null,null,null,null,null,null,null,null,null,null,null,null,null,null,null,null,null,null,null,null,null,null,null,null,null,null,null,null,null,null,null,null,null,null,null,null,null,null,null,null,null,null,null,null,null,null,null,null,null,null,null,null,null,null,null,null,null,null,null,null,null,null,null,null,null,null,null,null,"",{"$f":"H48","v":0},0,15,10.1,0,{"$f":"IF(ROUND(DF32,2)=0,\"\",C48)","v":""},"",0,10,"",0]
[null,null,"  Radius (feet)",null,{"$f":"IF(MAX($I$10,$I$11)<45,590,IF($I$12=6,VLOOKUP(MAX($I$10,$I$11),Construction!$B$27:$D$34,2,TRUE),VLOOKUP(MAX($I$10,$I$11),Construction!$G$27:$I$34,2,TRUE)))","v":590},null,null,{"$f":"M144","v":0},{"$f":"IF(MAX($I$10,$I$11)<45,590,IF($I$12=6,VLOOKUP(MAX($I$10,$I$11),Construction!$B$43:$C$50,2,TRUE),VLOOKUP(MAX($I$10,$I$11),Construction!$G$43:$H$50,2,TRUE)))","v":590},null,null,null,null,null,null,null,null,null,null,null,null,null,null,null,null,null,null,null,null,null,null,null,null,null,null,null,null,null,null,null,null,null,null,null,null,null,null,null,null,null,null,null,null,null,null,null,null,null,null,null,null,null,null,null,null,null,null,null,null,null,null,null,null,null,null,null,null,null,null,null,null,null,null,null,null,null,null,null,null,null,null,null,null,null,null,null,null,null,null,null,null,"",{"$f":"H56","v":0},0,16,10.11,0,{"$f":"IF(ROUND(DF33,2)=0,\"\",C56)","v":""},"",0,11,"",0]
[null,null,"Length of Horizontal Curve (feet)",null,{"$f":"IF(D35=\"\", \"\", E33*E35/57.296)","v":""},null,null,null,{"$f":"I33*I35/57.296","v":3758.5520804244625},null,null,null,null,null,null,null,null,null,null,null,null,null,null,null,null,null,null,null,null,null,null,null,null,null,null,null,null,null,null,null,null,null,null,null,null,null,null,null,null,null,null,null,null,null,null,null,null,null,null,null,null,null,null,null,null,null,null,null,null,null,null,null,null,null,null,null,null,null,null,null,null,null,null,null,null,null,null,null,null,null,null,null,null,null,null,null,null,null,null,null,null,"",0,0,17,10.119999999999999,0,"","",0,12,"",0]
[null,null,"Calculated Deflection Angle ∆",{"$f":"IF(OR(ISBLANK(D33),ISBLANK(D34),$B$31=\"No\",ISBLANK($B$31)),\"\",ROUND(D34/D33*57.296,1))","v":""},{"$f":"IF(ISBLANK(D35), \"\",D35)","v":""},{"$f":"IF(OR(ISBLANK(F33),ISBLANK(F34),$B$31=\"No\",ISBLANK($B$31)),\"\",ROUND(F34/F33*57.296,1))","v":""},{"$f":"IF(OR(ISBLANK(G33),ISBLANK(G34),$B$31=\"No\",ISBLANK($B$31)),\"\",ROUND(G34/G33*57.296,1))","v":""},null,{"$f":"MIN(D35,IF(F37=INDEX(HCurveChange,1,0), F35, 365),IF(G37=INDEX(HCurveChange,1,0), G35, 365))","v":365},null,null,null,null,null,null,null,null,null,null,null,null,null,null,null,null,null,null,null,null,null,null,null,null,null,null,null,null,null,null,null,null,null,null,null,null,null,null,null,null,null,null,null,null,null,null,null,null,null,null,null,null,null,null,null,null,null,null,null,null,null,null,null,null,null,null,null,null,null,null,null,null,null,null,null,null,null,null,null,null,null,null,null,null,null,null,null,null,null,null,null,null,"",0,0,18,10.130000000000001,0,"","",0,13,"",0]
[null,null,null,null,null,"∆ has changed. \nAre you changing the ∆?","∆ has changed. \nAre you changing the ∆?",null,null,null,null,null,null,null,null,null,null,null,null,null,null,null,null,null,null,null,null,null,null,null,null,null,null,null,null,null,null,null,null,null,null,null,null,null,null,null,null,null,null,null,null,null,null,null,null,null,null,null,null,null,null,null,null,null,null,null,null,null,null,null,null,null,null,null,null,null,null,null,null,null,null,null,null,null,null,null,null,null,null,null,null,null,null,null,null,null,null,null,null,null,null,"",0,0,19,10.14,0,"","",0,14,"",0]
[null,null,null,null,null,null,null,null,null,null,null,null,null,null,null,null,null,null,null,null,null,null,null,null,null,null,null,null,null,null,null,null,null,null,null,null,null,null,null,null,null,null,null,null,null,null,null,null,null,null,null,null,null,null,null,null,null,null,null,null,null,null,null,null,null,null,null,null,null,null,null,null,null,null,null,null,null,null,null,null,null,null,null,null,null,null,null,null,null,null,null,null,null,null,null,null,null,null,null,null,null,"8.15. Shoulder Rumble Strips",2.2875008800570917E-2,2.2875008800570917E-2,8,8.15,2.2875008800570917E-2,"Shoulder Rumble Strips","Shoulder Rumble Strips",2.2875008800570917E-2,15,"",0]
[null,null,"Vertical Curve Present?","--","--","--","--",null,{"$f":"E38","v":"--"},null,null,null,null,null,null,null,null,null,null,null,null,null,null,null,null,null,null,null,null,null,null,null,null,null,null,null,null,null,null,null,null,null,null,null,null,null,null,null,null,null,null,null,null,null,null,null,null,null,null,null,null,null,null,null,null,null,null,null,null,null,null,null,null,null,null,null,null,null,null,null,null,null,null,null,null,null,null,null,null,null,null,null,null,null,null,null,null,null,null,null,null,"",0,0,20,10.16,0,"","",0,16,"",0]
[null,null,"Vertical Curve Data for Controlling Element:","--","--","--","--",null,"--",null,null,null,null,null,null,null,null,null,null,null,null,null,null,null,null,null,null,null,null,null,null,null,null,null,null,null,null,null,null,null,null,null,null,null,null,null,null,null,null,null,null,null,null,null,null,null,null,null,null,null,null,null,null,null,null,null,null,null,null,null,null,null,null,null,null,null,null,null,null,null,null,null,null,null,null,null,null,null,null,null,null,null,null,null,null,null,null,null,null,null,null,"2.17. Driveway Density (driveways per mile)",-0.22388114201141129,0.22388114201141129,2,2.17,-0.22388114201141129,{"$f":"IF(DF39=0,\"\",C62)","v":"Driveway Density (driveways per mile)"},"Driveway Density (driveways per mile)",0.22388114201141129,17,"",0]
[null,null,"  Approach (Entry) Grade, G1 (%)",null,{"$f":"IF(ISBLANK(D40),\"\", D40)","v":""},null,null,null,{"$f":"IF(B38=\"Yes\",I231,I241)","v":""},null,null,null,null,null,null,null,null,null,null,null,null,null,null,null,null,null,null,null,null,null,null,null,null,null,null,null,null,null,null,null,null,null,null,null,null,null,null,null,null,null,null,null,null,null,null,null,null,null,null,null,null,null,null,null,null,null,null,null,null,null,null,null,null,null,null,null,null,null,null,null,null,null,null,null,null,null,null,null,null,null,null,null,null,null,null,null,null,null,null,null,null,"9.18. Lighting",-1.7096579124742384E-2,1.7096579124742384E-2,9,9.18,-1.7096579124742384E-2,{"$f":"IF(DF40=0,\"\",C63)","v":"Lighting"},"Lighting",1.7096579124742384E-2,18,"",0]
[null,null,"  Departure (Exit) Grade, G2 (%)",null,{"$f":"IF(ISBLANK(D41),\"\", D41)","v":""},null,null,null,{"$f":"IF($B$38=\"Yes\",I232,\"\")","v":""},null,null,null,null,null,null,null,null,null,null,null,null,null,null,null,null,null,null,null,null,null,null,null,null,null,null,null,null,null,null,null,null,null,null,null,null,null,null,null,null,null,null,null,null,null,null,null,null,null,null,null,null,null,null,null,null,null,null,null,null,null,null,null,null,null,null,null,null,null,null,null,null,null,null,null,null,null,null,null,null,null,null,null,null,null,null,null,null,null,null,null,null,"1.19. Pavement Friction (skid number) ***",0.28430956017940245,0.28430956017940245,1,1.19,0.28430956017940245,{"$f":"IF(DF41=0,\"\",C64)","v":"Pavement Friction (skid number) ***"},"Pavement Friction (skid number) ***",0.28430956017940245,19,"",0]
[null,null,"  Length (feet)",null,{"$f":"IF(AND($B$38=\"Yes\", D43<>\"\"), ABS(E40-E41)*D43, \"\")","v":""},null,null,null,{"$f":"IF(AND($B$38=\"Yes\",I40<>\"\",I41<>\"\", NOT(ISBLANK($I$10)), NOT(ISBLANK($I$11))),ABS(I41-I40)*I43,\"\")","v":""},null,null,null,null,null,null,null,null,null,null,null,null,null,null,null,null,null,null,null,null,null,null,null,null,null,null,null,null,null,null,null,null,null,null,null,null,null,null,null,null,null,null,null,null,null,null,null,null,null,null,null,null,null,null,null,null,null,null,null,null,null,null,null,null,null,null,null,null,null,null,null,null,null,null,null,null,null,null,null,null,null,null,null,null,null,null,null,null,null,null,null,null,"4.2. Roadside Sideslope (Foreslope)",{"$f":"H75","v":0.15697622474810147},0.15697622474810147,4,4.2,0.15697622474810147,{"$f":"IF(DF42=0,\"\",C75)","v":"Roadside Sideslope (Foreslope)"},"Roadside Sideslope (Foreslope)",0.15697622474810147,20,"",0]
[null,null,"  Calculated Rate of Change, K (ft/ft)",{"$f":"IF(OR($B$38=\"No\",ISBLANK($B$38), ISBLANK(D40), ISBLANK(D41),ISBLANK(D42), D40=D41), \"\", ROUND(D42/(ABS(D41-D40)),1))","v":""},{"$f":"IF(AND($B$38=\"Yes\", NOT(ISBLANK($I$10)), NOT(ISBLANK($I$11)), D43<>\"\"), IF($E$46=\"Crest\",  VLOOKUP(MAX($I$10,$I$11),Construction!$B$159:$D$171,2,TRUE), VLOOKUP(MAX($I$10,$I$11),Construction!$B$159:$D$171,3,TRUE)), \"\")","v":""},{"$f":"IF(AND($B$38=\"Yes\", SUM(F267:F269)=0),ROUND(F42/(ABS(F41-F40)),1),\"\")","v":""},{"$f":"IF(AND($B$38=\"Yes\", SUM(G267:G269)=0),ROUND(G42/(ABS(G41-G40)),1),\"\")","v":""},null,{"$f":"IF(OR($B$38<>\"Yes\", ISBLANK($I$10), ISBLANK($I$11), $I$40=\"\", $I$41=\"\", $I$46=\"--\", ISBLANK($I$46)),\"\",IF(I$46=\"Crest\",VLOOKUP(MAX($I$10,$I$11),Construction!$B$177:$D$189,2,TRUE),VLOOKUP(MAX($I$10,$I$11),Construction!$B$177:$D$189,3,TRUE)))","v":""},null,null,null,null,null,null,null,null,null,null,null,null,null,null,null,null,null,null,null,null,null,null,null,null,null,null,null,null,null,null,null,null,null,null,null,null,null,null,null,null,null,null,null,null,null,null,null,null,null,null,null,null,null,null,null,null,null,null,null,null,null,null,null,null,null,null,null,null,null,null,null,null,null,null,null,null,null,null,null,null,null,null,null,null,null,null,null,null,null,null,null,null,"",{"$f":"H76","v":0},0,21,10.210000000000001,0,{"$f":"IF(DF43=0,\"\",C76)","v":""},"",0,21,"",0]
[null,null,null,null,null,"Are you changing the geometry?","Are you changing the geometry?",null,null,null,null,null,null,null,null,null,null,null,null,null,null,null,null,null,null,null,null,null,null,null,null,null,null,null,null,null,null,null,null,null,null,null,null,null,null,null,null,null,null,null,null,null,null,null,null,null,null,null,null,null,null,null,null,null,null,null,null,null,null,null,null,null,null,null,null,null,null,null,null,null,null,null,null,null,null,null,null,null,null,null,null,null,null,null,null,null,null,null,null,null,null,"7.22. Safety Edge",{"$f":"H77","v":-2.3424031600265627E-2},2.3424031600265627E-2,7,7.22,-2.3424031600265627E-2,{"$f":"IF(DF44=0,\"\",C77)","v":"Safety Edge"},"Safety Edge",2.3424031600265627E-2,22,"",0]
[null,null,null,null,null,null,null,null,null,null,null,null,null,null,null,null,null,null,null,null,null,null,null,null,null,null,null,null,null,null,null,null,null,null,null,null,null,null,null,null,null,null,null,null,null,null,null,null,null,null,null,null,null,null,null,null,null,null,null,null,null,null,null,null,null,null,null,null,null,null,null,null,null,null,null,null,null,null,null,null,null,null,null,null,null,null,null,null,null,null,null,null,null,null,null,null,null,null,null,null,null,"6.23. Roadside Lateral Clearance to Obstruction (ft)",{"$f":"H78","v":6.4777606999867676E-2},6.4777606999867676E-2,6,6.23,6.4777606999867676E-2,{"$f":"IF(DF45=0,\"\",C78)","v":"Roadside Lateral Clearance to Obstruction (ft)"},"Roadside Lateral Clearance to Obstruction (ft)",6.4777606999867676E-2,23,"",{"$f":"IFERROR(IF(IFERROR(VLOOKUP(DG45,$DA$23:$DF$46,3,)&\", \"&CY45=0,\"\"),\"\",IFERROR(VLOOKUP(DG45,$DA$23:$DE$46,3,),\"\")),\"\")","v":""}]
[null,null,"  Calculated Sag or Crest?",{"$f":"IF(AND($B$38=\"Yes\", SUM(D267:D269)=0),IF(D40>D41,\"Crest\",\"Sag\"),\"--\")","v":"--"},{"$f":"IF(AND($B$38=\"Yes\", SUM(D267:D269)=0),IF(E40>E41,\"Crest\",\"Sag\"),\"--\")","v":"--"},{"$f":"IF(AND($B$38=\"Yes\", SUM(F267:F269)=0),IF(F40>F41,\"Crest\",\"Sag\"),\"--\")","v":"--"},{"$f":"IF(AND($B$38=\"Yes\", SUM(G267:G269)=0),IF(G40>G41,\"Crest\",\"Sag\"),\"--\")","v":"--"},null,{"$f":"IF($B$38=\"Yes\",IF(I40>I41,\"Crest\",\"Sag\"),\"--\")","v":"--"},null,null,null,null,null,null,null,null,null,null,null,null,null,null,null,null,null,null,null,null,null,null,null,null,null,null,null,null,null,null,null,null,null,null,null,null,null,null,null,null,null,null,null,null,null,null,null,null,null,null,null,null,null,null,null,null,null,null,null,null,null,null,null,null,null,null,null,null,null,null,null,null,null,null,null,null,null,null,null,null,null,null,null,null,null,null,null,null,null,null,null,null,"",{"$f":"H79","v":0},0,22,10.24,0,{"$f":"IF(DF46=0,\"\",C79)","v":""},"",0,24,"",{"$f":"IFERROR(IF(IFERROR(VLOOKUP(DG46,$DA$23:$DF$46,3,)&\", \"&CY46=0,\"\"),\"\",IFERROR(VLOOKUP(DG46,$DA$23:$DE$46,3,),\"\")),\"\")","v":""}]
[]
[]
[null,null,"Geometric Design Element (Partial Score)",{"$f":"IF(OR(SUM(D251:D252,D254:D257,D260:D261,D267:D269)>0, ISERR(D129)),\"\",D129)","v":""},{"$f":"IF(OR(SUM(E251:E252,E254:E257,E260:E261,E267:E269)>0, ISERR(E129)),\"\",E129)","v":""},"","",null,{"$f":"IF(OR(SUM(I251:I252,I254:I257,I260:I261,I267:I269)>0, ISERR(I129)),\"\",I129)","v":""},null,null,null,"SCHEMATIC REPRESENTING INPUT DATA FOR ",null,null,null,null,null,null,null,{"$f":"IF($I$2=\"Existing\",\"EXISTING CONFIGURATION\",IF($I$2=\"Standard\",\"STANDARD OPTION\",IF($I$2=\"Design 1\",\"DESIGN 1 OPTION\",IF($I$2=\"Design 2\",\"DESIGN 2 OPTION\",\"OPTIMAL OPTION\"))))","v":"STANDARD OPTION"}]
[null,null,"Total Safety Score",{"$f":"IF(OR(D$249>0, $I$315>0, ISERROR(D$205+D$175+D$129)),\"\",D$205+D$175+D$129)","v":""},{"$f":"IF(OR(E$249>0, $I$315>0, ISERROR(E$205+E$175+E$129)),\"\",E$205+E$175+E$129)","v":""},{"$f":"IF(OR(F$249>0, $I$315>0, ISERROR(F$205+F$175+F$129)),\"\",F$205+F$175+F$129)","v":""},{"$f":"IF(OR(G$249>0, $I$315>0, ISERROR(G$205+G$175+G$129)),\"\",G$205+G$175+G$129)","v":""},null,{"$f":"IF(OR(I$249>0, $I$315>0, ISERROR(I$205+I$175+I$129)),\"\",I$205+I$175+I$129)","v":""}]
[null,null,null,null,null,null,null,null,null,null,null,"LT",null,null,null,null,null,null,null,null,null,null,null,null,null,null,"RT"]
[null,null,null,null,null,null,null,null,null,null,null,"R/W",null,null,null,null,null,null,{"$f":"+O54+W54","v":0},null,null,null,null,null,null,null,"R/W"]
[]
[null,{"$f":"+Construction!$I$3&\"  Total Available Points\"","v":"20  Total Available Points"},null,null,null,null,null,null,null,null,null,null,null,null,{"$f":"+$I$14","v":0},null,null,null,null,null,null,null,{"$f":"+$I$15","v":0}]
[null,"Traffic Elements",null,"Existing","Standard","Design 1","Design 2",{"$f":"H23","v":"Marginal Safety for Standard (compared to Existing)"},"Optimal"]
[null,null,"Advance Static Curve Warning Signs",null,"No",null,null,{"$f":"M149","v":0},"Yes",null,null,{"$f":"+O54-N56-P56","v":-32},null,{"$f":"IF(+$I$2=\"Existing\",D28,IF($I$2=\"Standard\",E28,IF($I$2=\"Design 1\",F28,IF($I$2=\"Design 2\",G28,I28))))","v":8},null,{"$f":"IF(+$I$2=\"Existing\",D27*D30,IF($I$2=\"Standard\",E27*E30,IF($I$2=\"Design 1\",F27*F30,IF($I$2=\"Design 2\",G27*G30,I27*I30))))","v":24},null,null,null,null,null,{"$f":"+P56","v":24},null,null,{"$f":"+N56","v":8},{"$f":"+W54-V56-Y56","v":-32}]
[null,null,"Chevron Signs on Horizontal Curves",null,"No",null,null,{"$f":"M150","v":0},"Yes"]
[null,null,"Post-Mounted Delineators",null,"No",null,null,{"$f":"M151","v":0},"Yes"]
[null,null,"Edgeline Pavement Markings or Profile Markings",null,"No",null,null,{"$f":"M152","v":0},"Yes"]
[null,null,"Shoulder Rumble Strips",null,"Yes",null,null,{"$f":"M154","v":2.2875008800570917E-2},"Yes"]
[null,null,"Centerline Rumble Strips",null,"No",null,null,{"$f":"M155","v":0},"Yes",null,null,null,null,null,null,null,null,null,"Tangent X-Section"]
[null,null,"Driveway Density (driveways per mile)",null,10,null,null,{"$f":"M156","v":-0.22388114201141129},0]
[null,null,"Lighting",null,"No",null,null,{"$f":"M157","v":-1.7096579124742384E-2},"Yes"]
[null,null,"Pavement Friction (skid number) ***",null,37,null,null,{"$f":"M158","v":0.28430956017940245},54]
[null,null,"Traffic Control Element (Partial Score):",{"$f":"IF(ISERROR(D175), \"\", D175)","v":12},{"$f":"IF(ISERROR(E175), \"\", E175)","v":14},"","",null,{"$f":"IF(ISERROR(I175), \"\", I175)","v":20}]
[null,null,"Total Safety Score",{"$f":"IF(OR(D$249>0, $I$315>0, ISERROR(D$205+D$175+D$129)),\"\",D$205+D$175+D$129)","v":""},{"$f":"IF(OR(E$249>0, $I$315>0, ISERROR(E$205+E$175+E$129)),\"\",E$205+E$175+E$129)","v":""},"","",null,{"$f":"IF(OR(I$249>0, $I$315>0, ISERROR(I$205+I$175+I$129)),\"\",I$205+I$175+I$129)","v":""}]
[null,null,null,null,null,null,null,null,null,null," "]
[null,null,"*** Pavement friction/skid numbers will not be subject to open records requests ***",null,null,null,null,null,null,null,null,null,null,null,null,null,{"$f":"IF($I$2=\"Existing\",\"SCORE SUMMARY FOR EXISTING CONFIGURATION\", IF($I$2=\"Standard\",\"SCORE SUMMARY FOR STANDARD OPTION\",IF($I$2=\"Design 1\",\"SCORE SUMMARY FOR DESIGN 1 OPTION\",IF($I$2=\"Design 2\",\"SCORE SUMMARY FOR DESIGN 2 OPTION\", \"SCORE SUMMARY FOR OPTIMAL OPTION\"))))","v":"SCORE SUMMARY FOR STANDARD OPTION"}]
[null,null,null,null,null,null,null,null,null,null,null,null,null,null,null,null,"GEOMETRIC DESIGN:",null,null,null,null,null,{"$f":"IF($I$2=\"Existing\",D49,IF($I$2=\"Standard\",E49,IF($I$2=\"Design 1\",F49,IF($I$2=\"Design 2\",G49,I49))))","v":""}]
[null,null,null,null,null,null,null,null,null,null,null,null,null,null,null,null,"TRAFFIC CONTROL:",null,null,null,null,null,{"$f":"IF($I$2=\"Existing\",D65,IF($I$2=\"Standard\",E65,IF($I$2=\"Design 1\",F65,IF($I$2=\"Design 2\",G65,I65))))","v":14}]
[null,null,null,null,null,null,null,null,null,null,null,null,null,null,null,null,"ROADSIDE:",null,null,null,null,null,{"$f":"IF($I$2=\"Existing\",D80,IF($I$2=\"Standard\",E80,IF($I$2=\"Design 1\",F80,IF($I$2=\"Design 2\",G80,I80))))","v":27}]
[null,null,null,null,null,null,null,null,null,null,null,null,null,null,null,null,"OVERALL SAFETY SCORE:",null,null,null,null,null,{"$f":"SUM(W69:X71)","v":41}]
[null,{"$f":"+Construction!$I$4&\"  Total Available Points\"","v":"40  Total Available Points"}]
[null,"Roadside  Elements",null,"Existing","Standard","Design 1","Design 2",{"$f":"H23","v":"Marginal Safety for Standard (compared to Existing)"},"Optimal"]
[null,null,"Roadside Sideslope (Foreslope)",null,"1V:4H",null,null,{"$f":"M184","v":0.15697622474810147},"1V:6H"]
[null,null,"Roadside Backslope",null,{"$f":"E75","v":"1V:4H"},null,null,{"$f":"M185","v":0},"1V:4H"]
[null,null,"Safety Edge",null,"No",null,null,-2.3424031600265627E-2,"Yes"]
[null,null,"Roadside Lateral Clearance to Obstruction (ft)",null,30,null,null,6.4777606999867676E-2,40]
[null,null,"Roadside Obstruction Type",null,"None",null,null,0,"None/Removed"]
[null,null,"Roadside Element (Partial Score):",{"$f":"IF(ISERR(D205),\"\",D205)","v":20},{"$f":"IF(ISERR(E205),\"\",E205)","v":27},20,20,null,{"$f":"IF(ISERR(I205),\"\",I205)","v":40},null,null,null,null,null,null,null,null,null,null,null,null,null,null," "]
[null,null,"Total Safety Score",{"$f":"IF(OR(D$249>0, $I$315>0, ISERROR(D$205+D$175+D$129)),\"\",D$205+D$175+D$129)","v":""},{"$f":"IF(OR(E$249>0, $I$315>0, ISERROR(E$205+E$175+E$129)),\"\",E$205+E$175+E$129)","v":""},"","",null,{"$f":"IF(OR(I$249>0, $I$315>0, ISERROR(I$205+I$175+I$129)),\"\",I$205+I$175+I$129)","v":""}]
[]
[]
[]
[]
[null,"ADDITIONAL SIDESLOPE INFORMATION"]
[null,null,"Distance to Slope Toe from Shoulder (ft)",null,{"$f":"D87","v":0},{"$f":"E87","v":0},0,null,{"$f":"G87","v":0}]
[null,"Minimum foreslope feasible within current ROW",null,null,{"$f":"IF(OR(ISBLANK($D$87), ISERROR(E209)), \"\", \"1V:\"&E209&\"H\")","v":""},{"$f":"IF(OR(ISBLANK($D$87), ISERROR(F209)), \"\", \"1V:\"&F209&\"H\")","v":""},{"$f":"IF(OR(ISBLANK($D$87), ISERROR(G209)), \"\", \"1V:\"&G209&\"H\")","v":""},null,{"$f":"IF(OR(ISBLANK($D$87), ISERROR(I209)), \"\", \"1V:\"&I209&\"H\")","v":""}]
[null,"Additional R/W needed on left side",null,null,{"$f":"IF(OR(ISBLANK($D$87), ISERROR(E213)),\"\", MAX(E213,E216))","v":""},{"$f":"IF(OR(ISBLANK($D$87), ISERROR(F213)), \"\", MAX(F213,F216))","v":""},{"$f":"IF(OR(ISBLANK($D$87), ISERROR(G213)),\"\", MAX(G213,G216))","v":""},null,{"$f":"IF(OR(ISBLANK($D$87), ISERROR(I213)),\"\", MAX(I213,I216))","v":""}]
[null,"Additional R/W needed on right side",null,null,{"$f":"IF(OR(ISBLANK($D$87), ISERROR(E214)), \"\", MAX(E214,E217))","v":""},{"$f":"IF(OR(ISBLANK($D$87), ISERROR(F214)), \"\", MAX(F214,F217))","v":""},{"$f":"IF(OR(ISBLANK($D$87), ISERROR(G214)),\"\", MAX(G214,G217))","v":""},null,{"$f":"IF(OR(ISBLANK($D$87), ISERROR(I214)),\"\", MAX(I214,I217))","v":""}]
[]
[]
[]
[]
[]
[]
[]
[null,null,null,{"$f":"GetCMF_MED(D24,D25,2000,D28)","v":1},null,null,null,null,null,{"$f":"1-I104/E104","v":0},"For Plot"]
[null,null,null,null,null,null,null,null,null,{"$f":"1-I105/E105","v":3.2258064516129115E-2},"relative to","Prefer"]
[null,null,null,{"$f":"MAX(SUM(D107:D111)-5,$I$100)","v":{"$error":"#VALUE!"}},{"$f":"MAX(SUM(E107:E111)-5,$I$100)","v":{"$error":"#VALUE!"}},{"$error":"#VALUE!"},{"$error":"#VALUE!"},null,{"$f":"SUM(I107:I111)-5","v":{"$error":"#VALUE!"}},{"$f":"1-I106/E106","v":0.14444080962898154},{"$f":"MATCH(K101,ModView,0)","v":1},{"$f":"MATCH(L101,ModView,0)","v":2}]
[null,"Geometric",null,null,null,null,null,null,null,{"$f":"1-I107/E107","v":{"$error":"#VALUE!"}},{"$f":"I4","v":"Existing"},{"$f":"I2","v":"Standard"},"%"]
[null,null,"Divided versus Undivided",1,1,1,1,null,1,null,{"$f":"INDEX($D102:$I102,K$100)","v":1},{"$f":"INDEX($D102:$I102,L$100)","v":1},{"$f":"IF(ISERROR(1-L102/K102), 0, 1-L102/K102)","v":0}]
[null,null,"Median Width",{"$f":"GetCMF_MED(D24,D25,$I$13,D28)","v":1},{"$f":"GetCMF_MED(E24,E25,$I$13,E28)","v":0.91},{"$f":"GetCMF_MED(F24,F25,$I$13,F28)","v":1},{"$f":"GetCMF_MED(G24,G25,$I$13,G28)","v":1},{"$f":"H25","v":8.9999999999999969E-2},{"$f":"GetCMF_MED(I24,I25,$I$13,I28)","v":0.66},null,{"$f":"INDEX($D103:$I103,K$100)","v":1},{"$f":"INDEX($D103:$I103,L$100)","v":0.91},{"$f":"IF(ISERROR(1-L103/K103), 0, 1-L103/K103)","v":8.9999999999999969E-2}]
[null,null,"LW CMF",{"$f":"IF(D24=INDEX(MedConf_Header,1,2),VLOOKUP(+D27,Construction!$N$30:$O$36,2),VLOOKUP(D27,Construction!$I$15:$J$21,2))","v":{"$error":"#N/A"}},{"$f":"IF(E24=INDEX(MedConf_Header,1,2),VLOOKUP(+E27,Construction!$N$30:$O$36,2),VLOOKUP(E27,Construction!$I$15:$J$21,2))","v":1},{"$f":"IF(F24=INDEX(MedConf_Header,1,2),VLOOKUP(+F27,Construction!$N$30:$O$36,2),VLOOKUP(F27,Construction!$I$15:$J$21,2))","v":{"$error":"#N/A"}},{"$f":"IF(G24=INDEX(MedConf_Header,1,2),VLOOKUP(+G27,Construction!$N$30:$O$36,2),VLOOKUP(G27,Construction!$I$15:$J$21,2))","v":{"$error":"#N/A"}},{"$f":"H27","v":0},{"$f":"IF(I24=INDEX(MedConf_Header,1,2),VLOOKUP(+I27,Construction!$N$30:$O$36,2),VLOOKUP(I27,Construction!$I$15:$J$21,2))","v":1},null,{"$f":"INDEX($D104:$I104,K$100)","v":{"$error":"#N/A"}},{"$f":"INDEX($D104:$I104,L$100)","v":1},0,null,0]
[null,null,"SW CMF",{"$f":"IF(D24=INDEX(MedConf_Header,1,2),VLOOKUP(D28,Construction!$C$11:D21,2),(VLOOKUP(D28,Construction!$O$43:$P$53,2)-1)*0.27+1)","v":1.135},{"$f":"IF(E24=INDEX(MedConf_Header,1,2),VLOOKUP(E28,Construction!$C$11:E21,2),(VLOOKUP(E28,Construction!$O$43:$P$53,2)-1)*0.27+1)","v":0.93},{"$f":"IF(F24=INDEX(MedConf_Header,1,2),VLOOKUP(F28,Construction!$C$11:F21,2),(VLOOKUP(F28,Construction!$O$43:$P$53,2)-1)*0.27+1)","v":1.135},{"$f":"IF(G24=INDEX(MedConf_Header,1,2),VLOOKUP(G28,Construction!$C$11:G21,2),(VLOOKUP(G28,Construction!$O$43:$P$53,2)-1)*0.27+1)","v":1.135},{"$f":"IF($I$2=\"Existing\",(1-D105/E105),(IF($I$2=\"Design 1\",(1-F105/E105),(IF($I$2=\"Design 2\",(1-G105/E105),(IF($I$2=\"Optimal\",(1-I105/E105),0)))))))","v":0},{"$f":"IF(I24=INDEX(MedConf_Header,1,2),VLOOKUP(I28,Construction!$C$11:I21,2),(VLOOKUP(I28,Construction!$O$43:$P$53,2)-1)*0.27+1)","v":0.9},null,{"$f":"INDEX($D105:$I105,K$100)","v":1.135},{"$f":"INDEX($D105:$I105,L$100)","v":0.93},0.18061674008810569,null,0.15503875968992242]
[null,null,"Inside Shoulder Width",{"$f":"IF(AND(D24=INDEX(MedConf_Header,1,2), NOT(ISBLANK(D29))), EXP(-0.026*(D29-4)), 1)","v":1},{"$f":"IF(AND(E24=INDEX(MedConf_Header,1,2), NOT(ISBLANK(E29))), EXP(-0.026*(E29-4)), 1)","v":1},{"$f":"IF(AND(F24=INDEX(MedConf_Header,1,2), NOT(ISBLANK(F29))), EXP(-0.026*(F29-4)), 1)","v":1},{"$f":"IF(AND(G24=INDEX(MedConf_Header,1,2), NOT(ISBLANK(G29))), EXP(-0.026*(G29-4)), 1)","v":1},0,{"$f":"IF(AND(I24=INDEX(MedConf_Header,1,2), NOT(ISBLANK(I29))), EXP(-0.026*(I29-4)), 1)","v":0.85555919037101846},null,{"$f":"INDEX($D106:$I106,K$100)","v":1},{"$f":"INDEX($D106:$I106,L$100)","v":1},0,null,0]
[null,null,"HC and Grade",{"$f":"D$138^D$131","v":1},{"$f":"E$138^E$131","v":1},1,1,0,{"$f":"I$138^I$131","v":{"$error":"#VALUE!"}},null,{"$f":"INDEX($D107:$I107,K$100)","v":1},{"$f":"INDEX($D107:$I107,L$100)","v":1},0,null,0]
[null,null,"HC and VC Crest type I",{"$f":"D$139^D$132","v":1},{"$f":"E$139^E$132","v":1},1,1,0,{"$f":"I$139^I$132","v":{"$error":"#VALUE!"}},null,{"$f":"INDEX($D108:$I108,K$100)","v":1},{"$f":"INDEX($D108:$I108,L$100)","v":1},0,null,0]
[null,null,"HC and VC Sag type I",{"$f":"D$140^D$133","v":1},{"$f":"E$140^E$133","v":1},1,1,0,{"$f":"I$140^I$133","v":{"$error":"#VALUE!"}},{"$f":"1-I115/E115","v":{"$error":"#VALUE!"}},{"$f":"INDEX($D109:$I109,K$100)","v":1},{"$f":"INDEX($D109:$I109,L$100)","v":1},0,null,0]
[null,null,"HC and VC Crest type II",{"$f":"D$141^D$134","v":1},{"$f":"E$141^E$134","v":1},1,1,0,{"$f":"I$141^I$134","v":{"$error":"#VALUE!"}},{"$f":"1-I116/E116","v":{"$error":"#VALUE!"}},{"$f":"INDEX($D110:$I110,K$100)","v":1},{"$f":"INDEX($D110:$I110,L$100)","v":1},0,null,0]
[null,null,"HC and VC Sag type II",{"$f":"D$142^D$135","v":1},{"$f":"E$142^E$135","v":1},1,1,0,{"$f":"I$142^I$135","v":{"$error":"#VALUE!"}},{"$f":"1-I117/E117","v":{"$error":"#VALUE!"}},{"$f":"INDEX($D111:$I111,K$100)","v":1},{"$f":"INDEX($D111:$I111,L$100)","v":1},0,null,0]
[null,null,"Add TWLTL",{"$f":"IF(D$47=\"No\",1,CMFs!$F$17)","v":0.71},{"$f":"IF(E$47=\"No\",1,CMFs!$F$17)","v":0.71},{"$f":"IF(F$47=\"No\",1,CMFs!$F$17)","v":0.71},{"$f":"IF(G$47=\"No\",1,CMFs!$F$17)","v":0.71},0,{"$f":"IF(I$47=\"No\",1,CMFs!$F$17)","v":0.71},{"$f":"1-I118/E118","v":{"$error":"#VALUE!"}},{"$f":"INDEX($D112:$I112,K$100)","v":0.71},{"$f":"INDEX($D112:$I112,L$100)","v":0.71},0,null,0]
[null,null,"Provide passing lane",{"$f":"IF(D$48=\"No\",1,CMFs!$F$21)","v":0.75},{"$f":"IF(E$48=\"No\",1,CMFs!$F$21)","v":0.75},{"$f":"IF(F$48=\"No\",1,CMFs!$F$21)","v":0.75},{"$f":"IF(G$48=\"No\",1,CMFs!$F$21)","v":0.75},0,{"$f":"IF(I$48=\"No\",1,CMFs!$F$21)","v":0.75},{"$f":"I119/E119","v":{"$error":"#VALUE!"}},{"$f":"INDEX($D113:$I113,K$100)","v":0.75},{"$f":"INDEX($D113:$I113,L$100)","v":0.75},0,null,0]
[]
[null,null,"COMBINED Calculated CMF",{"$f":"+D104*D105*D106*D107*D108*D109*D110*D111*D112*D113*D103*D102","v":{"$error":"#N/A"}},{"$f":"+E104*E105*E106*E107*E108*E109*E110*E111*E112*E113*E103*E102","v":0.45065475000000005},{"$error":"#N/A"},{"$error":"#N/A"},{"$f":"IF($I$2=\"Existing\",(D115),(IF($I$2=\"Design 1\",(F115),(IF($I$2=\"Design 2\",(G115),(IF($I$2=\"Optimal\",(I115),E115)))))))","v":0.45065475000000005},{"$f":"+I104*I105*I106*I107*I108*I109*I110*I111*I112*I113*I103*I102","v":{"$error":"#VALUE!"}},null,{"$f":"INDEX($D115:$I115,K$100)","v":{"$error":"#N/A"}},{"$f":"INDEX($D115:$I115,L$100)","v":0.45065475000000005},{"$f":"IF(ISERROR(1-L115/K115), 0, 1-L115/K115)","v":0},null,0]
[null,null,"Calculated Relative to Design Standards (Column E)",{"$f":"+D115/$E$115","v":{"$error":"#N/A"}},1,{"$error":"#N/A"},{"$error":"#N/A"},1,{"$error":"#VALUE!"},null,{"$f":"INDEX($D116:$I116,K$100)","v":{"$error":"#N/A"}},{"$f":"INDEX($D116:$I116,L$100)","v":1},0,null,0]
[null,null,"P(Crash)",{"$f":"+D116/(D116+1)","v":{"$error":"#N/A"}},0.5,{"$error":"#N/A"},{"$error":"#N/A"},0.5,{"$error":"#VALUE!"},null,{"$f":"INDEX($D117:$I117,K$100)","v":{"$error":"#N/A"}},{"$f":"INDEX($D117:$I117,L$100)","v":0.5},0,null,0]
[null,null,"Factor Change on S curve",{"$f":"+D117/$E$117","v":{"$error":"#N/A"}},1,{"$error":"#N/A"},{"$error":"#N/A"},1,{"$error":"#VALUE!"},null,{"$f":"INDEX($D118:$I118,K$100)","v":{"$error":"#N/A"}},{"$f":"INDEX($D118:$I118,L$100)","v":1},0,null,0]
[null,null,"Adjust to Scale of 100",{"$f":"+$I$118/D118*100","v":{"$error":"#VALUE!"}},{"$error":"#VALUE!"},{"$error":"#VALUE!"},{"$error":"#VALUE!"},{"$error":"#VALUE!"},{"$error":"#VALUE!"},null,{"$f":"INDEX($D119:$I119,K$100)","v":{"$error":"#VALUE!"}},{"$f":"INDEX($D119:$I119,L$100)","v":{"$error":"#VALUE!"}},0]
[null,null,"Unadjusted Combined Relative to Standard",{"$f":"+D115/$E$115","v":{"$error":"#N/A"}},1,{"$error":"#N/A"},{"$error":"#N/A"},1,{"$error":"#VALUE!"},{"$f":"I126/E126","v":{"$error":"#VALUE!"}},{"$f":"INDEX($D120:$I120,K$100)","v":{"$error":"#N/A"}},{"$f":"INDEX($D120:$I120,L$100)","v":1},0,null,0]
[]
[null,null,"Adjusted for PA Basis",{"$f":"+D115*(1+1)/(1+D115*1)","v":{"$error":"#N/A"}},0.62131220402373488,{"$error":"#N/A"},{"$error":"#N/A"},{"$f":"IF($I$2=\"Existing\",(D122),(IF($I$2=\"Design 1\",(F122),(IF($I$2=\"Design 2\",(G122),(IF($I$2=\"Optimal\",(I122),E122)))))))","v":0.62131220402373488},{"$error":"#VALUE!"},null,{"$f":"INDEX($D122:$I122,K$100)","v":{"$error":"#N/A"}},{"$f":"INDEX($D122:$I122,L$100)","v":0.62131220402373488},{"$f":"IF(ISERROR(1-L122/K122), 0, 1-L122/K122)","v":0},null,0]
[null,null,"Corrected by Odds Ratio",{"$f":"+D122/$E$122","v":{"$error":"#N/A"}},1,{"$error":"#N/A"},{"$error":"#N/A"},{"$f":"IF($I$2=\"Existing\",(D123),(IF($I$2=\"Design 1\",(F123),(IF($I$2=\"Design 2\",(G123),(IF($I$2=\"Optimal\",(I123),E123)))))))","v":1},{"$error":"#VALUE!"},{"$f":"I129/E129","v":{"$error":"#VALUE!"}},{"$f":"INDEX($D123:$I123,K$100)","v":{"$error":"#N/A"}},{"$f":"INDEX($D123:$I123,L$100)","v":1},0,null,0]
[null,null,"Pinned s",{"$f":"(1/D123)^$D127","v":{"$error":"#N/A"}},{"$f":"(1/E123)^$D127","v":{"$error":"#VALUE!"}},{"$error":"#N/A"},{"$f":"IF(ISERROR((1/G123)^$D127), 0, (1/G123)^$D127)","v":0},{"$error":"#VALUE!"},{"$error":"#VALUE!"},null,{"$f":"INDEX($D124:$I124,K$100)","v":{"$error":"#N/A"}},{"$f":"INDEX($D124:$I124,L$100)","v":{"$error":"#VALUE!"}},0,null,0]
[null,null,null,{"$f":"(D124+$F128-1)/(1+(D124+$F128-1))","v":{"$error":"#N/A"}},{"$f":"(E124+$F128-1)/(1+(E124+$F128-1))","v":{"$error":"#VALUE!"}},{"$error":"#N/A"},0.57142857142857151,{"$error":"#VALUE!"},{"$error":"#VALUE!"},null,{"$f":"INDEX($D125:$I125,K$100)","v":{"$error":"#N/A"}},{"$f":"INDEX($D125:$I125,L$100)","v":{"$error":"#VALUE!"}},0,null,0]
[null,null,"Score Odds Ratio with Optimal (old)",{"$f":"MIN(ROUND($I$123/D123*Construction!$I$2,0),$I126)","v":{"$error":"#VALUE!"}},{"$f":"MIN(ROUND($I$123/E123*Construction!$I$2,0),$I126)","v":{"$error":"#VALUE!"}},{"$f":"MIN(ROUND($I$123/F123*Construction!$I$2,0),$I126)","v":{"$error":"#VALUE!"}},{"$f":"MIN(ROUND($I$123/G123*Construction!$I$2,0),$I126)","v":{"$error":"#VALUE!"}},{"$f":"IF($I$2=\"Existing\",(D126),(IF($I$2=\"Design 1\",(F126),(IF($I$2=\"Design 2\",(G126),(IF($I$2=\"Optimal\",(I126),E126)))))))","v":{"$error":"#VALUE!"}},{"$f":"ROUND($I$123/I123*Construction!$I$2,0)","v":{"$error":"#VALUE!"}}]
[null,null,"Logistic1",{"$f":"LN((D128/(1-D128))/(0.5/0.5))/LN(IF($E123/I123=1,0.999,$E123/I123))","v":{"$error":"#VALUE!"}}]
[null,null,"Logistic Param",0.999,null,{"$f":"0.7/0.3","v":2.3333333333333335}]
[null,null,"Score ",{"$f":"MIN(ROUND(D125*Construction!$I$2,0),$I126)","v":{"$error":"#N/A"}},{"$f":"MIN(ROUND(E125*Construction!$I$2,0),$I126)","v":{"$error":"#VALUE!"}},{"$f":"MIN(ROUND(F125*Construction!$I$2,0),$I126)","v":{"$error":"#N/A"}},{"$f":"MIN(ROUND(G125*Construction!$I$2,0),$I126)","v":{"$error":"#VALUE!"}},{"$f":"MIN(ROUND(H125*Construction!$I$2,0),$I126)","v":{"$error":"#VALUE!"}},{"$f":"MIN(ROUND(I125*Construction!$I$2,0),$I126)","v":{"$error":"#VALUE!"}}]
[]
[null,null,"HC and Grade",{"$f":"IF($B$139,0,1)","v":1},{"$f":"IF($B$139,0,1)","v":1},1,1,{"$f":"IF($I$2=\"Existing\",(D131),(IF($I$2=\"Design 1\",(F131),(IF($I$2=\"Design 2\",(G131),(IF($I$2=\"Optimal\",(I131),E131)))))))","v":1},{"$f":"IF($B$139,0,1)","v":1}]
["HC?",null,"HC and VC Crest type I",{"$f":"IF(AND($B$139=1,SIGN(D$40)=1,ABS(D$40)<=ABS(D$40-D$41),D$46=\"Crest\"),1,0)","v":0},{"$f":"IF(AND($B$139=1,SIGN(IF(ISNUMBER(E$40),E$40,0))=1,\n  ABS(IF(ISNUMBER(E$40),E$40,0))<=ABS(IF(ISNUMBER(E$40),E$40,0)-IF(ISNUMBER(E$41),E$41,0)),E$46=\"Crest\"),\n  1,0)","v":0},{"$f":"IF(AND($B$139=1,SIGN(F$40)=1,ABS(F$40)<=ABS(F$40-F$41),F$46=\"Crest\"),1,0)","v":0},{"$f":"IF(AND($B$139=1,SIGN(G$40)=1,ABS(G$40)<=ABS(G$40-G$41),G$46=\"Crest\"),1,0)","v":0},{"$f":"IF($I$2=\"Existing\",(D132),(IF($I$2=\"Design 1\",(F132),(IF($I$2=\"Design 2\",(G132),(IF($I$2=\"Optimal\",(I132),E132)))))))","v":0},{"$f":"IF(AND($B$138=1,SIGN(I$40)=1,ABS(I$40)<=ABS(I$40-IF(ISNUMBER(I$41), I$41,0)),I$46=\"Crest\"),1,0)","v":{"$error":"#VALUE!"}},null,{"$f":"INDEX($D132:$I132,K$100)","v":0},{"$f":"INDEX($D132:$I132,L$100)","v":0},{"$f":"IF(ISERROR(1-L132/K132), 0, 1-L132/K132)","v":0}]
["VC?",null,"HC and VC Sag type I",{"$f":"IF(AND($B$139=1,SIGN(D$40)=1,ABS(D$40)<=ABS(D$40-D$41),D$46=\"Sag\"),1,0)","v":0},{"$f":"IF(AND($B$139=1,SIGN(IF(ISNUMBER(E$40),E$40,0))=1,\n  ABS(IF(ISNUMBER(E$40),E$40,0))<=ABS(IF(ISNUMBER(E$40),E$40,0)-IF(ISNUMBER(E$41),E$41,0)),E$46=\"Sag\"),\n  1,0)","v":0},{"$f":"IF(AND($B$139=1,SIGN(F$40)=1,ABS(F$40)<=ABS(F$40-F$41),F$46=\"Sag\"),1,0)","v":0},{"$f":"IF(AND($B$139=1,SIGN(G$40)=1,ABS(G$40)<=ABS(G$40-G$41),G$46=\"Sag\"),1,0)","v":0},{"$f":"IF($I$2=\"Existing\",(D133),(IF($I$2=\"Design 1\",(F133),(IF($I$2=\"Design 2\",(G133),(IF($I$2=\"Optimal\",(I133),E133)))))))","v":0},{"$f":"IF(AND($B$138=1,SIGN(I$40)=1,ABS(I$40)<=ABS(I$40-IF(ISNUMBER(I$41), I$41,0)),I$46=\"Sag\"),1,0)","v":{"$error":"#VALUE!"}},null,{"$f":"INDEX($D133:$I133,K$100)","v":0},{"$f":"INDEX($D133:$I133,L$100)","v":0},0]
[null,null,"HC and VC Crest type II",{"$f":"IF(AND($B$139=1,D$46=\"Crest\",D$132=0),1,0)","v":0},{"$f":"IF(AND($B$139=1,E$46=\"Crest\",E$132=0),1,0)","v":0},{"$f":"IF(AND($B$139=1,F$46=\"Crest\",F$132=0),1,0)","v":0},{"$f":"IF(AND($B$139=1,G$46=\"Crest\",G$132=0),1,0)","v":0},{"$f":"IF($I$2=\"Existing\",(D134),(IF($I$2=\"Design 1\",(F134),(IF($I$2=\"Design 2\",(G134),(IF($I$2=\"Optimal\",(I134),E134)))))))","v":0},{"$f":"IF(AND($B$139=1,I$46=\"Crest\",I$132=0),1,0)","v":{"$error":"#VALUE!"}},null,{"$f":"INDEX($D134:$I134,K$100)","v":0},{"$f":"INDEX($D134:$I134,L$100)","v":0},0]
[null,null,"HC and VC Sag type II",{"$f":"IF(AND($B$139=1,D$46=\"Sag\",D$133=0),1,0)","v":0},{"$f":"IF(AND($B$139=1,E$46=\"Sag\",E$133=0),1,0)","v":0},{"$f":"IF(AND($B$139=1,F$46=\"Sag\",F$133=0),1,0)","v":0},{"$f":"IF(AND($B$139=1,G$46=\"Sag\",G$133=0),1,0)","v":0},{"$f":"IF($I$2=\"Existing\",(D135),(IF($I$2=\"Design 1\",(F135),(IF($I$2=\"Design 2\",(G135),(IF($I$2=\"Optimal\",(I135),E135)))))))","v":0},{"$f":"IF(AND($B$139=1,I$46=\"Sag\",I$133=0),1,0)","v":{"$error":"#VALUE!"}},null,{"$f":"INDEX($D135:$I135,K$100)","v":0},{"$f":"INDEX($D135:$I135,L$100)","v":0},0]
[null,"Yes/No"]
[null,null,"HC and VC:"]
[null,{"$f":"IF(B31=\"Yes\",1,0)","v":0},"HC and Grade",{"$f":"IF($B$139=0,\n  EXP(0.042*ABS(D$40)\n    +$B$138*0.16*LN(2*5730/IF(ISNUMBER(D$33),D$33,1))*$B$138\n    +4.16*$B$138/IF(ISNUMBER(D$33),D$33,1)/IF( AND(ISNUMBER(D$34),D$34<>0),D$34,1)),\n  1)","v":1},{"$f":"IF($B$139=0,\n  EXP(0.042*ABS(D$40)\n    +$B$138*0.16*LN(2*5730/IF(ISNUMBER(E$33),E$33,1))*$B$138\n    +4.16*$B$138/IF(ISNUMBER(E$33),E$33,1)/IF( AND(ISNUMBER(E$34),E$34<>0),E$34,1)),\n  1)","v":1},{"$f":"IF($B$139=0,\n  EXP(0.042*ABS(F$40)\n    +$B$138*0.16*LN(2*5730/IF(ISNUMBER(F$33),F$33,1))*$B$138\n    +4.16*$B$138/IF(ISNUMBER(F$33),F$33,1)/IF( AND(ISNUMBER(F$34),F$34<>0),F$34,1)),\n  1)","v":1},{"$f":"IF($B$139=0,\n  EXP(0.042*ABS(G$40)\n    +$B$138*0.16*LN(2*5730/IF(ISNUMBER(G$33),G$33,1))*$B$138\n    +4.16*$B$138/IF(ISNUMBER(G$33),G$33,1)/IF( AND(ISNUMBER(G$34),G$34<>0),G$34,1)),\n  1)","v":1},null,{"$f":"IF($B$139=0,\n  EXP(0.042*ABS(I$40)\n    +$B$138*0.16*LN(2*5730/IF(ISNUMBER(I$33),I$33,1))*$B$138\n    +4.16*$B$138/IF(ISNUMBER(I$33),I$33,1)/IF( AND(ISNUMBER(I$34),I$34<>0),I$34,1)),\n  1)","v":{"$error":"#VALUE!"}},null,{"$f":"INDEX($D138:$I138,K$100)","v":1},{"$f":"INDEX($D138:$I138,L$100)","v":1},{"$f":"IF(ISERROR(1-L138/K138), 0, 1-L138/K138)","v":0},null,0]
[null,{"$f":"IF(B38=\"Yes\",1,0)","v":0},"HC and VC Crest type I",{"$f":"IF($B$139=0,1,EXP(0.005648908*5730*ABS(+D$40-D$41)*$B$139/D$145*$B$138))","v":1},{"$f":"IF($B$139=0,1,EXP(0.005648908*5730*ABS(+E$40-E$41)*$B$139/E$145*$B$138))","v":1},1,1,{"$f":"IF($I$2=\"Existing\",(D139),(IF($I$2=\"Design 1\",(F139),(IF($I$2=\"Design 2\",(G139),(IF($I$2=\"Optimal\",(I139),E139)))))))","v":1},1,null,{"$f":"INDEX($D139:$I139,K$100)","v":1},{"$f":"INDEX($D139:$I139,L$100)","v":1},0,null,0]
[null,null,"HC and VC Sag type I",{"$f":"IF($B$139=0,1,EXP(9.15857042*$B$139/D$146+0.010284958*5730*$B$139*$B$138*ABS(+D$40-D$41)/D$145))","v":1},{"$f":"IF($B$139=0,1,EXP(9.15857042*$B$139/E$146+0.010284958*5730*$B$139*$B$138*ABS(+E$40-E$41)/E$145))","v":1},1,1,{"$f":"IF($I$2=\"Existing\",(D140),(IF($I$2=\"Design 1\",(F140),(IF($I$2=\"Design 2\",(G140),(IF($I$2=\"Optimal\",(I140),E140)))))))","v":1},1,null,{"$f":"INDEX($D140:$I140,K$100)","v":1},{"$f":"INDEX($D140:$I140,L$100)","v":1},0,null,0]
[null,null,"HC and VC Crest type II",{"$f":"IF($B$139=0,1,EXP(0.005648908*5730*ABS(+D$40-D$41)*$B$139/D$145*$B$138))","v":1},{"$f":"IF($B$139=0,1,EXP(0.005648908*5730*ABS(+E$40-E$41)*$B$139/E$145*$B$138))","v":1},1,1,{"$f":"IF($I$2=\"Existing\",(D141),(IF($I$2=\"Design 1\",(F141),(IF($I$2=\"Design 2\",(G141),(IF($I$2=\"Optimal\",(I141),E141)))))))","v":1},1,null,{"$f":"INDEX($D141:$I141,K$100)","v":1},{"$f":"INDEX($D141:$I141,L$100)","v":1},0,null,0]
[null,null,"HC and VC Sag type II",{"$f":"IF($B$139=0,1,(0.246011284*EXP(LN(0.188*2*5730/D$145)*$B$138)+0.753988716*EXP(0.022*5730/D$145*ABS(D$40-D$41)*$B$139*$B$138)))","v":1},{"$f":"IF($B$139=0,1,(0.246011284*EXP(LN(0.188*2*5730/E$145)*$B$138)+0.753988716*EXP(0.022*5730/E$145*ABS(E$40-E$41)*$B$139*$B$138)))","v":1},1,1,{"$f":"IF($I$2=\"Existing\",(D142),(IF($I$2=\"Design 1\",(F142),(IF($I$2=\"Design 2\",(G142),(IF($I$2=\"Optimal\",(I142),E142)))))))","v":1},1,null,{"$f":"INDEX($D142:$I142,K$100)","v":1},{"$f":"INDEX($D142:$I142,L$100)","v":1},0,null,0]
[]
[null,null,"Combined HZ and VT",{"$f":"MMULT(TRANSPOSE(D131:D135),D138:D142)","v":1},{"$f":"MMULT(TRANSPOSE(E131:E135),E138:E142)","v":1},{"$f":"MMULT(TRANSPOSE(F131:F135),F138:F142)","v":1},{"$f":"MMULT(TRANSPOSE(G131:G135),G138:G142)","v":1},{"$f":"IF($I$2=\"Existing\",(D144),(IF($I$2=\"Design 1\",(F144),(IF($I$2=\"Design 2\",(G144),(IF($I$2=\"Optimal\",(I144),E144)))))))","v":1},{"$f":"MMULT(TRANSPOSE(I131:I135),I138:I142)","v":{"$error":"#VALUE!"}},null,{"$f":"INDEX($D144:$I144,K$100)","v":1},{"$f":"INDEX($D144:$I144,L$100)","v":1},{"$f":"IF(ISERROR(1-L144/K144), 0, 1-L144/K144)","v":0},null,0]
[null,null,"effective R for calculation",{"$f":"IF(ISNUMBER(D33), D33, 99999999)","v":99999999},{"$f":"IF(ISNUMBER(E33), E33, 99999999)","v":590},99999999,99999999,null,590]
[null,null,"effective K for calculation",{"$f":"IF(ISNUMBER(D43), D43, 99999999)","v":99999999},{"$f":"IF(ISNUMBER(E43), E43, 99999999)","v":99999999},99999999,99999999,null,99999999]
[null,"Traffic"]
[null,null,null,"Existing","Standard","Design 1","Design 2"]
[null,null,"Advance static curve warning signs",{"$f":"IF(D24=INDEX(MedConf_Header,1,2),IF(AND($B$31=\"Yes\",D$56=\"Yes\"),(Traffic!$F$4-1)*AVERAGE(Constraints!$F$24,Constraints!$H$24)/Constraints!$D$24+1,1),(IF(AND($B$31=\"Yes\",D$56=\"Yes\"),(Traffic!$F$4-1)*AVERAGE(Constraints!$F$38,Constraints!$H$38)/Constraints!$D$38+1,1)))","v":1},{"$f":"IF(AND($B$31=\"Yes\",E$56=\"Yes\"),(Traffic!$F$4-1)*AVERAGE(Constraints!$F$24,Constraints!$H$24)/Constraints!$D$24+1,1)","v":1},{"$f":"IF(F24=INDEX(MedConf_Header,1,2),IF(AND($B$31=\"Yes\",F$56=\"Yes\"),(Traffic!$F$4-1)*AVERAGE(Constraints!$F$24,Constraints!$H$24)/Constraints!$D$24+1,1),(IF(AND($B$31=\"Yes\",F$56=\"Yes\"),(Traffic!$F$4-1)*AVERAGE(Constraints!$F$38,Constraints!$H$38)/Constraints!$D$38+1,1)))","v":1},{"$f":"IF(G24=INDEX(MedConf_Header,1,2),IF(AND($B$31=\"Yes\",G$56=\"Yes\"),(Traffic!$F$4-1)*AVERAGE(Constraints!$F$24,Constraints!$H$24)/Constraints!$D$24+1,1),(IF(AND($B$31=\"Yes\",G$56=\"Yes\"),(Traffic!$F$4-1)*AVERAGE(Constraints!$F$38,Constraints!$H$38)/Constraints!$D$38+1,1)))","v":1},{"$f":"IF($I$2=\"Existing\",(D149),(IF($I$2=\"Design 1\",(F149),(IF($I$2=\"Design 2\",(G149),(IF($I$2=\"Optimal\",(I149),E149)))))))","v":1},{"$f":"IF(AND($B$31=\"Yes\",I$56=\"Yes\"),(Traffic!$F$4-1)*AVERAGE(Constraints!$F$24,Constraints!$H$24)/Constraints!$D$24+1,1)","v":1},null,{"$f":"INDEX($D149:$I149,K$100)","v":1},{"$f":"INDEX($D149:$I149,L$100)","v":1},{"$f":"IF(ISERROR(1-L149/K149), 0, 1-L149/K149)","v":0},null,0]
[null,null,"Install chevron signs on horizontal curves",{"$f":"IF(D24=INDEX(MedConf_Header,1,2),(IF(D$57=\"No\",1,(IF(AND($B$31=\"Yes\",D$27<11.5),((Traffic!$F$6-1)*(Constraints!$E$18+Constraints!$E$22))+1,1)))),(IF(D$57=\"No\",1,(IF(AND($B$31=\"Yes\",D$27<11.5),((Traffic!$F$6-1)*(Constraints!$E$32+Constraints!$E$36))+1,1)))))","v":1},{"$f":"IF(E$57=\"No\",1,(IF(AND($B$31=\"Yes\",E$27<11.5),((Traffic!$F$6-1)*(Constraints!$E$18+Constraints!$E$22))+1,1)))","v":1},{"$f":"IF(F24=INDEX(MedConf_Header,1,2),(IF(F$57=\"No\",1,(IF(AND($B$31=\"Yes\",F$27<11.5),((Traffic!$F$6-1)*(Constraints!$E$18+Constraints!$E$22))+1,1)))),(IF(F$57=\"No\",1,(IF(AND($B$31=\"Yes\",F$27<11.5),((Traffic!$F$6-1)*(Constraints!$E$32+Constraints!$E$36))+1,1)))))","v":1},{"$f":"IF(G24=INDEX(MedConf_Header,1,2),(IF(G$57=\"No\",1,(IF(AND($B$31=\"Yes\",G$27<11.5),((Traffic!$F$6-1)*(Constraints!$E$18+Constraints!$E$22))+1,1)))),(IF(G$57=\"No\",1,(IF(AND($B$31=\"Yes\",G$27<11.5),((Traffic!$F$6-1)*(Constraints!$E$32+Constraints!$E$36))+1,1)))))","v":1},{"$f":"IF($I$2=\"Existing\",(D150),(IF($I$2=\"Design 1\",(F150),(IF($I$2=\"Design 2\",(G150),(IF($I$2=\"Optimal\",(I150),E150)))))))","v":1},{"$f":"IF(I$57=\"No\",1,(IF(AND($B$31=\"Yes\",I$27<11.5),((Traffic!$F$6-1)*(Constraints!$E$18+Constraints!$E$22))+1,1)))","v":1},null,{"$f":"INDEX($D150:$I150,K$100)","v":1},{"$f":"INDEX($D150:$I150,L$100)","v":1},0,null,0]
[null,null,"Install post-mounted delineators",{"$f":"IF(D24=INDEX(MedConf_Header,1,2),IF(AND($B$31=\"Yes\",D$58=\"Yes\"),(Traffic!$F$12-1)*Constraints!$E$17+1,1),(IF(AND($B$31=\"Yes\",D$58=\"Yes\"),(Traffic!$F$12-1)*Constraints!$E$31+1,1)))","v":1},{"$f":"IF(AND($B$31=\"Yes\",E$58=\"Yes\"),(Traffic!$F$12-1)*Constraints!$E$17+1,1)","v":1},{"$f":"IF(F24=INDEX(MedConf_Header,1,2),IF(AND($B$31=\"Yes\",F$58=\"Yes\"),(Traffic!$F$12-1)*Constraints!$E$17+1,1),(IF(AND($B$31=\"Yes\",F$58=\"Yes\"),(Traffic!$F$12-1)*Constraints!$E$31+1,1)))","v":1},{"$f":"IF(G24=INDEX(MedConf_Header,1,2),IF(AND($B$31=\"Yes\",G$58=\"Yes\"),(Traffic!$F$12-1)*Constraints!$E$17+1,1),(IF(AND($B$31=\"Yes\",G$58=\"Yes\"),(Traffic!$F$12-1)*Constraints!$E$31+1,1)))","v":1},{"$f":"IF($I$2=\"Existing\",(D151),(IF($I$2=\"Design 1\",(F151),(IF($I$2=\"Design 2\",(G151),(IF($I$2=\"Optimal\",(I151),E151)))))))","v":1},{"$f":"IF(AND($B$31=\"Yes\",I$58=\"Yes\"),(Traffic!$F$12-1)*Constraints!$E$17+1,1)","v":1},null,{"$f":"INDEX($D151:$I151,K$100)","v":1},{"$f":"INDEX($D151:$I151,L$100)","v":1},0,null,0]
[null,null,"Install edgeline  or Profile pavement markings ",{"$f":"IF(D24=INDEX(MedConf_Header,1,2),(IF(D$59=\"Yes\",Traffic!$F$18*0.5+((Traffic!$F$20*(Constraints!$H$17+Constraints!$H$20+Constraints!$H$21)+1*(Constraints!$H$24-(Constraints!$H$17+Constraints!$H$20+Constraints!$H$21)))/Constraints!$H$24)*0.5,1)),(IF(D$59=\"Yes\",Traffic!$F$18*0.5+((Traffic!$F$20*(Constraints!$H$31+Constraints!$H$34+Constraints!$H$35)+1*(Constraints!$H$38-(Constraints!$H$31+Constraints!$H$34+Constraints!$H$35)))/Constraints!$H$38)*0.5,1)))","v":1},{"$f":"IF(E24=INDEX(MedConf_Header,1,2),(IF(E$59=\"Yes\",Traffic!$F$18*0.5+((Traffic!$F$20*(Constraints!$H$17+Constraints!$H$20+Constraints!$H$21)+1*(Constraints!$H$24-(Constraints!$H$17+Constraints!$H$20+Constraints!$H$21)))/Constraints!$H$24)*0.5,1)),(IF(E$59=\"Yes\",Traffic!$F$18*0.5+((Traffic!$F$20*(Constraints!$H$31+Constraints!$H$34+Constraints!$H$35)+1*(Constraints!$H$38-(Constraints!$H$31+Constraints!$H$34+Constraints!$H$35)))/Constraints!$H$38)*0.5,1)))","v":1},{"$f":"IF(F24=INDEX(MedConf_Header,1,2),(IF(F$59=\"Yes\",Traffic!$F$18*0.5+((Traffic!$F$20*(Constraints!$H$17+Constraints!$H$20+Constraints!$H$21)+1*(Constraints!$H$24-(Constraints!$H$17+Constraints!$H$20+Constraints!$H$21)))/Constraints!$H$24)*0.5,1)),(IF(F$59=\"Yes\",Traffic!$F$18*0.5+((Traffic!$F$20*(Constraints!$H$31+Constraints!$H$34+Constraints!$H$35)+1*(Constraints!$H$38-(Constraints!$H$31+Constraints!$H$34+Constraints!$H$35)))/Constraints!$H$38)*0.5,1)))","v":1},{"$f":"IF(G24=INDEX(MedConf_Header,1,2),(IF(G$59=\"Yes\",Traffic!$F$18*0.5+((Traffic!$F$20*(Constraints!$H$17+Constraints!$H$20+Constraints!$H$21)+1*(Constraints!$H$24-(Constraints!$H$17+Constraints!$H$20+Constraints!$H$21)))/Constraints!$H$24)*0.5,1)),(IF(G$59=\"Yes\",Traffic!$F$18*0.5+((Traffic!$F$20*(Constraints!$H$31+Constraints!$H$34+Constraints!$H$35)+1*(Constraints!$H$38-(Constraints!$H$31+Constraints!$H$34+Constraints!$H$35)))/Constraints!$H$38)*0.5,1)))","v":1},{"$f":"IF($I$2=\"Existing\",(D152),(IF($I$2=\"Design 1\",(F152),(IF($I$2=\"Design 2\",(G152),(IF($I$2=\"Optimal\",(I152),E152)))))))","v":1},{"$f":"IF(I24=INDEX(MedConf_Header,1,2),(IF(I$59=\"Yes\",Traffic!$F$18*0.5+((Traffic!$F$20*(Constraints!$H$17+Constraints!$H$20+Constraints!$H$21)+1*(Constraints!$H$24-(Constraints!$H$17+Constraints!$H$20+Constraints!$H$21)))/Constraints!$H$24)*0.5,1)),(IF(I$59=\"Yes\",Traffic!$F$18*0.5+((Traffic!$F$20*(Constraints!$H$31+Constraints!$H$34+Constraints!$H$35)+1*(Constraints!$H$38-(Constraints!$H$31+Constraints!$H$34+Constraints!$H$35)))/Constraints!$H$38)*0.5,1)))","v":0.87439641434262949},null,{"$f":"INDEX($D152:$I152,K$100)","v":1},{"$f":"INDEX($D152:$I152,L$100)","v":1},0,null,0.13824118691351761]
[null,null,"Profiles",1,1,1,1,1,1,null,{"$f":"INDEX($D153:$I153,K$100)","v":1},{"$f":"INDEX($D153:$I153,L$100)","v":1},0,null,0]
[null,null,"Shoulder rumble strips",{"$f":"IF(D24=INDEX(MedConf_Header,1,2),(IF(D$60=\"No\",1,(Traffic!$F$27*(Constraints!$H$17+Constraints!$H$20+Constraints!$H$21)+1*(Constraints!$H$24-(Constraints!$H$17+Constraints!$H$20+Constraints!$H$21)))/Constraints!$H$24)),(IF(D$60=\"No\",1,(Traffic!$F$27*(Constraints!$H$31+Constraints!$H$34+Constraints!$H$35)+1*(Constraints!$H$38-(Constraints!$H$31+Constraints!$H$34+Constraints!$H$35)))/Constraints!$H$38)))","v":0.93956289460903353},{"$f":"IF(E$60=\"No\",1,(Traffic!$F$27*(Constraints!$H$17+Constraints!$H$20+Constraints!$H$21)+1*(Constraints!$H$24-(Constraints!$H$17+Constraints!$H$20+Constraints!$H$21)))/Constraints!$H$24)","v":0.91807038512616201},{"$f":"IF(F24=INDEX(MedConf_Header,1,2),(IF(F$60=\"No\",1,(Traffic!$F$27*(Constraints!$H$17+Constraints!$H$20+Constraints!$H$21)+1*(Constraints!$H$24-(Constraints!$H$17+Constraints!$H$20+Constraints!$H$21)))/Constraints!$H$24)),(IF(F$60=\"No\",1,(Traffic!$F$27*(Constraints!$H$31+Constraints!$H$34+Constraints!$H$35)+1*(Constraints!$H$38-(Constraints!$H$31+Constraints!$H$34+Constraints!$H$35)))/Constraints!$H$38)))","v":0.93956289460903353},{"$f":"IF(G24=INDEX(MedConf_Header,1,2),(IF(G$60=\"No\",1,(Traffic!$F$27*(Constraints!$H$17+Constraints!$H$20+Constraints!$H$21)+1*(Constraints!$H$24-(Constraints!$H$17+Constraints!$H$20+Constraints!$H$21)))/Constraints!$H$24)),(IF(G$60=\"No\",1,(Traffic!$F$27*(Constraints!$H$31+Constraints!$H$34+Constraints!$H$35)+1*(Constraints!$H$38-(Constraints!$H$31+Constraints!$H$34+Constraints!$H$35)))/Constraints!$H$38)))","v":0.93956289460903353},{"$f":"IF($I$2=\"Existing\",(D154),(IF($I$2=\"Design 1\",(F154),(IF($I$2=\"Design 2\",(G154),(IF($I$2=\"Optimal\",(I154),E154)))))))","v":0.91807038512616201},{"$f":"IF(I$60=\"No\",1,(Traffic!$F$27*(Constraints!$H$17+Constraints!$H$20+Constraints!$H$21)+1*(Constraints!$H$24-(Constraints!$H$17+Constraints!$H$20+Constraints!$H$21)))/Constraints!$H$24)","v":0.91807038512616201},null,{"$f":"INDEX($D154:$I154,K$100)","v":0.93956289460903353},{"$f":"INDEX($D154:$I154,L$100)","v":0.91807038512616201},2.2875008800570917E-2,null,0]
[null,null,"Install centerline rumble strips",{"$f":"IF(D24=INDEX(MedConf_Header,1,3),(IF(D$61=\"No\",1,(Traffic!$E$81*(Constraints!$H$31+Constraints!$H$34+Constraints!$H$35)+1*(Constraints!$H$38-(Constraints!$H$31+Constraints!$H$34+Constraints!$H$35)))/Constraints!$H$38)+0.001),1)","v":1},{"$f":"IF(E24=INDEX(MedConf_Header,1,3),(IF(E$61=\"No\",1,(Traffic!$E$81*(Constraints!$H$31+Constraints!$H$34+Constraints!$H$35)+1*(Constraints!$H$38-(Constraints!$H$31+Constraints!$H$34+Constraints!$H$35)))/Constraints!$H$38)+0.001),1)","v":1},{"$f":"IF(F24=INDEX(MedConf_Header,1,3),(IF(F$61=\"No\",1,(Traffic!$E$81*(Constraints!$H$31+Constraints!$H$34+Constraints!$H$35)+1*(Constraints!$H$38-(Constraints!$H$31+Constraints!$H$34+Constraints!$H$35)))/Constraints!$H$38)+0.001),1)","v":1},{"$f":"IF(G24=INDEX(MedConf_Header,1,3),(IF(G$61=\"No\",1,(Traffic!$E$81*(Constraints!$H$31+Constraints!$H$34+Constraints!$H$35)+1*(Constraints!$H$38-(Constraints!$H$31+Constraints!$H$34+Constraints!$H$35)))/Constraints!$H$38)+0.001),1)","v":1},{"$f":"IF($I$2=\"Existing\",(D155),(IF($I$2=\"Design 1\",(F155),(IF($I$2=\"Design 2\",(G155),(IF($I$2=\"Optimal\",(I155),E155)))))))","v":1},{"$f":"IF(I24=INDEX(MedConf_Header,1,3),(IF(I$61=\"No\",1,(Traffic!$E$81*(Constraints!$H$31+Constraints!$H$34+Constraints!$H$35)+1*(Constraints!$H$38-(Constraints!$H$31+Constraints!$H$34+Constraints!$H$35)))/Constraints!$H$38)+0.001),1)","v":1},null,{"$f":"INDEX($D155:$I155,K$100)","v":1},{"$f":"INDEX($D155:$I155,L$100)","v":1},0,null,-0.16279069767441867]
[null,null,"Driveway Density (driveways per mile)",{"$f":"EXP(-LN(Traffic!$F$31)*(D$62-$E$62))","v":0.81707280688754669},{"$f":"EXP(-LN(Traffic!$F$31)*(E$62-$E$62))","v":1},{"$f":"EXP(-LN(Traffic!$F$31)*(F$62-$E$62))","v":0.81707280688754669},{"$f":"EXP(-LN(Traffic!$F$31)*(G$62-$E$62))","v":0.81707280688754669},{"$f":"IF($I$2=\"Existing\",(D156),(IF($I$2=\"Design 1\",(F156),(IF($I$2=\"Design 2\",(G156),(IF($I$2=\"Optimal\",(I156),E156)))))))","v":1},{"$f":"EXP(-LN(Traffic!$F$31)*(I$62-$E$62))","v":0.81707280688754669},null,{"$f":"INDEX($D156:$I156,K$100)","v":0.81707280688754669},{"$f":"INDEX($D156:$I156,L$100)","v":1},-0.22388114201141129,null,-0.22388114201141129]
[null,null,"Install lighting",{"$f":"IF(D24=INDEX(MedConf_Header,1,2),(IF(D$63=\"No\",1,1-(((1-Traffic!$F$54*Constraints!$H$24-Constraints!$F$24/3)+((1-Traffic!$F$54*Constraints!$D$24-Constraints!$H$24)))*$S$19+((1-Traffic!$F$56)*Constraints!$F$24/3))/Constraints!$D$24)),(IF(D$63=\"No\",1,1-(((1-Traffic!$F$54*Constraints!$H$38-Constraints!$F$38/3)+((1-Traffic!$F$54*Constraints!$D$38-Constraints!$H$38)))*$S$19+((1-Traffic!$F$56)*Constraints!$F$38/3))/Constraints!$D$38)))","v":0.98319080068143105},{"$f":"IF(E$63=\"No\",1,1-(((1-Traffic!$F$54*Constraints!$H$24-Constraints!$F$24/3)+((1-Traffic!$F$54*Constraints!$D$24-Constraints!$H$24)))*$S$19+((1-Traffic!$F$56)*Constraints!$F$24/3))/Constraints!$D$24)","v":1},{"$f":"IF(F24=INDEX(MedConf_Header,1,2),(IF(F$63=\"No\",1,1-(((1-Traffic!$F$54*Constraints!$H$24-Constraints!$F$24/3)+((1-Traffic!$F$54*Constraints!$D$24-Constraints!$H$24)))*$S$19+((1-Traffic!$F$56)*Constraints!$F$24/3))/Constraints!$D$24)),(IF(F$63=\"No\",1,1-(((1-Traffic!$F$54*Constraints!$H$38-Constraints!$F$38/3)+((1-Traffic!$F$54*Constraints!$D$38-Constraints!$H$38)))*$S$19+((1-Traffic!$F$56)*Constraints!$F$38/3))/Constraints!$D$38)))","v":0.98319080068143105},{"$f":"IF(G24=INDEX(MedConf_Header,1,2),(IF(G$63=\"No\",1,1-(((1-Traffic!$F$54*Constraints!$H$24-Constraints!$F$24/3)+((1-Traffic!$F$54*Constraints!$D$24-Constraints!$H$24)))*$S$19+((1-Traffic!$F$56)*Constraints!$F$24/3))/Constraints!$D$24)),(IF(G$63=\"No\",1,1-(((1-Traffic!$F$54*Constraints!$H$38-Constraints!$F$38/3)+((1-Traffic!$F$54*Constraints!$D$38-Constraints!$H$38)))*$S$19+((1-Traffic!$F$56)*Constraints!$F$38/3))/Constraints!$D$38)))","v":0.98319080068143105},{"$f":"IF($I$2=\"Existing\",(D157),(IF($I$2=\"Design 1\",(F157),(IF($I$2=\"Design 2\",(G157),(IF($I$2=\"Optimal\",(I157),E157)))))))","v":1},{"$f":"IF(I$63=\"No\",1,1-(((1-Traffic!$F$54*Constraints!$H$24-Constraints!$F$24/3)+((1-Traffic!$F$54*Constraints!$D$24-Constraints!$H$24)))*$S$19+((1-Traffic!$F$56)*Constraints!$F$24/3))/Constraints!$D$24)","v":0.98062689234129152},null,{"$f":"INDEX($D157:$I157,K$100)","v":0.98319080068143105},{"$f":"INDEX($D157:$I157,L$100)","v":1},-1.7096579124742384E-2,null,-2.3499081529478438E-2]
[null,null,"Pavement friction (skid number)",{"$f":"EXP(LN(Traffic!$F$48)*(D$64-$E$64))","v":1.3972521419325798},{"$f":"EXP(LN(Traffic!$F$48)*(E$64-$E$64))","v":1},{"$f":"IF(MATCH(F64,SkidNums,0)=3, $D158,EXP(LN([5]Traffic!$F$49)*(RIGHT(F$64,2)-$E$64)))","v":{"$error":"#N/A"}},{"$f":"IF(MATCH(G64,SkidNums,0)=3, $D158,EXP(LN([5]Traffic!$F$49)*(RIGHT(G$64,2)-$E$64)))","v":{"$error":"#N/A"}},{"$f":"IF($I$2=\"Existing\",(D158),(IF($I$2=\"Design 1\",(F158),(IF($I$2=\"Design 2\",(G158),(IF($I$2=\"Optimal\",(I158),E158)))))))","v":1},{"$f":"EXP(LN(Traffic!$F$48)*(I$64-$E$64))","v":0.85753553626991963},null,{"$f":"INDEX($D158:$I158,K$100)","v":1.3972521419325798},{"$f":"INDEX($D158:$I158,L$100)","v":1},0.28430956017940245,null,0]
[]
[]
[null,null,"COMBINED Calculated CMF",{"$f":"+D149*D150*D151*D152*D153*D154*D155*D156*D157*D158","v":1.0546277742651902},{"$f":"+E149*E150*E151*E152*E153*E154*E155*E156*E157*E158","v":0.91807038512616201},{"$error":"#N/A"},{"$error":"#N/A"},{"$f":"IF($I$2=\"Existing\",(D161),(IF($I$2=\"Design 1\",(F161),(IF($I$2=\"Design 2\",(G161),(IF($I$2=\"Optimal\",(I161),E161)))))))","v":0.91807038512616201},{"$f":"+I149*I150*I151*I152*I153*I154*I155*I156*I157*I158","v":0.55157049744255038},null,{"$f":"INDEX($D161:$I161,K$100)","v":1.0546277742651902},{"$f":"INDEX($D161:$I161,L$100)","v":0.91807038512616201},{"$f":"IF(ISERROR(1-L161/K161), 0, 1-L161/K161)","v":0.12948396815565966},null,0]
[null,null,"Calculated Relative to Design Standards (Column E)",{"$f":"+D161/$E$161","v":1.1487439213282784},{"$f":"+E161/$E$161","v":1},{"$error":"#N/A"},{"$error":"#N/A"},1,{"$f":"+I161/$E$161","v":0.60079325766156055},null,{"$f":"INDEX($D162:$I162,K$100)","v":1.1487439213282784},{"$f":"INDEX($D162:$I162,L$100)","v":1},0.12948396815565966,null,0]
[null,null,"P(Crash)",{"$f":"+D162/(D162+1)","v":0.53461183062622242},0.5,{"$error":"#N/A"},{"$error":"#N/A"},0.5,{"$f":"+I162/(I162+1)","v":0.37530971272280322},null,{"$f":"INDEX($D163:$I163,K$100)","v":0.53461183062622242},{"$f":"INDEX($D163:$I163,L$100)","v":0.5},6.4741984077829939E-2]
[null,null,"Factor Change on S curve",{"$f":"+D163/$E$163","v":1.0692236612524448},{"$f":"+E163/$E$163","v":1},{"$f":"+F163/$E$163","v":{"$error":"#N/A"}},{"$error":"#N/A"},1,{"$f":"+I163/$E$163","v":0.75061942544560645},null,{"$f":"INDEX($D164:$I164,K$100)","v":1.0692236612524448},{"$f":"INDEX($D164:$I164,L$100)","v":1},6.4741984077829939E-2]
[null,null,"Adjust to Scale of 100",{"$f":"+$I$118/D164*100","v":{"$error":"#VALUE!"}},{"$error":"#VALUE!"},{"$error":"#VALUE!"},{"$error":"#VALUE!"},{"$error":"#VALUE!"},{"$f":"+$I$118/I164*100","v":{"$error":"#VALUE!"}}]
[null,null,"Unadjusted Combined Relative to Standard",{"$f":"+D161/$E$161","v":1.1487439213282784},{"$f":"+E161/$E$161","v":1},{"$f":"+F161/$E$161","v":{"$error":"#N/A"}},{"$error":"#N/A"},1,{"$f":"+I161/$E$161","v":0.60079325766156055},{"$f":"I172/E172","v":1.3333333333333333},{"$f":"INDEX($D166:$I166,K$100)","v":1.1487439213282784},{"$f":"INDEX($D166:$I166,L$100)","v":1},{"$f":"IF(ISERROR(1-L166/K166), 0, 1-L166/K166)","v":0.12948396815565966}]
[null,null,null,null,null,null,null,0,null,null,{"$f":"INDEX($D167:$I167,K$100)","v":0},{"$f":"INDEX($D167:$I167,L$100)","v":0},0]
[null,null,"Adjusted for PA Basis",{"$f":"+D161*(1+1)/(1+D161*1)","v":1.0265876743950504},0.95728539707970672,{"$error":"#N/A"},{"$error":"#N/A"},0.95728539707970672,{"$f":"+I161*(1+1)/(1+I161*1)","v":0.71098348202895401},null,{"$f":"INDEX($D168:$I168,K$100)","v":1.0265876743950504},{"$f":"INDEX($D168:$I168,L$100)","v":0.95728539707970672},6.750741221998624E-2]
[null,null,"Corrected by Odds Ratio",{"$f":"+D168/$E$168","v":1.0723945831898796},{"$f":"+E168/$E$168","v":1},{"$f":"+F168/$E$168","v":{"$error":"#N/A"}},{"$error":"#N/A"},1,{"$f":"+I168/$E$168","v":0.74270795752017016},{"$f":"I175/E175","v":1.4285714285714286},{"$f":"INDEX($D169:$I169,K$100)","v":1.0723945831898796},{"$f":"INDEX($D169:$I169,L$100)","v":1},6.750741221998624E-2]
[null,null,null,{"$f":"(1/D169)^$D173","v":0.19732178070922252},{"$f":"(1/E169)^$D173","v":1},{"$error":"#N/A"},{"$error":"#N/A"},1,998.99999999999955,null,{"$f":"INDEX($D170:$I170,K$100)","v":0.19732178070922252},{"$f":"INDEX($D170:$I170,L$100)","v":1},-4.0678642591089362]
[null,null,null,{"$f":"(D170+$F174-1)/(1+(D170+$F174-1))","v":0.6048454036857811},{"$f":"(E170+$F174-1)/(1+(E170+$F174-1))","v":0.70000000000000007},{"$error":"#N/A"},{"$error":"#N/A"},0.70000000000000007,0.99900133155792281,null,{"$f":"INDEX($D171:$I171,K$100)","v":0.6048454036857811},{"$f":"INDEX($D171:$I171,L$100)","v":0.70000000000000007},-0.15732052477272696]
[null,null,"Score Odds Ratio with Optimal as 100 (old)",{"$f":"MIN(ROUND($I$169/D169*Construction!$I$3,0),$I172)","v":14},{"$f":"MIN(ROUND($I$169/E169*Construction!$I$3,0),$I172)","v":15},{"$f":"MIN(ROUND($I$169/F169*Construction!$I$3,0),$I172)","v":{"$error":"#N/A"}},{"$f":"MIN(ROUND($I$169/G169*Construction!$I$3,0),$I172)","v":{"$error":"#N/A"}},null,{"$f":"ROUND($I$169/I169*Construction!$I$3,0)","v":20}]
[null,null,"Logistic1",{"$f":"LN((D174/(1-D174))/(0.5/0.5))/LN($E169/I169)","v":23.2196999386987}]
[null,null,"Logistic Param",0.999,null,{"$f":"0.7/0.3","v":2.3333333333333335}]
[null,null,"Score ",{"$f":"MIN(ROUND(D171*Construction!$I$3,0),$I172)","v":12},{"$f":"MIN(ROUND(E171*Construction!$I$3,0),$I172)","v":14},{"$f":"MIN(ROUND(F171*Construction!$I$3,0),$I172)","v":{"$error":"#N/A"}},{"$f":"MIN(ROUND(G171*Construction!$I$3,0),$I172)","v":{"$error":"#N/A"}},null,{"$f":"MIN(ROUND(I171*Construction!$I$3,0),$I172)","v":20}]
[]
[]
[]
[]
[null,null,null,{"$f":"INDEX(MedConf_Header,1,2)","v":"Divided - Unsurfaced Median"}]
[]
[null,"Roadsde",null,"Existing","Standard","Design 1","Design 2"]
[null,null,null,{"$f":"IF(ISBLANK(D75), 0, MID(D75,FIND(\":\",D75,1)+1,FIND(\"H\",D75,1)-FIND(\":\",D75,1)-1)+0)","v":0},{"$f":"MID(E75,FIND(\":\",E75,1)+1,FIND(\"H\",E75,1)-FIND(\":\",E75,1)-1)+0","v":4},{"$f":"IF(ISBLANK(F75), 0, MID(F75,FIND(\":\",F75,1)+1,FIND(\"H\",F75,1)-FIND(\":\",F75,1)-1)+0)","v":0},{"$f":"IF(ISBLANK(G75), 0, MID(G75,FIND(\":\",G75,1)+1,FIND(\"H\",G75,1)-FIND(\":\",G75,1)-1)+0)","v":0},null,{"$f":"MID(I75,FIND(\":\",I75,1)+1,FIND(\"H\",I75,1)-FIND(\":\",I75,1)-1)+0","v":6},null,null,null,null,null,0]
[null,null,"Sideslope (Foreslope)",{"$f":"IF(D24=INDEX(MedConf_Header,1,2),(IF(D183<=3,1,IF(OR(D183=4,D183=5),(Roadside!$F$15-1)*Constraints!$H$24/Constraints!$D$24+1,(Roadside!$F$15*Roadside!$F$16-1)*Constraints!$H$24/Constraints!$D$24+1))),(IF(D183<=3,1,IF(OR(D183=4,D183=5),(Roadside!$F$15-1)*Constraints!$H$38/Constraints!$D$38+1,(Roadside!$F$15*Roadside!$F$16-1)*Constraints!$H$38/Constraints!$D$38+1))))","v":1},{"$f":"IF(E24=INDEX(MedConf_Header,1,2),(IF(E183<=3,1,IF(OR(E183=4,E183=5),(Roadside!$F$15-1)*Constraints!$H$24/Constraints!$D$24+1,(Roadside!$F$15*Roadside!$F$16-1)*Constraints!$H$24/Constraints!$D$24+1))),(IF(E183<=3,1,IF(OR(E183=4,E183=5),(Roadside!$F$15-1)*Constraints!$H$38/Constraints!$D$38+1,(Roadside!$F$15*Roadside!$F$16-1)*Constraints!$H$38/Constraints!$D$38+1))))","v":0.84302377525189853},{"$f":"IF(F24=INDEX(MedConf_Header,1,2),(IF(F183<=3,1,IF(OR(F183=4,F183=5),(Roadside!$F$15-1)*Constraints!$H$24/Constraints!$D$24+1,(Roadside!$F$15*Roadside!$F$16-1)*Constraints!$H$24/Constraints!$D$24+1))),(IF(F183<=3,1,IF(OR(F183=4,F183=5),(Roadside!$F$15-1)*Constraints!$H$38/Constraints!$D$38+1,(Roadside!$F$15*Roadside!$F$16-1)*Constraints!$H$38/Constraints!$D$38+1))))","v":1},{"$f":"IF(G24=INDEX(MedConf_Header,1,2),(IF(G183<=3,1,IF(OR(G183=4,G183=5),(Roadside!$F$15-1)*Constraints!$H$24/Constraints!$D$24+1,(Roadside!$F$15*Roadside!$F$16-1)*Constraints!$H$24/Constraints!$D$24+1))),(IF(G183<=3,1,IF(OR(G183=4,G183=5),(Roadside!$F$15-1)*Constraints!$H$38/Constraints!$D$38+1,(Roadside!$F$15*Roadside!$F$16-1)*Constraints!$H$38/Constraints!$D$38+1))))","v":1},{"$f":"IF($I$2=\"Existing\",(D184),(IF($I$2=\"Design 1\",(F184),(IF($I$2=\"Design 2\",(G184),(IF($I$2=\"Optimal\",(I184),E184)))))))","v":0.84302377525189853},{"$f":"IF(I24=INDEX(MedConf_Header,1,2),(IF(I183<=3,1,IF(OR(I183=4,I183=5),(Roadside!$F$15-1)*Constraints!$H$24/Constraints!$D$24+1,(Roadside!$F$15*Roadside!$F$16-1)*Constraints!$H$24/Constraints!$D$24+1))),(IF(I183<=3,1,IF(OR(I183=4,I183=5),(Roadside!$F$15-1)*Constraints!$H$38/Constraints!$D$38+1,(Roadside!$F$15*Roadside!$F$16-1)*Constraints!$H$38/Constraints!$D$38+1))))","v":0.79533290316176108},null,{"$f":"INDEX($D184:$I184,K$100)","v":1},{"$f":"INDEX($D184:$I184,L$100)","v":0.84302377525189853},{"$f":"IF(ISERROR(1-L184/K184), 0, 1-L184/K184)","v":0.15697622474810147},null,0]
[null,null,"Backslope",1,1,1,1,{"$f":"IF($I$2=\"Existing\",(D185),(IF($I$2=\"Design 1\",(F185),(IF($I$2=\"Design 2\",(G185),(IF($I$2=\"Optimal\",(I185),E185)))))))","v":1},1,null,{"$f":"INDEX($D185:$I185,K$100)","v":1},{"$f":"INDEX($D185:$I185,L$100)","v":1},0,null,0]
[null,null,"SafetyEdge",{"$f":"IF(D24=INDEX(MedConf_Header,1,2),(IF(D$77=\"No\",1,(Roadside!$F$23-1)*AVERAGE(Constraints!$H$24,Constraints!$F$24)/Constraints!$D$24+1)),(IF(D$77=\"No\",1,(Roadside!$F$23-1)*AVERAGE(Constraints!$H$38,Constraints!$F$38)/Constraints!$D$38+1)))","v":0.97711209540034072},{"$f":"IF(E$77=\"No\",1,(Roadside!$F$23-1)*AVERAGE(Constraints!$H$24,Constraints!$F$24)/Constraints!$D$24+1)","v":1},{"$f":"IF(F24=INDEX(MedConf_Header,1,2),(IF(F$77=\"No\",1,(Roadside!$F$23-1)*AVERAGE(Constraints!$H$24,Constraints!$F$24)/Constraints!$D$24+1)),(IF(F$77=\"No\",1,(Roadside!$F$23-1)*AVERAGE(Constraints!$H$38,Constraints!$F$38)/Constraints!$D$38+1)))","v":0.97711209540034072},{"$f":"IF(G24=INDEX(MedConf_Header,1,2),(IF(G$77=\"No\",1,(Roadside!$F$23-1)*AVERAGE(Constraints!$H$24,Constraints!$F$24)/Constraints!$D$24+1)),(IF(G$77=\"No\",1,(Roadside!$F$23-1)*AVERAGE(Constraints!$H$38,Constraints!$F$38)/Constraints!$D$38+1)))","v":0.97711209540034072},{"$f":"IF($I$2=\"Existing\",(D186),(IF($I$2=\"Design 1\",(F186),(IF($I$2=\"Design 2\",(G186),(IF($I$2=\"Optimal\",(I186),E186)))))))","v":1},{"$f":"IF(I$77=\"No\",1,(Roadside!$F$23-1)*AVERAGE(Constraints!$H$24,Constraints!$F$24)/Constraints!$D$24+1)","v":0.97526887377773364},null,{"$f":"INDEX($D186:$I186,K$100)","v":0.97711209540034072},{"$f":"INDEX($D186:$I186,L$100)","v":1},-2.3424031600265627E-2,null,-2.8188991921691331E-2]
[null,null,"Lateral Clearance (ft)",{"$f":"IF(D24=INDEX(MedConf_Header,1,2),(IF($B$31=\"Yes\",((EXP(LN(Roadside!$F$11)*(IF(D$79=\"None\",40,D$78)-30)/30)-1))*Constraints!$H$17/Constraints!$D$24+1,((EXP(LN(Roadside!$F$10)*(IF(D$79=\"None\",40,D$78)-30)/30)-1))*Constraints!$H$17/Constraints!$D$24+1)),(IF($B$31=\"Yes\",((EXP(LN(Roadside!$F$11)*(IF(D$79=\"None\",40,D$78)-30)/30)-1))*Constraints!$H$31/Constraints!$D$38+1,((EXP(LN(Roadside!$F$10)*(IF(D$79=\"None\",40,D$78)-30)/30)-1))*Constraints!$H$31/Constraints!$D$38+1)))","v":1.0472592444132678},{"$f":"IF(E24=INDEX(MedConf_Header,1,2),(IF($B$31=\"Yes\",((EXP(LN(Roadside!$F$11)*(IF(E$79=\"None\",40,E$78)-30)/30)-1))*Constraints!$H$17/Constraints!$D$24+1,((EXP(LN(Roadside!$F$10)*(IF(E$79=\"None\",40,E$78)-30)/30)-1))*Constraints!$H$17/Constraints!$D$24+1)),(IF($B$31=\"Yes\",((EXP(LN(Roadside!$F$11)*(IF(E$79=\"None\",40,E$78)-30)/30)-1))*Constraints!$H$31/Constraints!$D$38+1,((EXP(LN(Roadside!$F$10)*(IF(E$79=\"None\",40,E$78)-30)/30)-1))*Constraints!$H$31/Constraints!$D$38+1)))","v":0.97942029665168673},{"$f":"IF(F24=INDEX(MedConf_Header,1,2),(IF($B$31=\"Yes\",((EXP(LN(Roadside!$F$11)*(IF(F$79=\"None\",40,F$78)-30)/30)-1))*Constraints!$H$17/Constraints!$D$24+1,((EXP(LN(Roadside!$F$10)*(IF(F$79=\"None\",40,F$78)-30)/30)-1))*Constraints!$H$17/Constraints!$D$24+1)),(IF($B$31=\"Yes\",((EXP(LN(Roadside!$F$11)*(IF(F$79=\"None\",40,F$78)-30)/30)-1))*Constraints!$H$31/Constraints!$D$38+1,((EXP(LN(Roadside!$F$10)*(IF(F$79=\"None\",40,F$78)-30)/30)-1))*Constraints!$H$31/Constraints!$D$38+1)))","v":1.0472592444132678},{"$f":"IF(G24=INDEX(MedConf_Header,1,2),(IF($B$31=\"Yes\",((EXP(LN(Roadside!$F$11)*(IF(G$79=\"None\",40,G$78)-30)/30)-1))*Constraints!$H$17/Constraints!$D$24+1,((EXP(LN(Roadside!$F$10)*(IF(G$79=\"None\",40,G$78)-30)/30)-1))*Constraints!$H$17/Constraints!$D$24+1)),(IF($B$31=\"Yes\",((EXP(LN(Roadside!$F$11)*(IF(G$79=\"None\",40,G$78)-30)/30)-1))*Constraints!$H$31/Constraints!$D$38+1,((EXP(LN(Roadside!$F$10)*(IF(G$79=\"None\",40,G$78)-30)/30)-1))*Constraints!$H$31/Constraints!$D$38+1)))","v":1.0472592444132678},{"$f":"IF($I$2=\"Existing\",(D187),(IF($I$2=\"Design 1\",(F187),(IF($I$2=\"Design 2\",(G187),(IF($I$2=\"Optimal\",(I187),E187)))))))","v":0.97942029665168673},{"$f":"IF(I24=INDEX(MedConf_Header,1,2),(IF($B$31=\"Yes\",((EXP(LN(Roadside!$F$11)*(IF(I$79=\"None\",40,I$78)-30)/30)-1))*Constraints!$H$17/Constraints!$D$24+1,((EXP(LN(Roadside!$F$10)*(IF(I$79=\"None\",40,I$78)-30)/30)-1))*Constraints!$H$17/Constraints!$D$24+1)),(IF($B$31=\"Yes\",((EXP(LN(Roadside!$F$11)*(IF(I$79=\"None\",40,I$78)-30)/30)-1))*Constraints!$H$31/Constraints!$D$38+1,((EXP(LN(Roadside!$F$10)*(IF(I$79=\"None\",40,I$78)-30)/30)-1))*Constraints!$H$31/Constraints!$D$38+1)))","v":0.97942029665168673},null,{"$f":"INDEX($D187:$I187,K$100)","v":1.0472592444132678},{"$f":"INDEX($D187:$I187,L$100)","v":0.97942029665168673},6.4777606999867676E-2,null,9.0307162971216326E-2]
[null,null,"Roadside Obstruction Type",{"$f":"IF(D24=INDEX(MedConf_Header,1,2),(IF(D$79=\"Guardrail\",(Roadside!$F$25-1)*(($I$78-D$78)/$I$78)^2*Constraints!$H$17/Constraints!$D$24+1,1)),(IF(D$79=\"Guardrail\",(Roadside!$F$25-1)*(($I$78-D$78)/$I$78)^2*Constraints!$H$31/Constraints!$D$38+1,1)))","v":1},{"$f":"IF(E24=INDEX(MedConf_Header,1,2),(IF(E$79=\"Guardrail\",(Roadside!$F$25-1)*(($I$78-E$78)/$I$78)^2*Constraints!$H$17/Constraints!$D$24+1,1)),(IF(E$79=\"Guardrail\",(Roadside!$F$25-1)*(($I$78-E$78)/$I$78)^2*Constraints!$H$31/Constraints!$D$38+1,1)))","v":1},{"$f":"IF(F24=INDEX(MedConf_Header,1,2),(IF(F$79=\"Guardrail\",(Roadside!$F$25-1)*(($I$78-F$78)/$I$78)^2*Constraints!$H$17/Constraints!$D$24+1,1)),(IF(F$79=\"Guardrail\",(Roadside!$F$25-1)*(($I$78-F$78)/$I$78)^2*Constraints!$H$31/Constraints!$D$38+1,1)))","v":1},{"$f":"IF(G24=INDEX(MedConf_Header,1,2),(IF(G$79=\"Guardrail\",(Roadside!$F$25-1)*(($I$78-G$78)/$I$78)^2*Constraints!$H$17/Constraints!$D$24+1,1)),(IF(G$79=\"Guardrail\",(Roadside!$F$25-1)*(($I$78-G$78)/$I$78)^2*Constraints!$H$31/Constraints!$D$38+1,1)))","v":1},{"$f":"IF($I$2=\"Existing\",(D188),(IF($I$2=\"Design 1\",(F188),(IF($I$2=\"Design 2\",(G188),(IF($I$2=\"Optimal\",(I188),E188)))))))","v":1},{"$f":"IF(I24=INDEX(MedConf_Header,1,2),(IF(I$79=\"Guardrail\",(Roadside!$F$25-1)*(($I$78-I$78)/$I$78)^2*Constraints!$H$17/Constraints!$D$24+1,1)),(IF(I$79=\"Guardrail\",(Roadside!$F$25-1)*(($I$78-I$78)/$I$78)^2*Constraints!$H$31/Constraints!$D$38+1,1)))","v":1},null,{"$f":"INDEX($D188:$I188,K$100)","v":1},{"$f":"INDEX($D188:$I188,L$100)","v":1},0,null,0]
[null,null,null,null,null,null,null,null,null,null,{"$f":"INDEX($D189:$I189,K$100)","v":0},{"$f":"INDEX($D189:$I189,L$100)","v":0},0]
[null,null,null,null,null,null,null,null,null,null,{"$f":"INDEX($D190:$I190,K$100)","v":0},{"$f":"INDEX($D190:$I190,L$100)","v":0},0]
[null,null,"COMBINED Calculated CMF",{"$f":"+D184*D185*D186*D187*D188","v":1.0232896747360256},{"$f":"+E184*E185*E186*E187*E188","v":0.82567459604163929},1.0232896747360256,1.0232896747360256,{"$f":"IF($I$2=\"Existing\",(D191),(IF($I$2=\"Design 1\",(F191),(IF($I$2=\"Design 2\",(G191),(IF($I$2=\"Optimal\",(I191),E191)))))))","v":0.82567459604163929},{"$f":"+I184*I185*I186*I187*I188","v":0.75970050156555824},null,{"$f":"INDEX($D191:$I191,K$100)","v":1.0232896747360256},{"$f":"INDEX($D191:$I191,L$100)","v":0.82567459604163929},0.1931174364144389]
[null,null,"Calculated Relative to Design Standards (Column E)",{"$f":"+D191/$E$191","v":1.2393377241370527},{"$f":"+E191/$E$191","v":1},1.2393377241370527,1.2393377241370527,1,{"$f":"+I191/$E$191","v":0.92009673690777583},null,{"$f":"INDEX($D192:$I192,K$100)","v":1.2393377241370527},{"$f":"INDEX($D192:$I192,L$100)","v":1},0.1931174364144389]
[null,null,"P(Crash)",{"$f":"+D192/(D192+1)","v":0.55343939896990835},0.5,0.55343939896990835,0.55343939896990835,0.5,{"$f":"+I192/(I192+1)","v":0.47919290691027777},null,{"$f":"INDEX($D193:$I193,K$100)","v":0.55343939896990835},{"$f":"INDEX($D193:$I193,L$100)","v":0.5},9.6558718207219618E-2]
[null,null,"Factor Change on S curve",{"$f":"+D193/$E$193","v":1.1068787979398167},{"$f":"+E193/$E$193","v":1},1.1068787979398167,1.1068787979398167,1,{"$f":"+I193/$E$193","v":0.95838581382055554},null,{"$f":"INDEX($D194:$I194,K$100)","v":1.1068787979398167},{"$f":"INDEX($D194:$I194,L$100)","v":1},9.6558718207219618E-2]
[null,null,"Adjust to Scale of 100",{"$f":"+$I$118/D194*100","v":{"$error":"#VALUE!"}},{"$error":"#VALUE!"},{"$error":"#VALUE!"},{"$error":"#VALUE!"},{"$error":"#VALUE!"},{"$f":"+$I$118/I194*100","v":{"$error":"#VALUE!"}},null,{"$f":"INDEX($D195:$I195,K$100)","v":{"$error":"#VALUE!"}},{"$f":"INDEX($D195:$I195,L$100)","v":{"$error":"#VALUE!"}},0]
[null,null,"Unadjusted Combined Relative to Standard",{"$f":"+D191/$E$191","v":1.2393377241370527},{"$f":"+E191/$E$191","v":1},1.2393377241370527,1.2393377241370527,1,{"$f":"+I191/$E$191","v":0.92009673690777583},{"$f":"I202/E202","v":1.0810810810810811},{"$f":"INDEX($D196:$I196,K$100)","v":1.2393377241370527},{"$f":"INDEX($D196:$I196,L$100)","v":1},0.1931174364144389]
[null,null,null,null,null,null,null,null,null,null,{"$f":"INDEX($D197:$I197,K$100)","v":0},{"$f":"INDEX($D197:$I197,L$100)","v":0},0]
[null,null,"Adjusted for PA Basis",{"$f":"+D191*(1+1)/(1+D191*1)","v":1.0115107960203793},0.90451452611745442,1.0115107960203793,1.0115107960203793,{"$f":"IF($I$2=\"Existing\",(D198),(IF($I$2=\"Design 1\",(F198),(IF($I$2=\"Design 2\",(G198),(IF($I$2=\"Optimal\",(I198),E198)))))))","v":0.90451452611745442},{"$f":"+I191*(1+1)/(1+I191*1)","v":0.86344295621859868},null,{"$f":"INDEX($D198:$I198,K$100)","v":1.0115107960203793},{"$f":"INDEX($D198:$I198,L$100)","v":0.90451452611745442},0.10577867317272727]
[null,null,"Corrected by Odds Ratio",{"$f":"+D191/$E$191","v":1.2393377241370527},{"$f":"+E191/$E$191","v":1},1.2393377241370527,1.2393377241370527,{"$f":"IF($I$2=\"Existing\",(D199),(IF($I$2=\"Design 1\",(F199),(IF($I$2=\"Design 2\",(G199),(IF($I$2=\"Optimal\",(I199),E199)))))))","v":1},{"$f":"+I191/$E$191","v":0.92009673690777583},{"$f":"I205/E205","v":1.4814814814814814},{"$f":"INDEX($D199:$I199,K$100)","v":1.2393377241370527},{"$f":"INDEX($D199:$I199,L$100)","v":1},0.1931174364144389]
[null,null,null,{"$f":"(1/D199)^$D203","v":1.8666691582346016E-8},{"$f":"(1/E199)^$D203","v":1},1.8666691582346016E-8,1.8666691582346016E-8,1,998.99999999999955]
[null,null,null,{"$f":"(D200+$F204-1)/(1+(D200+$F204-1))","v":0.50000000466667294},{"$f":"(E200+$F204-1)/(1+(E200+$F204-1))","v":0.66666666666666663},0.50000000466667294,0.50000000466667294,0.66666666666666663,0.99900099900099903]
[null,null,"Score Odds Ratio with Optimal as 100 (old)",{"$f":"MIN(ROUND($I$199/D199*Construction!$I$4,0),$I202)","v":30},{"$f":"MIN(ROUND($I$199/E199*Construction!$I$4,0),$I202)","v":37},{"$f":"MIN(ROUND($I$199/F199*Construction!$I$4,0),$I202)","v":30},{"$f":"MIN(ROUND($I$199/G199*Construction!$I$4,0),$I202)","v":30},null,{"$f":"ROUND($I$199/I199*Construction!$I$4,0)","v":40}]
[null,null,"Logistic1",{"$f":"LN((D204/(1-D204))/(0.5/0.5))/LN($E199/I199)","v":82.937655007418002}]
[null,null,"Logistic Param",0.999,null,2]
[null,null,"Score ",{"$f":"MIN(ROUND(D201*Construction!$I$4,0),$I202)","v":20},{"$f":"MIN(ROUND(E201*Construction!$I$4,0),$I202)","v":27},{"$f":"MIN(ROUND(F201*Construction!$I$4,0),$I202)","v":20},{"$f":"MIN(ROUND(G201*Construction!$I$4,0),$I202)","v":20},null,{"$f":"MIN(ROUND(I201*Construction!$I$4,0),$I202)","v":40}]
[]
[]
[]
[]
[null,null,{"$f":"D87/D183","v":{"$error":"#DIV/0!"}},null,{"$f":"ROUNDUP((MIN($I$14,$I$15)-E27-E28)/$C$210,0)","v":{"$error":"#DIV/0!"}},{"$f":"ROUNDUP((MIN($I$14,$I$15)-F27-F28)/$C$210,0)","v":{"$error":"#DIV/0!"}},{"$f":"ROUNDUP((MIN($I$14,$I$15)-G27-G28)/$C$210,0)","v":{"$error":"#DIV/0!"}},null,{"$f":"ROUNDUP((MIN($I$14,$I$15)-I27-I28)/$C$210,0)","v":{"$error":"#DIV/0!"}}]
[]
[]
[null,null,"Distance to low point","Distance to low point",{"$f":"$C$210*E183","v":{"$error":"#DIV/0!"}},{"$f":"$C$210*F183","v":{"$error":"#DIV/0!"}},{"$error":"#DIV/0!"},null,{"$f":"$C$210*I183","v":{"$error":"#DIV/0!"}}]
[null,null,null,"Additional ROW1 Needed for Foreslope",{"$f":"IF(E213>($I$14-E27-E28),E213-($I$14-E27-E28),0)","v":{"$error":"#DIV/0!"}},{"$f":"IF(F213>($I$14-F27-F28),F213-($I$14-F27-F28),0)","v":{"$error":"#DIV/0!"}},{"$f":"IF(G213>($I$14-G27-G28),G213-($I$14-G27-G28),0)","v":{"$error":"#DIV/0!"}},null,{"$f":"IF(I213>($I$14-I27-I28),I213-($I$14-I27-I28),0)","v":{"$error":"#DIV/0!"}}]
[null,null,null,"Additional ROW2 Needed for Foreslope",{"$f":"IF(E213>($I$15-E27-E28),E213-($I$15-E27-E28),0)","v":{"$error":"#DIV/0!"}},{"$f":"IF(F213>($I$15-F27-F28),F213-($I$15-F27-F28),0)","v":{"$error":"#DIV/0!"}},{"$f":"IF(G213>($I$15-G27-G28),G213-($I$15-G27-G28),0)","v":{"$error":"#DIV/0!"}},null,{"$f":"IF(I213>($I$15-I27-I28),I213-($I$15-I27-I28),0)","v":{"$error":"#DIV/0!"}}]
[]
[null,null,null,"Additional ROW1 Needed for Lateral Clearance",{"$f":"IF((CL251+E30)-$I$14<0,0,(CL251+E30)-$I$14)","v":2},{"$f":"IF((CM251+F30)-$I$14<0,0,(CM251+F30)-$I$14)","v":0},{"$f":"IF((CN251+G30)-$I$14<0,0,(CN251+G30)-$I$14)","v":0},null,{"$f":"IF((CP251+I30)-$I$14<0,0,(CP251+I30)-$I$14)","v":2}]
[null,null,null,"Additional ROW2 Needed for Lateral Clearance",{"$f":"IF((CL251+E30)-$I$15<0,0,(CL251+E30)-$I$15)","v":2},{"$f":"IF((CM251+F30)-$I$15<0,0,(CM251+F30)-$I$15)","v":0},{"$f":"IF((CN251+G30)-$I$15<0,0,(CN251+G30)-$I$15)","v":0},null,{"$f":"IF((CP251+I30)-$I$15<0,0,(CP251+I30)-$I$15)","v":2}]
[]
[]
[]
[]
[]
[]
[]
[]
[]
[]
[]
[null,null,"For Vertical Opt Use when Yes Vertical:"]
[null,null,"G1",{"$f":"D40","v":0},null,{"$f":"F40","v":0},{"$f":"G40","v":0},null,{"$f":"IF(ISERROR($E$238),\"\",INDEX(D231:G231,$E$238))","v":""}]
[null,null,"G2",{"$f":"D41","v":0},null,{"$f":"F41","v":0},{"$f":"G41","v":0},null,{"$f":"IF(ISERROR($E$238),\"\",INDEX(D232:G232,$E$238))","v":""}]
[null,null,"abs(G2-G1)",{"$f":"ABS(D40-D41)","v":0},null,{"$f":"ABS(F40-F41)","v":0},{"$f":"ABS(G40-G41)","v":0}]
[null,null,"Count in indicator (K no change; or K change but accept)",{"$f":"IF(D43<>\"\",1,\"\")","v":""},null,{"$f":"IF(OR(AND($B$38 = \"Yes\", $D$43 <> F43, F43 <>\"\", $D$43 <> \"\", F45=\"Yes.\"),AND($B$38 = \"Yes\", $D$43 = F43, F43 <>\"\", $D$43 <> \"\")), 1,\"\")","v":""},{"$f":"IF(OR(AND($B$38 = \"Yes\", $D$43 <> G43, G43 <>\"\", $D$43 <> \"\", G45=\"Yes.\"),AND($B$38 = \"Yes\", $D$43 = G43, G43 <>\"\", $D$43 <> \"\")), 1,\"\")","v":""}]
[]
[null,null,"Valid abs(G2-G1)",{"$f":"IF(ISERROR(D233*D234),\"\",D233*D234)","v":""},null,{"$f":"IF(ISERROR(F233*F234),\"\",F233*F234)","v":""},{"$f":"IF(ISERROR(G233*G234),\"\",G233*G234)","v":""}]
[null,null,"The min valid abs(G2-G1)",null,{"$f":"MIN(D236,F236,G236)","v":0}]
[null,null,"Index",null,{"$f":"MATCH(E237,D236:G236,0)","v":{"$error":"#N/A"}}]
[]
[null,null,"For Vertical Opt Use When No Vertical:"]
[null,null,"G1",{"$f":"IF(ISBLANK(D40), 999, D40)","v":999},null,{"$f":"IF(ISBLANK(F40), 999, F40)","v":999},{"$f":"IF(ISBLANK(G40), 999, G40)","v":999},null,{"$f":"IF(E246=999,\"\",E246)","v":""}]
[null,null,"Sign of G1",{"$f":"IF(D241>=0,1,-1)","v":1},null,{"$f":"IF(F241>=0,1,-1)","v":1},{"$f":"IF(G241>=0,1,-1)","v":1}]
[null,null,"Abs G1",{"$f":"ABS(D241)","v":999},null,{"$f":"ABS(F241)","v":999},{"$f":"ABS(G241)","v":999}]
[null,null,"Min Abs G1",null,{"$f":"MIN(D243:G243)","v":999}]
[null,null,"Which is the Best G1",null,{"$f":"MATCH(E244,D243:G243,0)","v":1}]
[null,null,"Best G1 Value",null,{"$f":"INDEX(D241:G241,1,E245)","v":999}]
[]
[]
[null,null,"Check if all cells filled",{"$f":"SUM(D251:D314)","v":19},{"$f":"SUM(E251:E314)","v":1},19,19,0,0]
[]
[null,null,{"$f":"C24","v":"Configuration of Multilane Roadway"},{"$f":"IF(ISBLANK(D24),1,0)","v":1},{"$f":"IF(ISBLANK(E24),1,0)","v":0},1,1,null,0]
[null,null,{"$f":"C25","v":"Median Configuration (Width or Type)"},{"$f":"IF(AND(D24<>\"No Median\", ISBLANK(D25)),1,0)","v":1},0,{"$f":"IF(AND(F24<>\"No Median\", ISBLANK(F25)),1,0)","v":1},{"$f":"IF(AND(G24<>\"No Median\", ISBLANK(G25)),1,0)","v":1},null,0]
[]
[null,null,"Lane Width (feet)",{"$f":"IF(ISBLANK(D27),1,0)","v":1},0,1,1,null,{"$f":"IF(ISBLANK(I27),1,0)","v":0}]
[null,null,"Average Outside Shoulder Width (feet)",1,0,1,1,null,0]
[null,null,"Average Inside Shoulder Width (feet)",1,0,1,1,null,0]
[null,null,"Number of Lanes per Direction of Travel",1,0,1,1,null,0]
[null,null,"Horizontal Curve Present?"]
[null,null,"Horizontal Curve Data for Controlling Element:"]
[null,null,"  Radius (feet)",{"$f":"IF(AND($B$31=\"Yes\", ISBLANK(D33)),1,0)","v":0},null,{"$f":"IF(AND($B$31=\"Yes\", ISBLANK(F33)),1,0)","v":0},{"$f":"IF(AND($B$31=\"Yes\", ISBLANK(G33)),1,0)","v":0},null,{"$f":"IF(ISBLANK(I33),1,0)","v":0}]
[null,null,"Length of Horizontal Curve (feet)",{"$f":"IF(AND($B$31=\"Yes\", ISBLANK(D34)),1,0)","v":0},null,{"$f":"IF(AND($B$31=\"Yes\", ISBLANK(F34)),1,0)","v":0},{"$f":"IF(AND($B$31=\"Yes\", ISBLANK(G34)),1,0)","v":0},null,0]
[null,null,"Calculated Deflection Angle ∆"]
[]
[null,null,null,null,null,{"$f":"IF(AND($B$31 = \"Yes\", $D$35 <> F35, F35<>\"\",ISBLANK(F37)),1,0)","v":0},{"$f":"IF(AND($B$31 = \"Yes\", $D$35 <> G35, G35<>\"\",ISBLANK(G37)),1,0)","v":0}]
[null,null,"Vertical Curve Present?"]
[null,null,"Vertical Curve Data for Controlling Element:"]
[null,null,"  Approach (Entry) Grade, G1 (%)",{"$f":"IF(ISBLANK(D40),1,0)","v":1},0,1,1,null,{"$f":"IF(ISBLANK(I40),1,0)","v":0}]
[null,null,"  Departure (Exit) Grade, G2 (%)",{"$f":"IF(AND($B$38=\"Yes\", ISBLANK(D41)),1,0)","v":0},{"$f":"IF(AND($B$38=\"Yes\", ISBLANK(E41)),1,0)","v":0},0,0,null,0]
[null,null,"  Length (feet)",{"$f":"IF(AND($B$38=\"Yes\", ISBLANK(D42)),1,0)","v":0},0,0,0,null,0]
[null,null,"  Calculated Rate of Change, K (ft/ft)"]
[]
[]
[null,null,"  Calculated Sag or Crest?"]
[]
[]
[null,null,"Geometric Design Element (Partial Score)"]
[null,null,"Total Safety Score"]
[]
[]
[]
[]
[]
[null,null,"Advance Static Curve Warning Signs",{"$f":"IF(AND($B$31=\"Yes\", ISBLANK(D56)),1,0)","v":0},{"$f":"IF(AND($B$31=\"Yes\", ISBLANK(E56)),1,0)","v":0},0,0,null,{"$f":"IF(ISBLANK(I56),1,0)","v":0}]
[null,null,"Chevron Signs on Horizontal Curves",{"$f":"IF(AND($B$31=\"Yes\", ISBLANK(D57)),1,0)","v":0},0,0,0,null,0]
[null,null,"Post-Mounted Delineators",0,0,0,0,null,0]
[null,null,"Edgeline Pavement Markings or Profile Markings",{"$f":"IF(ISBLANK(D59),1,0)","v":1},0,1,1,null,0]
[null,null,"Shoulder Rumble Strips",1,0,1,1,null,0]
[null,null,"Centerline Rumble Strips",1,0,1,1,null,0]
[null,null,"Driveway Density (driveways per mile)",1,0,1,1,null,0]
[null,null,"Lighting",1,0,1,1,null,0]
[null,null,"Pavement Friction (skid number) ***",1,0,1,1,null,0]
[null,null,"Traffic Control Element (Partial Score):"]
[null,null,"Total Safety Score"]
[]
[]
[]
[]
[]
[]
[]
[]
[null,null,"Roadside Sideslope (Foreslope)",{"$f":"IF(ISBLANK(D75),1,0)","v":1},0,1,1,null,{"$f":"IF(ISBLANK(I75),1,0)","v":0}]
[null,null,"Roadside Backslope",1,0,1,1,null,0]
[null,null,"Safety Edge",1,0,1,1,null,0]
[null,null,"Roadside Lateral Clearance to Obstruction (ft)",1,0,1,1,null,0]
[null,null,"Roadside Obstruction Type",1,0,1,1,null,0]
[null,null,"Roadside Element (Partial Score):"]
[null,null,"Total Safety Score"]
[]
[]
[]
[]
[]
[null,null,"Distance to Slope Toe from Shoulder (ft)",{"$f":"IF(ISBLANK(D87),1,0)","v":1},{"$f":"D314","v":1},{"$f":"E314","v":1},1,null,0]
[null,null,null,null,null,null,null,null,{"$f":"SUM(I316:I324)","v":9}]
[null,null,null,null,null,null,null,{"$f":"F9","v":"Location "},{"$f":"IF(ISBLANK(I9),1,0)","v":1}]
[null,null,null,null,null,null,null,{"$f":"F10","v":"Design Speed (mph)"},{"$f":"IF(ISBLANK(I10),1,0)","v":1}]
[null,null,null,null,null,null,null,"Posted Speed (mph)",1]
[null,null,null,null,null,null,null,"E max (%)",1]
[null,null,null,null,null,null,null,"    Design Year AADT (vehicles per day)",1]
[null,null,null,null,null,null,null,"    Dist. from Centerline to Left   ROW (feet)",1]
[null,null,null,null,null,null,null,"    Dist. from Centerline to Right ROW (feet)",1]
[null,null,null,null,null,null,null,"H CV",{"$f":"IF(ISBLANK(B31),1,0)","v":1}]
[null,null,null,null,null,null,null,"V HV",{"$f":"IF(ISBLANK(B38),1,0)","v":1}]
[]
[]
[]
[]
[]
[]
[]
[]
[]
[]
[]
[]
[]
[]
[]
[]
[]
[]
[]
[]
[]
[]
[]
[]
[]
[]
[]
[]
[]
[]
[]
[]
[]
[]
[]
[]
[]
[]
[]
[]
[]
[]
[]
[]
[]
[]
[]
[]
[]
[]
[]
[]
[]
[]
[1]
[22]
[21]
[20]
[19,null,null,{"$f":"Constraints!P174","v":"Emax=6%"}]
[18]
[17,null,{"$f":"HLOOKUP($I$10,Constraints!$Q$176:AD197,A379,TRUE)","v":{"$error":"#N/A"}},{"$f":"Constraints!P176","v":"super"}]
[16,null,{"$f":"HLOOKUP($I$10,Constraints!$Q$176:AD198,A380,TRUE)","v":{"$error":"#N/A"}},{"$f":"Constraints!P197","v":6},1050]
[15,null,{"$f":"HLOOKUP($I$10,Constraints!$Q$176:AD199,A381,TRUE)","v":{"$error":"#N/A"}},{"$f":"Constraints!P196","v":5.8}]
[14,null,{"$f":"HLOOKUP($I$10,Constraints!$Q$176:AD200,A382,TRUE)","v":{"$error":"#N/A"}},{"$f":"Constraints!P195","v":5.6}]
[13,null,{"$f":"HLOOKUP($I$10,Constraints!$Q$176:AD201,A383,TRUE)","v":{"$error":"#N/A"}},{"$f":"Constraints!P194","v":5.4}]
[12,null,{"$f":"HLOOKUP($I$10,Constraints!$Q$176:AD202,A384,TRUE)","v":{"$error":"#N/A"}},{"$f":"Constraints!P193","v":5.2}]
[11,null,{"$f":"HLOOKUP($I$10,Constraints!$Q$176:AD203,A385,TRUE)","v":{"$error":"#N/A"}},{"$f":"Constraints!P192","v":5}]
[10,null,{"$f":"HLOOKUP($I$10,Constraints!$Q$176:AD204,A386,TRUE)","v":{"$error":"#N/A"}},{"$f":"Constraints!P191","v":4.8}]
[9,null,{"$f":"HLOOKUP($I$10,Constraints!$Q$176:AD205,A387,TRUE)","v":{"$error":"#N/A"}},{"$f":"Constraints!P190","v":4.5999999999999996}]
[8,null,{"$f":"HLOOKUP($I$10,Constraints!$Q$176:AD206,A388,TRUE)","v":{"$error":"#N/A"}},{"$f":"Constraints!P189","v":4.4000000000000004}]
[7,null,{"$f":"HLOOKUP($I$10,Constraints!$Q$176:AD207,A389,TRUE)","v":{"$error":"#N/A"}},{"$f":"Constraints!P188","v":4.2}]
[6,null,{"$f":"HLOOKUP($I$10,Constraints!$Q$176:AD208,A390,TRUE)","v":{"$error":"#N/A"}},{"$f":"Constraints!P187","v":4}]
[5,null,{"$f":"HLOOKUP($I$10,Constraints!$Q$176:AD209,A391,TRUE)","v":{"$error":"#N/A"}},{"$f":"Constraints!P186","v":3.8}]
[4,null,{"$f":"HLOOKUP($I$10,Constraints!$Q$176:AD210,A392,TRUE)","v":{"$error":"#N/A"}},{"$f":"Constraints!P185","v":3.6}]
[3,null,{"$f":"HLOOKUP($I$10,Constraints!$Q$176:AD211,A393,TRUE)","v":{"$error":"#N/A"}},{"$f":"Constraints!P184","v":3.4}]
[2,null,{"$f":"HLOOKUP($I$10,Constraints!$Q$176:AD212,A394,TRUE)","v":{"$error":"#N/A"}},{"$f":"Constraints!P183","v":3.2}]
[null,null,{"$f":"HLOOKUP($I$10,Constraints!$Q$176:AD213,A395,TRUE)","v":{"$error":"#N/A"}},{"$f":"Constraints!P182","v":3}]
[null,null,{"$f":"HLOOKUP($I$10,Constraints!$Q$176:AD214,A396,TRUE)","v":{"$error":"#N/A"}},{"$f":"Constraints!P181","v":2.8}]
[null,null,{"$f":"HLOOKUP($I$10,Constraints!$Q$176:AD215,A397,TRUE)","v":{"$error":"#N/A"}},{"$f":"Constraints!P180","v":2.6}]
[null,null,{"$f":"HLOOKUP($I$10,Constraints!$Q$176:AD216,A398,TRUE)","v":{"$error":"#N/A"}},{"$f":"Constraints!P179","v":2.4}]
[null,null,{"$f":"HLOOKUP($I$10,Constraints!$Q$176:AD217,A399,TRUE)","v":{"$error":"#N/A"}},{"$f":"Constraints!P178","v":2.2000000000000002}]
[1,null,{"$f":"HLOOKUP($I$10,Constraints!$Q$176:AD218,A400,TRUE)","v":{"$error":"#N/A"}},{"$f":"Constraints!P177","v":2}]
[32]
[31]
[30]
[29,null,null,{"$f":"Constraints!P201","v":"Emax=8%"}]
[28]
[27,null,{"$f":"HLOOKUP($I$10,Constraints!$Q$203:AD234,A406,TRUE)","v":{"$error":"#N/A"}},{"$f":"Constraints!P203","v":"super"}]
[26,null,{"$f":"HLOOKUP($I$10,Constraints!$Q$203:AD235,A407,TRUE)","v":{"$error":"#N/A"}},{"$f":"INDEX(Constraints!$P$203:$P$234,A407,)","v":8}]
[25,null,{"$f":"HLOOKUP($I$10,Constraints!$Q$203:AD236,A408,TRUE)","v":{"$error":"#N/A"}},{"$f":"INDEX(Constraints!$P$203:$P$234,A408,)","v":7.8}]
[24,null,{"$f":"HLOOKUP($I$10,Constraints!$Q$203:AD237,A409,TRUE)","v":{"$error":"#N/A"}},{"$f":"INDEX(Constraints!$P$203:$P$234,A409,)","v":7.6}]
[23,null,{"$f":"HLOOKUP($I$10,Constraints!$Q$203:AD238,A410,TRUE)","v":{"$error":"#N/A"}},{"$f":"INDEX(Constraints!$P$203:$P$234,A410,)","v":7.4}]
[22,null,{"$f":"HLOOKUP($I$10,Constraints!$Q$203:AD239,A411,TRUE)","v":{"$error":"#N/A"}},{"$f":"INDEX(Constraints!$P$203:$P$234,A411,)","v":7.2}]
[21,null,{"$f":"HLOOKUP($I$10,Constraints!$Q$203:AD240,A412,TRUE)","v":{"$error":"#N/A"}},{"$f":"INDEX(Constraints!$P$203:$P$234,A412,)","v":7}]
[20,null,{"$f":"HLOOKUP($I$10,Constraints!$Q$203:AD241,A413,TRUE)","v":{"$error":"#N/A"}},{"$f":"INDEX(Constraints!$P$203:$P$234,A413,)","v":6.8}]
[19,null,{"$f":"HLOOKUP($I$10,Constraints!$Q$203:AD242,A414,TRUE)","v":{"$error":"#N/A"}},{"$f":"INDEX(Constraints!$P$203:$P$234,A414,)","v":6.6}]
[18,null,{"$f":"HLOOKUP($I$10,Constraints!$Q$203:AD243,A415,TRUE)","v":{"$error":"#N/A"}},{"$f":"INDEX(Constraints!$P$203:$P$234,A415,)","v":6.4}]
[17,null,{"$f":"HLOOKUP($I$10,Constraints!$Q$203:AD244,A416,TRUE)","v":{"$error":"#N/A"}},{"$f":"INDEX(Constraints!$P$203:$P$234,A416,)","v":6.2}]
[16,null,{"$f":"HLOOKUP($I$10,Constraints!$Q$203:AD245,A417,TRUE)","v":{"$error":"#N/A"}},{"$f":"INDEX(Constraints!$P$203:$P$234,A417,)","v":6}]
[15,null,{"$f":"HLOOKUP($I$10,Constraints!$Q$203:AD246,A418,TRUE)","v":{"$error":"#N/A"}},{"$f":"INDEX(Constraints!$P$203:$P$234,A418,)","v":5.8}]
[14,null,{"$f":"HLOOKUP($I$10,Constraints!$Q$203:AD247,A419,TRUE)","v":{"$error":"#N/A"}},{"$f":"INDEX(Constraints!$P$203:$P$234,A419,)","v":5.6}]
[13,null,{"$f":"HLOOKUP($I$10,Constraints!$Q$203:AD248,A420,TRUE)","v":{"$error":"#N/A"}},{"$f":"INDEX(Constraints!$P$203:$P$234,A420,)","v":5.4}]
[12,null,{"$f":"HLOOKUP($I$10,Constraints!$Q$203:AD249,A421,TRUE)","v":{"$error":"#N/A"}},{"$f":"INDEX(Constraints!$P$203:$P$234,A421,)","v":5.2}]
[11,null,{"$f":"HLOOKUP($I$10,Constraints!$Q$203:AD250,A422,TRUE)","v":{"$error":"#N/A"}},{"$f":"INDEX(Constraints!$P$203:$P$234,A422,)","v":5}]
[10,null,{"$f":"HLOOKUP($I$10,Constraints!$Q$203:AD251,A423,TRUE)","v":{"$error":"#N/A"}},{"$f":"INDEX(Constraints!$P$203:$P$234,A423,)","v":4.8}]
[9,null,{"$f":"HLOOKUP($I$10,Constraints!$Q$203:AD252,A424,TRUE)","v":{"$error":"#N/A"}},{"$f":"INDEX(Constraints!$P$203:$P$234,A424,)","v":4.5999999999999996}]
[8,null,{"$f":"HLOOKUP($I$10,Constraints!$Q$203:AD253,A425,TRUE)","v":{"$error":"#N/A"}},{"$f":"INDEX(Constraints!$P$203:$P$234,A425,)","v":4.4000000000000004}]
[7,null,{"$f":"HLOOKUP($I$10,Constraints!$Q$203:AD254,A426,TRUE)","v":{"$error":"#N/A"}},{"$f":"INDEX(Constraints!$P$203:$P$234,A426,)","v":4.2}]
[6,null,{"$f":"HLOOKUP($I$10,Constraints!$Q$203:AD255,A427,TRUE)","v":{"$error":"#N/A"}},{"$f":"INDEX(Constraints!$P$203:$P$234,A427,)","v":4}]
[5,null,{"$f":"HLOOKUP($I$10,Constraints!$Q$203:AD256,A428,TRUE)","v":{"$error":"#N/A"}},{"$f":"INDEX(Constraints!$P$203:$P$234,A428,)","v":3.8}]
[4,null,{"$f":"HLOOKUP($I$10,Constraints!$Q$203:AD257,A429,TRUE)","v":{"$error":"#N/A"}},{"$f":"INDEX(Constraints!$P$203:$P$234,A429,)","v":3.6}]
[3,null,{"$f":"HLOOKUP($I$10,Constraints!$Q$203:AD258,A430,TRUE)","v":{"$error":"#N/A"}},{"$f":"INDEX(Constraints!$P$203:$P$234,A430,)","v":3.4}]
[2,null,{"$f":"HLOOKUP($I$10,Constraints!$Q$203:AD259,A431,TRUE)","v":{"$error":"#N/A"}},{"$f":"INDEX(Constraints!$P$203:$P$234,A431,)","v":3.2}]
[null,null,{"$f":"HLOOKUP($I$10,Constraints!$Q$203:AD260,A432,TRUE)","v":{"$error":"#N/A"}},{"$f":"INDEX(Constraints!$P$203:$P$234,A432,)","v":3}]
[null,null,{"$f":"HLOOKUP($I$10,Constraints!$Q$203:AD261,A433,TRUE)","v":{"$error":"#N/A"}},{"$f":"INDEX(Constraints!$P$203:$P$234,A433,)","v":2.8}]
[null,null,{"$f":"HLOOKUP($I$10,Constraints!$Q$203:AD262,A434,TRUE)","v":{"$error":"#N/A"}},{"$f":"INDEX(Constraints!$P$203:$P$234,A434,)","v":2.6}]
[null,null,{"$f":"HLOOKUP($I$10,Constraints!$Q$203:AD263,A435,TRUE)","v":{"$error":"#N/A"}},{"$f":"INDEX(Constraints!$P$203:$P$234,A435,)","v":2.4}]
[null,null,{"$f":"HLOOKUP($I$10,Constraints!$Q$203:AD264,A436,TRUE)","v":{"$error":"#N/A"}},{"$f":"INDEX(Constraints!$P$203:$P$234,A436,)","v":2.2000000000000002}]
[null,null,{"$f":"HLOOKUP($I$10,Constraints!$Q$203:AD265,A437,TRUE)","v":{"$error":"#N/A"}},{"$f":"INDEX(Constraints!$P$203:$P$234,A437,)","v":2}]

{"sheet":"Configuration 8","index":18,"n_rows":443,"n_cols":113,"rows_kept":443,"cut":false,"hidden":false,"merged":[[87,1,87,2],[88,1,88,2],[89,1,89,2],[97,10,97,12],[69,16,69,21],[69,22,69,23],[70,16,70,21],[70,22,70,23],[71,16,71,21],[71,22,71,23],[68,16,68,21],[68,22,68,23],[17,2,17,8],[18,2,18,8],[19,2,19,8],[20,5,20,7],[41,9,41,10],[46,2,47,2],[4,21,44,28],[48,12,48,19],[55,15,55,16],[55,18,55,19],[55,21,55,22],[67,16,67,23],[4,3,4,4],[9,3,9,4],[9,5,9,6],[10,3,10,4],[10,5,10,6],[8,3,8,4],[8,5,8,6],[12,2,15,4],[12,5,12,6],[13,5,13,6],[14,5,14,6],[11,5,11,6],[1,6,2,7],[1,8,2,8],[1,21,1,37],[2,1,2,4],[2,21,3,28],[2,30,3,37],[3,1,3,4],[3,6,4,7],[3,8,4,8],[4,1,4,2],[4,30,44,37],[5,1,5,2],[5,3,5,4],[6,1,6,7],[7,1,7,4],[7,7,7,8]]}
[]
[null,null,null,null,null,null,"Preferred Schematic View to Display",null,"Standard",null,null,null,null,null,null,null,null,null,null,null,null,"NOTES: "]
[null,"CHARACTERISTICS TO CONSIDER FOR ANALYSIS",null,null,null,null,null,null,null,null,null,null,null,null,null,null,null,null,null,null,null,"ELEMENTS INCREASING SAFETY",null,null,null,null,null,null,null,null,"COMMENTS ON PRIMARY CONSTRAINTS"]
[null,"INPUT INSTRUCTIONS",null,null,null,null,"Relative to",null,"Existing"]
[null,"Blue Boxes -- Select from pulldown options",null,"Select from Pulldown"]
[null,"Yellow Boxes -- Type input information into box",null,"Type Input Value"]
[null," Rural Multi-Lane Road Segment -- Safety Score Input",null,null,null,null,null,null,null,null,null,null,null,null,null,null,null,null,null,null,null,null,null,null,null,null,null,null,null,null,null,null,null,null,null,null,null,null,null,null,null,null,null,null,null,null,null,null,null,null,null,null,null,null,null,null,null,null,null,null,null,null,null,null,null,null,null,null,null,null,null,null,null,null,null,null,null,null,null,null,null,null,null,"Unadjusted Marginal Safety"]
[null,"General Information:",null,null,null,"General Site Features",null,{"$f":" I315 & \" Missing Features and Curves\"","v":"9 Missing Features and Curves"},null,null,null,null,null,null,null,null,null,null,null,null,null,null,null,null,null,null,null,null,null,null,null,null,null,null,null,null,null,null,null,null,null,null,null,null,null,null,null,null,null,null,null,null,null,null,null,null,null,null,null,null,null,null,null,null,null,null,null,null,null,null,null,null,null,null,null,null,null,null,null,null,null,null,null,{"$f":"I2&\" relative to \" &I4","v":"Standard relative to Existing"}]
[null,null,"Analyst:",{"$f":"+'Start Here'!H7","v":0},null,"Location "]
[null,null,"Agency or Company:",{"$f":"+'Start Here'!H8","v":0},null,"Design Speed (mph)"]
[null,null,"Date:",{"$f":"+'Start Here'!H9","v":"00:00:00"},null,"Posted Speed (mph)"]
[null,null,"Description:",null,null,"E max (%)"]
[null,null,"Input additional site information here",null,null,"    Design Year AADT (vehicles per day)"]
[null,null,null,null,null,"    Dist. from Centerline to Left   ROW (feet)"]
[null,null,null,null,null,"    Dist. from Centerline to Right ROW (feet)"]
[]
[null,"Warning:"]
[null,null,{"$f":"+IF(+I11>I10,\"Posted speed exceeds design speed. Optimal safety will only be achieved if design speed exceeds posted speed. The Safety Assessment Score is based on the higher of the two speed values.\",\"No speed warnings identified\")","v":"No speed warnings identified"}]
[null,null,{"$f":"IF(OR(F24=INDEX(MedConf_Header,1,3),+G24=INDEX(MedConf_Header,1,3)), \"Multilane undivided facilities are known to have substantially more collisions than multilane facilities with medians. In new construction a median or TWLTL should be considered.\",\" \")","v":" "},null,null,null,null,null,null,null,null,null,null,null,null,null,null,null,null,null,null,null,null,null,null,null,null,null,null,null,null,null,null,null,null,null,null,null,null,null,null,null,null,null,null,null,null,null,null,null,null,null,null,null,null,null,null,null,null,null,null,null,null,null,null,null,null,null,null,null,null,null,null,null,null,null,null,null,null,null,null,null,null,null,null,null,null,null,null,null,null,null,null,null,null,null,null,null,null,null,null,null,null,null,null,{"$f":"COUNTIF(DB23:DB46,DB20)","v":1}]
[null,null,{"$f":"IF(I13=\"40,001 < AADT < 60,000\", \"Multi-lane Road Should be Divided Due to High AADT Value\",\"\")","v":""},null,null,null,null,null,null,null,null,null,null,null,null,null,null,null,null,null,null,null,null,null,null,null,null,null,null,null,null,null,null,null,null,null,null,null,null,null,null,null,null,null,null,null,null,null,null,null,null,null,null,null,null,null,null,null,null,null,null,null,null,null,null,null,null,null,null,null,null,null,null,null,null,null,null,null,null,null,null,null,null,null,null,null,null,null,null,null,null,null,null,null,null,null,null,null,null,null,null,null,null,null,null,{"$f":"VLOOKUP(0,CZ23:DB46,3,)","v":10.01}]
[null,null,null,"Fill all elements",null,"To enter notes, use boxes to the right of the vortex ",null,null,null,null," "]
[null,{"$f":"+Construction!$I$2&\"  Total Available Points\"","v":"40  Total Available Points"},null,{"$f":" D249 & \" Missing Elements\"","v":"19 Missing Elements"},null,{"$f":" F249 & \" Missing Elements\"","v":"19 Missing Elements"},{"$f":" G249 & \" Missing Elements\"","v":"19 Missing Elements"},null,null,null,null,null,null,null,null,null,null,null,null,null,null,null,null,null,null,null,null,null,null,null,null,null,null,null,null,null,null,null,null,null,null,null,null,null,null,null,null,null,null,null,null,null,null,null,null,null,null,null,null,null,null,null,null,null,null,null,null,null,null,null,null,null,null,null,null,null,null,null,null,null,null,null,null,null,null,null,null,null,null,null,null,null,null,null,null,null,null,null,null,null,null,"Ranked element","CRF","abs","Re-rank","Rank","Ranked CRF","Element","New Element","crf.abs","rank","Sorted Element","Sorted CRF"]
[null,"Geometric Design Elements",null,"Existing","Standard (Based on Multi-lane Divided)","Design 1","Design 2",{"$f":"\"Marginal Safety for \"&$I$2&\" (compared to \" & $I$4 & \")\"","v":"Marginal Safety for Standard (compared to Existing)"},"Optimal (Based on Multi-lane Divided)",null,null,null,null,null,null,null,null,null,null,null,null,null,null,null,null,null,null,null,null,null,null,null,null,null,null,null,null,null,null,null,null,null,null,null,null,null,null,null,null,null,null,null,null,null,null,null,null,null,null,null,null,null,null,null,null,null,null,null,null,null,null,null,null,null,null,null,null,null,null,null,null,null,null,null,null,null,null,null,null,null,null,null,null,null,null,null,null,null,null,null,null,{"$f":"IF(CY23=0,\"\",DB23&\". \"&DD23)","v":""},{"$f":"H24","v":0},{"$f":"ABS(CY23)","v":0},{"$f":"_xlfn.RANK.EQ(DB23,$DB$23:$DB$46,1)","v":10},{"$f":"_xlfn.RANK.EQ(CZ23,$CZ$23:$CZ$46)+DG23/100","v":10.01},{"$f":"CY23","v":0},{"$f":"IF(ROUND(DF23,2)=0,\"\",C24)","v":""},{"$f":"DD23","v":""},{"$f":"CZ23","v":0},1,{"$f":"IFERROR(IF(IFERROR(VLOOKUP(DG23,$DA$23:$DF$46,4,)&\", \"&CY23=0,\"\"),\"\",IFERROR(VLOOKUP(DG23,$DA$23:$DE$46,4,),\"\")),\"\")","v":"Pavement Friction (skid number) ***"},{"$f":"IFERROR(IF(IFERROR(VLOOKUP(DG23,$DA$23:$DF$46,3,)&\", \"&CY23=0,\"\"),\"\",IFERROR(VLOOKUP(DG23,$DA$23:$DE$46,3,),\"\")),\"\")","v":0.28430956017940245}]
[null,null,"Configuration of Multilane Roadway",null,"Divided - Unsurfaced Median",null,null,null,"Divided - Unsurfaced Median",null,null,null,null,null,null,null,null,null,null,null,null,null,null,null,null,null,null,null,null,null,null,null,null,null,null,null,null,null,null,null,null,null,null,null,null,null,null,null,null,null,null,null,null,null,null,null,null,null,null,null,null,null,null,null,null,null,null,null,null,null,null,null,null,null,null,null,null,null,null,null,null,null,null,null,null,null,null,null,null,null,null,null,null,null,null,null,null,null,null,null,null,"5.02. Median Configuration (Width or Type)",{"$f":"H25","v":8.9999999999999969E-2},8.9999999999999969E-2,{"$f":"_xlfn.RANK.EQ(DB24,$DB$23:$DB$46,1)","v":5},{"$f":"_xlfn.RANK.EQ(CZ24,$CZ$23:$CZ$46)+DG24/100","v":5.0199999999999996},{"$f":"CY24","v":8.9999999999999969E-2},{"$f":"IF(ROUND(DF24,2)=0,\"\",C25)","v":"Median Configuration (Width or Type)"},{"$f":"DD24","v":"Median Configuration (Width or Type)"},8.9999999999999969E-2,2,{"$f":"IFERROR(IF(IFERROR(VLOOKUP(DG24,$DA$23:$DF$46,4,)&\", \"&CY24=0,\"\"),\"\",IFERROR(VLOOKUP(DG24,$DA$23:$DE$46,4,),\"\")),\"\")","v":"Driveway Density (driveways per mile)"},{"$f":"IFERROR(IF(IFERROR(VLOOKUP(DG24,$DA$23:$DF$46,3,)&\", \"&CY24=0,\"\"),\"\",IFERROR(VLOOKUP(DG24,$DA$23:$DE$46,3,),\"\")),\"\")","v":-0.22388114201141129}]
[null,null,"Median Configuration (Width or Type)",null,30,null,null,{"$f":"M103","v":8.9999999999999969E-2},100,null,null,null,null,null,null,null,null,null,null,null,null,null,null,null,null,null,null,null,null,null,null,null,null,null,null,null,null,null,null,null,null,null,null,null,null,null,null,null,null,null,null,null,null,null,null,null,null,null,null,null,null,null,null,null,null,null,null,null,null,null,null,null,null,null,null,null,null,null,null,null,null,null,null,null,null,null,null,null,null,null,null,null,null,null,null,null,null,null,null,null,null,"",{"$f":"H27","v":0},0,11,10.029999999999999,{"$f":"CY25","v":0},{"$f":"IF(ROUND(DF25,2)=0,\"\",C27)","v":""},{"$f":"DD25","v":""},0,3,{"$f":"IFERROR(IF(IFERROR(VLOOKUP(DG25,$DA$23:$DF$46,4,)&\", \"&CY25=0,\"\"),\"\",IFERROR(VLOOKUP(DG25,$DA$23:$DE$46,4,),\"\")),\"\")","v":"Average Outside Shoulder Width (feet)"},{"$f":"IFERROR(IF(IFERROR(VLOOKUP(DG25,$DA$23:$DF$46,3,)&\", \"&CY25=0,\"\"),\"\",IFERROR(VLOOKUP(DG25,$DA$23:$DE$46,3,),\"\")),\"\")","v":0.18061674008810569}]
[null,null,null,null,null,null,null,null,null,null,null,null,null,null,null,null,null,null,null,null,null,null,null,null,null,null,null,null,null,null,null,null,null,null,null,null,null,null,null,null,null,null,null,null,null,null,null,null,null,null,null,null,null,null,null,null,null,null,null,null,null,null,null,null,null,null,null,null,null,null,null,null,null,null,null,null,null,null,null,null,null,null,null,null,null,null,null,null,null,null,null,null,null,null,null,null,null,null,null,null,null,null,null,null,null,null,null,null,null,null,4,{"$f":"IFERROR(IF(IFERROR(VLOOKUP(DG26,$DA$23:$DF$46,4,)&\", \"&CY26=0,\"\"),\"\",IFERROR(VLOOKUP(DG26,$DA$23:$DE$46,4,),\"\")),\"\")","v":"Roadside Sideslope (Foreslope)"},{"$f":"IFERROR(IF(IFERROR(VLOOKUP(DG26,$DA$23:$DF$46,3,)&\", \"&CY26=0,\"\"),\"\",IFERROR(VLOOKUP(DG26,$DA$23:$DE$46,3,),\"\")),\"\")","v":0.15697622474810147}]
[null,null,"Lane Width (feet)",null,12,null,null,{"$f":"M104","v":0},12,null,null,null,null,null,null,null,null,null,null,null,null,null,null,null,null,null,null,null,null,null,null,null,null,null,null,null,null,null,null,null,null,null,null,null,null,null,null,null,null,null,null,null,null,null,null,null,null,null,null,null,null,null,null,null,null,null,null,null,null,null,null,null,null,null,null,null,null,null,null,null,null,null,null,null,null,null,null,null,null,null,null,null,null,null,null,null,null,null,null,null,null,null,null,null,null,null,null,null,null,null,5,"Median Configuration (Width or Type)",8.9999999999999969E-2]
[null,null,"Average Outside Shoulder Width (feet)",null,8,null,null,{"$f":"M105","v":0.18061674008810569},10,null,null,null,null,null,null,null,null,null,null,null,null,null,null,null,null,null,null,null,null,null,null,null,null,null,null,null,null,null,null,null,null,null,null,null,null,null,null,null,null,null,null,null,null,null,null,null,null,null,null,null,null,null,null,null,null,null,null,null,null,null,null,null,null,null,null,null,null,null,null,null,null,null,null,null,null,null,null,null,null,null,null,null,null,null,null,null,null,null,null,null,null,{"$f":"IF(CY28=0,\"\",DB28&\". \"&DD28)","v":"3.06. Average Outside Shoulder Width (feet)"},{"$f":"H28","v":0.18061674008810569},{"$f":"ABS(CY28)","v":0.18061674008810569},3,3.06,{"$f":"CY28","v":0.18061674008810569},{"$f":"IF(ROUND(DF28,2)=0,\"\",C28)","v":"Average Outside Shoulder Width (feet)"},{"$f":"DD28","v":"Average Outside Shoulder Width (feet)"},{"$f":"CZ28","v":0.18061674008810569},6,"Roadside Lateral Clearance to Obstruction (ft)",6.4777606999867676E-2]
[null,null,"Average Inside Shoulder Width (feet)",null,4,null,null,{"$f":"M106","v":0},10,null,null,null,null,null,null,null,null,null,null,null,null,null,null,null,null,null,null,null,null,null,null,null,null,null,null,null,null,null,null,null,null,null,null,null,null,null,null,null,null,null,null,null,null,null,null,null,null,null,null,null,null,null,null,null,null,null,null,null,null,null,null,null,null,null,null,null,null,null,null,null,null,null,null,null,null,null,null,null,null,null,null,null,null,null,null,null,null,null,null,null,null,{"$f":"IF(CY29=0,\"\",DB29&\". \"&DD29)","v":""},{"$f":"H33","v":0},{"$f":"ABS(CY29)","v":0},12,10.07,0,{"$f":"IF(ROUND(DF29,2)=0,\"\",\"Hz and Vt Alignment\")","v":""},"",{"$f":"CZ29","v":0},7,"Safety Edge",-2.3424031600265627E-2]
["",null,"Number of Lanes per Direction of Travel",null,2,null,null,null,2,null,null,null,null,null,null,null,null,null,null,null,null,null,null,null,null,null,null,null,null,null,null,null,null,null,null,null,null,null,null,null,null,null,null,null,null,null,null,null,null,null,null,null,null,null,null,null,null,null,null,null,null,null,null,null,null,null,null,null,null,null,null,null,null,null,null,null,null,null,null,null,null,null,null,null,null,null,null,null,null,null,null,null,null,null,null,null,null,null,null,null,null,{"$f":"IF(CY30=0,\"\",DB30&\". \"&DD30)","v":""},{"$f":"H29","v":0},{"$f":"ABS(CY30)","v":0},13,10.08,0,{"$f":"IF(ROUND(DF30,2)=0,\"\",C29)","v":""},"",{"$f":"CZ30","v":0},8,"Shoulder Rumble Strips",2.2875008800570917E-2]
[null,null,"Horizontal Curve Present?","--","--","--","--",null,"--",null,null,null,null,null,null,null,null,null,null,null,null,null,null,null,null,null,null,null,null,null,null,null,null,null,null,null,null,null,null,null,null,null,null,null,null,null,null,null,null,null,null,null,null,null,null,null,null,null,null,null,null,null,null,null,null,null,null,null,null,null,null,null,null,null,null,null,null,null,null,null,null,null,null,null,null,null,null,null,null,null,null,null,null,null,null,null,null,null,null,null,null,{"$f":"IF(CY31=0,\"\",DB31&\". \"&DD31)","v":""},{"$f":"H47","v":0},{"$f":"ABS(CY31)","v":0},14,10.09,0,{"$f":"IF(ROUND(DF31,2)=0,\"\",C47)","v":""},"",{"$f":"CZ31","v":0},9,"Lighting",-1.7096579124742384E-2]
[null,null,"Horizontal Curve Data for Controlling Element:","--","--","--","--",null,"--",null,null,null,null,null,null,null,null,null,null,null,null,null,null,null,null,null,null,null,null,null,null,null,null,null,null,null,null,null,null,null,null,null,null,null,null,null,null,null,null,null,null,null,null,null,null,null,null,null,null,null,null,null,null,null,null,null,null,null,null,null,null,null,null,null,null,null,null,null,null,null,null,null,null,null,null,null,null,null,null,null,null,null,null,null,null,null,null,null,null,null,null,"",{"$f":"H48","v":0},0,15,10.1,0,{"$f":"IF(ROUND(DF32,2)=0,\"\",C48)","v":""},"",0,10,"",0]
[null,null,"  Radius (feet)",null,{"$f":"IF(MAX($I$10,$I$11)<45,590,IF($I$12=6,VLOOKUP(MAX($I$10,$I$11),Construction!$B$27:$D$34,2,TRUE),VLOOKUP(MAX($I$10,$I$11),Construction!$G$27:$I$34,2,TRUE)))","v":590},null,null,{"$f":"M144","v":0},{"$f":"IF(MAX($I$10,$I$11)<45,590,IF($I$12=6,VLOOKUP(MAX($I$10,$I$11),Construction!$B$43:$C$50,2,TRUE),VLOOKUP(MAX($I$10,$I$11),Construction!$G$43:$H$50,2,TRUE)))","v":590},null,null,null,null,null,null,null,null,null,null,null,null,null,null,null,null,null,null,null,null,null,null,null,null,null,null,null,null,null,null,null,null,null,null,null,null,null,null,null,null,null,null,null,null,null,null,null,null,null,null,null,null,null,null,null,null,null,null,null,null,null,null,null,null,null,null,null,null,null,null,null,null,null,null,null,null,null,null,null,null,null,null,null,null,null,null,null,null,null,null,null,null,"",{"$f":"H56","v":0},0,16,10.11,0,{"$f":"IF(ROUND(DF33,2)=0,\"\",C56)","v":""},"",0,11,"",0]
[null,null,"Length of Horizontal Curve (feet)",null,{"$f":"IF(D35=\"\", \"\", E33*E35/57.296)","v":""},null,null,null,{"$f":"I33*I35/57.296","v":3758.5520804244625},null,null,null,null,null,null,null,null,null,null,null,null,null,null,null,null,null,null,null,null,null,null,null,null,null,null,null,null,null,null,null,null,null,null,null,null,null,null,null,null,null,null,null,null,null,null,null,null,null,null,null,null,null,null,null,null,null,null,null,null,null,null,null,null,null,null,null,null,null,null,null,null,null,null,null,null,null,null,null,null,null,null,null,null,null,null,null,null,null,null,null,null,"",0,0,17,10.119999999999999,0,"","",0,12,"",0]
[null,null,"Calculated Deflection Angle ∆",{"$f":"IF(OR(ISBLANK(D33),ISBLANK(D34),$B$31=\"No\",ISBLANK($B$31)),\"\",ROUND(D34/D33*57.296,1))","v":""},{"$f":"IF(ISBLANK(D35), \"\",D35)","v":""},{"$f":"IF(OR(ISBLANK(F33),ISBLANK(F34),$B$31=\"No\",ISBLANK($B$31)),\"\",ROUND(F34/F33*57.296,1))","v":""},{"$f":"IF(OR(ISBLANK(G33),ISBLANK(G34),$B$31=\"No\",ISBLANK($B$31)),\"\",ROUND(G34/G33*57.296,1))","v":""},null,{"$f":"MIN(D35,IF(F37=INDEX(HCurveChange,1,0), F35, 365),IF(G37=INDEX(HCurveChange,1,0), G35, 365))","v":365},null,null,null,null,null,null,null,null,null,null,null,null,null,null,null,null,null,null,null,null,null,null,null,null,null,null,null,null,null,null,null,null,null,null,null,null,null,null,null,null,null,null,null,null,null,null,null,null,null,null,null,null,null,null,null,null,null,null,null,null,null,null,null,null,null,null,null,null,null,null,null,null,null,null,null,null,null,null,null,null,null,null,null,null,null,null,null,null,null,null,null,null,"",0,0,18,10.130000000000001,0,"","",0,13,"",0]
[null,null,null,null,null,"∆ has changed. \nAre you changing the ∆?","∆ has changed. \nAre you changing the ∆?",null,null,null,null,null,null,null,null,null,null,null,null,null,null,null,null,null,null,null,null,null,null,null,null,null,null,null,null,null,null,null,null,null,null,null,null,null,null,null,null,null,null,null,null,null,null,null,null,null,null,null,null,null,null,null,null,null,null,null,null,null,null,null,null,null,null,null,null,null,null,null,null,null,null,null,null,null,null,null,null,null,null,null,null,null,null,null,null,null,null,null,null,null,null,"",0,0,19,10.14,0,"","",0,14,"",0]
[null,null,null,null,null,null,null,null,null,null,null,null,null,null,null,null,null,null,null,null,null,null,null,null,null,null,null,null,null,null,null,null,null,null,null,null,null,null,null,null,null,null,null,null,null,null,null,null,null,null,null,null,null,null,null,null,null,null,null,null,null,null,null,null,null,null,null,null,null,null,null,null,null,null,null,null,null,null,null,null,null,null,null,null,null,null,null,null,null,null,null,null,null,null,null,null,null,null,null,null,null,"8.15. Shoulder Rumble Strips",2.2875008800570917E-2,2.2875008800570917E-2,8,8.15,2.2875008800570917E-2,"Shoulder Rumble Strips","Shoulder Rumble Strips",2.2875008800570917E-2,15,"",0]
[null,null,"Vertical Curve Present?","--","--","--","--",null,{"$f":"E38","v":"--"},null,null,null,null,null,null,null,null,null,null,null,null,null,null,null,null,null,null,null,null,null,null,null,null,null,null,null,null,null,null,null,null,null,null,null,null,null,null,null,null,null,null,null,null,null,null,null,null,null,null,null,null,null,null,null,null,null,null,null,null,null,null,null,null,null,null,null,null,null,null,null,null,null,null,null,null,null,null,null,null,null,null,null,null,null,null,null,null,null,null,null,null,"",0,0,20,10.16,0,"","",0,16,"",0]
[null,null,"Vertical Curve Data for Controlling Element:","--","--","--","--",null,"--",null,null,null,null,null,null,null,null,null,null,null,null,null,null,null,null,null,null,null,null,null,null,null,null,null,null,null,null,null,null,null,null,null,null,null,null,null,null,null,null,null,null,null,null,null,null,null,null,null,null,null,null,null,null,null,null,null,null,null,null,null,null,null,null,null,null,null,null,null,null,null,null,null,null,null,null,null,null,null,null,null,null,null,null,null,null,null,null,null,null,null,null,"2.17. Driveway Density (driveways per mile)",-0.22388114201141129,0.22388114201141129,2,2.17,-0.22388114201141129,{"$f":"IF(DF39=0,\"\",C62)","v":"Driveway Density (driveways per mile)"},"Driveway Density (driveways per mile)",0.22388114201141129,17,"",0]
[null,null,"  Approach (Entry) Grade, G1 (%)",null,{"$f":"IF(ISBLANK(D40),\"\", D40)","v":""},null,null,null,{"$f":"IF(B38=\"Yes\",I231,I241)","v":""},null,null,null,null,null,null,null,null,null,null,null,null,null,null,null,null,null,null,null,null,null,null,null,null,null,null,null,null,null,null,null,null,null,null,null,null,null,null,null,null,null,null,null,null,null,null,null,null,null,null,null,null,null,null,null,null,null,null,null,null,null,null,null,null,null,null,null,null,null,null,null,null,null,null,null,null,null,null,null,null,null,null,null,null,null,null,null,null,null,null,null,null,"9.18. Lighting",-1.7096579124742384E-2,1.7096579124742384E-2,9,9.18,-1.7096579124742384E-2,{"$f":"IF(DF40=0,\"\",C63)","v":"Lighting"},"Lighting",1.7096579124742384E-2,18,"",0]
[null,null,"  Departure (Exit) Grade, G2 (%)",null,{"$f":"IF(ISBLANK(D41),\"\", D41)","v":""},null,null,null,{"$f":"IF($B$38=\"Yes\",I232,\"\")","v":""},null,null,null,null,null,null,null,null,null,null,null,null,null,null,null,null,null,null,null,null,null,null,null,null,null,null,null,null,null,null,null,null,null,null,null,null,null,null,null,null,null,null,null,null,null,null,null,null,null,null,null,null,null,null,null,null,null,null,null,null,null,null,null,null,null,null,null,null,null,null,null,null,null,null,null,null,null,null,null,null,null,null,null,null,null,null,null,null,null,null,null,null,"1.19. Pavement Friction (skid number) ***",0.28430956017940245,0.28430956017940245,1,1.19,0.28430956017940245,{"$f":"IF(DF41=0,\"\",C64)","v":"Pavement Friction (skid number) ***"},"Pavement Friction (skid number) ***",0.28430956017940245,19,"",0]
[null,null,"  Length (feet)",null,{"$f":"IF(AND($B$38=\"Yes\", D43<>\"\"), ABS(E40-E41)*D43, \"\")","v":""},null,null,null,{"$f":"IF(AND($B$38=\"Yes\",I40<>\"\",I41<>\"\", NOT(ISBLANK($I$10)), NOT(ISBLANK($I$11))),ABS(I41-I40)*I43,\"\")","v":""},null,null,null,null,null,null,null,null,null,null,null,null,null,null,null,null,null,null,null,null,null,null,null,null,null,null,null,null,null,null,null,null,null,null,null,null,null,null,null,null,null,null,null,null,null,null,null,null,null,null,null,null,null,null,null,null,null,null,null,null,null,null,null,null,null,null,null,null,null,null,null,null,null,null,null,null,null,null,null,null,null,null,null,null,null,null,null,null,null,null,null,null,"4.2. Roadside Sideslope (Foreslope)",{"$f":"H75","v":0.15697622474810147},0.15697622474810147,4,4.2,0.15697622474810147,{"$f":"IF(DF42=0,\"\",C75)","v":"Roadside Sideslope (Foreslope)"},"Roadside Sideslope (Foreslope)",0.15697622474810147,20,"",0]
[null,null,"  Calculated Rate of Change, K (ft/ft)",{"$f":"IF(OR($B$38=\"No\",ISBLANK($B$38), ISBLANK(D40), ISBLANK(D41),ISBLANK(D42), D40=D41), \"\", ROUND(D42/(ABS(D41-D40)),1))","v":""},{"$f":"IF(AND($B$38=\"Yes\", NOT(ISBLANK($I$10)), NOT(ISBLANK($I$11)), D43<>\"\"), IF($E$46=\"Crest\",  VLOOKUP(MAX($I$10,$I$11),Construction!$B$159:$D$171,2,TRUE), VLOOKUP(MAX($I$10,$I$11),Construction!$B$159:$D$171,3,TRUE)), \"\")","v":""},{"$f":"IF(AND($B$38=\"Yes\", SUM(F267:F269)=0),ROUND(F42/(ABS(F41-F40)),1),\"\")","v":""},{"$f":"IF(AND($B$38=\"Yes\", SUM(G267:G269)=0),ROUND(G42/(ABS(G41-G40)),1),\"\")","v":""},null,{"$f":"IF(OR($B$38<>\"Yes\", ISBLANK($I$10), ISBLANK($I$11), $I$40=\"\", $I$41=\"\", $I$46=\"--\", ISBLANK($I$46)),\"\",IF(I$46=\"Crest\",VLOOKUP(MAX($I$10,$I$11),Construction!$B$177:$D$189,2,TRUE),VLOOKUP(MAX($I$10,$I$11),Construction!$B$177:$D$189,3,TRUE)))","v":""},null,null,null,null,null,null,null,null,null,null,null,null,null,null,null,null,null,null,null,null,null,null,null,null,null,null,null,null,null,null,null,null,null,null,null,null,null,null,null,null,null,null,null,null,null,null,null,null,null,null,null,null,null,null,null,null,null,null,null,null,null,null,null,null,null,null,null,null,null,null,null,null,null,null,null,null,null,null,null,null,null,null,null,null,null,null,null,null,null,null,null,null,"",{"$f":"H76","v":0},0,21,10.210000000000001,0,{"$f":"IF(DF43=0,\"\",C76)","v":""},"",0,21,"",0]
[null,null,null,null,null,"Are you changing the geometry?","Are you changing the geometry?",null,null,null,null,null,null,null,null,null,null,null,null,null,null,null,null,null,null,null,null,null,null,null,null,null,null,null,null,null,null,null,null,null,null,null,null,null,null,null,null,null,null,null,null,null,null,null,null,null,null,null,null,null,null,null,null,null,null,null,null,null,null,null,null,null,null,null,null,null,null,null,null,null,null,null,null,null,null,null,null,null,null,null,null,null,null,null,null,null,null,null,null,null,null,"7.22. Safety Edge",{"$f":"H77","v":-2.3424031600265627E-2},2.3424031600265627E-2,7,7.22,-2.3424031600265627E-2,{"$f":"IF(DF44=0,\"\",C77)","v":"Safety Edge"},"Safety Edge",2.3424031600265627E-2,22,"",0]
[null,null,null,null,null,null,null,null,null,null,null,null,null,null,null,null,null,null,null,null,null,null,null,null,null,null,null,null,null,null,null,null,null,null,null,null,null,null,null,null,null,null,null,null,null,null,null,null,null,null,null,null,null,null,null,null,null,null,null,null,null,null,null,null,null,null,null,null,null,null,null,null,null,null,null,null,null,null,null,null,null,null,null,null,null,null,null,null,null,null,null,null,null,null,null,null,null,null,null,null,null,"6.23. Roadside Lateral Clearance to Obstruction (ft)",{"$f":"H78","v":6.4777606999867676E-2},6.4777606999867676E-2,6,6.23,6.4777606999867676E-2,{"$f":"IF(DF45=0,\"\",C78)","v":"Roadside Lateral Clearance to Obstruction (ft)"},"Roadside Lateral Clearance to Obstruction (ft)",6.4777606999867676E-2,23,"",{"$f":"IFERROR(IF(IFERROR(VLOOKUP(DG45,$DA$23:$DF$46,3,)&\", \"&CY45=0,\"\"),\"\",IFERROR(VLOOKUP(DG45,$DA$23:$DE$46,3,),\"\")),\"\")","v":""}]
[null,null,"  Calculated Sag or Crest?",{"$f":"IF(AND($B$38=\"Yes\", SUM(D267:D269)=0),IF(D40>D41,\"Crest\",\"Sag\"),\"--\")","v":"--"},{"$f":"IF(AND($B$38=\"Yes\", SUM(D267:D269)=0),IF(E40>E41,\"Crest\",\"Sag\"),\"--\")","v":"--"},{"$f":"IF(AND($B$38=\"Yes\", SUM(F267:F269)=0),IF(F40>F41,\"Crest\",\"Sag\"),\"--\")","v":"--"},{"$f":"IF(AND($B$38=\"Yes\", SUM(G267:G269)=0),IF(G40>G41,\"Crest\",\"Sag\"),\"--\")","v":"--"},null,{"$f":"IF($B$38=\"Yes\",IF(I40>I41,\"Crest\",\"Sag\"),\"--\")","v":"--"},null,null,null,null,null,null,null,null,null,null,null,null,null,null,null,null,null,null,null,null,null,null,null,null,null,null,null,null,null,null,null,null,null,null,null,null,null,null,null,null,null,null,null,null,null,null,null,null,null,null,null,null,null,null,null,null,null,null,null,null,null,null,null,null,null,null,null,null,null,null,null,null,null,null,null,null,null,null,null,null,null,null,null,null,null,null,null,null,null,null,null,null,"",{"$f":"H79","v":0},0,22,10.24,0,{"$f":"IF(DF46=0,\"\",C79)","v":""},"",0,24,"",{"$f":"IFERROR(IF(IFERROR(VLOOKUP(DG46,$DA$23:$DF$46,3,)&\", \"&CY46=0,\"\"),\"\",IFERROR(VLOOKUP(DG46,$DA$23:$DE$46,3,),\"\")),\"\")","v":""}]
[]
[]
[null,null,"Geometric Design Element (Partial Score)",{"$f":"IF(OR(SUM(D251:D252,D254:D257,D260:D261,D267:D269)>0, ISERR(D129)),\"\",D129)","v":""},{"$f":"IF(OR(SUM(E251:E252,E254:E257,E260:E261,E267:E269)>0, ISERR(E129)),\"\",E129)","v":""},"","",null,{"$f":"IF(OR(SUM(I251:I252,I254:I257,I260:I261,I267:I269)>0, ISERR(I129)),\"\",I129)","v":""},null,null,null,"SCHEMATIC REPRESENTING INPUT DATA FOR ",null,null,null,null,null,null,null,{"$f":"IF($I$2=\"Existing\",\"EXISTING CONFIGURATION\",IF($I$2=\"Standard\",\"STANDARD OPTION\",IF($I$2=\"Design 1\",\"DESIGN 1 OPTION\",IF($I$2=\"Design 2\",\"DESIGN 2 OPTION\",\"OPTIMAL OPTION\"))))","v":"STANDARD OPTION"}]
[null,null,"Total Safety Score",{"$f":"IF(OR(D$249>0, $I$315>0, ISERROR(D$205+D$175+D$129)),\"\",D$205+D$175+D$129)","v":""},{"$f":"IF(OR(E$249>0, $I$315>0, ISERROR(E$205+E$175+E$129)),\"\",E$205+E$175+E$129)","v":""},{"$f":"IF(OR(F$249>0, $I$315>0, ISERROR(F$205+F$175+F$129)),\"\",F$205+F$175+F$129)","v":""},{"$f":"IF(OR(G$249>0, $I$315>0, ISERROR(G$205+G$175+G$129)),\"\",G$205+G$175+G$129)","v":""},null,{"$f":"IF(OR(I$249>0, $I$315>0, ISERROR(I$205+I$175+I$129)),\"\",I$205+I$175+I$129)","v":""}]
[null,null,null,null,null,null,null,null,null,null,null,"LT",null,null,null,null,null,null,null,null,null,null,null,null,null,null,"RT"]
[null,null,null,null,null,null,null,null,null,null,null,"R/W",null,null,null,null,null,null,{"$f":"+O54+W54","v":0},null,null,null,null,null,null,null,"R/W"]
[]
[null,{"$f":"+Construction!$I$3&\"  Total Available Points\"","v":"20  Total Available Points"},null,null,null,null,null,null,null,null,null,null,null,null,{"$f":"+$I$14","v":0},null,null,null,null,null,null,null,{"$f":"+$I$15","v":0}]
[null,"Traffic Elements",null,"Existing","Standard","Design 1","Design 2",{"$f":"H23","v":"Marginal Safety for Standard (compared to Existing)"},"Optimal"]
[null,null,"Advance Static Curve Warning Signs",null,"No",null,null,{"$f":"M149","v":0},"Yes",null,null,{"$f":"+O54-N56-P56","v":-32},null,{"$f":"IF(+$I$2=\"Existing\",D28,IF($I$2=\"Standard\",E28,IF($I$2=\"Design 1\",F28,IF($I$2=\"Design 2\",G28,I28))))","v":8},null,{"$f":"IF(+$I$2=\"Existing\",D27*D30,IF($I$2=\"Standard\",E27*E30,IF($I$2=\"Design 1\",F27*F30,IF($I$2=\"Design 2\",G27*G30,I27*I30))))","v":24},null,null,null,null,null,{"$f":"+P56","v":24},null,null,{"$f":"+N56","v":8},{"$f":"+W54-V56-Y56","v":-32}]
[null,null,"Chevron Signs on Horizontal Curves",null,"No",null,null,{"$f":"M150","v":0},"Yes"]
[null,null,"Post-Mounted Delineators",null,"No",null,null,{"$f":"M151","v":0},"Yes"]
[null,null,"Edgeline Pavement Markings or Profile Markings",null,"No",null,null,{"$f":"M152","v":0},"Yes"]
[null,null,"Shoulder Rumble Strips",null,"Yes",null,null,{"$f":"M154","v":2.2875008800570917E-2},"Yes"]
[null,null,"Centerline Rumble Strips",null,"No",null,null,{"$f":"M155","v":0},"Yes",null,null,null,null,null,null,null,null,null,"Tangent X-Section"]
[null,null,"Driveway Density (driveways per mile)",null,10,null,null,{"$f":"M156","v":-0.22388114201141129},0]
[null,null,"Lighting",null,"No",null,null,{"$f":"M157","v":-1.7096579124742384E-2},"Yes"]
[null,null,"Pavement Friction (skid number) ***",null,37,null,null,{"$f":"M158","v":0.28430956017940245},54]
[null,null,"Traffic Control Element (Partial Score):",{"$f":"IF(ISERROR(D175), \"\", D175)","v":12},{"$f":"IF(ISERROR(E175), \"\", E175)","v":14},"","",null,{"$f":"IF(ISERROR(I175), \"\", I175)","v":20}]
[null,null,"Total Safety Score",{"$f":"IF(OR(D$249>0, $I$315>0, ISERROR(D$205+D$175+D$129)),\"\",D$205+D$175+D$129)","v":""},{"$f":"IF(OR(E$249>0, $I$315>0, ISERROR(E$205+E$175+E$129)),\"\",E$205+E$175+E$129)","v":""},"","",null,{"$f":"IF(OR(I$249>0, $I$315>0, ISERROR(I$205+I$175+I$129)),\"\",I$205+I$175+I$129)","v":""}]
[null,null,null,null,null,null,null,null,null,null," "]
[null,null,"*** Pavement friction/skid numbers will not be subject to open records requests ***",null,null,null,null,null,null,null,null,null,null,null,null,null,{"$f":"IF($I$2=\"Existing\",\"SCORE SUMMARY FOR EXISTING CONFIGURATION\", IF($I$2=\"Standard\",\"SCORE SUMMARY FOR STANDARD OPTION\",IF($I$2=\"Design 1\",\"SCORE SUMMARY FOR DESIGN 1 OPTION\",IF($I$2=\"Design 2\",\"SCORE SUMMARY FOR DESIGN 2 OPTION\", \"SCORE SUMMARY FOR OPTIMAL OPTION\"))))","v":"SCORE SUMMARY FOR STANDARD OPTION"}]
[null,null,null,null,null,null,null,null,null,null,null,null,null,null,null,null,"GEOMETRIC DESIGN:",null,null,null,null,null,{"$f":"IF($I$2=\"Existing\",D49,IF($I$2=\"Standard\",E49,IF($I$2=\"Design 1\",F49,IF($I$2=\"Design 2\",G49,I49))))","v":""}]
[null,null,null,null,null,null,null,null,null,null,null,null,null,null,null,null,"TRAFFIC CONTROL:",null,null,null,null,null,{"$f":"IF($I$2=\"Existing\",D65,IF($I$2=\"Standard\",E65,IF($I$2=\"Design 1\",F65,IF($I$2=\"Design 2\",G65,I65))))","v":14}]
[null,null,null,null,null,null,null,null,null,null,null,null,null,null,null,null,"ROADSIDE:",null,null,null,null,null,{"$f":"IF($I$2=\"Existing\",D80,IF($I$2=\"Standard\",E80,IF($I$2=\"Design 1\",F80,IF($I$2=\"Design 2\",G80,I80))))","v":27}]
[null,null,null,null,null,null,null,null,null,null,null,null,null,null,null,null,"OVERALL SAFETY SCORE:",null,null,null,null,null,{"$f":"SUM(W69:X71)","v":41}]
[null,{"$f":"+Construction!$I$4&\"  Total Available Points\"","v":"40  Total Available Points"}]
[null,"Roadside  Elements",null,"Existing","Standard","Design 1","Design 2",{"$f":"H23","v":"Marginal Safety for Standard (compared to Existing)"},"Optimal"]
[null,null,"Roadside Sideslope (Foreslope)",null,"1V:4H",null,null,{"$f":"M184","v":0.15697622474810147},"1V:6H"]
[null,null,"Roadside Backslope",null,{"$f":"E75","v":"1V:4H"},null,null,{"$f":"M185","v":0},"1V:4H"]
[null,null,"Safety Edge",null,"No",null,null,-2.3424031600265627E-2,"Yes"]
[null,null,"Roadside Lateral Clearance to Obstruction (ft)",null,30,null,null,6.4777606999867676E-2,40]
[null,null,"Roadside Obstruction Type",null,"None",null,null,0,"None/Removed"]
[null,null,"Roadside Element (Partial Score):",{"$f":"IF(ISERR(D205),\"\",D205)","v":20},{"$f":"IF(ISERR(E205),\"\",E205)","v":27},20,20,null,{"$f":"IF(ISERR(I205),\"\",I205)","v":40},null,null,null,null,null,null,null,null,null,null,null,null,null,null," "]
[null,null,"Total Safety Score",{"$f":"IF(OR(D$249>0, $I$315>0, ISERROR(D$205+D$175+D$129)),\"\",D$205+D$175+D$129)","v":""},{"$f":"IF(OR(E$249>0, $I$315>0, ISERROR(E$205+E$175+E$129)),\"\",E$205+E$175+E$129)","v":""},"","",null,{"$f":"IF(OR(I$249>0, $I$315>0, ISERROR(I$205+I$175+I$129)),\"\",I$205+I$175+I$129)","v":""}]
[]
[]
[]
[]
[null,"ADDITIONAL SIDESLOPE INFORMATION"]
[null,null,"Distance to Slope Toe from Shoulder (ft)",null,{"$f":"D87","v":0},{"$f":"E87","v":0},0,null,{"$f":"G87","v":0}]
[null,"Minimum foreslope feasible within current ROW",null,null,{"$f":"IF(OR(ISBLANK($D$87), ISERROR(E209)), \"\", \"1V:\"&E209&\"H\")","v":""},{"$f":"IF(OR(ISBLANK($D$87), ISERROR(F209)), \"\", \"1V:\"&F209&\"H\")","v":""},{"$f":"IF(OR(ISBLANK($D$87), ISERROR(G209)), \"\", \"1V:\"&G209&\"H\")","v":""},null,{"$f":"IF(OR(ISBLANK($D$87), ISERROR(I209)), \"\", \"1V:\"&I209&\"H\")","v":""}]
[null,"Additional R/W needed on left side",null,null,{"$f":"IF(OR(ISBLANK($D$87), ISERROR(E213)),\"\", MAX(E213,E216))","v":""},{"$f":"IF(OR(ISBLANK($D$87), ISERROR(F213)), \"\", MAX(F213,F216))","v":""},{"$f":"IF(OR(ISBLANK($D$87), ISERROR(G213)),\"\", MAX(G213,G216))","v":""},null,{"$f":"IF(OR(ISBLANK($D$87), ISERROR(I213)),\"\", MAX(I213,I216))","v":""}]
[null,"Additional R/W needed on right side",null,null,{"$f":"IF(OR(ISBLANK($D$87), ISERROR(E214)), \"\", MAX(E214,E217))","v":""},{"$f":"IF(OR(ISBLANK($D$87), ISERROR(F214)), \"\", MAX(F214,F217))","v":""},{"$f":"IF(OR(ISBLANK($D$87), ISERROR(G214)),\"\", MAX(G214,G217))","v":""},null,{"$f":"IF(OR(ISBLANK($D$87), ISERROR(I214)),\"\", MAX(I214,I217))","v":""}]
[]
[]
[]
[]
[]
[]
[]
[null,null,null,{"$f":"GetCMF_MED(D24,D25,2000,D28)","v":1},null,null,null,null,null,{"$f":"1-I104/E104","v":0},"For Plot"]
[null,null,null,null,null,null,null,null,null,{"$f":"1-I105/E105","v":3.2258064516129115E-2},"relative to","Prefer"]
[null,null,null,{"$f":"MAX(SUM(D107:D111)-5,$I$100)","v":{"$error":"#VALUE!"}},{"$f":"MAX(SUM(E107:E111)-5,$I$100)","v":{"$error":"#VALUE!"}},{"$error":"#VALUE!"},{"$error":"#VALUE!"},null,{"$f":"SUM(I107:I111)-5","v":{"$error":"#VALUE!"}},{"$f":"1-I106/E106","v":0.14444080962898154},{"$f":"MATCH(K101,ModView,0)","v":1},{"$f":"MATCH(L101,ModView,0)","v":2}]
[null,"Geometric",null,null,null,null,null,null,null,{"$f":"1-I107/E107","v":{"$error":"#VALUE!"}},{"$f":"I4","v":"Existing"},{"$f":"I2","v":"Standard"},"%"]
[null,null,"Divided versus Undivided",1,1,1,1,null,1,null,{"$f":"INDEX($D102:$I102,K$100)","v":1},{"$f":"INDEX($D102:$I102,L$100)","v":1},{"$f":"IF(ISERROR(1-L102/K102), 0, 1-L102/K102)","v":0}]
[null,null,"Median Width",{"$f":"GetCMF_MED(D24,D25,$I$13,D28)","v":1},{"$f":"GetCMF_MED(E24,E25,$I$13,E28)","v":0.91},{"$f":"GetCMF_MED(F24,F25,$I$13,F28)","v":1},{"$f":"GetCMF_MED(G24,G25,$I$13,G28)","v":1},{"$f":"H25","v":8.9999999999999969E-2},{"$f":"GetCMF_MED(I24,I25,$I$13,I28)","v":0.66},null,{"$f":"INDEX($D103:$I103,K$100)","v":1},{"$f":"INDEX($D103:$I103,L$100)","v":0.91},{"$f":"IF(ISERROR(1-L103/K103), 0, 1-L103/K103)","v":8.9999999999999969E-2}]
[null,null,"LW CMF",{"$f":"IF(D24=INDEX(MedConf_Header,1,2),VLOOKUP(+D27,Construction!$N$30:$O$36,2),VLOOKUP(D27,Construction!$I$15:$J$21,2))","v":{"$error":"#N/A"}},{"$f":"IF(E24=INDEX(MedConf_Header,1,2),VLOOKUP(+E27,Construction!$N$30:$O$36,2),VLOOKUP(E27,Construction!$I$15:$J$21,2))","v":1},{"$f":"IF(F24=INDEX(MedConf_Header,1,2),VLOOKUP(+F27,Construction!$N$30:$O$36,2),VLOOKUP(F27,Construction!$I$15:$J$21,2))","v":{"$error":"#N/A"}},{"$f":"IF(G24=INDEX(MedConf_Header,1,2),VLOOKUP(+G27,Construction!$N$30:$O$36,2),VLOOKUP(G27,Construction!$I$15:$J$21,2))","v":{"$error":"#N/A"}},{"$f":"H27","v":0},{"$f":"IF(I24=INDEX(MedConf_Header,1,2),VLOOKUP(+I27,Construction!$N$30:$O$36,2),VLOOKUP(I27,Construction!$I$15:$J$21,2))","v":1},null,{"$f":"INDEX($D104:$I104,K$100)","v":{"$error":"#N/A"}},{"$f":"INDEX($D104:$I104,L$100)","v":1},0,null,0]
[null,null,"SW CMF",{"$f":"IF(D24=INDEX(MedConf_Header,1,2),VLOOKUP(D28,Construction!$C$11:D21,2),(VLOOKUP(D28,Construction!$O$43:$P$53,2)-1)*0.27+1)","v":1.135},{"$f":"IF(E24=INDEX(MedConf_Header,1,2),VLOOKUP(E28,Construction!$C$11:E21,2),(VLOOKUP(E28,Construction!$O$43:$P$53,2)-1)*0.27+1)","v":0.93},{"$f":"IF(F24=INDEX(MedConf_Header,1,2),VLOOKUP(F28,Construction!$C$11:F21,2),(VLOOKUP(F28,Construction!$O$43:$P$53,2)-1)*0.27+1)","v":1.135},{"$f":"IF(G24=INDEX(MedConf_Header,1,2),VLOOKUP(G28,Construction!$C$11:G21,2),(VLOOKUP(G28,Construction!$O$43:$P$53,2)-1)*0.27+1)","v":1.135},{"$f":"IF($I$2=\"Existing\",(1-D105/E105),(IF($I$2=\"Design 1\",(1-F105/E105),(IF($I$2=\"Design 2\",(1-G105/E105),(IF($I$2=\"Optimal\",(1-I105/E105),0)))))))","v":0},{"$f":"IF(I24=INDEX(MedConf_Header,1,2),VLOOKUP(I28,Construction!$C$11:I21,2),(VLOOKUP(I28,Construction!$O$43:$P$53,2)-1)*0.27+1)","v":0.9},null,{"$f":"INDEX($D105:$I105,K$100)","v":1.135},{"$f":"INDEX($D105:$I105,L$100)","v":0.93},0.18061674008810569,null,0.15503875968992242]
[null,null,"Inside Shoulder Width",{"$f":"IF(AND(D24=INDEX(MedConf_Header,1,2), NOT(ISBLANK(D29))), EXP(-0.026*(D29-4)), 1)","v":1},{"$f":"IF(AND(E24=INDEX(MedConf_Header,1,2), NOT(ISBLANK(E29))), EXP(-0.026*(E29-4)), 1)","v":1},{"$f":"IF(AND(F24=INDEX(MedConf_Header,1,2), NOT(ISBLANK(F29))), EXP(-0.026*(F29-4)), 1)","v":1},{"$f":"IF(AND(G24=INDEX(MedConf_Header,1,2), NOT(ISBLANK(G29))), EXP(-0.026*(G29-4)), 1)","v":1},0,{"$f":"IF(AND(I24=INDEX(MedConf_Header,1,2), NOT(ISBLANK(I29))), EXP(-0.026*(I29-4)), 1)","v":0.85555919037101846},null,{"$f":"INDEX($D106:$I106,K$100)","v":1},{"$f":"INDEX($D106:$I106,L$100)","v":1},0,null,0]
[null,null,"HC and Grade",{"$f":"D$138^D$131","v":1},{"$f":"E$138^E$131","v":1},1,1,0,{"$f":"I$138^I$131","v":{"$error":"#VALUE!"}},null,{"$f":"INDEX($D107:$I107,K$100)","v":1},{"$f":"INDEX($D107:$I107,L$100)","v":1},0,null,0]
[null,null,"HC and VC Crest type I",{"$f":"D$139^D$132","v":1},{"$f":"E$139^E$132","v":1},1,1,0,{"$f":"I$139^I$132","v":{"$error":"#VALUE!"}},null,{"$f":"INDEX($D108:$I108,K$100)","v":1},{"$f":"INDEX($D108:$I108,L$100)","v":1},0,null,0]
[null,null,"HC and VC Sag type I",{"$f":"D$140^D$133","v":1},{"$f":"E$140^E$133","v":1},1,1,0,{"$f":"I$140^I$133","v":{"$error":"#VALUE!"}},{"$f":"1-I115/E115","v":{"$error":"#VALUE!"}},{"$f":"INDEX($D109:$I109,K$100)","v":1},{"$f":"INDEX($D109:$I109,L$100)","v":1},0,null,0]
[null,null,"HC and VC Crest type II",{"$f":"D$141^D$134","v":1},{"$f":"E$141^E$134","v":1},1,1,0,{"$f":"I$141^I$134","v":{"$error":"#VALUE!"}},{"$f":"1-I116/E116","v":{"$error":"#VALUE!"}},{"$f":"INDEX($D110:$I110,K$100)","v":1},{"$f":"INDEX($D110:$I110,L$100)","v":1},0,null,0]
[null,null,"HC and VC Sag type II",{"$f":"D$142^D$135","v":1},{"$f":"E$142^E$135","v":1},1,1,0,{"$f":"I$142^I$135","v":{"$error":"#VALUE!"}},{"$f":"1-I117/E117","v":{"$error":"#VALUE!"}},{"$f":"INDEX($D111:$I111,K$100)","v":1},{"$f":"INDEX($D111:$I111,L$100)","v":1},0,null,0]
[null,null,"Add TWLTL",{"$f":"IF(D$47=\"No\",1,CMFs!$F$17)","v":0.71},{"$f":"IF(E$47=\"No\",1,CMFs!$F$17)","v":0.71},{"$f":"IF(F$47=\"No\",1,CMFs!$F$17)","v":0.71},{"$f":"IF(G$47=\"No\",1,CMFs!$F$17)","v":0.71},0,{"$f":"IF(I$47=\"No\",1,CMFs!$F$17)","v":0.71},{"$f":"1-I118/E118","v":{"$error":"#VALUE!"}},{"$f":"INDEX($D112:$I112,K$100)","v":0.71},{"$f":"INDEX($D112:$I112,L$100)","v":0.71},0,null,0]
[null,null,"Provide passing lane",{"$f":"IF(D$48=\"No\",1,CMFs!$F$21)","v":0.75},{"$f":"IF(E$48=\"No\",1,CMFs!$F$21)","v":0.75},{"$f":"IF(F$48=\"No\",1,CMFs!$F$21)","v":0.75},{"$f":"IF(G$48=\"No\",1,CMFs!$F$21)","v":0.75},0,{"$f":"IF(I$48=\"No\",1,CMFs!$F$21)","v":0.75},{"$f":"I119/E119","v":{"$error":"#VALUE!"}},{"$f":"INDEX($D113:$I113,K$100)","v":0.75},{"$f":"INDEX($D113:$I113,L$100)","v":0.75},0,null,0]
[]
[null,null,"COMBINED Calculated CMF",{"$f":"+D104*D105*D106*D107*D108*D109*D110*D111*D112*D113*D103*D102","v":{"$error":"#N/A"}},{"$f":"+E104*E105*E106*E107*E108*E109*E110*E111*E112*E113*E103*E102","v":0.45065475000000005},{"$error":"#N/A"},{"$error":"#N/A"},{"$f":"IF($I$2=\"Existing\",(D115),(IF($I$2=\"Design 1\",(F115),(IF($I$2=\"Design 2\",(G115),(IF($I$2=\"Optimal\",(I115),E115)))))))","v":0.45065475000000005},{"$f":"+I104*I105*I106*I107*I108*I109*I110*I111*I112*I113*I103*I102","v":{"$error":"#VALUE!"}},null,{"$f":"INDEX($D115:$I115,K$100)","v":{"$error":"#N/A"}},{"$f":"INDEX($D115:$I115,L$100)","v":0.45065475000000005},{"$f":"IF(ISERROR(1-L115/K115), 0, 1-L115/K115)","v":0},null,0]
[null,null,"Calculated Relative to Design Standards (Column E)",{"$f":"+D115/$E$115","v":{"$error":"#N/A"}},1,{"$error":"#N/A"},{"$error":"#N/A"},1,{"$error":"#VALUE!"},null,{"$f":"INDEX($D116:$I116,K$100)","v":{"$error":"#N/A"}},{"$f":"INDEX($D116:$I116,L$100)","v":1},0,null,0]
[null,null,"P(Crash)",{"$f":"+D116/(D116+1)","v":{"$error":"#N/A"}},0.5,{"$error":"#N/A"},{"$error":"#N/A"},0.5,{"$error":"#VALUE!"},null,{"$f":"INDEX($D117:$I117,K$100)","v":{"$error":"#N/A"}},{"$f":"INDEX($D117:$I117,L$100)","v":0.5},0,null,0]
[null,null,"Factor Change on S curve",{"$f":"+D117/$E$117","v":{"$error":"#N/A"}},1,{"$error":"#N/A"},{"$error":"#N/A"},1,{"$error":"#VALUE!"},null,{"$f":"INDEX($D118:$I118,K$100)","v":{"$error":"#N/A"}},{"$f":"INDEX($D118:$I118,L$100)","v":1},0,null,0]
[null,null,"Adjust to Scale of 100",{"$f":"+$I$118/D118*100","v":{"$error":"#VALUE!"}},{"$error":"#VALUE!"},{"$error":"#VALUE!"},{"$error":"#VALUE!"},{"$error":"#VALUE!"},{"$error":"#VALUE!"},null,{"$f":"INDEX($D119:$I119,K$100)","v":{"$error":"#VALUE!"}},{"$f":"INDEX($D119:$I119,L$100)","v":{"$error":"#VALUE!"}},0]
[null,null,"Unadjusted Combined Relative to Standard",{"$f":"+D115/$E$115","v":{"$error":"#N/A"}},1,{"$error":"#N/A"},{"$error":"#N/A"},1,{"$error":"#VALUE!"},{"$f":"I126/E126","v":{"$error":"#VALUE!"}},{"$f":"INDEX($D120:$I120,K$100)","v":{"$error":"#N/A"}},{"$f":"INDEX($D120:$I120,L$100)","v":1},0,null,0]
[]
[null,null,"Adjusted for PA Basis",{"$f":"+D115*(1+1)/(1+D115*1)","v":{"$error":"#N/A"}},0.62131220402373488,{"$error":"#N/A"},{"$error":"#N/A"},{"$f":"IF($I$2=\"Existing\",(D122),(IF($I$2=\"Design 1\",(F122),(IF($I$2=\"Design 2\",(G122),(IF($I$2=\"Optimal\",(I122),E122)))))))","v":0.62131220402373488},{"$error":"#VALUE!"},null,{"$f":"INDEX($D122:$I122,K$100)","v":{"$error":"#N/A"}},{"$f":"INDEX($D122:$I122,L$100)","v":0.62131220402373488},{"$f":"IF(ISERROR(1-L122/K122), 0, 1-L122/K122)","v":0},null,0]
[null,null,"Corrected by Odds Ratio",{"$f":"+D122/$E$122","v":{"$error":"#N/A"}},1,{"$error":"#N/A"},{"$error":"#N/A"},{"$f":"IF($I$2=\"Existing\",(D123),(IF($I$2=\"Design 1\",(F123),(IF($I$2=\"Design 2\",(G123),(IF($I$2=\"Optimal\",(I123),E123)))))))","v":1},{"$error":"#VALUE!"},{"$f":"I129/E129","v":{"$error":"#VALUE!"}},{"$f":"INDEX($D123:$I123,K$100)","v":{"$error":"#N/A"}},{"$f":"INDEX($D123:$I123,L$100)","v":1},0,null,0]
[null,null,"Pinned s",{"$f":"(1/D123)^$D127","v":{"$error":"#N/A"}},{"$f":"(1/E123)^$D127","v":{"$error":"#VALUE!"}},{"$error":"#N/A"},{"$f":"IF(ISERROR((1/G123)^$D127), 0, (1/G123)^$D127)","v":0},{"$error":"#VALUE!"},{"$error":"#VALUE!"},null,{"$f":"INDEX($D124:$I124,K$100)","v":{"$error":"#N/A"}},{"$f":"INDEX($D124:$I124,L$100)","v":{"$error":"#VALUE!"}},0,null,0]
[null,null,null,{"$f":"(D124+$F128-1)/(1+(D124+$F128-1))","v":{"$error":"#N/A"}},{"$f":"(E124+$F128-1)/(1+(E124+$F128-1))","v":{"$error":"#VALUE!"}},{"$error":"#N/A"},0.57142857142857151,{"$error":"#VALUE!"},{"$error":"#VALUE!"},null,{"$f":"INDEX($D125:$I125,K$100)","v":{"$error":"#N/A"}},{"$f":"INDEX($D125:$I125,L$100)","v":{"$error":"#VALUE!"}},0,null,0]
[null,null,"Score Odds Ratio with Optimal (old)",{"$f":"MIN(ROUND($I$123/D123*Construction!$I$2,0),$I126)","v":{"$error":"#VALUE!"}},{"$f":"MIN(ROUND($I$123/E123*Construction!$I$2,0),$I126)","v":{"$error":"#VALUE!"}},{"$f":"MIN(ROUND($I$123/F123*Construction!$I$2,0),$I126)","v":{"$error":"#VALUE!"}},{"$f":"MIN(ROUND($I$123/G123*Construction!$I$2,0),$I126)","v":{"$error":"#VALUE!"}},{"$f":"IF($I$2=\"Existing\",(D126),(IF($I$2=\"Design 1\",(F126),(IF($I$2=\"Design 2\",(G126),(IF($I$2=\"Optimal\",(I126),E126)))))))","v":{"$error":"#VALUE!"}},{"$f":"ROUND($I$123/I123*Construction!$I$2,0)","v":{"$error":"#VALUE!"}}]
[null,null,"Logistic1",{"$f":"LN((D128/(1-D128))/(0.5/0.5))/LN(IF($E123/I123=1,0.999,$E123/I123))","v":{"$error":"#VALUE!"}}]
[null,null,"Logistic Param",0.999,null,{"$f":"0.7/0.3","v":2.3333333333333335}]
[null,null,"Score ",{"$f":"MIN(ROUND(D125*Construction!$I$2,0),$I126)","v":{"$error":"#N/A"}},{"$f":"MIN(ROUND(E125*Construction!$I$2,0),$I126)","v":{"$error":"#VALUE!"}},{"$f":"MIN(ROUND(F125*Construction!$I$2,0),$I126)","v":{"$error":"#N/A"}},{"$f":"MIN(ROUND(G125*Construction!$I$2,0),$I126)","v":{"$error":"#VALUE!"}},{"$f":"MIN(ROUND(H125*Construction!$I$2,0),$I126)","v":{"$error":"#VALUE!"}},{"$f":"MIN(ROUND(I125*Construction!$I$2,0),$I126)","v":{"$error":"#VALUE!"}}]
[]
[null,null,"HC and Grade",{"$f":"IF($B$139,0,1)","v":1},{"$f":"IF($B$139,0,1)","v":1},1,1,{"$f":"IF($I$2=\"Existing\",(D131),(IF($I$2=\"Design 1\",(F131),(IF($I$2=\"Design 2\",(G131),(IF($I$2=\"Optimal\",(I131),E131)))))))","v":1},{"$f":"IF($B$139,0,1)","v":1}]
["HC?",null,"HC and VC Crest type I",{"$f":"IF(AND($B$139=1,SIGN(D$40)=1,ABS(D$40)<=ABS(D$40-D$41),D$46=\"Crest\"),1,0)","v":0},{"$f":"IF(AND($B$139=1,SIGN(IF(ISNUMBER(E$40),E$40,0))=1,\n  ABS(IF(ISNUMBER(E$40),E$40,0))<=ABS(IF(ISNUMBER(E$40),E$40,0)-IF(ISNUMBER(E$41),E$41,0)),E$46=\"Crest\"),\n  1,0)","v":0},{"$f":"IF(AND($B$139=1,SIGN(F$40)=1,ABS(F$40)<=ABS(F$40-F$41),F$46=\"Crest\"),1,0)","v":0},{"$f":"IF(AND($B$139=1,SIGN(G$40)=1,ABS(G$40)<=ABS(G$40-G$41),G$46=\"Crest\"),1,0)","v":0},{"$f":"IF($I$2=\"Existing\",(D132),(IF($I$2=\"Design 1\",(F132),(IF($I$2=\"Design 2\",(G132),(IF($I$2=\"Optimal\",(I132),E132)))))))","v":0},{"$f":"IF(AND($B$138=1,SIGN(I$40)=1,ABS(I$40)<=ABS(I$40-IF(ISNUMBER(I$41), I$41,0)),I$46=\"Crest\"),1,0)","v":{"$error":"#VALUE!"}},null,{"$f":"INDEX($D132:$I132,K$100)","v":0},{"$f":"INDEX($D132:$I132,L$100)","v":0},{"$f":"IF(ISERROR(1-L132/K132), 0, 1-L132/K132)","v":0}]
["VC?",null,"HC and VC Sag type I",{"$f":"IF(AND($B$139=1,SIGN(D$40)=1,ABS(D$40)<=ABS(D$40-D$41),D$46=\"Sag\"),1,0)","v":0},{"$f":"IF(AND($B$139=1,SIGN(IF(ISNUMBER(E$40),E$40,0))=1,\n  ABS(IF(ISNUMBER(E$40),E$40,0))<=ABS(IF(ISNUMBER(E$40),E$40,0)-IF(ISNUMBER(E$41),E$41,0)),E$46=\"Sag\"),\n  1,0)","v":0},{"$f":"IF(AND($B$139=1,SIGN(F$40)=1,ABS(F$40)<=ABS(F$40-F$41),F$46=\"Sag\"),1,0)","v":0},{"$f":"IF(AND($B$139=1,SIGN(G$40)=1,ABS(G$40)<=ABS(G$40-G$41),G$46=\"Sag\"),1,0)","v":0},{"$f":"IF($I$2=\"Existing\",(D133),(IF($I$2=\"Design 1\",(F133),(IF($I$2=\"Design 2\",(G133),(IF($I$2=\"Optimal\",(I133),E133)))))))","v":0},{"$f":"IF(AND($B$138=1,SIGN(I$40)=1,ABS(I$40)<=ABS(I$40-IF(ISNUMBER(I$41), I$41,0)),I$46=\"Sag\"),1,0)","v":{"$error":"#VALUE!"}},null,{"$f":"INDEX($D133:$I133,K$100)","v":0},{"$f":"INDEX($D133:$I133,L$100)","v":0},0]
[null,null,"HC and VC Crest type II",{"$f":"IF(AND($B$139=1,D$46=\"Crest\",D$132=0),1,0)","v":0},{"$f":"IF(AND($B$139=1,E$46=\"Crest\",E$132=0),1,0)","v":0},{"$f":"IF(AND($B$139=1,F$46=\"Crest\",F$132=0),1,0)","v":0},{"$f":"IF(AND($B$139=1,G$46=\"Crest\",G$132=0),1,0)","v":0},{"$f":"IF($I$2=\"Existing\",(D134),(IF($I$2=\"Design 1\",(F134),(IF($I$2=\"Design 2\",(G134),(IF($I$2=\"Optimal\",(I134),E134)))))))","v":0},{"$f":"IF(AND($B$139=1,I$46=\"Crest\",I$132=0),1,0)","v":{"$error":"#VALUE!"}},null,{"$f":"INDEX($D134:$I134,K$100)","v":0},{"$f":"INDEX($D134:$I134,L$100)","v":0},0]
[null,null,"HC and VC Sag type II",{"$f":"IF(AND($B$139=1,D$46=\"Sag\",D$133=0),1,0)","v":0},{"$f":"IF(AND($B$139=1,E$46=\"Sag\",E$133=0),1,0)","v":0},{"$f":"IF(AND($B$139=1,F$46=\"Sag\",F$133=0),1,0)","v":0},{"$f":"IF(AND($B$139=1,G$46=\"Sag\",G$133=0),1,0)","v":0},{"$f":"IF($I$2=\"Existing\",(D135),(IF($I$2=\"Design 1\",(F135),(IF($I$2=\"Design 2\",(G135),(IF($I$2=\"Optimal\",(I135),E135)))))))","v":0},{"$f":"IF(AND($B$139=1,I$46=\"Sag\",I$133=0),1,0)","v":{"$error":"#VALUE!"}},null,{"$f":"INDEX($D135:$I135,K$100)","v":0},{"$f":"INDEX($D135:$I135,L$100)","v":0},0]
[null,"Yes/No"]
[null,null,"HC and VC:"]
[null,{"$f":"IF(B31=\"Yes\",1,0)","v":0},"HC and Grade",{"$f":"IF($B$139=0,\n  EXP(0.042*ABS(D$40)\n    +$B$138*0.16*LN(2*5730/IF(ISNUMBER(D$33),D$33,1))*$B$138\n    +4.16*$B$138/IF(ISNUMBER(D$33),D$33,1)/IF( AND(ISNUMBER(D$34),D$34<>0),D$34,1)),\n  1)","v":1},{"$f":"IF($B$139=0,\n  EXP(0.042*ABS(D$40)\n    +$B$138*0.16*LN(2*5730/IF(ISNUMBER(E$33),E$33,1))*$B$138\n    +4.16*$B$138/IF(ISNUMBER(E$33),E$33,1)/IF( AND(ISNUMBER(E$34),E$34<>0),E$34,1)),\n  1)","v":1},{"$f":"IF($B$139=0,\n  EXP(0.042*ABS(F$40)\n    +$B$138*0.16*LN(2*5730/IF(ISNUMBER(F$33),F$33,1))*$B$138\n    +4.16*$B$138/IF(ISNUMBER(F$33),F$33,1)/IF( AND(ISNUMBER(F$34),F$34<>0),F$34,1)),\n  1)","v":1},{"$f":"IF($B$139=0,\n  EXP(0.042*ABS(G$40)\n    +$B$138*0.16*LN(2*5730/IF(ISNUMBER(G$33),G$33,1))*$B$138\n    +4.16*$B$138/IF(ISNUMBER(G$33),G$33,1)/IF( AND(ISNUMBER(G$34),G$34<>0),G$34,1)),\n  1)","v":1},null,{"$f":"IF($B$139=0,\n  EXP(0.042*ABS(I$40)\n    +$B$138*0.16*LN(2*5730/IF(ISNUMBER(I$33),I$33,1))*$B$138\n    +4.16*$B$138/IF(ISNUMBER(I$33),I$33,1)/IF( AND(ISNUMBER(I$34),I$34<>0),I$34,1)),\n  1)","v":{"$error":"#VALUE!"}},null,{"$f":"INDEX($D138:$I138,K$100)","v":1},{"$f":"INDEX($D138:$I138,L$100)","v":1},{"$f":"IF(ISERROR(1-L138/K138), 0, 1-L138/K138)","v":0},null,0]
[null,{"$f":"IF(B38=\"Yes\",1,0)","v":0},"HC and VC Crest type I",{"$f":"IF($B$139=0,1,EXP(0.005648908*5730*ABS(+D$40-D$41)*$B$139/D$145*$B$138))","v":1},{"$f":"IF($B$139=0,1,EXP(0.005648908*5730*ABS(+E$40-E$41)*$B$139/E$145*$B$138))","v":1},1,1,{"$f":"IF($I$2=\"Existing\",(D139),(IF($I$2=\"Design 1\",(F139),(IF($I$2=\"Design 2\",(G139),(IF($I$2=\"Optimal\",(I139),E139)))))))","v":1},1,null,{"$f":"INDEX($D139:$I139,K$100)","v":1},{"$f":"INDEX($D139:$I139,L$100)","v":1},0,null,0]
[null,null,"HC and VC Sag type I",{"$f":"IF($B$139=0,1,EXP(9.15857042*$B$139/D$146+0.010284958*5730*$B$139*$B$138*ABS(+D$40-D$41)/D$145))","v":1},{"$f":"IF($B$139=0,1,EXP(9.15857042*$B$139/E$146+0.010284958*5730*$B$139*$B$138*ABS(+E$40-E$41)/E$145))","v":1},1,1,{"$f":"IF($I$2=\"Existing\",(D140),(IF($I$2=\"Design 1\",(F140),(IF($I$2=\"Design 2\",(G140),(IF($I$2=\"Optimal\",(I140),E140)))))))","v":1},1,null,{"$f":"INDEX($D140:$I140,K$100)","v":1},{"$f":"INDEX($D140:$I140,L$100)","v":1},0,null,0]
[null,null,"HC and VC Crest type II",{"$f":"IF($B$139=0,1,EXP(0.005648908*5730*ABS(+D$40-D$41)*$B$139/D$145*$B$138))","v":1},{"$f":"IF($B$139=0,1,EXP(0.005648908*5730*ABS(+E$40-E$41)*$B$139/E$145*$B$138))","v":1},1,1,{"$f":"IF($I$2=\"Existing\",(D141),(IF($I$2=\"Design 1\",(F141),(IF($I$2=\"Design 2\",(G141),(IF($I$2=\"Optimal\",(I141),E141)))))))","v":1},1,null,{"$f":"INDEX($D141:$I141,K$100)","v":1},{"$f":"INDEX($D141:$I141,L$100)","v":1},0,null,0]
[null,null,"HC and VC Sag type II",{"$f":"IF($B$139=0,1,(0.246011284*EXP(LN(0.188*2*5730/D$145)*$B$138)+0.753988716*EXP(0.022*5730/D$145*ABS(D$40-D$41)*$B$139*$B$138)))","v":1},{"$f":"IF($B$139=0,1,(0.246011284*EXP(LN(0.188*2*5730/E$145)*$B$138)+0.753988716*EXP(0.022*5730/E$145*ABS(E$40-E$41)*$B$139*$B$138)))","v":1},1,1,{"$f":"IF($I$2=\"Existing\",(D142),(IF($I$2=\"Design 1\",(F142),(IF($I$2=\"Design 2\",(G142),(IF($I$2=\"Optimal\",(I142),E142)))))))","v":1},1,null,{"$f":"INDEX($D142:$I142,K$100)","v":1},{"$f":"INDEX($D142:$I142,L$100)","v":1},0,null,0]
[]
[null,null,"Combined HZ and VT",{"$f":"MMULT(TRANSPOSE(D131:D135),D138:D142)","v":1},{"$f":"MMULT(TRANSPOSE(E131:E135),E138:E142)","v":1},{"$f":"MMULT(TRANSPOSE(F131:F135),F138:F142)","v":1},{"$f":"MMULT(TRANSPOSE(G131:G135),G138:G142)","v":1},{"$f":"IF($I$2=\"Existing\",(D144),(IF($I$2=\"Design 1\",(F144),(IF($I$2=\"Design 2\",(G144),(IF($I$2=\"Optimal\",(I144),E144)))))))","v":1},{"$f":"MMULT(TRANSPOSE(I131:I135),I138:I142)","v":{"$error":"#VALUE!"}},null,{"$f":"INDEX($D144:$I144,K$100)","v":1},{"$f":"INDEX($D144:$I144,L$100)","v":1},{"$f":"IF(ISERROR(1-L144/K144), 0, 1-L144/K144)","v":0},null,0]
[null,null,"effective R for calculation",{"$f":"IF(ISNUMBER(D33), D33, 99999999)","v":99999999},{"$f":"IF(ISNUMBER(E33), E33, 99999999)","v":590},99999999,99999999,null,590]
[null,null,"effective K for calculation",{"$f":"IF(ISNUMBER(D43), D43, 99999999)","v":99999999},{"$f":"IF(ISNUMBER(E43), E43, 99999999)","v":99999999},99999999,99999999,null,99999999]
[null,"Traffic"]
[null,null,null,"Existing","Standard","Design 1","Design 2"]
[null,null,"Advance static curve warning signs",{"$f":"IF(D24=INDEX(MedConf_Header,1,2),IF(AND($B$31=\"Yes\",D$56=\"Yes\"),(Traffic!$F$4-1)*AVERAGE(Constraints!$F$24,Constraints!$H$24)/Constraints!$D$24+1,1),(IF(AND($B$31=\"Yes\",D$56=\"Yes\"),(Traffic!$F$4-1)*AVERAGE(Constraints!$F$38,Constraints!$H$38)/Constraints!$D$38+1,1)))","v":1},{"$f":"IF(AND($B$31=\"Yes\",E$56=\"Yes\"),(Traffic!$F$4-1)*AVERAGE(Constraints!$F$24,Constraints!$H$24)/Constraints!$D$24+1,1)","v":1},{"$f":"IF(F24=INDEX(MedConf_Header,1,2),IF(AND($B$31=\"Yes\",F$56=\"Yes\"),(Traffic!$F$4-1)*AVERAGE(Constraints!$F$24,Constraints!$H$24)/Constraints!$D$24+1,1),(IF(AND($B$31=\"Yes\",F$56=\"Yes\"),(Traffic!$F$4-1)*AVERAGE(Constraints!$F$38,Constraints!$H$38)/Constraints!$D$38+1,1)))","v":1},{"$f":"IF(G24=INDEX(MedConf_Header,1,2),IF(AND($B$31=\"Yes\",G$56=\"Yes\"),(Traffic!$F$4-1)*AVERAGE(Constraints!$F$24,Constraints!$H$24)/Constraints!$D$24+1,1),(IF(AND($B$31=\"Yes\",G$56=\"Yes\"),(Traffic!$F$4-1)*AVERAGE(Constraints!$F$38,Constraints!$H$38)/Constraints!$D$38+1,1)))","v":1},{"$f":"IF($I$2=\"Existing\",(D149),(IF($I$2=\"Design 1\",(F149),(IF($I$2=\"Design 2\",(G149),(IF($I$2=\"Optimal\",(I149),E149)))))))","v":1},{"$f":"IF(AND($B$31=\"Yes\",I$56=\"Yes\"),(Traffic!$F$4-1)*AVERAGE(Constraints!$F$24,Constraints!$H$24)/Constraints!$D$24+1,1)","v":1},null,{"$f":"INDEX($D149:$I149,K$100)","v":1},{"$f":"INDEX($D149:$I149,L$100)","v":1},{"$f":"IF(ISERROR(1-L149/K149), 0, 1-L149/K149)","v":0},null,0]
[null,null,"Install chevron signs on horizontal curves",{"$f":"IF(D24=INDEX(MedConf_Header,1,2),(IF(D$57=\"No\",1,(IF(AND($B$31=\"Yes\",D$27<11.5),((Traffic!$F$6-1)*(Constraints!$E$18+Constraints!$E$22))+1,1)))),(IF(D$57=\"No\",1,(IF(AND($B$31=\"Yes\",D$27<11.5),((Traffic!$F$6-1)*(Constraints!$E$32+Constraints!$E$36))+1,1)))))","v":1},{"$f":"IF(E$57=\"No\",1,(IF(AND($B$31=\"Yes\",E$27<11.5),((Traffic!$F$6-1)*(Constraints!$E$18+Constraints!$E$22))+1,1)))","v":1},{"$f":"IF(F24=INDEX(MedConf_Header,1,2),(IF(F$57=\"No\",1,(IF(AND($B$31=\"Yes\",F$27<11.5),((Traffic!$F$6-1)*(Constraints!$E$18+Constraints!$E$22))+1,1)))),(IF(F$57=\"No\",1,(IF(AND($B$31=\"Yes\",F$27<11.5),((Traffic!$F$6-1)*(Constraints!$E$32+Constraints!$E$36))+1,1)))))","v":1},{"$f":"IF(G24=INDEX(MedConf_Header,1,2),(IF(G$57=\"No\",1,(IF(AND($B$31=\"Yes\",G$27<11.5),((Traffic!$F$6-1)*(Constraints!$E$18+Constraints!$E$22))+1,1)))),(IF(G$57=\"No\",1,(IF(AND($B$31=\"Yes\",G$27<11.5),((Traffic!$F$6-1)*(Constraints!$E$32+Constraints!$E$36))+1,1)))))","v":1},{"$f":"IF($I$2=\"Existing\",(D150),(IF($I$2=\"Design 1\",(F150),(IF($I$2=\"Design 2\",(G150),(IF($I$2=\"Optimal\",(I150),E150)))))))","v":1},{"$f":"IF(I$57=\"No\",1,(IF(AND($B$31=\"Yes\",I$27<11.5),((Traffic!$F$6-1)*(Constraints!$E$18+Constraints!$E$22))+1,1)))","v":1},null,{"$f":"INDEX($D150:$I150,K$100)","v":1},{"$f":"INDEX($D150:$I150,L$100)","v":1},0,null,0]
[null,null,"Install post-mounted delineators",{"$f":"IF(D24=INDEX(MedConf_Header,1,2),IF(AND($B$31=\"Yes\",D$58=\"Yes\"),(Traffic!$F$12-1)*Constraints!$E$17+1,1),(IF(AND($B$31=\"Yes\",D$58=\"Yes\"),(Traffic!$F$12-1)*Constraints!$E$31+1,1)))","v":1},{"$f":"IF(AND($B$31=\"Yes\",E$58=\"Yes\"),(Traffic!$F$12-1)*Constraints!$E$17+1,1)","v":1},{"$f":"IF(F24=INDEX(MedConf_Header,1,2),IF(AND($B$31=\"Yes\",F$58=\"Yes\"),(Traffic!$F$12-1)*Constraints!$E$17+1,1),(IF(AND($B$31=\"Yes\",F$58=\"Yes\"),(Traffic!$F$12-1)*Constraints!$E$31+1,1)))","v":1},{"$f":"IF(G24=INDEX(MedConf_Header,1,2),IF(AND($B$31=\"Yes\",G$58=\"Yes\"),(Traffic!$F$12-1)*Constraints!$E$17+1,1),(IF(AND($B$31=\"Yes\",G$58=\"Yes\"),(Traffic!$F$12-1)*Constraints!$E$31+1,1)))","v":1},{"$f":"IF($I$2=\"Existing\",(D151),(IF($I$2=\"Design 1\",(F151),(IF($I$2=\"Design 2\",(G151),(IF($I$2=\"Optimal\",(I151),E151)))))))","v":1},{"$f":"IF(AND($B$31=\"Yes\",I$58=\"Yes\"),(Traffic!$F$12-1)*Constraints!$E$17+1,1)","v":1},null,{"$f":"INDEX($D151:$I151,K$100)","v":1},{"$f":"INDEX($D151:$I151,L$100)","v":1},0,null,0]
[null,null,"Install edgeline  or Profile pavement markings ",{"$f":"IF(D24=INDEX(MedConf_Header,1,2),(IF(D$59=\"Yes\",Traffic!$F$18*0.5+((Traffic!$F$20*(Constraints!$H$17+Constraints!$H$20+Constraints!$H$21)+1*(Constraints!$H$24-(Constraints!$H$17+Constraints!$H$20+Constraints!$H$21)))/Constraints!$H$24)*0.5,1)),(IF(D$59=\"Yes\",Traffic!$F$18*0.5+((Traffic!$F$20*(Constraints!$H$31+Constraints!$H$34+Constraints!$H$35)+1*(Constraints!$H$38-(Constraints!$H$31+Constraints!$H$34+Constraints!$H$35)))/Constraints!$H$38)*0.5,1)))","v":1},{"$f":"IF(E24=INDEX(MedConf_Header,1,2),(IF(E$59=\"Yes\",Traffic!$F$18*0.5+((Traffic!$F$20*(Constraints!$H$17+Constraints!$H$20+Constraints!$H$21)+1*(Constraints!$H$24-(Constraints!$H$17+Constraints!$H$20+Constraints!$H$21)))/Constraints!$H$24)*0.5,1)),(IF(E$59=\"Yes\",Traffic!$F$18*0.5+((Traffic!$F$20*(Constraints!$H$31+Constraints!$H$34+Constraints!$H$35)+1*(Constraints!$H$38-(Constraints!$H$31+Constraints!$H$34+Constraints!$H$35)))/Constraints!$H$38)*0.5,1)))","v":1},{"$f":"IF(F24=INDEX(MedConf_Header,1,2),(IF(F$59=\"Yes\",Traffic!$F$18*0.5+((Traffic!$F$20*(Constraints!$H$17+Constraints!$H$20+Constraints!$H$21)+1*(Constraints!$H$24-(Constraints!$H$17+Constraints!$H$20+Constraints!$H$21)))/Constraints!$H$24)*0.5,1)),(IF(F$59=\"Yes\",Traffic!$F$18*0.5+((Traffic!$F$20*(Constraints!$H$31+Constraints!$H$34+Constraints!$H$35)+1*(Constraints!$H$38-(Constraints!$H$31+Constraints!$H$34+Constraints!$H$35)))/Constraints!$H$38)*0.5,1)))","v":1},{"$f":"IF(G24=INDEX(MedConf_Header,1,2),(IF(G$59=\"Yes\",Traffic!$F$18*0.5+((Traffic!$F$20*(Constraints!$H$17+Constraints!$H$20+Constraints!$H$21)+1*(Constraints!$H$24-(Constraints!$H$17+Constraints!$H$20+Constraints!$H$21)))/Constraints!$H$24)*0.5,1)),(IF(G$59=\"Yes\",Traffic!$F$18*0.5+((Traffic!$F$20*(Constraints!$H$31+Constraints!$H$34+Constraints!$H$35)+1*(Constraints!$H$38-(Constraints!$H$31+Constraints!$H$34+Constraints!$H$35)))/Constraints!$H$38)*0.5,1)))","v":1},{"$f":"IF($I$2=\"Existing\",(D152),(IF($I$2=\"Design 1\",(F152),(IF($I$2=\"Design 2\",(G152),(IF($I$2=\"Optimal\",(I152),E152)))))))","v":1},{"$f":"IF(I24=INDEX(MedConf_Header,1,2),(IF(I$59=\"Yes\",Traffic!$F$18*0.5+((Traffic!$F$20*(Constraints!$H$17+Constraints!$H$20+Constraints!$H$21)+1*(Constraints!$H$24-(Constraints!$H$17+Constraints!$H$20+Constraints!$H$21)))/Constraints!$H$24)*0.5,1)),(IF(I$59=\"Yes\",Traffic!$F$18*0.5+((Traffic!$F$20*(Constraints!$H$31+Constraints!$H$34+Constraints!$H$35)+1*(Constraints!$H$38-(Constraints!$H$31+Constraints!$H$34+Constraints!$H$35)))/Constraints!$H$38)*0.5,1)))","v":0.87439641434262949},null,{"$f":"INDEX($D152:$I152,K$100)","v":1},{"$f":"INDEX($D152:$I152,L$100)","v":1},0,null,0.13824118691351761]
[null,null,"Profiles",1,1,1,1,1,1,null,{"$f":"INDEX($D153:$I153,K$100)","v":1},{"$f":"INDEX($D153:$I153,L$100)","v":1},0,null,0]
[null,null,"Shoulder rumble strips",{"$f":"IF(D24=INDEX(MedConf_Header,1,2),(IF(D$60=\"No\",1,(Traffic!$F$27*(Constraints!$H$17+Constraints!$H$20+Constraints!$H$21)+1*(Constraints!$H$24-(Constraints!$H$17+Constraints!$H$20+Constraints!$H$21)))/Constraints!$H$24)),(IF(D$60=\"No\",1,(Traffic!$F$27*(Constraints!$H$31+Constraints!$H$34+Constraints!$H$35)+1*(Constraints!$H$38-(Constraints!$H$31+Constraints!$H$34+Constraints!$H$35)))/Constraints!$H$38)))","v":0.93956289460903353},{"$f":"IF(E$60=\"No\",1,(Traffic!$F$27*(Constraints!$H$17+Constraints!$H$20+Constraints!$H$21)+1*(Constraints!$H$24-(Constraints!$H$17+Constraints!$H$20+Constraints!$H$21)))/Constraints!$H$24)","v":0.91807038512616201},{"$f":"IF(F24=INDEX(MedConf_Header,1,2),(IF(F$60=\"No\",1,(Traffic!$F$27*(Constraints!$H$17+Constraints!$H$20+Constraints!$H$21)+1*(Constraints!$H$24-(Constraints!$H$17+Constraints!$H$20+Constraints!$H$21)))/Constraints!$H$24)),(IF(F$60=\"No\",1,(Traffic!$F$27*(Constraints!$H$31+Constraints!$H$34+Constraints!$H$35)+1*(Constraints!$H$38-(Constraints!$H$31+Constraints!$H$34+Constraints!$H$35)))/Constraints!$H$38)))","v":0.93956289460903353},{"$f":"IF(G24=INDEX(MedConf_Header,1,2),(IF(G$60=\"No\",1,(Traffic!$F$27*(Constraints!$H$17+Constraints!$H$20+Constraints!$H$21)+1*(Constraints!$H$24-(Constraints!$H$17+Constraints!$H$20+Constraints!$H$21)))/Constraints!$H$24)),(IF(G$60=\"No\",1,(Traffic!$F$27*(Constraints!$H$31+Constraints!$H$34+Constraints!$H$35)+1*(Constraints!$H$38-(Constraints!$H$31+Constraints!$H$34+Constraints!$H$35)))/Constraints!$H$38)))","v":0.93956289460903353},{"$f":"IF($I$2=\"Existing\",(D154),(IF($I$2=\"Design 1\",(F154),(IF($I$2=\"Design 2\",(G154),(IF($I$2=\"Optimal\",(I154),E154)))))))","v":0.91807038512616201},{"$f":"IF(I$60=\"No\",1,(Traffic!$F$27*(Constraints!$H$17+Constraints!$H$20+Constraints!$H$21)+1*(Constraints!$H$24-(Constraints!$H$17+Constraints!$H$20+Constraints!$H$21)))/Constraints!$H$24)","v":0.91807038512616201},null,{"$f":"INDEX($D154:$I154,K$100)","v":0.93956289460903353},{"$f":"INDEX($D154:$I154,L$100)","v":0.91807038512616201},2.2875008800570917E-2,null,0]
[null,null,"Install centerline rumble strips",{"$f":"IF(D24=INDEX(MedConf_Header,1,3),(IF(D$61=\"No\",1,(Traffic!$E$81*(Constraints!$H$31+Constraints!$H$34+Constraints!$H$35)+1*(Constraints!$H$38-(Constraints!$H$31+Constraints!$H$34+Constraints!$H$35)))/Constraints!$H$38)+0.001),1)","v":1},{"$f":"IF(E24=INDEX(MedConf_Header,1,3),(IF(E$61=\"No\",1,(Traffic!$E$81*(Constraints!$H$31+Constraints!$H$34+Constraints!$H$35)+1*(Constraints!$H$38-(Constraints!$H$31+Constraints!$H$34+Constraints!$H$35)))/Constraints!$H$38)+0.001),1)","v":1},{"$f":"IF(F24=INDEX(MedConf_Header,1,3),(IF(F$61=\"No\",1,(Traffic!$E$81*(Constraints!$H$31+Constraints!$H$34+Constraints!$H$35)+1*(Constraints!$H$38-(Constraints!$H$31+Constraints!$H$34+Constraints!$H$35)))/Constraints!$H$38)+0.001),1)","v":1},{"$f":"IF(G24=INDEX(MedConf_Header,1,3),(IF(G$61=\"No\",1,(Traffic!$E$81*(Constraints!$H$31+Constraints!$H$34+Constraints!$H$35)+1*(Constraints!$H$38-(Constraints!$H$31+Constraints!$H$34+Constraints!$H$35)))/Constraints!$H$38)+0.001),1)","v":1},{"$f":"IF($I$2=\"Existing\",(D155),(IF($I$2=\"Design 1\",(F155),(IF($I$2=\"Design 2\",(G155),(IF($I$2=\"Optimal\",(I155),E155)))))))","v":1},{"$f":"IF(I24=INDEX(MedConf_Header,1,3),(IF(I$61=\"No\",1,(Traffic!$E$81*(Constraints!$H$31+Constraints!$H$34+Constraints!$H$35)+1*(Constraints!$H$38-(Constraints!$H$31+Constraints!$H$34+Constraints!$H$35)))/Constraints!$H$38)+0.001),1)","v":1},null,{"$f":"INDEX($D155:$I155,K$100)","v":1},{"$f":"INDEX($D155:$I155,L$100)","v":1},0,null,-0.16279069767441867]
[null,null,"Driveway Density (driveways per mile)",{"$f":"EXP(-LN(Traffic!$F$31)*(D$62-$E$62))","v":0.81707280688754669},{"$f":"EXP(-LN(Traffic!$F$31)*(E$62-$E$62))","v":1},{"$f":"EXP(-LN(Traffic!$F$31)*(F$62-$E$62))","v":0.81707280688754669},{"$f":"EXP(-LN(Traffic!$F$31)*(G$62-$E$62))","v":0.81707280688754669},{"$f":"IF($I$2=\"Existing\",(D156),(IF($I$2=\"Design 1\",(F156),(IF($I$2=\"Design 2\",(G156),(IF($I$2=\"Optimal\",(I156),E156)))))))","v":1},{"$f":"EXP(-LN(Traffic!$F$31)*(I$62-$E$62))","v":0.81707280688754669},null,{"$f":"INDEX($D156:$I156,K$100)","v":0.81707280688754669},{"$f":"INDEX($D156:$I156,L$100)","v":1},-0.22388114201141129,null,-0.22388114201141129]
[null,null,"Install lighting",{"$f":"IF(D24=INDEX(MedConf_Header,1,2),(IF(D$63=\"No\",1,1-(((1-Traffic!$F$54*Constraints!$H$24-Constraints!$F$24/3)+((1-Traffic!$F$54*Constraints!$D$24-Constraints!$H$24)))*$S$19+((1-Traffic!$F$56)*Constraints!$F$24/3))/Constraints!$D$24)),(IF(D$63=\"No\",1,1-(((1-Traffic!$F$54*Constraints!$H$38-Constraints!$F$38/3)+((1-Traffic!$F$54*Constraints!$D$38-Constraints!$H$38)))*$S$19+((1-Traffic!$F$56)*Constraints!$F$38/3))/Constraints!$D$38)))","v":0.98319080068143105},{"$f":"IF(E$63=\"No\",1,1-(((1-Traffic!$F$54*Constraints!$H$24-Constraints!$F$24/3)+((1-Traffic!$F$54*Constraints!$D$24-Constraints!$H$24)))*$S$19+((1-Traffic!$F$56)*Constraints!$F$24/3))/Constraints!$D$24)","v":1},{"$f":"IF(F24=INDEX(MedConf_Header,1,2),(IF(F$63=\"No\",1,1-(((1-Traffic!$F$54*Constraints!$H$24-Constraints!$F$24/3)+((1-Traffic!$F$54*Constraints!$D$24-Constraints!$H$24)))*$S$19+((1-Traffic!$F$56)*Constraints!$F$24/3))/Constraints!$D$24)),(IF(F$63=\"No\",1,1-(((1-Traffic!$F$54*Constraints!$H$38-Constraints!$F$38/3)+((1-Traffic!$F$54*Constraints!$D$38-Constraints!$H$38)))*$S$19+((1-Traffic!$F$56)*Constraints!$F$38/3))/Constraints!$D$38)))","v":0.98319080068143105},{"$f":"IF(G24=INDEX(MedConf_Header,1,2),(IF(G$63=\"No\",1,1-(((1-Traffic!$F$54*Constraints!$H$24-Constraints!$F$24/3)+((1-Traffic!$F$54*Constraints!$D$24-Constraints!$H$24)))*$S$19+((1-Traffic!$F$56)*Constraints!$F$24/3))/Constraints!$D$24)),(IF(G$63=\"No\",1,1-(((1-Traffic!$F$54*Constraints!$H$38-Constraints!$F$38/3)+((1-Traffic!$F$54*Constraints!$D$38-Constraints!$H$38)))*$S$19+((1-Traffic!$F$56)*Constraints!$F$38/3))/Constraints!$D$38)))","v":0.98319080068143105},{"$f":"IF($I$2=\"Existing\",(D157),(IF($I$2=\"Design 1\",(F157),(IF($I$2=\"Design 2\",(G157),(IF($I$2=\"Optimal\",(I157),E157)))))))","v":1},{"$f":"IF(I$63=\"No\",1,1-(((1-Traffic!$F$54*Constraints!$H$24-Constraints!$F$24/3)+((1-Traffic!$F$54*Constraints!$D$24-Constraints!$H$24)))*$S$19+((1-Traffic!$F$56)*Constraints!$F$24/3))/Constraints!$D$24)","v":0.98062689234129152},null,{"$f":"INDEX($D157:$I157,K$100)","v":0.98319080068143105},{"$f":"INDEX($D157:$I157,L$100)","v":1},-1.7096579124742384E-2,null,-2.3499081529478438E-2]
[null,null,"Pavement friction (skid number)",{"$f":"EXP(LN(Traffic!$F$48)*(D$64-$E$64))","v":1.3972521419325798},{"$f":"EXP(LN(Traffic!$F$48)*(E$64-$E$64))","v":1},{"$f":"IF(MATCH(F64,SkidNums,0)=3, $D158,EXP(LN([5]Traffic!$F$49)*(RIGHT(F$64,2)-$E$64)))","v":{"$error":"#N/A"}},{"$f":"IF(MATCH(G64,SkidNums,0)=3, $D158,EXP(LN([5]Traffic!$F$49)*(RIGHT(G$64,2)-$E$64)))","v":{"$error":"#N/A"}},{"$f":"IF($I$2=\"Existing\",(D158),(IF($I$2=\"Design 1\",(F158),(IF($I$2=\"Design 2\",(G158),(IF($I$2=\"Optimal\",(I158),E158)))))))","v":1},{"$f":"EXP(LN(Traffic!$F$48)*(I$64-$E$64))","v":0.85753553626991963},null,{"$f":"INDEX($D158:$I158,K$100)","v":1.3972521419325798},{"$f":"INDEX($D158:$I158,L$100)","v":1},0.28430956017940245,null,0]
[]
[]
[null,null,"COMBINED Calculated CMF",{"$f":"+D149*D150*D151*D152*D153*D154*D155*D156*D157*D158","v":1.0546277742651902},{"$f":"+E149*E150*E151*E152*E153*E154*E155*E156*E157*E158","v":0.91807038512616201},{"$error":"#N/A"},{"$error":"#N/A"},{"$f":"IF($I$2=\"Existing\",(D161),(IF($I$2=\"Design 1\",(F161),(IF($I$2=\"Design 2\",(G161),(IF($I$2=\"Optimal\",(I161),E161)))))))","v":0.91807038512616201},{"$f":"+I149*I150*I151*I152*I153*I154*I155*I156*I157*I158","v":0.55157049744255038},null,{"$f":"INDEX($D161:$I161,K$100)","v":1.0546277742651902},{"$f":"INDEX($D161:$I161,L$100)","v":0.91807038512616201},{"$f":"IF(ISERROR(1-L161/K161), 0, 1-L161/K161)","v":0.12948396815565966},null,0]
[null,null,"Calculated Relative to Design Standards (Column E)",{"$f":"+D161/$E$161","v":1.1487439213282784},{"$f":"+E161/$E$161","v":1},{"$error":"#N/A"},{"$error":"#N/A"},1,{"$f":"+I161/$E$161","v":0.60079325766156055},null,{"$f":"INDEX($D162:$I162,K$100)","v":1.1487439213282784},{"$f":"INDEX($D162:$I162,L$100)","v":1},0.12948396815565966,null,0]
[null,null,"P(Crash)",{"$f":"+D162/(D162+1)","v":0.53461183062622242},0.5,{"$error":"#N/A"},{"$error":"#N/A"},0.5,{"$f":"+I162/(I162+1)","v":0.37530971272280322},null,{"$f":"INDEX($D163:$I163,K$100)","v":0.53461183062622242},{"$f":"INDEX($D163:$I163,L$100)","v":0.5},6.4741984077829939E-2]
[null,null,"Factor Change on S curve",{"$f":"+D163/$E$163","v":1.0692236612524448},{"$f":"+E163/$E$163","v":1},{"$f":"+F163/$E$163","v":{"$error":"#N/A"}},{"$error":"#N/A"},1,{"$f":"+I163/$E$163","v":0.75061942544560645},null,{"$f":"INDEX($D164:$I164,K$100)","v":1.0692236612524448},{"$f":"INDEX($D164:$I164,L$100)","v":1},6.4741984077829939E-2]
[null,null,"Adjust to Scale of 100",{"$f":"+$I$118/D164*100","v":{"$error":"#VALUE!"}},{"$error":"#VALUE!"},{"$error":"#VALUE!"},{"$error":"#VALUE!"},{"$error":"#VALUE!"},{"$f":"+$I$118/I164*100","v":{"$error":"#VALUE!"}}]
[null,null,"Unadjusted Combined Relative to Standard",{"$f":"+D161/$E$161","v":1.1487439213282784},{"$f":"+E161/$E$161","v":1},{"$f":"+F161/$E$161","v":{"$error":"#N/A"}},{"$error":"#N/A"},1,{"$f":"+I161/$E$161","v":0.60079325766156055},{"$f":"I172/E172","v":1.3333333333333333},{"$f":"INDEX($D166:$I166,K$100)","v":1.1487439213282784},{"$f":"INDEX($D166:$I166,L$100)","v":1},{"$f":"IF(ISERROR(1-L166/K166), 0, 1-L166/K166)","v":0.12948396815565966}]
[null,null,null,null,null,null,null,0,null,null,{"$f":"INDEX($D167:$I167,K$100)","v":0},{"$f":"INDEX($D167:$I167,L$100)","v":0},0]
[null,null,"Adjusted for PA Basis",{"$f":"+D161*(1+1)/(1+D161*1)","v":1.0265876743950504},0.95728539707970672,{"$error":"#N/A"},{"$error":"#N/A"},0.95728539707970672,{"$f":"+I161*(1+1)/(1+I161*1)","v":0.71098348202895401},null,{"$f":"INDEX($D168:$I168,K$100)","v":1.0265876743950504},{"$f":"INDEX($D168:$I168,L$100)","v":0.95728539707970672},6.750741221998624E-2]
[null,null,"Corrected by Odds Ratio",{"$f":"+D168/$E$168","v":1.0723945831898796},{"$f":"+E168/$E$168","v":1},{"$f":"+F168/$E$168","v":{"$error":"#N/A"}},{"$error":"#N/A"},1,{"$f":"+I168/$E$168","v":0.74270795752017016},{"$f":"I175/E175","v":1.4285714285714286},{"$f":"INDEX($D169:$I169,K$100)","v":1.0723945831898796},{"$f":"INDEX($D169:$I169,L$100)","v":1},6.750741221998624E-2]
[null,null,null,{"$f":"(1/D169)^$D173","v":0.19732178070922252},{"$f":"(1/E169)^$D173","v":1},{"$error":"#N/A"},{"$error":"#N/A"},1,998.99999999999955,null,{"$f":"INDEX($D170:$I170,K$100)","v":0.19732178070922252},{"$f":"INDEX($D170:$I170,L$100)","v":1},-4.0678642591089362]
[null,null,null,{"$f":"(D170+$F174-1)/(1+(D170+$F174-1))","v":0.6048454036857811},{"$f":"(E170+$F174-1)/(1+(E170+$F174-1))","v":0.70000000000000007},{"$error":"#N/A"},{"$error":"#N/A"},0.70000000000000007,0.99900133155792281,null,{"$f":"INDEX($D171:$I171,K$100)","v":0.6048454036857811},{"$f":"INDEX($D171:$I171,L$100)","v":0.70000000000000007},-0.15732052477272696]
[null,null,"Score Odds Ratio with Optimal as 100 (old)",{"$f":"MIN(ROUND($I$169/D169*Construction!$I$3,0),$I172)","v":14},{"$f":"MIN(ROUND($I$169/E169*Construction!$I$3,0),$I172)","v":15},{"$f":"MIN(ROUND($I$169/F169*Construction!$I$3,0),$I172)","v":{"$error":"#N/A"}},{"$f":"MIN(ROUND($I$169/G169*Construction!$I$3,0),$I172)","v":{"$error":"#N/A"}},null,{"$f":"ROUND($I$169/I169*Construction!$I$3,0)","v":20}]
[null,null,"Logistic1",{"$f":"LN((D174/(1-D174))/(0.5/0.5))/LN($E169/I169)","v":23.2196999386987}]
[null,null,"Logistic Param",0.999,null,{"$f":"0.7/0.3","v":2.3333333333333335}]
[null,null,"Score ",{"$f":"MIN(ROUND(D171*Construction!$I$3,0),$I172)","v":12},{"$f":"MIN(ROUND(E171*Construction!$I$3,0),$I172)","v":14},{"$f":"MIN(ROUND(F171*Construction!$I$3,0),$I172)","v":{"$error":"#N/A"}},{"$f":"MIN(ROUND(G171*Construction!$I$3,0),$I172)","v":{"$error":"#N/A"}},null,{"$f":"MIN(ROUND(I171*Construction!$I$3,0),$I172)","v":20}]
[]
[]
[]
[]
[null,null,null,{"$f":"INDEX(MedConf_Header,1,2)","v":"Divided - Unsurfaced Median"}]
[]
[null,"Roadsde",null,"Existing","Standard","Design 1","Design 2"]
[null,null,null,{"$f":"IF(ISBLANK(D75), 0, MID(D75,FIND(\":\",D75,1)+1,FIND(\"H\",D75,1)-FIND(\":\",D75,1)-1)+0)","v":0},{"$f":"MID(E75,FIND(\":\",E75,1)+1,FIND(\"H\",E75,1)-FIND(\":\",E75,1)-1)+0","v":4},{"$f":"IF(ISBLANK(F75), 0, MID(F75,FIND(\":\",F75,1)+1,FIND(\"H\",F75,1)-FIND(\":\",F75,1)-1)+0)","v":0},{"$f":"IF(ISBLANK(G75), 0, MID(G75,FIND(\":\",G75,1)+1,FIND(\"H\",G75,1)-FIND(\":\",G75,1)-1)+0)","v":0},null,{"$f":"MID(I75,FIND(\":\",I75,1)+1,FIND(\"H\",I75,1)-FIND(\":\",I75,1)-1)+0","v":6},null,null,null,null,null,0]
[null,null,"Sideslope (Foreslope)",{"$f":"IF(D24=INDEX(MedConf_Header,1,2),(IF(D183<=3,1,IF(OR(D183=4,D183=5),(Roadside!$F$15-1)*Constraints!$H$24/Constraints!$D$24+1,(Roadside!$F$15*Roadside!$F$16-1)*Constraints!$H$24/Constraints!$D$24+1))),(IF(D183<=3,1,IF(OR(D183=4,D183=5),(Roadside!$F$15-1)*Constraints!$H$38/Constraints!$D$38+1,(Roadside!$F$15*Roadside!$F$16-1)*Constraints!$H$38/Constraints!$D$38+1))))","v":1},{"$f":"IF(E24=INDEX(MedConf_Header,1,2),(IF(E183<=3,1,IF(OR(E183=4,E183=5),(Roadside!$F$15-1)*Constraints!$H$24/Constraints!$D$24+1,(Roadside!$F$15*Roadside!$F$16-1)*Constraints!$H$24/Constraints!$D$24+1))),(IF(E183<=3,1,IF(OR(E183=4,E183=5),(Roadside!$F$15-1)*Constraints!$H$38/Constraints!$D$38+1,(Roadside!$F$15*Roadside!$F$16-1)*Constraints!$H$38/Constraints!$D$38+1))))","v":0.84302377525189853},{"$f":"IF(F24=INDEX(MedConf_Header,1,2),(IF(F183<=3,1,IF(OR(F183=4,F183=5),(Roadside!$F$15-1)*Constraints!$H$24/Constraints!$D$24+1,(Roadside!$F$15*Roadside!$F$16-1)*Constraints!$H$24/Constraints!$D$24+1))),(IF(F183<=3,1,IF(OR(F183=4,F183=5),(Roadside!$F$15-1)*Constraints!$H$38/Constraints!$D$38+1,(Roadside!$F$15*Roadside!$F$16-1)*Constraints!$H$38/Constraints!$D$38+1))))","v":1},{"$f":"IF(G24=INDEX(MedConf_Header,1,2),(IF(G183<=3,1,IF(OR(G183=4,G183=5),(Roadside!$F$15-1)*Constraints!$H$24/Constraints!$D$24+1,(Roadside!$F$15*Roadside!$F$16-1)*Constraints!$H$24/Constraints!$D$24+1))),(IF(G183<=3,1,IF(OR(G183=4,G183=5),(Roadside!$F$15-1)*Constraints!$H$38/Constraints!$D$38+1,(Roadside!$F$15*Roadside!$F$16-1)*Constraints!$H$38/Constraints!$D$38+1))))","v":1},{"$f":"IF($I$2=\"Existing\",(D184),(IF($I$2=\"Design 1\",(F184),(IF($I$2=\"Design 2\",(G184),(IF($I$2=\"Optimal\",(I184),E184)))))))","v":0.84302377525189853},{"$f":"IF(I24=INDEX(MedConf_Header,1,2),(IF(I183<=3,1,IF(OR(I183=4,I183=5),(Roadside!$F$15-1)*Constraints!$H$24/Constraints!$D$24+1,(Roadside!$F$15*Roadside!$F$16-1)*Constraints!$H$24/Constraints!$D$24+1))),(IF(I183<=3,1,IF(OR(I183=4,I183=5),(Roadside!$F$15-1)*Constraints!$H$38/Constraints!$D$38+1,(Roadside!$F$15*Roadside!$F$16-1)*Constraints!$H$38/Constraints!$D$38+1))))","v":0.79533290316176108},null,{"$f":"INDEX($D184:$I184,K$100)","v":1},{"$f":"INDEX($D184:$I184,L$100)","v":0.84302377525189853},{"$f":"IF(ISERROR(1-L184/K184), 0, 1-L184/K184)","v":0.15697622474810147},null,0]
[null,null,"Backslope",1,1,1,1,{"$f":"IF($I$2=\"Existing\",(D185),(IF($I$2=\"Design 1\",(F185),(IF($I$2=\"Design 2\",(G185),(IF($I$2=\"Optimal\",(I185),E185)))))))","v":1},1,null,{"$f":"INDEX($D185:$I185,K$100)","v":1},{"$f":"INDEX($D185:$I185,L$100)","v":1},0,null,0]
[null,null,"SafetyEdge",{"$f":"IF(D24=INDEX(MedConf_Header,1,2),(IF(D$77=\"No\",1,(Roadside!$F$23-1)*AVERAGE(Constraints!$H$24,Constraints!$F$24)/Constraints!$D$24+1)),(IF(D$77=\"No\",1,(Roadside!$F$23-1)*AVERAGE(Constraints!$H$38,Constraints!$F$38)/Constraints!$D$38+1)))","v":0.97711209540034072},{"$f":"IF(E$77=\"No\",1,(Roadside!$F$23-1)*AVERAGE(Constraints!$H$24,Constraints!$F$24)/Constraints!$D$24+1)","v":1},{"$f":"IF(F24=INDEX(MedConf_Header,1,2),(IF(F$77=\"No\",1,(Roadside!$F$23-1)*AVERAGE(Constraints!$H$24,Constraints!$F$24)/Constraints!$D$24+1)),(IF(F$77=\"No\",1,(Roadside!$F$23-1)*AVERAGE(Constraints!$H$38,Constraints!$F$38)/Constraints!$D$38+1)))","v":0.97711209540034072},{"$f":"IF(G24=INDEX(MedConf_Header,1,2),(IF(G$77=\"No\",1,(Roadside!$F$23-1)*AVERAGE(Constraints!$H$24,Constraints!$F$24)/Constraints!$D$24+1)),(IF(G$77=\"No\",1,(Roadside!$F$23-1)*AVERAGE(Constraints!$H$38,Constraints!$F$38)/Constraints!$D$38+1)))","v":0.97711209540034072},{"$f":"IF($I$2=\"Existing\",(D186),(IF($I$2=\"Design 1\",(F186),(IF($I$2=\"Design 2\",(G186),(IF($I$2=\"Optimal\",(I186),E186)))))))","v":1},{"$f":"IF(I$77=\"No\",1,(Roadside!$F$23-1)*AVERAGE(Constraints!$H$24,Constraints!$F$24)/Constraints!$D$24+1)","v":0.97526887377773364},null,{"$f":"INDEX($D186:$I186,K$100)","v":0.97711209540034072},{"$f":"INDEX($D186:$I186,L$100)","v":1},-2.3424031600265627E-2,null,-2.8188991921691331E-2]
[null,null,"Lateral Clearance (ft)",{"$f":"IF(D24=INDEX(MedConf_Header,1,2),(IF($B$31=\"Yes\",((EXP(LN(Roadside!$F$11)*(IF(D$79=\"None\",40,D$78)-30)/30)-1))*Constraints!$H$17/Constraints!$D$24+1,((EXP(LN(Roadside!$F$10)*(IF(D$79=\"None\",40,D$78)-30)/30)-1))*Constraints!$H$17/Constraints!$D$24+1)),(IF($B$31=\"Yes\",((EXP(LN(Roadside!$F$11)*(IF(D$79=\"None\",40,D$78)-30)/30)-1))*Constraints!$H$31/Constraints!$D$38+1,((EXP(LN(Roadside!$F$10)*(IF(D$79=\"None\",40,D$78)-30)/30)-1))*Constraints!$H$31/Constraints!$D$38+1)))","v":1.0472592444132678},{"$f":"IF(E24=INDEX(MedConf_Header,1,2),(IF($B$31=\"Yes\",((EXP(LN(Roadside!$F$11)*(IF(E$79=\"None\",40,E$78)-30)/30)-1))*Constraints!$H$17/Constraints!$D$24+1,((EXP(LN(Roadside!$F$10)*(IF(E$79=\"None\",40,E$78)-30)/30)-1))*Constraints!$H$17/Constraints!$D$24+1)),(IF($B$31=\"Yes\",((EXP(LN(Roadside!$F$11)*(IF(E$79=\"None\",40,E$78)-30)/30)-1))*Constraints!$H$31/Constraints!$D$38+1,((EXP(LN(Roadside!$F$10)*(IF(E$79=\"None\",40,E$78)-30)/30)-1))*Constraints!$H$31/Constraints!$D$38+1)))","v":0.97942029665168673},{"$f":"IF(F24=INDEX(MedConf_Header,1,2),(IF($B$31=\"Yes\",((EXP(LN(Roadside!$F$11)*(IF(F$79=\"None\",40,F$78)-30)/30)-1))*Constraints!$H$17/Constraints!$D$24+1,((EXP(LN(Roadside!$F$10)*(IF(F$79=\"None\",40,F$78)-30)/30)-1))*Constraints!$H$17/Constraints!$D$24+1)),(IF($B$31=\"Yes\",((EXP(LN(Roadside!$F$11)*(IF(F$79=\"None\",40,F$78)-30)/30)-1))*Constraints!$H$31/Constraints!$D$38+1,((EXP(LN(Roadside!$F$10)*(IF(F$79=\"None\",40,F$78)-30)/30)-1))*Constraints!$H$31/Constraints!$D$38+1)))","v":1.0472592444132678},{"$f":"IF(G24=INDEX(MedConf_Header,1,2),(IF($B$31=\"Yes\",((EXP(LN(Roadside!$F$11)*(IF(G$79=\"None\",40,G$78)-30)/30)-1))*Constraints!$H$17/Constraints!$D$24+1,((EXP(LN(Roadside!$F$10)*(IF(G$79=\"None\",40,G$78)-30)/30)-1))*Constraints!$H$17/Constraints!$D$24+1)),(IF($B$31=\"Yes\",((EXP(LN(Roadside!$F$11)*(IF(G$79=\"None\",40,G$78)-30)/30)-1))*Constraints!$H$31/Constraints!$D$38+1,((EXP(LN(Roadside!$F$10)*(IF(G$79=\"None\",40,G$78)-30)/30)-1))*Constraints!$H$31/Constraints!$D$38+1)))","v":1.0472592444132678},{"$f":"IF($I$2=\"Existing\",(D187),(IF($I$2=\"Design 1\",(F187),(IF($I$2=\"Design 2\",(G187),(IF($I$2=\"Optimal\",(I187),E187)))))))","v":0.97942029665168673},{"$f":"IF(I24=INDEX(MedConf_Header,1,2),(IF($B$31=\"Yes\",((EXP(LN(Roadside!$F$11)*(IF(I$79=\"None\",40,I$78)-30)/30)-1))*Constraints!$H$17/Constraints!$D$24+1,((EXP(LN(Roadside!$F$10)*(IF(I$79=\"None\",40,I$78)-30)/30)-1))*Constraints!$H$17/Constraints!$D$24+1)),(IF($B$31=\"Yes\",((EXP(LN(Roadside!$F$11)*(IF(I$79=\"None\",40,I$78)-30)/30)-1))*Constraints!$H$31/Constraints!$D$38+1,((EXP(LN(Roadside!$F$10)*(IF(I$79=\"None\",40,I$78)-30)/30)-1))*Constraints!$H$31/Constraints!$D$38+1)))","v":0.97942029665168673},null,{"$f":"INDEX($D187:$I187,K$100)","v":1.0472592444132678},{"$f":"INDEX($D187:$I187,L$100)","v":0.97942029665168673},6.4777606999867676E-2,null,9.0307162971216326E-2]
[null,null,"Roadside Obstruction Type",{"$f":"IF(D24=INDEX(MedConf_Header,1,2),(IF(D$79=\"Guardrail\",(Roadside!$F$25-1)*(($I$78-D$78)/$I$78)^2*Constraints!$H$17/Constraints!$D$24+1,1)),(IF(D$79=\"Guardrail\",(Roadside!$F$25-1)*(($I$78-D$78)/$I$78)^2*Constraints!$H$31/Constraints!$D$38+1,1)))","v":1},{"$f":"IF(E24=INDEX(MedConf_Header,1,2),(IF(E$79=\"Guardrail\",(Roadside!$F$25-1)*(($I$78-E$78)/$I$78)^2*Constraints!$H$17/Constraints!$D$24+1,1)),(IF(E$79=\"Guardrail\",(Roadside!$F$25-1)*(($I$78-E$78)/$I$78)^2*Constraints!$H$31/Constraints!$D$38+1,1)))","v":1},{"$f":"IF(F24=INDEX(MedConf_Header,1,2),(IF(F$79=\"Guardrail\",(Roadside!$F$25-1)*(($I$78-F$78)/$I$78)^2*Constraints!$H$17/Constraints!$D$24+1,1)),(IF(F$79=\"Guardrail\",(Roadside!$F$25-1)*(($I$78-F$78)/$I$78)^2*Constraints!$H$31/Constraints!$D$38+1,1)))","v":1},{"$f":"IF(G24=INDEX(MedConf_Header,1,2),(IF(G$79=\"Guardrail\",(Roadside!$F$25-1)*(($I$78-G$78)/$I$78)^2*Constraints!$H$17/Constraints!$D$24+1,1)),(IF(G$79=\"Guardrail\",(Roadside!$F$25-1)*(($I$78-G$78)/$I$78)^2*Constraints!$H$31/Constraints!$D$38+1,1)))","v":1},{"$f":"IF($I$2=\"Existing\",(D188),(IF($I$2=\"Design 1\",(F188),(IF($I$2=\"Design 2\",(G188),(IF($I$2=\"Optimal\",(I188),E188)))))))","v":1},{"$f":"IF(I24=INDEX(MedConf_Header,1,2),(IF(I$79=\"Guardrail\",(Roadside!$F$25-1)*(($I$78-I$78)/$I$78)^2*Constraints!$H$17/Constraints!$D$24+1,1)),(IF(I$79=\"Guardrail\",(Roadside!$F$25-1)*(($I$78-I$78)/$I$78)^2*Constraints!$H$31/Constraints!$D$38+1,1)))","v":1},null,{"$f":"INDEX($D188:$I188,K$100)","v":1},{"$f":"INDEX($D188:$I188,L$100)","v":1},0,null,0]
[null,null,null,null,null,null,null,null,null,null,{"$f":"INDEX($D189:$I189,K$100)","v":0},{"$f":"INDEX($D189:$I189,L$100)","v":0},0]
[null,null,null,null,null,null,null,null,null,null,{"$f":"INDEX($D190:$I190,K$100)","v":0},{"$f":"INDEX($D190:$I190,L$100)","v":0},0]
[null,null,"COMBINED Calculated CMF",{"$f":"+D184*D185*D186*D187*D188","v":1.0232896747360256},{"$f":"+E184*E185*E186*E187*E188","v":0.82567459604163929},1.0232896747360256,1.0232896747360256,{"$f":"IF($I$2=\"Existing\",(D191),(IF($I$2=\"Design 1\",(F191),(IF($I$2=\"Design 2\",(G191),(IF($I$2=\"Optimal\",(I191),E191)))))))","v":0.82567459604163929},{"$f":"+I184*I185*I186*I187*I188","v":0.75970050156555824},null,{"$f":"INDEX($D191:$I191,K$100)","v":1.0232896747360256},{"$f":"INDEX($D191:$I191,L$100)","v":0.82567459604163929},0.1931174364144389]
[null,null,"Calculated Relative to Design Standards (Column E)",{"$f":"+D191/$E$191","v":1.2393377241370527},{"$f":"+E191/$E$191","v":1},1.2393377241370527,1.2393377241370527,1,{"$f":"+I191/$E$191","v":0.92009673690777583},null,{"$f":"INDEX($D192:$I192,K$100)","v":1.2393377241370527},{"$f":"INDEX($D192:$I192,L$100)","v":1},0.1931174364144389]
[null,null,"P(Crash)",{"$f":"+D192/(D192+1)","v":0.55343939896990835},0.5,0.55343939896990835,0.55343939896990835,0.5,{"$f":"+I192/(I192+1)","v":0.47919290691027777},null,{"$f":"INDEX($D193:$I193,K$100)","v":0.55343939896990835},{"$f":"INDEX($D193:$I193,L$100)","v":0.5},9.6558718207219618E-2]
[null,null,"Factor Change on S curve",{"$f":"+D193/$E$193","v":1.1068787979398167},{"$f":"+E193/$E$193","v":1},1.1068787979398167,1.1068787979398167,1,{"$f":"+I193/$E$193","v":0.95838581382055554},null,{"$f":"INDEX($D194:$I194,K$100)","v":1.1068787979398167},{"$f":"INDEX($D194:$I194,L$100)","v":1},9.6558718207219618E-2]
[null,null,"Adjust to Scale of 100",{"$f":"+$I$118/D194*100","v":{"$error":"#VALUE!"}},{"$error":"#VALUE!"},{"$error":"#VALUE!"},{"$error":"#VALUE!"},{"$error":"#VALUE!"},{"$f":"+$I$118/I194*100","v":{"$error":"#VALUE!"}},null,{"$f":"INDEX($D195:$I195,K$100)","v":{"$error":"#VALUE!"}},{"$f":"INDEX($D195:$I195,L$100)","v":{"$error":"#VALUE!"}},0]
[null,null,"Unadjusted Combined Relative to Standard",{"$f":"+D191/$E$191","v":1.2393377241370527},{"$f":"+E191/$E$191","v":1},1.2393377241370527,1.2393377241370527,1,{"$f":"+I191/$E$191","v":0.92009673690777583},{"$f":"I202/E202","v":1.0810810810810811},{"$f":"INDEX($D196:$I196,K$100)","v":1.2393377241370527},{"$f":"INDEX($D196:$I196,L$100)","v":1},0.1931174364144389]
[null,null,null,null,null,null,null,null,null,null,{"$f":"INDEX($D197:$I197,K$100)","v":0},{"$f":"INDEX($D197:$I197,L$100)","v":0},0]
[null,null,"Adjusted for PA Basis",{"$f":"+D191*(1+1)/(1+D191*1)","v":1.0115107960203793},0.90451452611745442,1.0115107960203793,1.0115107960203793,{"$f":"IF($I$2=\"Existing\",(D198),(IF($I$2=\"Design 1\",(F198),(IF($I$2=\"Design 2\",(G198),(IF($I$2=\"Optimal\",(I198),E198)))))))","v":0.90451452611745442},{"$f":"+I191*(1+1)/(1+I191*1)","v":0.86344295621859868},null,{"$f":"INDEX($D198:$I198,K$100)","v":1.0115107960203793},{"$f":"INDEX($D198:$I198,L$100)","v":0.90451452611745442},0.10577867317272727]
[null,null,"Corrected by Odds Ratio",{"$f":"+D191/$E$191","v":1.2393377241370527},{"$f":"+E191/$E$191","v":1},1.2393377241370527,1.2393377241370527,{"$f":"IF($I$2=\"Existing\",(D199),(IF($I$2=\"Design 1\",(F199),(IF($I$2=\"Design 2\",(G199),(IF($I$2=\"Optimal\",(I199),E199)))))))","v":1},{"$f":"+I191/$E$191","v":0.92009673690777583},{"$f":"I205/E205","v":1.4814814814814814},{"$f":"INDEX($D199:$I199,K$100)","v":1.2393377241370527},{"$f":"INDEX($D199:$I199,L$100)","v":1},0.1931174364144389]
[null,null,null,{"$f":"(1/D199)^$D203","v":1.8666691582346016E-8},{"$f":"(1/E199)^$D203","v":1},1.8666691582346016E-8,1.8666691582346016E-8,1,998.99999999999955]
[null,null,null,{"$f":"(D200+$F204-1)/(1+(D200+$F204-1))","v":0.50000000466667294},{"$f":"(E200+$F204-1)/(1+(E200+$F204-1))","v":0.66666666666666663},0.50000000466667294,0.50000000466667294,0.66666666666666663,0.99900099900099903]
[null,null,"Score Odds Ratio with Optimal as 100 (old)",{"$f":"MIN(ROUND($I$199/D199*Construction!$I$4,0),$I202)","v":30},{"$f":"MIN(ROUND($I$199/E199*Construction!$I$4,0),$I202)","v":37},{"$f":"MIN(ROUND($I$199/F199*Construction!$I$4,0),$I202)","v":30},{"$f":"MIN(ROUND($I$199/G199*Construction!$I$4,0),$I202)","v":30},null,{"$f":"ROUND($I$199/I199*Construction!$I$4,0)","v":40}]
[null,null,"Logistic1",{"$f":"LN((D204/(1-D204))/(0.5/0.5))/LN($E199/I199)","v":82.937655007418002}]
[null,null,"Logistic Param",0.999,null,2]
[null,null,"Score ",{"$f":"MIN(ROUND(D201*Construction!$I$4,0),$I202)","v":20},{"$f":"MIN(ROUND(E201*Construction!$I$4,0),$I202)","v":27},{"$f":"MIN(ROUND(F201*Construction!$I$4,0),$I202)","v":20},{"$f":"MIN(ROUND(G201*Construction!$I$4,0),$I202)","v":20},null,{"$f":"MIN(ROUND(I201*Construction!$I$4,0),$I202)","v":40}]
[]
[]
[]
[]
[null,null,{"$f":"D87/D183","v":{"$error":"#DIV/0!"}},null,{"$f":"ROUNDUP((MIN($I$14,$I$15)-E27-E28)/$C$210,0)","v":{"$error":"#DIV/0!"}},{"$f":"ROUNDUP((MIN($I$14,$I$15)-F27-F28)/$C$210,0)","v":{"$error":"#DIV/0!"}},{"$f":"ROUNDUP((MIN($I$14,$I$15)-G27-G28)/$C$210,0)","v":{"$error":"#DIV/0!"}},null,{"$f":"ROUNDUP((MIN($I$14,$I$15)-I27-I28)/$C$210,0)","v":{"$error":"#DIV/0!"}}]
[]
[]
[null,null,"Distance to low point","Distance to low point",{"$f":"$C$210*E183","v":{"$error":"#DIV/0!"}},{"$f":"$C$210*F183","v":{"$error":"#DIV/0!"}},{"$error":"#DIV/0!"},null,{"$f":"$C$210*I183","v":{"$error":"#DIV/0!"}}]
[null,null,null,"Additional ROW1 Needed for Foreslope",{"$f":"IF(E213>($I$14-E27-E28),E213-($I$14-E27-E28),0)","v":{"$error":"#DIV/0!"}},{"$f":"IF(F213>($I$14-F27-F28),F213-($I$14-F27-F28),0)","v":{"$error":"#DIV/0!"}},{"$f":"IF(G213>($I$14-G27-G28),G213-($I$14-G27-G28),0)","v":{"$error":"#DIV/0!"}},null,{"$f":"IF(I213>($I$14-I27-I28),I213-($I$14-I27-I28),0)","v":{"$error":"#DIV/0!"}}]
[null,null,null,"Additional ROW2 Needed for Foreslope",{"$f":"IF(E213>($I$15-E27-E28),E213-($I$15-E27-E28),0)","v":{"$error":"#DIV/0!"}},{"$f":"IF(F213>($I$15-F27-F28),F213-($I$15-F27-F28),0)","v":{"$error":"#DIV/0!"}},{"$f":"IF(G213>($I$15-G27-G28),G213-($I$15-G27-G28),0)","v":{"$error":"#DIV/0!"}},null,{"$f":"IF(I213>($I$15-I27-I28),I213-($I$15-I27-I28),0)","v":{"$error":"#DIV/0!"}}]
[]
[null,null,null,"Additional ROW1 Needed for Lateral Clearance",{"$f":"IF((CL251+E30)-$I$14<0,0,(CL251+E30)-$I$14)","v":2},{"$f":"IF((CM251+F30)-$I$14<0,0,(CM251+F30)-$I$14)","v":0},{"$f":"IF((CN251+G30)-$I$14<0,0,(CN251+G30)-$I$14)","v":0},null,{"$f":"IF((CP251+I30)-$I$14<0,0,(CP251+I30)-$I$14)","v":2}]
[null,null,null,"Additional ROW2 Needed for Lateral Clearance",{"$f":"IF((CL251+E30)-$I$15<0,0,(CL251+E30)-$I$15)","v":2},{"$f":"IF((CM251+F30)-$I$15<0,0,(CM251+F30)-$I$15)","v":0},{"$f":"IF((CN251+G30)-$I$15<0,0,(CN251+G30)-$I$15)","v":0},null,{"$f":"IF((CP251+I30)-$I$15<0,0,(CP251+I30)-$I$15)","v":2}]
[]
[]
[]
[]
[]
[]
[]
[]
[]
[]
[]
[null,null,"For Vertical Opt Use when Yes Vertical:"]
[null,null,"G1",{"$f":"D40","v":0},null,{"$f":"F40","v":0},{"$f":"G40","v":0},null,{"$f":"IF(ISERROR($E$238),\"\",INDEX(D231:G231,$E$238))","v":""}]
[null,null,"G2",{"$f":"D41","v":0},null,{"$f":"F41","v":0},{"$f":"G41","v":0},null,{"$f":"IF(ISERROR($E$238),\"\",INDEX(D232:G232,$E$238))","v":""}]
[null,null,"abs(G2-G1)",{"$f":"ABS(D40-D41)","v":0},null,{"$f":"ABS(F40-F41)","v":0},{"$f":"ABS(G40-G41)","v":0}]
[null,null,"Count in indicator (K no change; or K change but accept)",{"$f":"IF(D43<>\"\",1,\"\")","v":""},null,{"$f":"IF(OR(AND($B$38 = \"Yes\", $D$43 <> F43, F43 <>\"\", $D$43 <> \"\", F45=\"Yes.\"),AND($B$38 = \"Yes\", $D$43 = F43, F43 <>\"\", $D$43 <> \"\")), 1,\"\")","v":""},{"$f":"IF(OR(AND($B$38 = \"Yes\", $D$43 <> G43, G43 <>\"\", $D$43 <> \"\", G45=\"Yes.\"),AND($B$38 = \"Yes\", $D$43 = G43, G43 <>\"\", $D$43 <> \"\")), 1,\"\")","v":""}]
[]
[null,null,"Valid abs(G2-G1)",{"$f":"IF(ISERROR(D233*D234),\"\",D233*D234)","v":""},null,{"$f":"IF(ISERROR(F233*F234),\"\",F233*F234)","v":""},{"$f":"IF(ISERROR(G233*G234),\"\",G233*G234)","v":""}]
[null,null,"The min valid abs(G2-G1)",null,{"$f":"MIN(D236,F236,G236)","v":0}]
[null,null,"Index",null,{"$f":"MATCH(E237,D236:G236,0)","v":{"$error":"#N/A"}}]
[]
[null,null,"For Vertical Opt Use When No Vertical:"]
[null,null,"G1",{"$f":"IF(ISBLANK(D40), 999, D40)","v":999},null,{"$f":"IF(ISBLANK(F40), 999, F40)","v":999},{"$f":"IF(ISBLANK(G40), 999, G40)","v":999},null,{"$f":"IF(E246=999,\"\",E246)","v":""}]
[null,null,"Sign of G1",{"$f":"IF(D241>=0,1,-1)","v":1},null,{"$f":"IF(F241>=0,1,-1)","v":1},{"$f":"IF(G241>=0,1,-1)","v":1}]
[null,null,"Abs G1",{"$f":"ABS(D241)","v":999},null,{"$f":"ABS(F241)","v":999},{"$f":"ABS(G241)","v":999}]
[null,null,"Min Abs G1",null,{"$f":"MIN(D243:G243)","v":999}]
[null,null,"Which is the Best G1",null,{"$f":"MATCH(E244,D243:G243,0)","v":1}]
[null,null,"Best G1 Value",null,{"$f":"INDEX(D241:G241,1,E245)","v":999}]
[]
[]
[null,null,"Check if all cells filled",{"$f":"SUM(D251:D314)","v":19},{"$f":"SUM(E251:E314)","v":1},19,19,0,0]
[]
[null,null,{"$f":"C24","v":"Configuration of Multilane Roadway"},{"$f":"IF(ISBLANK(D24),1,0)","v":1},{"$f":"IF(ISBLANK(E24),1,0)","v":0},1,1,null,0]
[null,null,{"$f":"C25","v":"Median Configuration (Width or Type)"},{"$f":"IF(AND(D24<>\"No Median\", ISBLANK(D25)),1,0)","v":1},0,{"$f":"IF(AND(F24<>\"No Median\", ISBLANK(F25)),1,0)","v":1},{"$f":"IF(AND(G24<>\"No Median\", ISBLANK(G25)),1,0)","v":1},null,0]
[]
[null,null,"Lane Width (feet)",{"$f":"IF(ISBLANK(D27),1,0)","v":1},0,1,1,null,{"$f":"IF(ISBLANK(I27),1,0)","v":0}]
[null,null,"Average Outside Shoulder Width (feet)",1,0,1,1,null,0]
[null,null,"Average Inside Shoulder Width (feet)",1,0,1,1,null,0]
[null,null,"Number of Lanes per Direction of Travel",1,0,1,1,null,0]
[null,null,"Horizontal Curve Present?"]
[null,null,"Horizontal Curve Data for Controlling Element:"]
[null,null,"  Radius (feet)",{"$f":"IF(AND($B$31=\"Yes\", ISBLANK(D33)),1,0)","v":0},null,{"$f":"IF(AND($B$31=\"Yes\", ISBLANK(F33)),1,0)","v":0},{"$f":"IF(AND($B$31=\"Yes\", ISBLANK(G33)),1,0)","v":0},null,{"$f":"IF(ISBLANK(I33),1,0)","v":0}]
[null,null,"Length of Horizontal Curve (feet)",{"$f":"IF(AND($B$31=\"Yes\", ISBLANK(D34)),1,0)","v":0},null,{"$f":"IF(AND($B$31=\"Yes\", ISBLANK(F34)),1,0)","v":0},{"$f":"IF(AND($B$31=\"Yes\", ISBLANK(G34)),1,0)","v":0},null,0]
[null,null,"Calculated Deflection Angle ∆"]
[]
[null,null,null,null,null,{"$f":"IF(AND($B$31 = \"Yes\", $D$35 <> F35, F35<>\"\",ISBLANK(F37)),1,0)","v":0},{"$f":"IF(AND($B$31 = \"Yes\", $D$35 <> G35, G35<>\"\",ISBLANK(G37)),1,0)","v":0}]
[null,null,"Vertical Curve Present?"]
[null,null,"Vertical Curve Data for Controlling Element:"]
[null,null,"  Approach (Entry) Grade, G1 (%)",{"$f":"IF(ISBLANK(D40),1,0)","v":1},0,1,1,null,{"$f":"IF(ISBLANK(I40),1,0)","v":0}]
[null,null,"  Departure (Exit) Grade, G2 (%)",{"$f":"IF(AND($B$38=\"Yes\", ISBLANK(D41)),1,0)","v":0},{"$f":"IF(AND($B$38=\"Yes\", ISBLANK(E41)),1,0)","v":0},0,0,null,0]
[null,null,"  Length (feet)",{"$f":"IF(AND($B$38=\"Yes\", ISBLANK(D42)),1,0)","v":0},0,0,0,null,0]
[null,null,"  Calculated Rate of Change, K (ft/ft)"]
[]
[]
[null,null,"  Calculated Sag or Crest?"]
[]
[]
[null,null,"Geometric Design Element (Partial Score)"]
[null,null,"Total Safety Score"]
[]
[]
[]
[]
[]
[null,null,"Advance Static Curve Warning Signs",{"$f":"IF(AND($B$31=\"Yes\", ISBLANK(D56)),1,0)","v":0},{"$f":"IF(AND($B$31=\"Yes\", ISBLANK(E56)),1,0)","v":0},0,0,null,{"$f":"IF(ISBLANK(I56),1,0)","v":0}]
[null,null,"Chevron Signs on Horizontal Curves",{"$f":"IF(AND($B$31=\"Yes\", ISBLANK(D57)),1,0)","v":0},0,0,0,null,0]
[null,null,"Post-Mounted Delineators",0,0,0,0,null,0]
[null,null,"Edgeline Pavement Markings or Profile Markings",{"$f":"IF(ISBLANK(D59),1,0)","v":1},0,1,1,null,0]
[null,null,"Shoulder Rumble Strips",1,0,1,1,null,0]
[null,null,"Centerline Rumble Strips",1,0,1,1,null,0]
[null,null,"Driveway Density (driveways per mile)",1,0,1,1,null,0]
[null,null,"Lighting",1,0,1,1,null,0]
[null,null,"Pavement Friction (skid number) ***",1,0,1,1,null,0]
[null,null,"Traffic Control Element (Partial Score):"]
[null,null,"Total Safety Score"]
[]
[]
[]
[]
[]
[]
[]
[]
[null,null,"Roadside Sideslope (Foreslope)",{"$f":"IF(ISBLANK(D75),1,0)","v":1},0,1,1,null,{"$f":"IF(ISBLANK(I75),1,0)","v":0}]
[null,null,"Roadside Backslope",1,0,1,1,null,0]
[null,null,"Safety Edge",1,0,1,1,null,0]
[null,null,"Roadside Lateral Clearance to Obstruction (ft)",1,0,1,1,null,0]
[null,null,"Roadside Obstruction Type",1,0,1,1,null,0]
[null,null,"Roadside Element (Partial Score):"]
[null,null,"Total Safety Score"]
[]
[]
[]
[]
[]
[null,null,"Distance to Slope Toe from Shoulder (ft)",{"$f":"IF(ISBLANK(D87),1,0)","v":1},{"$f":"D314","v":1},{"$f":"E314","v":1},1,null,0]
[null,null,null,null,null,null,null,null,{"$f":"SUM(I316:I324)","v":9}]
[null,null,null,null,null,null,null,{"$f":"F9","v":"Location "},{"$f":"IF(ISBLANK(I9),1,0)","v":1}]
[null,null,null,null,null,null,null,{"$f":"F10","v":"Design Speed (mph)"},{"$f":"IF(ISBLANK(I10),1,0)","v":1}]
[null,null,null,null,null,null,null,"Posted Speed (mph)",1]
[null,null,null,null,null,null,null,"E max (%)",1]
[null,null,null,null,null,null,null,"    Design Year AADT (vehicles per day)",1]
[null,null,null,null,null,null,null,"    Dist. from Centerline to Left   ROW (feet)",1]
[null,null,null,null,null,null,null,"    Dist. from Centerline to Right ROW (feet)",1]
[null,null,null,null,null,null,null,"H CV",{"$f":"IF(ISBLANK(B31),1,0)","v":1}]
[null,null,null,null,null,null,null,"V HV",{"$f":"IF(ISBLANK(B38),1,0)","v":1}]
[]
[]
[]
[]
[]
[]
[]
[]
[]
[]
[]
[]
[]
[]
[]
[]
[]
[]
[]
[]
[]
[]
[]
[]
[]
[]
[]
[]
[]
[]
[]
[]
[]
[]
[]
[]
[]
[]
[]
[]
[]
[]
[]
[]
[]
[]
[]
[]
[]
[]
[]
[]
[]
[]
[1]
[22]
[21]
[20]
[19,null,null,{"$f":"Constraints!P174","v":"Emax=6%"}]
[18]
[17,null,{"$f":"HLOOKUP($I$10,Constraints!$Q$176:AD197,A379,TRUE)","v":{"$error":"#N/A"}},{"$f":"Constraints!P176","v":"super"}]
[16,null,{"$f":"HLOOKUP($I$10,Constraints!$Q$176:AD198,A380,TRUE)","v":{"$error":"#N/A"}},{"$f":"Constraints!P197","v":6},1050]
[15,null,{"$f":"HLOOKUP($I$10,Constraints!$Q$176:AD199,A381,TRUE)","v":{"$error":"#N/A"}},{"$f":"Constraints!P196","v":5.8}]
[14,null,{"$f":"HLOOKUP($I$10,Constraints!$Q$176:AD200,A382,TRUE)","v":{"$error":"#N/A"}},{"$f":"Constraints!P195","v":5.6}]
[13,null,{"$f":"HLOOKUP($I$10,Constraints!$Q$176:AD201,A383,TRUE)","v":{"$error":"#N/A"}},{"$f":"Constraints!P194","v":5.4}]
[12,null,{"$f":"HLOOKUP($I$10,Constraints!$Q$176:AD202,A384,TRUE)","v":{"$error":"#N/A"}},{"$f":"Constraints!P193","v":5.2}]
[11,null,{"$f":"HLOOKUP($I$10,Constraints!$Q$176:AD203,A385,TRUE)","v":{"$error":"#N/A"}},{"$f":"Constraints!P192","v":5}]
[10,null,{"$f":"HLOOKUP($I$10,Constraints!$Q$176:AD204,A386,TRUE)","v":{"$error":"#N/A"}},{"$f":"Constraints!P191","v":4.8}]
[9,null,{"$f":"HLOOKUP($I$10,Constraints!$Q$176:AD205,A387,TRUE)","v":{"$error":"#N/A"}},{"$f":"Constraints!P190","v":4.5999999999999996}]
[8,null,{"$f":"HLOOKUP($I$10,Constraints!$Q$176:AD206,A388,TRUE)","v":{"$error":"#N/A"}},{"$f":"Constraints!P189","v":4.4000000000000004}]
[7,null,{"$f":"HLOOKUP($I$10,Constraints!$Q$176:AD207,A389,TRUE)","v":{"$error":"#N/A"}},{"$f":"Constraints!P188","v":4.2}]
[6,null,{"$f":"HLOOKUP($I$10,Constraints!$Q$176:AD208,A390,TRUE)","v":{"$error":"#N/A"}},{"$f":"Constraints!P187","v":4}]
[5,null,{"$f":"HLOOKUP($I$10,Constraints!$Q$176:AD209,A391,TRUE)","v":{"$error":"#N/A"}},{"$f":"Constraints!P186","v":3.8}]
[4,null,{"$f":"HLOOKUP($I$10,Constraints!$Q$176:AD210,A392,TRUE)","v":{"$error":"#N/A"}},{"$f":"Constraints!P185","v":3.6}]
[3,null,{"$f":"HLOOKUP($I$10,Constraints!$Q$176:AD211,A393,TRUE)","v":{"$error":"#N/A"}},{"$f":"Constraints!P184","v":3.4}]
[2,null,{"$f":"HLOOKUP($I$10,Constraints!$Q$176:AD212,A394,TRUE)","v":{"$error":"#N/A"}},{"$f":"Constraints!P183","v":3.2}]
[null,null,{"$f":"HLOOKUP($I$10,Constraints!$Q$176:AD213,A395,TRUE)","v":{"$error":"#N/A"}},{"$f":"Constraints!P182","v":3}]
[null,null,{"$f":"HLOOKUP($I$10,Constraints!$Q$176:AD214,A396,TRUE)","v":{"$error":"#N/A"}},{"$f":"Constraints!P181","v":2.8}]
[null,null,{"$f":"HLOOKUP($I$10,Constraints!$Q$176:AD215,A397,TRUE)","v":{"$error":"#N/A"}},{"$f":"Constraints!P180","v":2.6}]
[null,null,{"$f":"HLOOKUP($I$10,Constraints!$Q$176:AD216,A398,TRUE)","v":{"$error":"#N/A"}},{"$f":"Constraints!P179","v":2.4}]
[null,null,{"$f":"HLOOKUP($I$10,Constraints!$Q$176:AD217,A399,TRUE)","v":{"$error":"#N/A"}},{"$f":"Constraints!P178","v":2.2000000000000002}]
[1,null,{"$f":"HLOOKUP($I$10,Constraints!$Q$176:AD218,A400,TRUE)","v":{"$error":"#N/A"}},{"$f":"Constraints!P177","v":2}]
[32]
[31]
[30]
[29,null,null,{"$f":"Constraints!P201","v":"Emax=8%"}]
[28]
[27,null,{"$f":"HLOOKUP($I$10,Constraints!$Q$203:AD234,A406,TRUE)","v":{"$error":"#N/A"}},{"$f":"Constraints!P203","v":"super"}]
[26,null,{"$f":"HLOOKUP($I$10,Constraints!$Q$203:AD235,A407,TRUE)","v":{"$error":"#N/A"}},{"$f":"INDEX(Constraints!$P$203:$P$234,A407,)","v":8}]
[25,null,{"$f":"HLOOKUP($I$10,Constraints!$Q$203:AD236,A408,TRUE)","v":{"$error":"#N/A"}},{"$f":"INDEX(Constraints!$P$203:$P$234,A408,)","v":7.8}]
[24,null,{"$f":"HLOOKUP($I$10,Constraints!$Q$203:AD237,A409,TRUE)","v":{"$error":"#N/A"}},{"$f":"INDEX(Constraints!$P$203:$P$234,A409,)","v":7.6}]
[23,null,{"$f":"HLOOKUP($I$10,Constraints!$Q$203:AD238,A410,TRUE)","v":{"$error":"#N/A"}},{"$f":"INDEX(Constraints!$P$203:$P$234,A410,)","v":7.4}]
[22,null,{"$f":"HLOOKUP($I$10,Constraints!$Q$203:AD239,A411,TRUE)","v":{"$error":"#N/A"}},{"$f":"INDEX(Constraints!$P$203:$P$234,A411,)","v":7.2}]
[21,null,{"$f":"HLOOKUP($I$10,Constraints!$Q$203:AD240,A412,TRUE)","v":{"$error":"#N/A"}},{"$f":"INDEX(Constraints!$P$203:$P$234,A412,)","v":7}]
[20,null,{"$f":"HLOOKUP($I$10,Constraints!$Q$203:AD241,A413,TRUE)","v":{"$error":"#N/A"}},{"$f":"INDEX(Constraints!$P$203:$P$234,A413,)","v":6.8}]
[19,null,{"$f":"HLOOKUP($I$10,Constraints!$Q$203:AD242,A414,TRUE)","v":{"$error":"#N/A"}},{"$f":"INDEX(Constraints!$P$203:$P$234,A414,)","v":6.6}]
[18,null,{"$f":"HLOOKUP($I$10,Constraints!$Q$203:AD243,A415,TRUE)","v":{"$error":"#N/A"}},{"$f":"INDEX(Constraints!$P$203:$P$234,A415,)","v":6.4}]
[17,null,{"$f":"HLOOKUP($I$10,Constraints!$Q$203:AD244,A416,TRUE)","v":{"$error":"#N/A"}},{"$f":"INDEX(Constraints!$P$203:$P$234,A416,)","v":6.2}]
[16,null,{"$f":"HLOOKUP($I$10,Constraints!$Q$203:AD245,A417,TRUE)","v":{"$error":"#N/A"}},{"$f":"INDEX(Constraints!$P$203:$P$234,A417,)","v":6}]
[15,null,{"$f":"HLOOKUP($I$10,Constraints!$Q$203:AD246,A418,TRUE)","v":{"$error":"#N/A"}},{"$f":"INDEX(Constraints!$P$203:$P$234,A418,)","v":5.8}]
[14,null,{"$f":"HLOOKUP($I$10,Constraints!$Q$203:AD247,A419,TRUE)","v":{"$error":"#N/A"}},{"$f":"INDEX(Constraints!$P$203:$P$234,A419,)","v":5.6}]
[13,null,{"$f":"HLOOKUP($I$10,Constraints!$Q$203:AD248,A420,TRUE)","v":{"$error":"#N/A"}},{"$f":"INDEX(Constraints!$P$203:$P$234,A420,)","v":5.4}]
[12,null,{"$f":"HLOOKUP($I$10,Constraints!$Q$203:AD249,A421,TRUE)","v":{"$error":"#N/A"}},{"$f":"INDEX(Constraints!$P$203:$P$234,A421,)","v":5.2}]
[11,null,{"$f":"HLOOKUP($I$10,Constraints!$Q$203:AD250,A422,TRUE)","v":{"$error":"#N/A"}},{"$f":"INDEX(Constraints!$P$203:$P$234,A422,)","v":5}]
[10,null,{"$f":"HLOOKUP($I$10,Constraints!$Q$203:AD251,A423,TRUE)","v":{"$error":"#N/A"}},{"$f":"INDEX(Constraints!$P$203:$P$234,A423,)","v":4.8}]
[9,null,{"$f":"HLOOKUP($I$10,Constraints!$Q$203:AD252,A424,TRUE)","v":{"$error":"#N/A"}},{"$f":"INDEX(Constraints!$P$203:$P$234,A424,)","v":4.5999999999999996}]
[8,null,{"$f":"HLOOKUP($I$10,Constraints!$Q$203:AD253,A425,TRUE)","v":{"$error":"#N/A"}},{"$f":"INDEX(Constraints!$P$203:$P$234,A425,)","v":4.4000000000000004}]
[7,null,{"$f":"HLOOKUP($I$10,Constraints!$Q$203:AD254,A426,TRUE)","v":{"$error":"#N/A"}},{"$f":"INDEX(Constraints!$P$203:$P$234,A426,)","v":4.2}]
[6,null,{"$f":"HLOOKUP($I$10,Constraints!$Q$203:AD255,A427,TRUE)","v":{"$error":"#N/A"}},{"$f":"INDEX(Constraints!$P$203:$P$234,A427,)","v":4}]
[5,null,{"$f":"HLOOKUP($I$10,Constraints!$Q$203:AD256,A428,TRUE)","v":{"$error":"#N/A"}},{"$f":"INDEX(Constraints!$P$203:$P$234,A428,)","v":3.8}]
[4,null,{"$f":"HLOOKUP($I$10,Constraints!$Q$203:AD257,A429,TRUE)","v":{"$error":"#N/A"}},{"$f":"INDEX(Constraints!$P$203:$P$234,A429,)","v":3.6}]
[3,null,{"$f":"HLOOKUP($I$10,Constraints!$Q$203:AD258,A430,TRUE)","v":{"$error":"#N/A"}},{"$f":"INDEX(Constraints!$P$203:$P$234,A430,)","v":3.4}]
[2,null,{"$f":"HLOOKUP($I$10,Constraints!$Q$203:AD259,A431,TRUE)","v":{"$error":"#N/A"}},{"$f":"INDEX(Constraints!$P$203:$P$234,A431,)","v":3.2}]
[null,null,{"$f":"HLOOKUP($I$10,Constraints!$Q$203:AD260,A432,TRUE)","v":{"$error":"#N/A"}},{"$f":"INDEX(Constraints!$P$203:$P$234,A432,)","v":3}]
[null,null,{"$f":"HLOOKUP($I$10,Constraints!$Q$203:AD261,A433,TRUE)","v":{"$error":"#N/A"}},{"$f":"INDEX(Constraints!$P$203:$P$234,A433,)","v":2.8}]
[null,null,{"$f":"HLOOKUP($I$10,Constraints!$Q$203:AD262,A434,TRUE)","v":{"$error":"#N/A"}},{"$f":"INDEX(Constraints!$P$203:$P$234,A434,)","v":2.6}]
[null,null,{"$f":"HLOOKUP($I$10,Constraints!$Q$203:AD263,A435,TRUE)","v":{"$error":"#N/A"}},{"$f":"INDEX(Constraints!$P$203:$P$234,A435,)","v":2.4}]
[null,null,{"$f":"HLOOKUP($I$10,Constraints!$Q$203:AD264,A436,TRUE)","v":{"$error":"#N/A"}},{"$f":"INDEX(Constraints!$P$203:$P$234,A436,)","v":2.2000000000000002}]
[null,null,{"$f":"HLOOKUP($I$10,Constraints!$Q$203:AD265,A437,TRUE)","v":{"$error":"#N/A"}},{"$f":"INDEX(Constraints!$P$203:$P$234,A437,)","v":2}]

{"sheet":"Configuration 9","index":19,"n_rows":443,"n_cols":113,"rows_kept":443,"cut":false,"hidden":false,"merged":[[87,1,87,2],[88,1,88,2],[89,1,89,2],[97,10,97,12],[69,16,69,21],[69,22,69,23],[70,16,70,21],[70,22,70,23],[71,16,71,21],[71,22,71,23],[68,16,68,21],[68,22,68,23],[17,2,17,8],[18,2,18,8],[19,2,19,8],[20,5,20,7],[41,9,41,10],[46,2,47,2],[4,21,44,28],[48,12,48,19],[55,15,55,16],[55,18,55,19],[55,21,55,22],[67,16,67,23],[4,3,4,4],[9,3,9,4],[9,5,9,6],[10,3,10,4],[10,5,10,6],[8,3,8,4],[8,5,8,6],[12,2,15,4],[12,5,12,6],[13,5,13,6],[14,5,14,6],[11,5,11,6],[1,6,2,7],[1,8,2,8],[1,21,1,37],[2,1,2,4],[2,21,3,28],[2,30,3,37],[3,1,3,4],[3,6,4,7],[3,8,4,8],[4,1,4,2],[4,30,44,37],[5,1,5,2],[5,3,5,4],[6,1,6,7],[7,1,7,4],[7,7,7,8]]}
[]
[null,null,null,null,null,null,"Preferred Schematic View to Display",null,"Standard",null,null,null,null,null,null,null,null,null,null,null,null,"NOTES: "]
[null,"CHARACTERISTICS TO CONSIDER FOR ANALYSIS",null,null,null,null,null,null,null,null,null,null,null,null,null,null,null,null,null,null,null,"ELEMENTS INCREASING SAFETY",null,null,null,null,null,null,null,null,"COMMENTS ON PRIMARY CONSTRAINTS"]
[null,"INPUT INSTRUCTIONS",null,null,null,null,"Relative to",null,"Existing"]
[null,"Blue Boxes -- Select from pulldown options",null,"Select from Pulldown"]
[null,"Yellow Boxes -- Type input information into box",null,"Type Input Value"]
[null," Rural Multi-Lane Road Segment -- Safety Score Input",null,null,null,null,null,null,null,null,null,null,null,null,null,null,null,null,null,null,null,null,null,null,null,null,null,null,null,null,null,null,null,null,null,null,null,null,null,null,null,null,null,null,null,null,null,null,null,null,null,null,null,null,null,null,null,null,null,null,null,null,null,null,null,null,null,null,null,null,null,null,null,null,null,null,null,null,null,null,null,null,null,"Unadjusted Marginal Safety"]
[null,"General Information:",null,null,null,"General Site Features",null,{"$f":" I315 & \" Missing Features and Curves\"","v":"9 Missing Features and Curves"},null,null,null,null,null,null,null,null,null,null,null,null,null,null,null,null,null,null,null,null,null,null,null,null,null,null,null,null,null,null,null,null,null,null,null,null,null,null,null,null,null,null,null,null,null,null,null,null,null,null,null,null,null,null,null,null,null,null,null,null,null,null,null,null,null,null,null,null,null,null,null,null,null,null,null,{"$f":"I2&\" relative to \" &I4","v":"Standard relative to Existing"}]
[null,null,"Analyst:",{"$f":"+'Start Here'!H7","v":0},null,"Location "]
[null,null,"Agency or Company:",{"$f":"+'Start Here'!H8","v":0},null,"Design Speed (mph)"]
[null,null,"Date:",{"$f":"+'Start Here'!H9","v":"00:00:00"},null,"Posted Speed (mph)"]
[null,null,"Description:",null,null,"E max (%)"]
[null,null,"Input additional site information here",null,null,"    Design Year AADT (vehicles per day)"]
[null,null,null,null,null,"    Dist. from Centerline to Left   ROW (feet)"]
[null,null,null,null,null,"    Dist. from Centerline to Right ROW (feet)"]
[]
[null,"Warning:"]
[null,null,{"$f":"+IF(+I11>I10,\"Posted speed exceeds design speed. Optimal safety will only be achieved if design speed exceeds posted speed. The Safety Assessment Score is based on the higher of the two speed values.\",\"No speed warnings identified\")","v":"No speed warnings identified"}]
[null,null,{"$f":"IF(OR(F24=INDEX(MedConf_Header,1,3),+G24=INDEX(MedConf_Header,1,3)), \"Multilane undivided facilities are known to have substantially more collisions than multilane facilities with medians. In new construction a median or TWLTL should be considered.\",\" \")","v":" "},null,null,null,null,null,null,null,null,null,null,null,null,null,null,null,null,null,null,null,null,null,null,null,null,null,null,null,null,null,null,null,null,null,null,null,null,null,null,null,null,null,null,null,null,null,null,null,null,null,null,null,null,null,null,null,null,null,null,null,null,null,null,null,null,null,null,null,null,null,null,null,null,null,null,null,null,null,null,null,null,null,null,null,null,null,null,null,null,null,null,null,null,null,null,null,null,null,null,null,null,null,null,{"$f":"COUNTIF(DB23:DB46,DB20)","v":1}]
[null,null,{"$f":"IF(I13=\"40,001 < AADT < 60,000\", \"Multi-lane Road Should be Divided Due to High AADT Value\",\"\")","v":""},null,null,null,null,null,null,null,null,null,null,null,null,null,null,null,null,null,null,null,null,null,null,null,null,null,null,null,null,null,null,null,null,null,null,null,null,null,null,null,null,null,null,null,null,null,null,null,null,null,null,null,null,null,null,null,null,null,null,null,null,null,null,null,null,null,null,null,null,null,null,null,null,null,null,null,null,null,null,null,null,null,null,null,null,null,null,null,null,null,null,null,null,null,null,null,null,null,null,null,null,null,null,{"$f":"VLOOKUP(0,CZ23:DB46,3,)","v":10.01}]
[null,null,null,"Fill all elements",null,"To enter notes, use boxes to the right of the vortex ",null,null,null,null," "]
[null,{"$f":"+Construction!$I$2&\"  Total Available Points\"","v":"40  Total Available Points"},null,{"$f":" D249 & \" Missing Elements\"","v":"19 Missing Elements"},null,{"$f":" F249 & \" Missing Elements\"","v":"19 Missing Elements"},{"$f":" G249 & \" Missing Elements\"","v":"19 Missing Elements"},null,null,null,null,null,null,null,null,null,null,null,null,null,null,null,null,null,null,null,null,null,null,null,null,null,null,null,null,null,null,null,null,null,null,null,null,null,null,null,null,null,null,null,null,null,null,null,null,null,null,null,null,null,null,null,null,null,null,null,null,null,null,null,null,null,null,null,null,null,null,null,null,null,null,null,null,null,null,null,null,null,null,null,null,null,null,null,null,null,null,null,null,null,null,"Ranked element","CRF","abs","Re-rank","Rank","Ranked CRF","Element","New Element","crf.abs","rank","Sorted Element","Sorted CRF"]
[null,"Geometric Design Elements",null,"Existing","Standard (Based on Multi-lane Divided)","Design 1","Design 2",{"$f":"\"Marginal Safety for \"&$I$2&\" (compared to \" & $I$4 & \")\"","v":"Marginal Safety for Standard (compared to Existing)"},"Optimal (Based on Multi-lane Divided)",null,null,null,null,null,null,null,null,null,null,null,null,null,null,null,null,null,null,null,null,null,null,null,null,null,null,null,null,null,null,null,null,null,null,null,null,null,null,null,null,null,null,null,null,null,null,null,null,null,null,null,null,null,null,null,null,null,null,null,null,null,null,null,null,null,null,null,null,null,null,null,null,null,null,null,null,null,null,null,null,null,null,null,null,null,null,null,null,null,null,null,null,{"$f":"IF(CY23=0,\"\",DB23&\". \"&DD23)","v":""},{"$f":"H24","v":0},{"$f":"ABS(CY23)","v":0},{"$f":"_xlfn.RANK.EQ(DB23,$DB$23:$DB$46,1)","v":10},{"$f":"_xlfn.RANK.EQ(CZ23,$CZ$23:$CZ$46)+DG23/100","v":10.01},{"$f":"CY23","v":0},{"$f":"IF(ROUND(DF23,2)=0,\"\",C24)","v":""},{"$f":"DD23","v":""},{"$f":"CZ23","v":0},1,{"$f":"IFERROR(IF(IFERROR(VLOOKUP(DG23,$DA$23:$DF$46,4,)&\", \"&CY23=0,\"\"),\"\",IFERROR(VLOOKUP(DG23,$DA$23:$DE$46,4,),\"\")),\"\")","v":"Pavement Friction (skid number) ***"},{"$f":"IFERROR(IF(IFERROR(VLOOKUP(DG23,$DA$23:$DF$46,3,)&\", \"&CY23=0,\"\"),\"\",IFERROR(VLOOKUP(DG23,$DA$23:$DE$46,3,),\"\")),\"\")","v":0.28430956017940245}]
[null,null,"Configuration of Multilane Roadway",null,"Divided - Unsurfaced Median",null,null,null,"Divided - Unsurfaced Median",null,null,null,null,null,null,null,null,null,null,null,null,null,null,null,null,null,null,null,null,null,null,null,null,null,null,null,null,null,null,null,null,null,null,null,null,null,null,null,null,null,null,null,null,null,null,null,null,null,null,null,null,null,null,null,null,null,null,null,null,null,null,null,null,null,null,null,null,null,null,null,null,null,null,null,null,null,null,null,null,null,null,null,null,null,null,null,null,null,null,null,null,"5.02. Median Configuration (Width or Type)",{"$f":"H25","v":8.9999999999999969E-2},8.9999999999999969E-2,{"$f":"_xlfn.RANK.EQ(DB24,$DB$23:$DB$46,1)","v":5},{"$f":"_xlfn.RANK.EQ(CZ24,$CZ$23:$CZ$46)+DG24/100","v":5.0199999999999996},{"$f":"CY24","v":8.9999999999999969E-2},{"$f":"IF(ROUND(DF24,2)=0,\"\",C25)","v":"Median Configuration (Width or Type)"},{"$f":"DD24","v":"Median Configuration (Width or Type)"},8.9999999999999969E-2,2,{"$f":"IFERROR(IF(IFERROR(VLOOKUP(DG24,$DA$23:$DF$46,4,)&\", \"&CY24=0,\"\"),\"\",IFERROR(VLOOKUP(DG24,$DA$23:$DE$46,4,),\"\")),\"\")","v":"Driveway Density (driveways per mile)"},{"$f":"IFERROR(IF(IFERROR(VLOOKUP(DG24,$DA$23:$DF$46,3,)&\", \"&CY24=0,\"\"),\"\",IFERROR(VLOOKUP(DG24,$DA$23:$DE$46,3,),\"\")),\"\")","v":-0.22388114201141129}]
[null,null,"Median Configuration (Width or Type)",null,30,null,null,{"$f":"M103","v":8.9999999999999969E-2},100,null,null,null,null,null,null,null,null,null,null,null,null,null,null,null,null,null,null,null,null,null,null,null,null,null,null,null,null,null,null,null,null,null,null,null,null,null,null,null,null,null,null,null,null,null,null,null,null,null,null,null,null,null,null,null,null,null,null,null,null,null,null,null,null,null,null,null,null,null,null,null,null,null,null,null,null,null,null,null,null,null,null,null,null,null,null,null,null,null,null,null,null,"",{"$f":"H27","v":0},0,11,10.029999999999999,{"$f":"CY25","v":0},{"$f":"IF(ROUND(DF25,2)=0,\"\",C27)","v":""},{"$f":"DD25","v":""},0,3,{"$f":"IFERROR(IF(IFERROR(VLOOKUP(DG25,$DA$23:$DF$46,4,)&\", \"&CY25=0,\"\"),\"\",IFERROR(VLOOKUP(DG25,$DA$23:$DE$46,4,),\"\")),\"\")","v":"Average Outside Shoulder Width (feet)"},{"$f":"IFERROR(IF(IFERROR(VLOOKUP(DG25,$DA$23:$DF$46,3,)&\", \"&CY25=0,\"\"),\"\",IFERROR(VLOOKUP(DG25,$DA$23:$DE$46,3,),\"\")),\"\")","v":0.18061674008810569}]
[null,null,null,null,null,null,null,null,null,null,null,null,null,null,null,null,null,null,null,null,null,null,null,null,null,null,null,null,null,null,null,null,null,null,null,null,null,null,null,null,null,null,null,null,null,null,null,null,null,null,null,null,null,null,null,null,null,null,null,null,null,null,null,null,null,null,null,null,null,null,null,null,null,null,null,null,null,null,null,null,null,null,null,null,null,null,null,null,null,null,null,null,null,null,null,null,null,null,null,null,null,null,null,null,null,null,null,null,null,null,4,{"$f":"IFERROR(IF(IFERROR(VLOOKUP(DG26,$DA$23:$DF$46,4,)&\", \"&CY26=0,\"\"),\"\",IFERROR(VLOOKUP(DG26,$DA$23:$DE$46,4,),\"\")),\"\")","v":"Roadside Sideslope (Foreslope)"},{"$f":"IFERROR(IF(IFERROR(VLOOKUP(DG26,$DA$23:$DF$46,3,)&\", \"&CY26=0,\"\"),\"\",IFERROR(VLOOKUP(DG26,$DA$23:$DE$46,3,),\"\")),\"\")","v":0.15697622474810147}]
[null,null,"Lane Width (feet)",null,12,null,null,{"$f":"M104","v":0},12,null,null,null,null,null,null,null,null,null,null,null,null,null,null,null,null,null,null,null,null,null,null,null,null,null,null,null,null,null,null,null,null,null,null,null,null,null,null,null,null,null,null,null,null,null,null,null,null,null,null,null,null,null,null,null,null,null,null,null,null,null,null,null,null,null,null,null,null,null,null,null,null,null,null,null,null,null,null,null,null,null,null,null,null,null,null,null,null,null,null,null,null,null,null,null,null,null,null,null,null,null,5,"Median Configuration (Width or Type)",8.9999999999999969E-2]
[null,null,"Average Outside Shoulder Width (feet)",null,8,null,null,{"$f":"M105","v":0.18061674008810569},10,null,null,null,null,null,null,null,null,null,null,null,null,null,null,null,null,null,null,null,null,null,null,null,null,null,null,null,null,null,null,null,null,null,null,null,null,null,null,null,null,null,null,null,null,null,null,null,null,null,null,null,null,null,null,null,null,null,null,null,null,null,null,null,null,null,null,null,null,null,null,null,null,null,null,null,null,null,null,null,null,null,null,null,null,null,null,null,null,null,null,null,null,{"$f":"IF(CY28=0,\"\",DB28&\". \"&DD28)","v":"3.06. Average Outside Shoulder Width (feet)"},{"$f":"H28","v":0.18061674008810569},{"$f":"ABS(CY28)","v":0.18061674008810569},3,3.06,{"$f":"CY28","v":0.18061674008810569},{"$f":"IF(ROUND(DF28,2)=0,\"\",C28)","v":"Average Outside Shoulder Width (feet)"},{"$f":"DD28","v":"Average Outside Shoulder Width (feet)"},{"$f":"CZ28","v":0.18061674008810569},6,"Roadside Lateral Clearance to Obstruction (ft)",6.4777606999867676E-2]
[null,null,"Average Inside Shoulder Width (feet)",null,4,null,null,{"$f":"M106","v":0},10,null,null,null,null,null,null,null,null,null,null,null,null,null,null,null,null,null,null,null,null,null,null,null,null,null,null,null,null,null,null,null,null,null,null,null,null,null,null,null,null,null,null,null,null,null,null,null,null,null,null,null,null,null,null,null,null,null,null,null,null,null,null,null,null,null,null,null,null,null,null,null,null,null,null,null,null,null,null,null,null,null,null,null,null,null,null,null,null,null,null,null,null,{"$f":"IF(CY29=0,\"\",DB29&\". \"&DD29)","v":""},{"$f":"H33","v":0},{"$f":"ABS(CY29)","v":0},12,10.07,0,{"$f":"IF(ROUND(DF29,2)=0,\"\",\"Hz and Vt Alignment\")","v":""},"",{"$f":"CZ29","v":0},7,"Safety Edge",-2.3424031600265627E-2]
["",null,"Number of Lanes per Direction of Travel",null,2,null,null,null,2,null,null,null,null,null,null,null,null,null,null,null,null,null,null,null,null,null,null,null,null,null,null,null,null,null,null,null,null,null,null,null,null,null,null,null,null,null,null,null,null,null,null,null,null,null,null,null,null,null,null,null,null,null,null,null,null,null,null,null,null,null,null,null,null,null,null,null,null,null,null,null,null,null,null,null,null,null,null,null,null,null,null,null,null,null,null,null,null,null,null,null,null,{"$f":"IF(CY30=0,\"\",DB30&\". \"&DD30)","v":""},{"$f":"H29","v":0},{"$f":"ABS(CY30)","v":0},13,10.08,0,{"$f":"IF(ROUND(DF30,2)=0,\"\",C29)","v":""},"",{"$f":"CZ30","v":0},8,"Shoulder Rumble Strips",2.2875008800570917E-2]
[null,null,"Horizontal Curve Present?","--","--","--","--",null,"--",null,null,null,null,null,null,null,null,null,null,null,null,null,null,null,null,null,null,null,null,null,null,null,null,null,null,null,null,null,null,null,null,null,null,null,null,null,null,null,null,null,null,null,null,null,null,null,null,null,null,null,null,null,null,null,null,null,null,null,null,null,null,null,null,null,null,null,null,null,null,null,null,null,null,null,null,null,null,null,null,null,null,null,null,null,null,null,null,null,null,null,null,{"$f":"IF(CY31=0,\"\",DB31&\". \"&DD31)","v":""},{"$f":"H47","v":0},{"$f":"ABS(CY31)","v":0},14,10.09,0,{"$f":"IF(ROUND(DF31,2)=0,\"\",C47)","v":""},"",{"$f":"CZ31","v":0},9,"Lighting",-1.7096579124742384E-2]
[null,null,"Horizontal Curve Data for Controlling Element:","--","--","--","--",null,"--",null,null,null,null,null,null,null,null,null,null,null,null,null,null,null,null,null,null,null,null,null,null,null,null,null,null,null,null,null,null,null,null,null,null,null,null,null,null,null,null,null,null,null,null,null,null,null,null,null,null,null,null,null,null,null,null,null,null,null,null,null,null,null,null,null,null,null,null,null,null,null,null,null,null,null,null,null,null,null,null,null,null,null,null,null,null,null,null,null,null,null,null,"",{"$f":"H48","v":0},0,15,10.1,0,{"$f":"IF(ROUND(DF32,2)=0,\"\",C48)","v":""},"",0,10,"",0]
[null,null,"  Radius (feet)",null,{"$f":"IF(MAX($I$10,$I$11)<45,590,IF($I$12=6,VLOOKUP(MAX($I$10,$I$11),Construction!$B$27:$D$34,2,TRUE),VLOOKUP(MAX($I$10,$I$11),Construction!$G$27:$I$34,2,TRUE)))","v":590},null,null,{"$f":"M144","v":0},{"$f":"IF(MAX($I$10,$I$11)<45,590,IF($I$12=6,VLOOKUP(MAX($I$10,$I$11),Construction!$B$43:$C$50,2,TRUE),VLOOKUP(MAX($I$10,$I$11),Construction!$G$43:$H$50,2,TRUE)))","v":590},null,null,null,null,null,null,null,null,null,null,null,null,null,null,null,null,null,null,null,null,null,null,null,null,null,null,null,null,null,null,null,null,null,null,null,null,null,null,null,null,null,null,null,null,null,null,null,null,null,null,null,null,null,null,null,null,null,null,null,null,null,null,null,null,null,null,null,null,null,null,null,null,null,null,null,null,null,null,null,null,null,null,null,null,null,null,null,null,null,null,null,null,"",{"$f":"H56","v":0},0,16,10.11,0,{"$f":"IF(ROUND(DF33,2)=0,\"\",C56)","v":""},"",0,11,"",0]
[null,null,"Length of Horizontal Curve (feet)",null,{"$f":"IF(D35=\"\", \"\", E33*E35/57.296)","v":""},null,null,null,{"$f":"I33*I35/57.296","v":3758.5520804244625},null,null,null,null,null,null,null,null,null,null,null,null,null,null,null,null,null,null,null,null,null,null,null,null,null,null,null,null,null,null,null,null,null,null,null,null,null,null,null,null,null,null,null,null,null,null,null,null,null,null,null,null,null,null,null,null,null,null,null,null,null,null,null,null,null,null,null,null,null,null,null,null,null,null,null,null,null,null,null,null,null,null,null,null,null,null,null,null,null,null,null,null,"",0,0,17,10.119999999999999,0,"","",0,12,"",0]
[null,null,"Calculated Deflection Angle ∆",{"$f":"IF(OR(ISBLANK(D33),ISBLANK(D34),$B$31=\"No\",ISBLANK($B$31)),\"\",ROUND(D34/D33*57.296,1))","v":""},{"$f":"IF(ISBLANK(D35), \"\",D35)","v":""},{"$f":"IF(OR(ISBLANK(F33),ISBLANK(F34),$B$31=\"No\",ISBLANK($B$31)),\"\",ROUND(F34/F33*57.296,1))","v":""},{"$f":"IF(OR(ISBLANK(G33),ISBLANK(G34),$B$31=\"No\",ISBLANK($B$31)),\"\",ROUND(G34/G33*57.296,1))","v":""},null,{"$f":"MIN(D35,IF(F37=INDEX(HCurveChange,1,0), F35, 365),IF(G37=INDEX(HCurveChange,1,0), G35, 365))","v":365},null,null,null,null,null,null,null,null,null,null,null,null,null,null,null,null,null,null,null,null,null,null,null,null,null,null,null,null,null,null,null,null,null,null,null,null,null,null,null,null,null,null,null,null,null,null,null,null,null,null,null,null,null,null,null,null,null,null,null,null,null,null,null,null,null,null,null,null,null,null,null,null,null,null,null,null,null,null,null,null,null,null,null,null,null,null,null,null,null,null,null,null,"",0,0,18,10.130000000000001,0,"","",0,13,"",0]
[null,null,null,null,null,"∆ has changed. \nAre you changing the ∆?","∆ has changed. \nAre you changing the ∆?",null,null,null,null,null,null,null,null,null,null,null,null,null,null,null,null,null,null,null,null,null,null,null,null,null,null,null,null,null,null,null,null,null,null,null,null,null,null,null,null,null,null,null,null,null,null,null,null,null,null,null,null,null,null,null,null,null,null,null,null,null,null,null,null,null,null,null,null,null,null,null,null,null,null,null,null,null,null,null,null,null,null,null,null,null,null,null,null,null,null,null,null,null,null,"",0,0,19,10.14,0,"","",0,14,"",0]
[null,null,null,null,null,null,null,null,null,null,null,null,null,null,null,null,null,null,null,null,null,null,null,null,null,null,null,null,null,null,null,null,null,null,null,null,null,null,null,null,null,null,null,null,null,null,null,null,null,null,null,null,null,null,null,null,null,null,null,null,null,null,null,null,null,null,null,null,null,null,null,null,null,null,null,null,null,null,null,null,null,null,null,null,null,null,null,null,null,null,null,null,null,null,null,null,null,null,null,null,null,"8.15. Shoulder Rumble Strips",2.2875008800570917E-2,2.2875008800570917E-2,8,8.15,2.2875008800570917E-2,"Shoulder Rumble Strips","Shoulder Rumble Strips",2.2875008800570917E-2,15,"",0]
[null,null,"Vertical Curve Present?","--","--","--","--",null,{"$f":"E38","v":"--"},null,null,null,null,null,null,null,null,null,null,null,null,null,null,null,null,null,null,null,null,null,null,null,null,null,null,null,null,null,null,null,null,null,null,null,null,null,null,null,null,null,null,null,null,null,null,null,null,null,null,null,null,null,null,null,null,null,null,null,null,null,null,null,null,null,null,null,null,null,null,null,null,null,null,null,null,null,null,null,null,null,null,null,null,null,null,null,null,null,null,null,null,"",0,0,20,10.16,0,"","",0,16,"",0]
[null,null,"Vertical Curve Data for Controlling Element:","--","--","--","--",null,"--",null,null,null,null,null,null,null,null,null,null,null,null,null,null,null,null,null,null,null,null,null,null,null,null,null,null,null,null,null,null,null,null,null,null,null,null,null,null,null,null,null,null,null,null,null,null,null,null,null,null,null,null,null,null,null,null,null,null,null,null,null,null,null,null,null,null,null,null,null,null,null,null,null,null,null,null,null,null,null,null,null,null,null,null,null,null,null,null,null,null,null,null,"2.17. Driveway Density (driveways per mile)",-0.22388114201141129,0.22388114201141129,2,2.17,-0.22388114201141129,{"$f":"IF(DF39=0,\"\",C62)","v":"Driveway Density (driveways per mile)"},"Driveway Density (driveways per mile)",0.22388114201141129,17,"",0]
[null,null,"  Approach (Entry) Grade, G1 (%)",null,{"$f":"IF(ISBLANK(D40),\"\", D40)","v":""},null,null,null,{"$f":"IF(B38=\"Yes\",I231,I241)","v":""},null,null,null,null,null,null,null,null,null,null,null,null,null,null,null,null,null,null,null,null,null,null,null,null,null,null,null,null,null,null,null,null,null,null,null,null,null,null,null,null,null,null,null,null,null,null,null,null,null,null,null,null,null,null,null,null,null,null,null,null,null,null,null,null,null,null,null,null,null,null,null,null,null,null,null,null,null,null,null,null,null,null,null,null,null,null,null,null,null,null,null,null,"9.18. Lighting",-1.7096579124742384E-2,1.7096579124742384E-2,9,9.18,-1.7096579124742384E-2,{"$f":"IF(DF40=0,\"\",C63)","v":"Lighting"},"Lighting",1.7096579124742384E-2,18,"",0]
[null,null,"  Departure (Exit) Grade, G2 (%)",null,{"$f":"IF(ISBLANK(D41),\"\", D41)","v":""},null,null,null,{"$f":"IF($B$38=\"Yes\",I232,\"\")","v":""},null,null,null,null,null,null,null,null,null,null,null,null,null,null,null,null,null,null,null,null,null,null,null,null,null,null,null,null,null,null,null,null,null,null,null,null,null,null,null,null,null,null,null,null,null,null,null,null,null,null,null,null,null,null,null,null,null,null,null,null,null,null,null,null,null,null,null,null,null,null,null,null,null,null,null,null,null,null,null,null,null,null,null,null,null,null,null,null,null,null,null,null,"1.19. Pavement Friction (skid number) ***",0.28430956017940245,0.28430956017940245,1,1.19,0.28430956017940245,{"$f":"IF(DF41=0,\"\",C64)","v":"Pavement Friction (skid number) ***"},"Pavement Friction (skid number) ***",0.28430956017940245,19,"",0]
[null,null,"  Length (feet)",null,{"$f":"IF(AND($B$38=\"Yes\", D43<>\"\"), ABS(E40-E41)*D43, \"\")","v":""},null,null,null,{"$f":"IF(AND($B$38=\"Yes\",I40<>\"\",I41<>\"\", NOT(ISBLANK($I$10)), NOT(ISBLANK($I$11))),ABS(I41-I40)*I43,\"\")","v":""},null,null,null,null,null,null,null,null,null,null,null,null,null,null,null,null,null,null,null,null,null,null,null,null,null,null,null,null,null,null,null,null,null,null,null,null,null,null,null,null,null,null,null,null,null,null,null,null,null,null,null,null,null,null,null,null,null,null,null,null,null,null,null,null,null,null,null,null,null,null,null,null,null,null,null,null,null,null,null,null,null,null,null,null,null,null,null,null,null,null,null,null,"4.2. Roadside Sideslope (Foreslope)",{"$f":"H75","v":0.15697622474810147},0.15697622474810147,4,4.2,0.15697622474810147,{"$f":"IF(DF42=0,\"\",C75)","v":"Roadside Sideslope (Foreslope)"},"Roadside Sideslope (Foreslope)",0.15697622474810147,20,"",0]
[null,null,"  Calculated Rate of Change, K (ft/ft)",{"$f":"IF(OR($B$38=\"No\",ISBLANK($B$38), ISBLANK(D40), ISBLANK(D41),ISBLANK(D42), D40=D41), \"\", ROUND(D42/(ABS(D41-D40)),1))","v":""},{"$f":"IF(AND($B$38=\"Yes\", NOT(ISBLANK($I$10)), NOT(ISBLANK($I$11)), D43<>\"\"), IF($E$46=\"Crest\",  VLOOKUP(MAX($I$10,$I$11),Construction!$B$159:$D$171,2,TRUE), VLOOKUP(MAX($I$10,$I$11),Construction!$B$159:$D$171,3,TRUE)), \"\")","v":""},{"$f":"IF(AND($B$38=\"Yes\", SUM(F267:F269)=0),ROUND(F42/(ABS(F41-F40)),1),\"\")","v":""},{"$f":"IF(AND($B$38=\"Yes\", SUM(G267:G269)=0),ROUND(G42/(ABS(G41-G40)),1),\"\")","v":""},null,{"$f":"IF(OR($B$38<>\"Yes\", ISBLANK($I$10), ISBLANK($I$11), $I$40=\"\", $I$41=\"\", $I$46=\"--\", ISBLANK($I$46)),\"\",IF(I$46=\"Crest\",VLOOKUP(MAX($I$10,$I$11),Construction!$B$177:$D$189,2,TRUE),VLOOKUP(MAX($I$10,$I$11),Construction!$B$177:$D$189,3,TRUE)))","v":""},null,null,null,null,null,null,null,null,null,null,null,null,null,null,null,null,null,null,null,null,null,null,null,null,null,null,null,null,null,null,null,null,null,null,null,null,null,null,null,null,null,null,null,null,null,null,null,null,null,null,null,null,null,null,null,null,null,null,null,null,null,null,null,null,null,null,null,null,null,null,null,null,null,null,null,null,null,null,null,null,null,null,null,null,null,null,null,null,null,null,null,null,"",{"$f":"H76","v":0},0,21,10.210000000000001,0,{"$f":"IF(DF43=0,\"\",C76)","v":""},"",0,21,"",0]
[null,null,null,null,null,"Are you changing the geometry?","Are you changing the geometry?",null,null,null,null,null,null,null,null,null,null,null,null,null,null,null,null,null,null,null,null,null,null,null,null,null,null,null,null,null,null,null,null,null,null,null,null,null,null,null,null,null,null,null,null,null,null,null,null,null,null,null,null,null,null,null,null,null,null,null,null,null,null,null,null,null,null,null,null,null,null,null,null,null,null,null,null,null,null,null,null,null,null,null,null,null,null,null,null,null,null,null,null,null,null,"7.22. Safety Edge",{"$f":"H77","v":-2.3424031600265627E-2},2.3424031600265627E-2,7,7.22,-2.3424031600265627E-2,{"$f":"IF(DF44=0,\"\",C77)","v":"Safety Edge"},"Safety Edge",2.3424031600265627E-2,22,"",0]
[null,null,null,null,null,null,null,null,null,null,null,null,null,null,null,null,null,null,null,null,null,null,null,null,null,null,null,null,null,null,null,null,null,null,null,null,null,null,null,null,null,null,null,null,null,null,null,null,null,null,null,null,null,null,null,null,null,null,null,null,null,null,null,null,null,null,null,null,null,null,null,null,null,null,null,null,null,null,null,null,null,null,null,null,null,null,null,null,null,null,null,null,null,null,null,null,null,null,null,null,null,"6.23. Roadside Lateral Clearance to Obstruction (ft)",{"$f":"H78","v":6.4777606999867676E-2},6.4777606999867676E-2,6,6.23,6.4777606999867676E-2,{"$f":"IF(DF45=0,\"\",C78)","v":"Roadside Lateral Clearance to Obstruction (ft)"},"Roadside Lateral Clearance to Obstruction (ft)",6.4777606999867676E-2,23,"",{"$f":"IFERROR(IF(IFERROR(VLOOKUP(DG45,$DA$23:$DF$46,3,)&\", \"&CY45=0,\"\"),\"\",IFERROR(VLOOKUP(DG45,$DA$23:$DE$46,3,),\"\")),\"\")","v":""}]
[null,null,"  Calculated Sag or Crest?",{"$f":"IF(AND($B$38=\"Yes\", SUM(D267:D269)=0),IF(D40>D41,\"Crest\",\"Sag\"),\"--\")","v":"--"},{"$f":"IF(AND($B$38=\"Yes\", SUM(D267:D269)=0),IF(E40>E41,\"Crest\",\"Sag\"),\"--\")","v":"--"},{"$f":"IF(AND($B$38=\"Yes\", SUM(F267:F269)=0),IF(F40>F41,\"Crest\",\"Sag\"),\"--\")","v":"--"},{"$f":"IF(AND($B$38=\"Yes\", SUM(G267:G269)=0),IF(G40>G41,\"Crest\",\"Sag\"),\"--\")","v":"--"},null,{"$f":"IF($B$38=\"Yes\",IF(I40>I41,\"Crest\",\"Sag\"),\"--\")","v":"--"},null,null,null,null,null,null,null,null,null,null,null,null,null,null,null,null,null,null,null,null,null,null,null,null,null,null,null,null,null,null,null,null,null,null,null,null,null,null,null,null,null,null,null,null,null,null,null,null,null,null,null,null,null,null,null,null,null,null,null,null,null,null,null,null,null,null,null,null,null,null,null,null,null,null,null,null,null,null,null,null,null,null,null,null,null,null,null,null,null,null,null,null,"",{"$f":"H79","v":0},0,22,10.24,0,{"$f":"IF(DF46=0,\"\",C79)","v":""},"",0,24,"",{"$f":"IFERROR(IF(IFERROR(VLOOKUP(DG46,$DA$23:$DF$46,3,)&\", \"&CY46=0,\"\"),\"\",IFERROR(VLOOKUP(DG46,$DA$23:$DE$46,3,),\"\")),\"\")","v":""}]
[]
[]
[null,null,"Geometric Design Element (Partial Score)",{"$f":"IF(OR(SUM(D251:D252,D254:D257,D260:D261,D267:D269)>0, ISERR(D129)),\"\",D129)","v":""},{"$f":"IF(OR(SUM(E251:E252,E254:E257,E260:E261,E267:E269)>0, ISERR(E129)),\"\",E129)","v":""},"","",null,{"$f":"IF(OR(SUM(I251:I252,I254:I257,I260:I261,I267:I269)>0, ISERR(I129)),\"\",I129)","v":""},null,null,null,"SCHEMATIC REPRESENTING INPUT DATA FOR ",null,null,null,null,null,null,null,{"$f":"IF($I$2=\"Existing\",\"EXISTING CONFIGURATION\",IF($I$2=\"Standard\",\"STANDARD OPTION\",IF($I$2=\"Design 1\",\"DESIGN 1 OPTION\",IF($I$2=\"Design 2\",\"DESIGN 2 OPTION\",\"OPTIMAL OPTION\"))))","v":"STANDARD OPTION"}]
[null,null,"Total Safety Score",{"$f":"IF(OR(D$249>0, $I$315>0, ISERROR(D$205+D$175+D$129)),\"\",D$205+D$175+D$129)","v":""},{"$f":"IF(OR(E$249>0, $I$315>0, ISERROR(E$205+E$175+E$129)),\"\",E$205+E$175+E$129)","v":""},{"$f":"IF(OR(F$249>0, $I$315>0, ISERROR(F$205+F$175+F$129)),\"\",F$205+F$175+F$129)","v":""},{"$f":"IF(OR(G$249>0, $I$315>0, ISERROR(G$205+G$175+G$129)),\"\",G$205+G$175+G$129)","v":""},null,{"$f":"IF(OR(I$249>0, $I$315>0, ISERROR(I$205+I$175+I$129)),\"\",I$205+I$175+I$129)","v":""}]
[null,null,null,null,null,null,null,null,null,null,null,"LT",null,null,null,null,null,null,null,null,null,null,null,null,null,null,"RT"]
[null,null,null,null,null,null,null,null,null,null,null,"R/W",null,null,null,null,null,null,{"$f":"+O54+W54","v":0},null,null,null,null,null,null,null,"R/W"]
[]
[null,{"$f":"+Construction!$I$3&\"  Total Available Points\"","v":"20  Total Available Points"},null,null,null,null,null,null,null,null,null,null,null,null,{"$f":"+$I$14","v":0},null,null,null,null,null,null,null,{"$f":"+$I$15","v":0}]
[null,"Traffic Elements",null,"Existing","Standard","Design 1","Design 2",{"$f":"H23","v":"Marginal Safety for Standard (compared to Existing)"},"Optimal"]
[null,null,"Advance Static Curve Warning Signs",null,"No",null,null,{"$f":"M149","v":0},"Yes",null,null,{"$f":"+O54-N56-P56","v":-32},null,{"$f":"IF(+$I$2=\"Existing\",D28,IF($I$2=\"Standard\",E28,IF($I$2=\"Design 1\",F28,IF($I$2=\"Design 2\",G28,I28))))","v":8},null,{"$f":"IF(+$I$2=\"Existing\",D27*D30,IF($I$2=\"Standard\",E27*E30,IF($I$2=\"Design 1\",F27*F30,IF($I$2=\"Design 2\",G27*G30,I27*I30))))","v":24},null,null,null,null,null,{"$f":"+P56","v":24},null,null,{"$f":"+N56","v":8},{"$f":"+W54-V56-Y56","v":-32}]
[null,null,"Chevron Signs on Horizontal Curves",null,"No",null,null,{"$f":"M150","v":0},"Yes"]
[null,null,"Post-Mounted Delineators",null,"No",null,null,{"$f":"M151","v":0},"Yes"]
[null,null,"Edgeline Pavement Markings or Profile Markings",null,"No",null,null,{"$f":"M152","v":0},"Yes"]
[null,null,"Shoulder Rumble Strips",null,"Yes",null,null,{"$f":"M154","v":2.2875008800570917E-2},"Yes"]
[null,null,"Centerline Rumble Strips",null,"No",null,null,{"$f":"M155","v":0},"Yes",null,null,null,null,null,null,null,null,null,"Tangent X-Section"]
[null,null,"Driveway Density (driveways per mile)",null,10,null,null,{"$f":"M156","v":-0.22388114201141129},0]
[null,null,"Lighting",null,"No",null,null,{"$f":"M157","v":-1.7096579124742384E-2},"Yes"]
[null,null,"Pavement Friction (skid number) ***",null,37,null,null,{"$f":"M158","v":0.28430956017940245},54]
[null,null,"Traffic Control Element (Partial Score):",{"$f":"IF(ISERROR(D175), \"\", D175)","v":12},{"$f":"IF(ISERROR(E175), \"\", E175)","v":14},"","",null,{"$f":"IF(ISERROR(I175), \"\", I175)","v":20}]
[null,null,"Total Safety Score",{"$f":"IF(OR(D$249>0, $I$315>0, ISERROR(D$205+D$175+D$129)),\"\",D$205+D$175+D$129)","v":""},{"$f":"IF(OR(E$249>0, $I$315>0, ISERROR(E$205+E$175+E$129)),\"\",E$205+E$175+E$129)","v":""},"","",null,{"$f":"IF(OR(I$249>0, $I$315>0, ISERROR(I$205+I$175+I$129)),\"\",I$205+I$175+I$129)","v":""}]
[null,null,null,null,null,null,null,null,null,null," "]
[null,null,"*** Pavement friction/skid numbers will not be subject to open records requests ***",null,null,null,null,null,null,null,null,null,null,null,null,null,{"$f":"IF($I$2=\"Existing\",\"SCORE SUMMARY FOR EXISTING CONFIGURATION\", IF($I$2=\"Standard\",\"SCORE SUMMARY FOR STANDARD OPTION\",IF($I$2=\"Design 1\",\"SCORE SUMMARY FOR DESIGN 1 OPTION\",IF($I$2=\"Design 2\",\"SCORE SUMMARY FOR DESIGN 2 OPTION\", \"SCORE SUMMARY FOR OPTIMAL OPTION\"))))","v":"SCORE SUMMARY FOR STANDARD OPTION"}]
[null,null,null,null,null,null,null,null,null,null,null,null,null,null,null,null,"GEOMETRIC DESIGN:",null,null,null,null,null,{"$f":"IF($I$2=\"Existing\",D49,IF($I$2=\"Standard\",E49,IF($I$2=\"Design 1\",F49,IF($I$2=\"Design 2\",G49,I49))))","v":""}]
[null,null,null,null,null,null,null,null,null,null,null,null,null,null,null,null,"TRAFFIC CONTROL:",null,null,null,null,null,{"$f":"IF($I$2=\"Existing\",D65,IF($I$2=\"Standard\",E65,IF($I$2=\"Design 1\",F65,IF($I$2=\"Design 2\",G65,I65))))","v":14}]
[null,null,null,null,null,null,null,null,null,null,null,null,null,null,null,null,"ROADSIDE:",null,null,null,null,null,{"$f":"IF($I$2=\"Existing\",D80,IF($I$2=\"Standard\",E80,IF($I$2=\"Design 1\",F80,IF($I$2=\"Design 2\",G80,I80))))","v":27}]
[null,null,null,null,null,null,null,null,null,null,null,null,null,null,null,null,"OVERALL SAFETY SCORE:",null,null,null,null,null,{"$f":"SUM(W69:X71)","v":41}]
[null,{"$f":"+Construction!$I$4&\"  Total Available Points\"","v":"40  Total Available Points"}]
[null,"Roadside  Elements",null,"Existing","Standard","Design 1","Design 2",{"$f":"H23","v":"Marginal Safety for Standard (compared to Existing)"},"Optimal"]
[null,null,"Roadside Sideslope (Foreslope)",null,"1V:4H",null,null,{"$f":"M184","v":0.15697622474810147},"1V:6H"]
[null,null,"Roadside Backslope",null,{"$f":"E75","v":"1V:4H"},null,null,{"$f":"M185","v":0},"1V:4H"]
[null,null,"Safety Edge",null,"No",null,null,-2.3424031600265627E-2,"Yes"]
[null,null,"Roadside Lateral Clearance to Obstruction (ft)",null,30,null,null,6.4777606999867676E-2,40]
[null,null,"Roadside Obstruction Type",null,"None",null,null,0,"None/Removed"]
[null,null,"Roadside Element (Partial Score):",{"$f":"IF(ISERR(D205),\"\",D205)","v":20},{"$f":"IF(ISERR(E205),\"\",E205)","v":27},20,20,null,{"$f":"IF(ISERR(I205),\"\",I205)","v":40},null,null,null,null,null,null,null,null,null,null,null,null,null,null," "]
[null,null,"Total Safety Score",{"$f":"IF(OR(D$249>0, $I$315>0, ISERROR(D$205+D$175+D$129)),\"\",D$205+D$175+D$129)","v":""},{"$f":"IF(OR(E$249>0, $I$315>0, ISERROR(E$205+E$175+E$129)),\"\",E$205+E$175+E$129)","v":""},"","",null,{"$f":"IF(OR(I$249>0, $I$315>0, ISERROR(I$205+I$175+I$129)),\"\",I$205+I$175+I$129)","v":""}]
[]
[]
[]
[]
[null,"ADDITIONAL SIDESLOPE INFORMATION"]
[null,null,"Distance to Slope Toe from Shoulder (ft)",null,{"$f":"D87","v":0},{"$f":"E87","v":0},0,null,{"$f":"G87","v":0}]
[null,"Minimum foreslope feasible within current ROW",null,null,{"$f":"IF(OR(ISBLANK($D$87), ISERROR(E209)), \"\", \"1V:\"&E209&\"H\")","v":""},{"$f":"IF(OR(ISBLANK($D$87), ISERROR(F209)), \"\", \"1V:\"&F209&\"H\")","v":""},{"$f":"IF(OR(ISBLANK($D$87), ISERROR(G209)), \"\", \"1V:\"&G209&\"H\")","v":""},null,{"$f":"IF(OR(ISBLANK($D$87), ISERROR(I209)), \"\", \"1V:\"&I209&\"H\")","v":""}]
[null,"Additional R/W needed on left side",null,null,{"$f":"IF(OR(ISBLANK($D$87), ISERROR(E213)),\"\", MAX(E213,E216))","v":""},{"$f":"IF(OR(ISBLANK($D$87), ISERROR(F213)), \"\", MAX(F213,F216))","v":""},{"$f":"IF(OR(ISBLANK($D$87), ISERROR(G213)),\"\", MAX(G213,G216))","v":""},null,{"$f":"IF(OR(ISBLANK($D$87), ISERROR(I213)),\"\", MAX(I213,I216))","v":""}]
[null,"Additional R/W needed on right side",null,null,{"$f":"IF(OR(ISBLANK($D$87), ISERROR(E214)), \"\", MAX(E214,E217))","v":""},{"$f":"IF(OR(ISBLANK($D$87), ISERROR(F214)), \"\", MAX(F214,F217))","v":""},{"$f":"IF(OR(ISBLANK($D$87), ISERROR(G214)),\"\", MAX(G214,G217))","v":""},null,{"$f":"IF(OR(ISBLANK($D$87), ISERROR(I214)),\"\", MAX(I214,I217))","v":""}]
[]
[]
[]
[]
[]
[]
[]
[null,null,null,{"$f":"GetCMF_MED(D24,D25,2000,D28)","v":1},null,null,null,null,null,{"$f":"1-I104/E104","v":0},"For Plot"]
[null,null,null,null,null,null,null,null,null,{"$f":"1-I105/E105","v":3.2258064516129115E-2},"relative to","Prefer"]
[null,null,null,{"$f":"MAX(SUM(D107:D111)-5,$I$100)","v":{"$error":"#VALUE!"}},{"$f":"MAX(SUM(E107:E111)-5,$I$100)","v":{"$error":"#VALUE!"}},{"$error":"#VALUE!"},{"$error":"#VALUE!"},null,{"$f":"SUM(I107:I111)-5","v":{"$error":"#VALUE!"}},{"$f":"1-I106/E106","v":0.14444080962898154},{"$f":"MATCH(K101,ModView,0)","v":1},{"$f":"MATCH(L101,ModView,0)","v":2}]
[null,"Geometric",null,null,null,null,null,null,null,{"$f":"1-I107/E107","v":{"$error":"#VALUE!"}},{"$f":"I4","v":"Existing"},{"$f":"I2","v":"Standard"},"%"]
[null,null,"Divided versus Undivided",1,1,1,1,null,1,null,{"$f":"INDEX($D102:$I102,K$100)","v":1},{"$f":"INDEX($D102:$I102,L$100)","v":1},{"$f":"IF(ISERROR(1-L102/K102), 0, 1-L102/K102)","v":0}]
[null,null,"Median Width",{"$f":"GetCMF_MED(D24,D25,$I$13,D28)","v":1},{"$f":"GetCMF_MED(E24,E25,$I$13,E28)","v":0.91},{"$f":"GetCMF_MED(F24,F25,$I$13,F28)","v":1},{"$f":"GetCMF_MED(G24,G25,$I$13,G28)","v":1},{"$f":"H25","v":8.9999999999999969E-2},{"$f":"GetCMF_MED(I24,I25,$I$13,I28)","v":0.66},null,{"$f":"INDEX($D103:$I103,K$100)","v":1},{"$f":"INDEX($D103:$I103,L$100)","v":0.91},{"$f":"IF(ISERROR(1-L103/K103), 0, 1-L103/K103)","v":8.9999999999999969E-2}]
[null,null,"LW CMF",{"$f":"IF(D24=INDEX(MedConf_Header,1,2),VLOOKUP(+D27,Construction!$N$30:$O$36,2),VLOOKUP(D27,Construction!$I$15:$J$21,2))","v":{"$error":"#N/A"}},{"$f":"IF(E24=INDEX(MedConf_Header,1,2),VLOOKUP(+E27,Construction!$N$30:$O$36,2),VLOOKUP(E27,Construction!$I$15:$J$21,2))","v":1},{"$f":"IF(F24=INDEX(MedConf_Header,1,2),VLOOKUP(+F27,Construction!$N$30:$O$36,2),VLOOKUP(F27,Construction!$I$15:$J$21,2))","v":{"$error":"#N/A"}},{"$f":"IF(G24=INDEX(MedConf_Header,1,2),VLOOKUP(+G27,Construction!$N$30:$O$36,2),VLOOKUP(G27,Construction!$I$15:$J$21,2))","v":{"$error":"#N/A"}},{"$f":"H27","v":0},{"$f":"IF(I24=INDEX(MedConf_Header,1,2),VLOOKUP(+I27,Construction!$N$30:$O$36,2),VLOOKUP(I27,Construction!$I$15:$J$21,2))","v":1},null,{"$f":"INDEX($D104:$I104,K$100)","v":{"$error":"#N/A"}},{"$f":"INDEX($D104:$I104,L$100)","v":1},0,null,0]
[null,null,"SW CMF",{"$f":"IF(D24=INDEX(MedConf_Header,1,2),VLOOKUP(D28,Construction!$C$11:D21,2),(VLOOKUP(D28,Construction!$O$43:$P$53,2)-1)*0.27+1)","v":1.135},{"$f":"IF(E24=INDEX(MedConf_Header,1,2),VLOOKUP(E28,Construction!$C$11:E21,2),(VLOOKUP(E28,Construction!$O$43:$P$53,2)-1)*0.27+1)","v":0.93},{"$f":"IF(F24=INDEX(MedConf_Header,1,2),VLOOKUP(F28,Construction!$C$11:F21,2),(VLOOKUP(F28,Construction!$O$43:$P$53,2)-1)*0.27+1)","v":1.135},{"$f":"IF(G24=INDEX(MedConf_Header,1,2),VLOOKUP(G28,Construction!$C$11:G21,2),(VLOOKUP(G28,Construction!$O$43:$P$53,2)-1)*0.27+1)","v":1.135},{"$f":"IF($I$2=\"Existing\",(1-D105/E105),(IF($I$2=\"Design 1\",(1-F105/E105),(IF($I$2=\"Design 2\",(1-G105/E105),(IF($I$2=\"Optimal\",(1-I105/E105),0)))))))","v":0},{"$f":"IF(I24=INDEX(MedConf_Header,1,2),VLOOKUP(I28,Construction!$C$11:I21,2),(VLOOKUP(I28,Construction!$O$43:$P$53,2)-1)*0.27+1)","v":0.9},null,{"$f":"INDEX($D105:$I105,K$100)","v":1.135},{"$f":"INDEX($D105:$I105,L$100)","v":0.93},0.18061674008810569,null,0.15503875968992242]
[null,null,"Inside Shoulder Width",{"$f":"IF(AND(D24=INDEX(MedConf_Header,1,2), NOT(ISBLANK(D29))), EXP(-0.026*(D29-4)), 1)","v":1},{"$f":"IF(AND(E24=INDEX(MedConf_Header,1,2), NOT(ISBLANK(E29))), EXP(-0.026*(E29-4)), 1)","v":1},{"$f":"IF(AND(F24=INDEX(MedConf_Header,1,2), NOT(ISBLANK(F29))), EXP(-0.026*(F29-4)), 1)","v":1},{"$f":"IF(AND(G24=INDEX(MedConf_Header,1,2), NOT(ISBLANK(G29))), EXP(-0.026*(G29-4)), 1)","v":1},0,{"$f":"IF(AND(I24=INDEX(MedConf_Header,1,2), NOT(ISBLANK(I29))), EXP(-0.026*(I29-4)), 1)","v":0.85555919037101846},null,{"$f":"INDEX($D106:$I106,K$100)","v":1},{"$f":"INDEX($D106:$I106,L$100)","v":1},0,null,0]
[null,null,"HC and Grade",{"$f":"D$138^D$131","v":1},{"$f":"E$138^E$131","v":1},1,1,0,{"$f":"I$138^I$131","v":{"$error":"#VALUE!"}},null,{"$f":"INDEX($D107:$I107,K$100)","v":1},{"$f":"INDEX($D107:$I107,L$100)","v":1},0,null,0]
[null,null,"HC and VC Crest type I",{"$f":"D$139^D$132","v":1},{"$f":"E$139^E$132","v":1},1,1,0,{"$f":"I$139^I$132","v":{"$error":"#VALUE!"}},null,{"$f":"INDEX($D108:$I108,K$100)","v":1},{"$f":"INDEX($D108:$I108,L$100)","v":1},0,null,0]
[null,null,"HC and VC Sag type I",{"$f":"D$140^D$133","v":1},{"$f":"E$140^E$133","v":1},1,1,0,{"$f":"I$140^I$133","v":{"$error":"#VALUE!"}},{"$f":"1-I115/E115","v":{"$error":"#VALUE!"}},{"$f":"INDEX($D109:$I109,K$100)","v":1},{"$f":"INDEX($D109:$I109,L$100)","v":1},0,null,0]
[null,null,"HC and VC Crest type II",{"$f":"D$141^D$134","v":1},{"$f":"E$141^E$134","v":1},1,1,0,{"$f":"I$141^I$134","v":{"$error":"#VALUE!"}},{"$f":"1-I116/E116","v":{"$error":"#VALUE!"}},{"$f":"INDEX($D110:$I110,K$100)","v":1},{"$f":"INDEX($D110:$I110,L$100)","v":1},0,null,0]
[null,null,"HC and VC Sag type II",{"$f":"D$142^D$135","v":1},{"$f":"E$142^E$135","v":1},1,1,0,{"$f":"I$142^I$135","v":{"$error":"#VALUE!"}},{"$f":"1-I117/E117","v":{"$error":"#VALUE!"}},{"$f":"INDEX($D111:$I111,K$100)","v":1},{"$f":"INDEX($D111:$I111,L$100)","v":1},0,null,0]
[null,null,"Add TWLTL",{"$f":"IF(D$47=\"No\",1,CMFs!$F$17)","v":0.71},{"$f":"IF(E$47=\"No\",1,CMFs!$F$17)","v":0.71},{"$f":"IF(F$47=\"No\",1,CMFs!$F$17)","v":0.71},{"$f":"IF(G$47=\"No\",1,CMFs!$F$17)","v":0.71},0,{"$f":"IF(I$47=\"No\",1,CMFs!$F$17)","v":0.71},{"$f":"1-I118/E118","v":{"$error":"#VALUE!"}},{"$f":"INDEX($D112:$I112,K$100)","v":0.71},{"$f":"INDEX($D112:$I112,L$100)","v":0.71},0,null,0]
[null,null,"Provide passing lane",{"$f":"IF(D$48=\"No\",1,CMFs!$F$21)","v":0.75},{"$f":"IF(E$48=\"No\",1,CMFs!$F$21)","v":0.75},{"$f":"IF(F$48=\"No\",1,CMFs!$F$21)","v":0.75},{"$f":"IF(G$48=\"No\",1,CMFs!$F$21)","v":0.75},0,{"$f":"IF(I$48=\"No\",1,CMFs!$F$21)","v":0.75},{"$f":"I119/E119","v":{"$error":"#VALUE!"}},{"$f":"INDEX($D113:$I113,K$100)","v":0.75},{"$f":"INDEX($D113:$I113,L$100)","v":0.75},0,null,0]
[]
[null,null,"COMBINED Calculated CMF",{"$f":"+D104*D105*D106*D107*D108*D109*D110*D111*D112*D113*D103*D102","v":{"$error":"#N/A"}},{"$f":"+E104*E105*E106*E107*E108*E109*E110*E111*E112*E113*E103*E102","v":0.45065475000000005},{"$error":"#N/A"},{"$error":"#N/A"},{"$f":"IF($I$2=\"Existing\",(D115),(IF($I$2=\"Design 1\",(F115),(IF($I$2=\"Design 2\",(G115),(IF($I$2=\"Optimal\",(I115),E115)))))))","v":0.45065475000000005},{"$f":"+I104*I105*I106*I107*I108*I109*I110*I111*I112*I113*I103*I102","v":{"$error":"#VALUE!"}},null,{"$f":"INDEX($D115:$I115,K$100)","v":{"$error":"#N/A"}},{"$f":"INDEX($D115:$I115,L$100)","v":0.45065475000000005},{"$f":"IF(ISERROR(1-L115/K115), 0, 1-L115/K115)","v":0},null,0]
[null,null,"Calculated Relative to Design Standards (Column E)",{"$f":"+D115/$E$115","v":{"$error":"#N/A"}},1,{"$error":"#N/A"},{"$error":"#N/A"},1,{"$error":"#VALUE!"},null,{"$f":"INDEX($D116:$I116,K$100)","v":{"$error":"#N/A"}},{"$f":"INDEX($D116:$I116,L$100)","v":1},0,null,0]
[null,null,"P(Crash)",{"$f":"+D116/(D116+1)","v":{"$error":"#N/A"}},0.5,{"$error":"#N/A"},{"$error":"#N/A"},0.5,{"$error":"#VALUE!"},null,{"$f":"INDEX($D117:$I117,K$100)","v":{"$error":"#N/A"}},{"$f":"INDEX($D117:$I117,L$100)","v":0.5},0,null,0]
[null,null,"Factor Change on S curve",{"$f":"+D117/$E$117","v":{"$error":"#N/A"}},1,{"$error":"#N/A"},{"$error":"#N/A"},1,{"$error":"#VALUE!"},null,{"$f":"INDEX($D118:$I118,K$100)","v":{"$error":"#N/A"}},{"$f":"INDEX($D118:$I118,L$100)","v":1},0,null,0]
[null,null,"Adjust to Scale of 100",{"$f":"+$I$118/D118*100","v":{"$error":"#VALUE!"}},{"$error":"#VALUE!"},{"$error":"#VALUE!"},{"$error":"#VALUE!"},{"$error":"#VALUE!"},{"$error":"#VALUE!"},null,{"$f":"INDEX($D119:$I119,K$100)","v":{"$error":"#VALUE!"}},{"$f":"INDEX($D119:$I119,L$100)","v":{"$error":"#VALUE!"}},0]
[null,null,"Unadjusted Combined Relative to Standard",{"$f":"+D115/$E$115","v":{"$error":"#N/A"}},1,{"$error":"#N/A"},{"$error":"#N/A"},1,{"$error":"#VALUE!"},{"$f":"I126/E126","v":{"$error":"#VALUE!"}},{"$f":"INDEX($D120:$I120,K$100)","v":{"$error":"#N/A"}},{"$f":"INDEX($D120:$I120,L$100)","v":1},0,null,0]
[]
[null,null,"Adjusted for PA Basis",{"$f":"+D115*(1+1)/(1+D115*1)","v":{"$error":"#N/A"}},0.62131220402373488,{"$error":"#N/A"},{"$error":"#N/A"},{"$f":"IF($I$2=\"Existing\",(D122),(IF($I$2=\"Design 1\",(F122),(IF($I$2=\"Design 2\",(G122),(IF($I$2=\"Optimal\",(I122),E122)))))))","v":0.62131220402373488},{"$error":"#VALUE!"},null,{"$f":"INDEX($D122:$I122,K$100)","v":{"$error":"#N/A"}},{"$f":"INDEX($D122:$I122,L$100)","v":0.62131220402373488},{"$f":"IF(ISERROR(1-L122/K122), 0, 1-L122/K122)","v":0},null,0]
[null,null,"Corrected by Odds Ratio",{"$f":"+D122/$E$122","v":{"$error":"#N/A"}},1,{"$error":"#N/A"},{"$error":"#N/A"},{"$f":"IF($I$2=\"Existing\",(D123),(IF($I$2=\"Design 1\",(F123),(IF($I$2=\"Design 2\",(G123),(IF($I$2=\"Optimal\",(I123),E123)))))))","v":1},{"$error":"#VALUE!"},{"$f":"I129/E129","v":{"$error":"#VALUE!"}},{"$f":"INDEX($D123:$I123,K$100)","v":{"$error":"#N/A"}},{"$f":"INDEX($D123:$I123,L$100)","v":1},0,null,0]
[null,null,"Pinned s",{"$f":"(1/D123)^$D127","v":{"$error":"#N/A"}},{"$f":"(1/E123)^$D127","v":{"$error":"#VALUE!"}},{"$error":"#N/A"},{"$f":"IF(ISERROR((1/G123)^$D127), 0, (1/G123)^$D127)","v":0},{"$error":"#VALUE!"},{"$error":"#VALUE!"},null,{"$f":"INDEX($D124:$I124,K$100)","v":{"$error":"#N/A"}},{"$f":"INDEX($D124:$I124,L$100)","v":{"$error":"#VALUE!"}},0,null,0]
[null,null,null,{"$f":"(D124+$F128-1)/(1+(D124+$F128-1))","v":{"$error":"#N/A"}},{"$f":"(E124+$F128-1)/(1+(E124+$F128-1))","v":{"$error":"#VALUE!"}},{"$error":"#N/A"},0.57142857142857151,{"$error":"#VALUE!"},{"$error":"#VALUE!"},null,{"$f":"INDEX($D125:$I125,K$100)","v":{"$error":"#N/A"}},{"$f":"INDEX($D125:$I125,L$100)","v":{"$error":"#VALUE!"}},0,null,0]
[null,null,"Score Odds Ratio with Optimal (old)",{"$f":"MIN(ROUND($I$123/D123*Construction!$I$2,0),$I126)","v":{"$error":"#VALUE!"}},{"$f":"MIN(ROUND($I$123/E123*Construction!$I$2,0),$I126)","v":{"$error":"#VALUE!"}},{"$f":"MIN(ROUND($I$123/F123*Construction!$I$2,0),$I126)","v":{"$error":"#VALUE!"}},{"$f":"MIN(ROUND($I$123/G123*Construction!$I$2,0),$I126)","v":{"$error":"#VALUE!"}},{"$f":"IF($I$2=\"Existing\",(D126),(IF($I$2=\"Design 1\",(F126),(IF($I$2=\"Design 2\",(G126),(IF($I$2=\"Optimal\",(I126),E126)))))))","v":{"$error":"#VALUE!"}},{"$f":"ROUND($I$123/I123*Construction!$I$2,0)","v":{"$error":"#VALUE!"}}]
[null,null,"Logistic1",{"$f":"LN((D128/(1-D128))/(0.5/0.5))/LN(IF($E123/I123=1,0.999,$E123/I123))","v":{"$error":"#VALUE!"}}]
[null,null,"Logistic Param",0.999,null,{"$f":"0.7/0.3","v":2.3333333333333335}]
[null,null,"Score ",{"$f":"MIN(ROUND(D125*Construction!$I$2,0),$I126)","v":{"$error":"#N/A"}},{"$f":"MIN(ROUND(E125*Construction!$I$2,0),$I126)","v":{"$error":"#VALUE!"}},{"$f":"MIN(ROUND(F125*Construction!$I$2,0),$I126)","v":{"$error":"#N/A"}},{"$f":"MIN(ROUND(G125*Construction!$I$2,0),$I126)","v":{"$error":"#VALUE!"}},{"$f":"MIN(ROUND(H125*Construction!$I$2,0),$I126)","v":{"$error":"#VALUE!"}},{"$f":"MIN(ROUND(I125*Construction!$I$2,0),$I126)","v":{"$error":"#VALUE!"}}]
[]
[null,null,"HC and Grade",{"$f":"IF($B$139,0,1)","v":1},{"$f":"IF($B$139,0,1)","v":1},1,1,{"$f":"IF($I$2=\"Existing\",(D131),(IF($I$2=\"Design 1\",(F131),(IF($I$2=\"Design 2\",(G131),(IF($I$2=\"Optimal\",(I131),E131)))))))","v":1},{"$f":"IF($B$139,0,1)","v":1}]
["HC?",null,"HC and VC Crest type I",{"$f":"IF(AND($B$139=1,SIGN(D$40)=1,ABS(D$40)<=ABS(D$40-D$41),D$46=\"Crest\"),1,0)","v":0},{"$f":"IF(AND($B$139=1,SIGN(IF(ISNUMBER(E$40),E$40,0))=1,\n  ABS(IF(ISNUMBER(E$40),E$40,0))<=ABS(IF(ISNUMBER(E$40),E$40,0)-IF(ISNUMBER(E$41),E$41,0)),E$46=\"Crest\"),\n  1,0)","v":0},{"$f":"IF(AND($B$139=1,SIGN(F$40)=1,ABS(F$40)<=ABS(F$40-F$41),F$46=\"Crest\"),1,0)","v":0},{"$f":"IF(AND($B$139=1,SIGN(G$40)=1,ABS(G$40)<=ABS(G$40-G$41),G$46=\"Crest\"),1,0)","v":0},{"$f":"IF($I$2=\"Existing\",(D132),(IF($I$2=\"Design 1\",(F132),(IF($I$2=\"Design 2\",(G132),(IF($I$2=\"Optimal\",(I132),E132)))))))","v":0},{"$f":"IF(AND($B$138=1,SIGN(I$40)=1,ABS(I$40)<=ABS(I$40-IF(ISNUMBER(I$41), I$41,0)),I$46=\"Crest\"),1,0)","v":{"$error":"#VALUE!"}},null,{"$f":"INDEX($D132:$I132,K$100)","v":0},{"$f":"INDEX($D132:$I132,L$100)","v":0},{"$f":"IF(ISERROR(1-L132/K132), 0, 1-L132/K132)","v":0}]
["VC?",null,"HC and VC Sag type I",{"$f":"IF(AND($B$139=1,SIGN(D$40)=1,ABS(D$40)<=ABS(D$40-D$41),D$46=\"Sag\"),1,0)","v":0},{"$f":"IF(AND($B$139=1,SIGN(IF(ISNUMBER(E$40),E$40,0))=1,\n  ABS(IF(ISNUMBER(E$40),E$40,0))<=ABS(IF(ISNUMBER(E$40),E$40,0)-IF(ISNUMBER(E$41),E$41,0)),E$46=\"Sag\"),\n  1,0)","v":0},{"$f":"IF(AND($B$139=1,SIGN(F$40)=1,ABS(F$40)<=ABS(F$40-F$41),F$46=\"Sag\"),1,0)","v":0},{"$f":"IF(AND($B$139=1,SIGN(G$40)=1,ABS(G$40)<=ABS(G$40-G$41),G$46=\"Sag\"),1,0)","v":0},{"$f":"IF($I$2=\"Existing\",(D133),(IF($I$2=\"Design 1\",(F133),(IF($I$2=\"Design 2\",(G133),(IF($I$2=\"Optimal\",(I133),E133)))))))","v":0},{"$f":"IF(AND($B$138=1,SIGN(I$40)=1,ABS(I$40)<=ABS(I$40-IF(ISNUMBER(I$41), I$41,0)),I$46=\"Sag\"),1,0)","v":{"$error":"#VALUE!"}},null,{"$f":"INDEX($D133:$I133,K$100)","v":0},{"$f":"INDEX($D133:$I133,L$100)","v":0},0]
[null,null,"HC and VC Crest type II",{"$f":"IF(AND($B$139=1,D$46=\"Crest\",D$132=0),1,0)","v":0},{"$f":"IF(AND($B$139=1,E$46=\"Crest\",E$132=0),1,0)","v":0},{"$f":"IF(AND($B$139=1,F$46=\"Crest\",F$132=0),1,0)","v":0},{"$f":"IF(AND($B$139=1,G$46=\"Crest\",G$132=0),1,0)","v":0},{"$f":"IF($I$2=\"Existing\",(D134),(IF($I$2=\"Design 1\",(F134),(IF($I$2=\"Design 2\",(G134),(IF($I$2=\"Optimal\",(I134),E134)))))))","v":0},{"$f":"IF(AND($B$139=1,I$46=\"Crest\",I$132=0),1,0)","v":{"$error":"#VALUE!"}},null,{"$f":"INDEX($D134:$I134,K$100)","v":0},{"$f":"INDEX($D134:$I134,L$100)","v":0},0]
[null,null,"HC and VC Sag type II",{"$f":"IF(AND($B$139=1,D$46=\"Sag\",D$133=0),1,0)","v":0},{"$f":"IF(AND($B$139=1,E$46=\"Sag\",E$133=0),1,0)","v":0},{"$f":"IF(AND($B$139=1,F$46=\"Sag\",F$133=0),1,0)","v":0},{"$f":"IF(AND($B$139=1,G$46=\"Sag\",G$133=0),1,0)","v":0},{"$f":"IF($I$2=\"Existing\",(D135),(IF($I$2=\"Design 1\",(F135),(IF($I$2=\"Design 2\",(G135),(IF($I$2=\"Optimal\",(I135),E135)))))))","v":0},{"$f":"IF(AND($B$139=1,I$46=\"Sag\",I$133=0),1,0)","v":{"$error":"#VALUE!"}},null,{"$f":"INDEX($D135:$I135,K$100)","v":0},{"$f":"INDEX($D135:$I135,L$100)","v":0},0]
[null,"Yes/No"]
[null,null,"HC and VC:"]
[null,{"$f":"IF(B31=\"Yes\",1,0)","v":0},"HC and Grade",{"$f":"IF($B$139=0,\n  EXP(0.042*ABS(D$40)\n    +$B$138*0.16*LN(2*5730/IF(ISNUMBER(D$33),D$33,1))*$B$138\n    +4.16*$B$138/IF(ISNUMBER(D$33),D$33,1)/IF( AND(ISNUMBER(D$34),D$34<>0),D$34,1)),\n  1)","v":1},{"$f":"IF($B$139=0,\n  EXP(0.042*ABS(D$40)\n    +$B$138*0.16*LN(2*5730/IF(ISNUMBER(E$33),E$33,1))*$B$138\n    +4.16*$B$138/IF(ISNUMBER(E$33),E$33,1)/IF( AND(ISNUMBER(E$34),E$34<>0),E$34,1)),\n  1)","v":1},{"$f":"IF($B$139=0,\n  EXP(0.042*ABS(F$40)\n    +$B$138*0.16*LN(2*5730/IF(ISNUMBER(F$33),F$33,1))*$B$138\n    +4.16*$B$138/IF(ISNUMBER(F$33),F$33,1)/IF( AND(ISNUMBER(F$34),F$34<>0),F$34,1)),\n  1)","v":1},{"$f":"IF($B$139=0,\n  EXP(0.042*ABS(G$40)\n    +$B$138*0.16*LN(2*5730/IF(ISNUMBER(G$33),G$33,1))*$B$138\n    +4.16*$B$138/IF(ISNUMBER(G$33),G$33,1)/IF( AND(ISNUMBER(G$34),G$34<>0),G$34,1)),\n  1)","v":1},null,{"$f":"IF($B$139=0,\n  EXP(0.042*ABS(I$40)\n    +$B$138*0.16*LN(2*5730/IF(ISNUMBER(I$33),I$33,1))*$B$138\n    +4.16*$B$138/IF(ISNUMBER(I$33),I$33,1)/IF( AND(ISNUMBER(I$34),I$34<>0),I$34,1)),\n  1)","v":{"$error":"#VALUE!"}},null,{"$f":"INDEX($D138:$I138,K$100)","v":1},{"$f":"INDEX($D138:$I138,L$100)","v":1},{"$f":"IF(ISERROR(1-L138/K138), 0, 1-L138/K138)","v":0},null,0]
[null,{"$f":"IF(B38=\"Yes\",1,0)","v":0},"HC and VC Crest type I",{"$f":"IF($B$139=0,1,EXP(0.005648908*5730*ABS(+D$40-D$41)*$B$139/D$145*$B$138))","v":1},{"$f":"IF($B$139=0,1,EXP(0.005648908*5730*ABS(+E$40-E$41)*$B$139/E$145*$B$138))","v":1},1,1,{"$f":"IF($I$2=\"Existing\",(D139),(IF($I$2=\"Design 1\",(F139),(IF($I$2=\"Design 2\",(G139),(IF($I$2=\"Optimal\",(I139),E139)))))))","v":1},1,null,{"$f":"INDEX($D139:$I139,K$100)","v":1},{"$f":"INDEX($D139:$I139,L$100)","v":1},0,null,0]
[null,null,"HC and VC Sag type I",{"$f":"IF($B$139=0,1,EXP(9.15857042*$B$139/D$146+0.010284958*5730*$B$139*$B$138*ABS(+D$40-D$41)/D$145))","v":1},{"$f":"IF($B$139=0,1,EXP(9.15857042*$B$139/E$146+0.010284958*5730*$B$139*$B$138*ABS(+E$40-E$41)/E$145))","v":1},1,1,{"$f":"IF($I$2=\"Existing\",(D140),(IF($I$2=\"Design 1\",(F140),(IF($I$2=\"Design 2\",(G140),(IF($I$2=\"Optimal\",(I140),E140)))))))","v":1},1,null,{"$f":"INDEX($D140:$I140,K$100)","v":1},{"$f":"INDEX($D140:$I140,L$100)","v":1},0,null,0]
[null,null,"HC and VC Crest type II",{"$f":"IF($B$139=0,1,EXP(0.005648908*5730*ABS(+D$40-D$41)*$B$139/D$145*$B$138))","v":1},{"$f":"IF($B$139=0,1,EXP(0.005648908*5730*ABS(+E$40-E$41)*$B$139/E$145*$B$138))","v":1},1,1,{"$f":"IF($I$2=\"Existing\",(D141),(IF($I$2=\"Design 1\",(F141),(IF($I$2=\"Design 2\",(G141),(IF($I$2=\"Optimal\",(I141),E141)))))))","v":1},1,null,{"$f":"INDEX($D141:$I141,K$100)","v":1},{"$f":"INDEX($D141:$I141,L$100)","v":1},0,null,0]
[null,null,"HC and VC Sag type II",{"$f":"IF($B$139=0,1,(0.246011284*EXP(LN(0.188*2*5730/D$145)*$B$138)+0.753988716*EXP(0.022*5730/D$145*ABS(D$40-D$41)*$B$139*$B$138)))","v":1},{"$f":"IF($B$139=0,1,(0.246011284*EXP(LN(0.188*2*5730/E$145)*$B$138)+0.753988716*EXP(0.022*5730/E$145*ABS(E$40-E$41)*$B$139*$B$138)))","v":1},1,1,{"$f":"IF($I$2=\"Existing\",(D142),(IF($I$2=\"Design 1\",(F142),(IF($I$2=\"Design 2\",(G142),(IF($I$2=\"Optimal\",(I142),E142)))))))","v":1},1,null,{"$f":"INDEX($D142:$I142,K$100)","v":1},{"$f":"INDEX($D142:$I142,L$100)","v":1},0,null,0]
[]
[null,null,"Combined HZ and VT",{"$f":"MMULT(TRANSPOSE(D131:D135),D138:D142)","v":1},{"$f":"MMULT(TRANSPOSE(E131:E135),E138:E142)","v":1},{"$f":"MMULT(TRANSPOSE(F131:F135),F138:F142)","v":1},{"$f":"MMULT(TRANSPOSE(G131:G135),G138:G142)","v":1},{"$f":"IF($I$2=\"Existing\",(D144),(IF($I$2=\"Design 1\",(F144),(IF($I$2=\"Design 2\",(G144),(IF($I$2=\"Optimal\",(I144),E144)))))))","v":1},{"$f":"MMULT(TRANSPOSE(I131:I135),I138:I142)","v":{"$error":"#VALUE!"}},null,{"$f":"INDEX($D144:$I144,K$100)","v":1},{"$f":"INDEX($D144:$I144,L$100)","v":1},{"$f":"IF(ISERROR(1-L144/K144), 0, 1-L144/K144)","v":0},null,0]
[null,null,"effective R for calculation",{"$f":"IF(ISNUMBER(D33), D33, 99999999)","v":99999999},{"$f":"IF(ISNUMBER(E33), E33, 99999999)","v":590},99999999,99999999,null,590]
[null,null,"effective K for calculation",{"$f":"IF(ISNUMBER(D43), D43, 99999999)","v":99999999},{"$f":"IF(ISNUMBER(E43), E43, 99999999)","v":99999999},99999999,99999999,null,99999999]
[null,"Traffic"]
[null,null,null,"Existing","Standard","Design 1","Design 2"]
[null,null,"Advance static curve warning signs",{"$f":"IF(D24=INDEX(MedConf_Header,1,2),IF(AND($B$31=\"Yes\",D$56=\"Yes\"),(Traffic!$F$4-1)*AVERAGE(Constraints!$F$24,Constraints!$H$24)/Constraints!$D$24+1,1),(IF(AND($B$31=\"Yes\",D$56=\"Yes\"),(Traffic!$F$4-1)*AVERAGE(Constraints!$F$38,Constraints!$H$38)/Constraints!$D$38+1,1)))","v":1},{"$f":"IF(AND($B$31=\"Yes\",E$56=\"Yes\"),(Traffic!$F$4-1)*AVERAGE(Constraints!$F$24,Constraints!$H$24)/Constraints!$D$24+1,1)","v":1},{"$f":"IF(F24=INDEX(MedConf_Header,1,2),IF(AND($B$31=\"Yes\",F$56=\"Yes\"),(Traffic!$F$4-1)*AVERAGE(Constraints!$F$24,Constraints!$H$24)/Constraints!$D$24+1,1),(IF(AND($B$31=\"Yes\",F$56=\"Yes\"),(Traffic!$F$4-1)*AVERAGE(Constraints!$F$38,Constraints!$H$38)/Constraints!$D$38+1,1)))","v":1},{"$f":"IF(G24=INDEX(MedConf_Header,1,2),IF(AND($B$31=\"Yes\",G$56=\"Yes\"),(Traffic!$F$4-1)*AVERAGE(Constraints!$F$24,Constraints!$H$24)/Constraints!$D$24+1,1),(IF(AND($B$31=\"Yes\",G$56=\"Yes\"),(Traffic!$F$4-1)*AVERAGE(Constraints!$F$38,Constraints!$H$38)/Constraints!$D$38+1,1)))","v":1},{"$f":"IF($I$2=\"Existing\",(D149),(IF($I$2=\"Design 1\",(F149),(IF($I$2=\"Design 2\",(G149),(IF($I$2=\"Optimal\",(I149),E149)))))))","v":1},{"$f":"IF(AND($B$31=\"Yes\",I$56=\"Yes\"),(Traffic!$F$4-1)*AVERAGE(Constraints!$F$24,Constraints!$H$24)/Constraints!$D$24+1,1)","v":1},null,{"$f":"INDEX($D149:$I149,K$100)","v":1},{"$f":"INDEX($D149:$I149,L$100)","v":1},{"$f":"IF(ISERROR(1-L149/K149), 0, 1-L149/K149)","v":0},null,0]
[null,null,"Install chevron signs on horizontal curves",{"$f":"IF(D24=INDEX(MedConf_Header,1,2),(IF(D$57=\"No\",1,(IF(AND($B$31=\"Yes\",D$27<11.5),((Traffic!$F$6-1)*(Constraints!$E$18+Constraints!$E$22))+1,1)))),(IF(D$57=\"No\",1,(IF(AND($B$31=\"Yes\",D$27<11.5),((Traffic!$F$6-1)*(Constraints!$E$32+Constraints!$E$36))+1,1)))))","v":1},{"$f":"IF(E$57=\"No\",1,(IF(AND($B$31=\"Yes\",E$27<11.5),((Traffic!$F$6-1)*(Constraints!$E$18+Constraints!$E$22))+1,1)))","v":1},{"$f":"IF(F24=INDEX(MedConf_Header,1,2),(IF(F$57=\"No\",1,(IF(AND($B$31=\"Yes\",F$27<11.5),((Traffic!$F$6-1)*(Constraints!$E$18+Constraints!$E$22))+1,1)))),(IF(F$57=\"No\",1,(IF(AND($B$31=\"Yes\",F$27<11.5),((Traffic!$F$6-1)*(Constraints!$E$32+Constraints!$E$36))+1,1)))))","v":1},{"$f":"IF(G24=INDEX(MedConf_Header,1,2),(IF(G$57=\"No\",1,(IF(AND($B$31=\"Yes\",G$27<11.5),((Traffic!$F$6-1)*(Constraints!$E$18+Constraints!$E$22))+1,1)))),(IF(G$57=\"No\",1,(IF(AND($B$31=\"Yes\",G$27<11.5),((Traffic!$F$6-1)*(Constraints!$E$32+Constraints!$E$36))+1,1)))))","v":1},{"$f":"IF($I$2=\"Existing\",(D150),(IF($I$2=\"Design 1\",(F150),(IF($I$2=\"Design 2\",(G150),(IF($I$2=\"Optimal\",(I150),E150)))))))","v":1},{"$f":"IF(I$57=\"No\",1,(IF(AND($B$31=\"Yes\",I$27<11.5),((Traffic!$F$6-1)*(Constraints!$E$18+Constraints!$E$22))+1,1)))","v":1},null,{"$f":"INDEX($D150:$I150,K$100)","v":1},{"$f":"INDEX($D150:$I150,L$100)","v":1},0,null,0]
[null,null,"Install post-mounted delineators",{"$f":"IF(D24=INDEX(MedConf_Header,1,2),IF(AND($B$31=\"Yes\",D$58=\"Yes\"),(Traffic!$F$12-1)*Constraints!$E$17+1,1),(IF(AND($B$31=\"Yes\",D$58=\"Yes\"),(Traffic!$F$12-1)*Constraints!$E$31+1,1)))","v":1},{"$f":"IF(AND($B$31=\"Yes\",E$58=\"Yes\"),(Traffic!$F$12-1)*Constraints!$E$17+1,1)","v":1},{"$f":"IF(F24=INDEX(MedConf_Header,1,2),IF(AND($B$31=\"Yes\",F$58=\"Yes\"),(Traffic!$F$12-1)*Constraints!$E$17+1,1),(IF(AND($B$31=\"Yes\",F$58=\"Yes\"),(Traffic!$F$12-1)*Constraints!$E$31+1,1)))","v":1},{"$f":"IF(G24=INDEX(MedConf_Header,1,2),IF(AND($B$31=\"Yes\",G$58=\"Yes\"),(Traffic!$F$12-1)*Constraints!$E$17+1,1),(IF(AND($B$31=\"Yes\",G$58=\"Yes\"),(Traffic!$F$12-1)*Constraints!$E$31+1,1)))","v":1},{"$f":"IF($I$2=\"Existing\",(D151),(IF($I$2=\"Design 1\",(F151),(IF($I$2=\"Design 2\",(G151),(IF($I$2=\"Optimal\",(I151),E151)))))))","v":1},{"$f":"IF(AND($B$31=\"Yes\",I$58=\"Yes\"),(Traffic!$F$12-1)*Constraints!$E$17+1,1)","v":1},null,{"$f":"INDEX($D151:$I151,K$100)","v":1},{"$f":"INDEX($D151:$I151,L$100)","v":1},0,null,0]
[null,null,"Install edgeline  or Profile pavement markings ",{"$f":"IF(D24=INDEX(MedConf_Header,1,2),(IF(D$59=\"Yes\",Traffic!$F$18*0.5+((Traffic!$F$20*(Constraints!$H$17+Constraints!$H$20+Constraints!$H$21)+1*(Constraints!$H$24-(Constraints!$H$17+Constraints!$H$20+Constraints!$H$21)))/Constraints!$H$24)*0.5,1)),(IF(D$59=\"Yes\",Traffic!$F$18*0.5+((Traffic!$F$20*(Constraints!$H$31+Constraints!$H$34+Constraints!$H$35)+1*(Constraints!$H$38-(Constraints!$H$31+Constraints!$H$34+Constraints!$H$35)))/Constraints!$H$38)*0.5,1)))","v":1},{"$f":"IF(E24=INDEX(MedConf_Header,1,2),(IF(E$59=\"Yes\",Traffic!$F$18*0.5+((Traffic!$F$20*(Constraints!$H$17+Constraints!$H$20+Constraints!$H$21)+1*(Constraints!$H$24-(Constraints!$H$17+Constraints!$H$20+Constraints!$H$21)))/Constraints!$H$24)*0.5,1)),(IF(E$59=\"Yes\",Traffic!$F$18*0.5+((Traffic!$F$20*(Constraints!$H$31+Constraints!$H$34+Constraints!$H$35)+1*(Constraints!$H$38-(Constraints!$H$31+Constraints!$H$34+Constraints!$H$35)))/Constraints!$H$38)*0.5,1)))","v":1},{"$f":"IF(F24=INDEX(MedConf_Header,1,2),(IF(F$59=\"Yes\",Traffic!$F$18*0.5+((Traffic!$F$20*(Constraints!$H$17+Constraints!$H$20+Constraints!$H$21)+1*(Constraints!$H$24-(Constraints!$H$17+Constraints!$H$20+Constraints!$H$21)))/Constraints!$H$24)*0.5,1)),(IF(F$59=\"Yes\",Traffic!$F$18*0.5+((Traffic!$F$20*(Constraints!$H$31+Constraints!$H$34+Constraints!$H$35)+1*(Constraints!$H$38-(Constraints!$H$31+Constraints!$H$34+Constraints!$H$35)))/Constraints!$H$38)*0.5,1)))","v":1},{"$f":"IF(G24=INDEX(MedConf_Header,1,2),(IF(G$59=\"Yes\",Traffic!$F$18*0.5+((Traffic!$F$20*(Constraints!$H$17+Constraints!$H$20+Constraints!$H$21)+1*(Constraints!$H$24-(Constraints!$H$17+Constraints!$H$20+Constraints!$H$21)))/Constraints!$H$24)*0.5,1)),(IF(G$59=\"Yes\",Traffic!$F$18*0.5+((Traffic!$F$20*(Constraints!$H$31+Constraints!$H$34+Constraints!$H$35)+1*(Constraints!$H$38-(Constraints!$H$31+Constraints!$H$34+Constraints!$H$35)))/Constraints!$H$38)*0.5,1)))","v":1},{"$f":"IF($I$2=\"Existing\",(D152),(IF($I$2=\"Design 1\",(F152),(IF($I$2=\"Design 2\",(G152),(IF($I$2=\"Optimal\",(I152),E152)))))))","v":1},{"$f":"IF(I24=INDEX(MedConf_Header,1,2),(IF(I$59=\"Yes\",Traffic!$F$18*0.5+((Traffic!$F$20*(Constraints!$H$17+Constraints!$H$20+Constraints!$H$21)+1*(Constraints!$H$24-(Constraints!$H$17+Constraints!$H$20+Constraints!$H$21)))/Constraints!$H$24)*0.5,1)),(IF(I$59=\"Yes\",Traffic!$F$18*0.5+((Traffic!$F$20*(Constraints!$H$31+Constraints!$H$34+Constraints!$H$35)+1*(Constraints!$H$38-(Constraints!$H$31+Constraints!$H$34+Constraints!$H$35)))/Constraints!$H$38)*0.5,1)))","v":0.87439641434262949},null,{"$f":"INDEX($D152:$I152,K$100)","v":1},{"$f":"INDEX($D152:$I152,L$100)","v":1},0,null,0.13824118691351761]
[null,null,"Profiles",1,1,1,1,1,1,null,{"$f":"INDEX($D153:$I153,K$100)","v":1},{"$f":"INDEX($D153:$I153,L$100)","v":1},0,null,0]
[null,null,"Shoulder rumble strips",{"$f":"IF(D24=INDEX(MedConf_Header,1,2),(IF(D$60=\"No\",1,(Traffic!$F$27*(Constraints!$H$17+Constraints!$H$20+Constraints!$H$21)+1*(Constraints!$H$24-(Constraints!$H$17+Constraints!$H$20+Constraints!$H$21)))/Constraints!$H$24)),(IF(D$60=\"No\",1,(Traffic!$F$27*(Constraints!$H$31+Constraints!$H$34+Constraints!$H$35)+1*(Constraints!$H$38-(Constraints!$H$31+Constraints!$H$34+Constraints!$H$35)))/Constraints!$H$38)))","v":0.93956289460903353},{"$f":"IF(E$60=\"No\",1,(Traffic!$F$27*(Constraints!$H$17+Constraints!$H$20+Constraints!$H$21)+1*(Constraints!$H$24-(Constraints!$H$17+Constraints!$H$20+Constraints!$H$21)))/Constraints!$H$24)","v":0.91807038512616201},{"$f":"IF(F24=INDEX(MedConf_Header,1,2),(IF(F$60=\"No\",1,(Traffic!$F$27*(Constraints!$H$17+Constraints!$H$20+Constraints!$H$21)+1*(Constraints!$H$24-(Constraints!$H$17+Constraints!$H$20+Constraints!$H$21)))/Constraints!$H$24)),(IF(F$60=\"No\",1,(Traffic!$F$27*(Constraints!$H$31+Constraints!$H$34+Constraints!$H$35)+1*(Constraints!$H$38-(Constraints!$H$31+Constraints!$H$34+Constraints!$H$35)))/Constraints!$H$38)))","v":0.93956289460903353},{"$f":"IF(G24=INDEX(MedConf_Header,1,2),(IF(G$60=\"No\",1,(Traffic!$F$27*(Constraints!$H$17+Constraints!$H$20+Constraints!$H$21)+1*(Constraints!$H$24-(Constraints!$H$17+Constraints!$H$20+Constraints!$H$21)))/Constraints!$H$24)),(IF(G$60=\"No\",1,(Traffic!$F$27*(Constraints!$H$31+Constraints!$H$34+Constraints!$H$35)+1*(Constraints!$H$38-(Constraints!$H$31+Constraints!$H$34+Constraints!$H$35)))/Constraints!$H$38)))","v":0.93956289460903353},{"$f":"IF($I$2=\"Existing\",(D154),(IF($I$2=\"Design 1\",(F154),(IF($I$2=\"Design 2\",(G154),(IF($I$2=\"Optimal\",(I154),E154)))))))","v":0.91807038512616201},{"$f":"IF(I$60=\"No\",1,(Traffic!$F$27*(Constraints!$H$17+Constraints!$H$20+Constraints!$H$21)+1*(Constraints!$H$24-(Constraints!$H$17+Constraints!$H$20+Constraints!$H$21)))/Constraints!$H$24)","v":0.91807038512616201},null,{"$f":"INDEX($D154:$I154,K$100)","v":0.93956289460903353},{"$f":"INDEX($D154:$I154,L$100)","v":0.91807038512616201},2.2875008800570917E-2,null,0]
[null,null,"Install centerline rumble strips",{"$f":"IF(D24=INDEX(MedConf_Header,1,3),(IF(D$61=\"No\",1,(Traffic!$E$81*(Constraints!$H$31+Constraints!$H$34+Constraints!$H$35)+1*(Constraints!$H$38-(Constraints!$H$31+Constraints!$H$34+Constraints!$H$35)))/Constraints!$H$38)+0.001),1)","v":1},{"$f":"IF(E24=INDEX(MedConf_Header,1,3),(IF(E$61=\"No\",1,(Traffic!$E$81*(Constraints!$H$31+Constraints!$H$34+Constraints!$H$35)+1*(Constraints!$H$38-(Constraints!$H$31+Constraints!$H$34+Constraints!$H$35)))/Constraints!$H$38)+0.001),1)","v":1},{"$f":"IF(F24=INDEX(MedConf_Header,1,3),(IF(F$61=\"No\",1,(Traffic!$E$81*(Constraints!$H$31+Constraints!$H$34+Constraints!$H$35)+1*(Constraints!$H$38-(Constraints!$H$31+Constraints!$H$34+Constraints!$H$35)))/Constraints!$H$38)+0.001),1)","v":1},{"$f":"IF(G24=INDEX(MedConf_Header,1,3),(IF(G$61=\"No\",1,(Traffic!$E$81*(Constraints!$H$31+Constraints!$H$34+Constraints!$H$35)+1*(Constraints!$H$38-(Constraints!$H$31+Constraints!$H$34+Constraints!$H$35)))/Constraints!$H$38)+0.001),1)","v":1},{"$f":"IF($I$2=\"Existing\",(D155),(IF($I$2=\"Design 1\",(F155),(IF($I$2=\"Design 2\",(G155),(IF($I$2=\"Optimal\",(I155),E155)))))))","v":1},{"$f":"IF(I24=INDEX(MedConf_Header,1,3),(IF(I$61=\"No\",1,(Traffic!$E$81*(Constraints!$H$31+Constraints!$H$34+Constraints!$H$35)+1*(Constraints!$H$38-(Constraints!$H$31+Constraints!$H$34+Constraints!$H$35)))/Constraints!$H$38)+0.001),1)","v":1},null,{"$f":"INDEX($D155:$I155,K$100)","v":1},{"$f":"INDEX($D155:$I155,L$100)","v":1},0,null,-0.16279069767441867]
[null,null,"Driveway Density (driveways per mile)",{"$f":"EXP(-LN(Traffic!$F$31)*(D$62-$E$62))","v":0.81707280688754669},{"$f":"EXP(-LN(Traffic!$F$31)*(E$62-$E$62))","v":1},{"$f":"EXP(-LN(Traffic!$F$31)*(F$62-$E$62))","v":0.81707280688754669},{"$f":"EXP(-LN(Traffic!$F$31)*(G$62-$E$62))","v":0.81707280688754669},{"$f":"IF($I$2=\"Existing\",(D156),(IF($I$2=\"Design 1\",(F156),(IF($I$2=\"Design 2\",(G156),(IF($I$2=\"Optimal\",(I156),E156)))))))","v":1},{"$f":"EXP(-LN(Traffic!$F$31)*(I$62-$E$62))","v":0.81707280688754669},null,{"$f":"INDEX($D156:$I156,K$100)","v":0.81707280688754669},{"$f":"INDEX($D156:$I156,L$100)","v":1},-0.22388114201141129,null,-0.22388114201141129]
[null,null,"Install lighting",{"$f":"IF(D24=INDEX(MedConf_Header,1,2),(IF(D$63=\"No\",1,1-(((1-Traffic!$F$54*Constraints!$H$24-Constraints!$F$24/3)+((1-Traffic!$F$54*Constraints!$D$24-Constraints!$H$24)))*$S$19+((1-Traffic!$F$56)*Constraints!$F$24/3))/Constraints!$D$24)),(IF(D$63=\"No\",1,1-(((1-Traffic!$F$54*Constraints!$H$38-Constraints!$F$38/3)+((1-Traffic!$F$54*Constraints!$D$38-Constraints!$H$38)))*$S$19+((1-Traffic!$F$56)*Constraints!$F$38/3))/Constraints!$D$38)))","v":0.98319080068143105},{"$f":"IF(E$63=\"No\",1,1-(((1-Traffic!$F$54*Constraints!$H$24-Constraints!$F$24/3)+((1-Traffic!$F$54*Constraints!$D$24-Constraints!$H$24)))*$S$19+((1-Traffic!$F$56)*Constraints!$F$24/3))/Constraints!$D$24)","v":1},{"$f":"IF(F24=INDEX(MedConf_Header,1,2),(IF(F$63=\"No\",1,1-(((1-Traffic!$F$54*Constraints!$H$24-Constraints!$F$24/3)+((1-Traffic!$F$54*Constraints!$D$24-Constraints!$H$24)))*$S$19+((1-Traffic!$F$56)*Constraints!$F$24/3))/Constraints!$D$24)),(IF(F$63=\"No\",1,1-(((1-Traffic!$F$54*Constraints!$H$38-Constraints!$F$38/3)+((1-Traffic!$F$54*Constraints!$D$38-Constraints!$H$38)))*$S$19+((1-Traffic!$F$56)*Constraints!$F$38/3))/Constraints!$D$38)))","v":0.98319080068143105},{"$f":"IF(G24=INDEX(MedConf_Header,1,2),(IF(G$63=\"No\",1,1-(((1-Traffic!$F$54*Constraints!$H$24-Constraints!$F$24/3)+((1-Traffic!$F$54*Constraints!$D$24-Constraints!$H$24)))*$S$19+((1-Traffic!$F$56)*Constraints!$F$24/3))/Constraints!$D$24)),(IF(G$63=\"No\",1,1-(((1-Traffic!$F$54*Constraints!$H$38-Constraints!$F$38/3)+((1-Traffic!$F$54*Constraints!$D$38-Constraints!$H$38)))*$S$19+((1-Traffic!$F$56)*Constraints!$F$38/3))/Constraints!$D$38)))","v":0.98319080068143105},{"$f":"IF($I$2=\"Existing\",(D157),(IF($I$2=\"Design 1\",(F157),(IF($I$2=\"Design 2\",(G157),(IF($I$2=\"Optimal\",(I157),E157)))))))","v":1},{"$f":"IF(I$63=\"No\",1,1-(((1-Traffic!$F$54*Constraints!$H$24-Constraints!$F$24/3)+((1-Traffic!$F$54*Constraints!$D$24-Constraints!$H$24)))*$S$19+((1-Traffic!$F$56)*Constraints!$F$24/3))/Constraints!$D$24)","v":0.98062689234129152},null,{"$f":"INDEX($D157:$I157,K$100)","v":0.98319080068143105},{"$f":"INDEX($D157:$I157,L$100)","v":1},-1.7096579124742384E-2,null,-2.3499081529478438E-2]
[null,null,"Pavement friction (skid number)",{"$f":"EXP(LN(Traffic!$F$48)*(D$64-$E$64))","v":1.3972521419325798},{"$f":"EXP(LN(Traffic!$F$48)*(E$64-$E$64))","v":1},{"$f":"IF(MATCH(F64,SkidNums,0)=3, $D158,EXP(LN([5]Traffic!$F$49)*(RIGHT(F$64,2)-$E$64)))","v":{"$error":"#N/A"}},{"$f":"IF(MATCH(G64,SkidNums,0)=3, $D158,EXP(LN([5]Traffic!$F$49)*(RIGHT(G$64,2)-$E$64)))","v":{"$error":"#N/A"}},{"$f":"IF($I$2=\"Existing\",(D158),(IF($I$2=\"Design 1\",(F158),(IF($I$2=\"Design 2\",(G158),(IF($I$2=\"Optimal\",(I158),E158)))))))","v":1},{"$f":"EXP(LN(Traffic!$F$48)*(I$64-$E$64))","v":0.85753553626991963},null,{"$f":"INDEX($D158:$I158,K$100)","v":1.3972521419325798},{"$f":"INDEX($D158:$I158,L$100)","v":1},0.28430956017940245,null,0]
[]
[]
[null,null,"COMBINED Calculated CMF",{"$f":"+D149*D150*D151*D152*D153*D154*D155*D156*D157*D158","v":1.0546277742651902},{"$f":"+E149*E150*E151*E152*E153*E154*E155*E156*E157*E158","v":0.91807038512616201},{"$error":"#N/A"},{"$error":"#N/A"},{"$f":"IF($I$2=\"Existing\",(D161),(IF($I$2=\"Design 1\",(F161),(IF($I$2=\"Design 2\",(G161),(IF($I$2=\"Optimal\",(I161),E161)))))))","v":0.91807038512616201},{"$f":"+I149*I150*I151*I152*I153*I154*I155*I156*I157*I158","v":0.55157049744255038},null,{"$f":"INDEX($D161:$I161,K$100)","v":1.0546277742651902},{"$f":"INDEX($D161:$I161,L$100)","v":0.91807038512616201},{"$f":"IF(ISERROR(1-L161/K161), 0, 1-L161/K161)","v":0.12948396815565966},null,0]
[null,null,"Calculated Relative to Design Standards (Column E)",{"$f":"+D161/$E$161","v":1.1487439213282784},{"$f":"+E161/$E$161","v":1},{"$error":"#N/A"},{"$error":"#N/A"},1,{"$f":"+I161/$E$161","v":0.60079325766156055},null,{"$f":"INDEX($D162:$I162,K$100)","v":1.1487439213282784},{"$f":"INDEX($D162:$I162,L$100)","v":1},0.12948396815565966,null,0]
[null,null,"P(Crash)",{"$f":"+D162/(D162+1)","v":0.53461183062622242},0.5,{"$error":"#N/A"},{"$error":"#N/A"},0.5,{"$f":"+I162/(I162+1)","v":0.37530971272280322},null,{"$f":"INDEX($D163:$I163,K$100)","v":0.53461183062622242},{"$f":"INDEX($D163:$I163,L$100)","v":0.5},6.4741984077829939E-2]
[null,null,"Factor Change on S curve",{"$f":"+D163/$E$163","v":1.0692236612524448},{"$f":"+E163/$E$163","v":1},{"$f":"+F163/$E$163","v":{"$error":"#N/A"}},{"$error":"#N/A"},1,{"$f":"+I163/$E$163","v":0.75061942544560645},null,{"$f":"INDEX($D164:$I164,K$100)","v":1.0692236612524448},{"$f":"INDEX($D164:$I164,L$100)","v":1},6.4741984077829939E-2]
[null,null,"Adjust to Scale of 100",{"$f":"+$I$118/D164*100","v":{"$error":"#VALUE!"}},{"$error":"#VALUE!"},{"$error":"#VALUE!"},{"$error":"#VALUE!"},{"$error":"#VALUE!"},{"$f":"+$I$118/I164*100","v":{"$error":"#VALUE!"}}]
[null,null,"Unadjusted Combined Relative to Standard",{"$f":"+D161/$E$161","v":1.1487439213282784},{"$f":"+E161/$E$161","v":1},{"$f":"+F161/$E$161","v":{"$error":"#N/A"}},{"$error":"#N/A"},1,{"$f":"+I161/$E$161","v":0.60079325766156055},{"$f":"I172/E172","v":1.3333333333333333},{"$f":"INDEX($D166:$I166,K$100)","v":1.1487439213282784},{"$f":"INDEX($D166:$I166,L$100)","v":1},{"$f":"IF(ISERROR(1-L166/K166), 0, 1-L166/K166)","v":0.12948396815565966}]
[null,null,null,null,null,null,null,0,null,null,{"$f":"INDEX($D167:$I167,K$100)","v":0},{"$f":"INDEX($D167:$I167,L$100)","v":0},0]
[null,null,"Adjusted for PA Basis",{"$f":"+D161*(1+1)/(1+D161*1)","v":1.0265876743950504},0.95728539707970672,{"$error":"#N/A"},{"$error":"#N/A"},0.95728539707970672,{"$f":"+I161*(1+1)/(1+I161*1)","v":0.71098348202895401},null,{"$f":"INDEX($D168:$I168,K$100)","v":1.0265876743950504},{"$f":"INDEX($D168:$I168,L$100)","v":0.95728539707970672},6.750741221998624E-2]
[null,null,"Corrected by Odds Ratio",{"$f":"+D168/$E$168","v":1.0723945831898796},{"$f":"+E168/$E$168","v":1},{"$f":"+F168/$E$168","v":{"$error":"#N/A"}},{"$error":"#N/A"},1,{"$f":"+I168/$E$168","v":0.74270795752017016},{"$f":"I175/E175","v":1.4285714285714286},{"$f":"INDEX($D169:$I169,K$100)","v":1.0723945831898796},{"$f":"INDEX($D169:$I169,L$100)","v":1},6.750741221998624E-2]
[null,null,null,{"$f":"(1/D169)^$D173","v":0.19732178070922252},{"$f":"(1/E169)^$D173","v":1},{"$error":"#N/A"},{"$error":"#N/A"},1,998.99999999999955,null,{"$f":"INDEX($D170:$I170,K$100)","v":0.19732178070922252},{"$f":"INDEX($D170:$I170,L$100)","v":1},-4.0678642591089362]
[null,null,null,{"$f":"(D170+$F174-1)/(1+(D170+$F174-1))","v":0.6048454036857811},{"$f":"(E170+$F174-1)/(1+(E170+$F174-1))","v":0.70000000000000007},{"$error":"#N/A"},{"$error":"#N/A"},0.70000000000000007,0.99900133155792281,null,{"$f":"INDEX($D171:$I171,K$100)","v":0.6048454036857811},{"$f":"INDEX($D171:$I171,L$100)","v":0.70000000000000007},-0.15732052477272696]
[null,null,"Score Odds Ratio with Optimal as 100 (old)",{"$f":"MIN(ROUND($I$169/D169*Construction!$I$3,0),$I172)","v":14},{"$f":"MIN(ROUND($I$169/E169*Construction!$I$3,0),$I172)","v":15},{"$f":"MIN(ROUND($I$169/F169*Construction!$I$3,0),$I172)","v":{"$error":"#N/A"}},{"$f":"MIN(ROUND($I$169/G169*Construction!$I$3,0),$I172)","v":{"$error":"#N/A"}},null,{"$f":"ROUND($I$169/I169*Construction!$I$3,0)","v":20}]
[null,null,"Logistic1",{"$f":"LN((D174/(1-D174))/(0.5/0.5))/LN($E169/I169)","v":23.2196999386987}]
[null,null,"Logistic Param",0.999,null,{"$f":"0.7/0.3","v":2.3333333333333335}]
[null,null,"Score ",{"$f":"MIN(ROUND(D171*Construction!$I$3,0),$I172)","v":12},{"$f":"MIN(ROUND(E171*Construction!$I$3,0),$I172)","v":14},{"$f":"MIN(ROUND(F171*Construction!$I$3,0),$I172)","v":{"$error":"#N/A"}},{"$f":"MIN(ROUND(G171*Construction!$I$3,0),$I172)","v":{"$error":"#N/A"}},null,{"$f":"MIN(ROUND(I171*Construction!$I$3,0),$I172)","v":20}]
[]
[]
[]
[]
[null,null,null,{"$f":"INDEX(MedConf_Header,1,2)","v":"Divided - Unsurfaced Median"}]
[]
[null,"Roadsde",null,"Existing","Standard","Design 1","Design 2"]
[null,null,null,{"$f":"IF(ISBLANK(D75), 0, MID(D75,FIND(\":\",D75,1)+1,FIND(\"H\",D75,1)-FIND(\":\",D75,1)-1)+0)","v":0},{"$f":"MID(E75,FIND(\":\",E75,1)+1,FIND(\"H\",E75,1)-FIND(\":\",E75,1)-1)+0","v":4},{"$f":"IF(ISBLANK(F75), 0, MID(F75,FIND(\":\",F75,1)+1,FIND(\"H\",F75,1)-FIND(\":\",F75,1)-1)+0)","v":0},{"$f":"IF(ISBLANK(G75), 0, MID(G75,FIND(\":\",G75,1)+1,FIND(\"H\",G75,1)-FIND(\":\",G75,1)-1)+0)","v":0},null,{"$f":"MID(I75,FIND(\":\",I75,1)+1,FIND(\"H\",I75,1)-FIND(\":\",I75,1)-1)+0","v":6},null,null,null,null,null,0]
[null,null,"Sideslope (Foreslope)",{"$f":"IF(D24=INDEX(MedConf_Header,1,2),(IF(D183<=3,1,IF(OR(D183=4,D183=5),(Roadside!$F$15-1)*Constraints!$H$24/Constraints!$D$24+1,(Roadside!$F$15*Roadside!$F$16-1)*Constraints!$H$24/Constraints!$D$24+1))),(IF(D183<=3,1,IF(OR(D183=4,D183=5),(Roadside!$F$15-1)*Constraints!$H$38/Constraints!$D$38+1,(Roadside!$F$15*Roadside!$F$16-1)*Constraints!$H$38/Constraints!$D$38+1))))","v":1},{"$f":"IF(E24=INDEX(MedConf_Header,1,2),(IF(E183<=3,1,IF(OR(E183=4,E183=5),(Roadside!$F$15-1)*Constraints!$H$24/Constraints!$D$24+1,(Roadside!$F$15*Roadside!$F$16-1)*Constraints!$H$24/Constraints!$D$24+1))),(IF(E183<=3,1,IF(OR(E183=4,E183=5),(Roadside!$F$15-1)*Constraints!$H$38/Constraints!$D$38+1,(Roadside!$F$15*Roadside!$F$16-1)*Constraints!$H$38/Constraints!$D$38+1))))","v":0.84302377525189853},{"$f":"IF(F24=INDEX(MedConf_Header,1,2),(IF(F183<=3,1,IF(OR(F183=4,F183=5),(Roadside!$F$15-1)*Constraints!$H$24/Constraints!$D$24+1,(Roadside!$F$15*Roadside!$F$16-1)*Constraints!$H$24/Constraints!$D$24+1))),(IF(F183<=3,1,IF(OR(F183=4,F183=5),(Roadside!$F$15-1)*Constraints!$H$38/Constraints!$D$38+1,(Roadside!$F$15*Roadside!$F$16-1)*Constraints!$H$38/Constraints!$D$38+1))))","v":1},{"$f":"IF(G24=INDEX(MedConf_Header,1,2),(IF(G183<=3,1,IF(OR(G183=4,G183=5),(Roadside!$F$15-1)*Constraints!$H$24/Constraints!$D$24+1,(Roadside!$F$15*Roadside!$F$16-1)*Constraints!$H$24/Constraints!$D$24+1))),(IF(G183<=3,1,IF(OR(G183=4,G183=5),(Roadside!$F$15-1)*Constraints!$H$38/Constraints!$D$38+1,(Roadside!$F$15*Roadside!$F$16-1)*Constraints!$H$38/Constraints!$D$38+1))))","v":1},{"$f":"IF($I$2=\"Existing\",(D184),(IF($I$2=\"Design 1\",(F184),(IF($I$2=\"Design 2\",(G184),(IF($I$2=\"Optimal\",(I184),E184)))))))","v":0.84302377525189853},{"$f":"IF(I24=INDEX(MedConf_Header,1,2),(IF(I183<=3,1,IF(OR(I183=4,I183=5),(Roadside!$F$15-1)*Constraints!$H$24/Constraints!$D$24+1,(Roadside!$F$15*Roadside!$F$16-1)*Constraints!$H$24/Constraints!$D$24+1))),(IF(I183<=3,1,IF(OR(I183=4,I183=5),(Roadside!$F$15-1)*Constraints!$H$38/Constraints!$D$38+1,(Roadside!$F$15*Roadside!$F$16-1)*Constraints!$H$38/Constraints!$D$38+1))))","v":0.79533290316176108},null,{"$f":"INDEX($D184:$I184,K$100)","v":1},{"$f":"INDEX($D184:$I184,L$100)","v":0.84302377525189853},{"$f":"IF(ISERROR(1-L184/K184), 0, 1-L184/K184)","v":0.15697622474810147},null,0]
[null,null,"Backslope",1,1,1,1,{"$f":"IF($I$2=\"Existing\",(D185),(IF($I$2=\"Design 1\",(F185),(IF($I$2=\"Design 2\",(G185),(IF($I$2=\"Optimal\",(I185),E185)))))))","v":1},1,null,{"$f":"INDEX($D185:$I185,K$100)","v":1},{"$f":"INDEX($D185:$I185,L$100)","v":1},0,null,0]
[null,null,"SafetyEdge",{"$f":"IF(D24=INDEX(MedConf_Header,1,2),(IF(D$77=\"No\",1,(Roadside!$F$23-1)*AVERAGE(Constraints!$H$24,Constraints!$F$24)/Constraints!$D$24+1)),(IF(D$77=\"No\",1,(Roadside!$F$23-1)*AVERAGE(Constraints!$H$38,Constraints!$F$38)/Constraints!$D$38+1)))","v":0.97711209540034072},{"$f":"IF(E$77=\"No\",1,(Roadside!$F$23-1)*AVERAGE(Constraints!$H$24,Constraints!$F$24)/Constraints!$D$24+1)","v":1},{"$f":"IF(F24=INDEX(MedConf_Header,1,2),(IF(F$77=\"No\",1,(Roadside!$F$23-1)*AVERAGE(Constraints!$H$24,Constraints!$F$24)/Constraints!$D$24+1)),(IF(F$77=\"No\",1,(Roadside!$F$23-1)*AVERAGE(Constraints!$H$38,Constraints!$F$38)/Constraints!$D$38+1)))","v":0.97711209540034072},{"$f":"IF(G24=INDEX(MedConf_Header,1,2),(IF(G$77=\"No\",1,(Roadside!$F$23-1)*AVERAGE(Constraints!$H$24,Constraints!$F$24)/Constraints!$D$24+1)),(IF(G$77=\"No\",1,(Roadside!$F$23-1)*AVERAGE(Constraints!$H$38,Constraints!$F$38)/Constraints!$D$38+1)))","v":0.97711209540034072},{"$f":"IF($I$2=\"Existing\",(D186),(IF($I$2=\"Design 1\",(F186),(IF($I$2=\"Design 2\",(G186),(IF($I$2=\"Optimal\",(I186),E186)))))))","v":1},{"$f":"IF(I$77=\"No\",1,(Roadside!$F$23-1)*AVERAGE(Constraints!$H$24,Constraints!$F$24)/Constraints!$D$24+1)","v":0.97526887377773364},null,{"$f":"INDEX($D186:$I186,K$100)","v":0.97711209540034072},{"$f":"INDEX($D186:$I186,L$100)","v":1},-2.3424031600265627E-2,null,-2.8188991921691331E-2]
[null,null,"Lateral Clearance (ft)",{"$f":"IF(D24=INDEX(MedConf_Header,1,2),(IF($B$31=\"Yes\",((EXP(LN(Roadside!$F$11)*(IF(D$79=\"None\",40,D$78)-30)/30)-1))*Constraints!$H$17/Constraints!$D$24+1,((EXP(LN(Roadside!$F$10)*(IF(D$79=\"None\",40,D$78)-30)/30)-1))*Constraints!$H$17/Constraints!$D$24+1)),(IF($B$31=\"Yes\",((EXP(LN(Roadside!$F$11)*(IF(D$79=\"None\",40,D$78)-30)/30)-1))*Constraints!$H$31/Constraints!$D$38+1,((EXP(LN(Roadside!$F$10)*(IF(D$79=\"None\",40,D$78)-30)/30)-1))*Constraints!$H$31/Constraints!$D$38+1)))","v":1.0472592444132678},{"$f":"IF(E24=INDEX(MedConf_Header,1,2),(IF($B$31=\"Yes\",((EXP(LN(Roadside!$F$11)*(IF(E$79=\"None\",40,E$78)-30)/30)-1))*Constraints!$H$17/Constraints!$D$24+1,((EXP(LN(Roadside!$F$10)*(IF(E$79=\"None\",40,E$78)-30)/30)-1))*Constraints!$H$17/Constraints!$D$24+1)),(IF($B$31=\"Yes\",((EXP(LN(Roadside!$F$11)*(IF(E$79=\"None\",40,E$78)-30)/30)-1))*Constraints!$H$31/Constraints!$D$38+1,((EXP(LN(Roadside!$F$10)*(IF(E$79=\"None\",40,E$78)-30)/30)-1))*Constraints!$H$31/Constraints!$D$38+1)))","v":0.97942029665168673},{"$f":"IF(F24=INDEX(MedConf_Header,1,2),(IF($B$31=\"Yes\",((EXP(LN(Roadside!$F$11)*(IF(F$79=\"None\",40,F$78)-30)/30)-1))*Constraints!$H$17/Constraints!$D$24+1,((EXP(LN(Roadside!$F$10)*(IF(F$79=\"None\",40,F$78)-30)/30)-1))*Constraints!$H$17/Constraints!$D$24+1)),(IF($B$31=\"Yes\",((EXP(LN(Roadside!$F$11)*(IF(F$79=\"None\",40,F$78)-30)/30)-1))*Constraints!$H$31/Constraints!$D$38+1,((EXP(LN(Roadside!$F$10)*(IF(F$79=\"None\",40,F$78)-30)/30)-1))*Constraints!$H$31/Constraints!$D$38+1)))","v":1.0472592444132678},{"$f":"IF(G24=INDEX(MedConf_Header,1,2),(IF($B$31=\"Yes\",((EXP(LN(Roadside!$F$11)*(IF(G$79=\"None\",40,G$78)-30)/30)-1))*Constraints!$H$17/Constraints!$D$24+1,((EXP(LN(Roadside!$F$10)*(IF(G$79=\"None\",40,G$78)-30)/30)-1))*Constraints!$H$17/Constraints!$D$24+1)),(IF($B$31=\"Yes\",((EXP(LN(Roadside!$F$11)*(IF(G$79=\"None\",40,G$78)-30)/30)-1))*Constraints!$H$31/Constraints!$D$38+1,((EXP(LN(Roadside!$F$10)*(IF(G$79=\"None\",40,G$78)-30)/30)-1))*Constraints!$H$31/Constraints!$D$38+1)))","v":1.0472592444132678},{"$f":"IF($I$2=\"Existing\",(D187),(IF($I$2=\"Design 1\",(F187),(IF($I$2=\"Design 2\",(G187),(IF($I$2=\"Optimal\",(I187),E187)))))))","v":0.97942029665168673},{"$f":"IF(I24=INDEX(MedConf_Header,1,2),(IF($B$31=\"Yes\",((EXP(LN(Roadside!$F$11)*(IF(I$79=\"None\",40,I$78)-30)/30)-1))*Constraints!$H$17/Constraints!$D$24+1,((EXP(LN(Roadside!$F$10)*(IF(I$79=\"None\",40,I$78)-30)/30)-1))*Constraints!$H$17/Constraints!$D$24+1)),(IF($B$31=\"Yes\",((EXP(LN(Roadside!$F$11)*(IF(I$79=\"None\",40,I$78)-30)/30)-1))*Constraints!$H$31/Constraints!$D$38+1,((EXP(LN(Roadside!$F$10)*(IF(I$79=\"None\",40,I$78)-30)/30)-1))*Constraints!$H$31/Constraints!$D$38+1)))","v":0.97942029665168673},null,{"$f":"INDEX($D187:$I187,K$100)","v":1.0472592444132678},{"$f":"INDEX($D187:$I187,L$100)","v":0.97942029665168673},6.4777606999867676E-2,null,9.0307162971216326E-2]
[null,null,"Roadside Obstruction Type",{"$f":"IF(D24=INDEX(MedConf_Header,1,2),(IF(D$79=\"Guardrail\",(Roadside!$F$25-1)*(($I$78-D$78)/$I$78)^2*Constraints!$H$17/Constraints!$D$24+1,1)),(IF(D$79=\"Guardrail\",(Roadside!$F$25-1)*(($I$78-D$78)/$I$78)^2*Constraints!$H$31/Constraints!$D$38+1,1)))","v":1},{"$f":"IF(E24=INDEX(MedConf_Header,1,2),(IF(E$79=\"Guardrail\",(Roadside!$F$25-1)*(($I$78-E$78)/$I$78)^2*Constraints!$H$17/Constraints!$D$24+1,1)),(IF(E$79=\"Guardrail\",(Roadside!$F$25-1)*(($I$78-E$78)/$I$78)^2*Constraints!$H$31/Constraints!$D$38+1,1)))","v":1},{"$f":"IF(F24=INDEX(MedConf_Header,1,2),(IF(F$79=\"Guardrail\",(Roadside!$F$25-1)*(($I$78-F$78)/$I$78)^2*Constraints!$H$17/Constraints!$D$24+1,1)),(IF(F$79=\"Guardrail\",(Roadside!$F$25-1)*(($I$78-F$78)/$I$78)^2*Constraints!$H$31/Constraints!$D$38+1,1)))","v":1},{"$f":"IF(G24=INDEX(MedConf_Header,1,2),(IF(G$79=\"Guardrail\",(Roadside!$F$25-1)*(($I$78-G$78)/$I$78)^2*Constraints!$H$17/Constraints!$D$24+1,1)),(IF(G$79=\"Guardrail\",(Roadside!$F$25-1)*(($I$78-G$78)/$I$78)^2*Constraints!$H$31/Constraints!$D$38+1,1)))","v":1},{"$f":"IF($I$2=\"Existing\",(D188),(IF($I$2=\"Design 1\",(F188),(IF($I$2=\"Design 2\",(G188),(IF($I$2=\"Optimal\",(I188),E188)))))))","v":1},{"$f":"IF(I24=INDEX(MedConf_Header,1,2),(IF(I$79=\"Guardrail\",(Roadside!$F$25-1)*(($I$78-I$78)/$I$78)^2*Constraints!$H$17/Constraints!$D$24+1,1)),(IF(I$79=\"Guardrail\",(Roadside!$F$25-1)*(($I$78-I$78)/$I$78)^2*Constraints!$H$31/Constraints!$D$38+1,1)))","v":1},null,{"$f":"INDEX($D188:$I188,K$100)","v":1},{"$f":"INDEX($D188:$I188,L$100)","v":1},0,null,0]
[null,null,null,null,null,null,null,null,null,null,{"$f":"INDEX($D189:$I189,K$100)","v":0},{"$f":"INDEX($D189:$I189,L$100)","v":0},0]
[null,null,null,null,null,null,null,null,null,null,{"$f":"INDEX($D190:$I190,K$100)","v":0},{"$f":"INDEX($D190:$I190,L$100)","v":0},0]
[null,null,"COMBINED Calculated CMF",{"$f":"+D184*D185*D186*D187*D188","v":1.0232896747360256},{"$f":"+E184*E185*E186*E187*E188","v":0.82567459604163929},1.0232896747360256,1.0232896747360256,{"$f":"IF($I$2=\"Existing\",(D191),(IF($I$2=\"Design 1\",(F191),(IF($I$2=\"Design 2\",(G191),(IF($I$2=\"Optimal\",(I191),E191)))))))","v":0.82567459604163929},{"$f":"+I184*I185*I186*I187*I188","v":0.75970050156555824},null,{"$f":"INDEX($D191:$I191,K$100)","v":1.0232896747360256},{"$f":"INDEX($D191:$I191,L$100)","v":0.82567459604163929},0.1931174364144389]
[null,null,"Calculated Relative to Design Standards (Column E)",{"$f":"+D191/$E$191","v":1.2393377241370527},{"$f":"+E191/$E$191","v":1},1.2393377241370527,1.2393377241370527,1,{"$f":"+I191/$E$191","v":0.92009673690777583},null,{"$f":"INDEX($D192:$I192,K$100)","v":1.2393377241370527},{"$f":"INDEX($D192:$I192,L$100)","v":1},0.1931174364144389]
[null,null,"P(Crash)",{"$f":"+D192/(D192+1)","v":0.55343939896990835},0.5,0.55343939896990835,0.55343939896990835,0.5,{"$f":"+I192/(I192+1)","v":0.47919290691027777},null,{"$f":"INDEX($D193:$I193,K$100)","v":0.55343939896990835},{"$f":"INDEX($D193:$I193,L$100)","v":0.5},9.6558718207219618E-2]
[null,null,"Factor Change on S curve",{"$f":"+D193/$E$193","v":1.1068787979398167},{"$f":"+E193/$E$193","v":1},1.1068787979398167,1.1068787979398167,1,{"$f":"+I193/$E$193","v":0.95838581382055554},null,{"$f":"INDEX($D194:$I194,K$100)","v":1.1068787979398167},{"$f":"INDEX($D194:$I194,L$100)","v":1},9.6558718207219618E-2]
[null,null,"Adjust to Scale of 100",{"$f":"+$I$118/D194*100","v":{"$error":"#VALUE!"}},{"$error":"#VALUE!"},{"$error":"#VALUE!"},{"$error":"#VALUE!"},{"$error":"#VALUE!"},{"$f":"+$I$118/I194*100","v":{"$error":"#VALUE!"}},null,{"$f":"INDEX($D195:$I195,K$100)","v":{"$error":"#VALUE!"}},{"$f":"INDEX($D195:$I195,L$100)","v":{"$error":"#VALUE!"}},0]
[null,null,"Unadjusted Combined Relative to Standard",{"$f":"+D191/$E$191","v":1.2393377241370527},{"$f":"+E191/$E$191","v":1},1.2393377241370527,1.2393377241370527,1,{"$f":"+I191/$E$191","v":0.92009673690777583},{"$f":"I202/E202","v":1.0810810810810811},{"$f":"INDEX($D196:$I196,K$100)","v":1.2393377241370527},{"$f":"INDEX($D196:$I196,L$100)","v":1},0.1931174364144389]
[null,null,null,null,null,null,null,null,null,null,{"$f":"INDEX($D197:$I197,K$100)","v":0},{"$f":"INDEX($D197:$I197,L$100)","v":0},0]
[null,null,"Adjusted for PA Basis",{"$f":"+D191*(1+1)/(1+D191*1)","v":1.0115107960203793},0.90451452611745442,1.0115107960203793,1.0115107960203793,{"$f":"IF($I$2=\"Existing\",(D198),(IF($I$2=\"Design 1\",(F198),(IF($I$2=\"Design 2\",(G198),(IF($I$2=\"Optimal\",(I198),E198)))))))","v":0.90451452611745442},{"$f":"+I191*(1+1)/(1+I191*1)","v":0.86344295621859868},null,{"$f":"INDEX($D198:$I198,K$100)","v":1.0115107960203793},{"$f":"INDEX($D198:$I198,L$100)","v":0.90451452611745442},0.10577867317272727]
[null,null,"Corrected by Odds Ratio",{"$f":"+D191/$E$191","v":1.2393377241370527},{"$f":"+E191/$E$191","v":1},1.2393377241370527,1.2393377241370527,{"$f":"IF($I$2=\"Existing\",(D199),(IF($I$2=\"Design 1\",(F199),(IF($I$2=\"Design 2\",(G199),(IF($I$2=\"Optimal\",(I199),E199)))))))","v":1},{"$f":"+I191/$E$191","v":0.92009673690777583},{"$f":"I205/E205","v":1.4814814814814814},{"$f":"INDEX($D199:$I199,K$100)","v":1.2393377241370527},{"$f":"INDEX($D199:$I199,L$100)","v":1},0.1931174364144389]
[null,null,null,{"$f":"(1/D199)^$D203","v":1.8666691582346016E-8},{"$f":"(1/E199)^$D203","v":1},1.8666691582346016E-8,1.8666691582346016E-8,1,998.99999999999955]
[null,null,null,{"$f":"(D200+$F204-1)/(1+(D200+$F204-1))","v":0.50000000466667294},{"$f":"(E200+$F204-1)/(1+(E200+$F204-1))","v":0.66666666666666663},0.50000000466667294,0.50000000466667294,0.66666666666666663,0.99900099900099903]
[null,null,"Score Odds Ratio with Optimal as 100 (old)",{"$f":"MIN(ROUND($I$199/D199*Construction!$I$4,0),$I202)","v":30},{"$f":"MIN(ROUND($I$199/E199*Construction!$I$4,0),$I202)","v":37},{"$f":"MIN(ROUND($I$199/F199*Construction!$I$4,0),$I202)","v":30},{"$f":"MIN(ROUND($I$199/G199*Construction!$I$4,0),$I202)","v":30},null,{"$f":"ROUND($I$199/I199*Construction!$I$4,0)","v":40}]
[null,null,"Logistic1",{"$f":"LN((D204/(1-D204))/(0.5/0.5))/LN($E199/I199)","v":82.937655007418002}]
[null,null,"Logistic Param",0.999,null,2]
[null,null,"Score ",{"$f":"MIN(ROUND(D201*Construction!$I$4,0),$I202)","v":20},{"$f":"MIN(ROUND(E201*Construction!$I$4,0),$I202)","v":27},{"$f":"MIN(ROUND(F201*Construction!$I$4,0),$I202)","v":20},{"$f":"MIN(ROUND(G201*Construction!$I$4,0),$I202)","v":20},null,{"$f":"MIN(ROUND(I201*Construction!$I$4,0),$I202)","v":40}]
[]
[]
[]
[]
[null,null,{"$f":"D87/D183","v":{"$error":"#DIV/0!"}},null,{"$f":"ROUNDUP((MIN($I$14,$I$15)-E27-E28)/$C$210,0)","v":{"$error":"#DIV/0!"}},{"$f":"ROUNDUP((MIN($I$14,$I$15)-F27-F28)/$C$210,0)","v":{"$error":"#DIV/0!"}},{"$f":"ROUNDUP((MIN($I$14,$I$15)-G27-G28)/$C$210,0)","v":{"$error":"#DIV/0!"}},null,{"$f":"ROUNDUP((MIN($I$14,$I$15)-I27-I28)/$C$210,0)","v":{"$error":"#DIV/0!"}}]
[]
[]
[null,null,"Distance to low point","Distance to low point",{"$f":"$C$210*E183","v":{"$error":"#DIV/0!"}},{"$f":"$C$210*F183","v":{"$error":"#DIV/0!"}},{"$error":"#DIV/0!"},null,{"$f":"$C$210*I183","v":{"$error":"#DIV/0!"}}]
[null,null,null,"Additional ROW1 Needed for Foreslope",{"$f":"IF(E213>($I$14-E27-E28),E213-($I$14-E27-E28),0)","v":{"$error":"#DIV/0!"}},{"$f":"IF(F213>($I$14-F27-F28),F213-($I$14-F27-F28),0)","v":{"$error":"#DIV/0!"}},{"$f":"IF(G213>($I$14-G27-G28),G213-($I$14-G27-G28),0)","v":{"$error":"#DIV/0!"}},null,{"$f":"IF(I213>($I$14-I27-I28),I213-($I$14-I27-I28),0)","v":{"$error":"#DIV/0!"}}]
[null,null,null,"Additional ROW2 Needed for Foreslope",{"$f":"IF(E213>($I$15-E27-E28),E213-($I$15-E27-E28),0)","v":{"$error":"#DIV/0!"}},{"$f":"IF(F213>($I$15-F27-F28),F213-($I$15-F27-F28),0)","v":{"$error":"#DIV/0!"}},{"$f":"IF(G213>($I$15-G27-G28),G213-($I$15-G27-G28),0)","v":{"$error":"#DIV/0!"}},null,{"$f":"IF(I213>($I$15-I27-I28),I213-($I$15-I27-I28),0)","v":{"$error":"#DIV/0!"}}]
[]
[null,null,null,"Additional ROW1 Needed for Lateral Clearance",{"$f":"IF((CL251+E30)-$I$14<0,0,(CL251+E30)-$I$14)","v":2},{"$f":"IF((CM251+F30)-$I$14<0,0,(CM251+F30)-$I$14)","v":0},{"$f":"IF((CN251+G30)-$I$14<0,0,(CN251+G30)-$I$14)","v":0},null,{"$f":"IF((CP251+I30)-$I$14<0,0,(CP251+I30)-$I$14)","v":2}]
[null,null,null,"Additional ROW2 Needed for Lateral Clearance",{"$f":"IF((CL251+E30)-$I$15<0,0,(CL251+E30)-$I$15)","v":2},{"$f":"IF((CM251+F30)-$I$15<0,0,(CM251+F30)-$I$15)","v":0},{"$f":"IF((CN251+G30)-$I$15<0,0,(CN251+G30)-$I$15)","v":0},null,{"$f":"IF((CP251+I30)-$I$15<0,0,(CP251+I30)-$I$15)","v":2}]
[]
[]
[]
[]
[]
[]
[]
[]
[]
[]
[]
[null,null,"For Vertical Opt Use when Yes Vertical:"]
[null,null,"G1",{"$f":"D40","v":0},null,{"$f":"F40","v":0},{"$f":"G40","v":0},null,{"$f":"IF(ISERROR($E$238),\"\",INDEX(D231:G231,$E$238))","v":""}]
[null,null,"G2",{"$f":"D41","v":0},null,{"$f":"F41","v":0},{"$f":"G41","v":0},null,{"$f":"IF(ISERROR($E$238),\"\",INDEX(D232:G232,$E$238))","v":""}]
[null,null,"abs(G2-G1)",{"$f":"ABS(D40-D41)","v":0},null,{"$f":"ABS(F40-F41)","v":0},{"$f":"ABS(G40-G41)","v":0}]
[null,null,"Count in indicator (K no change; or K change but accept)",{"$f":"IF(D43<>\"\",1,\"\")","v":""},null,{"$f":"IF(OR(AND($B$38 = \"Yes\", $D$43 <> F43, F43 <>\"\", $D$43 <> \"\", F45=\"Yes.\"),AND($B$38 = \"Yes\", $D$43 = F43, F43 <>\"\", $D$43 <> \"\")), 1,\"\")","v":""},{"$f":"IF(OR(AND($B$38 = \"Yes\", $D$43 <> G43, G43 <>\"\", $D$43 <> \"\", G45=\"Yes.\"),AND($B$38 = \"Yes\", $D$43 = G43, G43 <>\"\", $D$43 <> \"\")), 1,\"\")","v":""}]
[]
[null,null,"Valid abs(G2-G1)",{"$f":"IF(ISERROR(D233*D234),\"\",D233*D234)","v":""},null,{"$f":"IF(ISERROR(F233*F234),\"\",F233*F234)","v":""},{"$f":"IF(ISERROR(G233*G234),\"\",G233*G234)","v":""}]
[null,null,"The min valid abs(G2-G1)",null,{"$f":"MIN(D236,F236,G236)","v":0}]
[null,null,"Index",null,{"$f":"MATCH(E237,D236:G236,0)","v":{"$error":"#N/A"}}]
[]
[null,null,"For Vertical Opt Use When No Vertical:"]
[null,null,"G1",{"$f":"IF(ISBLANK(D40), 999, D40)","v":999},null,{"$f":"IF(ISBLANK(F40), 999, F40)","v":999},{"$f":"IF(ISBLANK(G40), 999, G40)","v":999},null,{"$f":"IF(E246=999,\"\",E246)","v":""}]
[null,null,"Sign of G1",{"$f":"IF(D241>=0,1,-1)","v":1},null,{"$f":"IF(F241>=0,1,-1)","v":1},{"$f":"IF(G241>=0,1,-1)","v":1}]
[null,null,"Abs G1",{"$f":"ABS(D241)","v":999},null,{"$f":"ABS(F241)","v":999},{"$f":"ABS(G241)","v":999}]
[null,null,"Min Abs G1",null,{"$f":"MIN(D243:G243)","v":999}]
[null,null,"Which is the Best G1",null,{"$f":"MATCH(E244,D243:G243,0)","v":1}]
[null,null,"Best G1 Value",null,{"$f":"INDEX(D241:G241,1,E245)","v":999}]
[]
[]
[null,null,"Check if all cells filled",{"$f":"SUM(D251:D314)","v":19},{"$f":"SUM(E251:E314)","v":1},19,19,0,0]
[]
[null,null,{"$f":"C24","v":"Configuration of Multilane Roadway"},{"$f":"IF(ISBLANK(D24),1,0)","v":1},{"$f":"IF(ISBLANK(E24),1,0)","v":0},1,1,null,0]
[null,null,{"$f":"C25","v":"Median Configuration (Width or Type)"},{"$f":"IF(AND(D24<>\"No Median\", ISBLANK(D25)),1,0)","v":1},0,{"$f":"IF(AND(F24<>\"No Median\", ISBLANK(F25)),1,0)","v":1},{"$f":"IF(AND(G24<>\"No Median\", ISBLANK(G25)),1,0)","v":1},null,0]
[]
[null,null,"Lane Width (feet)",{"$f":"IF(ISBLANK(D27),1,0)","v":1},0,1,1,null,{"$f":"IF(ISBLANK(I27),1,0)","v":0}]
[null,null,"Average Outside Shoulder Width (feet)",1,0,1,1,null,0]
[null,null,"Average Inside Shoulder Width (feet)",1,0,1,1,null,0]
[null,null,"Number of Lanes per Direction of Travel",1,0,1,1,null,0]
[null,null,"Horizontal Curve Present?"]
[null,null,"Horizontal Curve Data for Controlling Element:"]
[null,null,"  Radius (feet)",{"$f":"IF(AND($B$31=\"Yes\", ISBLANK(D33)),1,0)","v":0},null,{"$f":"IF(AND($B$31=\"Yes\", ISBLANK(F33)),1,0)","v":0},{"$f":"IF(AND($B$31=\"Yes\", ISBLANK(G33)),1,0)","v":0},null,{"$f":"IF(ISBLANK(I33),1,0)","v":0}]
[null,null,"Length of Horizontal Curve (feet)",{"$f":"IF(AND($B$31=\"Yes\", ISBLANK(D34)),1,0)","v":0},null,{"$f":"IF(AND($B$31=\"Yes\", ISBLANK(F34)),1,0)","v":0},{"$f":"IF(AND($B$31=\"Yes\", ISBLANK(G34)),1,0)","v":0},null,0]
[null,null,"Calculated Deflection Angle ∆"]
[]
[null,null,null,null,null,{"$f":"IF(AND($B$31 = \"Yes\", $D$35 <> F35, F35<>\"\",ISBLANK(F37)),1,0)","v":0},{"$f":"IF(AND($B$31 = \"Yes\", $D$35 <> G35, G35<>\"\",ISBLANK(G37)),1,0)","v":0}]
[null,null,"Vertical Curve Present?"]
[null,null,"Vertical Curve Data for Controlling Element:"]
[null,null,"  Approach (Entry) Grade, G1 (%)",{"$f":"IF(ISBLANK(D40),1,0)","v":1},0,1,1,null,{"$f":"IF(ISBLANK(I40),1,0)","v":0}]
[null,null,"  Departure (Exit) Grade, G2 (%)",{"$f":"IF(AND($B$38=\"Yes\", ISBLANK(D41)),1,0)","v":0},{"$f":"IF(AND($B$38=\"Yes\", ISBLANK(E41)),1,0)","v":0},0,0,null,0]
[null,null,"  Length (feet)",{"$f":"IF(AND($B$38=\"Yes\", ISBLANK(D42)),1,0)","v":0},0,0,0,null,0]
[null,null,"  Calculated Rate of Change, K (ft/ft)"]
[]
[]
[null,null,"  Calculated Sag or Crest?"]
[]
[]
[null,null,"Geometric Design Element (Partial Score)"]
[null,null,"Total Safety Score"]
[]
[]
[]
[]
[]
[null,null,"Advance Static Curve Warning Signs",{"$f":"IF(AND($B$31=\"Yes\", ISBLANK(D56)),1,0)","v":0},{"$f":"IF(AND($B$31=\"Yes\", ISBLANK(E56)),1,0)","v":0},0,0,null,{"$f":"IF(ISBLANK(I56),1,0)","v":0}]
[null,null,"Chevron Signs on Horizontal Curves",{"$f":"IF(AND($B$31=\"Yes\", ISBLANK(D57)),1,0)","v":0},0,0,0,null,0]
[null,null,"Post-Mounted Delineators",0,0,0,0,null,0]
[null,null,"Edgeline Pavement Markings or Profile Markings",{"$f":"IF(ISBLANK(D59),1,0)","v":1},0,1,1,null,0]
[null,null,"Shoulder Rumble Strips",1,0,1,1,null,0]
[null,null,"Centerline Rumble Strips",1,0,1,1,null,0]
[null,null,"Driveway Density (driveways per mile)",1,0,1,1,null,0]
[null,null,"Lighting",1,0,1,1,null,0]
[null,null,"Pavement Friction (skid number) ***",1,0,1,1,null,0]
[null,null,"Traffic Control Element (Partial Score):"]
[null,null,"Total Safety Score"]
[]
[]
[]
[]
[]
[]
[]
[]
[null,null,"Roadside Sideslope (Foreslope)",{"$f":"IF(ISBLANK(D75),1,0)","v":1},0,1,1,null,{"$f":"IF(ISBLANK(I75),1,0)","v":0}]
[null,null,"Roadside Backslope",1,0,1,1,null,0]
[null,null,"Safety Edge",1,0,1,1,null,0]
[null,null,"Roadside Lateral Clearance to Obstruction (ft)",1,0,1,1,null,0]
[null,null,"Roadside Obstruction Type",1,0,1,1,null,0]
[null,null,"Roadside Element (Partial Score):"]
[null,null,"Total Safety Score"]
[]
[]
[]
[]
[]
[null,null,"Distance to Slope Toe from Shoulder (ft)",{"$f":"IF(ISBLANK(D87),1,0)","v":1},{"$f":"D314","v":1},{"$f":"E314","v":1},1,null,0]
[null,null,null,null,null,null,null,null,{"$f":"SUM(I316:I324)","v":9}]
[null,null,null,null,null,null,null,{"$f":"F9","v":"Location "},{"$f":"IF(ISBLANK(I9),1,0)","v":1}]
[null,null,null,null,null,null,null,{"$f":"F10","v":"Design Speed (mph)"},{"$f":"IF(ISBLANK(I10),1,0)","v":1}]
[null,null,null,null,null,null,null,"Posted Speed (mph)",1]
[null,null,null,null,null,null,null,"E max (%)",1]
[null,null,null,null,null,null,null,"    Design Year AADT (vehicles per day)",1]
[null,null,null,null,null,null,null,"    Dist. from Centerline to Left   ROW (feet)",1]
[null,null,null,null,null,null,null,"    Dist. from Centerline to Right ROW (feet)",1]
[null,null,null,null,null,null,null,"H CV",{"$f":"IF(ISBLANK(B31),1,0)","v":1}]
[null,null,null,null,null,null,null,"V HV",{"$f":"IF(ISBLANK(B38),1,0)","v":1}]
[]
[]
[]
[]
[]
[]
[]
[]
[]
[]
[]
[]
[]
[]
[]
[]
[]
[]
[]
[]
[]
[]
[]
[]
[]
[]
[]
[]
[]
[]
[]
[]
[]
[]
[]
[]
[]
[]
[]
[]
[]
[]
[]
[]
[]
[]
[]
[]
[]
[]
[]
[]
[]
[]
[1]
[22]
[21]
[20]
[19,null,null,{"$f":"Constraints!P174","v":"Emax=6%"}]
[18]
[17,null,{"$f":"HLOOKUP($I$10,Constraints!$Q$176:AD197,A379,TRUE)","v":{"$error":"#N/A"}},{"$f":"Constraints!P176","v":"super"}]
[16,null,{"$f":"HLOOKUP($I$10,Constraints!$Q$176:AD198,A380,TRUE)","v":{"$error":"#N/A"}},{"$f":"Constraints!P197","v":6},1050]
[15,null,{"$f":"HLOOKUP($I$10,Constraints!$Q$176:AD199,A381,TRUE)","v":{"$error":"#N/A"}},{"$f":"Constraints!P196","v":5.8}]
[14,null,{"$f":"HLOOKUP($I$10,Constraints!$Q$176:AD200,A382,TRUE)","v":{"$error":"#N/A"}},{"$f":"Constraints!P195","v":5.6}]
[13,null,{"$f":"HLOOKUP($I$10,Constraints!$Q$176:AD201,A383,TRUE)","v":{"$error":"#N/A"}},{"$f":"Constraints!P194","v":5.4}]
[12,null,{"$f":"HLOOKUP($I$10,Constraints!$Q$176:AD202,A384,TRUE)","v":{"$error":"#N/A"}},{"$f":"Constraints!P193","v":5.2}]
[11,null,{"$f":"HLOOKUP($I$10,Constraints!$Q$176:AD203,A385,TRUE)","v":{"$error":"#N/A"}},{"$f":"Constraints!P192","v":5}]
[10,null,{"$f":"HLOOKUP($I$10,Constraints!$Q$176:AD204,A386,TRUE)","v":{"$error":"#N/A"}},{"$f":"Constraints!P191","v":4.8}]
[9,null,{"$f":"HLOOKUP($I$10,Constraints!$Q$176:AD205,A387,TRUE)","v":{"$error":"#N/A"}},{"$f":"Constraints!P190","v":4.5999999999999996}]
[8,null,{"$f":"HLOOKUP($I$10,Constraints!$Q$176:AD206,A388,TRUE)","v":{"$error":"#N/A"}},{"$f":"Constraints!P189","v":4.4000000000000004}]
[7,null,{"$f":"HLOOKUP($I$10,Constraints!$Q$176:AD207,A389,TRUE)","v":{"$error":"#N/A"}},{"$f":"Constraints!P188","v":4.2}]
[6,null,{"$f":"HLOOKUP($I$10,Constraints!$Q$176:AD208,A390,TRUE)","v":{"$error":"#N/A"}},{"$f":"Constraints!P187","v":4}]
[5,null,{"$f":"HLOOKUP($I$10,Constraints!$Q$176:AD209,A391,TRUE)","v":{"$error":"#N/A"}},{"$f":"Constraints!P186","v":3.8}]
[4,null,{"$f":"HLOOKUP($I$10,Constraints!$Q$176:AD210,A392,TRUE)","v":{"$error":"#N/A"}},{"$f":"Constraints!P185","v":3.6}]
[3,null,{"$f":"HLOOKUP($I$10,Constraints!$Q$176:AD211,A393,TRUE)","v":{"$error":"#N/A"}},{"$f":"Constraints!P184","v":3.4}]
[2,null,{"$f":"HLOOKUP($I$10,Constraints!$Q$176:AD212,A394,TRUE)","v":{"$error":"#N/A"}},{"$f":"Constraints!P183","v":3.2}]
[null,null,{"$f":"HLOOKUP($I$10,Constraints!$Q$176:AD213,A395,TRUE)","v":{"$error":"#N/A"}},{"$f":"Constraints!P182","v":3}]
[null,null,{"$f":"HLOOKUP($I$10,Constraints!$Q$176:AD214,A396,TRUE)","v":{"$error":"#N/A"}},{"$f":"Constraints!P181","v":2.8}]
[null,null,{"$f":"HLOOKUP($I$10,Constraints!$Q$176:AD215,A397,TRUE)","v":{"$error":"#N/A"}},{"$f":"Constraints!P180","v":2.6}]
[null,null,{"$f":"HLOOKUP($I$10,Constraints!$Q$176:AD216,A398,TRUE)","v":{"$error":"#N/A"}},{"$f":"Constraints!P179","v":2.4}]
[null,null,{"$f":"HLOOKUP($I$10,Constraints!$Q$176:AD217,A399,TRUE)","v":{"$error":"#N/A"}},{"$f":"Constraints!P178","v":2.2000000000000002}]
[1,null,{"$f":"HLOOKUP($I$10,Constraints!$Q$176:AD218,A400,TRUE)","v":{"$error":"#N/A"}},{"$f":"Constraints!P177","v":2}]
[32]
[31]
[30]
[29,null,null,{"$f":"Constraints!P201","v":"Emax=8%"}]
[28]
[27,null,{"$f":"HLOOKUP($I$10,Constraints!$Q$203:AD234,A406,TRUE)","v":{"$error":"#N/A"}},{"$f":"Constraints!P203","v":"super"}]
[26,null,{"$f":"HLOOKUP($I$10,Constraints!$Q$203:AD235,A407,TRUE)","v":{"$error":"#N/A"}},{"$f":"INDEX(Constraints!$P$203:$P$234,A407,)","v":8}]
[25,null,{"$f":"HLOOKUP($I$10,Constraints!$Q$203:AD236,A408,TRUE)","v":{"$error":"#N/A"}},{"$f":"INDEX(Constraints!$P$203:$P$234,A408,)","v":7.8}]
[24,null,{"$f":"HLOOKUP($I$10,Constraints!$Q$203:AD237,A409,TRUE)","v":{"$error":"#N/A"}},{"$f":"INDEX(Constraints!$P$203:$P$234,A409,)","v":7.6}]
[23,null,{"$f":"HLOOKUP($I$10,Constraints!$Q$203:AD238,A410,TRUE)","v":{"$error":"#N/A"}},{"$f":"INDEX(Constraints!$P$203:$P$234,A410,)","v":7.4}]
[22,null,{"$f":"HLOOKUP($I$10,Constraints!$Q$203:AD239,A411,TRUE)","v":{"$error":"#N/A"}},{"$f":"INDEX(Constraints!$P$203:$P$234,A411,)","v":7.2}]
[21,null,{"$f":"HLOOKUP($I$10,Constraints!$Q$203:AD240,A412,TRUE)","v":{"$error":"#N/A"}},{"$f":"INDEX(Constraints!$P$203:$P$234,A412,)","v":7}]
[20,null,{"$f":"HLOOKUP($I$10,Constraints!$Q$203:AD241,A413,TRUE)","v":{"$error":"#N/A"}},{"$f":"INDEX(Constraints!$P$203:$P$234,A413,)","v":6.8}]
[19,null,{"$f":"HLOOKUP($I$10,Constraints!$Q$203:AD242,A414,TRUE)","v":{"$error":"#N/A"}},{"$f":"INDEX(Constraints!$P$203:$P$234,A414,)","v":6.6}]
[18,null,{"$f":"HLOOKUP($I$10,Constraints!$Q$203:AD243,A415,TRUE)","v":{"$error":"#N/A"}},{"$f":"INDEX(Constraints!$P$203:$P$234,A415,)","v":6.4}]
[17,null,{"$f":"HLOOKUP($I$10,Constraints!$Q$203:AD244,A416,TRUE)","v":{"$error":"#N/A"}},{"$f":"INDEX(Constraints!$P$203:$P$234,A416,)","v":6.2}]
[16,null,{"$f":"HLOOKUP($I$10,Constraints!$Q$203:AD245,A417,TRUE)","v":{"$error":"#N/A"}},{"$f":"INDEX(Constraints!$P$203:$P$234,A417,)","v":6}]
[15,null,{"$f":"HLOOKUP($I$10,Constraints!$Q$203:AD246,A418,TRUE)","v":{"$error":"#N/A"}},{"$f":"INDEX(Constraints!$P$203:$P$234,A418,)","v":5.8}]
[14,null,{"$f":"HLOOKUP($I$10,Constraints!$Q$203:AD247,A419,TRUE)","v":{"$error":"#N/A"}},{"$f":"INDEX(Constraints!$P$203:$P$234,A419,)","v":5.6}]
[13,null,{"$f":"HLOOKUP($I$10,Constraints!$Q$203:AD248,A420,TRUE)","v":{"$error":"#N/A"}},{"$f":"INDEX(Constraints!$P$203:$P$234,A420,)","v":5.4}]
[12,null,{"$f":"HLOOKUP($I$10,Constraints!$Q$203:AD249,A421,TRUE)","v":{"$error":"#N/A"}},{"$f":"INDEX(Constraints!$P$203:$P$234,A421,)","v":5.2}]
[11,null,{"$f":"HLOOKUP($I$10,Constraints!$Q$203:AD250,A422,TRUE)","v":{"$error":"#N/A"}},{"$f":"INDEX(Constraints!$P$203:$P$234,A422,)","v":5}]
[10,null,{"$f":"HLOOKUP($I$10,Constraints!$Q$203:AD251,A423,TRUE)","v":{"$error":"#N/A"}},{"$f":"INDEX(Constraints!$P$203:$P$234,A423,)","v":4.8}]
[9,null,{"$f":"HLOOKUP($I$10,Constraints!$Q$203:AD252,A424,TRUE)","v":{"$error":"#N/A"}},{"$f":"INDEX(Constraints!$P$203:$P$234,A424,)","v":4.5999999999999996}]
[8,null,{"$f":"HLOOKUP($I$10,Constraints!$Q$203:AD253,A425,TRUE)","v":{"$error":"#N/A"}},{"$f":"INDEX(Constraints!$P$203:$P$234,A425,)","v":4.4000000000000004}]
[7,null,{"$f":"HLOOKUP($I$10,Constraints!$Q$203:AD254,A426,TRUE)","v":{"$error":"#N/A"}},{"$f":"INDEX(Constraints!$P$203:$P$234,A426,)","v":4.2}]
[6,null,{"$f":"HLOOKUP($I$10,Constraints!$Q$203:AD255,A427,TRUE)","v":{"$error":"#N/A"}},{"$f":"INDEX(Constraints!$P$203:$P$234,A427,)","v":4}]
[5,null,{"$f":"HLOOKUP($I$10,Constraints!$Q$203:AD256,A428,TRUE)","v":{"$error":"#N/A"}},{"$f":"INDEX(Constraints!$P$203:$P$234,A428,)","v":3.8}]
[4,null,{"$f":"HLOOKUP($I$10,Constraints!$Q$203:AD257,A429,TRUE)","v":{"$error":"#N/A"}},{"$f":"INDEX(Constraints!$P$203:$P$234,A429,)","v":3.6}]
[3,null,{"$f":"HLOOKUP($I$10,Constraints!$Q$203:AD258,A430,TRUE)","v":{"$error":"#N/A"}},{"$f":"INDEX(Constraints!$P$203:$P$234,A430,)","v":3.4}]
[2,null,{"$f":"HLOOKUP($I$10,Constraints!$Q$203:AD259,A431,TRUE)","v":{"$error":"#N/A"}},{"$f":"INDEX(Constraints!$P$203:$P$234,A431,)","v":3.2}]
[null,null,{"$f":"HLOOKUP($I$10,Constraints!$Q$203:AD260,A432,TRUE)","v":{"$error":"#N/A"}},{"$f":"INDEX(Constraints!$P$203:$P$234,A432,)","v":3}]
[null,null,{"$f":"HLOOKUP($I$10,Constraints!$Q$203:AD261,A433,TRUE)","v":{"$error":"#N/A"}},{"$f":"INDEX(Constraints!$P$203:$P$234,A433,)","v":2.8}]
[null,null,{"$f":"HLOOKUP($I$10,Constraints!$Q$203:AD262,A434,TRUE)","v":{"$error":"#N/A"}},{"$f":"INDEX(Constraints!$P$203:$P$234,A434,)","v":2.6}]
[null,null,{"$f":"HLOOKUP($I$10,Constraints!$Q$203:AD263,A435,TRUE)","v":{"$error":"#N/A"}},{"$f":"INDEX(Constraints!$P$203:$P$234,A435,)","v":2.4}]
[null,null,{"$f":"HLOOKUP($I$10,Constraints!$Q$203:AD264,A436,TRUE)","v":{"$error":"#N/A"}},{"$f":"INDEX(Constraints!$P$203:$P$234,A436,)","v":2.2000000000000002}]
[null,null,{"$f":"HLOOKUP($I$10,Constraints!$Q$203:AD265,A437,TRUE)","v":{"$error":"#N/A"}},{"$f":"INDEX(Constraints!$P$203:$P$234,A437,)","v":2}]

{"sheet":"Configuration 10","index":20,"n_rows":443,"n_cols":113,"rows_kept":443,"cut":false,"hidden":false,"merged":[[87,1,87,2],[88,1,88,2],[89,1,89,2],[97,10,97,12],[69,16,69,21],[69,22,69,23],[70,16,70,21],[70,22,70,23],[71,16,71,21],[71,22,71,23],[68,16,68,21],[68,22,68,23],[17,2,17,8],[18,2,18,8],[19,2,19,8],[20,5,20,7],[41,9,41,10],[46,2,47,2],[4,21,44,28],[48,12,48,19],[55,15,55,16],[55,18,55,19],[55,21,55,22],[67,16,67,23],[4,3,4,4],[9,3,9,4],[9,5,9,6],[10,3,10,4],[10,5,10,6],[8,3,8,4],[8,5,8,6],[12,2,15,4],[12,5,12,6],[13,5,13,6],[14,5,14,6],[11,5,11,6],[1,6,2,7],[1,8,2,8],[1,21,1,37],[2,1,2,4],[2,21,3,28],[2,30,3,37],[3,1,3,4],[3,6,4,7],[3,8,4,8],[4,1,4,2],[4,30,44,37],[5,1,5,2],[5,3,5,4],[6,1,6,7],[7,1,7,4],[7,7,7,8]]}
[]
[null,null,null,null,null,null,"Preferred Schematic View to Display",null,"Standard",null,null,null,null,null,null,null,null,null,null,null,null,"NOTES: "]
[null,"CHARACTERISTICS TO CONSIDER FOR ANALYSIS",null,null,null,null,null,null,null,null,null,null,null,null,null,null,null,null,null,null,null,"ELEMENTS INCREASING SAFETY",null,null,null,null,null,null,null,null,"COMMENTS ON PRIMARY CONSTRAINTS"]
[null,"INPUT INSTRUCTIONS",null,null,null,null,"Relative to",null,"Existing"]
[null,"Blue Boxes -- Select from pulldown options",null,"Select from Pulldown"]
[null,"Yellow Boxes -- Type input information into box",null,"Type Input Value"]
[null," Rural Multi-Lane Road Segment -- Safety Score Input",null,null,null,null,null,null,null,null,null,null,null,null,null,null,null,null,null,null,null,null,null,null,null,null,null,null,null,null,null,null,null,null,null,null,null,null,null,null,null,null,null,null,null,null,null,null,null,null,null,null,null,null,null,null,null,null,null,null,null,null,null,null,null,null,null,null,null,null,null,null,null,null,null,null,null,null,null,null,null,null,null,"Unadjusted Marginal Safety"]
[null,"General Information:",null,null,null,"General Site Features",null,{"$f":" I315 & \" Missing Features and Curves\"","v":"9 Missing Features and Curves"},null,null,null,null,null,null,null,null,null,null,null,null,null,null,null,null,null,null,null,null,null,null,null,null,null,null,null,null,null,null,null,null,null,null,null,null,null,null,null,null,null,null,null,null,null,null,null,null,null,null,null,null,null,null,null,null,null,null,null,null,null,null,null,null,null,null,null,null,null,null,null,null,null,null,null,{"$f":"I2&\" relative to \" &I4","v":"Standard relative to Existing"}]
[null,null,"Analyst:",{"$f":"+'Start Here'!H7","v":0},null,"Location "]
[null,null,"Agency or Company:",{"$f":"+'Start Here'!H8","v":0},null,"Design Speed (mph)"]
[null,null,"Date:",{"$f":"+'Start Here'!H9","v":"00:00:00"},null,"Posted Speed (mph)"]
[null,null,"Description:",null,null,"E max (%)"]
[null,null,"Input additional site information here",null,null,"    Design Year AADT (vehicles per day)"]
[null,null,null,null,null,"    Dist. from Centerline to Left   ROW (feet)"]
[null,null,null,null,null,"    Dist. from Centerline to Right ROW (feet)"]
[]
[null,"Warning:"]
[null,null,{"$f":"+IF(+I11>I10,\"Posted speed exceeds design speed. Optimal safety will only be achieved if design speed exceeds posted speed. The Safety Assessment Score is based on the higher of the two speed values.\",\"No speed warnings identified\")","v":"No speed warnings identified"}]
[null,null,{"$f":"IF(OR(F24=INDEX(MedConf_Header,1,3),+G24=INDEX(MedConf_Header,1,3)), \"Multilane undivided facilities are known to have substantially more collisions than multilane facilities with medians. In new construction a median or TWLTL should be considered.\",\" \")","v":" "},null,null,null,null,null,null,null,null,null,null,null,null,null,null,null,null,null,null,null,null,null,null,null,null,null,null,null,null,null,null,null,null,null,null,null,null,null,null,null,null,null,null,null,null,null,null,null,null,null,null,null,null,null,null,null,null,null,null,null,null,null,null,null,null,null,null,null,null,null,null,null,null,null,null,null,null,null,null,null,null,null,null,null,null,null,null,null,null,null,null,null,null,null,null,null,null,null,null,null,null,null,null,{"$f":"COUNTIF(DB23:DB46,DB20)","v":1}]
[null,null,{"$f":"IF(I13=\"40,001 < AADT < 60,000\", \"Multi-lane Road Should be Divided Due to High AADT Value\",\"\")","v":""},null,null,null,null,null,null,null,null,null,null,null,null,null,null,null,null,null,null,null,null,null,null,null,null,null,null,null,null,null,null,null,null,null,null,null,null,null,null,null,null,null,null,null,null,null,null,null,null,null,null,null,null,null,null,null,null,null,null,null,null,null,null,null,null,null,null,null,null,null,null,null,null,null,null,null,null,null,null,null,null,null,null,null,null,null,null,null,null,null,null,null,null,null,null,null,null,null,null,null,null,null,null,{"$f":"VLOOKUP(0,CZ23:DB46,3,)","v":10.01}]
[null,null,null,"Fill all elements",null,"To enter notes, use boxes to the right of the vortex ",null,null,null,null," "]
[null,{"$f":"+Construction!$I$2&\"  Total Available Points\"","v":"40  Total Available Points"},null,{"$f":" D249 & \" Missing Elements\"","v":"19 Missing Elements"},null,{"$f":" F249 & \" Missing Elements\"","v":"19 Missing Elements"},{"$f":" G249 & \" Missing Elements\"","v":"19 Missing Elements"},null,null,null,null,null,null,null,null,null,null,null,null,null,null,null,null,null,null,null,null,null,null,null,null,null,null,null,null,null,null,null,null,null,null,null,null,null,null,null,null,null,null,null,null,null,null,null,null,null,null,null,null,null,null,null,null,null,null,null,null,null,null,null,null,null,null,null,null,null,null,null,null,null,null,null,null,null,null,null,null,null,null,null,null,null,null,null,null,null,null,null,null,null,null,"Ranked element","CRF","abs","Re-rank","Rank","Ranked CRF","Element","New Element","crf.abs","rank","Sorted Element","Sorted CRF"]
[null,"Geometric Design Elements",null,"Existing","Standard (Based on Multi-lane Divided)","Design 1","Design 2",{"$f":"\"Marginal Safety for \"&$I$2&\" (compared to \" & $I$4 & \")\"","v":"Marginal Safety for Standard (compared to Existing)"},"Optimal (Based on Multi-lane Divided)",null,null,null,null,null,null,null,null,null,null,null,null,null,null,null,null,null,null,null,null,null,null,null,null,null,null,null,null,null,null,null,null,null,null,null,null,null,null,null,null,null,null,null,null,null,null,null,null,null,null,null,null,null,null,null,null,null,null,null,null,null,null,null,null,null,null,null,null,null,null,null,null,null,null,null,null,null,null,null,null,null,null,null,null,null,null,null,null,null,null,null,null,{"$f":"IF(CY23=0,\"\",DB23&\". \"&DD23)","v":""},{"$f":"H24","v":0},{"$f":"ABS(CY23)","v":0},{"$f":"_xlfn.RANK.EQ(DB23,$DB$23:$DB$46,1)","v":10},{"$f":"_xlfn.RANK.EQ(CZ23,$CZ$23:$CZ$46)+DG23/100","v":10.01},{"$f":"CY23","v":0},{"$f":"IF(ROUND(DF23,2)=0,\"\",C24)","v":""},{"$f":"DD23","v":""},{"$f":"CZ23","v":0},1,{"$f":"IFERROR(IF(IFERROR(VLOOKUP(DG23,$DA$23:$DF$46,4,)&\", \"&CY23=0,\"\"),\"\",IFERROR(VLOOKUP(DG23,$DA$23:$DE$46,4,),\"\")),\"\")","v":"Pavement Friction (skid number) ***"},{"$f":"IFERROR(IF(IFERROR(VLOOKUP(DG23,$DA$23:$DF$46,3,)&\", \"&CY23=0,\"\"),\"\",IFERROR(VLOOKUP(DG23,$DA$23:$DE$46,3,),\"\")),\"\")","v":0.28430956017940245}]
[null,null,"Configuration of Multilane Roadway",null,"Divided - Unsurfaced Median",null,null,null,"Divided - Unsurfaced Median",null,null,null,null,null,null,null,null,null,null,null,null,null,null,null,null,null,null,null,null,null,null,null,null,null,null,null,null,null,null,null,null,null,null,null,null,null,null,null,null,null,null,null,null,null,null,null,null,null,null,null,null,null,null,null,null,null,null,null,null,null,null,null,null,null,null,null,null,null,null,null,null,null,null,null,null,null,null,null,null,null,null,null,null,null,null,null,null,null,null,null,null,"5.02. Median Configuration (Width or Type)",{"$f":"H25","v":8.9999999999999969E-2},8.9999999999999969E-2,{"$f":"_xlfn.RANK.EQ(DB24,$DB$23:$DB$46,1)","v":5},{"$f":"_xlfn.RANK.EQ(CZ24,$CZ$23:$CZ$46)+DG24/100","v":5.0199999999999996},{"$f":"CY24","v":8.9999999999999969E-2},{"$f":"IF(ROUND(DF24,2)=0,\"\",C25)","v":"Median Configuration (Width or Type)"},{"$f":"DD24","v":"Median Configuration (Width or Type)"},8.9999999999999969E-2,2,{"$f":"IFERROR(IF(IFERROR(VLOOKUP(DG24,$DA$23:$DF$46,4,)&\", \"&CY24=0,\"\"),\"\",IFERROR(VLOOKUP(DG24,$DA$23:$DE$46,4,),\"\")),\"\")","v":"Driveway Density (driveways per mile)"},{"$f":"IFERROR(IF(IFERROR(VLOOKUP(DG24,$DA$23:$DF$46,3,)&\", \"&CY24=0,\"\"),\"\",IFERROR(VLOOKUP(DG24,$DA$23:$DE$46,3,),\"\")),\"\")","v":-0.22388114201141129}]
[null,null,"Median Configuration (Width or Type)",null,30,null,null,{"$f":"M103","v":8.9999999999999969E-2},100,null,null,null,null,null,null,null,null,null,null,null,null,null,null,null,null,null,null,null,null,null,null,null,null,null,null,null,null,null,null,null,null,null,null,null,null,null,null,null,null,null,null,null,null,null,null,null,null,null,null,null,null,null,null,null,null,null,null,null,null,null,null,null,null,null,null,null,null,null,null,null,null,null,null,null,null,null,null,null,null,null,null,null,null,null,null,null,null,null,null,null,null,"",{"$f":"H27","v":0},0,11,10.029999999999999,{"$f":"CY25","v":0},{"$f":"IF(ROUND(DF25,2)=0,\"\",C27)","v":""},{"$f":"DD25","v":""},0,3,{"$f":"IFERROR(IF(IFERROR(VLOOKUP(DG25,$DA$23:$DF$46,4,)&\", \"&CY25=0,\"\"),\"\",IFERROR(VLOOKUP(DG25,$DA$23:$DE$46,4,),\"\")),\"\")","v":"Average Outside Shoulder Width (feet)"},{"$f":"IFERROR(IF(IFERROR(VLOOKUP(DG25,$DA$23:$DF$46,3,)&\", \"&CY25=0,\"\"),\"\",IFERROR(VLOOKUP(DG25,$DA$23:$DE$46,3,),\"\")),\"\")","v":0.18061674008810569}]
[null,null,null,null,null,null,null,null,null,null,null,null,null,null,null,null,null,null,null,null,null,null,null,null,null,null,null,null,null,null,null,null,null,null,null,null,null,null,null,null,null,null,null,null,null,null,null,null,null,null,null,null,null,null,null,null,null,null,null,null,null,null,null,null,null,null,null,null,null,null,null,null,null,null,null,null,null,null,null,null,null,null,null,null,null,null,null,null,null,null,null,null,null,null,null,null,null,null,null,null,null,null,null,null,null,null,null,null,null,null,4,{"$f":"IFERROR(IF(IFERROR(VLOOKUP(DG26,$DA$23:$DF$46,4,)&\", \"&CY26=0,\"\"),\"\",IFERROR(VLOOKUP(DG26,$DA$23:$DE$46,4,),\"\")),\"\")","v":"Roadside Sideslope (Foreslope)"},{"$f":"IFERROR(IF(IFERROR(VLOOKUP(DG26,$DA$23:$DF$46,3,)&\", \"&CY26=0,\"\"),\"\",IFERROR(VLOOKUP(DG26,$DA$23:$DE$46,3,),\"\")),\"\")","v":0.15697622474810147}]
[null,null,"Lane Width (feet)",null,12,null,null,{"$f":"M104","v":0},12,null,null,null,null,null,null,null,null,null,null,null,null,null,null,null,null,null,null,null,null,null,null,null,null,null,null,null,null,null,null,null,null,null,null,null,null,null,null,null,null,null,null,null,null,null,null,null,null,null,null,null,null,null,null,null,null,null,null,null,null,null,null,null,null,null,null,null,null,null,null,null,null,null,null,null,null,null,null,null,null,null,null,null,null,null,null,null,null,null,null,null,null,null,null,null,null,null,null,null,null,null,5,"Median Configuration (Width or Type)",8.9999999999999969E-2]
[null,null,"Average Outside Shoulder Width (feet)",null,8,null,null,{"$f":"M105","v":0.18061674008810569},10,null,null,null,null,null,null,null,null,null,null,null,null,null,null,null,null,null,null,null,null,null,null,null,null,null,null,null,null,null,null,null,null,null,null,null,null,null,null,null,null,null,null,null,null,null,null,null,null,null,null,null,null,null,null,null,null,null,null,null,null,null,null,null,null,null,null,null,null,null,null,null,null,null,null,null,null,null,null,null,null,null,null,null,null,null,null,null,null,null,null,null,null,{"$f":"IF(CY28=0,\"\",DB28&\". \"&DD28)","v":"3.06. Average Outside Shoulder Width (feet)"},{"$f":"H28","v":0.18061674008810569},{"$f":"ABS(CY28)","v":0.18061674008810569},3,3.06,{"$f":"CY28","v":0.18061674008810569},{"$f":"IF(ROUND(DF28,2)=0,\"\",C28)","v":"Average Outside Shoulder Width (feet)"},{"$f":"DD28","v":"Average Outside Shoulder Width (feet)"},{"$f":"CZ28","v":0.18061674008810569},6,"Roadside Lateral Clearance to Obstruction (ft)",6.4777606999867676E-2]
[null,null,"Average Inside Shoulder Width (feet)",null,4,null,null,{"$f":"M106","v":0},10,null,null,null,null,null,null,null,null,null,null,null,null,null,null,null,null,null,null,null,null,null,null,null,null,null,null,null,null,null,null,null,null,null,null,null,null,null,null,null,null,null,null,null,null,null,null,null,null,null,null,null,null,null,null,null,null,null,null,null,null,null,null,null,null,null,null,null,null,null,null,null,null,null,null,null,null,null,null,null,null,null,null,null,null,null,null,null,null,null,null,null,null,{"$f":"IF(CY29=0,\"\",DB29&\". \"&DD29)","v":""},{"$f":"H33","v":0},{"$f":"ABS(CY29)","v":0},12,10.07,0,{"$f":"IF(ROUND(DF29,2)=0,\"\",\"Hz and Vt Alignment\")","v":""},"",{"$f":"CZ29","v":0},7,"Safety Edge",-2.3424031600265627E-2]
["",null,"Number of Lanes per Direction of Travel",null,2,null,null,null,2,null,null,null,null,null,null,null,null,null,null,null,null,null,null,null,null,null,null,null,null,null,null,null,null,null,null,null,null,null,null,null,null,null,null,null,null,null,null,null,null,null,null,null,null,null,null,null,null,null,null,null,null,null,null,null,null,null,null,null,null,null,null,null,null,null,null,null,null,null,null,null,null,null,null,null,null,null,null,null,null,null,null,null,null,null,null,null,null,null,null,null,null,{"$f":"IF(CY30=0,\"\",DB30&\". \"&DD30)","v":""},{"$f":"H29","v":0},{"$f":"ABS(CY30)","v":0},13,10.08,0,{"$f":"IF(ROUND(DF30,2)=0,\"\",C29)","v":""},"",{"$f":"CZ30","v":0},8,"Shoulder Rumble Strips",2.2875008800570917E-2]
[null,null,"Horizontal Curve Present?","--","--","--","--",null,"--",null,null,null,null,null,null,null,null,null,null,null,null,null,null,null,null,null,null,null,null,null,null,null,null,null,null,null,null,null,null,null,null,null,null,null,null,null,null,null,null,null,null,null,null,null,null,null,null,null,null,null,null,null,null,null,null,null,null,null,null,null,null,null,null,null,null,null,null,null,null,null,null,null,null,null,null,null,null,null,null,null,null,null,null,null,null,null,null,null,null,null,null,{"$f":"IF(CY31=0,\"\",DB31&\". \"&DD31)","v":""},{"$f":"H47","v":0},{"$f":"ABS(CY31)","v":0},14,10.09,0,{"$f":"IF(ROUND(DF31,2)=0,\"\",C47)","v":""},"",{"$f":"CZ31","v":0},9,"Lighting",-1.7096579124742384E-2]
[null,null,"Horizontal Curve Data for Controlling Element:","--","--","--","--",null,"--",null,null,null,null,null,null,null,null,null,null,null,null,null,null,null,null,null,null,null,null,null,null,null,null,null,null,null,null,null,null,null,null,null,null,null,null,null,null,null,null,null,null,null,null,null,null,null,null,null,null,null,null,null,null,null,null,null,null,null,null,null,null,null,null,null,null,null,null,null,null,null,null,null,null,null,null,null,null,null,null,null,null,null,null,null,null,null,null,null,null,null,null,"",{"$f":"H48","v":0},0,15,10.1,0,{"$f":"IF(ROUND(DF32,2)=0,\"\",C48)","v":""},"",0,10,"",0]
[null,null,"  Radius (feet)",null,{"$f":"IF(MAX($I$10,$I$11)<45,590,IF($I$12=6,VLOOKUP(MAX($I$10,$I$11),Construction!$B$27:$D$34,2,TRUE),VLOOKUP(MAX($I$10,$I$11),Construction!$G$27:$I$34,2,TRUE)))","v":590},null,null,{"$f":"M144","v":0},{"$f":"IF(MAX($I$10,$I$11)<45,590,IF($I$12=6,VLOOKUP(MAX($I$10,$I$11),Construction!$B$43:$C$50,2,TRUE),VLOOKUP(MAX($I$10,$I$11),Construction!$G$43:$H$50,2,TRUE)))","v":590},null,null,null,null,null,null,null,null,null,null,null,null,null,null,null,null,null,null,null,null,null,null,null,null,null,null,null,null,null,null,null,null,null,null,null,null,null,null,null,null,null,null,null,null,null,null,null,null,null,null,null,null,null,null,null,null,null,null,null,null,null,null,null,null,null,null,null,null,null,null,null,null,null,null,null,null,null,null,null,null,null,null,null,null,null,null,null,null,null,null,null,null,"",{"$f":"H56","v":0},0,16,10.11,0,{"$f":"IF(ROUND(DF33,2)=0,\"\",C56)","v":""},"",0,11,"",0]
[null,null,"Length of Horizontal Curve (feet)",null,{"$f":"IF(D35=\"\", \"\", E33*E35/57.296)","v":""},null,null,null,{"$f":"I33*I35/57.296","v":3758.5520804244625},null,null,null,null,null,null,null,null,null,null,null,null,null,null,null,null,null,null,null,null,null,null,null,null,null,null,null,null,null,null,null,null,null,null,null,null,null,null,null,null,null,null,null,null,null,null,null,null,null,null,null,null,null,null,null,null,null,null,null,null,null,null,null,null,null,null,null,null,null,null,null,null,null,null,null,null,null,null,null,null,null,null,null,null,null,null,null,null,null,null,null,null,"",0,0,17,10.119999999999999,0,"","",0,12,"",0]
[null,null,"Calculated Deflection Angle ∆",{"$f":"IF(OR(ISBLANK(D33),ISBLANK(D34),$B$31=\"No\",ISBLANK($B$31)),\"\",ROUND(D34/D33*57.296,1))","v":""},{"$f":"IF(ISBLANK(D35), \"\",D35)","v":""},{"$f":"IF(OR(ISBLANK(F33),ISBLANK(F34),$B$31=\"No\",ISBLANK($B$31)),\"\",ROUND(F34/F33*57.296,1))","v":""},{"$f":"IF(OR(ISBLANK(G33),ISBLANK(G34),$B$31=\"No\",ISBLANK($B$31)),\"\",ROUND(G34/G33*57.296,1))","v":""},null,{"$f":"MIN(D35,IF(F37=INDEX(HCurveChange,1,0), F35, 365),IF(G37=INDEX(HCurveChange,1,0), G35, 365))","v":365},null,null,null,null,null,null,null,null,null,null,null,null,null,null,null,null,null,null,null,null,null,null,null,null,null,null,null,null,null,null,null,null,null,null,null,null,null,null,null,null,null,null,null,null,null,null,null,null,null,null,null,null,null,null,null,null,null,null,null,null,null,null,null,null,null,null,null,null,null,null,null,null,null,null,null,null,null,null,null,null,null,null,null,null,null,null,null,null,null,null,null,null,"",0,0,18,10.130000000000001,0,"","",0,13,"",0]
[null,null,null,null,null,"∆ has changed. \nAre you changing the ∆?","∆ has changed. \nAre you changing the ∆?",null,null,null,null,null,null,null,null,null,null,null,null,null,null,null,null,null,null,null,null,null,null,null,null,null,null,null,null,null,null,null,null,null,null,null,null,null,null,null,null,null,null,null,null,null,null,null,null,null,null,null,null,null,null,null,null,null,null,null,null,null,null,null,null,null,null,null,null,null,null,null,null,null,null,null,null,null,null,null,null,null,null,null,null,null,null,null,null,null,null,null,null,null,null,"",0,0,19,10.14,0,"","",0,14,"",0]
[null,null,null,null,null,null,null,null,null,null,null,null,null,null,null,null,null,null,null,null,null,null,null,null,null,null,null,null,null,null,null,null,null,null,null,null,null,null,null,null,null,null,null,null,null,null,null,null,null,null,null,null,null,null,null,null,null,null,null,null,null,null,null,null,null,null,null,null,null,null,null,null,null,null,null,null,null,null,null,null,null,null,null,null,null,null,null,null,null,null,null,null,null,null,null,null,null,null,null,null,null,"8.15. Shoulder Rumble Strips",2.2875008800570917E-2,2.2875008800570917E-2,8,8.15,2.2875008800570917E-2,"Shoulder Rumble Strips","Shoulder Rumble Strips",2.2875008800570917E-2,15,"",0]
[null,null,"Vertical Curve Present?","--","--","--","--",null,{"$f":"E38","v":"--"},null,null,null,null,null,null,null,null,null,null,null,null,null,null,null,null,null,null,null,null,null,null,null,null,null,null,null,null,null,null,null,null,null,null,null,null,null,null,null,null,null,null,null,null,null,null,null,null,null,null,null,null,null,null,null,null,null,null,null,null,null,null,null,null,null,null,null,null,null,null,null,null,null,null,null,null,null,null,null,null,null,null,null,null,null,null,null,null,null,null,null,null,"",0,0,20,10.16,0,"","",0,16,"",0]
[null,null,"Vertical Curve Data for Controlling Element:","--","--","--","--",null,"--",null,null,null,null,null,null,null,null,null,null,null,null,null,null,null,null,null,null,null,null,null,null,null,null,null,null,null,null,null,null,null,null,null,null,null,null,null,null,null,null,null,null,null,null,null,null,null,null,null,null,null,null,null,null,null,null,null,null,null,null,null,null,null,null,null,null,null,null,null,null,null,null,null,null,null,null,null,null,null,null,null,null,null,null,null,null,null,null,null,null,null,null,"2.17. Driveway Density (driveways per mile)",-0.22388114201141129,0.22388114201141129,2,2.17,-0.22388114201141129,{"$f":"IF(DF39=0,\"\",C62)","v":"Driveway Density (driveways per mile)"},"Driveway Density (driveways per mile)",0.22388114201141129,17,"",0]
[null,null,"  Approach (Entry) Grade, G1 (%)",null,{"$f":"IF(ISBLANK(D40),\"\", D40)","v":""},null,null,null,{"$f":"IF(B38=\"Yes\",I231,I241)","v":""},null,null,null,null,null,null,null,null,null,null,null,null,null,null,null,null,null,null,null,null,null,null,null,null,null,null,null,null,null,null,null,null,null,null,null,null,null,null,null,null,null,null,null,null,null,null,null,null,null,null,null,null,null,null,null,null,null,null,null,null,null,null,null,null,null,null,null,null,null,null,null,null,null,null,null,null,null,null,null,null,null,null,null,null,null,null,null,null,null,null,null,null,"9.18. Lighting",-1.7096579124742384E-2,1.7096579124742384E-2,9,9.18,-1.7096579124742384E-2,{"$f":"IF(DF40=0,\"\",C63)","v":"Lighting"},"Lighting",1.7096579124742384E-2,18,"",0]
[null,null,"  Departure (Exit) Grade, G2 (%)",null,{"$f":"IF(ISBLANK(D41),\"\", D41)","v":""},null,null,null,{"$f":"IF($B$38=\"Yes\",I232,\"\")","v":""},null,null,null,null,null,null,null,null,null,null,null,null,null,null,null,null,null,null,null,null,null,null,null,null,null,null,null,null,null,null,null,null,null,null,null,null,null,null,null,null,null,null,null,null,null,null,null,null,null,null,null,null,null,null,null,null,null,null,null,null,null,null,null,null,null,null,null,null,null,null,null,null,null,null,null,null,null,null,null,null,null,null,null,null,null,null,null,null,null,null,null,null,"1.19. Pavement Friction (skid number) ***",0.28430956017940245,0.28430956017940245,1,1.19,0.28430956017940245,{"$f":"IF(DF41=0,\"\",C64)","v":"Pavement Friction (skid number) ***"},"Pavement Friction (skid number) ***",0.28430956017940245,19,"",0]
[null,null,"  Length (feet)",null,{"$f":"IF(AND($B$38=\"Yes\", D43<>\"\"), ABS(E40-E41)*D43, \"\")","v":""},null,null,null,{"$f":"IF(AND($B$38=\"Yes\",I40<>\"\",I41<>\"\", NOT(ISBLANK($I$10)), NOT(ISBLANK($I$11))),ABS(I41-I40)*I43,\"\")","v":""},null,null,null,null,null,null,null,null,null,null,null,null,null,null,null,null,null,null,null,null,null,null,null,null,null,null,null,null,null,null,null,null,null,null,null,null,null,null,null,null,null,null,null,null,null,null,null,null,null,null,null,null,null,null,null,null,null,null,null,null,null,null,null,null,null,null,null,null,null,null,null,null,null,null,null,null,null,null,null,null,null,null,null,null,null,null,null,null,null,null,null,null,"4.2. Roadside Sideslope (Foreslope)",{"$f":"H75","v":0.15697622474810147},0.15697622474810147,4,4.2,0.15697622474810147,{"$f":"IF(DF42=0,\"\",C75)","v":"Roadside Sideslope (Foreslope)"},"Roadside Sideslope (Foreslope)",0.15697622474810147,20,"",0]
[null,null,"  Calculated Rate of Change, K (ft/ft)",{"$f":"IF(OR($B$38=\"No\",ISBLANK($B$38), ISBLANK(D40), ISBLANK(D41),ISBLANK(D42), D40=D41), \"\", ROUND(D42/(ABS(D41-D40)),1))","v":""},{"$f":"IF(AND($B$38=\"Yes\", NOT(ISBLANK($I$10)), NOT(ISBLANK($I$11)), D43<>\"\"), IF($E$46=\"Crest\",  VLOOKUP(MAX($I$10,$I$11),Construction!$B$159:$D$171,2,TRUE), VLOOKUP(MAX($I$10,$I$11),Construction!$B$159:$D$171,3,TRUE)), \"\")","v":""},{"$f":"IF(AND($B$38=\"Yes\", SUM(F267:F269)=0),ROUND(F42/(ABS(F41-F40)),1),\"\")","v":""},{"$f":"IF(AND($B$38=\"Yes\", SUM(G267:G269)=0),ROUND(G42/(ABS(G41-G40)),1),\"\")","v":""},null,{"$f":"IF(OR($B$38<>\"Yes\", ISBLANK($I$10), ISBLANK($I$11), $I$40=\"\", $I$41=\"\", $I$46=\"--\", ISBLANK($I$46)),\"\",IF(I$46=\"Crest\",VLOOKUP(MAX($I$10,$I$11),Construction!$B$177:$D$189,2,TRUE),VLOOKUP(MAX($I$10,$I$11),Construction!$B$177:$D$189,3,TRUE)))","v":""},null,null,null,null,null,null,null,null,null,null,null,null,null,null,null,null,null,null,null,null,null,null,null,null,null,null,null,null,null,null,null,null,null,null,null,null,null,null,null,null,null,null,null,null,null,null,null,null,null,null,null,null,null,null,null,null,null,null,null,null,null,null,null,null,null,null,null,null,null,null,null,null,null,null,null,null,null,null,null,null,null,null,null,null,null,null,null,null,null,null,null,null,"",{"$f":"H76","v":0},0,21,10.210000000000001,0,{"$f":"IF(DF43=0,\"\",C76)","v":""},"",0,21,"",0]
[null,null,null,null,null,"Are you changing the geometry?","Are you changing the geometry?",null,null,null,null,null,null,null,null,null,null,null,null,null,null,null,null,null,null,null,null,null,null,null,null,null,null,null,null,null,null,null,null,null,null,null,null,null,null,null,null,null,null,null,null,null,null,null,null,null,null,null,null,null,null,null,null,null,null,null,null,null,null,null,null,null,null,null,null,null,null,null,null,null,null,null,null,null,null,null,null,null,null,null,null,null,null,null,null,null,null,null,null,null,null,"7.22. Safety Edge",{"$f":"H77","v":-2.3424031600265627E-2},2.3424031600265627E-2,7,7.22,-2.3424031600265627E-2,{"$f":"IF(DF44=0,\"\",C77)","v":"Safety Edge"},"Safety Edge",2.3424031600265627E-2,22,"",0]
[null,null,null,null,null,null,null,null,null,null,null,null,null,null,null,null,null,null,null,null,null,null,null,null,null,null,null,null,null,null,null,null,null,null,null,null,null,null,null,null,null,null,null,null,null,null,null,null,null,null,null,null,null,null,null,null,null,null,null,null,null,null,null,null,null,null,null,null,null,null,null,null,null,null,null,null,null,null,null,null,null,null,null,null,null,null,null,null,null,null,null,null,null,null,null,null,null,null,null,null,null,"6.23. Roadside Lateral Clearance to Obstruction (ft)",{"$f":"H78","v":6.4777606999867676E-2},6.4777606999867676E-2,6,6.23,6.4777606999867676E-2,{"$f":"IF(DF45=0,\"\",C78)","v":"Roadside Lateral Clearance to Obstruction (ft)"},"Roadside Lateral Clearance to Obstruction (ft)",6.4777606999867676E-2,23,"",{"$f":"IFERROR(IF(IFERROR(VLOOKUP(DG45,$DA$23:$DF$46,3,)&\", \"&CY45=0,\"\"),\"\",IFERROR(VLOOKUP(DG45,$DA$23:$DE$46,3,),\"\")),\"\")","v":""}]
[null,null,"  Calculated Sag or Crest?",{"$f":"IF(AND($B$38=\"Yes\", SUM(D267:D269)=0),IF(D40>D41,\"Crest\",\"Sag\"),\"--\")","v":"--"},{"$f":"IF(AND($B$38=\"Yes\", SUM(D267:D269)=0),IF(E40>E41,\"Crest\",\"Sag\"),\"--\")","v":"--"},{"$f":"IF(AND($B$38=\"Yes\", SUM(F267:F269)=0),IF(F40>F41,\"Crest\",\"Sag\"),\"--\")","v":"--"},{"$f":"IF(AND($B$38=\"Yes\", SUM(G267:G269)=0),IF(G40>G41,\"Crest\",\"Sag\"),\"--\")","v":"--"},null,{"$f":"IF($B$38=\"Yes\",IF(I40>I41,\"Crest\",\"Sag\"),\"--\")","v":"--"},null,null,null,null,null,null,null,null,null,null,null,null,null,null,null,null,null,null,null,null,null,null,null,null,null,null,null,null,null,null,null,null,null,null,null,null,null,null,null,null,null,null,null,null,null,null,null,null,null,null,null,null,null,null,null,null,null,null,null,null,null,null,null,null,null,null,null,null,null,null,null,null,null,null,null,null,null,null,null,null,null,null,null,null,null,null,null,null,null,null,null,null,"",{"$f":"H79","v":0},0,22,10.24,0,{"$f":"IF(DF46=0,\"\",C79)","v":""},"",0,24,"",{"$f":"IFERROR(IF(IFERROR(VLOOKUP(DG46,$DA$23:$DF$46,3,)&\", \"&CY46=0,\"\"),\"\",IFERROR(VLOOKUP(DG46,$DA$23:$DE$46,3,),\"\")),\"\")","v":""}]
[]
[]
[null,null,"Geometric Design Element (Partial Score)",{"$f":"IF(OR(SUM(D251:D252,D254:D257,D260:D261,D267:D269)>0, ISERR(D129)),\"\",D129)","v":""},{"$f":"IF(OR(SUM(E251:E252,E254:E257,E260:E261,E267:E269)>0, ISERR(E129)),\"\",E129)","v":""},"","",null,{"$f":"IF(OR(SUM(I251:I252,I254:I257,I260:I261,I267:I269)>0, ISERR(I129)),\"\",I129)","v":""},null,null,null,"SCHEMATIC REPRESENTING INPUT DATA FOR ",null,null,null,null,null,null,null,{"$f":"IF($I$2=\"Existing\",\"EXISTING CONFIGURATION\",IF($I$2=\"Standard\",\"STANDARD OPTION\",IF($I$2=\"Design 1\",\"DESIGN 1 OPTION\",IF($I$2=\"Design 2\",\"DESIGN 2 OPTION\",\"OPTIMAL OPTION\"))))","v":"STANDARD OPTION"}]
[null,null,"Total Safety Score",{"$f":"IF(OR(D$249>0, $I$315>0, ISERROR(D$205+D$175+D$129)),\"\",D$205+D$175+D$129)","v":""},{"$f":"IF(OR(E$249>0, $I$315>0, ISERROR(E$205+E$175+E$129)),\"\",E$205+E$175+E$129)","v":""},{"$f":"IF(OR(F$249>0, $I$315>0, ISERROR(F$205+F$175+F$129)),\"\",F$205+F$175+F$129)","v":""},{"$f":"IF(OR(G$249>0, $I$315>0, ISERROR(G$205+G$175+G$129)),\"\",G$205+G$175+G$129)","v":""},null,{"$f":"IF(OR(I$249>0, $I$315>0, ISERROR(I$205+I$175+I$129)),\"\",I$205+I$175+I$129)","v":""}]
[null,null,null,null,null,null,null,null,null,null,null,"LT",null,null,null,null,null,null,null,null,null,null,null,null,null,null,"RT"]
[null,null,null,null,null,null,null,null,null,null,null,"R/W",null,null,null,null,null,null,{"$f":"+O54+W54","v":0},null,null,null,null,null,null,null,"R/W"]
[]
[null,{"$f":"+Construction!$I$3&\"  Total Available Points\"","v":"20  Total Available Points"},null,null,null,null,null,null,null,null,null,null,null,null,{"$f":"+$I$14","v":0},null,null,null,null,null,null,null,{"$f":"+$I$15","v":0}]
[null,"Traffic Elements",null,"Existing","Standard","Design 1","Design 2",{"$f":"H23","v":"Marginal Safety for Standard (compared to Existing)"},"Optimal"]
[null,null,"Advance Static Curve Warning Signs",null,"No",null,null,{"$f":"M149","v":0},"Yes",null,null,{"$f":"+O54-N56-P56","v":-32},null,{"$f":"IF(+$I$2=\"Existing\",D28,IF($I$2=\"Standard\",E28,IF($I$2=\"Design 1\",F28,IF($I$2=\"Design 2\",G28,I28))))","v":8},null,{"$f":"IF(+$I$2=\"Existing\",D27*D30,IF($I$2=\"Standard\",E27*E30,IF($I$2=\"Design 1\",F27*F30,IF($I$2=\"Design 2\",G27*G30,I27*I30))))","v":24},null,null,null,null,null,{"$f":"+P56","v":24},null,null,{"$f":"+N56","v":8},{"$f":"+W54-V56-Y56","v":-32}]
[null,null,"Chevron Signs on Horizontal Curves",null,"No",null,null,{"$f":"M150","v":0},"Yes"]
[null,null,"Post-Mounted Delineators",null,"No",null,null,{"$f":"M151","v":0},"Yes"]
[null,null,"Edgeline Pavement Markings or Profile Markings",null,"No",null,null,{"$f":"M152","v":0},"Yes"]
[null,null,"Shoulder Rumble Strips",null,"Yes",null,null,{"$f":"M154","v":2.2875008800570917E-2},"Yes"]
[null,null,"Centerline Rumble Strips",null,"No",null,null,{"$f":"M155","v":0},"Yes",null,null,null,null,null,null,null,null,null,"Tangent X-Section"]
[null,null,"Driveway Density (driveways per mile)",null,10,null,null,{"$f":"M156","v":-0.22388114201141129},0]
[null,null,"Lighting",null,"No",null,null,{"$f":"M157","v":-1.7096579124742384E-2},"Yes"]
[null,null,"Pavement Friction (skid number) ***",null,37,null,null,{"$f":"M158","v":0.28430956017940245},54]
[null,null,"Traffic Control Element (Partial Score):",{"$f":"IF(ISERROR(D175), \"\", D175)","v":12},{"$f":"IF(ISERROR(E175), \"\", E175)","v":14},"","",null,{"$f":"IF(ISERROR(I175), \"\", I175)","v":20}]
[null,null,"Total Safety Score",{"$f":"IF(OR(D$249>0, $I$315>0, ISERROR(D$205+D$175+D$129)),\"\",D$205+D$175+D$129)","v":""},{"$f":"IF(OR(E$249>0, $I$315>0, ISERROR(E$205+E$175+E$129)),\"\",E$205+E$175+E$129)","v":""},"","",null,{"$f":"IF(OR(I$249>0, $I$315>0, ISERROR(I$205+I$175+I$129)),\"\",I$205+I$175+I$129)","v":""}]
[null,null,null,null,null,null,null,null,null,null," "]
[null,null,"*** Pavement friction/skid numbers will not be subject to open records requests ***",null,null,null,null,null,null,null,null,null,null,null,null,null,{"$f":"IF($I$2=\"Existing\",\"SCORE SUMMARY FOR EXISTING CONFIGURATION\", IF($I$2=\"Standard\",\"SCORE SUMMARY FOR STANDARD OPTION\",IF($I$2=\"Design 1\",\"SCORE SUMMARY FOR DESIGN 1 OPTION\",IF($I$2=\"Design 2\",\"SCORE SUMMARY FOR DESIGN 2 OPTION\", \"SCORE SUMMARY FOR OPTIMAL OPTION\"))))","v":"SCORE SUMMARY FOR STANDARD OPTION"}]
[null,null,null,null,null,null,null,null,null,null,null,null,null,null,null,null,"GEOMETRIC DESIGN:",null,null,null,null,null,{"$f":"IF($I$2=\"Existing\",D49,IF($I$2=\"Standard\",E49,IF($I$2=\"Design 1\",F49,IF($I$2=\"Design 2\",G49,I49))))","v":""}]
[null,null,null,null,null,null,null,null,null,null,null,null,null,null,null,null,"TRAFFIC CONTROL:",null,null,null,null,null,{"$f":"IF($I$2=\"Existing\",D65,IF($I$2=\"Standard\",E65,IF($I$2=\"Design 1\",F65,IF($I$2=\"Design 2\",G65,I65))))","v":14}]
[null,null,null,null,null,null,null,null,null,null,null,null,null,null,null,null,"ROADSIDE:",null,null,null,null,null,{"$f":"IF($I$2=\"Existing\",D80,IF($I$2=\"Standard\",E80,IF($I$2=\"Design 1\",F80,IF($I$2=\"Design 2\",G80,I80))))","v":27}]
[null,null,null,null,null,null,null,null,null,null,null,null,null,null,null,null,"OVERALL SAFETY SCORE:",null,null,null,null,null,{"$f":"SUM(W69:X71)","v":41}]
[null,{"$f":"+Construction!$I$4&\"  Total Available Points\"","v":"40  Total Available Points"}]
[null,"Roadside  Elements",null,"Existing","Standard","Design 1","Design 2",{"$f":"H23","v":"Marginal Safety for Standard (compared to Existing)"},"Optimal"]
[null,null,"Roadside Sideslope (Foreslope)",null,"1V:4H",null,null,{"$f":"M184","v":0.15697622474810147},"1V:6H"]
[null,null,"Roadside Backslope",null,{"$f":"E75","v":"1V:4H"},null,null,{"$f":"M185","v":0},"1V:4H"]
[null,null,"Safety Edge",null,"No",null,null,-2.3424031600265627E-2,"Yes"]
[null,null,"Roadside Lateral Clearance to Obstruction (ft)",null,30,null,null,6.4777606999867676E-2,40]
[null,null,"Roadside Obstruction Type",null,"None",null,null,0,"None/Removed"]
[null,null,"Roadside Element (Partial Score):",{"$f":"IF(ISERR(D205),\"\",D205)","v":20},{"$f":"IF(ISERR(E205),\"\",E205)","v":27},20,20,null,{"$f":"IF(ISERR(I205),\"\",I205)","v":40},null,null,null,null,null,null,null,null,null,null,null,null,null,null," "]
[null,null,"Total Safety Score",{"$f":"IF(OR(D$249>0, $I$315>0, ISERROR(D$205+D$175+D$129)),\"\",D$205+D$175+D$129)","v":""},{"$f":"IF(OR(E$249>0, $I$315>0, ISERROR(E$205+E$175+E$129)),\"\",E$205+E$175+E$129)","v":""},"","",null,{"$f":"IF(OR(I$249>0, $I$315>0, ISERROR(I$205+I$175+I$129)),\"\",I$205+I$175+I$129)","v":""}]
[]
[]
[]
[]
[null,"ADDITIONAL SIDESLOPE INFORMATION"]
[null,null,"Distance to Slope Toe from Shoulder (ft)",null,{"$f":"D87","v":0},{"$f":"E87","v":0},0,null,{"$f":"G87","v":0}]
[null,"Minimum foreslope feasible within current ROW",null,null,{"$f":"IF(OR(ISBLANK($D$87), ISERROR(E209)), \"\", \"1V:\"&E209&\"H\")","v":""},{"$f":"IF(OR(ISBLANK($D$87), ISERROR(F209)), \"\", \"1V:\"&F209&\"H\")","v":""},{"$f":"IF(OR(ISBLANK($D$87), ISERROR(G209)), \"\", \"1V:\"&G209&\"H\")","v":""},null,{"$f":"IF(OR(ISBLANK($D$87), ISERROR(I209)), \"\", \"1V:\"&I209&\"H\")","v":""}]
[null,"Additional R/W needed on left side",null,null,{"$f":"IF(OR(ISBLANK($D$87), ISERROR(E213)),\"\", MAX(E213,E216))","v":""},{"$f":"IF(OR(ISBLANK($D$87), ISERROR(F213)), \"\", MAX(F213,F216))","v":""},{"$f":"IF(OR(ISBLANK($D$87), ISERROR(G213)),\"\", MAX(G213,G216))","v":""},null,{"$f":"IF(OR(ISBLANK($D$87), ISERROR(I213)),\"\", MAX(I213,I216))","v":""}]
[null,"Additional R/W needed on right side",null,null,{"$f":"IF(OR(ISBLANK($D$87), ISERROR(E214)), \"\", MAX(E214,E217))","v":""},{"$f":"IF(OR(ISBLANK($D$87), ISERROR(F214)), \"\", MAX(F214,F217))","v":""},{"$f":"IF(OR(ISBLANK($D$87), ISERROR(G214)),\"\", MAX(G214,G217))","v":""},null,{"$f":"IF(OR(ISBLANK($D$87), ISERROR(I214)),\"\", MAX(I214,I217))","v":""}]
[]
[]
[]
[]
[]
[]
[]
[null,null,null,{"$f":"GetCMF_MED(D24,D25,2000,D28)","v":1},null,null,null,null,null,{"$f":"1-I104/E104","v":0},"For Plot"]
[null,null,null,null,null,null,null,null,null,{"$f":"1-I105/E105","v":3.2258064516129115E-2},"relative to","Prefer"]
[null,null,null,{"$f":"MAX(SUM(D107:D111)-5,$I$100)","v":{"$error":"#VALUE!"}},{"$f":"MAX(SUM(E107:E111)-5,$I$100)","v":{"$error":"#VALUE!"}},{"$error":"#VALUE!"},{"$error":"#VALUE!"},null,{"$f":"SUM(I107:I111)-5","v":{"$error":"#VALUE!"}},{"$f":"1-I106/E106","v":0.14444080962898154},{"$f":"MATCH(K101,ModView,0)","v":1},{"$f":"MATCH(L101,ModView,0)","v":2}]
[null,"Geometric",null,null,null,null,null,null,null,{"$f":"1-I107/E107","v":{"$error":"#VALUE!"}},{"$f":"I4","v":"Existing"},{"$f":"I2","v":"Standard"},"%"]
[null,null,"Divided versus Undivided",1,1,1,1,null,1,null,{"$f":"INDEX($D102:$I102,K$100)","v":1},{"$f":"INDEX($D102:$I102,L$100)","v":1},{"$f":"IF(ISERROR(1-L102/K102), 0, 1-L102/K102)","v":0}]
[null,null,"Median Width",{"$f":"GetCMF_MED(D24,D25,$I$13,D28)","v":1},{"$f":"GetCMF_MED(E24,E25,$I$13,E28)","v":0.91},{"$f":"GetCMF_MED(F24,F25,$I$13,F28)","v":1},{"$f":"GetCMF_MED(G24,G25,$I$13,G28)","v":1},{"$f":"H25","v":8.9999999999999969E-2},{"$f":"GetCMF_MED(I24,I25,$I$13,I28)","v":0.66},null,{"$f":"INDEX($D103:$I103,K$100)","v":1},{"$f":"INDEX($D103:$I103,L$100)","v":0.91},{"$f":"IF(ISERROR(1-L103/K103), 0, 1-L103/K103)","v":8.9999999999999969E-2}]
[null,null,"LW CMF",{"$f":"IF(D24=INDEX(MedConf_Header,1,2),VLOOKUP(+D27,Construction!$N$30:$O$36,2),VLOOKUP(D27,Construction!$I$15:$J$21,2))","v":{"$error":"#N/A"}},{"$f":"IF(E24=INDEX(MedConf_Header,1,2),VLOOKUP(+E27,Construction!$N$30:$O$36,2),VLOOKUP(E27,Construction!$I$15:$J$21,2))","v":1},{"$f":"IF(F24=INDEX(MedConf_Header,1,2),VLOOKUP(+F27,Construction!$N$30:$O$36,2),VLOOKUP(F27,Construction!$I$15:$J$21,2))","v":{"$error":"#N/A"}},{"$f":"IF(G24=INDEX(MedConf_Header,1,2),VLOOKUP(+G27,Construction!$N$30:$O$36,2),VLOOKUP(G27,Construction!$I$15:$J$21,2))","v":{"$error":"#N/A"}},{"$f":"H27","v":0},{"$f":"IF(I24=INDEX(MedConf_Header,1,2),VLOOKUP(+I27,Construction!$N$30:$O$36,2),VLOOKUP(I27,Construction!$I$15:$J$21,2))","v":1},null,{"$f":"INDEX($D104:$I104,K$100)","v":{"$error":"#N/A"}},{"$f":"INDEX($D104:$I104,L$100)","v":1},0,null,0]
[null,null,"SW CMF",{"$f":"IF(D24=INDEX(MedConf_Header,1,2),VLOOKUP(D28,Construction!$C$11:D21,2),(VLOOKUP(D28,Construction!$O$43:$P$53,2)-1)*0.27+1)","v":1.135},{"$f":"IF(E24=INDEX(MedConf_Header,1,2),VLOOKUP(E28,Construction!$C$11:E21,2),(VLOOKUP(E28,Construction!$O$43:$P$53,2)-1)*0.27+1)","v":0.93},{"$f":"IF(F24=INDEX(MedConf_Header,1,2),VLOOKUP(F28,Construction!$C$11:F21,2),(VLOOKUP(F28,Construction!$O$43:$P$53,2)-1)*0.27+1)","v":1.135},{"$f":"IF(G24=INDEX(MedConf_Header,1,2),VLOOKUP(G28,Construction!$C$11:G21,2),(VLOOKUP(G28,Construction!$O$43:$P$53,2)-1)*0.27+1)","v":1.135},{"$f":"IF($I$2=\"Existing\",(1-D105/E105),(IF($I$2=\"Design 1\",(1-F105/E105),(IF($I$2=\"Design 2\",(1-G105/E105),(IF($I$2=\"Optimal\",(1-I105/E105),0)))))))","v":0},{"$f":"IF(I24=INDEX(MedConf_Header,1,2),VLOOKUP(I28,Construction!$C$11:I21,2),(VLOOKUP(I28,Construction!$O$43:$P$53,2)-1)*0.27+1)","v":0.9},null,{"$f":"INDEX($D105:$I105,K$100)","v":1.135},{"$f":"INDEX($D105:$I105,L$100)","v":0.93},0.18061674008810569,null,0.15503875968992242]
[null,null,"Inside Shoulder Width",{"$f":"IF(AND(D24=INDEX(MedConf_Header,1,2), NOT(ISBLANK(D29))), EXP(-0.026*(D29-4)), 1)","v":1},{"$f":"IF(AND(E24=INDEX(MedConf_Header,1,2), NOT(ISBLANK(E29))), EXP(-0.026*(E29-4)), 1)","v":1},{"$f":"IF(AND(F24=INDEX(MedConf_Header,1,2), NOT(ISBLANK(F29))), EXP(-0.026*(F29-4)), 1)","v":1},{"$f":"IF(AND(G24=INDEX(MedConf_Header,1,2), NOT(ISBLANK(G29))), EXP(-0.026*(G29-4)), 1)","v":1},0,{"$f":"IF(AND(I24=INDEX(MedConf_Header,1,2), NOT(ISBLANK(I29))), EXP(-0.026*(I29-4)), 1)","v":0.85555919037101846},null,{"$f":"INDEX($D106:$I106,K$100)","v":1},{"$f":"INDEX($D106:$I106,L$100)","v":1},0,null,0]
[null,null,"HC and Grade",{"$f":"D$138^D$131","v":1},{"$f":"E$138^E$131","v":1},1,1,0,{"$f":"I$138^I$131","v":{"$error":"#VALUE!"}},null,{"$f":"INDEX($D107:$I107,K$100)","v":1},{"$f":"INDEX($D107:$I107,L$100)","v":1},0,null,0]
[null,null,"HC and VC Crest type I",{"$f":"D$139^D$132","v":1},{"$f":"E$139^E$132","v":1},1,1,0,{"$f":"I$139^I$132","v":{"$error":"#VALUE!"}},null,{"$f":"INDEX($D108:$I108,K$100)","v":1},{"$f":"INDEX($D108:$I108,L$100)","v":1},0,null,0]
[null,null,"HC and VC Sag type I",{"$f":"D$140^D$133","v":1},{"$f":"E$140^E$133","v":1},1,1,0,{"$f":"I$140^I$133","v":{"$error":"#VALUE!"}},{"$f":"1-I115/E115","v":{"$error":"#VALUE!"}},{"$f":"INDEX($D109:$I109,K$100)","v":1},{"$f":"INDEX($D109:$I109,L$100)","v":1},0,null,0]
[null,null,"HC and VC Crest type II",{"$f":"D$141^D$134","v":1},{"$f":"E$141^E$134","v":1},1,1,0,{"$f":"I$141^I$134","v":{"$error":"#VALUE!"}},{"$f":"1-I116/E116","v":{"$error":"#VALUE!"}},{"$f":"INDEX($D110:$I110,K$100)","v":1},{"$f":"INDEX($D110:$I110,L$100)","v":1},0,null,0]
[null,null,"HC and VC Sag type II",{"$f":"D$142^D$135","v":1},{"$f":"E$142^E$135","v":1},1,1,0,{"$f":"I$142^I$135","v":{"$error":"#VALUE!"}},{"$f":"1-I117/E117","v":{"$error":"#VALUE!"}},{"$f":"INDEX($D111:$I111,K$100)","v":1},{"$f":"INDEX($D111:$I111,L$100)","v":1},0,null,0]
[null,null,"Add TWLTL",{"$f":"IF(D$47=\"No\",1,CMFs!$F$17)","v":0.71},{"$f":"IF(E$47=\"No\",1,CMFs!$F$17)","v":0.71},{"$f":"IF(F$47=\"No\",1,CMFs!$F$17)","v":0.71},{"$f":"IF(G$47=\"No\",1,CMFs!$F$17)","v":0.71},0,{"$f":"IF(I$47=\"No\",1,CMFs!$F$17)","v":0.71},{"$f":"1-I118/E118","v":{"$error":"#VALUE!"}},{"$f":"INDEX($D112:$I112,K$100)","v":0.71},{"$f":"INDEX($D112:$I112,L$100)","v":0.71},0,null,0]
[null,null,"Provide passing lane",{"$f":"IF(D$48=\"No\",1,CMFs!$F$21)","v":0.75},{"$f":"IF(E$48=\"No\",1,CMFs!$F$21)","v":0.75},{"$f":"IF(F$48=\"No\",1,CMFs!$F$21)","v":0.75},{"$f":"IF(G$48=\"No\",1,CMFs!$F$21)","v":0.75},0,{"$f":"IF(I$48=\"No\",1,CMFs!$F$21)","v":0.75},{"$f":"I119/E119","v":{"$error":"#VALUE!"}},{"$f":"INDEX($D113:$I113,K$100)","v":0.75},{"$f":"INDEX($D113:$I113,L$100)","v":0.75},0,null,0]
[]
[null,null,"COMBINED Calculated CMF",{"$f":"+D104*D105*D106*D107*D108*D109*D110*D111*D112*D113*D103*D102","v":{"$error":"#N/A"}},{"$f":"+E104*E105*E106*E107*E108*E109*E110*E111*E112*E113*E103*E102","v":0.45065475000000005},{"$error":"#N/A"},{"$error":"#N/A"},{"$f":"IF($I$2=\"Existing\",(D115),(IF($I$2=\"Design 1\",(F115),(IF($I$2=\"Design 2\",(G115),(IF($I$2=\"Optimal\",(I115),E115)))))))","v":0.45065475000000005},{"$f":"+I104*I105*I106*I107*I108*I109*I110*I111*I112*I113*I103*I102","v":{"$error":"#VALUE!"}},null,{"$f":"INDEX($D115:$I115,K$100)","v":{"$error":"#N/A"}},{"$f":"INDEX($D115:$I115,L$100)","v":0.45065475000000005},{"$f":"IF(ISERROR(1-L115/K115), 0, 1-L115/K115)","v":0},null,0]
[null,null,"Calculated Relative to Design Standards (Column E)",{"$f":"+D115/$E$115","v":{"$error":"#N/A"}},1,{"$error":"#N/A"},{"$error":"#N/A"},1,{"$error":"#VALUE!"},null,{"$f":"INDEX($D116:$I116,K$100)","v":{"$error":"#N/A"}},{"$f":"INDEX($D116:$I116,L$100)","v":1},0,null,0]
[null,null,"P(Crash)",{"$f":"+D116/(D116+1)","v":{"$error":"#N/A"}},0.5,{"$error":"#N/A"},{"$error":"#N/A"},0.5,{"$error":"#VALUE!"},null,{"$f":"INDEX($D117:$I117,K$100)","v":{"$error":"#N/A"}},{"$f":"INDEX($D117:$I117,L$100)","v":0.5},0,null,0]
[null,null,"Factor Change on S curve",{"$f":"+D117/$E$117","v":{"$error":"#N/A"}},1,{"$error":"#N/A"},{"$error":"#N/A"},1,{"$error":"#VALUE!"},null,{"$f":"INDEX($D118:$I118,K$100)","v":{"$error":"#N/A"}},{"$f":"INDEX($D118:$I118,L$100)","v":1},0,null,0]
[null,null,"Adjust to Scale of 100",{"$f":"+$I$118/D118*100","v":{"$error":"#VALUE!"}},{"$error":"#VALUE!"},{"$error":"#VALUE!"},{"$error":"#VALUE!"},{"$error":"#VALUE!"},{"$error":"#VALUE!"},null,{"$f":"INDEX($D119:$I119,K$100)","v":{"$error":"#VALUE!"}},{"$f":"INDEX($D119:$I119,L$100)","v":{"$error":"#VALUE!"}},0]
[null,null,"Unadjusted Combined Relative to Standard",{"$f":"+D115/$E$115","v":{"$error":"#N/A"}},1,{"$error":"#N/A"},{"$error":"#N/A"},1,{"$error":"#VALUE!"},{"$f":"I126/E126","v":{"$error":"#VALUE!"}},{"$f":"INDEX($D120:$I120,K$100)","v":{"$error":"#N/A"}},{"$f":"INDEX($D120:$I120,L$100)","v":1},0,null,0]
[]
[null,null,"Adjusted for PA Basis",{"$f":"+D115*(1+1)/(1+D115*1)","v":{"$error":"#N/A"}},0.62131220402373488,{"$error":"#N/A"},{"$error":"#N/A"},{"$f":"IF($I$2=\"Existing\",(D122),(IF($I$2=\"Design 1\",(F122),(IF($I$2=\"Design 2\",(G122),(IF($I$2=\"Optimal\",(I122),E122)))))))","v":0.62131220402373488},{"$error":"#VALUE!"},null,{"$f":"INDEX($D122:$I122,K$100)","v":{"$error":"#N/A"}},{"$f":"INDEX($D122:$I122,L$100)","v":0.62131220402373488},{"$f":"IF(ISERROR(1-L122/K122), 0, 1-L122/K122)","v":0},null,0]
[null,null,"Corrected by Odds Ratio",{"$f":"+D122/$E$122","v":{"$error":"#N/A"}},1,{"$error":"#N/A"},{"$error":"#N/A"},{"$f":"IF($I$2=\"Existing\",(D123),(IF($I$2=\"Design 1\",(F123),(IF($I$2=\"Design 2\",(G123),(IF($I$2=\"Optimal\",(I123),E123)))))))","v":1},{"$error":"#VALUE!"},{"$f":"I129/E129","v":{"$error":"#VALUE!"}},{"$f":"INDEX($D123:$I123,K$100)","v":{"$error":"#N/A"}},{"$f":"INDEX($D123:$I123,L$100)","v":1},0,null,0]
[null,null,"Pinned s",{"$f":"(1/D123)^$D127","v":{"$error":"#N/A"}},{"$f":"(1/E123)^$D127","v":{"$error":"#VALUE!"}},{"$error":"#N/A"},{"$f":"IF(ISERROR((1/G123)^$D127), 0, (1/G123)^$D127)","v":0},{"$error":"#VALUE!"},{"$error":"#VALUE!"},null,{"$f":"INDEX($D124:$I124,K$100)","v":{"$error":"#N/A"}},{"$f":"INDEX($D124:$I124,L$100)","v":{"$error":"#VALUE!"}},0,null,0]
[null,null,null,{"$f":"(D124+$F128-1)/(1+(D124+$F128-1))","v":{"$error":"#N/A"}},{"$f":"(E124+$F128-1)/(1+(E124+$F128-1))","v":{"$error":"#VALUE!"}},{"$error":"#N/A"},0.57142857142857151,{"$error":"#VALUE!"},{"$error":"#VALUE!"},null,{"$f":"INDEX($D125:$I125,K$100)","v":{"$error":"#N/A"}},{"$f":"INDEX($D125:$I125,L$100)","v":{"$error":"#VALUE!"}},0,null,0]
[null,null,"Score Odds Ratio with Optimal (old)",{"$f":"MIN(ROUND($I$123/D123*Construction!$I$2,0),$I126)","v":{"$error":"#VALUE!"}},{"$f":"MIN(ROUND($I$123/E123*Construction!$I$2,0),$I126)","v":{"$error":"#VALUE!"}},{"$f":"MIN(ROUND($I$123/F123*Construction!$I$2,0),$I126)","v":{"$error":"#VALUE!"}},{"$f":"MIN(ROUND($I$123/G123*Construction!$I$2,0),$I126)","v":{"$error":"#VALUE!"}},{"$f":"IF($I$2=\"Existing\",(D126),(IF($I$2=\"Design 1\",(F126),(IF($I$2=\"Design 2\",(G126),(IF($I$2=\"Optimal\",(I126),E126)))))))","v":{"$error":"#VALUE!"}},{"$f":"ROUND($I$123/I123*Construction!$I$2,0)","v":{"$error":"#VALUE!"}}]
[null,null,"Logistic1",{"$f":"LN((D128/(1-D128))/(0.5/0.5))/LN(IF($E123/I123=1,0.999,$E123/I123))","v":{"$error":"#VALUE!"}}]
[null,null,"Logistic Param",0.999,null,{"$f":"0.7/0.3","v":2.3333333333333335}]
[null,null,"Score ",{"$f":"MIN(ROUND(D125*Construction!$I$2,0),$I126)","v":{"$error":"#N/A"}},{"$f":"MIN(ROUND(E125*Construction!$I$2,0),$I126)","v":{"$error":"#VALUE!"}},{"$f":"MIN(ROUND(F125*Construction!$I$2,0),$I126)","v":{"$error":"#N/A"}},{"$f":"MIN(ROUND(G125*Construction!$I$2,0),$I126)","v":{"$error":"#VALUE!"}},{"$f":"MIN(ROUND(H125*Construction!$I$2,0),$I126)","v":{"$error":"#VALUE!"}},{"$f":"MIN(ROUND(I125*Construction!$I$2,0),$I126)","v":{"$error":"#VALUE!"}}]
[]
[null,null,"HC and Grade",{"$f":"IF($B$139,0,1)","v":1},{"$f":"IF($B$139,0,1)","v":1},1,1,{"$f":"IF($I$2=\"Existing\",(D131),(IF($I$2=\"Design 1\",(F131),(IF($I$2=\"Design 2\",(G131),(IF($I$2=\"Optimal\",(I131),E131)))))))","v":1},{"$f":"IF($B$139,0,1)","v":1}]
["HC?",null,"HC and VC Crest type I",{"$f":"IF(AND($B$139=1,SIGN(D$40)=1,ABS(D$40)<=ABS(D$40-D$41),D$46=\"Crest\"),1,0)","v":0},{"$f":"IF(AND($B$139=1,SIGN(IF(ISNUMBER(E$40),E$40,0))=1,\n  ABS(IF(ISNUMBER(E$40),E$40,0))<=ABS(IF(ISNUMBER(E$40),E$40,0)-IF(ISNUMBER(E$41),E$41,0)),E$46=\"Crest\"),\n  1,0)","v":0},{"$f":"IF(AND($B$139=1,SIGN(F$40)=1,ABS(F$40)<=ABS(F$40-F$41),F$46=\"Crest\"),1,0)","v":0},{"$f":"IF(AND($B$139=1,SIGN(G$40)=1,ABS(G$40)<=ABS(G$40-G$41),G$46=\"Crest\"),1,0)","v":0},{"$f":"IF($I$2=\"Existing\",(D132),(IF($I$2=\"Design 1\",(F132),(IF($I$2=\"Design 2\",(G132),(IF($I$2=\"Optimal\",(I132),E132)))))))","v":0},{"$f":"IF(AND($B$138=1,SIGN(I$40)=1,ABS(I$40)<=ABS(I$40-IF(ISNUMBER(I$41), I$41,0)),I$46=\"Crest\"),1,0)","v":{"$error":"#VALUE!"}},null,{"$f":"INDEX($D132:$I132,K$100)","v":0},{"$f":"INDEX($D132:$I132,L$100)","v":0},{"$f":"IF(ISERROR(1-L132/K132), 0, 1-L132/K132)","v":0}]
["VC?",null,"HC and VC Sag type I",{"$f":"IF(AND($B$139=1,SIGN(D$40)=1,ABS(D$40)<=ABS(D$40-D$41),D$46=\"Sag\"),1,0)","v":0},{"$f":"IF(AND($B$139=1,SIGN(IF(ISNUMBER(E$40),E$40,0))=1,\n  ABS(IF(ISNUMBER(E$40),E$40,0))<=ABS(IF(ISNUMBER(E$40),E$40,0)-IF(ISNUMBER(E$41),E$41,0)),E$46=\"Sag\"),\n  1,0)","v":0},{"$f":"IF(AND($B$139=1,SIGN(F$40)=1,ABS(F$40)<=ABS(F$40-F$41),F$46=\"Sag\"),1,0)","v":0},{"$f":"IF(AND($B$139=1,SIGN(G$40)=1,ABS(G$40)<=ABS(G$40-G$41),G$46=\"Sag\"),1,0)","v":0},{"$f":"IF($I$2=\"Existing\",(D133),(IF($I$2=\"Design 1\",(F133),(IF($I$2=\"Design 2\",(G133),(IF($I$2=\"Optimal\",(I133),E133)))))))","v":0},{"$f":"IF(AND($B$138=1,SIGN(I$40)=1,ABS(I$40)<=ABS(I$40-IF(ISNUMBER(I$41), I$41,0)),I$46=\"Sag\"),1,0)","v":{"$error":"#VALUE!"}},null,{"$f":"INDEX($D133:$I133,K$100)","v":0},{"$f":"INDEX($D133:$I133,L$100)","v":0},0]
[null,null,"HC and VC Crest type II",{"$f":"IF(AND($B$139=1,D$46=\"Crest\",D$132=0),1,0)","v":0},{"$f":"IF(AND($B$139=1,E$46=\"Crest\",E$132=0),1,0)","v":0},{"$f":"IF(AND($B$139=1,F$46=\"Crest\",F$132=0),1,0)","v":0},{"$f":"IF(AND($B$139=1,G$46=\"Crest\",G$132=0),1,0)","v":0},{"$f":"IF($I$2=\"Existing\",(D134),(IF($I$2=\"Design 1\",(F134),(IF($I$2=\"Design 2\",(G134),(IF($I$2=\"Optimal\",(I134),E134)))))))","v":0},{"$f":"IF(AND($B$139=1,I$46=\"Crest\",I$132=0),1,0)","v":{"$error":"#VALUE!"}},null,{"$f":"INDEX($D134:$I134,K$100)","v":0},{"$f":"INDEX($D134:$I134,L$100)","v":0},0]
[null,null,"HC and VC Sag type II",{"$f":"IF(AND($B$139=1,D$46=\"Sag\",D$133=0),1,0)","v":0},{"$f":"IF(AND($B$139=1,E$46=\"Sag\",E$133=0),1,0)","v":0},{"$f":"IF(AND($B$139=1,F$46=\"Sag\",F$133=0),1,0)","v":0},{"$f":"IF(AND($B$139=1,G$46=\"Sag\",G$133=0),1,0)","v":0},{"$f":"IF($I$2=\"Existing\",(D135),(IF($I$2=\"Design 1\",(F135),(IF($I$2=\"Design 2\",(G135),(IF($I$2=\"Optimal\",(I135),E135)))))))","v":0},{"$f":"IF(AND($B$139=1,I$46=\"Sag\",I$133=0),1,0)","v":{"$error":"#VALUE!"}},null,{"$f":"INDEX($D135:$I135,K$100)","v":0},{"$f":"INDEX($D135:$I135,L$100)","v":0},0]
[null,"Yes/No"]
[null,null,"HC and VC:"]
[null,{"$f":"IF(B31=\"Yes\",1,0)","v":0},"HC and Grade",{"$f":"IF($B$139=0,\n  EXP(0.042*ABS(D$40)\n    +$B$138*0.16*LN(2*5730/IF(ISNUMBER(D$33),D$33,1))*$B$138\n    +4.16*$B$138/IF(ISNUMBER(D$33),D$33,1)/IF( AND(ISNUMBER(D$34),D$34<>0),D$34,1)),\n  1)","v":1},{"$f":"IF($B$139=0,\n  EXP(0.042*ABS(D$40)\n    +$B$138*0.16*LN(2*5730/IF(ISNUMBER(E$33),E$33,1))*$B$138\n    +4.16*$B$138/IF(ISNUMBER(E$33),E$33,1)/IF( AND(ISNUMBER(E$34),E$34<>0),E$34,1)),\n  1)","v":1},{"$f":"IF($B$139=0,\n  EXP(0.042*ABS(F$40)\n    +$B$138*0.16*LN(2*5730/IF(ISNUMBER(F$33),F$33,1))*$B$138\n    +4.16*$B$138/IF(ISNUMBER(F$33),F$33,1)/IF( AND(ISNUMBER(F$34),F$34<>0),F$34,1)),\n  1)","v":1},{"$f":"IF($B$139=0,\n  EXP(0.042*ABS(G$40)\n    +$B$138*0.16*LN(2*5730/IF(ISNUMBER(G$33),G$33,1))*$B$138\n    +4.16*$B$138/IF(ISNUMBER(G$33),G$33,1)/IF( AND(ISNUMBER(G$34),G$34<>0),G$34,1)),\n  1)","v":1},null,{"$f":"IF($B$139=0,\n  EXP(0.042*ABS(I$40)\n    +$B$138*0.16*LN(2*5730/IF(ISNUMBER(I$33),I$33,1))*$B$138\n    +4.16*$B$138/IF(ISNUMBER(I$33),I$33,1)/IF( AND(ISNUMBER(I$34),I$34<>0),I$34,1)),\n  1)","v":{"$error":"#VALUE!"}},null,{"$f":"INDEX($D138:$I138,K$100)","v":1},{"$f":"INDEX($D138:$I138,L$100)","v":1},{"$f":"IF(ISERROR(1-L138/K138), 0, 1-L138/K138)","v":0},null,0]
[null,{"$f":"IF(B38=\"Yes\",1,0)","v":0},"HC and VC Crest type I",{"$f":"IF($B$139=0,1,EXP(0.005648908*5730*ABS(+D$40-D$41)*$B$139/D$145*$B$138))","v":1},{"$f":"IF($B$139=0,1,EXP(0.005648908*5730*ABS(+E$40-E$41)*$B$139/E$145*$B$138))","v":1},1,1,{"$f":"IF($I$2=\"Existing\",(D139),(IF($I$2=\"Design 1\",(F139),(IF($I$2=\"Design 2\",(G139),(IF($I$2=\"Optimal\",(I139),E139)))))))","v":1},1,null,{"$f":"INDEX($D139:$I139,K$100)","v":1},{"$f":"INDEX($D139:$I139,L$100)","v":1},0,null,0]
[null,null,"HC and VC Sag type I",{"$f":"IF($B$139=0,1,EXP(9.15857042*$B$139/D$146+0.010284958*5730*$B$139*$B$138*ABS(+D$40-D$41)/D$145))","v":1},{"$f":"IF($B$139=0,1,EXP(9.15857042*$B$139/E$146+0.010284958*5730*$B$139*$B$138*ABS(+E$40-E$41)/E$145))","v":1},1,1,{"$f":"IF($I$2=\"Existing\",(D140),(IF($I$2=\"Design 1\",(F140),(IF($I$2=\"Design 2\",(G140),(IF($I$2=\"Optimal\",(I140),E140)))))))","v":1},1,null,{"$f":"INDEX($D140:$I140,K$100)","v":1},{"$f":"INDEX($D140:$I140,L$100)","v":1},0,null,0]
[null,null,"HC and VC Crest type II",{"$f":"IF($B$139=0,1,EXP(0.005648908*5730*ABS(+D$40-D$41)*$B$139/D$145*$B$138))","v":1},{"$f":"IF($B$139=0,1,EXP(0.005648908*5730*ABS(+E$40-E$41)*$B$139/E$145*$B$138))","v":1},1,1,{"$f":"IF($I$2=\"Existing\",(D141),(IF($I$2=\"Design 1\",(F141),(IF($I$2=\"Design 2\",(G141),(IF($I$2=\"Optimal\",(I141),E141)))))))","v":1},1,null,{"$f":"INDEX($D141:$I141,K$100)","v":1},{"$f":"INDEX($D141:$I141,L$100)","v":1},0,null,0]
[null,null,"HC and VC Sag type II",{"$f":"IF($B$139=0,1,(0.246011284*EXP(LN(0.188*2*5730/D$145)*$B$138)+0.753988716*EXP(0.022*5730/D$145*ABS(D$40-D$41)*$B$139*$B$138)))","v":1},{"$f":"IF($B$139=0,1,(0.246011284*EXP(LN(0.188*2*5730/E$145)*$B$138)+0.753988716*EXP(0.022*5730/E$145*ABS(E$40-E$41)*$B$139*$B$138)))","v":1},1,1,{"$f":"IF($I$2=\"Existing\",(D142),(IF($I$2=\"Design 1\",(F142),(IF($I$2=\"Design 2\",(G142),(IF($I$2=\"Optimal\",(I142),E142)))))))","v":1},1,null,{"$f":"INDEX($D142:$I142,K$100)","v":1},{"$f":"INDEX($D142:$I142,L$100)","v":1},0,null,0]
[]
[null,null,"Combined HZ and VT",{"$f":"MMULT(TRANSPOSE(D131:D135),D138:D142)","v":1},{"$f":"MMULT(TRANSPOSE(E131:E135),E138:E142)","v":1},{"$f":"MMULT(TRANSPOSE(F131:F135),F138:F142)","v":1},{"$f":"MMULT(TRANSPOSE(G131:G135),G138:G142)","v":1},{"$f":"IF($I$2=\"Existing\",(D144),(IF($I$2=\"Design 1\",(F144),(IF($I$2=\"Design 2\",(G144),(IF($I$2=\"Optimal\",(I144),E144)))))))","v":1},{"$f":"MMULT(TRANSPOSE(I131:I135),I138:I142)","v":{"$error":"#VALUE!"}},null,{"$f":"INDEX($D144:$I144,K$100)","v":1},{"$f":"INDEX($D144:$I144,L$100)","v":1},{"$f":"IF(ISERROR(1-L144/K144), 0, 1-L144/K144)","v":0},null,0]
[null,null,"effective R for calculation",{"$f":"IF(ISNUMBER(D33), D33, 99999999)","v":99999999},{"$f":"IF(ISNUMBER(E33), E33, 99999999)","v":590},99999999,99999999,null,590]
[null,null,"effective K for calculation",{"$f":"IF(ISNUMBER(D43), D43, 99999999)","v":99999999},{"$f":"IF(ISNUMBER(E43), E43, 99999999)","v":99999999},99999999,99999999,null,99999999]
[null,"Traffic"]
[null,null,null,"Existing","Standard","Design 1","Design 2"]
[null,null,"Advance static curve warning signs",{"$f":"IF(D24=INDEX(MedConf_Header,1,2),IF(AND($B$31=\"Yes\",D$56=\"Yes\"),(Traffic!$F$4-1)*AVERAGE(Constraints!$F$24,Constraints!$H$24)/Constraints!$D$24+1,1),(IF(AND($B$31=\"Yes\",D$56=\"Yes\"),(Traffic!$F$4-1)*AVERAGE(Constraints!$F$38,Constraints!$H$38)/Constraints!$D$38+1,1)))","v":1},{"$f":"IF(AND($B$31=\"Yes\",E$56=\"Yes\"),(Traffic!$F$4-1)*AVERAGE(Constraints!$F$24,Constraints!$H$24)/Constraints!$D$24+1,1)","v":1},{"$f":"IF(F24=INDEX(MedConf_Header,1,2),IF(AND($B$31=\"Yes\",F$56=\"Yes\"),(Traffic!$F$4-1)*AVERAGE(Constraints!$F$24,Constraints!$H$24)/Constraints!$D$24+1,1),(IF(AND($B$31=\"Yes\",F$56=\"Yes\"),(Traffic!$F$4-1)*AVERAGE(Constraints!$F$38,Constraints!$H$38)/Constraints!$D$38+1,1)))","v":1},{"$f":"IF(G24=INDEX(MedConf_Header,1,2),IF(AND($B$31=\"Yes\",G$56=\"Yes\"),(Traffic!$F$4-1)*AVERAGE(Constraints!$F$24,Constraints!$H$24)/Constraints!$D$24+1,1),(IF(AND($B$31=\"Yes\",G$56=\"Yes\"),(Traffic!$F$4-1)*AVERAGE(Constraints!$F$38,Constraints!$H$38)/Constraints!$D$38+1,1)))","v":1},{"$f":"IF($I$2=\"Existing\",(D149),(IF($I$2=\"Design 1\",(F149),(IF($I$2=\"Design 2\",(G149),(IF($I$2=\"Optimal\",(I149),E149)))))))","v":1},{"$f":"IF(AND($B$31=\"Yes\",I$56=\"Yes\"),(Traffic!$F$4-1)*AVERAGE(Constraints!$F$24,Constraints!$H$24)/Constraints!$D$24+1,1)","v":1},null,{"$f":"INDEX($D149:$I149,K$100)","v":1},{"$f":"INDEX($D149:$I149,L$100)","v":1},{"$f":"IF(ISERROR(1-L149/K149), 0, 1-L149/K149)","v":0},null,0]
[null,null,"Install chevron signs on horizontal curves",{"$f":"IF(D24=INDEX(MedConf_Header,1,2),(IF(D$57=\"No\",1,(IF(AND($B$31=\"Yes\",D$27<11.5),((Traffic!$F$6-1)*(Constraints!$E$18+Constraints!$E$22))+1,1)))),(IF(D$57=\"No\",1,(IF(AND($B$31=\"Yes\",D$27<11.5),((Traffic!$F$6-1)*(Constraints!$E$32+Constraints!$E$36))+1,1)))))","v":1},{"$f":"IF(E$57=\"No\",1,(IF(AND($B$31=\"Yes\",E$27<11.5),((Traffic!$F$6-1)*(Constraints!$E$18+Constraints!$E$22))+1,1)))","v":1},{"$f":"IF(F24=INDEX(MedConf_Header,1,2),(IF(F$57=\"No\",1,(IF(AND($B$31=\"Yes\",F$27<11.5),((Traffic!$F$6-1)*(Constraints!$E$18+Constraints!$E$22))+1,1)))),(IF(F$57=\"No\",1,(IF(AND($B$31=\"Yes\",F$27<11.5),((Traffic!$F$6-1)*(Constraints!$E$32+Constraints!$E$36))+1,1)))))","v":1},{"$f":"IF(G24=INDEX(MedConf_Header,1,2),(IF(G$57=\"No\",1,(IF(AND($B$31=\"Yes\",G$27<11.5),((Traffic!$F$6-1)*(Constraints!$E$18+Constraints!$E$22))+1,1)))),(IF(G$57=\"No\",1,(IF(AND($B$31=\"Yes\",G$27<11.5),((Traffic!$F$6-1)*(Constraints!$E$32+Constraints!$E$36))+1,1)))))","v":1},{"$f":"IF($I$2=\"Existing\",(D150),(IF($I$2=\"Design 1\",(F150),(IF($I$2=\"Design 2\",(G150),(IF($I$2=\"Optimal\",(I150),E150)))))))","v":1},{"$f":"IF(I$57=\"No\",1,(IF(AND($B$31=\"Yes\",I$27<11.5),((Traffic!$F$6-1)*(Constraints!$E$18+Constraints!$E$22))+1,1)))","v":1},null,{"$f":"INDEX($D150:$I150,K$100)","v":1},{"$f":"INDEX($D150:$I150,L$100)","v":1},0,null,0]
[null,null,"Install post-mounted delineators",{"$f":"IF(D24=INDEX(MedConf_Header,1,2),IF(AND($B$31=\"Yes\",D$58=\"Yes\"),(Traffic!$F$12-1)*Constraints!$E$17+1,1),(IF(AND($B$31=\"Yes\",D$58=\"Yes\"),(Traffic!$F$12-1)*Constraints!$E$31+1,1)))","v":1},{"$f":"IF(AND($B$31=\"Yes\",E$58=\"Yes\"),(Traffic!$F$12-1)*Constraints!$E$17+1,1)","v":1},{"$f":"IF(F24=INDEX(MedConf_Header,1,2),IF(AND($B$31=\"Yes\",F$58=\"Yes\"),(Traffic!$F$12-1)*Constraints!$E$17+1,1),(IF(AND($B$31=\"Yes\",F$58=\"Yes\"),(Traffic!$F$12-1)*Constraints!$E$31+1,1)))","v":1},{"$f":"IF(G24=INDEX(MedConf_Header,1,2),IF(AND($B$31=\"Yes\",G$58=\"Yes\"),(Traffic!$F$12-1)*Constraints!$E$17+1,1),(IF(AND($B$31=\"Yes\",G$58=\"Yes\"),(Traffic!$F$12-1)*Constraints!$E$31+1,1)))","v":1},{"$f":"IF($I$2=\"Existing\",(D151),(IF($I$2=\"Design 1\",(F151),(IF($I$2=\"Design 2\",(G151),(IF($I$2=\"Optimal\",(I151),E151)))))))","v":1},{"$f":"IF(AND($B$31=\"Yes\",I$58=\"Yes\"),(Traffic!$F$12-1)*Constraints!$E$17+1,1)","v":1},null,{"$f":"INDEX($D151:$I151,K$100)","v":1},{"$f":"INDEX($D151:$I151,L$100)","v":1},0,null,0]
[null,null,"Install edgeline  or Profile pavement markings ",{"$f":"IF(D24=INDEX(MedConf_Header,1,2),(IF(D$59=\"Yes\",Traffic!$F$18*0.5+((Traffic!$F$20*(Constraints!$H$17+Constraints!$H$20+Constraints!$H$21)+1*(Constraints!$H$24-(Constraints!$H$17+Constraints!$H$20+Constraints!$H$21)))/Constraints!$H$24)*0.5,1)),(IF(D$59=\"Yes\",Traffic!$F$18*0.5+((Traffic!$F$20*(Constraints!$H$31+Constraints!$H$34+Constraints!$H$35)+1*(Constraints!$H$38-(Constraints!$H$31+Constraints!$H$34+Constraints!$H$35)))/Constraints!$H$38)*0.5,1)))","v":1},{"$f":"IF(E24=INDEX(MedConf_Header,1,2),(IF(E$59=\"Yes\",Traffic!$F$18*0.5+((Traffic!$F$20*(Constraints!$H$17+Constraints!$H$20+Constraints!$H$21)+1*(Constraints!$H$24-(Constraints!$H$17+Constraints!$H$20+Constraints!$H$21)))/Constraints!$H$24)*0.5,1)),(IF(E$59=\"Yes\",Traffic!$F$18*0.5+((Traffic!$F$20*(Constraints!$H$31+Constraints!$H$34+Constraints!$H$35)+1*(Constraints!$H$38-(Constraints!$H$31+Constraints!$H$34+Constraints!$H$35)))/Constraints!$H$38)*0.5,1)))","v":1},{"$f":"IF(F24=INDEX(MedConf_Header,1,2),(IF(F$59=\"Yes\",Traffic!$F$18*0.5+((Traffic!$F$20*(Constraints!$H$17+Constraints!$H$20+Constraints!$H$21)+1*(Constraints!$H$24-(Constraints!$H$17+Constraints!$H$20+Constraints!$H$21)))/Constraints!$H$24)*0.5,1)),(IF(F$59=\"Yes\",Traffic!$F$18*0.5+((Traffic!$F$20*(Constraints!$H$31+Constraints!$H$34+Constraints!$H$35)+1*(Constraints!$H$38-(Constraints!$H$31+Constraints!$H$34+Constraints!$H$35)))/Constraints!$H$38)*0.5,1)))","v":1},{"$f":"IF(G24=INDEX(MedConf_Header,1,2),(IF(G$59=\"Yes\",Traffic!$F$18*0.5+((Traffic!$F$20*(Constraints!$H$17+Constraints!$H$20+Constraints!$H$21)+1*(Constraints!$H$24-(Constraints!$H$17+Constraints!$H$20+Constraints!$H$21)))/Constraints!$H$24)*0.5,1)),(IF(G$59=\"Yes\",Traffic!$F$18*0.5+((Traffic!$F$20*(Constraints!$H$31+Constraints!$H$34+Constraints!$H$35)+1*(Constraints!$H$38-(Constraints!$H$31+Constraints!$H$34+Constraints!$H$35)))/Constraints!$H$38)*0.5,1)))","v":1},{"$f":"IF($I$2=\"Existing\",(D152),(IF($I$2=\"Design 1\",(F152),(IF($I$2=\"Design 2\",(G152),(IF($I$2=\"Optimal\",(I152),E152)))))))","v":1},{"$f":"IF(I24=INDEX(MedConf_Header,1,2),(IF(I$59=\"Yes\",Traffic!$F$18*0.5+((Traffic!$F$20*(Constraints!$H$17+Constraints!$H$20+Constraints!$H$21)+1*(Constraints!$H$24-(Constraints!$H$17+Constraints!$H$20+Constraints!$H$21)))/Constraints!$H$24)*0.5,1)),(IF(I$59=\"Yes\",Traffic!$F$18*0.5+((Traffic!$F$20*(Constraints!$H$31+Constraints!$H$34+Constraints!$H$35)+1*(Constraints!$H$38-(Constraints!$H$31+Constraints!$H$34+Constraints!$H$35)))/Constraints!$H$38)*0.5,1)))","v":0.87439641434262949},null,{"$f":"INDEX($D152:$I152,K$100)","v":1},{"$f":"INDEX($D152:$I152,L$100)","v":1},0,null,0.13824118691351761]
[null,null,"Profiles",1,1,1,1,1,1,null,{"$f":"INDEX($D153:$I153,K$100)","v":1},{"$f":"INDEX($D153:$I153,L$100)","v":1},0,null,0]
[null,null,"Shoulder rumble strips",{"$f":"IF(D24=INDEX(MedConf_Header,1,2),(IF(D$60=\"No\",1,(Traffic!$F$27*(Constraints!$H$17+Constraints!$H$20+Constraints!$H$21)+1*(Constraints!$H$24-(Constraints!$H$17+Constraints!$H$20+Constraints!$H$21)))/Constraints!$H$24)),(IF(D$60=\"No\",1,(Traffic!$F$27*(Constraints!$H$31+Constraints!$H$34+Constraints!$H$35)+1*(Constraints!$H$38-(Constraints!$H$31+Constraints!$H$34+Constraints!$H$35)))/Constraints!$H$38)))","v":0.93956289460903353},{"$f":"IF(E$60=\"No\",1,(Traffic!$F$27*(Constraints!$H$17+Constraints!$H$20+Constraints!$H$21)+1*(Constraints!$H$24-(Constraints!$H$17+Constraints!$H$20+Constraints!$H$21)))/Constraints!$H$24)","v":0.91807038512616201},{"$f":"IF(F24=INDEX(MedConf_Header,1,2),(IF(F$60=\"No\",1,(Traffic!$F$27*(Constraints!$H$17+Constraints!$H$20+Constraints!$H$21)+1*(Constraints!$H$24-(Constraints!$H$17+Constraints!$H$20+Constraints!$H$21)))/Constraints!$H$24)),(IF(F$60=\"No\",1,(Traffic!$F$27*(Constraints!$H$31+Constraints!$H$34+Constraints!$H$35)+1*(Constraints!$H$38-(Constraints!$H$31+Constraints!$H$34+Constraints!$H$35)))/Constraints!$H$38)))","v":0.93956289460903353},{"$f":"IF(G24=INDEX(MedConf_Header,1,2),(IF(G$60=\"No\",1,(Traffic!$F$27*(Constraints!$H$17+Constraints!$H$20+Constraints!$H$21)+1*(Constraints!$H$24-(Constraints!$H$17+Constraints!$H$20+Constraints!$H$21)))/Constraints!$H$24)),(IF(G$60=\"No\",1,(Traffic!$F$27*(Constraints!$H$31+Constraints!$H$34+Constraints!$H$35)+1*(Constraints!$H$38-(Constraints!$H$31+Constraints!$H$34+Constraints!$H$35)))/Constraints!$H$38)))","v":0.93956289460903353},{"$f":"IF($I$2=\"Existing\",(D154),(IF($I$2=\"Design 1\",(F154),(IF($I$2=\"Design 2\",(G154),(IF($I$2=\"Optimal\",(I154),E154)))))))","v":0.91807038512616201},{"$f":"IF(I$60=\"No\",1,(Traffic!$F$27*(Constraints!$H$17+Constraints!$H$20+Constraints!$H$21)+1*(Constraints!$H$24-(Constraints!$H$17+Constraints!$H$20+Constraints!$H$21)))/Constraints!$H$24)","v":0.91807038512616201},null,{"$f":"INDEX($D154:$I154,K$100)","v":0.93956289460903353},{"$f":"INDEX($D154:$I154,L$100)","v":0.91807038512616201},2.2875008800570917E-2,null,0]
[null,null,"Install centerline rumble strips",{"$f":"IF(D24=INDEX(MedConf_Header,1,3),(IF(D$61=\"No\",1,(Traffic!$E$81*(Constraints!$H$31+Constraints!$H$34+Constraints!$H$35)+1*(Constraints!$H$38-(Constraints!$H$31+Constraints!$H$34+Constraints!$H$35)))/Constraints!$H$38)+0.001),1)","v":1},{"$f":"IF(E24=INDEX(MedConf_Header,1,3),(IF(E$61=\"No\",1,(Traffic!$E$81*(Constraints!$H$31+Constraints!$H$34+Constraints!$H$35)+1*(Constraints!$H$38-(Constraints!$H$31+Constraints!$H$34+Constraints!$H$35)))/Constraints!$H$38)+0.001),1)","v":1},{"$f":"IF(F24=INDEX(MedConf_Header,1,3),(IF(F$61=\"No\",1,(Traffic!$E$81*(Constraints!$H$31+Constraints!$H$34+Constraints!$H$35)+1*(Constraints!$H$38-(Constraints!$H$31+Constraints!$H$34+Constraints!$H$35)))/Constraints!$H$38)+0.001),1)","v":1},{"$f":"IF(G24=INDEX(MedConf_Header,1,3),(IF(G$61=\"No\",1,(Traffic!$E$81*(Constraints!$H$31+Constraints!$H$34+Constraints!$H$35)+1*(Constraints!$H$38-(Constraints!$H$31+Constraints!$H$34+Constraints!$H$35)))/Constraints!$H$38)+0.001),1)","v":1},{"$f":"IF($I$2=\"Existing\",(D155),(IF($I$2=\"Design 1\",(F155),(IF($I$2=\"Design 2\",(G155),(IF($I$2=\"Optimal\",(I155),E155)))))))","v":1},{"$f":"IF(I24=INDEX(MedConf_Header,1,3),(IF(I$61=\"No\",1,(Traffic!$E$81*(Constraints!$H$31+Constraints!$H$34+Constraints!$H$35)+1*(Constraints!$H$38-(Constraints!$H$31+Constraints!$H$34+Constraints!$H$35)))/Constraints!$H$38)+0.001),1)","v":1},null,{"$f":"INDEX($D155:$I155,K$100)","v":1},{"$f":"INDEX($D155:$I155,L$100)","v":1},0,null,-0.16279069767441867]
[null,null,"Driveway Density (driveways per mile)",{"$f":"EXP(-LN(Traffic!$F$31)*(D$62-$E$62))","v":0.81707280688754669},{"$f":"EXP(-LN(Traffic!$F$31)*(E$62-$E$62))","v":1},{"$f":"EXP(-LN(Traffic!$F$31)*(F$62-$E$62))","v":0.81707280688754669},{"$f":"EXP(-LN(Traffic!$F$31)*(G$62-$E$62))","v":0.81707280688754669},{"$f":"IF($I$2=\"Existing\",(D156),(IF($I$2=\"Design 1\",(F156),(IF($I$2=\"Design 2\",(G156),(IF($I$2=\"Optimal\",(I156),E156)))))))","v":1},{"$f":"EXP(-LN(Traffic!$F$31)*(I$62-$E$62))","v":0.81707280688754669},null,{"$f":"INDEX($D156:$I156,K$100)","v":0.81707280688754669},{"$f":"INDEX($D156:$I156,L$100)","v":1},-0.22388114201141129,null,-0.22388114201141129]
[null,null,"Install lighting",{"$f":"IF(D24=INDEX(MedConf_Header,1,2),(IF(D$63=\"No\",1,1-(((1-Traffic!$F$54*Constraints!$H$24-Constraints!$F$24/3)+((1-Traffic!$F$54*Constraints!$D$24-Constraints!$H$24)))*$S$19+((1-Traffic!$F$56)*Constraints!$F$24/3))/Constraints!$D$24)),(IF(D$63=\"No\",1,1-(((1-Traffic!$F$54*Constraints!$H$38-Constraints!$F$38/3)+((1-Traffic!$F$54*Constraints!$D$38-Constraints!$H$38)))*$S$19+((1-Traffic!$F$56)*Constraints!$F$38/3))/Constraints!$D$38)))","v":0.98319080068143105},{"$f":"IF(E$63=\"No\",1,1-(((1-Traffic!$F$54*Constraints!$H$24-Constraints!$F$24/3)+((1-Traffic!$F$54*Constraints!$D$24-Constraints!$H$24)))*$S$19+((1-Traffic!$F$56)*Constraints!$F$24/3))/Constraints!$D$24)","v":1},{"$f":"IF(F24=INDEX(MedConf_Header,1,2),(IF(F$63=\"No\",1,1-(((1-Traffic!$F$54*Constraints!$H$24-Constraints!$F$24/3)+((1-Traffic!$F$54*Constraints!$D$24-Constraints!$H$24)))*$S$19+((1-Traffic!$F$56)*Constraints!$F$24/3))/Constraints!$D$24)),(IF(F$63=\"No\",1,1-(((1-Traffic!$F$54*Constraints!$H$38-Constraints!$F$38/3)+((1-Traffic!$F$54*Constraints!$D$38-Constraints!$H$38)))*$S$19+((1-Traffic!$F$56)*Constraints!$F$38/3))/Constraints!$D$38)))","v":0.98319080068143105},{"$f":"IF(G24=INDEX(MedConf_Header,1,2),(IF(G$63=\"No\",1,1-(((1-Traffic!$F$54*Constraints!$H$24-Constraints!$F$24/3)+((1-Traffic!$F$54*Constraints!$D$24-Constraints!$H$24)))*$S$19+((1-Traffic!$F$56)*Constraints!$F$24/3))/Constraints!$D$24)),(IF(G$63=\"No\",1,1-(((1-Traffic!$F$54*Constraints!$H$38-Constraints!$F$38/3)+((1-Traffic!$F$54*Constraints!$D$38-Constraints!$H$38)))*$S$19+((1-Traffic!$F$56)*Constraints!$F$38/3))/Constraints!$D$38)))","v":0.98319080068143105},{"$f":"IF($I$2=\"Existing\",(D157),(IF($I$2=\"Design 1\",(F157),(IF($I$2=\"Design 2\",(G157),(IF($I$2=\"Optimal\",(I157),E157)))))))","v":1},{"$f":"IF(I$63=\"No\",1,1-(((1-Traffic!$F$54*Constraints!$H$24-Constraints!$F$24/3)+((1-Traffic!$F$54*Constraints!$D$24-Constraints!$H$24)))*$S$19+((1-Traffic!$F$56)*Constraints!$F$24/3))/Constraints!$D$24)","v":0.98062689234129152},null,{"$f":"INDEX($D157:$I157,K$100)","v":0.98319080068143105},{"$f":"INDEX($D157:$I157,L$100)","v":1},-1.7096579124742384E-2,null,-2.3499081529478438E-2]
[null,null,"Pavement friction (skid number)",{"$f":"EXP(LN(Traffic!$F$48)*(D$64-$E$64))","v":1.3972521419325798},{"$f":"EXP(LN(Traffic!$F$48)*(E$64-$E$64))","v":1},{"$f":"IF(MATCH(F64,SkidNums,0)=3, $D158,EXP(LN([5]Traffic!$F$49)*(RIGHT(F$64,2)-$E$64)))","v":{"$error":"#N/A"}},{"$f":"IF(MATCH(G64,SkidNums,0)=3, $D158,EXP(LN([5]Traffic!$F$49)*(RIGHT(G$64,2)-$E$64)))","v":{"$error":"#N/A"}},{"$f":"IF($I$2=\"Existing\",(D158),(IF($I$2=\"Design 1\",(F158),(IF($I$2=\"Design 2\",(G158),(IF($I$2=\"Optimal\",(I158),E158)))))))","v":1},{"$f":"EXP(LN(Traffic!$F$48)*(I$64-$E$64))","v":0.85753553626991963},null,{"$f":"INDEX($D158:$I158,K$100)","v":1.3972521419325798},{"$f":"INDEX($D158:$I158,L$100)","v":1},0.28430956017940245,null,0]
[]
[]
[null,null,"COMBINED Calculated CMF",{"$f":"+D149*D150*D151*D152*D153*D154*D155*D156*D157*D158","v":1.0546277742651902},{"$f":"+E149*E150*E151*E152*E153*E154*E155*E156*E157*E158","v":0.91807038512616201},{"$error":"#N/A"},{"$error":"#N/A"},{"$f":"IF($I$2=\"Existing\",(D161),(IF($I$2=\"Design 1\",(F161),(IF($I$2=\"Design 2\",(G161),(IF($I$2=\"Optimal\",(I161),E161)))))))","v":0.91807038512616201},{"$f":"+I149*I150*I151*I152*I153*I154*I155*I156*I157*I158","v":0.55157049744255038},null,{"$f":"INDEX($D161:$I161,K$100)","v":1.0546277742651902},{"$f":"INDEX($D161:$I161,L$100)","v":0.91807038512616201},{"$f":"IF(ISERROR(1-L161/K161), 0, 1-L161/K161)","v":0.12948396815565966},null,0]
[null,null,"Calculated Relative to Design Standards (Column E)",{"$f":"+D161/$E$161","v":1.1487439213282784},{"$f":"+E161/$E$161","v":1},{"$error":"#N/A"},{"$error":"#N/A"},1,{"$f":"+I161/$E$161","v":0.60079325766156055},null,{"$f":"INDEX($D162:$I162,K$100)","v":1.1487439213282784},{"$f":"INDEX($D162:$I162,L$100)","v":1},0.12948396815565966,null,0]
[null,null,"P(Crash)",{"$f":"+D162/(D162+1)","v":0.53461183062622242},0.5,{"$error":"#N/A"},{"$error":"#N/A"},0.5,{"$f":"+I162/(I162+1)","v":0.37530971272280322},null,{"$f":"INDEX($D163:$I163,K$100)","v":0.53461183062622242},{"$f":"INDEX($D163:$I163,L$100)","v":0.5},6.4741984077829939E-2]
[null,null,"Factor Change on S curve",{"$f":"+D163/$E$163","v":1.0692236612524448},{"$f":"+E163/$E$163","v":1},{"$f":"+F163/$E$163","v":{"$error":"#N/A"}},{"$error":"#N/A"},1,{"$f":"+I163/$E$163","v":0.75061942544560645},null,{"$f":"INDEX($D164:$I164,K$100)","v":1.0692236612524448},{"$f":"INDEX($D164:$I164,L$100)","v":1},6.4741984077829939E-2]
[null,null,"Adjust to Scale of 100",{"$f":"+$I$118/D164*100","v":{"$error":"#VALUE!"}},{"$error":"#VALUE!"},{"$error":"#VALUE!"},{"$error":"#VALUE!"},{"$error":"#VALUE!"},{"$f":"+$I$118/I164*100","v":{"$error":"#VALUE!"}}]
[null,null,"Unadjusted Combined Relative to Standard",{"$f":"+D161/$E$161","v":1.1487439213282784},{"$f":"+E161/$E$161","v":1},{"$f":"+F161/$E$161","v":{"$error":"#N/A"}},{"$error":"#N/A"},1,{"$f":"+I161/$E$161","v":0.60079325766156055},{"$f":"I172/E172","v":1.3333333333333333},{"$f":"INDEX($D166:$I166,K$100)","v":1.1487439213282784},{"$f":"INDEX($D166:$I166,L$100)","v":1},{"$f":"IF(ISERROR(1-L166/K166), 0, 1-L166/K166)","v":0.12948396815565966}]
[null,null,null,null,null,null,null,0,null,null,{"$f":"INDEX($D167:$I167,K$100)","v":0},{"$f":"INDEX($D167:$I167,L$100)","v":0},0]
[null,null,"Adjusted for PA Basis",{"$f":"+D161*(1+1)/(1+D161*1)","v":1.0265876743950504},0.95728539707970672,{"$error":"#N/A"},{"$error":"#N/A"},0.95728539707970672,{"$f":"+I161*(1+1)/(1+I161*1)","v":0.71098348202895401},null,{"$f":"INDEX($D168:$I168,K$100)","v":1.0265876743950504},{"$f":"INDEX($D168:$I168,L$100)","v":0.95728539707970672},6.750741221998624E-2]
[null,null,"Corrected by Odds Ratio",{"$f":"+D168/$E$168","v":1.0723945831898796},{"$f":"+E168/$E$168","v":1},{"$f":"+F168/$E$168","v":{"$error":"#N/A"}},{"$error":"#N/A"},1,{"$f":"+I168/$E$168","v":0.74270795752017016},{"$f":"I175/E175","v":1.4285714285714286},{"$f":"INDEX($D169:$I169,K$100)","v":1.0723945831898796},{"$f":"INDEX($D169:$I169,L$100)","v":1},6.750741221998624E-2]
[null,null,null,{"$f":"(1/D169)^$D173","v":0.19732178070922252},{"$f":"(1/E169)^$D173","v":1},{"$error":"#N/A"},{"$error":"#N/A"},1,998.99999999999955,null,{"$f":"INDEX($D170:$I170,K$100)","v":0.19732178070922252},{"$f":"INDEX($D170:$I170,L$100)","v":1},-4.0678642591089362]
[null,null,null,{"$f":"(D170+$F174-1)/(1+(D170+$F174-1))","v":0.6048454036857811},{"$f":"(E170+$F174-1)/(1+(E170+$F174-1))","v":0.70000000000000007},{"$error":"#N/A"},{"$error":"#N/A"},0.70000000000000007,0.99900133155792281,null,{"$f":"INDEX($D171:$I171,K$100)","v":0.6048454036857811},{"$f":"INDEX($D171:$I171,L$100)","v":0.70000000000000007},-0.15732052477272696]
[null,null,"Score Odds Ratio with Optimal as 100 (old)",{"$f":"MIN(ROUND($I$169/D169*Construction!$I$3,0),$I172)","v":14},{"$f":"MIN(ROUND($I$169/E169*Construction!$I$3,0),$I172)","v":15},{"$f":"MIN(ROUND($I$169/F169*Construction!$I$3,0),$I172)","v":{"$error":"#N/A"}},{"$f":"MIN(ROUND($I$169/G169*Construction!$I$3,0),$I172)","v":{"$error":"#N/A"}},null,{"$f":"ROUND($I$169/I169*Construction!$I$3,0)","v":20}]
[null,null,"Logistic1",{"$f":"LN((D174/(1-D174))/(0.5/0.5))/LN($E169/I169)","v":23.2196999386987}]
[null,null,"Logistic Param",0.999,null,{"$f":"0.7/0.3","v":2.3333333333333335}]
[null,null,"Score ",{"$f":"MIN(ROUND(D171*Construction!$I$3,0),$I172)","v":12},{"$f":"MIN(ROUND(E171*Construction!$I$3,0),$I172)","v":14},{"$f":"MIN(ROUND(F171*Construction!$I$3,0),$I172)","v":{"$error":"#N/A"}},{"$f":"MIN(ROUND(G171*Construction!$I$3,0),$I172)","v":{"$error":"#N/A"}},null,{"$f":"MIN(ROUND(I171*Construction!$I$3,0),$I172)","v":20}]
[]
[]
[]
[]
[null,null,null,{"$f":"INDEX(MedConf_Header,1,2)","v":"Divided - Unsurfaced Median"}]
[]
[null,"Roadsde",null,"Existing","Standard","Design 1","Design 2"]
[null,null,null,{"$f":"IF(ISBLANK(D75), 0, MID(D75,FIND(\":\",D75,1)+1,FIND(\"H\",D75,1)-FIND(\":\",D75,1)-1)+0)","v":0},{"$f":"MID(E75,FIND(\":\",E75,1)+1,FIND(\"H\",E75,1)-FIND(\":\",E75,1)-1)+0","v":4},{"$f":"IF(ISBLANK(F75), 0, MID(F75,FIND(\":\",F75,1)+1,FIND(\"H\",F75,1)-FIND(\":\",F75,1)-1)+0)","v":0},{"$f":"IF(ISBLANK(G75), 0, MID(G75,FIND(\":\",G75,1)+1,FIND(\"H\",G75,1)-FIND(\":\",G75,1)-1)+0)","v":0},null,{"$f":"MID(I75,FIND(\":\",I75,1)+1,FIND(\"H\",I75,1)-FIND(\":\",I75,1)-1)+0","v":6},null,null,null,null,null,0]
[null,null,"Sideslope (Foreslope)",{"$f":"IF(D24=INDEX(MedConf_Header,1,2),(IF(D183<=3,1,IF(OR(D183=4,D183=5),(Roadside!$F$15-1)*Constraints!$H$24/Constraints!$D$24+1,(Roadside!$F$15*Roadside!$F$16-1)*Constraints!$H$24/Constraints!$D$24+1))),(IF(D183<=3,1,IF(OR(D183=4,D183=5),(Roadside!$F$15-1)*Constraints!$H$38/Constraints!$D$38+1,(Roadside!$F$15*Roadside!$F$16-1)*Constraints!$H$38/Constraints!$D$38+1))))","v":1},{"$f":"IF(E24=INDEX(MedConf_Header,1,2),(IF(E183<=3,1,IF(OR(E183=4,E183=5),(Roadside!$F$15-1)*Constraints!$H$24/Constraints!$D$24+1,(Roadside!$F$15*Roadside!$F$16-1)*Constraints!$H$24/Constraints!$D$24+1))),(IF(E183<=3,1,IF(OR(E183=4,E183=5),(Roadside!$F$15-1)*Constraints!$H$38/Constraints!$D$38+1,(Roadside!$F$15*Roadside!$F$16-1)*Constraints!$H$38/Constraints!$D$38+1))))","v":0.84302377525189853},{"$f":"IF(F24=INDEX(MedConf_Header,1,2),(IF(F183<=3,1,IF(OR(F183=4,F183=5),(Roadside!$F$15-1)*Constraints!$H$24/Constraints!$D$24+1,(Roadside!$F$15*Roadside!$F$16-1)*Constraints!$H$24/Constraints!$D$24+1))),(IF(F183<=3,1,IF(OR(F183=4,F183=5),(Roadside!$F$15-1)*Constraints!$H$38/Constraints!$D$38+1,(Roadside!$F$15*Roadside!$F$16-1)*Constraints!$H$38/Constraints!$D$38+1))))","v":1},{"$f":"IF(G24=INDEX(MedConf_Header,1,2),(IF(G183<=3,1,IF(OR(G183=4,G183=5),(Roadside!$F$15-1)*Constraints!$H$24/Constraints!$D$24+1,(Roadside!$F$15*Roadside!$F$16-1)*Constraints!$H$24/Constraints!$D$24+1))),(IF(G183<=3,1,IF(OR(G183=4,G183=5),(Roadside!$F$15-1)*Constraints!$H$38/Constraints!$D$38+1,(Roadside!$F$15*Roadside!$F$16-1)*Constraints!$H$38/Constraints!$D$38+1))))","v":1},{"$f":"IF($I$2=\"Existing\",(D184),(IF($I$2=\"Design 1\",(F184),(IF($I$2=\"Design 2\",(G184),(IF($I$2=\"Optimal\",(I184),E184)))))))","v":0.84302377525189853},{"$f":"IF(I24=INDEX(MedConf_Header,1,2),(IF(I183<=3,1,IF(OR(I183=4,I183=5),(Roadside!$F$15-1)*Constraints!$H$24/Constraints!$D$24+1,(Roadside!$F$15*Roadside!$F$16-1)*Constraints!$H$24/Constraints!$D$24+1))),(IF(I183<=3,1,IF(OR(I183=4,I183=5),(Roadside!$F$15-1)*Constraints!$H$38/Constraints!$D$38+1,(Roadside!$F$15*Roadside!$F$16-1)*Constraints!$H$38/Constraints!$D$38+1))))","v":0.79533290316176108},null,{"$f":"INDEX($D184:$I184,K$100)","v":1},{"$f":"INDEX($D184:$I184,L$100)","v":0.84302377525189853},{"$f":"IF(ISERROR(1-L184/K184), 0, 1-L184/K184)","v":0.15697622474810147},null,0]
[null,null,"Backslope",1,1,1,1,{"$f":"IF($I$2=\"Existing\",(D185),(IF($I$2=\"Design 1\",(F185),(IF($I$2=\"Design 2\",(G185),(IF($I$2=\"Optimal\",(I185),E185)))))))","v":1},1,null,{"$f":"INDEX($D185:$I185,K$100)","v":1},{"$f":"INDEX($D185:$I185,L$100)","v":1},0,null,0]
[null,null,"SafetyEdge",{"$f":"IF(D24=INDEX(MedConf_Header,1,2),(IF(D$77=\"No\",1,(Roadside!$F$23-1)*AVERAGE(Constraints!$H$24,Constraints!$F$24)/Constraints!$D$24+1)),(IF(D$77=\"No\",1,(Roadside!$F$23-1)*AVERAGE(Constraints!$H$38,Constraints!$F$38)/Constraints!$D$38+1)))","v":0.97711209540034072},{"$f":"IF(E$77=\"No\",1,(Roadside!$F$23-1)*AVERAGE(Constraints!$H$24,Constraints!$F$24)/Constraints!$D$24+1)","v":1},{"$f":"IF(F24=INDEX(MedConf_Header,1,2),(IF(F$77=\"No\",1,(Roadside!$F$23-1)*AVERAGE(Constraints!$H$24,Constraints!$F$24)/Constraints!$D$24+1)),(IF(F$77=\"No\",1,(Roadside!$F$23-1)*AVERAGE(Constraints!$H$38,Constraints!$F$38)/Constraints!$D$38+1)))","v":0.97711209540034072},{"$f":"IF(G24=INDEX(MedConf_Header,1,2),(IF(G$77=\"No\",1,(Roadside!$F$23-1)*AVERAGE(Constraints!$H$24,Constraints!$F$24)/Constraints!$D$24+1)),(IF(G$77=\"No\",1,(Roadside!$F$23-1)*AVERAGE(Constraints!$H$38,Constraints!$F$38)/Constraints!$D$38+1)))","v":0.97711209540034072},{"$f":"IF($I$2=\"Existing\",(D186),(IF($I$2=\"Design 1\",(F186),(IF($I$2=\"Design 2\",(G186),(IF($I$2=\"Optimal\",(I186),E186)))))))","v":1},{"$f":"IF(I$77=\"No\",1,(Roadside!$F$23-1)*AVERAGE(Constraints!$H$24,Constraints!$F$24)/Constraints!$D$24+1)","v":0.97526887377773364},null,{"$f":"INDEX($D186:$I186,K$100)","v":0.97711209540034072},{"$f":"INDEX($D186:$I186,L$100)","v":1},-2.3424031600265627E-2,null,-2.8188991921691331E-2]
[null,null,"Lateral Clearance (ft)",{"$f":"IF(D24=INDEX(MedConf_Header,1,2),(IF($B$31=\"Yes\",((EXP(LN(Roadside!$F$11)*(IF(D$79=\"None\",40,D$78)-30)/30)-1))*Constraints!$H$17/Constraints!$D$24+1,((EXP(LN(Roadside!$F$10)*(IF(D$79=\"None\",40,D$78)-30)/30)-1))*Constraints!$H$17/Constraints!$D$24+1)),(IF($B$31=\"Yes\",((EXP(LN(Roadside!$F$11)*(IF(D$79=\"None\",40,D$78)-30)/30)-1))*Constraints!$H$31/Constraints!$D$38+1,((EXP(LN(Roadside!$F$10)*(IF(D$79=\"None\",40,D$78)-30)/30)-1))*Constraints!$H$31/Constraints!$D$38+1)))","v":1.0472592444132678},{"$f":"IF(E24=INDEX(MedConf_Header,1,2),(IF($B$31=\"Yes\",((EXP(LN(Roadside!$F$11)*(IF(E$79=\"None\",40,E$78)-30)/30)-1))*Constraints!$H$17/Constraints!$D$24+1,((EXP(LN(Roadside!$F$10)*(IF(E$79=\"None\",40,E$78)-30)/30)-1))*Constraints!$H$17/Constraints!$D$24+1)),(IF($B$31=\"Yes\",((EXP(LN(Roadside!$F$11)*(IF(E$79=\"None\",40,E$78)-30)/30)-1))*Constraints!$H$31/Constraints!$D$38+1,((EXP(LN(Roadside!$F$10)*(IF(E$79=\"None\",40,E$78)-30)/30)-1))*Constraints!$H$31/Constraints!$D$38+1)))","v":0.97942029665168673},{"$f":"IF(F24=INDEX(MedConf_Header,1,2),(IF($B$31=\"Yes\",((EXP(LN(Roadside!$F$11)*(IF(F$79=\"None\",40,F$78)-30)/30)-1))*Constraints!$H$17/Constraints!$D$24+1,((EXP(LN(Roadside!$F$10)*(IF(F$79=\"None\",40,F$78)-30)/30)-1))*Constraints!$H$17/Constraints!$D$24+1)),(IF($B$31=\"Yes\",((EXP(LN(Roadside!$F$11)*(IF(F$79=\"None\",40,F$78)-30)/30)-1))*Constraints!$H$31/Constraints!$D$38+1,((EXP(LN(Roadside!$F$10)*(IF(F$79=\"None\",40,F$78)-30)/30)-1))*Constraints!$H$31/Constraints!$D$38+1)))","v":1.0472592444132678},{"$f":"IF(G24=INDEX(MedConf_Header,1,2),(IF($B$31=\"Yes\",((EXP(LN(Roadside!$F$11)*(IF(G$79=\"None\",40,G$78)-30)/30)-1))*Constraints!$H$17/Constraints!$D$24+1,((EXP(LN(Roadside!$F$10)*(IF(G$79=\"None\",40,G$78)-30)/30)-1))*Constraints!$H$17/Constraints!$D$24+1)),(IF($B$31=\"Yes\",((EXP(LN(Roadside!$F$11)*(IF(G$79=\"None\",40,G$78)-30)/30)-1))*Constraints!$H$31/Constraints!$D$38+1,((EXP(LN(Roadside!$F$10)*(IF(G$79=\"None\",40,G$78)-30)/30)-1))*Constraints!$H$31/Constraints!$D$38+1)))","v":1.0472592444132678},{"$f":"IF($I$2=\"Existing\",(D187),(IF($I$2=\"Design 1\",(F187),(IF($I$2=\"Design 2\",(G187),(IF($I$2=\"Optimal\",(I187),E187)))))))","v":0.97942029665168673},{"$f":"IF(I24=INDEX(MedConf_Header,1,2),(IF($B$31=\"Yes\",((EXP(LN(Roadside!$F$11)*(IF(I$79=\"None\",40,I$78)-30)/30)-1))*Constraints!$H$17/Constraints!$D$24+1,((EXP(LN(Roadside!$F$10)*(IF(I$79=\"None\",40,I$78)-30)/30)-1))*Constraints!$H$17/Constraints!$D$24+1)),(IF($B$31=\"Yes\",((EXP(LN(Roadside!$F$11)*(IF(I$79=\"None\",40,I$78)-30)/30)-1))*Constraints!$H$31/Constraints!$D$38+1,((EXP(LN(Roadside!$F$10)*(IF(I$79=\"None\",40,I$78)-30)/30)-1))*Constraints!$H$31/Constraints!$D$38+1)))","v":0.97942029665168673},null,{"$f":"INDEX($D187:$I187,K$100)","v":1.0472592444132678},{"$f":"INDEX($D187:$I187,L$100)","v":0.97942029665168673},6.4777606999867676E-2,null,9.0307162971216326E-2]
[null,null,"Roadside Obstruction Type",{"$f":"IF(D24=INDEX(MedConf_Header,1,2),(IF(D$79=\"Guardrail\",(Roadside!$F$25-1)*(($I$78-D$78)/$I$78)^2*Constraints!$H$17/Constraints!$D$24+1,1)),(IF(D$79=\"Guardrail\",(Roadside!$F$25-1)*(($I$78-D$78)/$I$78)^2*Constraints!$H$31/Constraints!$D$38+1,1)))","v":1},{"$f":"IF(E24=INDEX(MedConf_Header,1,2),(IF(E$79=\"Guardrail\",(Roadside!$F$25-1)*(($I$78-E$78)/$I$78)^2*Constraints!$H$17/Constraints!$D$24+1,1)),(IF(E$79=\"Guardrail\",(Roadside!$F$25-1)*(($I$78-E$78)/$I$78)^2*Constraints!$H$31/Constraints!$D$38+1,1)))","v":1},{"$f":"IF(F24=INDEX(MedConf_Header,1,2),(IF(F$79=\"Guardrail\",(Roadside!$F$25-1)*(($I$78-F$78)/$I$78)^2*Constraints!$H$17/Constraints!$D$24+1,1)),(IF(F$79=\"Guardrail\",(Roadside!$F$25-1)*(($I$78-F$78)/$I$78)^2*Constraints!$H$31/Constraints!$D$38+1,1)))","v":1},{"$f":"IF(G24=INDEX(MedConf_Header,1,2),(IF(G$79=\"Guardrail\",(Roadside!$F$25-1)*(($I$78-G$78)/$I$78)^2*Constraints!$H$17/Constraints!$D$24+1,1)),(IF(G$79=\"Guardrail\",(Roadside!$F$25-1)*(($I$78-G$78)/$I$78)^2*Constraints!$H$31/Constraints!$D$38+1,1)))","v":1},{"$f":"IF($I$2=\"Existing\",(D188),(IF($I$2=\"Design 1\",(F188),(IF($I$2=\"Design 2\",(G188),(IF($I$2=\"Optimal\",(I188),E188)))))))","v":1},{"$f":"IF(I24=INDEX(MedConf_Header,1,2),(IF(I$79=\"Guardrail\",(Roadside!$F$25-1)*(($I$78-I$78)/$I$78)^2*Constraints!$H$17/Constraints!$D$24+1,1)),(IF(I$79=\"Guardrail\",(Roadside!$F$25-1)*(($I$78-I$78)/$I$78)^2*Constraints!$H$31/Constraints!$D$38+1,1)))","v":1},null,{"$f":"INDEX($D188:$I188,K$100)","v":1},{"$f":"INDEX($D188:$I188,L$100)","v":1},0,null,0]
[null,null,null,null,null,null,null,null,null,null,{"$f":"INDEX($D189:$I189,K$100)","v":0},{"$f":"INDEX($D189:$I189,L$100)","v":0},0]
[null,null,null,null,null,null,null,null,null,null,{"$f":"INDEX($D190:$I190,K$100)","v":0},{"$f":"INDEX($D190:$I190,L$100)","v":0},0]
[null,null,"COMBINED Calculated CMF",{"$f":"+D184*D185*D186*D187*D188","v":1.0232896747360256},{"$f":"+E184*E185*E186*E187*E188","v":0.82567459604163929},1.0232896747360256,1.0232896747360256,{"$f":"IF($I$2=\"Existing\",(D191),(IF($I$2=\"Design 1\",(F191),(IF($I$2=\"Design 2\",(G191),(IF($I$2=\"Optimal\",(I191),E191)))))))","v":0.82567459604163929},{"$f":"+I184*I185*I186*I187*I188","v":0.75970050156555824},null,{"$f":"INDEX($D191:$I191,K$100)","v":1.0232896747360256},{"$f":"INDEX($D191:$I191,L$100)","v":0.82567459604163929},0.1931174364144389]
[null,null,"Calculated Relative to Design Standards (Column E)",{"$f":"+D191/$E$191","v":1.2393377241370527},{"$f":"+E191/$E$191","v":1},1.2393377241370527,1.2393377241370527,1,{"$f":"+I191/$E$191","v":0.92009673690777583},null,{"$f":"INDEX($D192:$I192,K$100)","v":1.2393377241370527},{"$f":"INDEX($D192:$I192,L$100)","v":1},0.1931174364144389]
[null,null,"P(Crash)",{"$f":"+D192/(D192+1)","v":0.55343939896990835},0.5,0.55343939896990835,0.55343939896990835,0.5,{"$f":"+I192/(I192+1)","v":0.47919290691027777},null,{"$f":"INDEX($D193:$I193,K$100)","v":0.55343939896990835},{"$f":"INDEX($D193:$I193,L$100)","v":0.5},9.6558718207219618E-2]
[null,null,"Factor Change on S curve",{"$f":"+D193/$E$193","v":1.1068787979398167},{"$f":"+E193/$E$193","v":1},1.1068787979398167,1.1068787979398167,1,{"$f":"+I193/$E$193","v":0.95838581382055554},null,{"$f":"INDEX($D194:$I194,K$100)","v":1.1068787979398167},{"$f":"INDEX($D194:$I194,L$100)","v":1},9.6558718207219618E-2]
[null,null,"Adjust to Scale of 100",{"$f":"+$I$118/D194*100","v":{"$error":"#VALUE!"}},{"$error":"#VALUE!"},{"$error":"#VALUE!"},{"$error":"#VALUE!"},{"$error":"#VALUE!"},{"$f":"+$I$118/I194*100","v":{"$error":"#VALUE!"}},null,{"$f":"INDEX($D195:$I195,K$100)","v":{"$error":"#VALUE!"}},{"$f":"INDEX($D195:$I195,L$100)","v":{"$error":"#VALUE!"}},0]
[null,null,"Unadjusted Combined Relative to Standard",{"$f":"+D191/$E$191","v":1.2393377241370527},{"$f":"+E191/$E$191","v":1},1.2393377241370527,1.2393377241370527,1,{"$f":"+I191/$E$191","v":0.92009673690777583},{"$f":"I202/E202","v":1.0810810810810811},{"$f":"INDEX($D196:$I196,K$100)","v":1.2393377241370527},{"$f":"INDEX($D196:$I196,L$100)","v":1},0.1931174364144389]
[null,null,null,null,null,null,null,null,null,null,{"$f":"INDEX($D197:$I197,K$100)","v":0},{"$f":"INDEX($D197:$I197,L$100)","v":0},0]
[null,null,"Adjusted for PA Basis",{"$f":"+D191*(1+1)/(1+D191*1)","v":1.0115107960203793},0.90451452611745442,1.0115107960203793,1.0115107960203793,{"$f":"IF($I$2=\"Existing\",(D198),(IF($I$2=\"Design 1\",(F198),(IF($I$2=\"Design 2\",(G198),(IF($I$2=\"Optimal\",(I198),E198)))))))","v":0.90451452611745442},{"$f":"+I191*(1+1)/(1+I191*1)","v":0.86344295621859868},null,{"$f":"INDEX($D198:$I198,K$100)","v":1.0115107960203793},{"$f":"INDEX($D198:$I198,L$100)","v":0.90451452611745442},0.10577867317272727]
[null,null,"Corrected by Odds Ratio",{"$f":"+D191/$E$191","v":1.2393377241370527},{"$f":"+E191/$E$191","v":1},1.2393377241370527,1.2393377241370527,{"$f":"IF($I$2=\"Existing\",(D199),(IF($I$2=\"Design 1\",(F199),(IF($I$2=\"Design 2\",(G199),(IF($I$2=\"Optimal\",(I199),E199)))))))","v":1},{"$f":"+I191/$E$191","v":0.92009673690777583},{"$f":"I205/E205","v":1.4814814814814814},{"$f":"INDEX($D199:$I199,K$100)","v":1.2393377241370527},{"$f":"INDEX($D199:$I199,L$100)","v":1},0.1931174364144389]
[null,null,null,{"$f":"(1/D199)^$D203","v":1.8666691582346016E-8},{"$f":"(1/E199)^$D203","v":1},1.8666691582346016E-8,1.8666691582346016E-8,1,998.99999999999955]
[null,null,null,{"$f":"(D200+$F204-1)/(1+(D200+$F204-1))","v":0.50000000466667294},{"$f":"(E200+$F204-1)/(1+(E200+$F204-1))","v":0.66666666666666663},0.50000000466667294,0.50000000466667294,0.66666666666666663,0.99900099900099903]
[null,null,"Score Odds Ratio with Optimal as 100 (old)",{"$f":"MIN(ROUND($I$199/D199*Construction!$I$4,0),$I202)","v":30},{"$f":"MIN(ROUND($I$199/E199*Construction!$I$4,0),$I202)","v":37},{"$f":"MIN(ROUND($I$199/F199*Construction!$I$4,0),$I202)","v":30},{"$f":"MIN(ROUND($I$199/G199*Construction!$I$4,0),$I202)","v":30},null,{"$f":"ROUND($I$199/I199*Construction!$I$4,0)","v":40}]
[null,null,"Logistic1",{"$f":"LN((D204/(1-D204))/(0.5/0.5))/LN($E199/I199)","v":82.937655007418002}]
[null,null,"Logistic Param",0.999,null,2]
[null,null,"Score ",{"$f":"MIN(ROUND(D201*Construction!$I$4,0),$I202)","v":20},{"$f":"MIN(ROUND(E201*Construction!$I$4,0),$I202)","v":27},{"$f":"MIN(ROUND(F201*Construction!$I$4,0),$I202)","v":20},{"$f":"MIN(ROUND(G201*Construction!$I$4,0),$I202)","v":20},null,{"$f":"MIN(ROUND(I201*Construction!$I$4,0),$I202)","v":40}]
[]
[]
[]
[]
[null,null,{"$f":"D87/D183","v":{"$error":"#DIV/0!"}},null,{"$f":"ROUNDUP((MIN($I$14,$I$15)-E27-E28)/$C$210,0)","v":{"$error":"#DIV/0!"}},{"$f":"ROUNDUP((MIN($I$14,$I$15)-F27-F28)/$C$210,0)","v":{"$error":"#DIV/0!"}},{"$f":"ROUNDUP((MIN($I$14,$I$15)-G27-G28)/$C$210,0)","v":{"$error":"#DIV/0!"}},null,{"$f":"ROUNDUP((MIN($I$14,$I$15)-I27-I28)/$C$210,0)","v":{"$error":"#DIV/0!"}}]
[]
[]
[null,null,"Distance to low point","Distance to low point",{"$f":"$C$210*E183","v":{"$error":"#DIV/0!"}},{"$f":"$C$210*F183","v":{"$error":"#DIV/0!"}},{"$error":"#DIV/0!"},null,{"$f":"$C$210*I183","v":{"$error":"#DIV/0!"}}]
[null,null,null,"Additional ROW1 Needed for Foreslope",{"$f":"IF(E213>($I$14-E27-E28),E213-($I$14-E27-E28),0)","v":{"$error":"#DIV/0!"}},{"$f":"IF(F213>($I$14-F27-F28),F213-($I$14-F27-F28),0)","v":{"$error":"#DIV/0!"}},{"$f":"IF(G213>($I$14-G27-G28),G213-($I$14-G27-G28),0)","v":{"$error":"#DIV/0!"}},null,{"$f":"IF(I213>($I$14-I27-I28),I213-($I$14-I27-I28),0)","v":{"$error":"#DIV/0!"}}]
[null,null,null,"Additional ROW2 Needed for Foreslope",{"$f":"IF(E213>($I$15-E27-E28),E213-($I$15-E27-E28),0)","v":{"$error":"#DIV/0!"}},{"$f":"IF(F213>($I$15-F27-F28),F213-($I$15-F27-F28),0)","v":{"$error":"#DIV/0!"}},{"$f":"IF(G213>($I$15-G27-G28),G213-($I$15-G27-G28),0)","v":{"$error":"#DIV/0!"}},null,{"$f":"IF(I213>($I$15-I27-I28),I213-($I$15-I27-I28),0)","v":{"$error":"#DIV/0!"}}]
[]
[null,null,null,"Additional ROW1 Needed for Lateral Clearance",{"$f":"IF((CL251+E30)-$I$14<0,0,(CL251+E30)-$I$14)","v":2},{"$f":"IF((CM251+F30)-$I$14<0,0,(CM251+F30)-$I$14)","v":0},{"$f":"IF((CN251+G30)-$I$14<0,0,(CN251+G30)-$I$14)","v":0},null,{"$f":"IF((CP251+I30)-$I$14<0,0,(CP251+I30)-$I$14)","v":2}]
[null,null,null,"Additional ROW2 Needed for Lateral Clearance",{"$f":"IF((CL251+E30)-$I$15<0,0,(CL251+E30)-$I$15)","v":2},{"$f":"IF((CM251+F30)-$I$15<0,0,(CM251+F30)-$I$15)","v":0},{"$f":"IF((CN251+G30)-$I$15<0,0,(CN251+G30)-$I$15)","v":0},null,{"$f":"IF((CP251+I30)-$I$15<0,0,(CP251+I30)-$I$15)","v":2}]
[]
[]
[]
[]
[]
[]
[]
[]
[]
[]
[]
[null,null,"For Vertical Opt Use when Yes Vertical:"]
[null,null,"G1",{"$f":"D40","v":0},null,{"$f":"F40","v":0},{"$f":"G40","v":0},null,{"$f":"IF(ISERROR($E$238),\"\",INDEX(D231:G231,$E$238))","v":""}]
[null,null,"G2",{"$f":"D41","v":0},null,{"$f":"F41","v":0},{"$f":"G41","v":0},null,{"$f":"IF(ISERROR($E$238),\"\",INDEX(D232:G232,$E$238))","v":""}]
[null,null,"abs(G2-G1)",{"$f":"ABS(D40-D41)","v":0},null,{"$f":"ABS(F40-F41)","v":0},{"$f":"ABS(G40-G41)","v":0}]
[null,null,"Count in indicator (K no change; or K change but accept)",{"$f":"IF(D43<>\"\",1,\"\")","v":""},null,{"$f":"IF(OR(AND($B$38 = \"Yes\", $D$43 <> F43, F43 <>\"\", $D$43 <> \"\", F45=\"Yes.\"),AND($B$38 = \"Yes\", $D$43 = F43, F43 <>\"\", $D$43 <> \"\")), 1,\"\")","v":""},{"$f":"IF(OR(AND($B$38 = \"Yes\", $D$43 <> G43, G43 <>\"\", $D$43 <> \"\", G45=\"Yes.\"),AND($B$38 = \"Yes\", $D$43 = G43, G43 <>\"\", $D$43 <> \"\")), 1,\"\")","v":""}]
[]
[null,null,"Valid abs(G2-G1)",{"$f":"IF(ISERROR(D233*D234),\"\",D233*D234)","v":""},null,{"$f":"IF(ISERROR(F233*F234),\"\",F233*F234)","v":""},{"$f":"IF(ISERROR(G233*G234),\"\",G233*G234)","v":""}]
[null,null,"The min valid abs(G2-G1)",null,{"$f":"MIN(D236,F236,G236)","v":0}]
[null,null,"Index",null,{"$f":"MATCH(E237,D236:G236,0)","v":{"$error":"#N/A"}}]
[]
[null,null,"For Vertical Opt Use When No Vertical:"]
[null,null,"G1",{"$f":"IF(ISBLANK(D40), 999, D40)","v":999},null,{"$f":"IF(ISBLANK(F40), 999, F40)","v":999},{"$f":"IF(ISBLANK(G40), 999, G40)","v":999},null,{"$f":"IF(E246=999,\"\",E246)","v":""}]
[null,null,"Sign of G1",{"$f":"IF(D241>=0,1,-1)","v":1},null,{"$f":"IF(F241>=0,1,-1)","v":1},{"$f":"IF(G241>=0,1,-1)","v":1}]
[null,null,"Abs G1",{"$f":"ABS(D241)","v":999},null,{"$f":"ABS(F241)","v":999},{"$f":"ABS(G241)","v":999}]
[null,null,"Min Abs G1",null,{"$f":"MIN(D243:G243)","v":999}]
[null,null,"Which is the Best G1",null,{"$f":"MATCH(E244,D243:G243,0)","v":1}]
[null,null,"Best G1 Value",null,{"$f":"INDEX(D241:G241,1,E245)","v":999}]
[]
[]
[null,null,"Check if all cells filled",{"$f":"SUM(D251:D314)","v":19},{"$f":"SUM(E251:E314)","v":1},19,19,0,0]
[]
[null,null,{"$f":"C24","v":"Configuration of Multilane Roadway"},{"$f":"IF(ISBLANK(D24),1,0)","v":1},{"$f":"IF(ISBLANK(E24),1,0)","v":0},1,1,null,0]
[null,null,{"$f":"C25","v":"Median Configuration (Width or Type)"},{"$f":"IF(AND(D24<>\"No Median\", ISBLANK(D25)),1,0)","v":1},0,{"$f":"IF(AND(F24<>\"No Median\", ISBLANK(F25)),1,0)","v":1},{"$f":"IF(AND(G24<>\"No Median\", ISBLANK(G25)),1,0)","v":1},null,0]
[]
[null,null,"Lane Width (feet)",{"$f":"IF(ISBLANK(D27),1,0)","v":1},0,1,1,null,{"$f":"IF(ISBLANK(I27),1,0)","v":0}]
[null,null,"Average Outside Shoulder Width (feet)",1,0,1,1,null,0]
[null,null,"Average Inside Shoulder Width (feet)",1,0,1,1,null,0]
[null,null,"Number of Lanes per Direction of Travel",1,0,1,1,null,0]
[null,null,"Horizontal Curve Present?"]
[null,null,"Horizontal Curve Data for Controlling Element:"]
[null,null,"  Radius (feet)",{"$f":"IF(AND($B$31=\"Yes\", ISBLANK(D33)),1,0)","v":0},null,{"$f":"IF(AND($B$31=\"Yes\", ISBLANK(F33)),1,0)","v":0},{"$f":"IF(AND($B$31=\"Yes\", ISBLANK(G33)),1,0)","v":0},null,{"$f":"IF(ISBLANK(I33),1,0)","v":0}]
[null,null,"Length of Horizontal Curve (feet)",{"$f":"IF(AND($B$31=\"Yes\", ISBLANK(D34)),1,0)","v":0},null,{"$f":"IF(AND($B$31=\"Yes\", ISBLANK(F34)),1,0)","v":0},{"$f":"IF(AND($B$31=\"Yes\", ISBLANK(G34)),1,0)","v":0},null,0]
[null,null,"Calculated Deflection Angle ∆"]
[]
[null,null,null,null,null,{"$f":"IF(AND($B$31 = \"Yes\", $D$35 <> F35, F35<>\"\",ISBLANK(F37)),1,0)","v":0},{"$f":"IF(AND($B$31 = \"Yes\", $D$35 <> G35, G35<>\"\",ISBLANK(G37)),1,0)","v":0}]
[null,null,"Vertical Curve Present?"]
[null,null,"Vertical Curve Data for Controlling Element:"]
[null,null,"  Approach (Entry) Grade, G1 (%)",{"$f":"IF(ISBLANK(D40),1,0)","v":1},0,1,1,null,{"$f":"IF(ISBLANK(I40),1,0)","v":0}]
[null,null,"  Departure (Exit) Grade, G2 (%)",{"$f":"IF(AND($B$38=\"Yes\", ISBLANK(D41)),1,0)","v":0},{"$f":"IF(AND($B$38=\"Yes\", ISBLANK(E41)),1,0)","v":0},0,0,null,0]
[null,null,"  Length (feet)",{"$f":"IF(AND($B$38=\"Yes\", ISBLANK(D42)),1,0)","v":0},0,0,0,null,0]
[null,null,"  Calculated Rate of Change, K (ft/ft)"]
[]
[]
[null,null,"  Calculated Sag or Crest?"]
[]
[]
[null,null,"Geometric Design Element (Partial Score)"]
[null,null,"Total Safety Score"]
[]
[]
[]
[]
[]
[null,null,"Advance Static Curve Warning Signs",{"$f":"IF(AND($B$31=\"Yes\", ISBLANK(D56)),1,0)","v":0},{"$f":"IF(AND($B$31=\"Yes\", ISBLANK(E56)),1,0)","v":0},0,0,null,{"$f":"IF(ISBLANK(I56),1,0)","v":0}]
[null,null,"Chevron Signs on Horizontal Curves",{"$f":"IF(AND($B$31=\"Yes\", ISBLANK(D57)),1,0)","v":0},0,0,0,null,0]
[null,null,"Post-Mounted Delineators",0,0,0,0,null,0]
[null,null,"Edgeline Pavement Markings or Profile Markings",{"$f":"IF(ISBLANK(D59),1,0)","v":1},0,1,1,null,0]
[null,null,"Shoulder Rumble Strips",1,0,1,1,null,0]
[null,null,"Centerline Rumble Strips",1,0,1,1,null,0]
[null,null,"Driveway Density (driveways per mile)",1,0,1,1,null,0]
[null,null,"Lighting",1,0,1,1,null,0]
[null,null,"Pavement Friction (skid number) ***",1,0,1,1,null,0]
[null,null,"Traffic Control Element (Partial Score):"]
[null,null,"Total Safety Score"]
[]
[]
[]
[]
[]
[]
[]
[]
[null,null,"Roadside Sideslope (Foreslope)",{"$f":"IF(ISBLANK(D75),1,0)","v":1},0,1,1,null,{"$f":"IF(ISBLANK(I75),1,0)","v":0}]
[null,null,"Roadside Backslope",1,0,1,1,null,0]
[null,null,"Safety Edge",1,0,1,1,null,0]
[null,null,"Roadside Lateral Clearance to Obstruction (ft)",1,0,1,1,null,0]
[null,null,"Roadside Obstruction Type",1,0,1,1,null,0]
[null,null,"Roadside Element (Partial Score):"]
[null,null,"Total Safety Score"]
[]
[]
[]
[]
[]
[null,null,"Distance to Slope Toe from Shoulder (ft)",{"$f":"IF(ISBLANK(D87),1,0)","v":1},{"$f":"D314","v":1},{"$f":"E314","v":1},1,null,0]
[null,null,null,null,null,null,null,null,{"$f":"SUM(I316:I324)","v":9}]
[null,null,null,null,null,null,null,{"$f":"F9","v":"Location "},{"$f":"IF(ISBLANK(I9),1,0)","v":1}]
[null,null,null,null,null,null,null,{"$f":"F10","v":"Design Speed (mph)"},{"$f":"IF(ISBLANK(I10),1,0)","v":1}]
[null,null,null,null,null,null,null,"Posted Speed (mph)",1]
[null,null,null,null,null,null,null,"E max (%)",1]
[null,null,null,null,null,null,null,"    Design Year AADT (vehicles per day)",1]
[null,null,null,null,null,null,null,"    Dist. from Centerline to Left   ROW (feet)",1]
[null,null,null,null,null,null,null,"    Dist. from Centerline to Right ROW (feet)",1]
[null,null,null,null,null,null,null,"H CV",{"$f":"IF(ISBLANK(B31),1,0)","v":1}]
[null,null,null,null,null,null,null,"V HV",{"$f":"IF(ISBLANK(B38),1,0)","v":1}]
[]
[]
[]
[]
[]
[]
[]
[]
[]
[]
[]
[]
[]
[]
[]
[]
[]
[]
[]
[]
[]
[]
[]
[]
[]
[]
[]
[]
[]
[]
[]
[]
[]
[]
[]
[]
[]
[]
[]
[]
[]
[]
[]
[]
[]
[]
[]
[]
[]
[]
[]
[]
[]
[]
[1]
[22]
[21]
[20]
[19,null,null,{"$f":"Constraints!P174","v":"Emax=6%"}]
[18]
[17,null,{"$f":"HLOOKUP($I$10,Constraints!$Q$176:AD197,A379,TRUE)","v":{"$error":"#N/A"}},{"$f":"Constraints!P176","v":"super"}]
[16,null,{"$f":"HLOOKUP($I$10,Constraints!$Q$176:AD198,A380,TRUE)","v":{"$error":"#N/A"}},{"$f":"Constraints!P197","v":6},1050]
[15,null,{"$f":"HLOOKUP($I$10,Constraints!$Q$176:AD199,A381,TRUE)","v":{"$error":"#N/A"}},{"$f":"Constraints!P196","v":5.8}]
[14,null,{"$f":"HLOOKUP($I$10,Constraints!$Q$176:AD200,A382,TRUE)","v":{"$error":"#N/A"}},{"$f":"Constraints!P195","v":5.6}]
[13,null,{"$f":"HLOOKUP($I$10,Constraints!$Q$176:AD201,A383,TRUE)","v":{"$error":"#N/A"}},{"$f":"Constraints!P194","v":5.4}]
[12,null,{"$f":"HLOOKUP($I$10,Constraints!$Q$176:AD202,A384,TRUE)","v":{"$error":"#N/A"}},{"$f":"Constraints!P193","v":5.2}]
[11,null,{"$f":"HLOOKUP($I$10,Constraints!$Q$176:AD203,A385,TRUE)","v":{"$error":"#N/A"}},{"$f":"Constraints!P192","v":5}]
[10,null,{"$f":"HLOOKUP($I$10,Constraints!$Q$176:AD204,A386,TRUE)","v":{"$error":"#N/A"}},{"$f":"Constraints!P191","v":4.8}]
[9,null,{"$f":"HLOOKUP($I$10,Constraints!$Q$176:AD205,A387,TRUE)","v":{"$error":"#N/A"}},{"$f":"Constraints!P190","v":4.5999999999999996}]
[8,null,{"$f":"HLOOKUP($I$10,Constraints!$Q$176:AD206,A388,TRUE)","v":{"$error":"#N/A"}},{"$f":"Constraints!P189","v":4.4000000000000004}]
[7,null,{"$f":"HLOOKUP($I$10,Constraints!$Q$176:AD207,A389,TRUE)","v":{"$error":"#N/A"}},{"$f":"Constraints!P188","v":4.2}]
[6,null,{"$f":"HLOOKUP($I$10,Constraints!$Q$176:AD208,A390,TRUE)","v":{"$error":"#N/A"}},{"$f":"Constraints!P187","v":4}]
[5,null,{"$f":"HLOOKUP($I$10,Constraints!$Q$176:AD209,A391,TRUE)","v":{"$error":"#N/A"}},{"$f":"Constraints!P186","v":3.8}]
[4,null,{"$f":"HLOOKUP($I$10,Constraints!$Q$176:AD210,A392,TRUE)","v":{"$error":"#N/A"}},{"$f":"Constraints!P185","v":3.6}]
[3,null,{"$f":"HLOOKUP($I$10,Constraints!$Q$176:AD211,A393,TRUE)","v":{"$error":"#N/A"}},{"$f":"Constraints!P184","v":3.4}]
[2,null,{"$f":"HLOOKUP($I$10,Constraints!$Q$176:AD212,A394,TRUE)","v":{"$error":"#N/A"}},{"$f":"Constraints!P183","v":3.2}]
[null,null,{"$f":"HLOOKUP($I$10,Constraints!$Q$176:AD213,A395,TRUE)","v":{"$error":"#N/A"}},{"$f":"Constraints!P182","v":3}]
[null,null,{"$f":"HLOOKUP($I$10,Constraints!$Q$176:AD214,A396,TRUE)","v":{"$error":"#N/A"}},{"$f":"Constraints!P181","v":2.8}]
[null,null,{"$f":"HLOOKUP($I$10,Constraints!$Q$176:AD215,A397,TRUE)","v":{"$error":"#N/A"}},{"$f":"Constraints!P180","v":2.6}]
[null,null,{"$f":"HLOOKUP($I$10,Constraints!$Q$176:AD216,A398,TRUE)","v":{"$error":"#N/A"}},{"$f":"Constraints!P179","v":2.4}]
[null,null,{"$f":"HLOOKUP($I$10,Constraints!$Q$176:AD217,A399,TRUE)","v":{"$error":"#N/A"}},{"$f":"Constraints!P178","v":2.2000000000000002}]
[1,null,{"$f":"HLOOKUP($I$10,Constraints!$Q$176:AD218,A400,TRUE)","v":{"$error":"#N/A"}},{"$f":"Constraints!P177","v":2}]
[32]
[31]
[30]
[29,null,null,{"$f":"Constraints!P201","v":"Emax=8%"}]
[28]
[27,null,{"$f":"HLOOKUP($I$10,Constraints!$Q$203:AD234,A406,TRUE)","v":{"$error":"#N/A"}},{"$f":"Constraints!P203","v":"super"}]
[26,null,{"$f":"HLOOKUP($I$10,Constraints!$Q$203:AD235,A407,TRUE)","v":{"$error":"#N/A"}},{"$f":"INDEX(Constraints!$P$203:$P$234,A407,)","v":8}]
[25,null,{"$f":"HLOOKUP($I$10,Constraints!$Q$203:AD236,A408,TRUE)","v":{"$error":"#N/A"}},{"$f":"INDEX(Constraints!$P$203:$P$234,A408,)","v":7.8}]
[24,null,{"$f":"HLOOKUP($I$10,Constraints!$Q$203:AD237,A409,TRUE)","v":{"$error":"#N/A"}},{"$f":"INDEX(Constraints!$P$203:$P$234,A409,)","v":7.6}]
[23,null,{"$f":"HLOOKUP($I$10,Constraints!$Q$203:AD238,A410,TRUE)","v":{"$error":"#N/A"}},{"$f":"INDEX(Constraints!$P$203:$P$234,A410,)","v":7.4}]
[22,null,{"$f":"HLOOKUP($I$10,Constraints!$Q$203:AD239,A411,TRUE)","v":{"$error":"#N/A"}},{"$f":"INDEX(Constraints!$P$203:$P$234,A411,)","v":7.2}]
[21,null,{"$f":"HLOOKUP($I$10,Constraints!$Q$203:AD240,A412,TRUE)","v":{"$error":"#N/A"}},{"$f":"INDEX(Constraints!$P$203:$P$234,A412,)","v":7}]
[20,null,{"$f":"HLOOKUP($I$10,Constraints!$Q$203:AD241,A413,TRUE)","v":{"$error":"#N/A"}},{"$f":"INDEX(Constraints!$P$203:$P$234,A413,)","v":6.8}]
[19,null,{"$f":"HLOOKUP($I$10,Constraints!$Q$203:AD242,A414,TRUE)","v":{"$error":"#N/A"}},{"$f":"INDEX(Constraints!$P$203:$P$234,A414,)","v":6.6}]
[18,null,{"$f":"HLOOKUP($I$10,Constraints!$Q$203:AD243,A415,TRUE)","v":{"$error":"#N/A"}},{"$f":"INDEX(Constraints!$P$203:$P$234,A415,)","v":6.4}]
[17,null,{"$f":"HLOOKUP($I$10,Constraints!$Q$203:AD244,A416,TRUE)","v":{"$error":"#N/A"}},{"$f":"INDEX(Constraints!$P$203:$P$234,A416,)","v":6.2}]
[16,null,{"$f":"HLOOKUP($I$10,Constraints!$Q$203:AD245,A417,TRUE)","v":{"$error":"#N/A"}},{"$f":"INDEX(Constraints!$P$203:$P$234,A417,)","v":6}]
[15,null,{"$f":"HLOOKUP($I$10,Constraints!$Q$203:AD246,A418,TRUE)","v":{"$error":"#N/A"}},{"$f":"INDEX(Constraints!$P$203:$P$234,A418,)","v":5.8}]
[14,null,{"$f":"HLOOKUP($I$10,Constraints!$Q$203:AD247,A419,TRUE)","v":{"$error":"#N/A"}},{"$f":"INDEX(Constraints!$P$203:$P$234,A419,)","v":5.6}]
[13,null,{"$f":"HLOOKUP($I$10,Constraints!$Q$203:AD248,A420,TRUE)","v":{"$error":"#N/A"}},{"$f":"INDEX(Constraints!$P$203:$P$234,A420,)","v":5.4}]
[12,null,{"$f":"HLOOKUP($I$10,Constraints!$Q$203:AD249,A421,TRUE)","v":{"$error":"#N/A"}},{"$f":"INDEX(Constraints!$P$203:$P$234,A421,)","v":5.2}]
[11,null,{"$f":"HLOOKUP($I$10,Constraints!$Q$203:AD250,A422,TRUE)","v":{"$error":"#N/A"}},{"$f":"INDEX(Constraints!$P$203:$P$234,A422,)","v":5}]
[10,null,{"$f":"HLOOKUP($I$10,Constraints!$Q$203:AD251,A423,TRUE)","v":{"$error":"#N/A"}},{"$f":"INDEX(Constraints!$P$203:$P$234,A423,)","v":4.8}]
[9,null,{"$f":"HLOOKUP($I$10,Constraints!$Q$203:AD252,A424,TRUE)","v":{"$error":"#N/A"}},{"$f":"INDEX(Constraints!$P$203:$P$234,A424,)","v":4.5999999999999996}]
[8,null,{"$f":"HLOOKUP($I$10,Constraints!$Q$203:AD253,A425,TRUE)","v":{"$error":"#N/A"}},{"$f":"INDEX(Constraints!$P$203:$P$234,A425,)","v":4.4000000000000004}]
[7,null,{"$f":"HLOOKUP($I$10,Constraints!$Q$203:AD254,A426,TRUE)","v":{"$error":"#N/A"}},{"$f":"INDEX(Constraints!$P$203:$P$234,A426,)","v":4.2}]
[6,null,{"$f":"HLOOKUP($I$10,Constraints!$Q$203:AD255,A427,TRUE)","v":{"$error":"#N/A"}},{"$f":"INDEX(Constraints!$P$203:$P$234,A427,)","v":4}]
[5,null,{"$f":"HLOOKUP($I$10,Constraints!$Q$203:AD256,A428,TRUE)","v":{"$error":"#N/A"}},{"$f":"INDEX(Constraints!$P$203:$P$234,A428,)","v":3.8}]
[4,null,{"$f":"HLOOKUP($I$10,Constraints!$Q$203:AD257,A429,TRUE)","v":{"$error":"#N/A"}},{"$f":"INDEX(Constraints!$P$203:$P$234,A429,)","v":3.6}]
[3,null,{"$f":"HLOOKUP($I$10,Constraints!$Q$203:AD258,A430,TRUE)","v":{"$error":"#N/A"}},{"$f":"INDEX(Constraints!$P$203:$P$234,A430,)","v":3.4}]
[2,null,{"$f":"HLOOKUP($I$10,Constraints!$Q$203:AD259,A431,TRUE)","v":{"$error":"#N/A"}},{"$f":"INDEX(Constraints!$P$203:$P$234,A431,)","v":3.2}]
[null,null,{"$f":"HLOOKUP($I$10,Constraints!$Q$203:AD260,A432,TRUE)","v":{"$error":"#N/A"}},{"$f":"INDEX(Constraints!$P$203:$P$234,A432,)","v":3}]
[null,null,{"$f":"HLOOKUP($I$10,Constraints!$Q$203:AD261,A433,TRUE)","v":{"$error":"#N/A"}},{"$f":"INDEX(Constraints!$P$203:$P$234,A433,)","v":2.8}]
[null,null,{"$f":"HLOOKUP($I$10,Constraints!$Q$203:AD262,A434,TRUE)","v":{"$error":"#N/A"}},{"$f":"INDEX(Constraints!$P$203:$P$234,A434,)","v":2.6}]
[null,null,{"$f":"HLOOKUP($I$10,Constraints!$Q$203:AD263,A435,TRUE)","v":{"$error":"#N/A"}},{"$f":"INDEX(Constraints!$P$203:$P$234,A435,)","v":2.4}]
[null,null,{"$f":"HLOOKUP($I$10,Constraints!$Q$203:AD264,A436,TRUE)","v":{"$error":"#N/A"}},{"$f":"INDEX(Constraints!$P$203:$P$234,A436,)","v":2.2000000000000002}]
[null,null,{"$f":"HLOOKUP($I$10,Constraints!$Q$203:AD265,A437,TRUE)","v":{"$error":"#N/A"}},{"$f":"INDEX(Constraints!$P$203:$P$234,A437,)","v":2}]

{"sheet":"Configuration 11","index":21,"n_rows":443,"n_cols":113,"rows_kept":443,"cut":false,"hidden":false,"merged":[[87,1,87,2],[88,1,88,2],[89,1,89,2],[97,10,97,12],[69,16,69,21],[69,22,69,23],[70,16,70,21],[70,22,70,23],[71,16,71,21],[71,22,71,23],[68,16,68,21],[68,22,68,23],[17,2,17,8],[18,2,18,8],[19,2,19,8],[20,5,20,7],[41,9,41,10],[46,2,47,2],[4,21,44,28],[48,12,48,19],[55,15,55,16],[55,18,55,19],[55,21,55,22],[67,16,67,23],[4,3,4,4],[9,3,9,4],[9,5,9,6],[10,3,10,4],[10,5,10,6],[8,3,8,4],[8,5,8,6],[12,2,15,4],[12,5,12,6],[13,5,13,6],[14,5,14,6],[11,5,11,6],[1,6,2,7],[1,8,2,8],[1,21,1,37],[2,1,2,4],[2,21,3,28],[2,30,3,37],[3,1,3,4],[3,6,4,7],[3,8,4,8],[4,1,4,2],[4,30,44,37],[5,1,5,2],[5,3,5,4],[6,1,6,7],[7,1,7,4],[7,7,7,8]]}
[]
[null,null,null,null,null,null,"Preferred Schematic View to Display",null,"Standard",null,null,null,null,null,null,null,null,null,null,null,null,"NOTES: "]
[null,"CHARACTERISTICS TO CONSIDER FOR ANALYSIS",null,null,null,null,null,null,null,null,null,null,null,null,null,null,null,null,null,null,null,"ELEMENTS INCREASING SAFETY",null,null,null,null,null,null,null,null,"COMMENTS ON PRIMARY CONSTRAINTS"]
[null,"INPUT INSTRUCTIONS",null,null,null,null,"Relative to",null,"Existing"]
[null,"Blue Boxes -- Select from pulldown options",null,"Select from Pulldown"]
[null,"Yellow Boxes -- Type input information into box",null,"Type Input Value"]
[null," Rural Multi-Lane Road Segment -- Safety Score Input",null,null,null,null,null,null,null,null,null,null,null,null,null,null,null,null,null,null,null,null,null,null,null,null,null,null,null,null,null,null,null,null,null,null,null,null,null,null,null,null,null,null,null,null,null,null,null,null,null,null,null,null,null,null,null,null,null,null,null,null,null,null,null,null,null,null,null,null,null,null,null,null,null,null,null,null,null,null,null,null,null,"Unadjusted Marginal Safety"]
[null,"General Information:",null,null,null,"General Site Features",null,{"$f":" I315 & \" Missing Features and Curves\"","v":"9 Missing Features and Curves"},null,null,null,null,null,null,null,null,null,null,null,null,null,null,null,null,null,null,null,null,null,null,null,null,null,null,null,null,null,null,null,null,null,null,null,null,null,null,null,null,null,null,null,null,null,null,null,null,null,null,null,null,null,null,null,null,null,null,null,null,null,null,null,null,null,null,null,null,null,null,null,null,null,null,null,{"$f":"I2&\" relative to \" &I4","v":"Standard relative to Existing"}]
[null,null,"Analyst:",{"$f":"+'Start Here'!H7","v":0},null,"Location "]
[null,null,"Agency or Company:",{"$f":"+'Start Here'!H8","v":0},null,"Design Speed (mph)"]
[null,null,"Date:",{"$f":"+'Start Here'!H9","v":"00:00:00"},null,"Posted Speed (mph)"]
[null,null,"Description:",null,null,"E max (%)"]
[null,null,"Input additional site information here",null,null,"    Design Year AADT (vehicles per day)"]
[null,null,null,null,null,"    Dist. from Centerline to Left   ROW (feet)"]
[null,null,null,null,null,"    Dist. from Centerline to Right ROW (feet)"]
[]
[null,"Warning:"]
[null,null,{"$f":"+IF(+I11>I10,\"Posted speed exceeds design speed. Optimal safety will only be achieved if design speed exceeds posted speed. The Safety Assessment Score is based on the higher of the two speed values.\",\"No speed warnings identified\")","v":"No speed warnings identified"}]
[null,null,{"$f":"IF(OR(F24=INDEX(MedConf_Header,1,3),+G24=INDEX(MedConf_Header,1,3)), \"Multilane undivided facilities are known to have substantially more collisions than multilane facilities with medians. In new construction a median or TWLTL should be considered.\",\" \")","v":" "},null,null,null,null,null,null,null,null,null,null,null,null,null,null,null,null,null,null,null,null,null,null,null,null,null,null,null,null,null,null,null,null,null,null,null,null,null,null,null,null,null,null,null,null,null,null,null,null,null,null,null,null,null,null,null,null,null,null,null,null,null,null,null,null,null,null,null,null,null,null,null,null,null,null,null,null,null,null,null,null,null,null,null,null,null,null,null,null,null,null,null,null,null,null,null,null,null,null,null,null,null,null,{"$f":"COUNTIF(DB23:DB46,DB20)","v":1}]
[null,null,{"$f":"IF(I13=\"40,001 < AADT < 60,000\", \"Multi-lane Road Should be Divided Due to High AADT Value\",\"\")","v":""},null,null,null,null,null,null,null,null,null,null,null,null,null,null,null,null,null,null,null,null,null,null,null,null,null,null,null,null,null,null,null,null,null,null,null,null,null,null,null,null,null,null,null,null,null,null,null,null,null,null,null,null,null,null,null,null,null,null,null,null,null,null,null,null,null,null,null,null,null,null,null,null,null,null,null,null,null,null,null,null,null,null,null,null,null,null,null,null,null,null,null,null,null,null,null,null,null,null,null,null,null,null,{"$f":"VLOOKUP(0,CZ23:DB46,3,)","v":10.01}]
[null,null,null,"Fill all elements",null,"To enter notes, use boxes to the right of the vortex ",null,null,null,null," "]
[null,{"$f":"+Construction!$I$2&\"  Total Available Points\"","v":"40  Total Available Points"},null,{"$f":" D249 & \" Missing Elements\"","v":"19 Missing Elements"},null,{"$f":" F249 & \" Missing Elements\"","v":"19 Missing Elements"},{"$f":" G249 & \" Missing Elements\"","v":"19 Missing Elements"},null,null,null,null,null,null,null,null,null,null,null,null,null,null,null,null,null,null,null,null,null,null,null,null,null,null,null,null,null,null,null,null,null,null,null,null,null,null,null,null,null,null,null,null,null,null,null,null,null,null,null,null,null,null,null,null,null,null,null,null,null,null,null,null,null,null,null,null,null,null,null,null,null,null,null,null,null,null,null,null,null,null,null,null,null,null,null,null,null,null,null,null,null,null,"Ranked element","CRF","abs","Re-rank","Rank","Ranked CRF","Element","New Element","crf.abs","rank","Sorted Element","Sorted CRF"]
[null,"Geometric Design Elements",null,"Existing","Standard (Based on Multi-lane Divided)","Design 1","Design 2",{"$f":"\"Marginal Safety for \"&$I$2&\" (compared to \" & $I$4 & \")\"","v":"Marginal Safety for Standard (compared to Existing)"},"Optimal (Based on Multi-lane Divided)",null,null,null,null,null,null,null,null,null,null,null,null,null,null,null,null,null,null,null,null,null,null,null,null,null,null,null,null,null,null,null,null,null,null,null,null,null,null,null,null,null,null,null,null,null,null,null,null,null,null,null,null,null,null,null,null,null,null,null,null,null,null,null,null,null,null,null,null,null,null,null,null,null,null,null,null,null,null,null,null,null,null,null,null,null,null,null,null,null,null,null,null,{"$f":"IF(CY23=0,\"\",DB23&\". \"&DD23)","v":""},{"$f":"H24","v":0},{"$f":"ABS(CY23)","v":0},{"$f":"_xlfn.RANK.EQ(DB23,$DB$23:$DB$46,1)","v":10},{"$f":"_xlfn.RANK.EQ(CZ23,$CZ$23:$CZ$46)+DG23/100","v":10.01},{"$f":"CY23","v":0},{"$f":"IF(ROUND(DF23,2)=0,\"\",C24)","v":""},{"$f":"DD23","v":""},{"$f":"CZ23","v":0},1,{"$f":"IFERROR(IF(IFERROR(VLOOKUP(DG23,$DA$23:$DF$46,4,)&\", \"&CY23=0,\"\"),\"\",IFERROR(VLOOKUP(DG23,$DA$23:$DE$46,4,),\"\")),\"\")","v":"Pavement Friction (skid number) ***"},{"$f":"IFERROR(IF(IFERROR(VLOOKUP(DG23,$DA$23:$DF$46,3,)&\", \"&CY23=0,\"\"),\"\",IFERROR(VLOOKUP(DG23,$DA$23:$DE$46,3,),\"\")),\"\")","v":0.28430956017940245}]
[null,null,"Configuration of Multilane Roadway",null,"Divided - Unsurfaced Median",null,null,null,"Divided - Unsurfaced Median",null,null,null,null,null,null,null,null,null,null,null,null,null,null,null,null,null,null,null,null,null,null,null,null,null,null,null,null,null,null,null,null,null,null,null,null,null,null,null,null,null,null,null,null,null,null,null,null,null,null,null,null,null,null,null,null,null,null,null,null,null,null,null,null,null,null,null,null,null,null,null,null,null,null,null,null,null,null,null,null,null,null,null,null,null,null,null,null,null,null,null,null,"5.02. Median Configuration (Width or Type)",{"$f":"H25","v":8.9999999999999969E-2},8.9999999999999969E-2,{"$f":"_xlfn.RANK.EQ(DB24,$DB$23:$DB$46,1)","v":5},{"$f":"_xlfn.RANK.EQ(CZ24,$CZ$23:$CZ$46)+DG24/100","v":5.0199999999999996},{"$f":"CY24","v":8.9999999999999969E-2},{"$f":"IF(ROUND(DF24,2)=0,\"\",C25)","v":"Median Configuration (Width or Type)"},{"$f":"DD24","v":"Median Configuration (Width or Type)"},8.9999999999999969E-2,2,{"$f":"IFERROR(IF(IFERROR(VLOOKUP(DG24,$DA$23:$DF$46,4,)&\", \"&CY24=0,\"\"),\"\",IFERROR(VLOOKUP(DG24,$DA$23:$DE$46,4,),\"\")),\"\")","v":"Driveway Density (driveways per mile)"},{"$f":"IFERROR(IF(IFERROR(VLOOKUP(DG24,$DA$23:$DF$46,3,)&\", \"&CY24=0,\"\"),\"\",IFERROR(VLOOKUP(DG24,$DA$23:$DE$46,3,),\"\")),\"\")","v":-0.22388114201141129}]
[null,null,"Median Configuration (Width or Type)",null,30,null,null,{"$f":"M103","v":8.9999999999999969E-2},100,null,null,null,null,null,null,null,null,null,null,null,null,null,null,null,null,null,null,null,null,null,null,null,null,null,null,null,null,null,null,null,null,null,null,null,null,null,null,null,null,null,null,null,null,null,null,null,null,null,null,null,null,null,null,null,null,null,null,null,null,null,null,null,null,null,null,null,null,null,null,null,null,null,null,null,null,null,null,null,null,null,null,null,null,null,null,null,null,null,null,null,null,"",{"$f":"H27","v":0},0,11,10.029999999999999,{"$f":"CY25","v":0},{"$f":"IF(ROUND(DF25,2)=0,\"\",C27)","v":""},{"$f":"DD25","v":""},0,3,{"$f":"IFERROR(IF(IFERROR(VLOOKUP(DG25,$DA$23:$DF$46,4,)&\", \"&CY25=0,\"\"),\"\",IFERROR(VLOOKUP(DG25,$DA$23:$DE$46,4,),\"\")),\"\")","v":"Average Outside Shoulder Width (feet)"},{"$f":"IFERROR(IF(IFERROR(VLOOKUP(DG25,$DA$23:$DF$46,3,)&\", \"&CY25=0,\"\"),\"\",IFERROR(VLOOKUP(DG25,$DA$23:$DE$46,3,),\"\")),\"\")","v":0.18061674008810569}]
[null,null,null,null,null,null,null,null,null,null,null,null,null,null,null,null,null,null,null,null,null,null,null,null,null,null,null,null,null,null,null,null,null,null,null,null,null,null,null,null,null,null,null,null,null,null,null,null,null,null,null,null,null,null,null,null,null,null,null,null,null,null,null,null,null,null,null,null,null,null,null,null,null,null,null,null,null,null,null,null,null,null,null,null,null,null,null,null,null,null,null,null,null,null,null,null,null,null,null,null,null,null,null,null,null,null,null,null,null,null,4,{"$f":"IFERROR(IF(IFERROR(VLOOKUP(DG26,$DA$23:$DF$46,4,)&\", \"&CY26=0,\"\"),\"\",IFERROR(VLOOKUP(DG26,$DA$23:$DE$46,4,),\"\")),\"\")","v":"Roadside Sideslope (Foreslope)"},{"$f":"IFERROR(IF(IFERROR(VLOOKUP(DG26,$DA$23:$DF$46,3,)&\", \"&CY26=0,\"\"),\"\",IFERROR(VLOOKUP(DG26,$DA$23:$DE$46,3,),\"\")),\"\")","v":0.15697622474810147}]
[null,null,"Lane Width (feet)",null,12,null,null,{"$f":"M104","v":0},12,null,null,null,null,null,null,null,null,null,null,null,null,null,null,null,null,null,null,null,null,null,null,null,null,null,null,null,null,null,null,null,null,null,null,null,null,null,null,null,null,null,null,null,null,null,null,null,null,null,null,null,null,null,null,null,null,null,null,null,null,null,null,null,null,null,null,null,null,null,null,null,null,null,null,null,null,null,null,null,null,null,null,null,null,null,null,null,null,null,null,null,null,null,null,null,null,null,null,null,null,null,5,"Median Configuration (Width or Type)",8.9999999999999969E-2]
[null,null,"Average Outside Shoulder Width (feet)",null,8,null,null,{"$f":"M105","v":0.18061674008810569},10,null,null,null,null,null,null,null,null,null,null,null,null,null,null,null,null,null,null,null,null,null,null,null,null,null,null,null,null,null,null,null,null,null,null,null,null,null,null,null,null,null,null,null,null,null,null,null,null,null,null,null,null,null,null,null,null,null,null,null,null,null,null,null,null,null,null,null,null,null,null,null,null,null,null,null,null,null,null,null,null,null,null,null,null,null,null,null,null,null,null,null,null,{"$f":"IF(CY28=0,\"\",DB28&\". \"&DD28)","v":"3.06. Average Outside Shoulder Width (feet)"},{"$f":"H28","v":0.18061674008810569},{"$f":"ABS(CY28)","v":0.18061674008810569},3,3.06,{"$f":"CY28","v":0.18061674008810569},{"$f":"IF(ROUND(DF28,2)=0,\"\",C28)","v":"Average Outside Shoulder Width (feet)"},{"$f":"DD28","v":"Average Outside Shoulder Width (feet)"},{"$f":"CZ28","v":0.18061674008810569},6,"Roadside Lateral Clearance to Obstruction (ft)",6.4777606999867676E-2]
[null,null,"Average Inside Shoulder Width (feet)",null,4,null,null,{"$f":"M106","v":0},10,null,null,null,null,null,null,null,null,null,null,null,null,null,null,null,null,null,null,null,null,null,null,null,null,null,null,null,null,null,null,null,null,null,null,null,null,null,null,null,null,null,null,null,null,null,null,null,null,null,null,null,null,null,null,null,null,null,null,null,null,null,null,null,null,null,null,null,null,null,null,null,null,null,null,null,null,null,null,null,null,null,null,null,null,null,null,null,null,null,null,null,null,{"$f":"IF(CY29=0,\"\",DB29&\". \"&DD29)","v":""},{"$f":"H33","v":0},{"$f":"ABS(CY29)","v":0},12,10.07,0,{"$f":"IF(ROUND(DF29,2)=0,\"\",\"Hz and Vt Alignment\")","v":""},"",{"$f":"CZ29","v":0},7,"Safety Edge",-2.3424031600265627E-2]
["",null,"Number of Lanes per Direction of Travel",null,2,null,null,null,2,null,null,null,null,null,null,null,null,null,null,null,null,null,null,null,null,null,null,null,null,null,null,null,null,null,null,null,null,null,null,null,null,null,null,null,null,null,null,null,null,null,null,null,null,null,null,null,null,null,null,null,null,null,null,null,null,null,null,null,null,null,null,null,null,null,null,null,null,null,null,null,null,null,null,null,null,null,null,null,null,null,null,null,null,null,null,null,null,null,null,null,null,{"$f":"IF(CY30=0,\"\",DB30&\". \"&DD30)","v":""},{"$f":"H29","v":0},{"$f":"ABS(CY30)","v":0},13,10.08,0,{"$f":"IF(ROUND(DF30,2)=0,\"\",C29)","v":""},"",{"$f":"CZ30","v":0},8,"Shoulder Rumble Strips",2.2875008800570917E-2]
[null,null,"Horizontal Curve Present?","--","--","--","--",null,"--",null,null,null,null,null,null,null,null,null,null,null,null,null,null,null,null,null,null,null,null,null,null,null,null,null,null,null,null,null,null,null,null,null,null,null,null,null,null,null,null,null,null,null,null,null,null,null,null,null,null,null,null,null,null,null,null,null,null,null,null,null,null,null,null,null,null,null,null,null,null,null,null,null,null,null,null,null,null,null,null,null,null,null,null,null,null,null,null,null,null,null,null,{"$f":"IF(CY31=0,\"\",DB31&\". \"&DD31)","v":""},{"$f":"H47","v":0},{"$f":"ABS(CY31)","v":0},14,10.09,0,{"$f":"IF(ROUND(DF31,2)=0,\"\",C47)","v":""},"",{"$f":"CZ31","v":0},9,"Lighting",-1.7096579124742384E-2]
[null,null,"Horizontal Curve Data for Controlling Element:","--","--","--","--",null,"--",null,null,null,null,null,null,null,null,null,null,null,null,null,null,null,null,null,null,null,null,null,null,null,null,null,null,null,null,null,null,null,null,null,null,null,null,null,null,null,null,null,null,null,null,null,null,null,null,null,null,null,null,null,null,null,null,null,null,null,null,null,null,null,null,null,null,null,null,null,null,null,null,null,null,null,null,null,null,null,null,null,null,null,null,null,null,null,null,null,null,null,null,"",{"$f":"H48","v":0},0,15,10.1,0,{"$f":"IF(ROUND(DF32,2)=0,\"\",C48)","v":""},"",0,10,"",0]
[null,null,"  Radius (feet)",null,{"$f":"IF(MAX($I$10,$I$11)<45,590,IF($I$12=6,VLOOKUP(MAX($I$10,$I$11),Construction!$B$27:$D$34,2,TRUE),VLOOKUP(MAX($I$10,$I$11),Construction!$G$27:$I$34,2,TRUE)))","v":590},null,null,{"$f":"M144","v":0},{"$f":"IF(MAX($I$10,$I$11)<45,590,IF($I$12=6,VLOOKUP(MAX($I$10,$I$11),Construction!$B$43:$C$50,2,TRUE),VLOOKUP(MAX($I$10,$I$11),Construction!$G$43:$H$50,2,TRUE)))","v":590},null,null,null,null,null,null,null,null,null,null,null,null,null,null,null,null,null,null,null,null,null,null,null,null,null,null,null,null,null,null,null,null,null,null,null,null,null,null,null,null,null,null,null,null,null,null,null,null,null,null,null,null,null,null,null,null,null,null,null,null,null,null,null,null,null,null,null,null,null,null,null,null,null,null,null,null,null,null,null,null,null,null,null,null,null,null,null,null,null,null,null,null,"",{"$f":"H56","v":0},0,16,10.11,0,{"$f":"IF(ROUND(DF33,2)=0,\"\",C56)","v":""},"",0,11,"",0]
[null,null,"Length of Horizontal Curve (feet)",null,{"$f":"IF(D35=\"\", \"\", E33*E35/57.296)","v":""},null,null,null,{"$f":"I33*I35/57.296","v":3758.5520804244625},null,null,null,null,null,null,null,null,null,null,null,null,null,null,null,null,null,null,null,null,null,null,null,null,null,null,null,null,null,null,null,null,null,null,null,null,null,null,null,null,null,null,null,null,null,null,null,null,null,null,null,null,null,null,null,null,null,null,null,null,null,null,null,null,null,null,null,null,null,null,null,null,null,null,null,null,null,null,null,null,null,null,null,null,null,null,null,null,null,null,null,null,"",0,0,17,10.119999999999999,0,"","",0,12,"",0]
[null,null,"Calculated Deflection Angle ∆",{"$f":"IF(OR(ISBLANK(D33),ISBLANK(D34),$B$31=\"No\",ISBLANK($B$31)),\"\",ROUND(D34/D33*57.296,1))","v":""},{"$f":"IF(ISBLANK(D35), \"\",D35)","v":""},{"$f":"IF(OR(ISBLANK(F33),ISBLANK(F34),$B$31=\"No\",ISBLANK($B$31)),\"\",ROUND(F34/F33*57.296,1))","v":""},{"$f":"IF(OR(ISBLANK(G33),ISBLANK(G34),$B$31=\"No\",ISBLANK($B$31)),\"\",ROUND(G34/G33*57.296,1))","v":""},null,{"$f":"MIN(D35,IF(F37=INDEX(HCurveChange,1,0), F35, 365),IF(G37=INDEX(HCurveChange,1,0), G35, 365))","v":365},null,null,null,null,null,null,null,null,null,null,null,null,null,null,null,null,null,null,null,null,null,null,null,null,null,null,null,null,null,null,null,null,null,null,null,null,null,null,null,null,null,null,null,null,null,null,null,null,null,null,null,null,null,null,null,null,null,null,null,null,null,null,null,null,null,null,null,null,null,null,null,null,null,null,null,null,null,null,null,null,null,null,null,null,null,null,null,null,null,null,null,null,"",0,0,18,10.130000000000001,0,"","",0,13,"",0]
[null,null,null,null,null,"∆ has changed. \nAre you changing the ∆?","∆ has changed. \nAre you changing the ∆?",null,null,null,null,null,null,null,null,null,null,null,null,null,null,null,null,null,null,null,null,null,null,null,null,null,null,null,null,null,null,null,null,null,null,null,null,null,null,null,null,null,null,null,null,null,null,null,null,null,null,null,null,null,null,null,null,null,null,null,null,null,null,null,null,null,null,null,null,null,null,null,null,null,null,null,null,null,null,null,null,null,null,null,null,null,null,null,null,null,null,null,null,null,null,"",0,0,19,10.14,0,"","",0,14,"",0]
[null,null,null,null,null,null,null,null,null,null,null,null,null,null,null,null,null,null,null,null,null,null,null,null,null,null,null,null,null,null,null,null,null,null,null,null,null,null,null,null,null,null,null,null,null,null,null,null,null,null,null,null,null,null,null,null,null,null,null,null,null,null,null,null,null,null,null,null,null,null,null,null,null,null,null,null,null,null,null,null,null,null,null,null,null,null,null,null,null,null,null,null,null,null,null,null,null,null,null,null,null,"8.15. Shoulder Rumble Strips",2.2875008800570917E-2,2.2875008800570917E-2,8,8.15,2.2875008800570917E-2,"Shoulder Rumble Strips","Shoulder Rumble Strips",2.2875008800570917E-2,15,"",0]
[null,null,"Vertical Curve Present?","--","--","--","--",null,{"$f":"E38","v":"--"},null,null,null,null,null,null,null,null,null,null,null,null,null,null,null,null,null,null,null,null,null,null,null,null,null,null,null,null,null,null,null,null,null,null,null,null,null,null,null,null,null,null,null,null,null,null,null,null,null,null,null,null,null,null,null,null,null,null,null,null,null,null,null,null,null,null,null,null,null,null,null,null,null,null,null,null,null,null,null,null,null,null,null,null,null,null,null,null,null,null,null,null,"",0,0,20,10.16,0,"","",0,16,"",0]
[null,null,"Vertical Curve Data for Controlling Element:","--","--","--","--",null,"--",null,null,null,null,null,null,null,null,null,null,null,null,null,null,null,null,null,null,null,null,null,null,null,null,null,null,null,null,null,null,null,null,null,null,null,null,null,null,null,null,null,null,null,null,null,null,null,null,null,null,null,null,null,null,null,null,null,null,null,null,null,null,null,null,null,null,null,null,null,null,null,null,null,null,null,null,null,null,null,null,null,null,null,null,null,null,null,null,null,null,null,null,"2.17. Driveway Density (driveways per mile)",-0.22388114201141129,0.22388114201141129,2,2.17,-0.22388114201141129,{"$f":"IF(DF39=0,\"\",C62)","v":"Driveway Density (driveways per mile)"},"Driveway Density (driveways per mile)",0.22388114201141129,17,"",0]
[null,null,"  Approach (Entry) Grade, G1 (%)",null,{"$f":"IF(ISBLANK(D40),\"\", D40)","v":""},null,null,null,{"$f":"IF(B38=\"Yes\",I231,I241)","v":""},null,null,null,null,null,null,null,null,null,null,null,null,null,null,null,null,null,null,null,null,null,null,null,null,null,null,null,null,null,null,null,null,null,null,null,null,null,null,null,null,null,null,null,null,null,null,null,null,null,null,null,null,null,null,null,null,null,null,null,null,null,null,null,null,null,null,null,null,null,null,null,null,null,null,null,null,null,null,null,null,null,null,null,null,null,null,null,null,null,null,null,null,"9.18. Lighting",-1.7096579124742384E-2,1.7096579124742384E-2,9,9.18,-1.7096579124742384E-2,{"$f":"IF(DF40=0,\"\",C63)","v":"Lighting"},"Lighting",1.7096579124742384E-2,18,"",0]
[null,null,"  Departure (Exit) Grade, G2 (%)",null,{"$f":"IF(ISBLANK(D41),\"\", D41)","v":""},null,null,null,{"$f":"IF($B$38=\"Yes\",I232,\"\")","v":""},null,null,null,null,null,null,null,null,null,null,null,null,null,null,null,null,null,null,null,null,null,null,null,null,null,null,null,null,null,null,null,null,null,null,null,null,null,null,null,null,null,null,null,null,null,null,null,null,null,null,null,null,null,null,null,null,null,null,null,null,null,null,null,null,null,null,null,null,null,null,null,null,null,null,null,null,null,null,null,null,null,null,null,null,null,null,null,null,null,null,null,null,"1.19. Pavement Friction (skid number) ***",0.28430956017940245,0.28430956017940245,1,1.19,0.28430956017940245,{"$f":"IF(DF41=0,\"\",C64)","v":"Pavement Friction (skid number) ***"},"Pavement Friction (skid number) ***",0.28430956017940245,19,"",0]
[null,null,"  Length (feet)",null,{"$f":"IF(AND($B$38=\"Yes\", D43<>\"\"), ABS(E40-E41)*D43, \"\")","v":""},null,null,null,{"$f":"IF(AND($B$38=\"Yes\",I40<>\"\",I41<>\"\", NOT(ISBLANK($I$10)), NOT(ISBLANK($I$11))),ABS(I41-I40)*I43,\"\")","v":""},null,null,null,null,null,null,null,null,null,null,null,null,null,null,null,null,null,null,null,null,null,null,null,null,null,null,null,null,null,null,null,null,null,null,null,null,null,null,null,null,null,null,null,null,null,null,null,null,null,null,null,null,null,null,null,null,null,null,null,null,null,null,null,null,null,null,null,null,null,null,null,null,null,null,null,null,null,null,null,null,null,null,null,null,null,null,null,null,null,null,null,null,"4.2. Roadside Sideslope (Foreslope)",{"$f":"H75","v":0.15697622474810147},0.15697622474810147,4,4.2,0.15697622474810147,{"$f":"IF(DF42=0,\"\",C75)","v":"Roadside Sideslope (Foreslope)"},"Roadside Sideslope (Foreslope)",0.15697622474810147,20,"",0]
[null,null,"  Calculated Rate of Change, K (ft/ft)",{"$f":"IF(OR($B$38=\"No\",ISBLANK($B$38), ISBLANK(D40), ISBLANK(D41),ISBLANK(D42), D40=D41), \"\", ROUND(D42/(ABS(D41-D40)),1))","v":""},{"$f":"IF(AND($B$38=\"Yes\", NOT(ISBLANK($I$10)), NOT(ISBLANK($I$11)), D43<>\"\"), IF($E$46=\"Crest\",  VLOOKUP(MAX($I$10,$I$11),Construction!$B$159:$D$171,2,TRUE), VLOOKUP(MAX($I$10,$I$11),Construction!$B$159:$D$171,3,TRUE)), \"\")","v":""},{"$f":"IF(AND($B$38=\"Yes\", SUM(F267:F269)=0),ROUND(F42/(ABS(F41-F40)),1),\"\")","v":""},{"$f":"IF(AND($B$38=\"Yes\", SUM(G267:G269)=0),ROUND(G42/(ABS(G41-G40)),1),\"\")","v":""},null,{"$f":"IF(OR($B$38<>\"Yes\", ISBLANK($I$10), ISBLANK($I$11), $I$40=\"\", $I$41=\"\", $I$46=\"--\", ISBLANK($I$46)),\"\",IF(I$46=\"Crest\",VLOOKUP(MAX($I$10,$I$11),Construction!$B$177:$D$189,2,TRUE),VLOOKUP(MAX($I$10,$I$11),Construction!$B$177:$D$189,3,TRUE)))","v":""},null,null,null,null,null,null,null,null,null,null,null,null,null,null,null,null,null,null,null,null,null,null,null,null,null,null,null,null,null,null,null,null,null,null,null,null,null,null,null,null,null,null,null,null,null,null,null,null,null,null,null,null,null,null,null,null,null,null,null,null,null,null,null,null,null,null,null,null,null,null,null,null,null,null,null,null,null,null,null,null,null,null,null,null,null,null,null,null,null,null,null,null,"",{"$f":"H76","v":0},0,21,10.210000000000001,0,{"$f":"IF(DF43=0,\"\",C76)","v":""},"",0,21,"",0]
[null,null,null,null,null,"Are you changing the geometry?","Are you changing the geometry?",null,null,null,null,null,null,null,null,null,null,null,null,null,null,null,null,null,null,null,null,null,null,null,null,null,null,null,null,null,null,null,null,null,null,null,null,null,null,null,null,null,null,null,null,null,null,null,null,null,null,null,null,null,null,null,null,null,null,null,null,null,null,null,null,null,null,null,null,null,null,null,null,null,null,null,null,null,null,null,null,null,null,null,null,null,null,null,null,null,null,null,null,null,null,"7.22. Safety Edge",{"$f":"H77","v":-2.3424031600265627E-2},2.3424031600265627E-2,7,7.22,-2.3424031600265627E-2,{"$f":"IF(DF44=0,\"\",C77)","v":"Safety Edge"},"Safety Edge",2.3424031600265627E-2,22,"",0]
[null,null,null,null,null,null,null,null,null,null,null,null,null,null,null,null,null,null,null,null,null,null,null,null,null,null,null,null,null,null,null,null,null,null,null,null,null,null,null,null,null,null,null,null,null,null,null,null,null,null,null,null,null,null,null,null,null,null,null,null,null,null,null,null,null,null,null,null,null,null,null,null,null,null,null,null,null,null,null,null,null,null,null,null,null,null,null,null,null,null,null,null,null,null,null,null,null,null,null,null,null,"6.23. Roadside Lateral Clearance to Obstruction (ft)",{"$f":"H78","v":6.4777606999867676E-2},6.4777606999867676E-2,6,6.23,6.4777606999867676E-2,{"$f":"IF(DF45=0,\"\",C78)","v":"Roadside Lateral Clearance to Obstruction (ft)"},"Roadside Lateral Clearance to Obstruction (ft)",6.4777606999867676E-2,23,"",{"$f":"IFERROR(IF(IFERROR(VLOOKUP(DG45,$DA$23:$DF$46,3,)&\", \"&CY45=0,\"\"),\"\",IFERROR(VLOOKUP(DG45,$DA$23:$DE$46,3,),\"\")),\"\")","v":""}]
[null,null,"  Calculated Sag or Crest?",{"$f":"IF(AND($B$38=\"Yes\", SUM(D267:D269)=0),IF(D40>D41,\"Crest\",\"Sag\"),\"--\")","v":"--"},{"$f":"IF(AND($B$38=\"Yes\", SUM(D267:D269)=0),IF(E40>E41,\"Crest\",\"Sag\"),\"--\")","v":"--"},{"$f":"IF(AND($B$38=\"Yes\", SUM(F267:F269)=0),IF(F40>F41,\"Crest\",\"Sag\"),\"--\")","v":"--"},{"$f":"IF(AND($B$38=\"Yes\", SUM(G267:G269)=0),IF(G40>G41,\"Crest\",\"Sag\"),\"--\")","v":"--"},null,{"$f":"IF($B$38=\"Yes\",IF(I40>I41,\"Crest\",\"Sag\"),\"--\")","v":"--"},null,null,null,null,null,null,null,null,null,null,null,null,null,null,null,null,null,null,null,null,null,null,null,null,null,null,null,null,null,null,null,null,null,null,null,null,null,null,null,null,null,null,null,null,null,null,null,null,null,null,null,null,null,null,null,null,null,null,null,null,null,null,null,null,null,null,null,null,null,null,null,null,null,null,null,null,null,null,null,null,null,null,null,null,null,null,null,null,null,null,null,null,"",{"$f":"H79","v":0},0,22,10.24,0,{"$f":"IF(DF46=0,\"\",C79)","v":""},"",0,24,"",{"$f":"IFERROR(IF(IFERROR(VLOOKUP(DG46,$DA$23:$DF$46,3,)&\", \"&CY46=0,\"\"),\"\",IFERROR(VLOOKUP(DG46,$DA$23:$DE$46,3,),\"\")),\"\")","v":""}]
[]
[]
[null,null,"Geometric Design Element (Partial Score)",{"$f":"IF(OR(SUM(D251:D252,D254:D257,D260:D261,D267:D269)>0, ISERR(D129)),\"\",D129)","v":""},{"$f":"IF(OR(SUM(E251:E252,E254:E257,E260:E261,E267:E269)>0, ISERR(E129)),\"\",E129)","v":""},"","",null,{"$f":"IF(OR(SUM(I251:I252,I254:I257,I260:I261,I267:I269)>0, ISERR(I129)),\"\",I129)","v":""},null,null,null,"SCHEMATIC REPRESENTING INPUT DATA FOR ",null,null,null,null,null,null,null,{"$f":"IF($I$2=\"Existing\",\"EXISTING CONFIGURATION\",IF($I$2=\"Standard\",\"STANDARD OPTION\",IF($I$2=\"Design 1\",\"DESIGN 1 OPTION\",IF($I$2=\"Design 2\",\"DESIGN 2 OPTION\",\"OPTIMAL OPTION\"))))","v":"STANDARD OPTION"}]
[null,null,"Total Safety Score",{"$f":"IF(OR(D$249>0, $I$315>0, ISERROR(D$205+D$175+D$129)),\"\",D$205+D$175+D$129)","v":""},{"$f":"IF(OR(E$249>0, $I$315>0, ISERROR(E$205+E$175+E$129)),\"\",E$205+E$175+E$129)","v":""},{"$f":"IF(OR(F$249>0, $I$315>0, ISERROR(F$205+F$175+F$129)),\"\",F$205+F$175+F$129)","v":""},{"$f":"IF(OR(G$249>0, $I$315>0, ISERROR(G$205+G$175+G$129)),\"\",G$205+G$175+G$129)","v":""},null,{"$f":"IF(OR(I$249>0, $I$315>0, ISERROR(I$205+I$175+I$129)),\"\",I$205+I$175+I$129)","v":""}]
[null,null,null,null,null,null,null,null,null,null,null,"LT",null,null,null,null,null,null,null,null,null,null,null,null,null,null,"RT"]
[null,null,null,null,null,null,null,null,null,null,null,"R/W",null,null,null,null,null,null,{"$f":"+O54+W54","v":0},null,null,null,null,null,null,null,"R/W"]
[]
[null,{"$f":"+Construction!$I$3&\"  Total Available Points\"","v":"20  Total Available Points"},null,null,null,null,null,null,null,null,null,null,null,null,{"$f":"+$I$14","v":0},null,null,null,null,null,null,null,{"$f":"+$I$15","v":0}]
[null,"Traffic Elements",null,"Existing","Standard","Design 1","Design 2",{"$f":"H23","v":"Marginal Safety for Standard (compared to Existing)"},"Optimal"]
[null,null,"Advance Static Curve Warning Signs",null,"No",null,null,{"$f":"M149","v":0},"Yes",null,null,{"$f":"+O54-N56-P56","v":-32},null,{"$f":"IF(+$I$2=\"Existing\",D28,IF($I$2=\"Standard\",E28,IF($I$2=\"Design 1\",F28,IF($I$2=\"Design 2\",G28,I28))))","v":8},null,{"$f":"IF(+$I$2=\"Existing\",D27*D30,IF($I$2=\"Standard\",E27*E30,IF($I$2=\"Design 1\",F27*F30,IF($I$2=\"Design 2\",G27*G30,I27*I30))))","v":24},null,null,null,null,null,{"$f":"+P56","v":24},null,null,{"$f":"+N56","v":8},{"$f":"+W54-V56-Y56","v":-32}]
[null,null,"Chevron Signs on Horizontal Curves",null,"No",null,null,{"$f":"M150","v":0},"Yes"]
[null,null,"Post-Mounted Delineators",null,"No",null,null,{"$f":"M151","v":0},"Yes"]
[null,null,"Edgeline Pavement Markings or Profile Markings",null,"No",null,null,{"$f":"M152","v":0},"Yes"]
[null,null,"Shoulder Rumble Strips",null,"Yes",null,null,{"$f":"M154","v":2.2875008800570917E-2},"Yes"]
[null,null,"Centerline Rumble Strips",null,"No",null,null,{"$f":"M155","v":0},"Yes",null,null,null,null,null,null,null,null,null,"Tangent X-Section"]
[null,null,"Driveway Density (driveways per mile)",null,10,null,null,{"$f":"M156","v":-0.22388114201141129},0]
[null,null,"Lighting",null,"No",null,null,{"$f":"M157","v":-1.7096579124742384E-2},"Yes"]
[null,null,"Pavement Friction (skid number) ***",null,37,null,null,{"$f":"M158","v":0.28430956017940245},54]
[null,null,"Traffic Control Element (Partial Score):",{"$f":"IF(ISERROR(D175), \"\", D175)","v":12},{"$f":"IF(ISERROR(E175), \"\", E175)","v":14},"","",null,{"$f":"IF(ISERROR(I175), \"\", I175)","v":20}]
[null,null,"Total Safety Score",{"$f":"IF(OR(D$249>0, $I$315>0, ISERROR(D$205+D$175+D$129)),\"\",D$205+D$175+D$129)","v":""},{"$f":"IF(OR(E$249>0, $I$315>0, ISERROR(E$205+E$175+E$129)),\"\",E$205+E$175+E$129)","v":""},"","",null,{"$f":"IF(OR(I$249>0, $I$315>0, ISERROR(I$205+I$175+I$129)),\"\",I$205+I$175+I$129)","v":""}]
[null,null,null,null,null,null,null,null,null,null," "]
[null,null,"*** Pavement friction/skid numbers will not be subject to open records requests ***",null,null,null,null,null,null,null,null,null,null,null,null,null,{"$f":"IF($I$2=\"Existing\",\"SCORE SUMMARY FOR EXISTING CONFIGURATION\", IF($I$2=\"Standard\",\"SCORE SUMMARY FOR STANDARD OPTION\",IF($I$2=\"Design 1\",\"SCORE SUMMARY FOR DESIGN 1 OPTION\",IF($I$2=\"Design 2\",\"SCORE SUMMARY FOR DESIGN 2 OPTION\", \"SCORE SUMMARY FOR OPTIMAL OPTION\"))))","v":"SCORE SUMMARY FOR STANDARD OPTION"}]
[null,null,null,null,null,null,null,null,null,null,null,null,null,null,null,null,"GEOMETRIC DESIGN:",null,null,null,null,null,{"$f":"IF($I$2=\"Existing\",D49,IF($I$2=\"Standard\",E49,IF($I$2=\"Design 1\",F49,IF($I$2=\"Design 2\",G49,I49))))","v":""}]
[null,null,null,null,null,null,null,null,null,null,null,null,null,null,null,null,"TRAFFIC CONTROL:",null,null,null,null,null,{"$f":"IF($I$2=\"Existing\",D65,IF($I$2=\"Standard\",E65,IF($I$2=\"Design 1\",F65,IF($I$2=\"Design 2\",G65,I65))))","v":14}]
[null,null,null,null,null,null,null,null,null,null,null,null,null,null,null,null,"ROADSIDE:",null,null,null,null,null,{"$f":"IF($I$2=\"Existing\",D80,IF($I$2=\"Standard\",E80,IF($I$2=\"Design 1\",F80,IF($I$2=\"Design 2\",G80,I80))))","v":27}]
[null,null,null,null,null,null,null,null,null,null,null,null,null,null,null,null,"OVERALL SAFETY SCORE:",null,null,null,null,null,{"$f":"SUM(W69:X71)","v":41}]
[null,{"$f":"+Construction!$I$4&\"  Total Available Points\"","v":"40  Total Available Points"}]
[null,"Roadside  Elements",null,"Existing","Standard","Design 1","Design 2",{"$f":"H23","v":"Marginal Safety for Standard (compared to Existing)"},"Optimal"]
[null,null,"Roadside Sideslope (Foreslope)",null,"1V:4H",null,null,{"$f":"M184","v":0.15697622474810147},"1V:6H"]
[null,null,"Roadside Backslope",null,{"$f":"E75","v":"1V:4H"},null,null,{"$f":"M185","v":0},"1V:4H"]
[null,null,"Safety Edge",null,"No",null,null,-2.3424031600265627E-2,"Yes"]
[null,null,"Roadside Lateral Clearance to Obstruction (ft)",null,30,null,null,6.4777606999867676E-2,40]
[null,null,"Roadside Obstruction Type",null,"None",null,null,0,"None/Removed"]
[null,null,"Roadside Element (Partial Score):",{"$f":"IF(ISERR(D205),\"\",D205)","v":20},{"$f":"IF(ISERR(E205),\"\",E205)","v":27},20,20,null,{"$f":"IF(ISERR(I205),\"\",I205)","v":40},null,null,null,null,null,null,null,null,null,null,null,null,null,null," "]
[null,null,"Total Safety Score",{"$f":"IF(OR(D$249>0, $I$315>0, ISERROR(D$205+D$175+D$129)),\"\",D$205+D$175+D$129)","v":""},{"$f":"IF(OR(E$249>0, $I$315>0, ISERROR(E$205+E$175+E$129)),\"\",E$205+E$175+E$129)","v":""},"","",null,{"$f":"IF(OR(I$249>0, $I$315>0, ISERROR(I$205+I$175+I$129)),\"\",I$205+I$175+I$129)","v":""}]
[]
[]
[]
[]
[null,"ADDITIONAL SIDESLOPE INFORMATION"]
[null,null,"Distance to Slope Toe from Shoulder (ft)",null,{"$f":"D87","v":0},{"$f":"E87","v":0},0,null,{"$f":"G87","v":0}]
[null,"Minimum foreslope feasible within current ROW",null,null,{"$f":"IF(OR(ISBLANK($D$87), ISERROR(E209)), \"\", \"1V:\"&E209&\"H\")","v":""},{"$f":"IF(OR(ISBLANK($D$87), ISERROR(F209)), \"\", \"1V:\"&F209&\"H\")","v":""},{"$f":"IF(OR(ISBLANK($D$87), ISERROR(G209)), \"\", \"1V:\"&G209&\"H\")","v":""},null,{"$f":"IF(OR(ISBLANK($D$87), ISERROR(I209)), \"\", \"1V:\"&I209&\"H\")","v":""}]
[null,"Additional R/W needed on left side",null,null,{"$f":"IF(OR(ISBLANK($D$87), ISERROR(E213)),\"\", MAX(E213,E216))","v":""},{"$f":"IF(OR(ISBLANK($D$87), ISERROR(F213)), \"\", MAX(F213,F216))","v":""},{"$f":"IF(OR(ISBLANK($D$87), ISERROR(G213)),\"\", MAX(G213,G216))","v":""},null,{"$f":"IF(OR(ISBLANK($D$87), ISERROR(I213)),\"\", MAX(I213,I216))","v":""}]
[null,"Additional R/W needed on right side",null,null,{"$f":"IF(OR(ISBLANK($D$87), ISERROR(E214)), \"\", MAX(E214,E217))","v":""},{"$f":"IF(OR(ISBLANK($D$87), ISERROR(F214)), \"\", MAX(F214,F217))","v":""},{"$f":"IF(OR(ISBLANK($D$87), ISERROR(G214)),\"\", MAX(G214,G217))","v":""},null,{"$f":"IF(OR(ISBLANK($D$87), ISERROR(I214)),\"\", MAX(I214,I217))","v":""}]
[]
[]
[]
[]
[]
[]
[]
[null,null,null,{"$f":"GetCMF_MED(D24,D25,2000,D28)","v":1},null,null,null,null,null,{"$f":"1-I104/E104","v":0},"For Plot"]
[null,null,null,null,null,null,null,null,null,{"$f":"1-I105/E105","v":3.2258064516129115E-2},"relative to","Prefer"]
[null,null,null,{"$f":"MAX(SUM(D107:D111)-5,$I$100)","v":{"$error":"#VALUE!"}},{"$f":"MAX(SUM(E107:E111)-5,$I$100)","v":{"$error":"#VALUE!"}},{"$error":"#VALUE!"},{"$error":"#VALUE!"},null,{"$f":"SUM(I107:I111)-5","v":{"$error":"#VALUE!"}},{"$f":"1-I106/E106","v":0.14444080962898154},{"$f":"MATCH(K101,ModView,0)","v":1},{"$f":"MATCH(L101,ModView,0)","v":2}]
[null,"Geometric",null,null,null,null,null,null,null,{"$f":"1-I107/E107","v":{"$error":"#VALUE!"}},{"$f":"I4","v":"Existing"},{"$f":"I2","v":"Standard"},"%"]
[null,null,"Divided versus Undivided",1,1,1,1,null,1,null,{"$f":"INDEX($D102:$I102,K$100)","v":1},{"$f":"INDEX($D102:$I102,L$100)","v":1},{"$f":"IF(ISERROR(1-L102/K102), 0, 1-L102/K102)","v":0}]
[null,null,"Median Width",{"$f":"GetCMF_MED(D24,D25,$I$13,D28)","v":1},{"$f":"GetCMF_MED(E24,E25,$I$13,E28)","v":0.91},{"$f":"GetCMF_MED(F24,F25,$I$13,F28)","v":1},{"$f":"GetCMF_MED(G24,G25,$I$13,G28)","v":1},{"$f":"H25","v":8.9999999999999969E-2},{"$f":"GetCMF_MED(I24,I25,$I$13,I28)","v":0.66},null,{"$f":"INDEX($D103:$I103,K$100)","v":1},{"$f":"INDEX($D103:$I103,L$100)","v":0.91},{"$f":"IF(ISERROR(1-L103/K103), 0, 1-L103/K103)","v":8.9999999999999969E-2}]
[null,null,"LW CMF",{"$f":"IF(D24=INDEX(MedConf_Header,1,2),VLOOKUP(+D27,Construction!$N$30:$O$36,2),VLOOKUP(D27,Construction!$I$15:$J$21,2))","v":{"$error":"#N/A"}},{"$f":"IF(E24=INDEX(MedConf_Header,1,2),VLOOKUP(+E27,Construction!$N$30:$O$36,2),VLOOKUP(E27,Construction!$I$15:$J$21,2))","v":1},{"$f":"IF(F24=INDEX(MedConf_Header,1,2),VLOOKUP(+F27,Construction!$N$30:$O$36,2),VLOOKUP(F27,Construction!$I$15:$J$21,2))","v":{"$error":"#N/A"}},{"$f":"IF(G24=INDEX(MedConf_Header,1,2),VLOOKUP(+G27,Construction!$N$30:$O$36,2),VLOOKUP(G27,Construction!$I$15:$J$21,2))","v":{"$error":"#N/A"}},{"$f":"H27","v":0},{"$f":"IF(I24=INDEX(MedConf_Header,1,2),VLOOKUP(+I27,Construction!$N$30:$O$36,2),VLOOKUP(I27,Construction!$I$15:$J$21,2))","v":1},null,{"$f":"INDEX($D104:$I104,K$100)","v":{"$error":"#N/A"}},{"$f":"INDEX($D104:$I104,L$100)","v":1},0,null,0]
[null,null,"SW CMF",{"$f":"IF(D24=INDEX(MedConf_Header,1,2),VLOOKUP(D28,Construction!$C$11:D21,2),(VLOOKUP(D28,Construction!$O$43:$P$53,2)-1)*0.27+1)","v":1.135},{"$f":"IF(E24=INDEX(MedConf_Header,1,2),VLOOKUP(E28,Construction!$C$11:E21,2),(VLOOKUP(E28,Construction!$O$43:$P$53,2)-1)*0.27+1)","v":0.93},{"$f":"IF(F24=INDEX(MedConf_Header,1,2),VLOOKUP(F28,Construction!$C$11:F21,2),(VLOOKUP(F28,Construction!$O$43:$P$53,2)-1)*0.27+1)","v":1.135},{"$f":"IF(G24=INDEX(MedConf_Header,1,2),VLOOKUP(G28,Construction!$C$11:G21,2),(VLOOKUP(G28,Construction!$O$43:$P$53,2)-1)*0.27+1)","v":1.135},{"$f":"IF($I$2=\"Existing\",(1-D105/E105),(IF($I$2=\"Design 1\",(1-F105/E105),(IF($I$2=\"Design 2\",(1-G105/E105),(IF($I$2=\"Optimal\",(1-I105/E105),0)))))))","v":0},{"$f":"IF(I24=INDEX(MedConf_Header,1,2),VLOOKUP(I28,Construction!$C$11:I21,2),(VLOOKUP(I28,Construction!$O$43:$P$53,2)-1)*0.27+1)","v":0.9},null,{"$f":"INDEX($D105:$I105,K$100)","v":1.135},{"$f":"INDEX($D105:$I105,L$100)","v":0.93},0.18061674008810569,null,0.15503875968992242]
[null,null,"Inside Shoulder Width",{"$f":"IF(AND(D24=INDEX(MedConf_Header,1,2), NOT(ISBLANK(D29))), EXP(-0.026*(D29-4)), 1)","v":1},{"$f":"IF(AND(E24=INDEX(MedConf_Header,1,2), NOT(ISBLANK(E29))), EXP(-0.026*(E29-4)), 1)","v":1},{"$f":"IF(AND(F24=INDEX(MedConf_Header,1,2), NOT(ISBLANK(F29))), EXP(-0.026*(F29-4)), 1)","v":1},{"$f":"IF(AND(G24=INDEX(MedConf_Header,1,2), NOT(ISBLANK(G29))), EXP(-0.026*(G29-4)), 1)","v":1},0,{"$f":"IF(AND(I24=INDEX(MedConf_Header,1,2), NOT(ISBLANK(I29))), EXP(-0.026*(I29-4)), 1)","v":0.85555919037101846},null,{"$f":"INDEX($D106:$I106,K$100)","v":1},{"$f":"INDEX($D106:$I106,L$100)","v":1},0,null,0]
[null,null,"HC and Grade",{"$f":"D$138^D$131","v":1},{"$f":"E$138^E$131","v":1},1,1,0,{"$f":"I$138^I$131","v":{"$error":"#VALUE!"}},null,{"$f":"INDEX($D107:$I107,K$100)","v":1},{"$f":"INDEX($D107:$I107,L$100)","v":1},0,null,0]
[null,null,"HC and VC Crest type I",{"$f":"D$139^D$132","v":1},{"$f":"E$139^E$132","v":1},1,1,0,{"$f":"I$139^I$132","v":{"$error":"#VALUE!"}},null,{"$f":"INDEX($D108:$I108,K$100)","v":1},{"$f":"INDEX($D108:$I108,L$100)","v":1},0,null,0]
[null,null,"HC and VC Sag type I",{"$f":"D$140^D$133","v":1},{"$f":"E$140^E$133","v":1},1,1,0,{"$f":"I$140^I$133","v":{"$error":"#VALUE!"}},{"$f":"1-I115/E115","v":{"$error":"#VALUE!"}},{"$f":"INDEX($D109:$I109,K$100)","v":1},{"$f":"INDEX($D109:$I109,L$100)","v":1},0,null,0]
[null,null,"HC and VC Crest type II",{"$f":"D$141^D$134","v":1},{"$f":"E$141^E$134","v":1},1,1,0,{"$f":"I$141^I$134","v":{"$error":"#VALUE!"}},{"$f":"1-I116/E116","v":{"$error":"#VALUE!"}},{"$f":"INDEX($D110:$I110,K$100)","v":1},{"$f":"INDEX($D110:$I110,L$100)","v":1},0,null,0]
[null,null,"HC and VC Sag type II",{"$f":"D$142^D$135","v":1},{"$f":"E$142^E$135","v":1},1,1,0,{"$f":"I$142^I$135","v":{"$error":"#VALUE!"}},{"$f":"1-I117/E117","v":{"$error":"#VALUE!"}},{"$f":"INDEX($D111:$I111,K$100)","v":1},{"$f":"INDEX($D111:$I111,L$100)","v":1},0,null,0]
[null,null,"Add TWLTL",{"$f":"IF(D$47=\"No\",1,CMFs!$F$17)","v":0.71},{"$f":"IF(E$47=\"No\",1,CMFs!$F$17)","v":0.71},{"$f":"IF(F$47=\"No\",1,CMFs!$F$17)","v":0.71},{"$f":"IF(G$47=\"No\",1,CMFs!$F$17)","v":0.71},0,{"$f":"IF(I$47=\"No\",1,CMFs!$F$17)","v":0.71},{"$f":"1-I118/E118","v":{"$error":"#VALUE!"}},{"$f":"INDEX($D112:$I112,K$100)","v":0.71},{"$f":"INDEX($D112:$I112,L$100)","v":0.71},0,null,0]
[null,null,"Provide passing lane",{"$f":"IF(D$48=\"No\",1,CMFs!$F$21)","v":0.75},{"$f":"IF(E$48=\"No\",1,CMFs!$F$21)","v":0.75},{"$f":"IF(F$48=\"No\",1,CMFs!$F$21)","v":0.75},{"$f":"IF(G$48=\"No\",1,CMFs!$F$21)","v":0.75},0,{"$f":"IF(I$48=\"No\",1,CMFs!$F$21)","v":0.75},{"$f":"I119/E119","v":{"$error":"#VALUE!"}},{"$f":"INDEX($D113:$I113,K$100)","v":0.75},{"$f":"INDEX($D113:$I113,L$100)","v":0.75},0,null,0]
[]
[null,null,"COMBINED Calculated CMF",{"$f":"+D104*D105*D106*D107*D108*D109*D110*D111*D112*D113*D103*D102","v":{"$error":"#N/A"}},{"$f":"+E104*E105*E106*E107*E108*E109*E110*E111*E112*E113*E103*E102","v":0.45065475000000005},{"$error":"#N/A"},{"$error":"#N/A"},{"$f":"IF($I$2=\"Existing\",(D115),(IF($I$2=\"Design 1\",(F115),(IF($I$2=\"Design 2\",(G115),(IF($I$2=\"Optimal\",(I115),E115)))))))","v":0.45065475000000005},{"$f":"+I104*I105*I106*I107*I108*I109*I110*I111*I112*I113*I103*I102","v":{"$error":"#VALUE!"}},null,{"$f":"INDEX($D115:$I115,K$100)","v":{"$error":"#N/A"}},{"$f":"INDEX($D115:$I115,L$100)","v":0.45065475000000005},{"$f":"IF(ISERROR(1-L115/K115), 0, 1-L115/K115)","v":0},null,0]
[null,null,"Calculated Relative to Design Standards (Column E)",{"$f":"+D115/$E$115","v":{"$error":"#N/A"}},1,{"$error":"#N/A"},{"$error":"#N/A"},1,{"$error":"#VALUE!"},null,{"$f":"INDEX($D116:$I116,K$100)","v":{"$error":"#N/A"}},{"$f":"INDEX($D116:$I116,L$100)","v":1},0,null,0]
[null,null,"P(Crash)",{"$f":"+D116/(D116+1)","v":{"$error":"#N/A"}},0.5,{"$error":"#N/A"},{"$error":"#N/A"},0.5,{"$error":"#VALUE!"},null,{"$f":"INDEX($D117:$I117,K$100)","v":{"$error":"#N/A"}},{"$f":"INDEX($D117:$I117,L$100)","v":0.5},0,null,0]
[null,null,"Factor Change on S curve",{"$f":"+D117/$E$117","v":{"$error":"#N/A"}},1,{"$error":"#N/A"},{"$error":"#N/A"},1,{"$error":"#VALUE!"},null,{"$f":"INDEX($D118:$I118,K$100)","v":{"$error":"#N/A"}},{"$f":"INDEX($D118:$I118,L$100)","v":1},0,null,0]
[null,null,"Adjust to Scale of 100",{"$f":"+$I$118/D118*100","v":{"$error":"#VALUE!"}},{"$error":"#VALUE!"},{"$error":"#VALUE!"},{"$error":"#VALUE!"},{"$error":"#VALUE!"},{"$error":"#VALUE!"},null,{"$f":"INDEX($D119:$I119,K$100)","v":{"$error":"#VALUE!"}},{"$f":"INDEX($D119:$I119,L$100)","v":{"$error":"#VALUE!"}},0]
[null,null,"Unadjusted Combined Relative to Standard",{"$f":"+D115/$E$115","v":{"$error":"#N/A"}},1,{"$error":"#N/A"},{"$error":"#N/A"},1,{"$error":"#VALUE!"},{"$f":"I126/E126","v":{"$error":"#VALUE!"}},{"$f":"INDEX($D120:$I120,K$100)","v":{"$error":"#N/A"}},{"$f":"INDEX($D120:$I120,L$100)","v":1},0,null,0]
[]
[null,null,"Adjusted for PA Basis",{"$f":"+D115*(1+1)/(1+D115*1)","v":{"$error":"#N/A"}},0.62131220402373488,{"$error":"#N/A"},{"$error":"#N/A"},{"$f":"IF($I$2=\"Existing\",(D122),(IF($I$2=\"Design 1\",(F122),(IF($I$2=\"Design 2\",(G122),(IF($I$2=\"Optimal\",(I122),E122)))))))","v":0.62131220402373488},{"$error":"#VALUE!"},null,{"$f":"INDEX($D122:$I122,K$100)","v":{"$error":"#N/A"}},{"$f":"INDEX($D122:$I122,L$100)","v":0.62131220402373488},{"$f":"IF(ISERROR(1-L122/K122), 0, 1-L122/K122)","v":0},null,0]
[null,null,"Corrected by Odds Ratio",{"$f":"+D122/$E$122","v":{"$error":"#N/A"}},1,{"$error":"#N/A"},{"$error":"#N/A"},{"$f":"IF($I$2=\"Existing\",(D123),(IF($I$2=\"Design 1\",(F123),(IF($I$2=\"Design 2\",(G123),(IF($I$2=\"Optimal\",(I123),E123)))))))","v":1},{"$error":"#VALUE!"},{"$f":"I129/E129","v":{"$error":"#VALUE!"}},{"$f":"INDEX($D123:$I123,K$100)","v":{"$error":"#N/A"}},{"$f":"INDEX($D123:$I123,L$100)","v":1},0,null,0]
[null,null,"Pinned s",{"$f":"(1/D123)^$D127","v":{"$error":"#N/A"}},{"$f":"(1/E123)^$D127","v":{"$error":"#VALUE!"}},{"$error":"#N/A"},{"$f":"IF(ISERROR((1/G123)^$D127), 0, (1/G123)^$D127)","v":0},{"$error":"#VALUE!"},{"$error":"#VALUE!"},null,{"$f":"INDEX($D124:$I124,K$100)","v":{"$error":"#N/A"}},{"$f":"INDEX($D124:$I124,L$100)","v":{"$error":"#VALUE!"}},0,null,0]
[null,null,null,{"$f":"(D124+$F128-1)/(1+(D124+$F128-1))","v":{"$error":"#N/A"}},{"$f":"(E124+$F128-1)/(1+(E124+$F128-1))","v":{"$error":"#VALUE!"}},{"$error":"#N/A"},0.57142857142857151,{"$error":"#VALUE!"},{"$error":"#VALUE!"},null,{"$f":"INDEX($D125:$I125,K$100)","v":{"$error":"#N/A"}},{"$f":"INDEX($D125:$I125,L$100)","v":{"$error":"#VALUE!"}},0,null,0]
[null,null,"Score Odds Ratio with Optimal (old)",{"$f":"MIN(ROUND($I$123/D123*Construction!$I$2,0),$I126)","v":{"$error":"#VALUE!"}},{"$f":"MIN(ROUND($I$123/E123*Construction!$I$2,0),$I126)","v":{"$error":"#VALUE!"}},{"$f":"MIN(ROUND($I$123/F123*Construction!$I$2,0),$I126)","v":{"$error":"#VALUE!"}},{"$f":"MIN(ROUND($I$123/G123*Construction!$I$2,0),$I126)","v":{"$error":"#VALUE!"}},{"$f":"IF($I$2=\"Existing\",(D126),(IF($I$2=\"Design 1\",(F126),(IF($I$2=\"Design 2\",(G126),(IF($I$2=\"Optimal\",(I126),E126)))))))","v":{"$error":"#VALUE!"}},{"$f":"ROUND($I$123/I123*Construction!$I$2,0)","v":{"$error":"#VALUE!"}}]
[null,null,"Logistic1",{"$f":"LN((D128/(1-D128))/(0.5/0.5))/LN(IF($E123/I123=1,0.999,$E123/I123))","v":{"$error":"#VALUE!"}}]
[null,null,"Logistic Param",0.999,null,{"$f":"0.7/0.3","v":2.3333333333333335}]
[null,null,"Score ",{"$f":"MIN(ROUND(D125*Construction!$I$2,0),$I126)","v":{"$error":"#N/A"}},{"$f":"MIN(ROUND(E125*Construction!$I$2,0),$I126)","v":{"$error":"#VALUE!"}},{"$f":"MIN(ROUND(F125*Construction!$I$2,0),$I126)","v":{"$error":"#N/A"}},{"$f":"MIN(ROUND(G125*Construction!$I$2,0),$I126)","v":{"$error":"#VALUE!"}},{"$f":"MIN(ROUND(H125*Construction!$I$2,0),$I126)","v":{"$error":"#VALUE!"}},{"$f":"MIN(ROUND(I125*Construction!$I$2,0),$I126)","v":{"$error":"#VALUE!"}}]
[]
[null,null,"HC and Grade",{"$f":"IF($B$139,0,1)","v":1},{"$f":"IF($B$139,0,1)","v":1},1,1,{"$f":"IF($I$2=\"Existing\",(D131),(IF($I$2=\"Design 1\",(F131),(IF($I$2=\"Design 2\",(G131),(IF($I$2=\"Optimal\",(I131),E131)))))))","v":1},{"$f":"IF($B$139,0,1)","v":1}]
["HC?",null,"HC and VC Crest type I",{"$f":"IF(AND($B$139=1,SIGN(D$40)=1,ABS(D$40)<=ABS(D$40-D$41),D$46=\"Crest\"),1,0)","v":0},{"$f":"IF(AND($B$139=1,SIGN(IF(ISNUMBER(E$40),E$40,0))=1,\n  ABS(IF(ISNUMBER(E$40),E$40,0))<=ABS(IF(ISNUMBER(E$40),E$40,0)-IF(ISNUMBER(E$41),E$41,0)),E$46=\"Crest\"),\n  1,0)","v":0},{"$f":"IF(AND($B$139=1,SIGN(F$40)=1,ABS(F$40)<=ABS(F$40-F$41),F$46=\"Crest\"),1,0)","v":0},{"$f":"IF(AND($B$139=1,SIGN(G$40)=1,ABS(G$40)<=ABS(G$40-G$41),G$46=\"Crest\"),1,0)","v":0},{"$f":"IF($I$2=\"Existing\",(D132),(IF($I$2=\"Design 1\",(F132),(IF($I$2=\"Design 2\",(G132),(IF($I$2=\"Optimal\",(I132),E132)))))))","v":0},{"$f":"IF(AND($B$138=1,SIGN(I$40)=1,ABS(I$40)<=ABS(I$40-IF(ISNUMBER(I$41), I$41,0)),I$46=\"Crest\"),1,0)","v":{"$error":"#VALUE!"}},null,{"$f":"INDEX($D132:$I132,K$100)","v":0},{"$f":"INDEX($D132:$I132,L$100)","v":0},{"$f":"IF(ISERROR(1-L132/K132), 0, 1-L132/K132)","v":0}]
["VC?",null,"HC and VC Sag type I",{"$f":"IF(AND($B$139=1,SIGN(D$40)=1,ABS(D$40)<=ABS(D$40-D$41),D$46=\"Sag\"),1,0)","v":0},{"$f":"IF(AND($B$139=1,SIGN(IF(ISNUMBER(E$40),E$40,0))=1,\n  ABS(IF(ISNUMBER(E$40),E$40,0))<=ABS(IF(ISNUMBER(E$40),E$40,0)-IF(ISNUMBER(E$41),E$41,0)),E$46=\"Sag\"),\n  1,0)","v":0},{"$f":"IF(AND($B$139=1,SIGN(F$40)=1,ABS(F$40)<=ABS(F$40-F$41),F$46=\"Sag\"),1,0)","v":0},{"$f":"IF(AND($B$139=1,SIGN(G$40)=1,ABS(G$40)<=ABS(G$40-G$41),G$46=\"Sag\"),1,0)","v":0},{"$f":"IF($I$2=\"Existing\",(D133),(IF($I$2=\"Design 1\",(F133),(IF($I$2=\"Design 2\",(G133),(IF($I$2=\"Optimal\",(I133),E133)))))))","v":0},{"$f":"IF(AND($B$138=1,SIGN(I$40)=1,ABS(I$40)<=ABS(I$40-IF(ISNUMBER(I$41), I$41,0)),I$46=\"Sag\"),1,0)","v":{"$error":"#VALUE!"}},null,{"$f":"INDEX($D133:$I133,K$100)","v":0},{"$f":"INDEX($D133:$I133,L$100)","v":0},0]
[null,null,"HC and VC Crest type II",{"$f":"IF(AND($B$139=1,D$46=\"Crest\",D$132=0),1,0)","v":0},{"$f":"IF(AND($B$139=1,E$46=\"Crest\",E$132=0),1,0)","v":0},{"$f":"IF(AND($B$139=1,F$46=\"Crest\",F$132=0),1,0)","v":0},{"$f":"IF(AND($B$139=1,G$46=\"Crest\",G$132=0),1,0)","v":0},{"$f":"IF($I$2=\"Existing\",(D134),(IF($I$2=\"Design 1\",(F134),(IF($I$2=\"Design 2\",(G134),(IF($I$2=\"Optimal\",(I134),E134)))))))","v":0},{"$f":"IF(AND($B$139=1,I$46=\"Crest\",I$132=0),1,0)","v":{"$error":"#VALUE!"}},null,{"$f":"INDEX($D134:$I134,K$100)","v":0},{"$f":"INDEX($D134:$I134,L$100)","v":0},0]
[null,null,"HC and VC Sag type II",{"$f":"IF(AND($B$139=1,D$46=\"Sag\",D$133=0),1,0)","v":0},{"$f":"IF(AND($B$139=1,E$46=\"Sag\",E$133=0),1,0)","v":0},{"$f":"IF(AND($B$139=1,F$46=\"Sag\",F$133=0),1,0)","v":0},{"$f":"IF(AND($B$139=1,G$46=\"Sag\",G$133=0),1,0)","v":0},{"$f":"IF($I$2=\"Existing\",(D135),(IF($I$2=\"Design 1\",(F135),(IF($I$2=\"Design 2\",(G135),(IF($I$2=\"Optimal\",(I135),E135)))))))","v":0},{"$f":"IF(AND($B$139=1,I$46=\"Sag\",I$133=0),1,0)","v":{"$error":"#VALUE!"}},null,{"$f":"INDEX($D135:$I135,K$100)","v":0},{"$f":"INDEX($D135:$I135,L$100)","v":0},0]
[null,"Yes/No"]
[null,null,"HC and VC:"]
[null,{"$f":"IF(B31=\"Yes\",1,0)","v":0},"HC and Grade",{"$f":"IF($B$139=0,\n  EXP(0.042*ABS(D$40)\n    +$B$138*0.16*LN(2*5730/IF(ISNUMBER(D$33),D$33,1))*$B$138\n    +4.16*$B$138/IF(ISNUMBER(D$33),D$33,1)/IF( AND(ISNUMBER(D$34),D$34<>0),D$34,1)),\n  1)","v":1},{"$f":"IF($B$139=0,\n  EXP(0.042*ABS(D$40)\n    +$B$138*0.16*LN(2*5730/IF(ISNUMBER(E$33),E$33,1))*$B$138\n    +4.16*$B$138/IF(ISNUMBER(E$33),E$33,1)/IF( AND(ISNUMBER(E$34),E$34<>0),E$34,1)),\n  1)","v":1},{"$f":"IF($B$139=0,\n  EXP(0.042*ABS(F$40)\n    +$B$138*0.16*LN(2*5730/IF(ISNUMBER(F$33),F$33,1))*$B$138\n    +4.16*$B$138/IF(ISNUMBER(F$33),F$33,1)/IF( AND(ISNUMBER(F$34),F$34<>0),F$34,1)),\n  1)","v":1},{"$f":"IF($B$139=0,\n  EXP(0.042*ABS(G$40)\n    +$B$138*0.16*LN(2*5730/IF(ISNUMBER(G$33),G$33,1))*$B$138\n    +4.16*$B$138/IF(ISNUMBER(G$33),G$33,1)/IF( AND(ISNUMBER(G$34),G$34<>0),G$34,1)),\n  1)","v":1},null,{"$f":"IF($B$139=0,\n  EXP(0.042*ABS(I$40)\n    +$B$138*0.16*LN(2*5730/IF(ISNUMBER(I$33),I$33,1))*$B$138\n    +4.16*$B$138/IF(ISNUMBER(I$33),I$33,1)/IF( AND(ISNUMBER(I$34),I$34<>0),I$34,1)),\n  1)","v":{"$error":"#VALUE!"}},null,{"$f":"INDEX($D138:$I138,K$100)","v":1},{"$f":"INDEX($D138:$I138,L$100)","v":1},{"$f":"IF(ISERROR(1-L138/K138), 0, 1-L138/K138)","v":0},null,0]
[null,{"$f":"IF(B38=\"Yes\",1,0)","v":0},"HC and VC Crest type I",{"$f":"IF($B$139=0,1,EXP(0.005648908*5730*ABS(+D$40-D$41)*$B$139/D$145*$B$138))","v":1},{"$f":"IF($B$139=0,1,EXP(0.005648908*5730*ABS(+E$40-E$41)*$B$139/E$145*$B$138))","v":1},1,1,{"$f":"IF($I$2=\"Existing\",(D139),(IF($I$2=\"Design 1\",(F139),(IF($I$2=\"Design 2\",(G139),(IF($I$2=\"Optimal\",(I139),E139)))))))","v":1},1,null,{"$f":"INDEX($D139:$I139,K$100)","v":1},{"$f":"INDEX($D139:$I139,L$100)","v":1},0,null,0]
[null,null,"HC and VC Sag type I",{"$f":"IF($B$139=0,1,EXP(9.15857042*$B$139/D$146+0.010284958*5730*$B$139*$B$138*ABS(+D$40-D$41)/D$145))","v":1},{"$f":"IF($B$139=0,1,EXP(9.15857042*$B$139/E$146+0.010284958*5730*$B$139*$B$138*ABS(+E$40-E$41)/E$145))","v":1},1,1,{"$f":"IF($I$2=\"Existing\",(D140),(IF($I$2=\"Design 1\",(F140),(IF($I$2=\"Design 2\",(G140),(IF($I$2=\"Optimal\",(I140),E140)))))))","v":1},1,null,{"$f":"INDEX($D140:$I140,K$100)","v":1},{"$f":"INDEX($D140:$I140,L$100)","v":1},0,null,0]
[null,null,"HC and VC Crest type II",{"$f":"IF($B$139=0,1,EXP(0.005648908*5730*ABS(+D$40-D$41)*$B$139/D$145*$B$138))","v":1},{"$f":"IF($B$139=0,1,EXP(0.005648908*5730*ABS(+E$40-E$41)*$B$139/E$145*$B$138))","v":1},1,1,{"$f":"IF($I$2=\"Existing\",(D141),(IF($I$2=\"Design 1\",(F141),(IF($I$2=\"Design 2\",(G141),(IF($I$2=\"Optimal\",(I141),E141)))))))","v":1},1,null,{"$f":"INDEX($D141:$I141,K$100)","v":1},{"$f":"INDEX($D141:$I141,L$100)","v":1},0,null,0]
[null,null,"HC and VC Sag type II",{"$f":"IF($B$139=0,1,(0.246011284*EXP(LN(0.188*2*5730/D$145)*$B$138)+0.753988716*EXP(0.022*5730/D$145*ABS(D$40-D$41)*$B$139*$B$138)))","v":1},{"$f":"IF($B$139=0,1,(0.246011284*EXP(LN(0.188*2*5730/E$145)*$B$138)+0.753988716*EXP(0.022*5730/E$145*ABS(E$40-E$41)*$B$139*$B$138)))","v":1},1,1,{"$f":"IF($I$2=\"Existing\",(D142),(IF($I$2=\"Design 1\",(F142),(IF($I$2=\"Design 2\",(G142),(IF($I$2=\"Optimal\",(I142),E142)))))))","v":1},1,null,{"$f":"INDEX($D142:$I142,K$100)","v":1},{"$f":"INDEX($D142:$I142,L$100)","v":1},0,null,0]
[]
[null,null,"Combined HZ and VT",{"$f":"MMULT(TRANSPOSE(D131:D135),D138:D142)","v":1},{"$f":"MMULT(TRANSPOSE(E131:E135),E138:E142)","v":1},{"$f":"MMULT(TRANSPOSE(F131:F135),F138:F142)","v":1},{"$f":"MMULT(TRANSPOSE(G131:G135),G138:G142)","v":1},{"$f":"IF($I$2=\"Existing\",(D144),(IF($I$2=\"Design 1\",(F144),(IF($I$2=\"Design 2\",(G144),(IF($I$2=\"Optimal\",(I144),E144)))))))","v":1},{"$f":"MMULT(TRANSPOSE(I131:I135),I138:I142)","v":{"$error":"#VALUE!"}},null,{"$f":"INDEX($D144:$I144,K$100)","v":1},{"$f":"INDEX($D144:$I144,L$100)","v":1},{"$f":"IF(ISERROR(1-L144/K144), 0, 1-L144/K144)","v":0},null,0]
[null,null,"effective R for calculation",{"$f":"IF(ISNUMBER(D33), D33, 99999999)","v":99999999},{"$f":"IF(ISNUMBER(E33), E33, 99999999)","v":590},99999999,99999999,null,590]
[null,null,"effective K for calculation",{"$f":"IF(ISNUMBER(D43), D43, 99999999)","v":99999999},{"$f":"IF(ISNUMBER(E43), E43, 99999999)","v":99999999},99999999,99999999,null,99999999]
[null,"Traffic"]
[null,null,null,"Existing","Standard","Design 1","Design 2"]
[null,null,"Advance static curve warning signs",{"$f":"IF(D24=INDEX(MedConf_Header,1,2),IF(AND($B$31=\"Yes\",D$56=\"Yes\"),(Traffic!$F$4-1)*AVERAGE(Constraints!$F$24,Constraints!$H$24)/Constraints!$D$24+1,1),(IF(AND($B$31=\"Yes\",D$56=\"Yes\"),(Traffic!$F$4-1)*AVERAGE(Constraints!$F$38,Constraints!$H$38)/Constraints!$D$38+1,1)))","v":1},{"$f":"IF(AND($B$31=\"Yes\",E$56=\"Yes\"),(Traffic!$F$4-1)*AVERAGE(Constraints!$F$24,Constraints!$H$24)/Constraints!$D$24+1,1)","v":1},{"$f":"IF(F24=INDEX(MedConf_Header,1,2),IF(AND($B$31=\"Yes\",F$56=\"Yes\"),(Traffic!$F$4-1)*AVERAGE(Constraints!$F$24,Constraints!$H$24)/Constraints!$D$24+1,1),(IF(AND($B$31=\"Yes\",F$56=\"Yes\"),(Traffic!$F$4-1)*AVERAGE(Constraints!$F$38,Constraints!$H$38)/Constraints!$D$38+1,1)))","v":1},{"$f":"IF(G24=INDEX(MedConf_Header,1,2),IF(AND($B$31=\"Yes\",G$56=\"Yes\"),(Traffic!$F$4-1)*AVERAGE(Constraints!$F$24,Constraints!$H$24)/Constraints!$D$24+1,1),(IF(AND($B$31=\"Yes\",G$56=\"Yes\"),(Traffic!$F$4-1)*AVERAGE(Constraints!$F$38,Constraints!$H$38)/Constraints!$D$38+1,1)))","v":1},{"$f":"IF($I$2=\"Existing\",(D149),(IF($I$2=\"Design 1\",(F149),(IF($I$2=\"Design 2\",(G149),(IF($I$2=\"Optimal\",(I149),E149)))))))","v":1},{"$f":"IF(AND($B$31=\"Yes\",I$56=\"Yes\"),(Traffic!$F$4-1)*AVERAGE(Constraints!$F$24,Constraints!$H$24)/Constraints!$D$24+1,1)","v":1},null,{"$f":"INDEX($D149:$I149,K$100)","v":1},{"$f":"INDEX($D149:$I149,L$100)","v":1},{"$f":"IF(ISERROR(1-L149/K149), 0, 1-L149/K149)","v":0},null,0]
[null,null,"Install chevron signs on horizontal curves",{"$f":"IF(D24=INDEX(MedConf_Header,1,2),(IF(D$57=\"No\",1,(IF(AND($B$31=\"Yes\",D$27<11.5),((Traffic!$F$6-1)*(Constraints!$E$18+Constraints!$E$22))+1,1)))),(IF(D$57=\"No\",1,(IF(AND($B$31=\"Yes\",D$27<11.5),((Traffic!$F$6-1)*(Constraints!$E$32+Constraints!$E$36))+1,1)))))","v":1},{"$f":"IF(E$57=\"No\",1,(IF(AND($B$31=\"Yes\",E$27<11.5),((Traffic!$F$6-1)*(Constraints!$E$18+Constraints!$E$22))+1,1)))","v":1},{"$f":"IF(F24=INDEX(MedConf_Header,1,2),(IF(F$57=\"No\",1,(IF(AND($B$31=\"Yes\",F$27<11.5),((Traffic!$F$6-1)*(Constraints!$E$18+Constraints!$E$22))+1,1)))),(IF(F$57=\"No\",1,(IF(AND($B$31=\"Yes\",F$27<11.5),((Traffic!$F$6-1)*(Constraints!$E$32+Constraints!$E$36))+1,1)))))","v":1},{"$f":"IF(G24=INDEX(MedConf_Header,1,2),(IF(G$57=\"No\",1,(IF(AND($B$31=\"Yes\",G$27<11.5),((Traffic!$F$6-1)*(Constraints!$E$18+Constraints!$E$22))+1,1)))),(IF(G$57=\"No\",1,(IF(AND($B$31=\"Yes\",G$27<11.5),((Traffic!$F$6-1)*(Constraints!$E$32+Constraints!$E$36))+1,1)))))","v":1},{"$f":"IF($I$2=\"Existing\",(D150),(IF($I$2=\"Design 1\",(F150),(IF($I$2=\"Design 2\",(G150),(IF($I$2=\"Optimal\",(I150),E150)))))))","v":1},{"$f":"IF(I$57=\"No\",1,(IF(AND($B$31=\"Yes\",I$27<11.5),((Traffic!$F$6-1)*(Constraints!$E$18+Constraints!$E$22))+1,1)))","v":1},null,{"$f":"INDEX($D150:$I150,K$100)","v":1},{"$f":"INDEX($D150:$I150,L$100)","v":1},0,null,0]
[null,null,"Install post-mounted delineators",{"$f":"IF(D24=INDEX(MedConf_Header,1,2),IF(AND($B$31=\"Yes\",D$58=\"Yes\"),(Traffic!$F$12-1)*Constraints!$E$17+1,1),(IF(AND($B$31=\"Yes\",D$58=\"Yes\"),(Traffic!$F$12-1)*Constraints!$E$31+1,1)))","v":1},{"$f":"IF(AND($B$31=\"Yes\",E$58=\"Yes\"),(Traffic!$F$12-1)*Constraints!$E$17+1,1)","v":1},{"$f":"IF(F24=INDEX(MedConf_Header,1,2),IF(AND($B$31=\"Yes\",F$58=\"Yes\"),(Traffic!$F$12-1)*Constraints!$E$17+1,1),(IF(AND($B$31=\"Yes\",F$58=\"Yes\"),(Traffic!$F$12-1)*Constraints!$E$31+1,1)))","v":1},{"$f":"IF(G24=INDEX(MedConf_Header,1,2),IF(AND($B$31=\"Yes\",G$58=\"Yes\"),(Traffic!$F$12-1)*Constraints!$E$17+1,1),(IF(AND($B$31=\"Yes\",G$58=\"Yes\"),(Traffic!$F$12-1)*Constraints!$E$31+1,1)))","v":1},{"$f":"IF($I$2=\"Existing\",(D151),(IF($I$2=\"Design 1\",(F151),(IF($I$2=\"Design 2\",(G151),(IF($I$2=\"Optimal\",(I151),E151)))))))","v":1},{"$f":"IF(AND($B$31=\"Yes\",I$58=\"Yes\"),(Traffic!$F$12-1)*Constraints!$E$17+1,1)","v":1},null,{"$f":"INDEX($D151:$I151,K$100)","v":1},{"$f":"INDEX($D151:$I151,L$100)","v":1},0,null,0]
[null,null,"Install edgeline  or Profile pavement markings ",{"$f":"IF(D24=INDEX(MedConf_Header,1,2),(IF(D$59=\"Yes\",Traffic!$F$18*0.5+((Traffic!$F$20*(Constraints!$H$17+Constraints!$H$20+Constraints!$H$21)+1*(Constraints!$H$24-(Constraints!$H$17+Constraints!$H$20+Constraints!$H$21)))/Constraints!$H$24)*0.5,1)),(IF(D$59=\"Yes\",Traffic!$F$18*0.5+((Traffic!$F$20*(Constraints!$H$31+Constraints!$H$34+Constraints!$H$35)+1*(Constraints!$H$38-(Constraints!$H$31+Constraints!$H$34+Constraints!$H$35)))/Constraints!$H$38)*0.5,1)))","v":1},{"$f":"IF(E24=INDEX(MedConf_Header,1,2),(IF(E$59=\"Yes\",Traffic!$F$18*0.5+((Traffic!$F$20*(Constraints!$H$17+Constraints!$H$20+Constraints!$H$21)+1*(Constraints!$H$24-(Constraints!$H$17+Constraints!$H$20+Constraints!$H$21)))/Constraints!$H$24)*0.5,1)),(IF(E$59=\"Yes\",Traffic!$F$18*0.5+((Traffic!$F$20*(Constraints!$H$31+Constraints!$H$34+Constraints!$H$35)+1*(Constraints!$H$38-(Constraints!$H$31+Constraints!$H$34+Constraints!$H$35)))/Constraints!$H$38)*0.5,1)))","v":1},{"$f":"IF(F24=INDEX(MedConf_Header,1,2),(IF(F$59=\"Yes\",Traffic!$F$18*0.5+((Traffic!$F$20*(Constraints!$H$17+Constraints!$H$20+Constraints!$H$21)+1*(Constraints!$H$24-(Constraints!$H$17+Constraints!$H$20+Constraints!$H$21)))/Constraints!$H$24)*0.5,1)),(IF(F$59=\"Yes\",Traffic!$F$18*0.5+((Traffic!$F$20*(Constraints!$H$31+Constraints!$H$34+Constraints!$H$35)+1*(Constraints!$H$38-(Constraints!$H$31+Constraints!$H$34+Constraints!$H$35)))/Constraints!$H$38)*0.5,1)))","v":1},{"$f":"IF(G24=INDEX(MedConf_Header,1,2),(IF(G$59=\"Yes\",Traffic!$F$18*0.5+((Traffic!$F$20*(Constraints!$H$17+Constraints!$H$20+Constraints!$H$21)+1*(Constraints!$H$24-(Constraints!$H$17+Constraints!$H$20+Constraints!$H$21)))/Constraints!$H$24)*0.5,1)),(IF(G$59=\"Yes\",Traffic!$F$18*0.5+((Traffic!$F$20*(Constraints!$H$31+Constraints!$H$34+Constraints!$H$35)+1*(Constraints!$H$38-(Constraints!$H$31+Constraints!$H$34+Constraints!$H$35)))/Constraints!$H$38)*0.5,1)))","v":1},{"$f":"IF($I$2=\"Existing\",(D152),(IF($I$2=\"Design 1\",(F152),(IF($I$2=\"Design 2\",(G152),(IF($I$2=\"Optimal\",(I152),E152)))))))","v":1},{"$f":"IF(I24=INDEX(MedConf_Header,1,2),(IF(I$59=\"Yes\",Traffic!$F$18*0.5+((Traffic!$F$20*(Constraints!$H$17+Constraints!$H$20+Constraints!$H$21)+1*(Constraints!$H$24-(Constraints!$H$17+Constraints!$H$20+Constraints!$H$21)))/Constraints!$H$24)*0.5,1)),(IF(I$59=\"Yes\",Traffic!$F$18*0.5+((Traffic!$F$20*(Constraints!$H$31+Constraints!$H$34+Constraints!$H$35)+1*(Constraints!$H$38-(Constraints!$H$31+Constraints!$H$34+Constraints!$H$35)))/Constraints!$H$38)*0.5,1)))","v":0.87439641434262949},null,{"$f":"INDEX($D152:$I152,K$100)","v":1},{"$f":"INDEX($D152:$I152,L$100)","v":1},0,null,0.13824118691351761]
[null,null,"Profiles",1,1,1,1,1,1,null,{"$f":"INDEX($D153:$I153,K$100)","v":1},{"$f":"INDEX($D153:$I153,L$100)","v":1},0,null,0]
[null,null,"Shoulder rumble strips",{"$f":"IF(D24=INDEX(MedConf_Header,1,2),(IF(D$60=\"No\",1,(Traffic!$F$27*(Constraints!$H$17+Constraints!$H$20+Constraints!$H$21)+1*(Constraints!$H$24-(Constraints!$H$17+Constraints!$H$20+Constraints!$H$21)))/Constraints!$H$24)),(IF(D$60=\"No\",1,(Traffic!$F$27*(Constraints!$H$31+Constraints!$H$34+Constraints!$H$35)+1*(Constraints!$H$38-(Constraints!$H$31+Constraints!$H$34+Constraints!$H$35)))/Constraints!$H$38)))","v":0.93956289460903353},{"$f":"IF(E$60=\"No\",1,(Traffic!$F$27*(Constraints!$H$17+Constraints!$H$20+Constraints!$H$21)+1*(Constraints!$H$24-(Constraints!$H$17+Constraints!$H$20+Constraints!$H$21)))/Constraints!$H$24)","v":0.91807038512616201},{"$f":"IF(F24=INDEX(MedConf_Header,1,2),(IF(F$60=\"No\",1,(Traffic!$F$27*(Constraints!$H$17+Constraints!$H$20+Constraints!$H$21)+1*(Constraints!$H$24-(Constraints!$H$17+Constraints!$H$20+Constraints!$H$21)))/Constraints!$H$24)),(IF(F$60=\"No\",1,(Traffic!$F$27*(Constraints!$H$31+Constraints!$H$34+Constraints!$H$35)+1*(Constraints!$H$38-(Constraints!$H$31+Constraints!$H$34+Constraints!$H$35)))/Constraints!$H$38)))","v":0.93956289460903353},{"$f":"IF(G24=INDEX(MedConf_Header,1,2),(IF(G$60=\"No\",1,(Traffic!$F$27*(Constraints!$H$17+Constraints!$H$20+Constraints!$H$21)+1*(Constraints!$H$24-(Constraints!$H$17+Constraints!$H$20+Constraints!$H$21)))/Constraints!$H$24)),(IF(G$60=\"No\",1,(Traffic!$F$27*(Constraints!$H$31+Constraints!$H$34+Constraints!$H$35)+1*(Constraints!$H$38-(Constraints!$H$31+Constraints!$H$34+Constraints!$H$35)))/Constraints!$H$38)))","v":0.93956289460903353},{"$f":"IF($I$2=\"Existing\",(D154),(IF($I$2=\"Design 1\",(F154),(IF($I$2=\"Design 2\",(G154),(IF($I$2=\"Optimal\",(I154),E154)))))))","v":0.91807038512616201},{"$f":"IF(I$60=\"No\",1,(Traffic!$F$27*(Constraints!$H$17+Constraints!$H$20+Constraints!$H$21)+1*(Constraints!$H$24-(Constraints!$H$17+Constraints!$H$20+Constraints!$H$21)))/Constraints!$H$24)","v":0.91807038512616201},null,{"$f":"INDEX($D154:$I154,K$100)","v":0.93956289460903353},{"$f":"INDEX($D154:$I154,L$100)","v":0.91807038512616201},2.2875008800570917E-2,null,0]
[null,null,"Install centerline rumble strips",{"$f":"IF(D24=INDEX(MedConf_Header,1,3),(IF(D$61=\"No\",1,(Traffic!$E$81*(Constraints!$H$31+Constraints!$H$34+Constraints!$H$35)+1*(Constraints!$H$38-(Constraints!$H$31+Constraints!$H$34+Constraints!$H$35)))/Constraints!$H$38)+0.001),1)","v":1},{"$f":"IF(E24=INDEX(MedConf_Header,1,3),(IF(E$61=\"No\",1,(Traffic!$E$81*(Constraints!$H$31+Constraints!$H$34+Constraints!$H$35)+1*(Constraints!$H$38-(Constraints!$H$31+Constraints!$H$34+Constraints!$H$35)))/Constraints!$H$38)+0.001),1)","v":1},{"$f":"IF(F24=INDEX(MedConf_Header,1,3),(IF(F$61=\"No\",1,(Traffic!$E$81*(Constraints!$H$31+Constraints!$H$34+Constraints!$H$35)+1*(Constraints!$H$38-(Constraints!$H$31+Constraints!$H$34+Constraints!$H$35)))/Constraints!$H$38)+0.001),1)","v":1},{"$f":"IF(G24=INDEX(MedConf_Header,1,3),(IF(G$61=\"No\",1,(Traffic!$E$81*(Constraints!$H$31+Constraints!$H$34+Constraints!$H$35)+1*(Constraints!$H$38-(Constraints!$H$31+Constraints!$H$34+Constraints!$H$35)))/Constraints!$H$38)+0.001),1)","v":1},{"$f":"IF($I$2=\"Existing\",(D155),(IF($I$2=\"Design 1\",(F155),(IF($I$2=\"Design 2\",(G155),(IF($I$2=\"Optimal\",(I155),E155)))))))","v":1},{"$f":"IF(I24=INDEX(MedConf_Header,1,3),(IF(I$61=\"No\",1,(Traffic!$E$81*(Constraints!$H$31+Constraints!$H$34+Constraints!$H$35)+1*(Constraints!$H$38-(Constraints!$H$31+Constraints!$H$34+Constraints!$H$35)))/Constraints!$H$38)+0.001),1)","v":1},null,{"$f":"INDEX($D155:$I155,K$100)","v":1},{"$f":"INDEX($D155:$I155,L$100)","v":1},0,null,-0.16279069767441867]
[null,null,"Driveway Density (driveways per mile)",{"$f":"EXP(-LN(Traffic!$F$31)*(D$62-$E$62))","v":0.81707280688754669},{"$f":"EXP(-LN(Traffic!$F$31)*(E$62-$E$62))","v":1},{"$f":"EXP(-LN(Traffic!$F$31)*(F$62-$E$62))","v":0.81707280688754669},{"$f":"EXP(-LN(Traffic!$F$31)*(G$62-$E$62))","v":0.81707280688754669},{"$f":"IF($I$2=\"Existing\",(D156),(IF($I$2=\"Design 1\",(F156),(IF($I$2=\"Design 2\",(G156),(IF($I$2=\"Optimal\",(I156),E156)))))))","v":1},{"$f":"EXP(-LN(Traffic!$F$31)*(I$62-$E$62))","v":0.81707280688754669},null,{"$f":"INDEX($D156:$I156,K$100)","v":0.81707280688754669},{"$f":"INDEX($D156:$I156,L$100)","v":1},-0.22388114201141129,null,-0.22388114201141129]
[null,null,"Install lighting",{"$f":"IF(D24=INDEX(MedConf_Header,1,2),(IF(D$63=\"No\",1,1-(((1-Traffic!$F$54*Constraints!$H$24-Constraints!$F$24/3)+((1-Traffic!$F$54*Constraints!$D$24-Constraints!$H$24)))*$S$19+((1-Traffic!$F$56)*Constraints!$F$24/3))/Constraints!$D$24)),(IF(D$63=\"No\",1,1-(((1-Traffic!$F$54*Constraints!$H$38-Constraints!$F$38/3)+((1-Traffic!$F$54*Constraints!$D$38-Constraints!$H$38)))*$S$19+((1-Traffic!$F$56)*Constraints!$F$38/3))/Constraints!$D$38)))","v":0.98319080068143105},{"$f":"IF(E$63=\"No\",1,1-(((1-Traffic!$F$54*Constraints!$H$24-Constraints!$F$24/3)+((1-Traffic!$F$54*Constraints!$D$24-Constraints!$H$24)))*$S$19+((1-Traffic!$F$56)*Constraints!$F$24/3))/Constraints!$D$24)","v":1},{"$f":"IF(F24=INDEX(MedConf_Header,1,2),(IF(F$63=\"No\",1,1-(((1-Traffic!$F$54*Constraints!$H$24-Constraints!$F$24/3)+((1-Traffic!$F$54*Constraints!$D$24-Constraints!$H$24)))*$S$19+((1-Traffic!$F$56)*Constraints!$F$24/3))/Constraints!$D$24)),(IF(F$63=\"No\",1,1-(((1-Traffic!$F$54*Constraints!$H$38-Constraints!$F$38/3)+((1-Traffic!$F$54*Constraints!$D$38-Constraints!$H$38)))*$S$19+((1-Traffic!$F$56)*Constraints!$F$38/3))/Constraints!$D$38)))","v":0.98319080068143105},{"$f":"IF(G24=INDEX(MedConf_Header,1,2),(IF(G$63=\"No\",1,1-(((1-Traffic!$F$54*Constraints!$H$24-Constraints!$F$24/3)+((1-Traffic!$F$54*Constraints!$D$24-Constraints!$H$24)))*$S$19+((1-Traffic!$F$56)*Constraints!$F$24/3))/Constraints!$D$24)),(IF(G$63=\"No\",1,1-(((1-Traffic!$F$54*Constraints!$H$38-Constraints!$F$38/3)+((1-Traffic!$F$54*Constraints!$D$38-Constraints!$H$38)))*$S$19+((1-Traffic!$F$56)*Constraints!$F$38/3))/Constraints!$D$38)))","v":0.98319080068143105},{"$f":"IF($I$2=\"Existing\",(D157),(IF($I$2=\"Design 1\",(F157),(IF($I$2=\"Design 2\",(G157),(IF($I$2=\"Optimal\",(I157),E157)))))))","v":1},{"$f":"IF(I$63=\"No\",1,1-(((1-Traffic!$F$54*Constraints!$H$24-Constraints!$F$24/3)+((1-Traffic!$F$54*Constraints!$D$24-Constraints!$H$24)))*$S$19+((1-Traffic!$F$56)*Constraints!$F$24/3))/Constraints!$D$24)","v":0.98062689234129152},null,{"$f":"INDEX($D157:$I157,K$100)","v":0.98319080068143105},{"$f":"INDEX($D157:$I157,L$100)","v":1},-1.7096579124742384E-2,null,-2.3499081529478438E-2]
[null,null,"Pavement friction (skid number)",{"$f":"EXP(LN(Traffic!$F$48)*(D$64-$E$64))","v":1.3972521419325798},{"$f":"EXP(LN(Traffic!$F$48)*(E$64-$E$64))","v":1},{"$f":"IF(MATCH(F64,SkidNums,0)=3, $D158,EXP(LN([5]Traffic!$F$49)*(RIGHT(F$64,2)-$E$64)))","v":{"$error":"#N/A"}},{"$f":"IF(MATCH(G64,SkidNums,0)=3, $D158,EXP(LN([5]Traffic!$F$49)*(RIGHT(G$64,2)-$E$64)))","v":{"$error":"#N/A"}},{"$f":"IF($I$2=\"Existing\",(D158),(IF($I$2=\"Design 1\",(F158),(IF($I$2=\"Design 2\",(G158),(IF($I$2=\"Optimal\",(I158),E158)))))))","v":1},{"$f":"EXP(LN(Traffic!$F$48)*(I$64-$E$64))","v":0.85753553626991963},null,{"$f":"INDEX($D158:$I158,K$100)","v":1.3972521419325798},{"$f":"INDEX($D158:$I158,L$100)","v":1},0.28430956017940245,null,0]
[]
[]
[null,null,"COMBINED Calculated CMF",{"$f":"+D149*D150*D151*D152*D153*D154*D155*D156*D157*D158","v":1.0546277742651902},{"$f":"+E149*E150*E151*E152*E153*E154*E155*E156*E157*E158","v":0.91807038512616201},{"$error":"#N/A"},{"$error":"#N/A"},{"$f":"IF($I$2=\"Existing\",(D161),(IF($I$2=\"Design 1\",(F161),(IF($I$2=\"Design 2\",(G161),(IF($I$2=\"Optimal\",(I161),E161)))))))","v":0.91807038512616201},{"$f":"+I149*I150*I151*I152*I153*I154*I155*I156*I157*I158","v":0.55157049744255038},null,{"$f":"INDEX($D161:$I161,K$100)","v":1.0546277742651902},{"$f":"INDEX($D161:$I161,L$100)","v":0.91807038512616201},{"$f":"IF(ISERROR(1-L161/K161), 0, 1-L161/K161)","v":0.12948396815565966},null,0]
[null,null,"Calculated Relative to Design Standards (Column E)",{"$f":"+D161/$E$161","v":1.1487439213282784},{"$f":"+E161/$E$161","v":1},{"$error":"#N/A"},{"$error":"#N/A"},1,{"$f":"+I161/$E$161","v":0.60079325766156055},null,{"$f":"INDEX($D162:$I162,K$100)","v":1.1487439213282784},{"$f":"INDEX($D162:$I162,L$100)","v":1},0.12948396815565966,null,0]
[null,null,"P(Crash)",{"$f":"+D162/(D162+1)","v":0.53461183062622242},0.5,{"$error":"#N/A"},{"$error":"#N/A"},0.5,{"$f":"+I162/(I162+1)","v":0.37530971272280322},null,{"$f":"INDEX($D163:$I163,K$100)","v":0.53461183062622242},{"$f":"INDEX($D163:$I163,L$100)","v":0.5},6.4741984077829939E-2]
[null,null,"Factor Change on S curve",{"$f":"+D163/$E$163","v":1.0692236612524448},{"$f":"+E163/$E$163","v":1},{"$f":"+F163/$E$163","v":{"$error":"#N/A"}},{"$error":"#N/A"},1,{"$f":"+I163/$E$163","v":0.75061942544560645},null,{"$f":"INDEX($D164:$I164,K$100)","v":1.0692236612524448},{"$f":"INDEX($D164:$I164,L$100)","v":1},6.4741984077829939E-2]
[null,null,"Adjust to Scale of 100",{"$f":"+$I$118/D164*100","v":{"$error":"#VALUE!"}},{"$error":"#VALUE!"},{"$error":"#VALUE!"},{"$error":"#VALUE!"},{"$error":"#VALUE!"},{"$f":"+$I$118/I164*100","v":{"$error":"#VALUE!"}}]
[null,null,"Unadjusted Combined Relative to Standard",{"$f":"+D161/$E$161","v":1.1487439213282784},{"$f":"+E161/$E$161","v":1},{"$f":"+F161/$E$161","v":{"$error":"#N/A"}},{"$error":"#N/A"},1,{"$f":"+I161/$E$161","v":0.60079325766156055},{"$f":"I172/E172","v":1.3333333333333333},{"$f":"INDEX($D166:$I166,K$100)","v":1.1487439213282784},{"$f":"INDEX($D166:$I166,L$100)","v":1},{"$f":"IF(ISERROR(1-L166/K166), 0, 1-L166/K166)","v":0.12948396815565966}]
[null,null,null,null,null,null,null,0,null,null,{"$f":"INDEX($D167:$I167,K$100)","v":0},{"$f":"INDEX($D167:$I167,L$100)","v":0},0]
[null,null,"Adjusted for PA Basis",{"$f":"+D161*(1+1)/(1+D161*1)","v":1.0265876743950504},0.95728539707970672,{"$error":"#N/A"},{"$error":"#N/A"},0.95728539707970672,{"$f":"+I161*(1+1)/(1+I161*1)","v":0.71098348202895401},null,{"$f":"INDEX($D168:$I168,K$100)","v":1.0265876743950504},{"$f":"INDEX($D168:$I168,L$100)","v":0.95728539707970672},6.750741221998624E-2]
[null,null,"Corrected by Odds Ratio",{"$f":"+D168/$E$168","v":1.0723945831898796},{"$f":"+E168/$E$168","v":1},{"$f":"+F168/$E$168","v":{"$error":"#N/A"}},{"$error":"#N/A"},1,{"$f":"+I168/$E$168","v":0.74270795752017016},{"$f":"I175/E175","v":1.4285714285714286},{"$f":"INDEX($D169:$I169,K$100)","v":1.0723945831898796},{"$f":"INDEX($D169:$I169,L$100)","v":1},6.750741221998624E-2]
[null,null,null,{"$f":"(1/D169)^$D173","v":0.19732178070922252},{"$f":"(1/E169)^$D173","v":1},{"$error":"#N/A"},{"$error":"#N/A"},1,998.99999999999955,null,{"$f":"INDEX($D170:$I170,K$100)","v":0.19732178070922252},{"$f":"INDEX($D170:$I170,L$100)","v":1},-4.0678642591089362]
[null,null,null,{"$f":"(D170+$F174-1)/(1+(D170+$F174-1))","v":0.6048454036857811},{"$f":"(E170+$F174-1)/(1+(E170+$F174-1))","v":0.70000000000000007},{"$error":"#N/A"},{"$error":"#N/A"},0.70000000000000007,0.99900133155792281,null,{"$f":"INDEX($D171:$I171,K$100)","v":0.6048454036857811},{"$f":"INDEX($D171:$I171,L$100)","v":0.70000000000000007},-0.15732052477272696]
[null,null,"Score Odds Ratio with Optimal as 100 (old)",{"$f":"MIN(ROUND($I$169/D169*Construction!$I$3,0),$I172)","v":14},{"$f":"MIN(ROUND($I$169/E169*Construction!$I$3,0),$I172)","v":15},{"$f":"MIN(ROUND($I$169/F169*Construction!$I$3,0),$I172)","v":{"$error":"#N/A"}},{"$f":"MIN(ROUND($I$169/G169*Construction!$I$3,0),$I172)","v":{"$error":"#N/A"}},null,{"$f":"ROUND($I$169/I169*Construction!$I$3,0)","v":20}]
[null,null,"Logistic1",{"$f":"LN((D174/(1-D174))/(0.5/0.5))/LN($E169/I169)","v":23.2196999386987}]
[null,null,"Logistic Param",0.999,null,{"$f":"0.7/0.3","v":2.3333333333333335}]
[null,null,"Score ",{"$f":"MIN(ROUND(D171*Construction!$I$3,0),$I172)","v":12},{"$f":"MIN(ROUND(E171*Construction!$I$3,0),$I172)","v":14},{"$f":"MIN(ROUND(F171*Construction!$I$3,0),$I172)","v":{"$error":"#N/A"}},{"$f":"MIN(ROUND(G171*Construction!$I$3,0),$I172)","v":{"$error":"#N/A"}},null,{"$f":"MIN(ROUND(I171*Construction!$I$3,0),$I172)","v":20}]
[]
[]
[]
[]
[null,null,null,{"$f":"INDEX(MedConf_Header,1,2)","v":"Divided - Unsurfaced Median"}]
[]
[null,"Roadsde",null,"Existing","Standard","Design 1","Design 2"]
[null,null,null,{"$f":"IF(ISBLANK(D75), 0, MID(D75,FIND(\":\",D75,1)+1,FIND(\"H\",D75,1)-FIND(\":\",D75,1)-1)+0)","v":0},{"$f":"MID(E75,FIND(\":\",E75,1)+1,FIND(\"H\",E75,1)-FIND(\":\",E75,1)-1)+0","v":4},{"$f":"IF(ISBLANK(F75), 0, MID(F75,FIND(\":\",F75,1)+1,FIND(\"H\",F75,1)-FIND(\":\",F75,1)-1)+0)","v":0},{"$f":"IF(ISBLANK(G75), 0, MID(G75,FIND(\":\",G75,1)+1,FIND(\"H\",G75,1)-FIND(\":\",G75,1)-1)+0)","v":0},null,{"$f":"MID(I75,FIND(\":\",I75,1)+1,FIND(\"H\",I75,1)-FIND(\":\",I75,1)-1)+0","v":6},null,null,null,null,null,0]
[null,null,"Sideslope (Foreslope)",{"$f":"IF(D24=INDEX(MedConf_Header,1,2),(IF(D183<=3,1,IF(OR(D183=4,D183=5),(Roadside!$F$15-1)*Constraints!$H$24/Constraints!$D$24+1,(Roadside!$F$15*Roadside!$F$16-1)*Constraints!$H$24/Constraints!$D$24+1))),(IF(D183<=3,1,IF(OR(D183=4,D183=5),(Roadside!$F$15-1)*Constraints!$H$38/Constraints!$D$38+1,(Roadside!$F$15*Roadside!$F$16-1)*Constraints!$H$38/Constraints!$D$38+1))))","v":1},{"$f":"IF(E24=INDEX(MedConf_Header,1,2),(IF(E183<=3,1,IF(OR(E183=4,E183=5),(Roadside!$F$15-1)*Constraints!$H$24/Constraints!$D$24+1,(Roadside!$F$15*Roadside!$F$16-1)*Constraints!$H$24/Constraints!$D$24+1))),(IF(E183<=3,1,IF(OR(E183=4,E183=5),(Roadside!$F$15-1)*Constraints!$H$38/Constraints!$D$38+1,(Roadside!$F$15*Roadside!$F$16-1)*Constraints!$H$38/Constraints!$D$38+1))))","v":0.84302377525189853},{"$f":"IF(F24=INDEX(MedConf_Header,1,2),(IF(F183<=3,1,IF(OR(F183=4,F183=5),(Roadside!$F$15-1)*Constraints!$H$24/Constraints!$D$24+1,(Roadside!$F$15*Roadside!$F$16-1)*Constraints!$H$24/Constraints!$D$24+1))),(IF(F183<=3,1,IF(OR(F183=4,F183=5),(Roadside!$F$15-1)*Constraints!$H$38/Constraints!$D$38+1,(Roadside!$F$15*Roadside!$F$16-1)*Constraints!$H$38/Constraints!$D$38+1))))","v":1},{"$f":"IF(G24=INDEX(MedConf_Header,1,2),(IF(G183<=3,1,IF(OR(G183=4,G183=5),(Roadside!$F$15-1)*Constraints!$H$24/Constraints!$D$24+1,(Roadside!$F$15*Roadside!$F$16-1)*Constraints!$H$24/Constraints!$D$24+1))),(IF(G183<=3,1,IF(OR(G183=4,G183=5),(Roadside!$F$15-1)*Constraints!$H$38/Constraints!$D$38+1,(Roadside!$F$15*Roadside!$F$16-1)*Constraints!$H$38/Constraints!$D$38+1))))","v":1},{"$f":"IF($I$2=\"Existing\",(D184),(IF($I$2=\"Design 1\",(F184),(IF($I$2=\"Design 2\",(G184),(IF($I$2=\"Optimal\",(I184),E184)))))))","v":0.84302377525189853},{"$f":"IF(I24=INDEX(MedConf_Header,1,2),(IF(I183<=3,1,IF(OR(I183=4,I183=5),(Roadside!$F$15-1)*Constraints!$H$24/Constraints!$D$24+1,(Roadside!$F$15*Roadside!$F$16-1)*Constraints!$H$24/Constraints!$D$24+1))),(IF(I183<=3,1,IF(OR(I183=4,I183=5),(Roadside!$F$15-1)*Constraints!$H$38/Constraints!$D$38+1,(Roadside!$F$15*Roadside!$F$16-1)*Constraints!$H$38/Constraints!$D$38+1))))","v":0.79533290316176108},null,{"$f":"INDEX($D184:$I184,K$100)","v":1},{"$f":"INDEX($D184:$I184,L$100)","v":0.84302377525189853},{"$f":"IF(ISERROR(1-L184/K184), 0, 1-L184/K184)","v":0.15697622474810147},null,0]
[null,null,"Backslope",1,1,1,1,{"$f":"IF($I$2=\"Existing\",(D185),(IF($I$2=\"Design 1\",(F185),(IF($I$2=\"Design 2\",(G185),(IF($I$2=\"Optimal\",(I185),E185)))))))","v":1},1,null,{"$f":"INDEX($D185:$I185,K$100)","v":1},{"$f":"INDEX($D185:$I185,L$100)","v":1},0,null,0]
[null,null,"SafetyEdge",{"$f":"IF(D24=INDEX(MedConf_Header,1,2),(IF(D$77=\"No\",1,(Roadside!$F$23-1)*AVERAGE(Constraints!$H$24,Constraints!$F$24)/Constraints!$D$24+1)),(IF(D$77=\"No\",1,(Roadside!$F$23-1)*AVERAGE(Constraints!$H$38,Constraints!$F$38)/Constraints!$D$38+1)))","v":0.97711209540034072},{"$f":"IF(E$77=\"No\",1,(Roadside!$F$23-1)*AVERAGE(Constraints!$H$24,Constraints!$F$24)/Constraints!$D$24+1)","v":1},{"$f":"IF(F24=INDEX(MedConf_Header,1,2),(IF(F$77=\"No\",1,(Roadside!$F$23-1)*AVERAGE(Constraints!$H$24,Constraints!$F$24)/Constraints!$D$24+1)),(IF(F$77=\"No\",1,(Roadside!$F$23-1)*AVERAGE(Constraints!$H$38,Constraints!$F$38)/Constraints!$D$38+1)))","v":0.97711209540034072},{"$f":"IF(G24=INDEX(MedConf_Header,1,2),(IF(G$77=\"No\",1,(Roadside!$F$23-1)*AVERAGE(Constraints!$H$24,Constraints!$F$24)/Constraints!$D$24+1)),(IF(G$77=\"No\",1,(Roadside!$F$23-1)*AVERAGE(Constraints!$H$38,Constraints!$F$38)/Constraints!$D$38+1)))","v":0.97711209540034072},{"$f":"IF($I$2=\"Existing\",(D186),(IF($I$2=\"Design 1\",(F186),(IF($I$2=\"Design 2\",(G186),(IF($I$2=\"Optimal\",(I186),E186)))))))","v":1},{"$f":"IF(I$77=\"No\",1,(Roadside!$F$23-1)*AVERAGE(Constraints!$H$24,Constraints!$F$24)/Constraints!$D$24+1)","v":0.97526887377773364},null,{"$f":"INDEX($D186:$I186,K$100)","v":0.97711209540034072},{"$f":"INDEX($D186:$I186,L$100)","v":1},-2.3424031600265627E-2,null,-2.8188991921691331E-2]
[null,null,"Lateral Clearance (ft)",{"$f":"IF(D24=INDEX(MedConf_Header,1,2),(IF($B$31=\"Yes\",((EXP(LN(Roadside!$F$11)*(IF(D$79=\"None\",40,D$78)-30)/30)-1))*Constraints!$H$17/Constraints!$D$24+1,((EXP(LN(Roadside!$F$10)*(IF(D$79=\"None\",40,D$78)-30)/30)-1))*Constraints!$H$17/Constraints!$D$24+1)),(IF($B$31=\"Yes\",((EXP(LN(Roadside!$F$11)*(IF(D$79=\"None\",40,D$78)-30)/30)-1))*Constraints!$H$31/Constraints!$D$38+1,((EXP(LN(Roadside!$F$10)*(IF(D$79=\"None\",40,D$78)-30)/30)-1))*Constraints!$H$31/Constraints!$D$38+1)))","v":1.0472592444132678},{"$f":"IF(E24=INDEX(MedConf_Header,1,2),(IF($B$31=\"Yes\",((EXP(LN(Roadside!$F$11)*(IF(E$79=\"None\",40,E$78)-30)/30)-1))*Constraints!$H$17/Constraints!$D$24+1,((EXP(LN(Roadside!$F$10)*(IF(E$79=\"None\",40,E$78)-30)/30)-1))*Constraints!$H$17/Constraints!$D$24+1)),(IF($B$31=\"Yes\",((EXP(LN(Roadside!$F$11)*(IF(E$79=\"None\",40,E$78)-30)/30)-1))*Constraints!$H$31/Constraints!$D$38+1,((EXP(LN(Roadside!$F$10)*(IF(E$79=\"None\",40,E$78)-30)/30)-1))*Constraints!$H$31/Constraints!$D$38+1)))","v":0.97942029665168673},{"$f":"IF(F24=INDEX(MedConf_Header,1,2),(IF($B$31=\"Yes\",((EXP(LN(Roadside!$F$11)*(IF(F$79=\"None\",40,F$78)-30)/30)-1))*Constraints!$H$17/Constraints!$D$24+1,((EXP(LN(Roadside!$F$10)*(IF(F$79=\"None\",40,F$78)-30)/30)-1))*Constraints!$H$17/Constraints!$D$24+1)),(IF($B$31=\"Yes\",((EXP(LN(Roadside!$F$11)*(IF(F$79=\"None\",40,F$78)-30)/30)-1))*Constraints!$H$31/Constraints!$D$38+1,((EXP(LN(Roadside!$F$10)*(IF(F$79=\"None\",40,F$78)-30)/30)-1))*Constraints!$H$31/Constraints!$D$38+1)))","v":1.0472592444132678},{"$f":"IF(G24=INDEX(MedConf_Header,1,2),(IF($B$31=\"Yes\",((EXP(LN(Roadside!$F$11)*(IF(G$79=\"None\",40,G$78)-30)/30)-1))*Constraints!$H$17/Constraints!$D$24+1,((EXP(LN(Roadside!$F$10)*(IF(G$79=\"None\",40,G$78)-30)/30)-1))*Constraints!$H$17/Constraints!$D$24+1)),(IF($B$31=\"Yes\",((EXP(LN(Roadside!$F$11)*(IF(G$79=\"None\",40,G$78)-30)/30)-1))*Constraints!$H$31/Constraints!$D$38+1,((EXP(LN(Roadside!$F$10)*(IF(G$79=\"None\",40,G$78)-30)/30)-1))*Constraints!$H$31/Constraints!$D$38+1)))","v":1.0472592444132678},{"$f":"IF($I$2=\"Existing\",(D187),(IF($I$2=\"Design 1\",(F187),(IF($I$2=\"Design 2\",(G187),(IF($I$2=\"Optimal\",(I187),E187)))))))","v":0.97942029665168673},{"$f":"IF(I24=INDEX(MedConf_Header,1,2),(IF($B$31=\"Yes\",((EXP(LN(Roadside!$F$11)*(IF(I$79=\"None\",40,I$78)-30)/30)-1))*Constraints!$H$17/Constraints!$D$24+1,((EXP(LN(Roadside!$F$10)*(IF(I$79=\"None\",40,I$78)-30)/30)-1))*Constraints!$H$17/Constraints!$D$24+1)),(IF($B$31=\"Yes\",((EXP(LN(Roadside!$F$11)*(IF(I$79=\"None\",40,I$78)-30)/30)-1))*Constraints!$H$31/Constraints!$D$38+1,((EXP(LN(Roadside!$F$10)*(IF(I$79=\"None\",40,I$78)-30)/30)-1))*Constraints!$H$31/Constraints!$D$38+1)))","v":0.97942029665168673},null,{"$f":"INDEX($D187:$I187,K$100)","v":1.0472592444132678},{"$f":"INDEX($D187:$I187,L$100)","v":0.97942029665168673},6.4777606999867676E-2,null,9.0307162971216326E-2]
[null,null,"Roadside Obstruction Type",{"$f":"IF(D24=INDEX(MedConf_Header,1,2),(IF(D$79=\"Guardrail\",(Roadside!$F$25-1)*(($I$78-D$78)/$I$78)^2*Constraints!$H$17/Constraints!$D$24+1,1)),(IF(D$79=\"Guardrail\",(Roadside!$F$25-1)*(($I$78-D$78)/$I$78)^2*Constraints!$H$31/Constraints!$D$38+1,1)))","v":1},{"$f":"IF(E24=INDEX(MedConf_Header,1,2),(IF(E$79=\"Guardrail\",(Roadside!$F$25-1)*(($I$78-E$78)/$I$78)^2*Constraints!$H$17/Constraints!$D$24+1,1)),(IF(E$79=\"Guardrail\",(Roadside!$F$25-1)*(($I$78-E$78)/$I$78)^2*Constraints!$H$31/Constraints!$D$38+1,1)))","v":1},{"$f":"IF(F24=INDEX(MedConf_Header,1,2),(IF(F$79=\"Guardrail\",(Roadside!$F$25-1)*(($I$78-F$78)/$I$78)^2*Constraints!$H$17/Constraints!$D$24+1,1)),(IF(F$79=\"Guardrail\",(Roadside!$F$25-1)*(($I$78-F$78)/$I$78)^2*Constraints!$H$31/Constraints!$D$38+1,1)))","v":1},{"$f":"IF(G24=INDEX(MedConf_Header,1,2),(IF(G$79=\"Guardrail\",(Roadside!$F$25-1)*(($I$78-G$78)/$I$78)^2*Constraints!$H$17/Constraints!$D$24+1,1)),(IF(G$79=\"Guardrail\",(Roadside!$F$25-1)*(($I$78-G$78)/$I$78)^2*Constraints!$H$31/Constraints!$D$38+1,1)))","v":1},{"$f":"IF($I$2=\"Existing\",(D188),(IF($I$2=\"Design 1\",(F188),(IF($I$2=\"Design 2\",(G188),(IF($I$2=\"Optimal\",(I188),E188)))))))","v":1},{"$f":"IF(I24=INDEX(MedConf_Header,1,2),(IF(I$79=\"Guardrail\",(Roadside!$F$25-1)*(($I$78-I$78)/$I$78)^2*Constraints!$H$17/Constraints!$D$24+1,1)),(IF(I$79=\"Guardrail\",(Roadside!$F$25-1)*(($I$78-I$78)/$I$78)^2*Constraints!$H$31/Constraints!$D$38+1,1)))","v":1},null,{"$f":"INDEX($D188:$I188,K$100)","v":1},{"$f":"INDEX($D188:$I188,L$100)","v":1},0,null,0]
[null,null,null,null,null,null,null,null,null,null,{"$f":"INDEX($D189:$I189,K$100)","v":0},{"$f":"INDEX($D189:$I189,L$100)","v":0},0]
[null,null,null,null,null,null,null,null,null,null,{"$f":"INDEX($D190:$I190,K$100)","v":0},{"$f":"INDEX($D190:$I190,L$100)","v":0},0]
[null,null,"COMBINED Calculated CMF",{"$f":"+D184*D185*D186*D187*D188","v":1.0232896747360256},{"$f":"+E184*E185*E186*E187*E188","v":0.82567459604163929},1.0232896747360256,1.0232896747360256,{"$f":"IF($I$2=\"Existing\",(D191),(IF($I$2=\"Design 1\",(F191),(IF($I$2=\"Design 2\",(G191),(IF($I$2=\"Optimal\",(I191),E191)))))))","v":0.82567459604163929},{"$f":"+I184*I185*I186*I187*I188","v":0.75970050156555824},null,{"$f":"INDEX($D191:$I191,K$100)","v":1.0232896747360256},{"$f":"INDEX($D191:$I191,L$100)","v":0.82567459604163929},0.1931174364144389]
[null,null,"Calculated Relative to Design Standards (Column E)",{"$f":"+D191/$E$191","v":1.2393377241370527},{"$f":"+E191/$E$191","v":1},1.2393377241370527,1.2393377241370527,1,{"$f":"+I191/$E$191","v":0.92009673690777583},null,{"$f":"INDEX($D192:$I192,K$100)","v":1.2393377241370527},{"$f":"INDEX($D192:$I192,L$100)","v":1},0.1931174364144389]
[null,null,"P(Crash)",{"$f":"+D192/(D192+1)","v":0.55343939896990835},0.5,0.55343939896990835,0.55343939896990835,0.5,{"$f":"+I192/(I192+1)","v":0.47919290691027777},null,{"$f":"INDEX($D193:$I193,K$100)","v":0.55343939896990835},{"$f":"INDEX($D193:$I193,L$100)","v":0.5},9.6558718207219618E-2]
[null,null,"Factor Change on S curve",{"$f":"+D193/$E$193","v":1.1068787979398167},{"$f":"+E193/$E$193","v":1},1.1068787979398167,1.1068787979398167,1,{"$f":"+I193/$E$193","v":0.95838581382055554},null,{"$f":"INDEX($D194:$I194,K$100)","v":1.1068787979398167},{"$f":"INDEX($D194:$I194,L$100)","v":1},9.6558718207219618E-2]
[null,null,"Adjust to Scale of 100",{"$f":"+$I$118/D194*100","v":{"$error":"#VALUE!"}},{"$error":"#VALUE!"},{"$error":"#VALUE!"},{"$error":"#VALUE!"},{"$error":"#VALUE!"},{"$f":"+$I$118/I194*100","v":{"$error":"#VALUE!"}},null,{"$f":"INDEX($D195:$I195,K$100)","v":{"$error":"#VALUE!"}},{"$f":"INDEX($D195:$I195,L$100)","v":{"$error":"#VALUE!"}},0]
[null,null,"Unadjusted Combined Relative to Standard",{"$f":"+D191/$E$191","v":1.2393377241370527},{"$f":"+E191/$E$191","v":1},1.2393377241370527,1.2393377241370527,1,{"$f":"+I191/$E$191","v":0.92009673690777583},{"$f":"I202/E202","v":1.0810810810810811},{"$f":"INDEX($D196:$I196,K$100)","v":1.2393377241370527},{"$f":"INDEX($D196:$I196,L$100)","v":1},0.1931174364144389]
[null,null,null,null,null,null,null,null,null,null,{"$f":"INDEX($D197:$I197,K$100)","v":0},{"$f":"INDEX($D197:$I197,L$100)","v":0},0]
[null,null,"Adjusted for PA Basis",{"$f":"+D191*(1+1)/(1+D191*1)","v":1.0115107960203793},0.90451452611745442,1.0115107960203793,1.0115107960203793,{"$f":"IF($I$2=\"Existing\",(D198),(IF($I$2=\"Design 1\",(F198),(IF($I$2=\"Design 2\",(G198),(IF($I$2=\"Optimal\",(I198),E198)))))))","v":0.90451452611745442},{"$f":"+I191*(1+1)/(1+I191*1)","v":0.86344295621859868},null,{"$f":"INDEX($D198:$I198,K$100)","v":1.0115107960203793},{"$f":"INDEX($D198:$I198,L$100)","v":0.90451452611745442},0.10577867317272727]
[null,null,"Corrected by Odds Ratio",{"$f":"+D191/$E$191","v":1.2393377241370527},{"$f":"+E191/$E$191","v":1},1.2393377241370527,1.2393377241370527,{"$f":"IF($I$2=\"Existing\",(D199),(IF($I$2=\"Design 1\",(F199),(IF($I$2=\"Design 2\",(G199),(IF($I$2=\"Optimal\",(I199),E199)))))))","v":1},{"$f":"+I191/$E$191","v":0.92009673690777583},{"$f":"I205/E205","v":1.4814814814814814},{"$f":"INDEX($D199:$I199,K$100)","v":1.2393377241370527},{"$f":"INDEX($D199:$I199,L$100)","v":1},0.1931174364144389]
[null,null,null,{"$f":"(1/D199)^$D203","v":1.8666691582346016E-8},{"$f":"(1/E199)^$D203","v":1},1.8666691582346016E-8,1.8666691582346016E-8,1,998.99999999999955]
[null,null,null,{"$f":"(D200+$F204-1)/(1+(D200+$F204-1))","v":0.50000000466667294},{"$f":"(E200+$F204-1)/(1+(E200+$F204-1))","v":0.66666666666666663},0.50000000466667294,0.50000000466667294,0.66666666666666663,0.99900099900099903]
[null,null,"Score Odds Ratio with Optimal as 100 (old)",{"$f":"MIN(ROUND($I$199/D199*Construction!$I$4,0),$I202)","v":30},{"$f":"MIN(ROUND($I$199/E199*Construction!$I$4,0),$I202)","v":37},{"$f":"MIN(ROUND($I$199/F199*Construction!$I$4,0),$I202)","v":30},{"$f":"MIN(ROUND($I$199/G199*Construction!$I$4,0),$I202)","v":30},null,{"$f":"ROUND($I$199/I199*Construction!$I$4,0)","v":40}]
[null,null,"Logistic1",{"$f":"LN((D204/(1-D204))/(0.5/0.5))/LN($E199/I199)","v":82.937655007418002}]
[null,null,"Logistic Param",0.999,null,2]
[null,null,"Score ",{"$f":"MIN(ROUND(D201*Construction!$I$4,0),$I202)","v":20},{"$f":"MIN(ROUND(E201*Construction!$I$4,0),$I202)","v":27},{"$f":"MIN(ROUND(F201*Construction!$I$4,0),$I202)","v":20},{"$f":"MIN(ROUND(G201*Construction!$I$4,0),$I202)","v":20},null,{"$f":"MIN(ROUND(I201*Construction!$I$4,0),$I202)","v":40}]
[]
[]
[]
[]
[null,null,{"$f":"D87/D183","v":{"$error":"#DIV/0!"}},null,{"$f":"ROUNDUP((MIN($I$14,$I$15)-E27-E28)/$C$210,0)","v":{"$error":"#DIV/0!"}},{"$f":"ROUNDUP((MIN($I$14,$I$15)-F27-F28)/$C$210,0)","v":{"$error":"#DIV/0!"}},{"$f":"ROUNDUP((MIN($I$14,$I$15)-G27-G28)/$C$210,0)","v":{"$error":"#DIV/0!"}},null,{"$f":"ROUNDUP((MIN($I$14,$I$15)-I27-I28)/$C$210,0)","v":{"$error":"#DIV/0!"}}]
[]
[]
[null,null,"Distance to low point","Distance to low point",{"$f":"$C$210*E183","v":{"$error":"#DIV/0!"}},{"$f":"$C$210*F183","v":{"$error":"#DIV/0!"}},{"$error":"#DIV/0!"},null,{"$f":"$C$210*I183","v":{"$error":"#DIV/0!"}}]
[null,null,null,"Additional ROW1 Needed for Foreslope",{"$f":"IF(E213>($I$14-E27-E28),E213-($I$14-E27-E28),0)","v":{"$error":"#DIV/0!"}},{"$f":"IF(F213>($I$14-F27-F28),F213-($I$14-F27-F28),0)","v":{"$error":"#DIV/0!"}},{"$f":"IF(G213>($I$14-G27-G28),G213-($I$14-G27-G28),0)","v":{"$error":"#DIV/0!"}},null,{"$f":"IF(I213>($I$14-I27-I28),I213-($I$14-I27-I28),0)","v":{"$error":"#DIV/0!"}}]
[null,null,null,"Additional ROW2 Needed for Foreslope",{"$f":"IF(E213>($I$15-E27-E28),E213-($I$15-E27-E28),0)","v":{"$error":"#DIV/0!"}},{"$f":"IF(F213>($I$15-F27-F28),F213-($I$15-F27-F28),0)","v":{"$error":"#DIV/0!"}},{"$f":"IF(G213>($I$15-G27-G28),G213-($I$15-G27-G28),0)","v":{"$error":"#DIV/0!"}},null,{"$f":"IF(I213>($I$15-I27-I28),I213-($I$15-I27-I28),0)","v":{"$error":"#DIV/0!"}}]
[]
[null,null,null,"Additional ROW1 Needed for Lateral Clearance",{"$f":"IF((CL251+E30)-$I$14<0,0,(CL251+E30)-$I$14)","v":2},{"$f":"IF((CM251+F30)-$I$14<0,0,(CM251+F30)-$I$14)","v":0},{"$f":"IF((CN251+G30)-$I$14<0,0,(CN251+G30)-$I$14)","v":0},null,{"$f":"IF((CP251+I30)-$I$14<0,0,(CP251+I30)-$I$14)","v":2}]
[null,null,null,"Additional ROW2 Needed for Lateral Clearance",{"$f":"IF((CL251+E30)-$I$15<0,0,(CL251+E30)-$I$15)","v":2},{"$f":"IF((CM251+F30)-$I$15<0,0,(CM251+F30)-$I$15)","v":0},{"$f":"IF((CN251+G30)-$I$15<0,0,(CN251+G30)-$I$15)","v":0},null,{"$f":"IF((CP251+I30)-$I$15<0,0,(CP251+I30)-$I$15)","v":2}]
[]
[]
[]
[]
[]
[]
[]
[]
[]
[]
[]
[null,null,"For Vertical Opt Use when Yes Vertical:"]
[null,null,"G1",{"$f":"D40","v":0},null,{"$f":"F40","v":0},{"$f":"G40","v":0},null,{"$f":"IF(ISERROR($E$238),\"\",INDEX(D231:G231,$E$238))","v":""}]
[null,null,"G2",{"$f":"D41","v":0},null,{"$f":"F41","v":0},{"$f":"G41","v":0},null,{"$f":"IF(ISERROR($E$238),\"\",INDEX(D232:G232,$E$238))","v":""}]
[null,null,"abs(G2-G1)",{"$f":"ABS(D40-D41)","v":0},null,{"$f":"ABS(F40-F41)","v":0},{"$f":"ABS(G40-G41)","v":0}]
[null,null,"Count in indicator (K no change; or K change but accept)",{"$f":"IF(D43<>\"\",1,\"\")","v":""},null,{"$f":"IF(OR(AND($B$38 = \"Yes\", $D$43 <> F43, F43 <>\"\", $D$43 <> \"\", F45=\"Yes.\"),AND($B$38 = \"Yes\", $D$43 = F43, F43 <>\"\", $D$43 <> \"\")), 1,\"\")","v":""},{"$f":"IF(OR(AND($B$38 = \"Yes\", $D$43 <> G43, G43 <>\"\", $D$43 <> \"\", G45=\"Yes.\"),AND($B$38 = \"Yes\", $D$43 = G43, G43 <>\"\", $D$43 <> \"\")), 1,\"\")","v":""}]
[]
[null,null,"Valid abs(G2-G1)",{"$f":"IF(ISERROR(D233*D234),\"\",D233*D234)","v":""},null,{"$f":"IF(ISERROR(F233*F234),\"\",F233*F234)","v":""},{"$f":"IF(ISERROR(G233*G234),\"\",G233*G234)","v":""}]
[null,null,"The min valid abs(G2-G1)",null,{"$f":"MIN(D236,F236,G236)","v":0}]
[null,null,"Index",null,{"$f":"MATCH(E237,D236:G236,0)","v":{"$error":"#N/A"}}]
[]
[null,null,"For Vertical Opt Use When No Vertical:"]
[null,null,"G1",{"$f":"IF(ISBLANK(D40), 999, D40)","v":999},null,{"$f":"IF(ISBLANK(F40), 999, F40)","v":999},{"$f":"IF(ISBLANK(G40), 999, G40)","v":999},null,{"$f":"IF(E246=999,\"\",E246)","v":""}]
[null,null,"Sign of G1",{"$f":"IF(D241>=0,1,-1)","v":1},null,{"$f":"IF(F241>=0,1,-1)","v":1},{"$f":"IF(G241>=0,1,-1)","v":1}]
[null,null,"Abs G1",{"$f":"ABS(D241)","v":999},null,{"$f":"ABS(F241)","v":999},{"$f":"ABS(G241)","v":999}]
[null,null,"Min Abs G1",null,{"$f":"MIN(D243:G243)","v":999}]
[null,null,"Which is the Best G1",null,{"$f":"MATCH(E244,D243:G243,0)","v":1}]
[null,null,"Best G1 Value",null,{"$f":"INDEX(D241:G241,1,E245)","v":999}]
[]
[]
[null,null,"Check if all cells filled",{"$f":"SUM(D251:D314)","v":19},{"$f":"SUM(E251:E314)","v":1},19,19,0,0]
[]
[null,null,{"$f":"C24","v":"Configuration of Multilane Roadway"},{"$f":"IF(ISBLANK(D24),1,0)","v":1},{"$f":"IF(ISBLANK(E24),1,0)","v":0},1,1,null,0]
[null,null,{"$f":"C25","v":"Median Configuration (Width or Type)"},{"$f":"IF(AND(D24<>\"No Median\", ISBLANK(D25)),1,0)","v":1},0,{"$f":"IF(AND(F24<>\"No Median\", ISBLANK(F25)),1,0)","v":1},{"$f":"IF(AND(G24<>\"No Median\", ISBLANK(G25)),1,0)","v":1},null,0]
[]
[null,null,"Lane Width (feet)",{"$f":"IF(ISBLANK(D27),1,0)","v":1},0,1,1,null,{"$f":"IF(ISBLANK(I27),1,0)","v":0}]
[null,null,"Average Outside Shoulder Width (feet)",1,0,1,1,null,0]
[null,null,"Average Inside Shoulder Width (feet)",1,0,1,1,null,0]
[null,null,"Number of Lanes per Direction of Travel",1,0,1,1,null,0]
[null,null,"Horizontal Curve Present?"]
[null,null,"Horizontal Curve Data for Controlling Element:"]
[null,null,"  Radius (feet)",{"$f":"IF(AND($B$31=\"Yes\", ISBLANK(D33)),1,0)","v":0},null,{"$f":"IF(AND($B$31=\"Yes\", ISBLANK(F33)),1,0)","v":0},{"$f":"IF(AND($B$31=\"Yes\", ISBLANK(G33)),1,0)","v":0},null,{"$f":"IF(ISBLANK(I33),1,0)","v":0}]
[null,null,"Length of Horizontal Curve (feet)",{"$f":"IF(AND($B$31=\"Yes\", ISBLANK(D34)),1,0)","v":0},null,{"$f":"IF(AND($B$31=\"Yes\", ISBLANK(F34)),1,0)","v":0},{"$f":"IF(AND($B$31=\"Yes\", ISBLANK(G34)),1,0)","v":0},null,0]
[null,null,"Calculated Deflection Angle ∆"]
[]
[null,null,null,null,null,{"$f":"IF(AND($B$31 = \"Yes\", $D$35 <> F35, F35<>\"\",ISBLANK(F37)),1,0)","v":0},{"$f":"IF(AND($B$31 = \"Yes\", $D$35 <> G35, G35<>\"\",ISBLANK(G37)),1,0)","v":0}]
[null,null,"Vertical Curve Present?"]
[null,null,"Vertical Curve Data for Controlling Element:"]
[null,null,"  Approach (Entry) Grade, G1 (%)",{"$f":"IF(ISBLANK(D40),1,0)","v":1},0,1,1,null,{"$f":"IF(ISBLANK(I40),1,0)","v":0}]
[null,null,"  Departure (Exit) Grade, G2 (%)",{"$f":"IF(AND($B$38=\"Yes\", ISBLANK(D41)),1,0)","v":0},{"$f":"IF(AND($B$38=\"Yes\", ISBLANK(E41)),1,0)","v":0},0,0,null,0]
[null,null,"  Length (feet)",{"$f":"IF(AND($B$38=\"Yes\", ISBLANK(D42)),1,0)","v":0},0,0,0,null,0]
[null,null,"  Calculated Rate of Change, K (ft/ft)"]
[]
[]
[null,null,"  Calculated Sag or Crest?"]
[]
[]
[null,null,"Geometric Design Element (Partial Score)"]
[null,null,"Total Safety Score"]
[]
[]
[]
[]
[]
[null,null,"Advance Static Curve Warning Signs",{"$f":"IF(AND($B$31=\"Yes\", ISBLANK(D56)),1,0)","v":0},{"$f":"IF(AND($B$31=\"Yes\", ISBLANK(E56)),1,0)","v":0},0,0,null,{"$f":"IF(ISBLANK(I56),1,0)","v":0}]
[null,null,"Chevron Signs on Horizontal Curves",{"$f":"IF(AND($B$31=\"Yes\", ISBLANK(D57)),1,0)","v":0},0,0,0,null,0]
[null,null,"Post-Mounted Delineators",0,0,0,0,null,0]
[null,null,"Edgeline Pavement Markings or Profile Markings",{"$f":"IF(ISBLANK(D59),1,0)","v":1},0,1,1,null,0]
[null,null,"Shoulder Rumble Strips",1,0,1,1,null,0]
[null,null,"Centerline Rumble Strips",1,0,1,1,null,0]
[null,null,"Driveway Density (driveways per mile)",1,0,1,1,null,0]
[null,null,"Lighting",1,0,1,1,null,0]
[null,null,"Pavement Friction (skid number) ***",1,0,1,1,null,0]
[null,null,"Traffic Control Element (Partial Score):"]
[null,null,"Total Safety Score"]
[]
[]
[]
[]
[]
[]
[]
[]
[null,null,"Roadside Sideslope (Foreslope)",{"$f":"IF(ISBLANK(D75),1,0)","v":1},0,1,1,null,{"$f":"IF(ISBLANK(I75),1,0)","v":0}]
[null,null,"Roadside Backslope",1,0,1,1,null,0]
[null,null,"Safety Edge",1,0,1,1,null,0]
[null,null,"Roadside Lateral Clearance to Obstruction (ft)",1,0,1,1,null,0]
[null,null,"Roadside Obstruction Type",1,0,1,1,null,0]
[null,null,"Roadside Element (Partial Score):"]
[null,null,"Total Safety Score"]
[]
[]
[]
[]
[]
[null,null,"Distance to Slope Toe from Shoulder (ft)",{"$f":"IF(ISBLANK(D87),1,0)","v":1},{"$f":"D314","v":1},{"$f":"E314","v":1},1,null,0]
[null,null,null,null,null,null,null,null,{"$f":"SUM(I316:I324)","v":9}]
[null,null,null,null,null,null,null,{"$f":"F9","v":"Location "},{"$f":"IF(ISBLANK(I9),1,0)","v":1}]
[null,null,null,null,null,null,null,{"$f":"F10","v":"Design Speed (mph)"},{"$f":"IF(ISBLANK(I10),1,0)","v":1}]
[null,null,null,null,null,null,null,"Posted Speed (mph)",1]
[null,null,null,null,null,null,null,"E max (%)",1]
[null,null,null,null,null,null,null,"    Design Year AADT (vehicles per day)",1]
[null,null,null,null,null,null,null,"    Dist. from Centerline to Left   ROW (feet)",1]
[null,null,null,null,null,null,null,"    Dist. from Centerline to Right ROW (feet)",1]
[null,null,null,null,null,null,null,"H CV",{"$f":"IF(ISBLANK(B31),1,0)","v":1}]
[null,null,null,null,null,null,null,"V HV",{"$f":"IF(ISBLANK(B38),1,0)","v":1}]
[]
[]
[]
[]
[]
[]
[]
[]
[]
[]
[]
[]
[]
[]
[]
[]
[]
[]
[]
[]
[]
[]
[]
[]
[]
[]
[]
[]
[]
[]
[]
[]
[]
[]
[]
[]
[]
[]
[]
[]
[]
[]
[]
[]
[]
[]
[]
[]
[]
[]
[]
[]
[]
[]
[1]
[22]
[21]
[20]
[19,null,null,{"$f":"Constraints!P174","v":"Emax=6%"}]
[18]
[17,null,{"$f":"HLOOKUP($I$10,Constraints!$Q$176:AD197,A379,TRUE)","v":{"$error":"#N/A"}},{"$f":"Constraints!P176","v":"super"}]
[16,null,{"$f":"HLOOKUP($I$10,Constraints!$Q$176:AD198,A380,TRUE)","v":{"$error":"#N/A"}},{"$f":"Constraints!P197","v":6},1050]
[15,null,{"$f":"HLOOKUP($I$10,Constraints!$Q$176:AD199,A381,TRUE)","v":{"$error":"#N/A"}},{"$f":"Constraints!P196","v":5.8}]
[14,null,{"$f":"HLOOKUP($I$10,Constraints!$Q$176:AD200,A382,TRUE)","v":{"$error":"#N/A"}},{"$f":"Constraints!P195","v":5.6}]
[13,null,{"$f":"HLOOKUP($I$10,Constraints!$Q$176:AD201,A383,TRUE)","v":{"$error":"#N/A"}},{"$f":"Constraints!P194","v":5.4}]
[12,null,{"$f":"HLOOKUP($I$10,Constraints!$Q$176:AD202,A384,TRUE)","v":{"$error":"#N/A"}},{"$f":"Constraints!P193","v":5.2}]
[11,null,{"$f":"HLOOKUP($I$10,Constraints!$Q$176:AD203,A385,TRUE)","v":{"$error":"#N/A"}},{"$f":"Constraints!P192","v":5}]
[10,null,{"$f":"HLOOKUP($I$10,Constraints!$Q$176:AD204,A386,TRUE)","v":{"$error":"#N/A"}},{"$f":"Constraints!P191","v":4.8}]
[9,null,{"$f":"HLOOKUP($I$10,Constraints!$Q$176:AD205,A387,TRUE)","v":{"$error":"#N/A"}},{"$f":"Constraints!P190","v":4.5999999999999996}]
[8,null,{"$f":"HLOOKUP($I$10,Constraints!$Q$176:AD206,A388,TRUE)","v":{"$error":"#N/A"}},{"$f":"Constraints!P189","v":4.4000000000000004}]
[7,null,{"$f":"HLOOKUP($I$10,Constraints!$Q$176:AD207,A389,TRUE)","v":{"$error":"#N/A"}},{"$f":"Constraints!P188","v":4.2}]
[6,null,{"$f":"HLOOKUP($I$10,Constraints!$Q$176:AD208,A390,TRUE)","v":{"$error":"#N/A"}},{"$f":"Constraints!P187","v":4}]
[5,null,{"$f":"HLOOKUP($I$10,Constraints!$Q$176:AD209,A391,TRUE)","v":{"$error":"#N/A"}},{"$f":"Constraints!P186","v":3.8}]
[4,null,{"$f":"HLOOKUP($I$10,Constraints!$Q$176:AD210,A392,TRUE)","v":{"$error":"#N/A"}},{"$f":"Constraints!P185","v":3.6}]
[3,null,{"$f":"HLOOKUP($I$10,Constraints!$Q$176:AD211,A393,TRUE)","v":{"$error":"#N/A"}},{"$f":"Constraints!P184","v":3.4}]
[2,null,{"$f":"HLOOKUP($I$10,Constraints!$Q$176:AD212,A394,TRUE)","v":{"$error":"#N/A"}},{"$f":"Constraints!P183","v":3.2}]
[null,null,{"$f":"HLOOKUP($I$10,Constraints!$Q$176:AD213,A395,TRUE)","v":{"$error":"#N/A"}},{"$f":"Constraints!P182","v":3}]
[null,null,{"$f":"HLOOKUP($I$10,Constraints!$Q$176:AD214,A396,TRUE)","v":{"$error":"#N/A"}},{"$f":"Constraints!P181","v":2.8}]
[null,null,{"$f":"HLOOKUP($I$10,Constraints!$Q$176:AD215,A397,TRUE)","v":{"$error":"#N/A"}},{"$f":"Constraints!P180","v":2.6}]
[null,null,{"$f":"HLOOKUP($I$10,Constraints!$Q$176:AD216,A398,TRUE)","v":{"$error":"#N/A"}},{"$f":"Constraints!P179","v":2.4}]
[null,null,{"$f":"HLOOKUP($I$10,Constraints!$Q$176:AD217,A399,TRUE)","v":{"$error":"#N/A"}},{"$f":"Constraints!P178","v":2.2000000000000002}]
[1,null,{"$f":"HLOOKUP($I$10,Constraints!$Q$176:AD218,A400,TRUE)","v":{"$error":"#N/A"}},{"$f":"Constraints!P177","v":2}]
[32]
[31]
[30]
[29,null,null,{"$f":"Constraints!P201","v":"Emax=8%"}]
[28]
[27,null,{"$f":"HLOOKUP($I$10,Constraints!$Q$203:AD234,A406,TRUE)","v":{"$error":"#N/A"}},{"$f":"Constraints!P203","v":"super"}]
[26,null,{"$f":"HLOOKUP($I$10,Constraints!$Q$203:AD235,A407,TRUE)","v":{"$error":"#N/A"}},{"$f":"INDEX(Constraints!$P$203:$P$234,A407,)","v":8}]
[25,null,{"$f":"HLOOKUP($I$10,Constraints!$Q$203:AD236,A408,TRUE)","v":{"$error":"#N/A"}},{"$f":"INDEX(Constraints!$P$203:$P$234,A408,)","v":7.8}]
[24,null,{"$f":"HLOOKUP($I$10,Constraints!$Q$203:AD237,A409,TRUE)","v":{"$error":"#N/A"}},{"$f":"INDEX(Constraints!$P$203:$P$234,A409,)","v":7.6}]
[23,null,{"$f":"HLOOKUP($I$10,Constraints!$Q$203:AD238,A410,TRUE)","v":{"$error":"#N/A"}},{"$f":"INDEX(Constraints!$P$203:$P$234,A410,)","v":7.4}]
[22,null,{"$f":"HLOOKUP($I$10,Constraints!$Q$203:AD239,A411,TRUE)","v":{"$error":"#N/A"}},{"$f":"INDEX(Constraints!$P$203:$P$234,A411,)","v":7.2}]
[21,null,{"$f":"HLOOKUP($I$10,Constraints!$Q$203:AD240,A412,TRUE)","v":{"$error":"#N/A"}},{"$f":"INDEX(Constraints!$P$203:$P$234,A412,)","v":7}]
[20,null,{"$f":"HLOOKUP($I$10,Constraints!$Q$203:AD241,A413,TRUE)","v":{"$error":"#N/A"}},{"$f":"INDEX(Constraints!$P$203:$P$234,A413,)","v":6.8}]
[19,null,{"$f":"HLOOKUP($I$10,Constraints!$Q$203:AD242,A414,TRUE)","v":{"$error":"#N/A"}},{"$f":"INDEX(Constraints!$P$203:$P$234,A414,)","v":6.6}]
[18,null,{"$f":"HLOOKUP($I$10,Constraints!$Q$203:AD243,A415,TRUE)","v":{"$error":"#N/A"}},{"$f":"INDEX(Constraints!$P$203:$P$234,A415,)","v":6.4}]
[17,null,{"$f":"HLOOKUP($I$10,Constraints!$Q$203:AD244,A416,TRUE)","v":{"$error":"#N/A"}},{"$f":"INDEX(Constraints!$P$203:$P$234,A416,)","v":6.2}]
[16,null,{"$f":"HLOOKUP($I$10,Constraints!$Q$203:AD245,A417,TRUE)","v":{"$error":"#N/A"}},{"$f":"INDEX(Constraints!$P$203:$P$234,A417,)","v":6}]
[15,null,{"$f":"HLOOKUP($I$10,Constraints!$Q$203:AD246,A418,TRUE)","v":{"$error":"#N/A"}},{"$f":"INDEX(Constraints!$P$203:$P$234,A418,)","v":5.8}]
[14,null,{"$f":"HLOOKUP($I$10,Constraints!$Q$203:AD247,A419,TRUE)","v":{"$error":"#N/A"}},{"$f":"INDEX(Constraints!$P$203:$P$234,A419,)","v":5.6}]
[13,null,{"$f":"HLOOKUP($I$10,Constraints!$Q$203:AD248,A420,TRUE)","v":{"$error":"#N/A"}},{"$f":"INDEX(Constraints!$P$203:$P$234,A420,)","v":5.4}]
[12,null,{"$f":"HLOOKUP($I$10,Constraints!$Q$203:AD249,A421,TRUE)","v":{"$error":"#N/A"}},{"$f":"INDEX(Constraints!$P$203:$P$234,A421,)","v":5.2}]
[11,null,{"$f":"HLOOKUP($I$10,Constraints!$Q$203:AD250,A422,TRUE)","v":{"$error":"#N/A"}},{"$f":"INDEX(Constraints!$P$203:$P$234,A422,)","v":5}]
[10,null,{"$f":"HLOOKUP($I$10,Constraints!$Q$203:AD251,A423,TRUE)","v":{"$error":"#N/A"}},{"$f":"INDEX(Constraints!$P$203:$P$234,A423,)","v":4.8}]
[9,null,{"$f":"HLOOKUP($I$10,Constraints!$Q$203:AD252,A424,TRUE)","v":{"$error":"#N/A"}},{"$f":"INDEX(Constraints!$P$203:$P$234,A424,)","v":4.5999999999999996}]
[8,null,{"$f":"HLOOKUP($I$10,Constraints!$Q$203:AD253,A425,TRUE)","v":{"$error":"#N/A"}},{"$f":"INDEX(Constraints!$P$203:$P$234,A425,)","v":4.4000000000000004}]
[7,null,{"$f":"HLOOKUP($I$10,Constraints!$Q$203:AD254,A426,TRUE)","v":{"$error":"#N/A"}},{"$f":"INDEX(Constraints!$P$203:$P$234,A426,)","v":4.2}]
[6,null,{"$f":"HLOOKUP($I$10,Constraints!$Q$203:AD255,A427,TRUE)","v":{"$error":"#N/A"}},{"$f":"INDEX(Constraints!$P$203:$P$234,A427,)","v":4}]
[5,null,{"$f":"HLOOKUP($I$10,Constraints!$Q$203:AD256,A428,TRUE)","v":{"$error":"#N/A"}},{"$f":"INDEX(Constraints!$P$203:$P$234,A428,)","v":3.8}]
[4,null,{"$f":"HLOOKUP($I$10,Constraints!$Q$203:AD257,A429,TRUE)","v":{"$error":"#N/A"}},{"$f":"INDEX(Constraints!$P$203:$P$234,A429,)","v":3.6}]
[3,null,{"$f":"HLOOKUP($I$10,Constraints!$Q$203:AD258,A430,TRUE)","v":{"$error":"#N/A"}},{"$f":"INDEX(Constraints!$P$203:$P$234,A430,)","v":3.4}]
[2,null,{"$f":"HLOOKUP($I$10,Constraints!$Q$203:AD259,A431,TRUE)","v":{"$error":"#N/A"}},{"$f":"INDEX(Constraints!$P$203:$P$234,A431,)","v":3.2}]
[null,null,{"$f":"HLOOKUP($I$10,Constraints!$Q$203:AD260,A432,TRUE)","v":{"$error":"#N/A"}},{"$f":"INDEX(Constraints!$P$203:$P$234,A432,)","v":3}]
[null,null,{"$f":"HLOOKUP($I$10,Constraints!$Q$203:AD261,A433,TRUE)","v":{"$error":"#N/A"}},{"$f":"INDEX(Constraints!$P$203:$P$234,A433,)","v":2.8}]
[null,null,{"$f":"HLOOKUP($I$10,Constraints!$Q$203:AD262,A434,TRUE)","v":{"$error":"#N/A"}},{"$f":"INDEX(Constraints!$P$203:$P$234,A434,)","v":2.6}]
[null,null,{"$f":"HLOOKUP($I$10,Constraints!$Q$203:AD263,A435,TRUE)","v":{"$error":"#N/A"}},{"$f":"INDEX(Constraints!$P$203:$P$234,A435,)","v":2.4}]
[null,null,{"$f":"HLOOKUP($I$10,Constraints!$Q$203:AD264,A436,TRUE)","v":{"$error":"#N/A"}},{"$f":"INDEX(Constraints!$P$203:$P$234,A436,)","v":2.2000000000000002}]
[null,null,{"$f":"HLOOKUP($I$10,Constraints!$Q$203:AD265,A437,TRUE)","v":{"$error":"#N/A"}},{"$f":"INDEX(Constraints!$P$203:$P$234,A437,)","v":2}]

{"sheet":"Configuration 12","index":22,"n_rows":443,"n_cols":113,"rows_kept":443,"cut":false,"hidden":false,"merged":[[87,1,87,2],[88,1,88,2],[89,1,89,2],[97,10,97,12],[69,16,69,21],[69,22,69,23],[70,16,70,21],[70,22,70,23],[71,16,71,21],[71,22,71,23],[68,16,68,21],[68,22,68,23],[17,2,17,8],[18,2,18,8],[19,2,19,8],[20,5,20,7],[41,9,41,10],[46,2,47,2],[4,21,44,28],[48,12,48,19],[55,15,55,16],[55,18,55,19],[55,21,55,22],[67,16,67,23],[4,3,4,4],[9,3,9,4],[9,5,9,6],[10,3,10,4],[10,5,10,6],[8,3,8,4],[8,5,8,6],[12,2,15,4],[12,5,12,6],[13,5,13,6],[14,5,14,6],[11,5,11,6],[1,6,2,7],[1,8,2,8],[1,21,1,37],[2,1,2,4],[2,21,3,28],[2,30,3,37],[3,1,3,4],[3,6,4,7],[3,8,4,8],[4,1,4,2],[4,30,44,37],[5,1,5,2],[5,3,5,4],[6,1,6,7],[7,1,7,4],[7,7,7,8]]}
[]
[null,null,null,null,null,null,"Preferred Schematic View to Display",null,"Standard",null,null,null,null,null,null,null,null,null,null,null,null,"NOTES: "]
[null,"CHARACTERISTICS TO CONSIDER FOR ANALYSIS",null,null,null,null,null,null,null,null,null,null,null,null,null,null,null,null,null,null,null,"ELEMENTS INCREASING SAFETY",null,null,null,null,null,null,null,null,"COMMENTS ON PRIMARY CONSTRAINTS"]
[null,"INPUT INSTRUCTIONS",null,null,null,null,"Relative to",null,"Existing"]
[null,"Blue Boxes -- Select from pulldown options",null,"Select from Pulldown"]
[null,"Yellow Boxes -- Type input information into box",null,"Type Input Value"]
[null," Rural Multi-Lane Road Segment -- Safety Score Input",null,null,null,null,null,null,null,null,null,null,null,null,null,null,null,null,null,null,null,null,null,null,null,null,null,null,null,null,null,null,null,null,null,null,null,null,null,null,null,null,null,null,null,null,null,null,null,null,null,null,null,null,null,null,null,null,null,null,null,null,null,null,null,null,null,null,null,null,null,null,null,null,null,null,null,null,null,null,null,null,null,"Unadjusted Marginal Safety"]
[null,"General Information:",null,null,null,"General Site Features",null,{"$f":" I315 & \" Missing Features and Curves\"","v":"9 Missing Features and Curves"},null,null,null,null,null,null,null,null,null,null,null,null,null,null,null,null,null,null,null,null,null,null,null,null,null,null,null,null,null,null,null,null,null,null,null,null,null,null,null,null,null,null,null,null,null,null,null,null,null,null,null,null,null,null,null,null,null,null,null,null,null,null,null,null,null,null,null,null,null,null,null,null,null,null,null,{"$f":"I2&\" relative to \" &I4","v":"Standard relative to Existing"}]
[null,null,"Analyst:",{"$f":"+'Start Here'!H7","v":0},null,"Location "]
[null,null,"Agency or Company:",{"$f":"+'Start Here'!H8","v":0},null,"Design Speed (mph)"]
[null,null,"Date:",{"$f":"+'Start Here'!H9","v":"00:00:00"},null,"Posted Speed (mph)"]
[null,null,"Description:",null,null,"E max (%)"]
[null,null,"Input additional site information here",null,null,"    Design Year AADT (vehicles per day)"]
[null,null,null,null,null,"    Dist. from Centerline to Left   ROW (feet)"]
[null,null,null,null,null,"    Dist. from Centerline to Right ROW (feet)"]
[]
[null,"Warning:"]
[null,null,{"$f":"+IF(+I11>I10,\"Posted speed exceeds design speed. Optimal safety will only be achieved if design speed exceeds posted speed. The Safety Assessment Score is based on the higher of the two speed values.\",\"No speed warnings identified\")","v":"No speed warnings identified"}]
[null,null,{"$f":"IF(OR(F24=INDEX(MedConf_Header,1,3),+G24=INDEX(MedConf_Header,1,3)), \"Multilane undivided facilities are known to have substantially more collisions than multilane facilities with medians. In new construction a median or TWLTL should be considered.\",\" \")","v":" "},null,null,null,null,null,null,null,null,null,null,null,null,null,null,null,null,null,null,null,null,null,null,null,null,null,null,null,null,null,null,null,null,null,null,null,null,null,null,null,null,null,null,null,null,null,null,null,null,null,null,null,null,null,null,null,null,null,null,null,null,null,null,null,null,null,null,null,null,null,null,null,null,null,null,null,null,null,null,null,null,null,null,null,null,null,null,null,null,null,null,null,null,null,null,null,null,null,null,null,null,null,null,{"$f":"COUNTIF(DB23:DB46,DB20)","v":1}]
[null,null,{"$f":"IF(I13=\"40,001 < AADT < 60,000\", \"Multi-lane Road Should be Divided Due to High AADT Value\",\"\")","v":""},null,null,null,null,null,null,null,null,null,null,null,null,null,null,null,null,null,null,null,null,null,null,null,null,null,null,null,null,null,null,null,null,null,null,null,null,null,null,null,null,null,null,null,null,null,null,null,null,null,null,null,null,null,null,null,null,null,null,null,null,null,null,null,null,null,null,null,null,null,null,null,null,null,null,null,null,null,null,null,null,null,null,null,null,null,null,null,null,null,null,null,null,null,null,null,null,null,null,null,null,null,null,{"$f":"VLOOKUP(0,CZ23:DB46,3,)","v":10.01}]
[null,null,null,"Fill all elements",null,"To enter notes, use boxes to the right of the vortex ",null,null,null,null," "]
[null,{"$f":"+Construction!$I$2&\"  Total Available Points\"","v":"40  Total Available Points"},null,{"$f":" D249 & \" Missing Elements\"","v":"19 Missing Elements"},null,{"$f":" F249 & \" Missing Elements\"","v":"19 Missing Elements"},{"$f":" G249 & \" Missing Elements\"","v":"19 Missing Elements"},null,null,null,null,null,null,null,null,null,null,null,null,null,null,null,null,null,null,null,null,null,null,null,null,null,null,null,null,null,null,null,null,null,null,null,null,null,null,null,null,null,null,null,null,null,null,null,null,null,null,null,null,null,null,null,null,null,null,null,null,null,null,null,null,null,null,null,null,null,null,null,null,null,null,null,null,null,null,null,null,null,null,null,null,null,null,null,null,null,null,null,null,null,null,"Ranked element","CRF","abs","Re-rank","Rank","Ranked CRF","Element","New Element","crf.abs","rank","Sorted Element","Sorted CRF"]
[null,"Geometric Design Elements",null,"Existing","Standard (Based on Multi-lane Divided)","Design 1","Design 2",{"$f":"\"Marginal Safety for \"&$I$2&\" (compared to \" & $I$4 & \")\"","v":"Marginal Safety for Standard (compared to Existing)"},"Optimal (Based on Multi-lane Divided)",null,null,null,null,null,null,null,null,null,null,null,null,null,null,null,null,null,null,null,null,null,null,null,null,null,null,null,null,null,null,null,null,null,null,null,null,null,null,null,null,null,null,null,null,null,null,null,null,null,null,null,null,null,null,null,null,null,null,null,null,null,null,null,null,null,null,null,null,null,null,null,null,null,null,null,null,null,null,null,null,null,null,null,null,null,null,null,null,null,null,null,null,{"$f":"IF(CY23=0,\"\",DB23&\". \"&DD23)","v":""},{"$f":"H24","v":0},{"$f":"ABS(CY23)","v":0},{"$f":"_xlfn.RANK.EQ(DB23,$DB$23:$DB$46,1)","v":10},{"$f":"_xlfn.RANK.EQ(CZ23,$CZ$23:$CZ$46)+DG23/100","v":10.01},{"$f":"CY23","v":0},{"$f":"IF(ROUND(DF23,2)=0,\"\",C24)","v":""},{"$f":"DD23","v":""},{"$f":"CZ23","v":0},1,{"$f":"IFERROR(IF(IFERROR(VLOOKUP(DG23,$DA$23:$DF$46,4,)&\", \"&CY23=0,\"\"),\"\",IFERROR(VLOOKUP(DG23,$DA$23:$DE$46,4,),\"\")),\"\")","v":"Pavement Friction (skid number) ***"},{"$f":"IFERROR(IF(IFERROR(VLOOKUP(DG23,$DA$23:$DF$46,3,)&\", \"&CY23=0,\"\"),\"\",IFERROR(VLOOKUP(DG23,$DA$23:$DE$46,3,),\"\")),\"\")","v":0.28430956017940245}]
[null,null,"Configuration of Multilane Roadway",null,"Divided - Unsurfaced Median",null,null,null,"Divided - Unsurfaced Median",null,null,null,null,null,null,null,null,null,null,null,null,null,null,null,null,null,null,null,null,null,null,null,null,null,null,null,null,null,null,null,null,null,null,null,null,null,null,null,null,null,null,null,null,null,null,null,null,null,null,null,null,null,null,null,null,null,null,null,null,null,null,null,null,null,null,null,null,null,null,null,null,null,null,null,null,null,null,null,null,null,null,null,null,null,null,null,null,null,null,null,null,"5.02. Median Configuration (Width or Type)",{"$f":"H25","v":8.9999999999999969E-2},8.9999999999999969E-2,{"$f":"_xlfn.RANK.EQ(DB24,$DB$23:$DB$46,1)","v":5},{"$f":"_xlfn.RANK.EQ(CZ24,$CZ$23:$CZ$46)+DG24/100","v":5.0199999999999996},{"$f":"CY24","v":8.9999999999999969E-2},{"$f":"IF(ROUND(DF24,2)=0,\"\",C25)","v":"Median Configuration (Width or Type)"},{"$f":"DD24","v":"Median Configuration (Width or Type)"},8.9999999999999969E-2,2,{"$f":"IFERROR(IF(IFERROR(VLOOKUP(DG24,$DA$23:$DF$46,4,)&\", \"&CY24=0,\"\"),\"\",IFERROR(VLOOKUP(DG24,$DA$23:$DE$46,4,),\"\")),\"\")","v":"Driveway Density (driveways per mile)"},{"$f":"IFERROR(IF(IFERROR(VLOOKUP(DG24,$DA$23:$DF$46,3,)&\", \"&CY24=0,\"\"),\"\",IFERROR(VLOOKUP(DG24,$DA$23:$DE$46,3,),\"\")),\"\")","v":-0.22388114201141129}]
[null,null,"Median Configuration (Width or Type)",null,30,null,null,{"$f":"M103","v":8.9999999999999969E-2},100,null,null,null,null,null,null,null,null,null,null,null,null,null,null,null,null,null,null,null,null,null,null,null,null,null,null,null,null,null,null,null,null,null,null,null,null,null,null,null,null,null,null,null,null,null,null,null,null,null,null,null,null,null,null,null,null,null,null,null,null,null,null,null,null,null,null,null,null,null,null,null,null,null,null,null,null,null,null,null,null,null,null,null,null,null,null,null,null,null,null,null,null,"",{"$f":"H27","v":0},0,11,10.029999999999999,{"$f":"CY25","v":0},{"$f":"IF(ROUND(DF25,2)=0,\"\",C27)","v":""},{"$f":"DD25","v":""},0,3,{"$f":"IFERROR(IF(IFERROR(VLOOKUP(DG25,$DA$23:$DF$46,4,)&\", \"&CY25=0,\"\"),\"\",IFERROR(VLOOKUP(DG25,$DA$23:$DE$46,4,),\"\")),\"\")","v":"Average Outside Shoulder Width (feet)"},{"$f":"IFERROR(IF(IFERROR(VLOOKUP(DG25,$DA$23:$DF$46,3,)&\", \"&CY25=0,\"\"),\"\",IFERROR(VLOOKUP(DG25,$DA$23:$DE$46,3,),\"\")),\"\")","v":0.18061674008810569}]
[null,null,null,null,null,null,null,null,null,null,null,null,null,null,null,null,null,null,null,null,null,null,null,null,null,null,null,null,null,null,null,null,null,null,null,null,null,null,null,null,null,null,null,null,null,null,null,null,null,null,null,null,null,null,null,null,null,null,null,null,null,null,null,null,null,null,null,null,null,null,null,null,null,null,null,null,null,null,null,null,null,null,null,null,null,null,null,null,null,null,null,null,null,null,null,null,null,null,null,null,null,null,null,null,null,null,null,null,null,null,4,{"$f":"IFERROR(IF(IFERROR(VLOOKUP(DG26,$DA$23:$DF$46,4,)&\", \"&CY26=0,\"\"),\"\",IFERROR(VLOOKUP(DG26,$DA$23:$DE$46,4,),\"\")),\"\")","v":"Roadside Sideslope (Foreslope)"},{"$f":"IFERROR(IF(IFERROR(VLOOKUP(DG26,$DA$23:$DF$46,3,)&\", \"&CY26=0,\"\"),\"\",IFERROR(VLOOKUP(DG26,$DA$23:$DE$46,3,),\"\")),\"\")","v":0.15697622474810147}]
[null,null,"Lane Width (feet)",null,12,null,null,{"$f":"M104","v":0},12,null,null,null,null,null,null,null,null,null,null,null,null,null,null,null,null,null,null,null,null,null,null,null,null,null,null,null,null,null,null,null,null,null,null,null,null,null,null,null,null,null,null,null,null,null,null,null,null,null,null,null,null,null,null,null,null,null,null,null,null,null,null,null,null,null,null,null,null,null,null,null,null,null,null,null,null,null,null,null,null,null,null,null,null,null,null,null,null,null,null,null,null,null,null,null,null,null,null,null,null,null,5,"Median Configuration (Width or Type)",8.9999999999999969E-2]
[null,null,"Average Outside Shoulder Width (feet)",null,8,null,null,{"$f":"M105","v":0.18061674008810569},10,null,null,null,null,null,null,null,null,null,null,null,null,null,null,null,null,null,null,null,null,null,null,null,null,null,null,null,null,null,null,null,null,null,null,null,null,null,null,null,null,null,null,null,null,null,null,null,null,null,null,null,null,null,null,null,null,null,null,null,null,null,null,null,null,null,null,null,null,null,null,null,null,null,null,null,null,null,null,null,null,null,null,null,null,null,null,null,null,null,null,null,null,{"$f":"IF(CY28=0,\"\",DB28&\". \"&DD28)","v":"3.06. Average Outside Shoulder Width (feet)"},{"$f":"H28","v":0.18061674008810569},{"$f":"ABS(CY28)","v":0.18061674008810569},3,3.06,{"$f":"CY28","v":0.18061674008810569},{"$f":"IF(ROUND(DF28,2)=0,\"\",C28)","v":"Average Outside Shoulder Width (feet)"},{"$f":"DD28","v":"Average Outside Shoulder Width (feet)"},{"$f":"CZ28","v":0.18061674008810569},6,"Roadside Lateral Clearance to Obstruction (ft)",6.4777606999867676E-2]
[null,null,"Average Inside Shoulder Width (feet)",null,4,null,null,{"$f":"M106","v":0},10,null,null,null,null,null,null,null,null,null,null,null,null,null,null,null,null,null,null,null,null,null,null,null,null,null,null,null,null,null,null,null,null,null,null,null,null,null,null,null,null,null,null,null,null,null,null,null,null,null,null,null,null,null,null,null,null,null,null,null,null,null,null,null,null,null,null,null,null,null,null,null,null,null,null,null,null,null,null,null,null,null,null,null,null,null,null,null,null,null,null,null,null,{"$f":"IF(CY29=0,\"\",DB29&\". \"&DD29)","v":""},{"$f":"H33","v":0},{"$f":"ABS(CY29)","v":0},12,10.07,0,{"$f":"IF(ROUND(DF29,2)=0,\"\",\"Hz and Vt Alignment\")","v":""},"",{"$f":"CZ29","v":0},7,"Safety Edge",-2.3424031600265627E-2]
["",null,"Number of Lanes per Direction of Travel",null,2,null,null,null,2,null,null,null,null,null,null,null,null,null,null,null,null,null,null,null,null,null,null,null,null,null,null,null,null,null,null,null,null,null,null,null,null,null,null,null,null,null,null,null,null,null,null,null,null,null,null,null,null,null,null,null,null,null,null,null,null,null,null,null,null,null,null,null,null,null,null,null,null,null,null,null,null,null,null,null,null,null,null,null,null,null,null,null,null,null,null,null,null,null,null,null,null,{"$f":"IF(CY30=0,\"\",DB30&\". \"&DD30)","v":""},{"$f":"H29","v":0},{"$f":"ABS(CY30)","v":0},13,10.08,0,{"$f":"IF(ROUND(DF30,2)=0,\"\",C29)","v":""},"",{"$f":"CZ30","v":0},8,"Shoulder Rumble Strips",2.2875008800570917E-2]
[null,null,"Horizontal Curve Present?","--","--","--","--",null,"--",null,null,null,null,null,null,null,null,null,null,null,null,null,null,null,null,null,null,null,null,null,null,null,null,null,null,null,null,null,null,null,null,null,null,null,null,null,null,null,null,null,null,null,null,null,null,null,null,null,null,null,null,null,null,null,null,null,null,null,null,null,null,null,null,null,null,null,null,null,null,null,null,null,null,null,null,null,null,null,null,null,null,null,null,null,null,null,null,null,null,null,null,{"$f":"IF(CY31=0,\"\",DB31&\". \"&DD31)","v":""},{"$f":"H47","v":0},{"$f":"ABS(CY31)","v":0},14,10.09,0,{"$f":"IF(ROUND(DF31,2)=0,\"\",C47)","v":""},"",{"$f":"CZ31","v":0},9,"Lighting",-1.7096579124742384E-2]
[null,null,"Horizontal Curve Data for Controlling Element:","--","--","--","--",null,"--",null,null,null,null,null,null,null,null,null,null,null,null,null,null,null,null,null,null,null,null,null,null,null,null,null,null,null,null,null,null,null,null,null,null,null,null,null,null,null,null,null,null,null,null,null,null,null,null,null,null,null,null,null,null,null,null,null,null,null,null,null,null,null,null,null,null,null,null,null,null,null,null,null,null,null,null,null,null,null,null,null,null,null,null,null,null,null,null,null,null,null,null,"",{"$f":"H48","v":0},0,15,10.1,0,{"$f":"IF(ROUND(DF32,2)=0,\"\",C48)","v":""},"",0,10,"",0]
[null,null,"  Radius (feet)",null,{"$f":"IF(MAX($I$10,$I$11)<45,590,IF($I$12=6,VLOOKUP(MAX($I$10,$I$11),Construction!$B$27:$D$34,2,TRUE),VLOOKUP(MAX($I$10,$I$11),Construction!$G$27:$I$34,2,TRUE)))","v":590},null,null,{"$f":"M144","v":0},{"$f":"IF(MAX($I$10,$I$11)<45,590,IF($I$12=6,VLOOKUP(MAX($I$10,$I$11),Construction!$B$43:$C$50,2,TRUE),VLOOKUP(MAX($I$10,$I$11),Construction!$G$43:$H$50,2,TRUE)))","v":590},null,null,null,null,null,null,null,null,null,null,null,null,null,null,null,null,null,null,null,null,null,null,null,null,null,null,null,null,null,null,null,null,null,null,null,null,null,null,null,null,null,null,null,null,null,null,null,null,null,null,null,null,null,null,null,null,null,null,null,null,null,null,null,null,null,null,null,null,null,null,null,null,null,null,null,null,null,null,null,null,null,null,null,null,null,null,null,null,null,null,null,null,"",{"$f":"H56","v":0},0,16,10.11,0,{"$f":"IF(ROUND(DF33,2)=0,\"\",C56)","v":""},"",0,11,"",0]
[null,null,"Length of Horizontal Curve (feet)",null,{"$f":"IF(D35=\"\", \"\", E33*E35/57.296)","v":""},null,null,null,{"$f":"I33*I35/57.296","v":3758.5520804244625},null,null,null,null,null,null,null,null,null,null,null,null,null,null,null,null,null,null,null,null,null,null,null,null,null,null,null,null,null,null,null,null,null,null,null,null,null,null,null,null,null,null,null,null,null,null,null,null,null,null,null,null,null,null,null,null,null,null,null,null,null,null,null,null,null,null,null,null,null,null,null,null,null,null,null,null,null,null,null,null,null,null,null,null,null,null,null,null,null,null,null,null,"",0,0,17,10.119999999999999,0,"","",0,12,"",0]
[null,null,"Calculated Deflection Angle ∆",{"$f":"IF(OR(ISBLANK(D33),ISBLANK(D34),$B$31=\"No\",ISBLANK($B$31)),\"\",ROUND(D34/D33*57.296,1))","v":""},{"$f":"IF(ISBLANK(D35), \"\",D35)","v":""},{"$f":"IF(OR(ISBLANK(F33),ISBLANK(F34),$B$31=\"No\",ISBLANK($B$31)),\"\",ROUND(F34/F33*57.296,1))","v":""},{"$f":"IF(OR(ISBLANK(G33),ISBLANK(G34),$B$31=\"No\",ISBLANK($B$31)),\"\",ROUND(G34/G33*57.296,1))","v":""},null,{"$f":"MIN(D35,IF(F37=INDEX(HCurveChange,1,0), F35, 365),IF(G37=INDEX(HCurveChange,1,0), G35, 365))","v":365},null,null,null,null,null,null,null,null,null,null,null,null,null,null,null,null,null,null,null,null,null,null,null,null,null,null,null,null,null,null,null,null,null,null,null,null,null,null,null,null,null,null,null,null,null,null,null,null,null,null,null,null,null,null,null,null,null,null,null,null,null,null,null,null,null,null,null,null,null,null,null,null,null,null,null,null,null,null,null,null,null,null,null,null,null,null,null,null,null,null,null,null,"",0,0,18,10.130000000000001,0,"","",0,13,"",0]
[null,null,null,null,null,"∆ has changed. \nAre you changing the ∆?","∆ has changed. \nAre you changing the ∆?",null,null,null,null,null,null,null,null,null,null,null,null,null,null,null,null,null,null,null,null,null,null,null,null,null,null,null,null,null,null,null,null,null,null,null,null,null,null,null,null,null,null,null,null,null,null,null,null,null,null,null,null,null,null,null,null,null,null,null,null,null,null,null,null,null,null,null,null,null,null,null,null,null,null,null,null,null,null,null,null,null,null,null,null,null,null,null,null,null,null,null,null,null,null,"",0,0,19,10.14,0,"","",0,14,"",0]
[null,null,null,null,null,null,null,null,null,null,null,null,null,null,null,null,null,null,null,null,null,null,null,null,null,null,null,null,null,null,null,null,null,null,null,null,null,null,null,null,null,null,null,null,null,null,null,null,null,null,null,null,null,null,null,null,null,null,null,null,null,null,null,null,null,null,null,null,null,null,null,null,null,null,null,null,null,null,null,null,null,null,null,null,null,null,null,null,null,null,null,null,null,null,null,null,null,null,null,null,null,"8.15. Shoulder Rumble Strips",2.2875008800570917E-2,2.2875008800570917E-2,8,8.15,2.2875008800570917E-2,"Shoulder Rumble Strips","Shoulder Rumble Strips",2.2875008800570917E-2,15,"",0]
[null,null,"Vertical Curve Present?","--","--","--","--",null,{"$f":"E38","v":"--"},null,null,null,null,null,null,null,null,null,null,null,null,null,null,null,null,null,null,null,null,null,null,null,null,null,null,null,null,null,null,null,null,null,null,null,null,null,null,null,null,null,null,null,null,null,null,null,null,null,null,null,null,null,null,null,null,null,null,null,null,null,null,null,null,null,null,null,null,null,null,null,null,null,null,null,null,null,null,null,null,null,null,null,null,null,null,null,null,null,null,null,null,"",0,0,20,10.16,0,"","",0,16,"",0]
[null,null,"Vertical Curve Data for Controlling Element:","--","--","--","--",null,"--",null,null,null,null,null,null,null,null,null,null,null,null,null,null,null,null,null,null,null,null,null,null,null,null,null,null,null,null,null,null,null,null,null,null,null,null,null,null,null,null,null,null,null,null,null,null,null,null,null,null,null,null,null,null,null,null,null,null,null,null,null,null,null,null,null,null,null,null,null,null,null,null,null,null,null,null,null,null,null,null,null,null,null,null,null,null,null,null,null,null,null,null,"2.17. Driveway Density (driveways per mile)",-0.22388114201141129,0.22388114201141129,2,2.17,-0.22388114201141129,{"$f":"IF(DF39=0,\"\",C62)","v":"Driveway Density (driveways per mile)"},"Driveway Density (driveways per mile)",0.22388114201141129,17,"",0]
[null,null,"  Approach (Entry) Grade, G1 (%)",null,{"$f":"IF(ISBLANK(D40),\"\", D40)","v":""},null,null,null,{"$f":"IF(B38=\"Yes\",I231,I241)","v":""},null,null,null,null,null,null,null,null,null,null,null,null,null,null,null,null,null,null,null,null,null,null,null,null,null,null,null,null,null,null,null,null,null,null,null,null,null,null,null,null,null,null,null,null,null,null,null,null,null,null,null,null,null,null,null,null,null,null,null,null,null,null,null,null,null,null,null,null,null,null,null,null,null,null,null,null,null,null,null,null,null,null,null,null,null,null,null,null,null,null,null,null,"9.18. Lighting",-1.7096579124742384E-2,1.7096579124742384E-2,9,9.18,-1.7096579124742384E-2,{"$f":"IF(DF40=0,\"\",C63)","v":"Lighting"},"Lighting",1.7096579124742384E-2,18,"",0]
[null,null,"  Departure (Exit) Grade, G2 (%)",null,{"$f":"IF(ISBLANK(D41),\"\", D41)","v":""},null,null,null,{"$f":"IF($B$38=\"Yes\",I232,\"\")","v":""},null,null,null,null,null,null,null,null,null,null,null,null,null,null,null,null,null,null,null,null,null,null,null,null,null,null,null,null,null,null,null,null,null,null,null,null,null,null,null,null,null,null,null,null,null,null,null,null,null,null,null,null,null,null,null,null,null,null,null,null,null,null,null,null,null,null,null,null,null,null,null,null,null,null,null,null,null,null,null,null,null,null,null,null,null,null,null,null,null,null,null,null,"1.19. Pavement Friction (skid number) ***",0.28430956017940245,0.28430956017940245,1,1.19,0.28430956017940245,{"$f":"IF(DF41=0,\"\",C64)","v":"Pavement Friction (skid number) ***"},"Pavement Friction (skid number) ***",0.28430956017940245,19,"",0]
[null,null,"  Length (feet)",null,{"$f":"IF(AND($B$38=\"Yes\", D43<>\"\"), ABS(E40-E41)*D43, \"\")","v":""},null,null,null,{"$f":"IF(AND($B$38=\"Yes\",I40<>\"\",I41<>\"\", NOT(ISBLANK($I$10)), NOT(ISBLANK($I$11))),ABS(I41-I40)*I43,\"\")","v":""},null,null,null,null,null,null,null,null,null,null,null,null,null,null,null,null,null,null,null,null,null,null,null,null,null,null,null,null,null,null,null,null,null,null,null,null,null,null,null,null,null,null,null,null,null,null,null,null,null,null,null,null,null,null,null,null,null,null,null,null,null,null,null,null,null,null,null,null,null,null,null,null,null,null,null,null,null,null,null,null,null,null,null,null,null,null,null,null,null,null,null,null,"4.2. Roadside Sideslope (Foreslope)",{"$f":"H75","v":0.15697622474810147},0.15697622474810147,4,4.2,0.15697622474810147,{"$f":"IF(DF42=0,\"\",C75)","v":"Roadside Sideslope (Foreslope)"},"Roadside Sideslope (Foreslope)",0.15697622474810147,20,"",0]
[null,null,"  Calculated Rate of Change, K (ft/ft)",{"$f":"IF(OR($B$38=\"No\",ISBLANK($B$38), ISBLANK(D40), ISBLANK(D41),ISBLANK(D42), D40=D41), \"\", ROUND(D42/(ABS(D41-D40)),1))","v":""},{"$f":"IF(AND($B$38=\"Yes\", NOT(ISBLANK($I$10)), NOT(ISBLANK($I$11)), D43<>\"\"), IF($E$46=\"Crest\",  VLOOKUP(MAX($I$10,$I$11),Construction!$B$159:$D$171,2,TRUE), VLOOKUP(MAX($I$10,$I$11),Construction!$B$159:$D$171,3,TRUE)), \"\")","v":""},{"$f":"IF(AND($B$38=\"Yes\", SUM(F267:F269)=0),ROUND(F42/(ABS(F41-F40)),1),\"\")","v":""},{"$f":"IF(AND($B$38=\"Yes\", SUM(G267:G269)=0),ROUND(G42/(ABS(G41-G40)),1),\"\")","v":""},null,{"$f":"IF(OR($B$38<>\"Yes\", ISBLANK($I$10), ISBLANK($I$11), $I$40=\"\", $I$41=\"\", $I$46=\"--\", ISBLANK($I$46)),\"\",IF(I$46=\"Crest\",VLOOKUP(MAX($I$10,$I$11),Construction!$B$177:$D$189,2,TRUE),VLOOKUP(MAX($I$10,$I$11),Construction!$B$177:$D$189,3,TRUE)))","v":""},null,null,null,null,null,null,null,null,null,null,null,null,null,null,null,null,null,null,null,null,null,null,null,null,null,null,null,null,null,null,null,null,null,null,null,null,null,null,null,null,null,null,null,null,null,null,null,null,null,null,null,null,null,null,null,null,null,null,null,null,null,null,null,null,null,null,null,null,null,null,null,null,null,null,null,null,null,null,null,null,null,null,null,null,null,null,null,null,null,null,null,null,"",{"$f":"H76","v":0},0,21,10.210000000000001,0,{"$f":"IF(DF43=0,\"\",C76)","v":""},"",0,21,"",0]
[null,null,null,null,null,"Are you changing the geometry?","Are you changing the geometry?",null,null,null,null,null,null,null,null,null,null,null,null,null,null,null,null,null,null,null,null,null,null,null,null,null,null,null,null,null,null,null,null,null,null,null,null,null,null,null,null,null,null,null,null,null,null,null,null,null,null,null,null,null,null,null,null,null,null,null,null,null,null,null,null,null,null,null,null,null,null,null,null,null,null,null,null,null,null,null,null,null,null,null,null,null,null,null,null,null,null,null,null,null,null,"7.22. Safety Edge",{"$f":"H77","v":-2.3424031600265627E-2},2.3424031600265627E-2,7,7.22,-2.3424031600265627E-2,{"$f":"IF(DF44=0,\"\",C77)","v":"Safety Edge"},"Safety Edge",2.3424031600265627E-2,22,"",0]
[null,null,null,null,null,null,null,null,null,null,null,null,null,null,null,null,null,null,null,null,null,null,null,null,null,null,null,null,null,null,null,null,null,null,null,null,null,null,null,null,null,null,null,null,null,null,null,null,null,null,null,null,null,null,null,null,null,null,null,null,null,null,null,null,null,null,null,null,null,null,null,null,null,null,null,null,null,null,null,null,null,null,null,null,null,null,null,null,null,null,null,null,null,null,null,null,null,null,null,null,null,"6.23. Roadside Lateral Clearance to Obstruction (ft)",{"$f":"H78","v":6.4777606999867676E-2},6.4777606999867676E-2,6,6.23,6.4777606999867676E-2,{"$f":"IF(DF45=0,\"\",C78)","v":"Roadside Lateral Clearance to Obstruction (ft)"},"Roadside Lateral Clearance to Obstruction (ft)",6.4777606999867676E-2,23,"",{"$f":"IFERROR(IF(IFERROR(VLOOKUP(DG45,$DA$23:$DF$46,3,)&\", \"&CY45=0,\"\"),\"\",IFERROR(VLOOKUP(DG45,$DA$23:$DE$46,3,),\"\")),\"\")","v":""}]
[null,null,"  Calculated Sag or Crest?",{"$f":"IF(AND($B$38=\"Yes\", SUM(D267:D269)=0),IF(D40>D41,\"Crest\",\"Sag\"),\"--\")","v":"--"},{"$f":"IF(AND($B$38=\"Yes\", SUM(D267:D269)=0),IF(E40>E41,\"Crest\",\"Sag\"),\"--\")","v":"--"},{"$f":"IF(AND($B$38=\"Yes\", SUM(F267:F269)=0),IF(F40>F41,\"Crest\",\"Sag\"),\"--\")","v":"--"},{"$f":"IF(AND($B$38=\"Yes\", SUM(G267:G269)=0),IF(G40>G41,\"Crest\",\"Sag\"),\"--\")","v":"--"},null,{"$f":"IF($B$38=\"Yes\",IF(I40>I41,\"Crest\",\"Sag\"),\"--\")","v":"--"},null,null,null,null,null,null,null,null,null,null,null,null,null,null,null,null,null,null,null,null,null,null,null,null,null,null,null,null,null,null,null,null,null,null,null,null,null,null,null,null,null,null,null,null,null,null,null,null,null,null,null,null,null,null,null,null,null,null,null,null,null,null,null,null,null,null,null,null,null,null,null,null,null,null,null,null,null,null,null,null,null,null,null,null,null,null,null,null,null,null,null,null,"",{"$f":"H79","v":0},0,22,10.24,0,{"$f":"IF(DF46=0,\"\",C79)","v":""},"",0,24,"",{"$f":"IFERROR(IF(IFERROR(VLOOKUP(DG46,$DA$23:$DF$46,3,)&\", \"&CY46=0,\"\"),\"\",IFERROR(VLOOKUP(DG46,$DA$23:$DE$46,3,),\"\")),\"\")","v":""}]
[]
[]
[null,null,"Geometric Design Element (Partial Score)",{"$f":"IF(OR(SUM(D251:D252,D254:D257,D260:D261,D267:D269)>0, ISERR(D129)),\"\",D129)","v":""},{"$f":"IF(OR(SUM(E251:E252,E254:E257,E260:E261,E267:E269)>0, ISERR(E129)),\"\",E129)","v":""},"","",null,{"$f":"IF(OR(SUM(I251:I252,I254:I257,I260:I261,I267:I269)>0, ISERR(I129)),\"\",I129)","v":""},null,null,null,"SCHEMATIC REPRESENTING INPUT DATA FOR ",null,null,null,null,null,null,null,{"$f":"IF($I$2=\"Existing\",\"EXISTING CONFIGURATION\",IF($I$2=\"Standard\",\"STANDARD OPTION\",IF($I$2=\"Design 1\",\"DESIGN 1 OPTION\",IF($I$2=\"Design 2\",\"DESIGN 2 OPTION\",\"OPTIMAL OPTION\"))))","v":"STANDARD OPTION"}]
[null,null,"Total Safety Score",{"$f":"IF(OR(D$249>0, $I$315>0, ISERROR(D$205+D$175+D$129)),\"\",D$205+D$175+D$129)","v":""},{"$f":"IF(OR(E$249>0, $I$315>0, ISERROR(E$205+E$175+E$129)),\"\",E$205+E$175+E$129)","v":""},{"$f":"IF(OR(F$249>0, $I$315>0, ISERROR(F$205+F$175+F$129)),\"\",F$205+F$175+F$129)","v":""},{"$f":"IF(OR(G$249>0, $I$315>0, ISERROR(G$205+G$175+G$129)),\"\",G$205+G$175+G$129)","v":""},null,{"$f":"IF(OR(I$249>0, $I$315>0, ISERROR(I$205+I$175+I$129)),\"\",I$205+I$175+I$129)","v":""}]
[null,null,null,null,null,null,null,null,null,null,null,"LT",null,null,null,null,null,null,null,null,null,null,null,null,null,null,"RT"]
[null,null,null,null,null,null,null,null,null,null,null,"R/W",null,null,null,null,null,null,{"$f":"+O54+W54","v":0},null,null,null,null,null,null,null,"R/W"]
[]
[null,{"$f":"+Construction!$I$3&\"  Total Available Points\"","v":"20  Total Available Points"},null,null,null,null,null,null,null,null,null,null,null,null,{"$f":"+$I$14","v":0},null,null,null,null,null,null,null,{"$f":"+$I$15","v":0}]
[null,"Traffic Elements",null,"Existing","Standard","Design 1","Design 2",{"$f":"H23","v":"Marginal Safety for Standard (compared to Existing)"},"Optimal"]
[null,null,"Advance Static Curve Warning Signs",null,"No",null,null,{"$f":"M149","v":0},"Yes",null,null,{"$f":"+O54-N56-P56","v":-32},null,{"$f":"IF(+$I$2=\"Existing\",D28,IF($I$2=\"Standard\",E28,IF($I$2=\"Design 1\",F28,IF($I$2=\"Design 2\",G28,I28))))","v":8},null,{"$f":"IF(+$I$2=\"Existing\",D27*D30,IF($I$2=\"Standard\",E27*E30,IF($I$2=\"Design 1\",F27*F30,IF($I$2=\"Design 2\",G27*G30,I27*I30))))","v":24},null,null,null,null,null,{"$f":"+P56","v":24},null,null,{"$f":"+N56","v":8},{"$f":"+W54-V56-Y56","v":-32}]
[null,null,"Chevron Signs on Horizontal Curves",null,"No",null,null,{"$f":"M150","v":0},"Yes"]
[null,null,"Post-Mounted Delineators",null,"No",null,null,{"$f":"M151","v":0},"Yes"]
[null,null,"Edgeline Pavement Markings or Profile Markings",null,"No",null,null,{"$f":"M152","v":0},"Yes"]
[null,null,"Shoulder Rumble Strips",null,"Yes",null,null,{"$f":"M154","v":2.2875008800570917E-2},"Yes"]
[null,null,"Centerline Rumble Strips",null,"No",null,null,{"$f":"M155","v":0},"Yes",null,null,null,null,null,null,null,null,null,"Tangent X-Section"]
[null,null,"Driveway Density (driveways per mile)",null,10,null,null,{"$f":"M156","v":-0.22388114201141129},0]
[null,null,"Lighting",null,"No",null,null,{"$f":"M157","v":-1.7096579124742384E-2},"Yes"]
[null,null,"Pavement Friction (skid number) ***",null,37,null,null,{"$f":"M158","v":0.28430956017940245},54]
[null,null,"Traffic Control Element (Partial Score):",{"$f":"IF(ISERROR(D175), \"\", D175)","v":12},{"$f":"IF(ISERROR(E175), \"\", E175)","v":14},"","",null,{"$f":"IF(ISERROR(I175), \"\", I175)","v":20}]
[null,null,"Total Safety Score",{"$f":"IF(OR(D$249>0, $I$315>0, ISERROR(D$205+D$175+D$129)),\"\",D$205+D$175+D$129)","v":""},{"$f":"IF(OR(E$249>0, $I$315>0, ISERROR(E$205+E$175+E$129)),\"\",E$205+E$175+E$129)","v":""},"","",null,{"$f":"IF(OR(I$249>0, $I$315>0, ISERROR(I$205+I$175+I$129)),\"\",I$205+I$175+I$129)","v":""}]
[null,null,null,null,null,null,null,null,null,null," "]
[null,null,"*** Pavement friction/skid numbers will not be subject to open records requests ***",null,null,null,null,null,null,null,null,null,null,null,null,null,{"$f":"IF($I$2=\"Existing\",\"SCORE SUMMARY FOR EXISTING CONFIGURATION\", IF($I$2=\"Standard\",\"SCORE SUMMARY FOR STANDARD OPTION\",IF($I$2=\"Design 1\",\"SCORE SUMMARY FOR DESIGN 1 OPTION\",IF($I$2=\"Design 2\",\"SCORE SUMMARY FOR DESIGN 2 OPTION\", \"SCORE SUMMARY FOR OPTIMAL OPTION\"))))","v":"SCORE SUMMARY FOR STANDARD OPTION"}]
[null,null,null,null,null,null,null,null,null,null,null,null,null,null,null,null,"GEOMETRIC DESIGN:",null,null,null,null,null,{"$f":"IF($I$2=\"Existing\",D49,IF($I$2=\"Standard\",E49,IF($I$2=\"Design 1\",F49,IF($I$2=\"Design 2\",G49,I49))))","v":""}]
[null,null,null,null,null,null,null,null,null,null,null,null,null,null,null,null,"TRAFFIC CONTROL:",null,null,null,null,null,{"$f":"IF($I$2=\"Existing\",D65,IF($I$2=\"Standard\",E65,IF($I$2=\"Design 1\",F65,IF($I$2=\"Design 2\",G65,I65))))","v":14}]
[null,null,null,null,null,null,null,null,null,null,null,null,null,null,null,null,"ROADSIDE:",null,null,null,null,null,{"$f":"IF($I$2=\"Existing\",D80,IF($I$2=\"Standard\",E80,IF($I$2=\"Design 1\",F80,IF($I$2=\"Design 2\",G80,I80))))","v":27}]
[null,null,null,null,null,null,null,null,null,null,null,null,null,null,null,null,"OVERALL SAFETY SCORE:",null,null,null,null,null,{"$f":"SUM(W69:X71)","v":41}]
[null,{"$f":"+Construction!$I$4&\"  Total Available Points\"","v":"40  Total Available Points"}]
[null,"Roadside  Elements",null,"Existing","Standard","Design 1","Design 2",{"$f":"H23","v":"Marginal Safety for Standard (compared to Existing)"},"Optimal"]
[null,null,"Roadside Sideslope (Foreslope)",null,"1V:4H",null,null,{"$f":"M184","v":0.15697622474810147},"1V:6H"]
[null,null,"Roadside Backslope",null,{"$f":"E75","v":"1V:4H"},null,null,{"$f":"M185","v":0},"1V:4H"]
[null,null,"Safety Edge",null,"No",null,null,-2.3424031600265627E-2,"Yes"]
[null,null,"Roadside Lateral Clearance to Obstruction (ft)",null,30,null,null,6.4777606999867676E-2,40]
[null,null,"Roadside Obstruction Type",null,"None",null,null,0,"None/Removed"]
[null,null,"Roadside Element (Partial Score):",{"$f":"IF(ISERR(D205),\"\",D205)","v":20},{"$f":"IF(ISERR(E205),\"\",E205)","v":27},20,20,null,{"$f":"IF(ISERR(I205),\"\",I205)","v":40},null,null,null,null,null,null,null,null,null,null,null,null,null,null," "]
[null,null,"Total Safety Score",{"$f":"IF(OR(D$249>0, $I$315>0, ISERROR(D$205+D$175+D$129)),\"\",D$205+D$175+D$129)","v":""},{"$f":"IF(OR(E$249>0, $I$315>0, ISERROR(E$205+E$175+E$129)),\"\",E$205+E$175+E$129)","v":""},"","",null,{"$f":"IF(OR(I$249>0, $I$315>0, ISERROR(I$205+I$175+I$129)),\"\",I$205+I$175+I$129)","v":""}]
[]
[]
[]
[]
[null,"ADDITIONAL SIDESLOPE INFORMATION"]
[null,null,"Distance to Slope Toe from Shoulder (ft)",null,{"$f":"D87","v":0},{"$f":"E87","v":0},0,null,{"$f":"G87","v":0}]
[null,"Minimum foreslope feasible within current ROW",null,null,{"$f":"IF(OR(ISBLANK($D$87), ISERROR(E209)), \"\", \"1V:\"&E209&\"H\")","v":""},{"$f":"IF(OR(ISBLANK($D$87), ISERROR(F209)), \"\", \"1V:\"&F209&\"H\")","v":""},{"$f":"IF(OR(ISBLANK($D$87), ISERROR(G209)), \"\", \"1V:\"&G209&\"H\")","v":""},null,{"$f":"IF(OR(ISBLANK($D$87), ISERROR(I209)), \"\", \"1V:\"&I209&\"H\")","v":""}]
[null,"Additional R/W needed on left side",null,null,{"$f":"IF(OR(ISBLANK($D$87), ISERROR(E213)),\"\", MAX(E213,E216))","v":""},{"$f":"IF(OR(ISBLANK($D$87), ISERROR(F213)), \"\", MAX(F213,F216))","v":""},{"$f":"IF(OR(ISBLANK($D$87), ISERROR(G213)),\"\", MAX(G213,G216))","v":""},null,{"$f":"IF(OR(ISBLANK($D$87), ISERROR(I213)),\"\", MAX(I213,I216))","v":""}]
[null,"Additional R/W needed on right side",null,null,{"$f":"IF(OR(ISBLANK($D$87), ISERROR(E214)), \"\", MAX(E214,E217))","v":""},{"$f":"IF(OR(ISBLANK($D$87), ISERROR(F214)), \"\", MAX(F214,F217))","v":""},{"$f":"IF(OR(ISBLANK($D$87), ISERROR(G214)),\"\", MAX(G214,G217))","v":""},null,{"$f":"IF(OR(ISBLANK($D$87), ISERROR(I214)),\"\", MAX(I214,I217))","v":""}]
[]
[]
[]
[]
[]
[]
[]
[null,null,null,{"$f":"GetCMF_MED(D24,D25,2000,D28)","v":1},null,null,null,null,null,{"$f":"1-I104/E104","v":0},"For Plot"]
[null,null,null,null,null,null,null,null,null,{"$f":"1-I105/E105","v":3.2258064516129115E-2},"relative to","Prefer"]
[null,null,null,{"$f":"MAX(SUM(D107:D111)-5,$I$100)","v":{"$error":"#VALUE!"}},{"$f":"MAX(SUM(E107:E111)-5,$I$100)","v":{"$error":"#VALUE!"}},{"$error":"#VALUE!"},{"$error":"#VALUE!"},null,{"$f":"SUM(I107:I111)-5","v":{"$error":"#VALUE!"}},{"$f":"1-I106/E106","v":0.14444080962898154},{"$f":"MATCH(K101,ModView,0)","v":1},{"$f":"MATCH(L101,ModView,0)","v":2}]
[null,"Geometric",null,null,null,null,null,null,null,{"$f":"1-I107/E107","v":{"$error":"#VALUE!"}},{"$f":"I4","v":"Existing"},{"$f":"I2","v":"Standard"},"%"]
[null,null,"Divided versus Undivided",1,1,1,1,null,1,null,{"$f":"INDEX($D102:$I102,K$100)","v":1},{"$f":"INDEX($D102:$I102,L$100)","v":1},{"$f":"IF(ISERROR(1-L102/K102), 0, 1-L102/K102)","v":0}]
[null,null,"Median Width",{"$f":"GetCMF_MED(D24,D25,$I$13,D28)","v":1},{"$f":"GetCMF_MED(E24,E25,$I$13,E28)","v":0.91},{"$f":"GetCMF_MED(F24,F25,$I$13,F28)","v":1},{"$f":"GetCMF_MED(G24,G25,$I$13,G28)","v":1},{"$f":"H25","v":8.9999999999999969E-2},{"$f":"GetCMF_MED(I24,I25,$I$13,I28)","v":0.66},null,{"$f":"INDEX($D103:$I103,K$100)","v":1},{"$f":"INDEX($D103:$I103,L$100)","v":0.91},{"$f":"IF(ISERROR(1-L103/K103), 0, 1-L103/K103)","v":8.9999999999999969E-2}]
[null,null,"LW CMF",{"$f":"IF(D24=INDEX(MedConf_Header,1,2),VLOOKUP(+D27,Construction!$N$30:$O$36,2),VLOOKUP(D27,Construction!$I$15:$J$21,2))","v":{"$error":"#N/A"}},{"$f":"IF(E24=INDEX(MedConf_Header,1,2),VLOOKUP(+E27,Construction!$N$30:$O$36,2),VLOOKUP(E27,Construction!$I$15:$J$21,2))","v":1},{"$f":"IF(F24=INDEX(MedConf_Header,1,2),VLOOKUP(+F27,Construction!$N$30:$O$36,2),VLOOKUP(F27,Construction!$I$15:$J$21,2))","v":{"$error":"#N/A"}},{"$f":"IF(G24=INDEX(MedConf_Header,1,2),VLOOKUP(+G27,Construction!$N$30:$O$36,2),VLOOKUP(G27,Construction!$I$15:$J$21,2))","v":{"$error":"#N/A"}},{"$f":"H27","v":0},{"$f":"IF(I24=INDEX(MedConf_Header,1,2),VLOOKUP(+I27,Construction!$N$30:$O$36,2),VLOOKUP(I27,Construction!$I$15:$J$21,2))","v":1},null,{"$f":"INDEX($D104:$I104,K$100)","v":{"$error":"#N/A"}},{"$f":"INDEX($D104:$I104,L$100)","v":1},0,null,0]
[null,null,"SW CMF",{"$f":"IF(D24=INDEX(MedConf_Header,1,2),VLOOKUP(D28,Construction!$C$11:D21,2),(VLOOKUP(D28,Construction!$O$43:$P$53,2)-1)*0.27+1)","v":1.135},{"$f":"IF(E24=INDEX(MedConf_Header,1,2),VLOOKUP(E28,Construction!$C$11:E21,2),(VLOOKUP(E28,Construction!$O$43:$P$53,2)-1)*0.27+1)","v":0.93},{"$f":"IF(F24=INDEX(MedConf_Header,1,2),VLOOKUP(F28,Construction!$C$11:F21,2),(VLOOKUP(F28,Construction!$O$43:$P$53,2)-1)*0.27+1)","v":1.135},{"$f":"IF(G24=INDEX(MedConf_Header,1,2),VLOOKUP(G28,Construction!$C$11:G21,2),(VLOOKUP(G28,Construction!$O$43:$P$53,2)-1)*0.27+1)","v":1.135},{"$f":"IF($I$2=\"Existing\",(1-D105/E105),(IF($I$2=\"Design 1\",(1-F105/E105),(IF($I$2=\"Design 2\",(1-G105/E105),(IF($I$2=\"Optimal\",(1-I105/E105),0)))))))","v":0},{"$f":"IF(I24=INDEX(MedConf_Header,1,2),VLOOKUP(I28,Construction!$C$11:I21,2),(VLOOKUP(I28,Construction!$O$43:$P$53,2)-1)*0.27+1)","v":0.9},null,{"$f":"INDEX($D105:$I105,K$100)","v":1.135},{"$f":"INDEX($D105:$I105,L$100)","v":0.93},0.18061674008810569,null,0.15503875968992242]
[null,null,"Inside Shoulder Width",{"$f":"IF(AND(D24=INDEX(MedConf_Header,1,2), NOT(ISBLANK(D29))), EXP(-0.026*(D29-4)), 1)","v":1},{"$f":"IF(AND(E24=INDEX(MedConf_Header,1,2), NOT(ISBLANK(E29))), EXP(-0.026*(E29-4)), 1)","v":1},{"$f":"IF(AND(F24=INDEX(MedConf_Header,1,2), NOT(ISBLANK(F29))), EXP(-0.026*(F29-4)), 1)","v":1},{"$f":"IF(AND(G24=INDEX(MedConf_Header,1,2), NOT(ISBLANK(G29))), EXP(-0.026*(G29-4)), 1)","v":1},0,{"$f":"IF(AND(I24=INDEX(MedConf_Header,1,2), NOT(ISBLANK(I29))), EXP(-0.026*(I29-4)), 1)","v":0.85555919037101846},null,{"$f":"INDEX($D106:$I106,K$100)","v":1},{"$f":"INDEX($D106:$I106,L$100)","v":1},0,null,0]
[null,null,"HC and Grade",{"$f":"D$138^D$131","v":1},{"$f":"E$138^E$131","v":1},1,1,0,{"$f":"I$138^I$131","v":{"$error":"#VALUE!"}},null,{"$f":"INDEX($D107:$I107,K$100)","v":1},{"$f":"INDEX($D107:$I107,L$100)","v":1},0,null,0]
[null,null,"HC and VC Crest type I",{"$f":"D$139^D$132","v":1},{"$f":"E$139^E$132","v":1},1,1,0,{"$f":"I$139^I$132","v":{"$error":"#VALUE!"}},null,{"$f":"INDEX($D108:$I108,K$100)","v":1},{"$f":"INDEX($D108:$I108,L$100)","v":1},0,null,0]
[null,null,"HC and VC Sag type I",{"$f":"D$140^D$133","v":1},{"$f":"E$140^E$133","v":1},1,1,0,{"$f":"I$140^I$133","v":{"$error":"#VALUE!"}},{"$f":"1-I115/E115","v":{"$error":"#VALUE!"}},{"$f":"INDEX($D109:$I109,K$100)","v":1},{"$f":"INDEX($D109:$I109,L$100)","v":1},0,null,0]
[null,null,"HC and VC Crest type II",{"$f":"D$141^D$134","v":1},{"$f":"E$141^E$134","v":1},1,1,0,{"$f":"I$141^I$134","v":{"$error":"#VALUE!"}},{"$f":"1-I116/E116","v":{"$error":"#VALUE!"}},{"$f":"INDEX($D110:$I110,K$100)","v":1},{"$f":"INDEX($D110:$I110,L$100)","v":1},0,null,0]
[null,null,"HC and VC Sag type II",{"$f":"D$142^D$135","v":1},{"$f":"E$142^E$135","v":1},1,1,0,{"$f":"I$142^I$135","v":{"$error":"#VALUE!"}},{"$f":"1-I117/E117","v":{"$error":"#VALUE!"}},{"$f":"INDEX($D111:$I111,K$100)","v":1},{"$f":"INDEX($D111:$I111,L$100)","v":1},0,null,0]
[null,null,"Add TWLTL",{"$f":"IF(D$47=\"No\",1,CMFs!$F$17)","v":0.71},{"$f":"IF(E$47=\"No\",1,CMFs!$F$17)","v":0.71},{"$f":"IF(F$47=\"No\",1,CMFs!$F$17)","v":0.71},{"$f":"IF(G$47=\"No\",1,CMFs!$F$17)","v":0.71},0,{"$f":"IF(I$47=\"No\",1,CMFs!$F$17)","v":0.71},{"$f":"1-I118/E118","v":{"$error":"#VALUE!"}},{"$f":"INDEX($D112:$I112,K$100)","v":0.71},{"$f":"INDEX($D112:$I112,L$100)","v":0.71},0,null,0]
[null,null,"Provide passing lane",{"$f":"IF(D$48=\"No\",1,CMFs!$F$21)","v":0.75},{"$f":"IF(E$48=\"No\",1,CMFs!$F$21)","v":0.75},{"$f":"IF(F$48=\"No\",1,CMFs!$F$21)","v":0.75},{"$f":"IF(G$48=\"No\",1,CMFs!$F$21)","v":0.75},0,{"$f":"IF(I$48=\"No\",1,CMFs!$F$21)","v":0.75},{"$f":"I119/E119","v":{"$error":"#VALUE!"}},{"$f":"INDEX($D113:$I113,K$100)","v":0.75},{"$f":"INDEX($D113:$I113,L$100)","v":0.75},0,null,0]
[]
[null,null,"COMBINED Calculated CMF",{"$f":"+D104*D105*D106*D107*D108*D109*D110*D111*D112*D113*D103*D102","v":{"$error":"#N/A"}},{"$f":"+E104*E105*E106*E107*E108*E109*E110*E111*E112*E113*E103*E102","v":0.45065475000000005},{"$error":"#N/A"},{"$error":"#N/A"},{"$f":"IF($I$2=\"Existing\",(D115),(IF($I$2=\"Design 1\",(F115),(IF($I$2=\"Design 2\",(G115),(IF($I$2=\"Optimal\",(I115),E115)))))))","v":0.45065475000000005},{"$f":"+I104*I105*I106*I107*I108*I109*I110*I111*I112*I113*I103*I102","v":{"$error":"#VALUE!"}},null,{"$f":"INDEX($D115:$I115,K$100)","v":{"$error":"#N/A"}},{"$f":"INDEX($D115:$I115,L$100)","v":0.45065475000000005},{"$f":"IF(ISERROR(1-L115/K115), 0, 1-L115/K115)","v":0},null,0]
[null,null,"Calculated Relative to Design Standards (Column E)",{"$f":"+D115/$E$115","v":{"$error":"#N/A"}},1,{"$error":"#N/A"},{"$error":"#N/A"},1,{"$error":"#VALUE!"},null,{"$f":"INDEX($D116:$I116,K$100)","v":{"$error":"#N/A"}},{"$f":"INDEX($D116:$I116,L$100)","v":1},0,null,0]
[null,null,"P(Crash)",{"$f":"+D116/(D116+1)","v":{"$error":"#N/A"}},0.5,{"$error":"#N/A"},{"$error":"#N/A"},0.5,{"$error":"#VALUE!"},null,{"$f":"INDEX($D117:$I117,K$100)","v":{"$error":"#N/A"}},{"$f":"INDEX($D117:$I117,L$100)","v":0.5},0,null,0]
[null,null,"Factor Change on S curve",{"$f":"+D117/$E$117","v":{"$error":"#N/A"}},1,{"$error":"#N/A"},{"$error":"#N/A"},1,{"$error":"#VALUE!"},null,{"$f":"INDEX($D118:$I118,K$100)","v":{"$error":"#N/A"}},{"$f":"INDEX($D118:$I118,L$100)","v":1},0,null,0]
[null,null,"Adjust to Scale of 100",{"$f":"+$I$118/D118*100","v":{"$error":"#VALUE!"}},{"$error":"#VALUE!"},{"$error":"#VALUE!"},{"$error":"#VALUE!"},{"$error":"#VALUE!"},{"$error":"#VALUE!"},null,{"$f":"INDEX($D119:$I119,K$100)","v":{"$error":"#VALUE!"}},{"$f":"INDEX($D119:$I119,L$100)","v":{"$error":"#VALUE!"}},0]
[null,null,"Unadjusted Combined Relative to Standard",{"$f":"+D115/$E$115","v":{"$error":"#N/A"}},1,{"$error":"#N/A"},{"$error":"#N/A"},1,{"$error":"#VALUE!"},{"$f":"I126/E126","v":{"$error":"#VALUE!"}},{"$f":"INDEX($D120:$I120,K$100)","v":{"$error":"#N/A"}},{"$f":"INDEX($D120:$I120,L$100)","v":1},0,null,0]
[]
[null,null,"Adjusted for PA Basis",{"$f":"+D115*(1+1)/(1+D115*1)","v":{"$error":"#N/A"}},0.62131220402373488,{"$error":"#N/A"},{"$error":"#N/A"},{"$f":"IF($I$2=\"Existing\",(D122),(IF($I$2=\"Design 1\",(F122),(IF($I$2=\"Design 2\",(G122),(IF($I$2=\"Optimal\",(I122),E122)))))))","v":0.62131220402373488},{"$error":"#VALUE!"},null,{"$f":"INDEX($D122:$I122,K$100)","v":{"$error":"#N/A"}},{"$f":"INDEX($D122:$I122,L$100)","v":0.62131220402373488},{"$f":"IF(ISERROR(1-L122/K122), 0, 1-L122/K122)","v":0},null,0]
[null,null,"Corrected by Odds Ratio",{"$f":"+D122/$E$122","v":{"$error":"#N/A"}},1,{"$error":"#N/A"},{"$error":"#N/A"},{"$f":"IF($I$2=\"Existing\",(D123),(IF($I$2=\"Design 1\",(F123),(IF($I$2=\"Design 2\",(G123),(IF($I$2=\"Optimal\",(I123),E123)))))))","v":1},{"$error":"#VALUE!"},{"$f":"I129/E129","v":{"$error":"#VALUE!"}},{"$f":"INDEX($D123:$I123,K$100)","v":{"$error":"#N/A"}},{"$f":"INDEX($D123:$I123,L$100)","v":1},0,null,0]
[null,null,"Pinned s",{"$f":"(1/D123)^$D127","v":{"$error":"#N/A"}},{"$f":"(1/E123)^$D127","v":{"$error":"#VALUE!"}},{"$error":"#N/A"},{"$f":"IF(ISERROR((1/G123)^$D127), 0, (1/G123)^$D127)","v":0},{"$error":"#VALUE!"},{"$error":"#VALUE!"},null,{"$f":"INDEX($D124:$I124,K$100)","v":{"$error":"#N/A"}},{"$f":"INDEX($D124:$I124,L$100)","v":{"$error":"#VALUE!"}},0,null,0]
[null,null,null,{"$f":"(D124+$F128-1)/(1+(D124+$F128-1))","v":{"$error":"#N/A"}},{"$f":"(E124+$F128-1)/(1+(E124+$F128-1))","v":{"$error":"#VALUE!"}},{"$error":"#N/A"},0.57142857142857151,{"$error":"#VALUE!"},{"$error":"#VALUE!"},null,{"$f":"INDEX($D125:$I125,K$100)","v":{"$error":"#N/A"}},{"$f":"INDEX($D125:$I125,L$100)","v":{"$error":"#VALUE!"}},0,null,0]
[null,null,"Score Odds Ratio with Optimal (old)",{"$f":"MIN(ROUND($I$123/D123*Construction!$I$2,0),$I126)","v":{"$error":"#VALUE!"}},{"$f":"MIN(ROUND($I$123/E123*Construction!$I$2,0),$I126)","v":{"$error":"#VALUE!"}},{"$f":"MIN(ROUND($I$123/F123*Construction!$I$2,0),$I126)","v":{"$error":"#VALUE!"}},{"$f":"MIN(ROUND($I$123/G123*Construction!$I$2,0),$I126)","v":{"$error":"#VALUE!"}},{"$f":"IF($I$2=\"Existing\",(D126),(IF($I$2=\"Design 1\",(F126),(IF($I$2=\"Design 2\",(G126),(IF($I$2=\"Optimal\",(I126),E126)))))))","v":{"$error":"#VALUE!"}},{"$f":"ROUND($I$123/I123*Construction!$I$2,0)","v":{"$error":"#VALUE!"}}]
[null,null,"Logistic1",{"$f":"LN((D128/(1-D128))/(0.5/0.5))/LN(IF($E123/I123=1,0.999,$E123/I123))","v":{"$error":"#VALUE!"}}]
[null,null,"Logistic Param",0.999,null,{"$f":"0.7/0.3","v":2.3333333333333335}]
[null,null,"Score ",{"$f":"MIN(ROUND(D125*Construction!$I$2,0),$I126)","v":{"$error":"#N/A"}},{"$f":"MIN(ROUND(E125*Construction!$I$2,0),$I126)","v":{"$error":"#VALUE!"}},{"$f":"MIN(ROUND(F125*Construction!$I$2,0),$I126)","v":{"$error":"#N/A"}},{"$f":"MIN(ROUND(G125*Construction!$I$2,0),$I126)","v":{"$error":"#VALUE!"}},{"$f":"MIN(ROUND(H125*Construction!$I$2,0),$I126)","v":{"$error":"#VALUE!"}},{"$f":"MIN(ROUND(I125*Construction!$I$2,0),$I126)","v":{"$error":"#VALUE!"}}]
[]
[null,null,"HC and Grade",{"$f":"IF($B$139,0,1)","v":1},{"$f":"IF($B$139,0,1)","v":1},1,1,{"$f":"IF($I$2=\"Existing\",(D131),(IF($I$2=\"Design 1\",(F131),(IF($I$2=\"Design 2\",(G131),(IF($I$2=\"Optimal\",(I131),E131)))))))","v":1},{"$f":"IF($B$139,0,1)","v":1}]
["HC?",null,"HC and VC Crest type I",{"$f":"IF(AND($B$139=1,SIGN(D$40)=1,ABS(D$40)<=ABS(D$40-D$41),D$46=\"Crest\"),1,0)","v":0},{"$f":"IF(AND($B$139=1,SIGN(IF(ISNUMBER(E$40),E$40,0))=1,\n  ABS(IF(ISNUMBER(E$40),E$40,0))<=ABS(IF(ISNUMBER(E$40),E$40,0)-IF(ISNUMBER(E$41),E$41,0)),E$46=\"Crest\"),\n  1,0)","v":0},{"$f":"IF(AND($B$139=1,SIGN(F$40)=1,ABS(F$40)<=ABS(F$40-F$41),F$46=\"Crest\"),1,0)","v":0},{"$f":"IF(AND($B$139=1,SIGN(G$40)=1,ABS(G$40)<=ABS(G$40-G$41),G$46=\"Crest\"),1,0)","v":0},{"$f":"IF($I$2=\"Existing\",(D132),(IF($I$2=\"Design 1\",(F132),(IF($I$2=\"Design 2\",(G132),(IF($I$2=\"Optimal\",(I132),E132)))))))","v":0},{"$f":"IF(AND($B$138=1,SIGN(I$40)=1,ABS(I$40)<=ABS(I$40-IF(ISNUMBER(I$41), I$41,0)),I$46=\"Crest\"),1,0)","v":{"$error":"#VALUE!"}},null,{"$f":"INDEX($D132:$I132,K$100)","v":0},{"$f":"INDEX($D132:$I132,L$100)","v":0},{"$f":"IF(ISERROR(1-L132/K132), 0, 1-L132/K132)","v":0}]
["VC?",null,"HC and VC Sag type I",{"$f":"IF(AND($B$139=1,SIGN(D$40)=1,ABS(D$40)<=ABS(D$40-D$41),D$46=\"Sag\"),1,0)","v":0},{"$f":"IF(AND($B$139=1,SIGN(IF(ISNUMBER(E$40),E$40,0))=1,\n  ABS(IF(ISNUMBER(E$40),E$40,0))<=ABS(IF(ISNUMBER(E$40),E$40,0)-IF(ISNUMBER(E$41),E$41,0)),E$46=\"Sag\"),\n  1,0)","v":0},{"$f":"IF(AND($B$139=1,SIGN(F$40)=1,ABS(F$40)<=ABS(F$40-F$41),F$46=\"Sag\"),1,0)","v":0},{"$f":"IF(AND($B$139=1,SIGN(G$40)=1,ABS(G$40)<=ABS(G$40-G$41),G$46=\"Sag\"),1,0)","v":0},{"$f":"IF($I$2=\"Existing\",(D133),(IF($I$2=\"Design 1\",(F133),(IF($I$2=\"Design 2\",(G133),(IF($I$2=\"Optimal\",(I133),E133)))))))","v":0},{"$f":"IF(AND($B$138=1,SIGN(I$40)=1,ABS(I$40)<=ABS(I$40-IF(ISNUMBER(I$41), I$41,0)),I$46=\"Sag\"),1,0)","v":{"$error":"#VALUE!"}},null,{"$f":"INDEX($D133:$I133,K$100)","v":0},{"$f":"INDEX($D133:$I133,L$100)","v":0},0]
[null,null,"HC and VC Crest type II",{"$f":"IF(AND($B$139=1,D$46=\"Crest\",D$132=0),1,0)","v":0},{"$f":"IF(AND($B$139=1,E$46=\"Crest\",E$132=0),1,0)","v":0},{"$f":"IF(AND($B$139=1,F$46=\"Crest\",F$132=0),1,0)","v":0},{"$f":"IF(AND($B$139=1,G$46=\"Crest\",G$132=0),1,0)","v":0},{"$f":"IF($I$2=\"Existing\",(D134),(IF($I$2=\"Design 1\",(F134),(IF($I$2=\"Design 2\",(G134),(IF($I$2=\"Optimal\",(I134),E134)))))))","v":0},{"$f":"IF(AND($B$139=1,I$46=\"Crest\",I$132=0),1,0)","v":{"$error":"#VALUE!"}},null,{"$f":"INDEX($D134:$I134,K$100)","v":0},{"$f":"INDEX($D134:$I134,L$100)","v":0},0]
[null,null,"HC and VC Sag type II",{"$f":"IF(AND($B$139=1,D$46=\"Sag\",D$133=0),1,0)","v":0},{"$f":"IF(AND($B$139=1,E$46=\"Sag\",E$133=0),1,0)","v":0},{"$f":"IF(AND($B$139=1,F$46=\"Sag\",F$133=0),1,0)","v":0},{"$f":"IF(AND($B$139=1,G$46=\"Sag\",G$133=0),1,0)","v":0},{"$f":"IF($I$2=\"Existing\",(D135),(IF($I$2=\"Design 1\",(F135),(IF($I$2=\"Design 2\",(G135),(IF($I$2=\"Optimal\",(I135),E135)))))))","v":0},{"$f":"IF(AND($B$139=1,I$46=\"Sag\",I$133=0),1,0)","v":{"$error":"#VALUE!"}},null,{"$f":"INDEX($D135:$I135,K$100)","v":0},{"$f":"INDEX($D135:$I135,L$100)","v":0},0]
[null,"Yes/No"]
[null,null,"HC and VC:"]
[null,{"$f":"IF(B31=\"Yes\",1,0)","v":0},"HC and Grade",{"$f":"IF($B$139=0,\n  EXP(0.042*ABS(D$40)\n    +$B$138*0.16*LN(2*5730/IF(ISNUMBER(D$33),D$33,1))*$B$138\n    +4.16*$B$138/IF(ISNUMBER(D$33),D$33,1)/IF( AND(ISNUMBER(D$34),D$34<>0),D$34,1)),\n  1)","v":1},{"$f":"IF($B$139=0,\n  EXP(0.042*ABS(D$40)\n    +$B$138*0.16*LN(2*5730/IF(ISNUMBER(E$33),E$33,1))*$B$138\n    +4.16*$B$138/IF(ISNUMBER(E$33),E$33,1)/IF( AND(ISNUMBER(E$34),E$34<>0),E$34,1)),\n  1)","v":1},{"$f":"IF($B$139=0,\n  EXP(0.042*ABS(F$40)\n    +$B$138*0.16*LN(2*5730/IF(ISNUMBER(F$33),F$33,1))*$B$138\n    +4.16*$B$138/IF(ISNUMBER(F$33),F$33,1)/IF( AND(ISNUMBER(F$34),F$34<>0),F$34,1)),\n  1)","v":1},{"$f":"IF($B$139=0,\n  EXP(0.042*ABS(G$40)\n    +$B$138*0.16*LN(2*5730/IF(ISNUMBER(G$33),G$33,1))*$B$138\n    +4.16*$B$138/IF(ISNUMBER(G$33),G$33,1)/IF( AND(ISNUMBER(G$34),G$34<>0),G$34,1)),\n  1)","v":1},null,{"$f":"IF($B$139=0,\n  EXP(0.042*ABS(I$40)\n    +$B$138*0.16*LN(2*5730/IF(ISNUMBER(I$33),I$33,1))*$B$138\n    +4.16*$B$138/IF(ISNUMBER(I$33),I$33,1)/IF( AND(ISNUMBER(I$34),I$34<>0),I$34,1)),\n  1)","v":{"$error":"#VALUE!"}},null,{"$f":"INDEX($D138:$I138,K$100)","v":1},{"$f":"INDEX($D138:$I138,L$100)","v":1},{"$f":"IF(ISERROR(1-L138/K138), 0, 1-L138/K138)","v":0},null,0]
[null,{"$f":"IF(B38=\"Yes\",1,0)","v":0},"HC and VC Crest type I",{"$f":"IF($B$139=0,1,EXP(0.005648908*5730*ABS(+D$40-D$41)*$B$139/D$145*$B$138))","v":1},{"$f":"IF($B$139=0,1,EXP(0.005648908*5730*ABS(+E$40-E$41)*$B$139/E$145*$B$138))","v":1},1,1,{"$f":"IF($I$2=\"Existing\",(D139),(IF($I$2=\"Design 1\",(F139),(IF($I$2=\"Design 2\",(G139),(IF($I$2=\"Optimal\",(I139),E139)))))))","v":1},1,null,{"$f":"INDEX($D139:$I139,K$100)","v":1},{"$f":"INDEX($D139:$I139,L$100)","v":1},0,null,0]
[null,null,"HC and VC Sag type I",{"$f":"IF($B$139=0,1,EXP(9.15857042*$B$139/D$146+0.010284958*5730*$B$139*$B$138*ABS(+D$40-D$41)/D$145))","v":1},{"$f":"IF($B$139=0,1,EXP(9.15857042*$B$139/E$146+0.010284958*5730*$B$139*$B$138*ABS(+E$40-E$41)/E$145))","v":1},1,1,{"$f":"IF($I$2=\"Existing\",(D140),(IF($I$2=\"Design 1\",(F140),(IF($I$2=\"Design 2\",(G140),(IF($I$2=\"Optimal\",(I140),E140)))))))","v":1},1,null,{"$f":"INDEX($D140:$I140,K$100)","v":1},{"$f":"INDEX($D140:$I140,L$100)","v":1},0,null,0]
[null,null,"HC and VC Crest type II",{"$f":"IF($B$139=0,1,EXP(0.005648908*5730*ABS(+D$40-D$41)*$B$139/D$145*$B$138))","v":1},{"$f":"IF($B$139=0,1,EXP(0.005648908*5730*ABS(+E$40-E$41)*$B$139/E$145*$B$138))","v":1},1,1,{"$f":"IF($I$2=\"Existing\",(D141),(IF($I$2=\"Design 1\",(F141),(IF($I$2=\"Design 2\",(G141),(IF($I$2=\"Optimal\",(I141),E141)))))))","v":1},1,null,{"$f":"INDEX($D141:$I141,K$100)","v":1},{"$f":"INDEX($D141:$I141,L$100)","v":1},0,null,0]
[null,null,"HC and VC Sag type II",{"$f":"IF($B$139=0,1,(0.246011284*EXP(LN(0.188*2*5730/D$145)*$B$138)+0.753988716*EXP(0.022*5730/D$145*ABS(D$40-D$41)*$B$139*$B$138)))","v":1},{"$f":"IF($B$139=0,1,(0.246011284*EXP(LN(0.188*2*5730/E$145)*$B$138)+0.753988716*EXP(0.022*5730/E$145*ABS(E$40-E$41)*$B$139*$B$138)))","v":1},1,1,{"$f":"IF($I$2=\"Existing\",(D142),(IF($I$2=\"Design 1\",(F142),(IF($I$2=\"Design 2\",(G142),(IF($I$2=\"Optimal\",(I142),E142)))))))","v":1},1,null,{"$f":"INDEX($D142:$I142,K$100)","v":1},{"$f":"INDEX($D142:$I142,L$100)","v":1},0,null,0]
[]
[null,null,"Combined HZ and VT",{"$f":"MMULT(TRANSPOSE(D131:D135),D138:D142)","v":1},{"$f":"MMULT(TRANSPOSE(E131:E135),E138:E142)","v":1},{"$f":"MMULT(TRANSPOSE(F131:F135),F138:F142)","v":1},{"$f":"MMULT(TRANSPOSE(G131:G135),G138:G142)","v":1},{"$f":"IF($I$2=\"Existing\",(D144),(IF($I$2=\"Design 1\",(F144),(IF($I$2=\"Design 2\",(G144),(IF($I$2=\"Optimal\",(I144),E144)))))))","v":1},{"$f":"MMULT(TRANSPOSE(I131:I135),I138:I142)","v":{"$error":"#VALUE!"}},null,{"$f":"INDEX($D144:$I144,K$100)","v":1},{"$f":"INDEX($D144:$I144,L$100)","v":1},{"$f":"IF(ISERROR(1-L144/K144), 0, 1-L144/K144)","v":0},null,0]
[null,null,"effective R for calculation",{"$f":"IF(ISNUMBER(D33), D33, 99999999)","v":99999999},{"$f":"IF(ISNUMBER(E33), E33, 99999999)","v":590},99999999,99999999,null,590]
[null,null,"effective K for calculation",{"$f":"IF(ISNUMBER(D43), D43, 99999999)","v":99999999},{"$f":"IF(ISNUMBER(E43), E43, 99999999)","v":99999999},99999999,99999999,null,99999999]
[null,"Traffic"]
[null,null,null,"Existing","Standard","Design 1","Design 2"]
[null,null,"Advance static curve warning signs",{"$f":"IF(D24=INDEX(MedConf_Header,1,2),IF(AND($B$31=\"Yes\",D$56=\"Yes\"),(Traffic!$F$4-1)*AVERAGE(Constraints!$F$24,Constraints!$H$24)/Constraints!$D$24+1,1),(IF(AND($B$31=\"Yes\",D$56=\"Yes\"),(Traffic!$F$4-1)*AVERAGE(Constraints!$F$38,Constraints!$H$38)/Constraints!$D$38+1,1)))","v":1},{"$f":"IF(AND($B$31=\"Yes\",E$56=\"Yes\"),(Traffic!$F$4-1)*AVERAGE(Constraints!$F$24,Constraints!$H$24)/Constraints!$D$24+1,1)","v":1},{"$f":"IF(F24=INDEX(MedConf_Header,1,2),IF(AND($B$31=\"Yes\",F$56=\"Yes\"),(Traffic!$F$4-1)*AVERAGE(Constraints!$F$24,Constraints!$H$24)/Constraints!$D$24+1,1),(IF(AND($B$31=\"Yes\",F$56=\"Yes\"),(Traffic!$F$4-1)*AVERAGE(Constraints!$F$38,Constraints!$H$38)/Constraints!$D$38+1,1)))","v":1},{"$f":"IF(G24=INDEX(MedConf_Header,1,2),IF(AND($B$31=\"Yes\",G$56=\"Yes\"),(Traffic!$F$4-1)*AVERAGE(Constraints!$F$24,Constraints!$H$24)/Constraints!$D$24+1,1),(IF(AND($B$31=\"Yes\",G$56=\"Yes\"),(Traffic!$F$4-1)*AVERAGE(Constraints!$F$38,Constraints!$H$38)/Constraints!$D$38+1,1)))","v":1},{"$f":"IF($I$2=\"Existing\",(D149),(IF($I$2=\"Design 1\",(F149),(IF($I$2=\"Design 2\",(G149),(IF($I$2=\"Optimal\",(I149),E149)))))))","v":1},{"$f":"IF(AND($B$31=\"Yes\",I$56=\"Yes\"),(Traffic!$F$4-1)*AVERAGE(Constraints!$F$24,Constraints!$H$24)/Constraints!$D$24+1,1)","v":1},null,{"$f":"INDEX($D149:$I149,K$100)","v":1},{"$f":"INDEX($D149:$I149,L$100)","v":1},{"$f":"IF(ISERROR(1-L149/K149), 0, 1-L149/K149)","v":0},null,0]
[null,null,"Install chevron signs on horizontal curves",{"$f":"IF(D24=INDEX(MedConf_Header,1,2),(IF(D$57=\"No\",1,(IF(AND($B$31=\"Yes\",D$27<11.5),((Traffic!$F$6-1)*(Constraints!$E$18+Constraints!$E$22))+1,1)))),(IF(D$57=\"No\",1,(IF(AND($B$31=\"Yes\",D$27<11.5),((Traffic!$F$6-1)*(Constraints!$E$32+Constraints!$E$36))+1,1)))))","v":1},{"$f":"IF(E$57=\"No\",1,(IF(AND($B$31=\"Yes\",E$27<11.5),((Traffic!$F$6-1)*(Constraints!$E$18+Constraints!$E$22))+1,1)))","v":1},{"$f":"IF(F24=INDEX(MedConf_Header,1,2),(IF(F$57=\"No\",1,(IF(AND($B$31=\"Yes\",F$27<11.5),((Traffic!$F$6-1)*(Constraints!$E$18+Constraints!$E$22))+1,1)))),(IF(F$57=\"No\",1,(IF(AND($B$31=\"Yes\",F$27<11.5),((Traffic!$F$6-1)*(Constraints!$E$32+Constraints!$E$36))+1,1)))))","v":1},{"$f":"IF(G24=INDEX(MedConf_Header,1,2),(IF(G$57=\"No\",1,(IF(AND($B$31=\"Yes\",G$27<11.5),((Traffic!$F$6-1)*(Constraints!$E$18+Constraints!$E$22))+1,1)))),(IF(G$57=\"No\",1,(IF(AND($B$31=\"Yes\",G$27<11.5),((Traffic!$F$6-1)*(Constraints!$E$32+Constraints!$E$36))+1,1)))))","v":1},{"$f":"IF($I$2=\"Existing\",(D150),(IF($I$2=\"Design 1\",(F150),(IF($I$2=\"Design 2\",(G150),(IF($I$2=\"Optimal\",(I150),E150)))))))","v":1},{"$f":"IF(I$57=\"No\",1,(IF(AND($B$31=\"Yes\",I$27<11.5),((Traffic!$F$6-1)*(Constraints!$E$18+Constraints!$E$22))+1,1)))","v":1},null,{"$f":"INDEX($D150:$I150,K$100)","v":1},{"$f":"INDEX($D150:$I150,L$100)","v":1},0,null,0]
[null,null,"Install post-mounted delineators",{"$f":"IF(D24=INDEX(MedConf_Header,1,2),IF(AND($B$31=\"Yes\",D$58=\"Yes\"),(Traffic!$F$12-1)*Constraints!$E$17+1,1),(IF(AND($B$31=\"Yes\",D$58=\"Yes\"),(Traffic!$F$12-1)*Constraints!$E$31+1,1)))","v":1},{"$f":"IF(AND($B$31=\"Yes\",E$58=\"Yes\"),(Traffic!$F$12-1)*Constraints!$E$17+1,1)","v":1},{"$f":"IF(F24=INDEX(MedConf_Header,1,2),IF(AND($B$31=\"Yes\",F$58=\"Yes\"),(Traffic!$F$12-1)*Constraints!$E$17+1,1),(IF(AND($B$31=\"Yes\",F$58=\"Yes\"),(Traffic!$F$12-1)*Constraints!$E$31+1,1)))","v":1},{"$f":"IF(G24=INDEX(MedConf_Header,1,2),IF(AND($B$31=\"Yes\",G$58=\"Yes\"),(Traffic!$F$12-1)*Constraints!$E$17+1,1),(IF(AND($B$31=\"Yes\",G$58=\"Yes\"),(Traffic!$F$12-1)*Constraints!$E$31+1,1)))","v":1},{"$f":"IF($I$2=\"Existing\",(D151),(IF($I$2=\"Design 1\",(F151),(IF($I$2=\"Design 2\",(G151),(IF($I$2=\"Optimal\",(I151),E151)))))))","v":1},{"$f":"IF(AND($B$31=\"Yes\",I$58=\"Yes\"),(Traffic!$F$12-1)*Constraints!$E$17+1,1)","v":1},null,{"$f":"INDEX($D151:$I151,K$100)","v":1},{"$f":"INDEX($D151:$I151,L$100)","v":1},0,null,0]
[null,null,"Install edgeline  or Profile pavement markings ",{"$f":"IF(D24=INDEX(MedConf_Header,1,2),(IF(D$59=\"Yes\",Traffic!$F$18*0.5+((Traffic!$F$20*(Constraints!$H$17+Constraints!$H$20+Constraints!$H$21)+1*(Constraints!$H$24-(Constraints!$H$17+Constraints!$H$20+Constraints!$H$21)))/Constraints!$H$24)*0.5,1)),(IF(D$59=\"Yes\",Traffic!$F$18*0.5+((Traffic!$F$20*(Constraints!$H$31+Constraints!$H$34+Constraints!$H$35)+1*(Constraints!$H$38-(Constraints!$H$31+Constraints!$H$34+Constraints!$H$35)))/Constraints!$H$38)*0.5,1)))","v":1},{"$f":"IF(E24=INDEX(MedConf_Header,1,2),(IF(E$59=\"Yes\",Traffic!$F$18*0.5+((Traffic!$F$20*(Constraints!$H$17+Constraints!$H$20+Constraints!$H$21)+1*(Constraints!$H$24-(Constraints!$H$17+Constraints!$H$20+Constraints!$H$21)))/Constraints!$H$24)*0.5,1)),(IF(E$59=\"Yes\",Traffic!$F$18*0.5+((Traffic!$F$20*(Constraints!$H$31+Constraints!$H$34+Constraints!$H$35)+1*(Constraints!$H$38-(Constraints!$H$31+Constraints!$H$34+Constraints!$H$35)))/Constraints!$H$38)*0.5,1)))","v":1},{"$f":"IF(F24=INDEX(MedConf_Header,1,2),(IF(F$59=\"Yes\",Traffic!$F$18*0.5+((Traffic!$F$20*(Constraints!$H$17+Constraints!$H$20+Constraints!$H$21)+1*(Constraints!$H$24-(Constraints!$H$17+Constraints!$H$20+Constraints!$H$21)))/Constraints!$H$24)*0.5,1)),(IF(F$59=\"Yes\",Traffic!$F$18*0.5+((Traffic!$F$20*(Constraints!$H$31+Constraints!$H$34+Constraints!$H$35)+1*(Constraints!$H$38-(Constraints!$H$31+Constraints!$H$34+Constraints!$H$35)))/Constraints!$H$38)*0.5,1)))","v":1},{"$f":"IF(G24=INDEX(MedConf_Header,1,2),(IF(G$59=\"Yes\",Traffic!$F$18*0.5+((Traffic!$F$20*(Constraints!$H$17+Constraints!$H$20+Constraints!$H$21)+1*(Constraints!$H$24-(Constraints!$H$17+Constraints!$H$20+Constraints!$H$21)))/Constraints!$H$24)*0.5,1)),(IF(G$59=\"Yes\",Traffic!$F$18*0.5+((Traffic!$F$20*(Constraints!$H$31+Constraints!$H$34+Constraints!$H$35)+1*(Constraints!$H$38-(Constraints!$H$31+Constraints!$H$34+Constraints!$H$35)))/Constraints!$H$38)*0.5,1)))","v":1},{"$f":"IF($I$2=\"Existing\",(D152),(IF($I$2=\"Design 1\",(F152),(IF($I$2=\"Design 2\",(G152),(IF($I$2=\"Optimal\",(I152),E152)))))))","v":1},{"$f":"IF(I24=INDEX(MedConf_Header,1,2),(IF(I$59=\"Yes\",Traffic!$F$18*0.5+((Traffic!$F$20*(Constraints!$H$17+Constraints!$H$20+Constraints!$H$21)+1*(Constraints!$H$24-(Constraints!$H$17+Constraints!$H$20+Constraints!$H$21)))/Constraints!$H$24)*0.5,1)),(IF(I$59=\"Yes\",Traffic!$F$18*0.5+((Traffic!$F$20*(Constraints!$H$31+Constraints!$H$34+Constraints!$H$35)+1*(Constraints!$H$38-(Constraints!$H$31+Constraints!$H$34+Constraints!$H$35)))/Constraints!$H$38)*0.5,1)))","v":0.87439641434262949},null,{"$f":"INDEX($D152:$I152,K$100)","v":1},{"$f":"INDEX($D152:$I152,L$100)","v":1},0,null,0.13824118691351761]
[null,null,"Profiles",1,1,1,1,1,1,null,{"$f":"INDEX($D153:$I153,K$100)","v":1},{"$f":"INDEX($D153:$I153,L$100)","v":1},0,null,0]
[null,null,"Shoulder rumble strips",{"$f":"IF(D24=INDEX(MedConf_Header,1,2),(IF(D$60=\"No\",1,(Traffic!$F$27*(Constraints!$H$17+Constraints!$H$20+Constraints!$H$21)+1*(Constraints!$H$24-(Constraints!$H$17+Constraints!$H$20+Constraints!$H$21)))/Constraints!$H$24)),(IF(D$60=\"No\",1,(Traffic!$F$27*(Constraints!$H$31+Constraints!$H$34+Constraints!$H$35)+1*(Constraints!$H$38-(Constraints!$H$31+Constraints!$H$34+Constraints!$H$35)))/Constraints!$H$38)))","v":0.93956289460903353},{"$f":"IF(E$60=\"No\",1,(Traffic!$F$27*(Constraints!$H$17+Constraints!$H$20+Constraints!$H$21)+1*(Constraints!$H$24-(Constraints!$H$17+Constraints!$H$20+Constraints!$H$21)))/Constraints!$H$24)","v":0.91807038512616201},{"$f":"IF(F24=INDEX(MedConf_Header,1,2),(IF(F$60=\"No\",1,(Traffic!$F$27*(Constraints!$H$17+Constraints!$H$20+Constraints!$H$21)+1*(Constraints!$H$24-(Constraints!$H$17+Constraints!$H$20+Constraints!$H$21)))/Constraints!$H$24)),(IF(F$60=\"No\",1,(Traffic!$F$27*(Constraints!$H$31+Constraints!$H$34+Constraints!$H$35)+1*(Constraints!$H$38-(Constraints!$H$31+Constraints!$H$34+Constraints!$H$35)))/Constraints!$H$38)))","v":0.93956289460903353},{"$f":"IF(G24=INDEX(MedConf_Header,1,2),(IF(G$60=\"No\",1,(Traffic!$F$27*(Constraints!$H$17+Constraints!$H$20+Constraints!$H$21)+1*(Constraints!$H$24-(Constraints!$H$17+Constraints!$H$20+Constraints!$H$21)))/Constraints!$H$24)),(IF(G$60=\"No\",1,(Traffic!$F$27*(Constraints!$H$31+Constraints!$H$34+Constraints!$H$35)+1*(Constraints!$H$38-(Constraints!$H$31+Constraints!$H$34+Constraints!$H$35)))/Constraints!$H$38)))","v":0.93956289460903353},{"$f":"IF($I$2=\"Existing\",(D154),(IF($I$2=\"Design 1\",(F154),(IF($I$2=\"Design 2\",(G154),(IF($I$2=\"Optimal\",(I154),E154)))))))","v":0.91807038512616201},{"$f":"IF(I$60=\"No\",1,(Traffic!$F$27*(Constraints!$H$17+Constraints!$H$20+Constraints!$H$21)+1*(Constraints!$H$24-(Constraints!$H$17+Constraints!$H$20+Constraints!$H$21)))/Constraints!$H$24)","v":0.91807038512616201},null,{"$f":"INDEX($D154:$I154,K$100)","v":0.93956289460903353},{"$f":"INDEX($D154:$I154,L$100)","v":0.91807038512616201},2.2875008800570917E-2,null,0]
[null,null,"Install centerline rumble strips",{"$f":"IF(D24=INDEX(MedConf_Header,1,3),(IF(D$61=\"No\",1,(Traffic!$E$81*(Constraints!$H$31+Constraints!$H$34+Constraints!$H$35)+1*(Constraints!$H$38-(Constraints!$H$31+Constraints!$H$34+Constraints!$H$35)))/Constraints!$H$38)+0.001),1)","v":1},{"$f":"IF(E24=INDEX(MedConf_Header,1,3),(IF(E$61=\"No\",1,(Traffic!$E$81*(Constraints!$H$31+Constraints!$H$34+Constraints!$H$35)+1*(Constraints!$H$38-(Constraints!$H$31+Constraints!$H$34+Constraints!$H$35)))/Constraints!$H$38)+0.001),1)","v":1},{"$f":"IF(F24=INDEX(MedConf_Header,1,3),(IF(F$61=\"No\",1,(Traffic!$E$81*(Constraints!$H$31+Constraints!$H$34+Constraints!$H$35)+1*(Constraints!$H$38-(Constraints!$H$31+Constraints!$H$34+Constraints!$H$35)))/Constraints!$H$38)+0.001),1)","v":1},{"$f":"IF(G24=INDEX(MedConf_Header,1,3),(IF(G$61=\"No\",1,(Traffic!$E$81*(Constraints!$H$31+Constraints!$H$34+Constraints!$H$35)+1*(Constraints!$H$38-(Constraints!$H$31+Constraints!$H$34+Constraints!$H$35)))/Constraints!$H$38)+0.001),1)","v":1},{"$f":"IF($I$2=\"Existing\",(D155),(IF($I$2=\"Design 1\",(F155),(IF($I$2=\"Design 2\",(G155),(IF($I$2=\"Optimal\",(I155),E155)))))))","v":1},{"$f":"IF(I24=INDEX(MedConf_Header,1,3),(IF(I$61=\"No\",1,(Traffic!$E$81*(Constraints!$H$31+Constraints!$H$34+Constraints!$H$35)+1*(Constraints!$H$38-(Constraints!$H$31+Constraints!$H$34+Constraints!$H$35)))/Constraints!$H$38)+0.001),1)","v":1},null,{"$f":"INDEX($D155:$I155,K$100)","v":1},{"$f":"INDEX($D155:$I155,L$100)","v":1},0,null,-0.16279069767441867]
[null,null,"Driveway Density (driveways per mile)",{"$f":"EXP(-LN(Traffic!$F$31)*(D$62-$E$62))","v":0.81707280688754669},{"$f":"EXP(-LN(Traffic!$F$31)*(E$62-$E$62))","v":1},{"$f":"EXP(-LN(Traffic!$F$31)*(F$62-$E$62))","v":0.81707280688754669},{"$f":"EXP(-LN(Traffic!$F$31)*(G$62-$E$62))","v":0.81707280688754669},{"$f":"IF($I$2=\"Existing\",(D156),(IF($I$2=\"Design 1\",(F156),(IF($I$2=\"Design 2\",(G156),(IF($I$2=\"Optimal\",(I156),E156)))))))","v":1},{"$f":"EXP(-LN(Traffic!$F$31)*(I$62-$E$62))","v":0.81707280688754669},null,{"$f":"INDEX($D156:$I156,K$100)","v":0.81707280688754669},{"$f":"INDEX($D156:$I156,L$100)","v":1},-0.22388114201141129,null,-0.22388114201141129]
[null,null,"Install lighting",{"$f":"IF(D24=INDEX(MedConf_Header,1,2),(IF(D$63=\"No\",1,1-(((1-Traffic!$F$54*Constraints!$H$24-Constraints!$F$24/3)+((1-Traffic!$F$54*Constraints!$D$24-Constraints!$H$24)))*$S$19+((1-Traffic!$F$56)*Constraints!$F$24/3))/Constraints!$D$24)),(IF(D$63=\"No\",1,1-(((1-Traffic!$F$54*Constraints!$H$38-Constraints!$F$38/3)+((1-Traffic!$F$54*Constraints!$D$38-Constraints!$H$38)))*$S$19+((1-Traffic!$F$56)*Constraints!$F$38/3))/Constraints!$D$38)))","v":0.98319080068143105},{"$f":"IF(E$63=\"No\",1,1-(((1-Traffic!$F$54*Constraints!$H$24-Constraints!$F$24/3)+((1-Traffic!$F$54*Constraints!$D$24-Constraints!$H$24)))*$S$19+((1-Traffic!$F$56)*Constraints!$F$24/3))/Constraints!$D$24)","v":1},{"$f":"IF(F24=INDEX(MedConf_Header,1,2),(IF(F$63=\"No\",1,1-(((1-Traffic!$F$54*Constraints!$H$24-Constraints!$F$24/3)+((1-Traffic!$F$54*Constraints!$D$24-Constraints!$H$24)))*$S$19+((1-Traffic!$F$56)*Constraints!$F$24/3))/Constraints!$D$24)),(IF(F$63=\"No\",1,1-(((1-Traffic!$F$54*Constraints!$H$38-Constraints!$F$38/3)+((1-Traffic!$F$54*Constraints!$D$38-Constraints!$H$38)))*$S$19+((1-Traffic!$F$56)*Constraints!$F$38/3))/Constraints!$D$38)))","v":0.98319080068143105},{"$f":"IF(G24=INDEX(MedConf_Header,1,2),(IF(G$63=\"No\",1,1-(((1-Traffic!$F$54*Constraints!$H$24-Constraints!$F$24/3)+((1-Traffic!$F$54*Constraints!$D$24-Constraints!$H$24)))*$S$19+((1-Traffic!$F$56)*Constraints!$F$24/3))/Constraints!$D$24)),(IF(G$63=\"No\",1,1-(((1-Traffic!$F$54*Constraints!$H$38-Constraints!$F$38/3)+((1-Traffic!$F$54*Constraints!$D$38-Constraints!$H$38)))*$S$19+((1-Traffic!$F$56)*Constraints!$F$38/3))/Constraints!$D$38)))","v":0.98319080068143105},{"$f":"IF($I$2=\"Existing\",(D157),(IF($I$2=\"Design 1\",(F157),(IF($I$2=\"Design 2\",(G157),(IF($I$2=\"Optimal\",(I157),E157)))))))","v":1},{"$f":"IF(I$63=\"No\",1,1-(((1-Traffic!$F$54*Constraints!$H$24-Constraints!$F$24/3)+((1-Traffic!$F$54*Constraints!$D$24-Constraints!$H$24)))*$S$19+((1-Traffic!$F$56)*Constraints!$F$24/3))/Constraints!$D$24)","v":0.98062689234129152},null,{"$f":"INDEX($D157:$I157,K$100)","v":0.98319080068143105},{"$f":"INDEX($D157:$I157,L$100)","v":1},-1.7096579124742384E-2,null,-2.3499081529478438E-2]
[null,null,"Pavement friction (skid number)",{"$f":"EXP(LN(Traffic!$F$48)*(D$64-$E$64))","v":1.3972521419325798},{"$f":"EXP(LN(Traffic!$F$48)*(E$64-$E$64))","v":1},{"$f":"IF(MATCH(F64,SkidNums,0)=3, $D158,EXP(LN([5]Traffic!$F$49)*(RIGHT(F$64,2)-$E$64)))","v":{"$error":"#N/A"}},{"$f":"IF(MATCH(G64,SkidNums,0)=3, $D158,EXP(LN([5]Traffic!$F$49)*(RIGHT(G$64,2)-$E$64)))","v":{"$error":"#N/A"}},{"$f":"IF($I$2=\"Existing\",(D158),(IF($I$2=\"Design 1\",(F158),(IF($I$2=\"Design 2\",(G158),(IF($I$2=\"Optimal\",(I158),E158)))))))","v":1},{"$f":"EXP(LN(Traffic!$F$48)*(I$64-$E$64))","v":0.85753553626991963},null,{"$f":"INDEX($D158:$I158,K$100)","v":1.3972521419325798},{"$f":"INDEX($D158:$I158,L$100)","v":1},0.28430956017940245,null,0]
[]
[]
[null,null,"COMBINED Calculated CMF",{"$f":"+D149*D150*D151*D152*D153*D154*D155*D156*D157*D158","v":1.0546277742651902},{"$f":"+E149*E150*E151*E152*E153*E154*E155*E156*E157*E158","v":0.91807038512616201},{"$error":"#N/A"},{"$error":"#N/A"},{"$f":"IF($I$2=\"Existing\",(D161),(IF($I$2=\"Design 1\",(F161),(IF($I$2=\"Design 2\",(G161),(IF($I$2=\"Optimal\",(I161),E161)))))))","v":0.91807038512616201},{"$f":"+I149*I150*I151*I152*I153*I154*I155*I156*I157*I158","v":0.55157049744255038},null,{"$f":"INDEX($D161:$I161,K$100)","v":1.0546277742651902},{"$f":"INDEX($D161:$I161,L$100)","v":0.91807038512616201},{"$f":"IF(ISERROR(1-L161/K161), 0, 1-L161/K161)","v":0.12948396815565966},null,0]
[null,null,"Calculated Relative to Design Standards (Column E)",{"$f":"+D161/$E$161","v":1.1487439213282784},{"$f":"+E161/$E$161","v":1},{"$error":"#N/A"},{"$error":"#N/A"},1,{"$f":"+I161/$E$161","v":0.60079325766156055},null,{"$f":"INDEX($D162:$I162,K$100)","v":1.1487439213282784},{"$f":"INDEX($D162:$I162,L$100)","v":1},0.12948396815565966,null,0]
[null,null,"P(Crash)",{"$f":"+D162/(D162+1)","v":0.53461183062622242},0.5,{"$error":"#N/A"},{"$error":"#N/A"},0.5,{"$f":"+I162/(I162+1)","v":0.37530971272280322},null,{"$f":"INDEX($D163:$I163,K$100)","v":0.53461183062622242},{"$f":"INDEX($D163:$I163,L$100)","v":0.5},6.4741984077829939E-2]
[null,null,"Factor Change on S curve",{"$f":"+D163/$E$163","v":1.0692236612524448},{"$f":"+E163/$E$163","v":1},{"$f":"+F163/$E$163","v":{"$error":"#N/A"}},{"$error":"#N/A"},1,{"$f":"+I163/$E$163","v":0.75061942544560645},null,{"$f":"INDEX($D164:$I164,K$100)","v":1.0692236612524448},{"$f":"INDEX($D164:$I164,L$100)","v":1},6.4741984077829939E-2]
[null,null,"Adjust to Scale of 100",{"$f":"+$I$118/D164*100","v":{"$error":"#VALUE!"}},{"$error":"#VALUE!"},{"$error":"#VALUE!"},{"$error":"#VALUE!"},{"$error":"#VALUE!"},{"$f":"+$I$118/I164*100","v":{"$error":"#VALUE!"}}]
[null,null,"Unadjusted Combined Relative to Standard",{"$f":"+D161/$E$161","v":1.1487439213282784},{"$f":"+E161/$E$161","v":1},{"$f":"+F161/$E$161","v":{"$error":"#N/A"}},{"$error":"#N/A"},1,{"$f":"+I161/$E$161","v":0.60079325766156055},{"$f":"I172/E172","v":1.3333333333333333},{"$f":"INDEX($D166:$I166,K$100)","v":1.1487439213282784},{"$f":"INDEX($D166:$I166,L$100)","v":1},{"$f":"IF(ISERROR(1-L166/K166), 0, 1-L166/K166)","v":0.12948396815565966}]
[null,null,null,null,null,null,null,0,null,null,{"$f":"INDEX($D167:$I167,K$100)","v":0},{"$f":"INDEX($D167:$I167,L$100)","v":0},0]
[null,null,"Adjusted for PA Basis",{"$f":"+D161*(1+1)/(1+D161*1)","v":1.0265876743950504},0.95728539707970672,{"$error":"#N/A"},{"$error":"#N/A"},0.95728539707970672,{"$f":"+I161*(1+1)/(1+I161*1)","v":0.71098348202895401},null,{"$f":"INDEX($D168:$I168,K$100)","v":1.0265876743950504},{"$f":"INDEX($D168:$I168,L$100)","v":0.95728539707970672},6.750741221998624E-2]
[null,null,"Corrected by Odds Ratio",{"$f":"+D168/$E$168","v":1.0723945831898796},{"$f":"+E168/$E$168","v":1},{"$f":"+F168/$E$168","v":{"$error":"#N/A"}},{"$error":"#N/A"},1,{"$f":"+I168/$E$168","v":0.74270795752017016},{"$f":"I175/E175","v":1.4285714285714286},{"$f":"INDEX($D169:$I169,K$100)","v":1.0723945831898796},{"$f":"INDEX($D169:$I169,L$100)","v":1},6.750741221998624E-2]
[null,null,null,{"$f":"(1/D169)^$D173","v":0.19732178070922252},{"$f":"(1/E169)^$D173","v":1},{"$error":"#N/A"},{"$error":"#N/A"},1,998.99999999999955,null,{"$f":"INDEX($D170:$I170,K$100)","v":0.19732178070922252},{"$f":"INDEX($D170:$I170,L$100)","v":1},-4.0678642591089362]
[null,null,null,{"$f":"(D170+$F174-1)/(1+(D170+$F174-1))","v":0.6048454036857811},{"$f":"(E170+$F174-1)/(1+(E170+$F174-1))","v":0.70000000000000007},{"$error":"#N/A"},{"$error":"#N/A"},0.70000000000000007,0.99900133155792281,null,{"$f":"INDEX($D171:$I171,K$100)","v":0.6048454036857811},{"$f":"INDEX($D171:$I171,L$100)","v":0.70000000000000007},-0.15732052477272696]
[null,null,"Score Odds Ratio with Optimal as 100 (old)",{"$f":"MIN(ROUND($I$169/D169*Construction!$I$3,0),$I172)","v":14},{"$f":"MIN(ROUND($I$169/E169*Construction!$I$3,0),$I172)","v":15},{"$f":"MIN(ROUND($I$169/F169*Construction!$I$3,0),$I172)","v":{"$error":"#N/A"}},{"$f":"MIN(ROUND($I$169/G169*Construction!$I$3,0),$I172)","v":{"$error":"#N/A"}},null,{"$f":"ROUND($I$169/I169*Construction!$I$3,0)","v":20}]
[null,null,"Logistic1",{"$f":"LN((D174/(1-D174))/(0.5/0.5))/LN($E169/I169)","v":23.2196999386987}]
[null,null,"Logistic Param",0.999,null,{"$f":"0.7/0.3","v":2.3333333333333335}]
[null,null,"Score ",{"$f":"MIN(ROUND(D171*Construction!$I$3,0),$I172)","v":12},{"$f":"MIN(ROUND(E171*Construction!$I$3,0),$I172)","v":14},{"$f":"MIN(ROUND(F171*Construction!$I$3,0),$I172)","v":{"$error":"#N/A"}},{"$f":"MIN(ROUND(G171*Construction!$I$3,0),$I172)","v":{"$error":"#N/A"}},null,{"$f":"MIN(ROUND(I171*Construction!$I$3,0),$I172)","v":20}]
[]
[]
[]
[]
[null,null,null,{"$f":"INDEX(MedConf_Header,1,2)","v":"Divided - Unsurfaced Median"}]
[]
[null,"Roadsde",null,"Existing","Standard","Design 1","Design 2"]
[null,null,null,{"$f":"IF(ISBLANK(D75), 0, MID(D75,FIND(\":\",D75,1)+1,FIND(\"H\",D75,1)-FIND(\":\",D75,1)-1)+0)","v":0},{"$f":"MID(E75,FIND(\":\",E75,1)+1,FIND(\"H\",E75,1)-FIND(\":\",E75,1)-1)+0","v":4},{"$f":"IF(ISBLANK(F75), 0, MID(F75,FIND(\":\",F75,1)+1,FIND(\"H\",F75,1)-FIND(\":\",F75,1)-1)+0)","v":0},{"$f":"IF(ISBLANK(G75), 0, MID(G75,FIND(\":\",G75,1)+1,FIND(\"H\",G75,1)-FIND(\":\",G75,1)-1)+0)","v":0},null,{"$f":"MID(I75,FIND(\":\",I75,1)+1,FIND(\"H\",I75,1)-FIND(\":\",I75,1)-1)+0","v":6},null,null,null,null,null,0]
[null,null,"Sideslope (Foreslope)",{"$f":"IF(D24=INDEX(MedConf_Header,1,2),(IF(D183<=3,1,IF(OR(D183=4,D183=5),(Roadside!$F$15-1)*Constraints!$H$24/Constraints!$D$24+1,(Roadside!$F$15*Roadside!$F$16-1)*Constraints!$H$24/Constraints!$D$24+1))),(IF(D183<=3,1,IF(OR(D183=4,D183=5),(Roadside!$F$15-1)*Constraints!$H$38/Constraints!$D$38+1,(Roadside!$F$15*Roadside!$F$16-1)*Constraints!$H$38/Constraints!$D$38+1))))","v":1},{"$f":"IF(E24=INDEX(MedConf_Header,1,2),(IF(E183<=3,1,IF(OR(E183=4,E183=5),(Roadside!$F$15-1)*Constraints!$H$24/Constraints!$D$24+1,(Roadside!$F$15*Roadside!$F$16-1)*Constraints!$H$24/Constraints!$D$24+1))),(IF(E183<=3,1,IF(OR(E183=4,E183=5),(Roadside!$F$15-1)*Constraints!$H$38/Constraints!$D$38+1,(Roadside!$F$15*Roadside!$F$16-1)*Constraints!$H$38/Constraints!$D$38+1))))","v":0.84302377525189853},{"$f":"IF(F24=INDEX(MedConf_Header,1,2),(IF(F183<=3,1,IF(OR(F183=4,F183=5),(Roadside!$F$15-1)*Constraints!$H$24/Constraints!$D$24+1,(Roadside!$F$15*Roadside!$F$16-1)*Constraints!$H$24/Constraints!$D$24+1))),(IF(F183<=3,1,IF(OR(F183=4,F183=5),(Roadside!$F$15-1)*Constraints!$H$38/Constraints!$D$38+1,(Roadside!$F$15*Roadside!$F$16-1)*Constraints!$H$38/Constraints!$D$38+1))))","v":1},{"$f":"IF(G24=INDEX(MedConf_Header,1,2),(IF(G183<=3,1,IF(OR(G183=4,G183=5),(Roadside!$F$15-1)*Constraints!$H$24/Constraints!$D$24+1,(Roadside!$F$15*Roadside!$F$16-1)*Constraints!$H$24/Constraints!$D$24+1))),(IF(G183<=3,1,IF(OR(G183=4,G183=5),(Roadside!$F$15-1)*Constraints!$H$38/Constraints!$D$38+1,(Roadside!$F$15*Roadside!$F$16-1)*Constraints!$H$38/Constraints!$D$38+1))))","v":1},{"$f":"IF($I$2=\"Existing\",(D184),(IF($I$2=\"Design 1\",(F184),(IF($I$2=\"Design 2\",(G184),(IF($I$2=\"Optimal\",(I184),E184)))))))","v":0.84302377525189853},{"$f":"IF(I24=INDEX(MedConf_Header,1,2),(IF(I183<=3,1,IF(OR(I183=4,I183=5),(Roadside!$F$15-1)*Constraints!$H$24/Constraints!$D$24+1,(Roadside!$F$15*Roadside!$F$16-1)*Constraints!$H$24/Constraints!$D$24+1))),(IF(I183<=3,1,IF(OR(I183=4,I183=5),(Roadside!$F$15-1)*Constraints!$H$38/Constraints!$D$38+1,(Roadside!$F$15*Roadside!$F$16-1)*Constraints!$H$38/Constraints!$D$38+1))))","v":0.79533290316176108},null,{"$f":"INDEX($D184:$I184,K$100)","v":1},{"$f":"INDEX($D184:$I184,L$100)","v":0.84302377525189853},{"$f":"IF(ISERROR(1-L184/K184), 0, 1-L184/K184)","v":0.15697622474810147},null,0]
[null,null,"Backslope",1,1,1,1,{"$f":"IF($I$2=\"Existing\",(D185),(IF($I$2=\"Design 1\",(F185),(IF($I$2=\"Design 2\",(G185),(IF($I$2=\"Optimal\",(I185),E185)))))))","v":1},1,null,{"$f":"INDEX($D185:$I185,K$100)","v":1},{"$f":"INDEX($D185:$I185,L$100)","v":1},0,null,0]
[null,null,"SafetyEdge",{"$f":"IF(D24=INDEX(MedConf_Header,1,2),(IF(D$77=\"No\",1,(Roadside!$F$23-1)*AVERAGE(Constraints!$H$24,Constraints!$F$24)/Constraints!$D$24+1)),(IF(D$77=\"No\",1,(Roadside!$F$23-1)*AVERAGE(Constraints!$H$38,Constraints!$F$38)/Constraints!$D$38+1)))","v":0.97711209540034072},{"$f":"IF(E$77=\"No\",1,(Roadside!$F$23-1)*AVERAGE(Constraints!$H$24,Constraints!$F$24)/Constraints!$D$24+1)","v":1},{"$f":"IF(F24=INDEX(MedConf_Header,1,2),(IF(F$77=\"No\",1,(Roadside!$F$23-1)*AVERAGE(Constraints!$H$24,Constraints!$F$24)/Constraints!$D$24+1)),(IF(F$77=\"No\",1,(Roadside!$F$23-1)*AVERAGE(Constraints!$H$38,Constraints!$F$38)/Constraints!$D$38+1)))","v":0.97711209540034072},{"$f":"IF(G24=INDEX(MedConf_Header,1,2),(IF(G$77=\"No\",1,(Roadside!$F$23-1)*AVERAGE(Constraints!$H$24,Constraints!$F$24)/Constraints!$D$24+1)),(IF(G$77=\"No\",1,(Roadside!$F$23-1)*AVERAGE(Constraints!$H$38,Constraints!$F$38)/Constraints!$D$38+1)))","v":0.97711209540034072},{"$f":"IF($I$2=\"Existing\",(D186),(IF($I$2=\"Design 1\",(F186),(IF($I$2=\"Design 2\",(G186),(IF($I$2=\"Optimal\",(I186),E186)))))))","v":1},{"$f":"IF(I$77=\"No\",1,(Roadside!$F$23-1)*AVERAGE(Constraints!$H$24,Constraints!$F$24)/Constraints!$D$24+1)","v":0.97526887377773364},null,{"$f":"INDEX($D186:$I186,K$100)","v":0.97711209540034072},{"$f":"INDEX($D186:$I186,L$100)","v":1},-2.3424031600265627E-2,null,-2.8188991921691331E-2]
[null,null,"Lateral Clearance (ft)",{"$f":"IF(D24=INDEX(MedConf_Header,1,2),(IF($B$31=\"Yes\",((EXP(LN(Roadside!$F$11)*(IF(D$79=\"None\",40,D$78)-30)/30)-1))*Constraints!$H$17/Constraints!$D$24+1,((EXP(LN(Roadside!$F$10)*(IF(D$79=\"None\",40,D$78)-30)/30)-1))*Constraints!$H$17/Constraints!$D$24+1)),(IF($B$31=\"Yes\",((EXP(LN(Roadside!$F$11)*(IF(D$79=\"None\",40,D$78)-30)/30)-1))*Constraints!$H$31/Constraints!$D$38+1,((EXP(LN(Roadside!$F$10)*(IF(D$79=\"None\",40,D$78)-30)/30)-1))*Constraints!$H$31/Constraints!$D$38+1)))","v":1.0472592444132678},{"$f":"IF(E24=INDEX(MedConf_Header,1,2),(IF($B$31=\"Yes\",((EXP(LN(Roadside!$F$11)*(IF(E$79=\"None\",40,E$78)-30)/30)-1))*Constraints!$H$17/Constraints!$D$24+1,((EXP(LN(Roadside!$F$10)*(IF(E$79=\"None\",40,E$78)-30)/30)-1))*Constraints!$H$17/Constraints!$D$24+1)),(IF($B$31=\"Yes\",((EXP(LN(Roadside!$F$11)*(IF(E$79=\"None\",40,E$78)-30)/30)-1))*Constraints!$H$31/Constraints!$D$38+1,((EXP(LN(Roadside!$F$10)*(IF(E$79=\"None\",40,E$78)-30)/30)-1))*Constraints!$H$31/Constraints!$D$38+1)))","v":0.97942029665168673},{"$f":"IF(F24=INDEX(MedConf_Header,1,2),(IF($B$31=\"Yes\",((EXP(LN(Roadside!$F$11)*(IF(F$79=\"None\",40,F$78)-30)/30)-1))*Constraints!$H$17/Constraints!$D$24+1,((EXP(LN(Roadside!$F$10)*(IF(F$79=\"None\",40,F$78)-30)/30)-1))*Constraints!$H$17/Constraints!$D$24+1)),(IF($B$31=\"Yes\",((EXP(LN(Roadside!$F$11)*(IF(F$79=\"None\",40,F$78)-30)/30)-1))*Constraints!$H$31/Constraints!$D$38+1,((EXP(LN(Roadside!$F$10)*(IF(F$79=\"None\",40,F$78)-30)/30)-1))*Constraints!$H$31/Constraints!$D$38+1)))","v":1.0472592444132678},{"$f":"IF(G24=INDEX(MedConf_Header,1,2),(IF($B$31=\"Yes\",((EXP(LN(Roadside!$F$11)*(IF(G$79=\"None\",40,G$78)-30)/30)-1))*Constraints!$H$17/Constraints!$D$24+1,((EXP(LN(Roadside!$F$10)*(IF(G$79=\"None\",40,G$78)-30)/30)-1))*Constraints!$H$17/Constraints!$D$24+1)),(IF($B$31=\"Yes\",((EXP(LN(Roadside!$F$11)*(IF(G$79=\"None\",40,G$78)-30)/30)-1))*Constraints!$H$31/Constraints!$D$38+1,((EXP(LN(Roadside!$F$10)*(IF(G$79=\"None\",40,G$78)-30)/30)-1))*Constraints!$H$31/Constraints!$D$38+1)))","v":1.0472592444132678},{"$f":"IF($I$2=\"Existing\",(D187),(IF($I$2=\"Design 1\",(F187),(IF($I$2=\"Design 2\",(G187),(IF($I$2=\"Optimal\",(I187),E187)))))))","v":0.97942029665168673},{"$f":"IF(I24=INDEX(MedConf_Header,1,2),(IF($B$31=\"Yes\",((EXP(LN(Roadside!$F$11)*(IF(I$79=\"None\",40,I$78)-30)/30)-1))*Constraints!$H$17/Constraints!$D$24+1,((EXP(LN(Roadside!$F$10)*(IF(I$79=\"None\",40,I$78)-30)/30)-1))*Constraints!$H$17/Constraints!$D$24+1)),(IF($B$31=\"Yes\",((EXP(LN(Roadside!$F$11)*(IF(I$79=\"None\",40,I$78)-30)/30)-1))*Constraints!$H$31/Constraints!$D$38+1,((EXP(LN(Roadside!$F$10)*(IF(I$79=\"None\",40,I$78)-30)/30)-1))*Constraints!$H$31/Constraints!$D$38+1)))","v":0.97942029665168673},null,{"$f":"INDEX($D187:$I187,K$100)","v":1.0472592444132678},{"$f":"INDEX($D187:$I187,L$100)","v":0.97942029665168673},6.4777606999867676E-2,null,9.0307162971216326E-2]
[null,null,"Roadside Obstruction Type",{"$f":"IF(D24=INDEX(MedConf_Header,1,2),(IF(D$79=\"Guardrail\",(Roadside!$F$25-1)*(($I$78-D$78)/$I$78)^2*Constraints!$H$17/Constraints!$D$24+1,1)),(IF(D$79=\"Guardrail\",(Roadside!$F$25-1)*(($I$78-D$78)/$I$78)^2*Constraints!$H$31/Constraints!$D$38+1,1)))","v":1},{"$f":"IF(E24=INDEX(MedConf_Header,1,2),(IF(E$79=\"Guardrail\",(Roadside!$F$25-1)*(($I$78-E$78)/$I$78)^2*Constraints!$H$17/Constraints!$D$24+1,1)),(IF(E$79=\"Guardrail\",(Roadside!$F$25-1)*(($I$78-E$78)/$I$78)^2*Constraints!$H$31/Constraints!$D$38+1,1)))","v":1},{"$f":"IF(F24=INDEX(MedConf_Header,1,2),(IF(F$79=\"Guardrail\",(Roadside!$F$25-1)*(($I$78-F$78)/$I$78)^2*Constraints!$H$17/Constraints!$D$24+1,1)),(IF(F$79=\"Guardrail\",(Roadside!$F$25-1)*(($I$78-F$78)/$I$78)^2*Constraints!$H$31/Constraints!$D$38+1,1)))","v":1},{"$f":"IF(G24=INDEX(MedConf_Header,1,2),(IF(G$79=\"Guardrail\",(Roadside!$F$25-1)*(($I$78-G$78)/$I$78)^2*Constraints!$H$17/Constraints!$D$24+1,1)),(IF(G$79=\"Guardrail\",(Roadside!$F$25-1)*(($I$78-G$78)/$I$78)^2*Constraints!$H$31/Constraints!$D$38+1,1)))","v":1},{"$f":"IF($I$2=\"Existing\",(D188),(IF($I$2=\"Design 1\",(F188),(IF($I$2=\"Design 2\",(G188),(IF($I$2=\"Optimal\",(I188),E188)))))))","v":1},{"$f":"IF(I24=INDEX(MedConf_Header,1,2),(IF(I$79=\"Guardrail\",(Roadside!$F$25-1)*(($I$78-I$78)/$I$78)^2*Constraints!$H$17/Constraints!$D$24+1,1)),(IF(I$79=\"Guardrail\",(Roadside!$F$25-1)*(($I$78-I$78)/$I$78)^2*Constraints!$H$31/Constraints!$D$38+1,1)))","v":1},null,{"$f":"INDEX($D188:$I188,K$100)","v":1},{"$f":"INDEX($D188:$I188,L$100)","v":1},0,null,0]
[null,null,null,null,null,null,null,null,null,null,{"$f":"INDEX($D189:$I189,K$100)","v":0},{"$f":"INDEX($D189:$I189,L$100)","v":0},0]
[null,null,null,null,null,null,null,null,null,null,{"$f":"INDEX($D190:$I190,K$100)","v":0},{"$f":"INDEX($D190:$I190,L$100)","v":0},0]
[null,null,"COMBINED Calculated CMF",{"$f":"+D184*D185*D186*D187*D188","v":1.0232896747360256},{"$f":"+E184*E185*E186*E187*E188","v":0.82567459604163929},1.0232896747360256,1.0232896747360256,{"$f":"IF($I$2=\"Existing\",(D191),(IF($I$2=\"Design 1\",(F191),(IF($I$2=\"Design 2\",(G191),(IF($I$2=\"Optimal\",(I191),E191)))))))","v":0.82567459604163929},{"$f":"+I184*I185*I186*I187*I188","v":0.75970050156555824},null,{"$f":"INDEX($D191:$I191,K$100)","v":1.0232896747360256},{"$f":"INDEX($D191:$I191,L$100)","v":0.82567459604163929},0.1931174364144389]
[null,null,"Calculated Relative to Design Standards (Column E)",{"$f":"+D191/$E$191","v":1.2393377241370527},{"$f":"+E191/$E$191","v":1},1.2393377241370527,1.2393377241370527,1,{"$f":"+I191/$E$191","v":0.92009673690777583},null,{"$f":"INDEX($D192:$I192,K$100)","v":1.2393377241370527},{"$f":"INDEX($D192:$I192,L$100)","v":1},0.1931174364144389]
[null,null,"P(Crash)",{"$f":"+D192/(D192+1)","v":0.55343939896990835},0.5,0.55343939896990835,0.55343939896990835,0.5,{"$f":"+I192/(I192+1)","v":0.47919290691027777},null,{"$f":"INDEX($D193:$I193,K$100)","v":0.55343939896990835},{"$f":"INDEX($D193:$I193,L$100)","v":0.5},9.6558718207219618E-2]
[null,null,"Factor Change on S curve",{"$f":"+D193/$E$193","v":1.1068787979398167},{"$f":"+E193/$E$193","v":1},1.1068787979398167,1.1068787979398167,1,{"$f":"+I193/$E$193","v":0.95838581382055554},null,{"$f":"INDEX($D194:$I194,K$100)","v":1.1068787979398167},{"$f":"INDEX($D194:$I194,L$100)","v":1},9.6558718207219618E-2]
[null,null,"Adjust to Scale of 100",{"$f":"+$I$118/D194*100","v":{"$error":"#VALUE!"}},{"$error":"#VALUE!"},{"$error":"#VALUE!"},{"$error":"#VALUE!"},{"$error":"#VALUE!"},{"$f":"+$I$118/I194*100","v":{"$error":"#VALUE!"}},null,{"$f":"INDEX($D195:$I195,K$100)","v":{"$error":"#VALUE!"}},{"$f":"INDEX($D195:$I195,L$100)","v":{"$error":"#VALUE!"}},0]
[null,null,"Unadjusted Combined Relative to Standard",{"$f":"+D191/$E$191","v":1.2393377241370527},{"$f":"+E191/$E$191","v":1},1.2393377241370527,1.2393377241370527,1,{"$f":"+I191/$E$191","v":0.92009673690777583},{"$f":"I202/E202","v":1.0810810810810811},{"$f":"INDEX($D196:$I196,K$100)","v":1.2393377241370527},{"$f":"INDEX($D196:$I196,L$100)","v":1},0.1931174364144389]
[null,null,null,null,null,null,null,null,null,null,{"$f":"INDEX($D197:$I197,K$100)","v":0},{"$f":"INDEX($D197:$I197,L$100)","v":0},0]
[null,null,"Adjusted for PA Basis",{"$f":"+D191*(1+1)/(1+D191*1)","v":1.0115107960203793},0.90451452611745442,1.0115107960203793,1.0115107960203793,{"$f":"IF($I$2=\"Existing\",(D198),(IF($I$2=\"Design 1\",(F198),(IF($I$2=\"Design 2\",(G198),(IF($I$2=\"Optimal\",(I198),E198)))))))","v":0.90451452611745442},{"$f":"+I191*(1+1)/(1+I191*1)","v":0.86344295621859868},null,{"$f":"INDEX($D198:$I198,K$100)","v":1.0115107960203793},{"$f":"INDEX($D198:$I198,L$100)","v":0.90451452611745442},0.10577867317272727]
[null,null,"Corrected by Odds Ratio",{"$f":"+D191/$E$191","v":1.2393377241370527},{"$f":"+E191/$E$191","v":1},1.2393377241370527,1.2393377241370527,{"$f":"IF($I$2=\"Existing\",(D199),(IF($I$2=\"Design 1\",(F199),(IF($I$2=\"Design 2\",(G199),(IF($I$2=\"Optimal\",(I199),E199)))))))","v":1},{"$f":"+I191/$E$191","v":0.92009673690777583},{"$f":"I205/E205","v":1.4814814814814814},{"$f":"INDEX($D199:$I199,K$100)","v":1.2393377241370527},{"$f":"INDEX($D199:$I199,L$100)","v":1},0.1931174364144389]
[null,null,null,{"$f":"(1/D199)^$D203","v":1.8666691582346016E-8},{"$f":"(1/E199)^$D203","v":1},1.8666691582346016E-8,1.8666691582346016E-8,1,998.99999999999955]
[null,null,null,{"$f":"(D200+$F204-1)/(1+(D200+$F204-1))","v":0.50000000466667294},{"$f":"(E200+$F204-1)/(1+(E200+$F204-1))","v":0.66666666666666663},0.50000000466667294,0.50000000466667294,0.66666666666666663,0.99900099900099903]
[null,null,"Score Odds Ratio with Optimal as 100 (old)",{"$f":"MIN(ROUND($I$199/D199*Construction!$I$4,0),$I202)","v":30},{"$f":"MIN(ROUND($I$199/E199*Construction!$I$4,0),$I202)","v":37},{"$f":"MIN(ROUND($I$199/F199*Construction!$I$4,0),$I202)","v":30},{"$f":"MIN(ROUND($I$199/G199*Construction!$I$4,0),$I202)","v":30},null,{"$f":"ROUND($I$199/I199*Construction!$I$4,0)","v":40}]
[null,null,"Logistic1",{"$f":"LN((D204/(1-D204))/(0.5/0.5))/LN($E199/I199)","v":82.937655007418002}]
[null,null,"Logistic Param",0.999,null,2]
[null,null,"Score ",{"$f":"MIN(ROUND(D201*Construction!$I$4,0),$I202)","v":20},{"$f":"MIN(ROUND(E201*Construction!$I$4,0),$I202)","v":27},{"$f":"MIN(ROUND(F201*Construction!$I$4,0),$I202)","v":20},{"$f":"MIN(ROUND(G201*Construction!$I$4,0),$I202)","v":20},null,{"$f":"MIN(ROUND(I201*Construction!$I$4,0),$I202)","v":40}]
[]
[]
[]
[]
[null,null,{"$f":"D87/D183","v":{"$error":"#DIV/0!"}},null,{"$f":"ROUNDUP((MIN($I$14,$I$15)-E27-E28)/$C$210,0)","v":{"$error":"#DIV/0!"}},{"$f":"ROUNDUP((MIN($I$14,$I$15)-F27-F28)/$C$210,0)","v":{"$error":"#DIV/0!"}},{"$f":"ROUNDUP((MIN($I$14,$I$15)-G27-G28)/$C$210,0)","v":{"$error":"#DIV/0!"}},null,{"$f":"ROUNDUP((MIN($I$14,$I$15)-I27-I28)/$C$210,0)","v":{"$error":"#DIV/0!"}}]
[]
[]
[null,null,"Distance to low point","Distance to low point",{"$f":"$C$210*E183","v":{"$error":"#DIV/0!"}},{"$f":"$C$210*F183","v":{"$error":"#DIV/0!"}},{"$error":"#DIV/0!"},null,{"$f":"$C$210*I183","v":{"$error":"#DIV/0!"}}]
[null,null,null,"Additional ROW1 Needed for Foreslope",{"$f":"IF(E213>($I$14-E27-E28),E213-($I$14-E27-E28),0)","v":{"$error":"#DIV/0!"}},{"$f":"IF(F213>($I$14-F27-F28),F213-($I$14-F27-F28),0)","v":{"$error":"#DIV/0!"}},{"$f":"IF(G213>($I$14-G27-G28),G213-($I$14-G27-G28),0)","v":{"$error":"#DIV/0!"}},null,{"$f":"IF(I213>($I$14-I27-I28),I213-($I$14-I27-I28),0)","v":{"$error":"#DIV/0!"}}]
[null,null,null,"Additional ROW2 Needed for Foreslope",{"$f":"IF(E213>($I$15-E27-E28),E213-($I$15-E27-E28),0)","v":{"$error":"#DIV/0!"}},{"$f":"IF(F213>($I$15-F27-F28),F213-($I$15-F27-F28),0)","v":{"$error":"#DIV/0!"}},{"$f":"IF(G213>($I$15-G27-G28),G213-($I$15-G27-G28),0)","v":{"$error":"#DIV/0!"}},null,{"$f":"IF(I213>($I$15-I27-I28),I213-($I$15-I27-I28),0)","v":{"$error":"#DIV/0!"}}]
[]
[null,null,null,"Additional ROW1 Needed for Lateral Clearance",{"$f":"IF((CL251+E30)-$I$14<0,0,(CL251+E30)-$I$14)","v":2},{"$f":"IF((CM251+F30)-$I$14<0,0,(CM251+F30)-$I$14)","v":0},{"$f":"IF((CN251+G30)-$I$14<0,0,(CN251+G30)-$I$14)","v":0},null,{"$f":"IF((CP251+I30)-$I$14<0,0,(CP251+I30)-$I$14)","v":2}]
[null,null,null,"Additional ROW2 Needed for Lateral Clearance",{"$f":"IF((CL251+E30)-$I$15<0,0,(CL251+E30)-$I$15)","v":2},{"$f":"IF((CM251+F30)-$I$15<0,0,(CM251+F30)-$I$15)","v":0},{"$f":"IF((CN251+G30)-$I$15<0,0,(CN251+G30)-$I$15)","v":0},null,{"$f":"IF((CP251+I30)-$I$15<0,0,(CP251+I30)-$I$15)","v":2}]
[]
[]
[]
[]
[]
[]
[]
[]
[]
[]
[]
[null,null,"For Vertical Opt Use when Yes Vertical:"]
[null,null,"G1",{"$f":"D40","v":0},null,{"$f":"F40","v":0},{"$f":"G40","v":0},null,{"$f":"IF(ISERROR($E$238),\"\",INDEX(D231:G231,$E$238))","v":""}]
[null,null,"G2",{"$f":"D41","v":0},null,{"$f":"F41","v":0},{"$f":"G41","v":0},null,{"$f":"IF(ISERROR($E$238),\"\",INDEX(D232:G232,$E$238))","v":""}]
[null,null,"abs(G2-G1)",{"$f":"ABS(D40-D41)","v":0},null,{"$f":"ABS(F40-F41)","v":0},{"$f":"ABS(G40-G41)","v":0}]
[null,null,"Count in indicator (K no change; or K change but accept)",{"$f":"IF(D43<>\"\",1,\"\")","v":""},null,{"$f":"IF(OR(AND($B$38 = \"Yes\", $D$43 <> F43, F43 <>\"\", $D$43 <> \"\", F45=\"Yes.\"),AND($B$38 = \"Yes\", $D$43 = F43, F43 <>\"\", $D$43 <> \"\")), 1,\"\")","v":""},{"$f":"IF(OR(AND($B$38 = \"Yes\", $D$43 <> G43, G43 <>\"\", $D$43 <> \"\", G45=\"Yes.\"),AND($B$38 = \"Yes\", $D$43 = G43, G43 <>\"\", $D$43 <> \"\")), 1,\"\")","v":""}]
[]
[null,null,"Valid abs(G2-G1)",{"$f":"IF(ISERROR(D233*D234),\"\",D233*D234)","v":""},null,{"$f":"IF(ISERROR(F233*F234),\"\",F233*F234)","v":""},{"$f":"IF(ISERROR(G233*G234),\"\",G233*G234)","v":""}]
[null,null,"The min valid abs(G2-G1)",null,{"$f":"MIN(D236,F236,G236)","v":0}]
[null,null,"Index",null,{"$f":"MATCH(E237,D236:G236,0)","v":{"$error":"#N/A"}}]
[]
[null,null,"For Vertical Opt Use When No Vertical:"]
[null,null,"G1",{"$f":"IF(ISBLANK(D40), 999, D40)","v":999},null,{"$f":"IF(ISBLANK(F40), 999, F40)","v":999},{"$f":"IF(ISBLANK(G40), 999, G40)","v":999},null,{"$f":"IF(E246=999,\"\",E246)","v":""}]
[null,null,"Sign of G1",{"$f":"IF(D241>=0,1,-1)","v":1},null,{"$f":"IF(F241>=0,1,-1)","v":1},{"$f":"IF(G241>=0,1,-1)","v":1}]
[null,null,"Abs G1",{"$f":"ABS(D241)","v":999},null,{"$f":"ABS(F241)","v":999},{"$f":"ABS(G241)","v":999}]
[null,null,"Min Abs G1",null,{"$f":"MIN(D243:G243)","v":999}]
[null,null,"Which is the Best G1",null,{"$f":"MATCH(E244,D243:G243,0)","v":1}]
[null,null,"Best G1 Value",null,{"$f":"INDEX(D241:G241,1,E245)","v":999}]
[]
[]
[null,null,"Check if all cells filled",{"$f":"SUM(D251:D314)","v":19},{"$f":"SUM(E251:E314)","v":1},19,19,0,0]
[]
[null,null,{"$f":"C24","v":"Configuration of Multilane Roadway"},{"$f":"IF(ISBLANK(D24),1,0)","v":1},{"$f":"IF(ISBLANK(E24),1,0)","v":0},1,1,null,0]
[null,null,{"$f":"C25","v":"Median Configuration (Width or Type)"},{"$f":"IF(AND(D24<>\"No Median\", ISBLANK(D25)),1,0)","v":1},0,{"$f":"IF(AND(F24<>\"No Median\", ISBLANK(F25)),1,0)","v":1},{"$f":"IF(AND(G24<>\"No Median\", ISBLANK(G25)),1,0)","v":1},null,0]
[]
[null,null,"Lane Width (feet)",{"$f":"IF(ISBLANK(D27),1,0)","v":1},0,1,1,null,{"$f":"IF(ISBLANK(I27),1,0)","v":0}]
[null,null,"Average Outside Shoulder Width (feet)",1,0,1,1,null,0]
[null,null,"Average Inside Shoulder Width (feet)",1,0,1,1,null,0]
[null,null,"Number of Lanes per Direction of Travel",1,0,1,1,null,0]
[null,null,"Horizontal Curve Present?"]
[null,null,"Horizontal Curve Data for Controlling Element:"]
[null,null,"  Radius (feet)",{"$f":"IF(AND($B$31=\"Yes\", ISBLANK(D33)),1,0)","v":0},null,{"$f":"IF(AND($B$31=\"Yes\", ISBLANK(F33)),1,0)","v":0},{"$f":"IF(AND($B$31=\"Yes\", ISBLANK(G33)),1,0)","v":0},null,{"$f":"IF(ISBLANK(I33),1,0)","v":0}]
[null,null,"Length of Horizontal Curve (feet)",{"$f":"IF(AND($B$31=\"Yes\", ISBLANK(D34)),1,0)","v":0},null,{"$f":"IF(AND($B$31=\"Yes\", ISBLANK(F34)),1,0)","v":0},{"$f":"IF(AND($B$31=\"Yes\", ISBLANK(G34)),1,0)","v":0},null,0]
[null,null,"Calculated Deflection Angle ∆"]
[]
[null,null,null,null,null,{"$f":"IF(AND($B$31 = \"Yes\", $D$35 <> F35, F35<>\"\",ISBLANK(F37)),1,0)","v":0},{"$f":"IF(AND($B$31 = \"Yes\", $D$35 <> G35, G35<>\"\",ISBLANK(G37)),1,0)","v":0}]
[null,null,"Vertical Curve Present?"]
[null,null,"Vertical Curve Data for Controlling Element:"]
[null,null,"  Approach (Entry) Grade, G1 (%)",{"$f":"IF(ISBLANK(D40),1,0)","v":1},0,1,1,null,{"$f":"IF(ISBLANK(I40),1,0)","v":0}]
[null,null,"  Departure (Exit) Grade, G2 (%)",{"$f":"IF(AND($B$38=\"Yes\", ISBLANK(D41)),1,0)","v":0},{"$f":"IF(AND($B$38=\"Yes\", ISBLANK(E41)),1,0)","v":0},0,0,null,0]
[null,null,"  Length (feet)",{"$f":"IF(AND($B$38=\"Yes\", ISBLANK(D42)),1,0)","v":0},0,0,0,null,0]
[null,null,"  Calculated Rate of Change, K (ft/ft)"]
[]
[]
[null,null,"  Calculated Sag or Crest?"]
[]
[]
[null,null,"Geometric Design Element (Partial Score)"]
[null,null,"Total Safety Score"]
[]
[]
[]
[]
[]
[null,null,"Advance Static Curve Warning Signs",{"$f":"IF(AND($B$31=\"Yes\", ISBLANK(D56)),1,0)","v":0},{"$f":"IF(AND($B$31=\"Yes\", ISBLANK(E56)),1,0)","v":0},0,0,null,{"$f":"IF(ISBLANK(I56),1,0)","v":0}]
[null,null,"Chevron Signs on Horizontal Curves",{"$f":"IF(AND($B$31=\"Yes\", ISBLANK(D57)),1,0)","v":0},0,0,0,null,0]
[null,null,"Post-Mounted Delineators",0,0,0,0,null,0]
[null,null,"Edgeline Pavement Markings or Profile Markings",{"$f":"IF(ISBLANK(D59),1,0)","v":1},0,1,1,null,0]
[null,null,"Shoulder Rumble Strips",1,0,1,1,null,0]
[null,null,"Centerline Rumble Strips",1,0,1,1,null,0]
[null,null,"Driveway Density (driveways per mile)",1,0,1,1,null,0]
[null,null,"Lighting",1,0,1,1,null,0]
[null,null,"Pavement Friction (skid number) ***",1,0,1,1,null,0]
[null,null,"Traffic Control Element (Partial Score):"]
[null,null,"Total Safety Score"]
[]
[]
[]
[]
[]
[]
[]
[]
[null,null,"Roadside Sideslope (Foreslope)",{"$f":"IF(ISBLANK(D75),1,0)","v":1},0,1,1,null,{"$f":"IF(ISBLANK(I75),1,0)","v":0}]
[null,null,"Roadside Backslope",1,0,1,1,null,0]
[null,null,"Safety Edge",1,0,1,1,null,0]
[null,null,"Roadside Lateral Clearance to Obstruction (ft)",1,0,1,1,null,0]
[null,null,"Roadside Obstruction Type",1,0,1,1,null,0]
[null,null,"Roadside Element (Partial Score):"]
[null,null,"Total Safety Score"]
[]
[]
[]
[]
[]
[null,null,"Distance to Slope Toe from Shoulder (ft)",{"$f":"IF(ISBLANK(D87),1,0)","v":1},{"$f":"D314","v":1},{"$f":"E314","v":1},1,null,0]
[null,null,null,null,null,null,null,null,{"$f":"SUM(I316:I324)","v":9}]
[null,null,null,null,null,null,null,{"$f":"F9","v":"Location "},{"$f":"IF(ISBLANK(I9),1,0)","v":1}]
[null,null,null,null,null,null,null,{"$f":"F10","v":"Design Speed (mph)"},{"$f":"IF(ISBLANK(I10),1,0)","v":1}]
[null,null,null,null,null,null,null,"Posted Speed (mph)",1]
[null,null,null,null,null,null,null,"E max (%)",1]
[null,null,null,null,null,null,null,"    Design Year AADT (vehicles per day)",1]
[null,null,null,null,null,null,null,"    Dist. from Centerline to Left   ROW (feet)",1]
[null,null,null,null,null,null,null,"    Dist. from Centerline to Right ROW (feet)",1]
[null,null,null,null,null,null,null,"H CV",{"$f":"IF(ISBLANK(B31),1,0)","v":1}]
[null,null,null,null,null,null,null,"V HV",{"$f":"IF(ISBLANK(B38),1,0)","v":1}]
[]
[]
[]
[]
[]
[]
[]
[]
[]
[]
[]
[]
[]
[]
[]
[]
[]
[]
[]
[]
[]
[]
[]
[]
[]
[]
[]
[]
[]
[]
[]
[]
[]
[]
[]
[]
[]
[]
[]
[]
[]
[]
[]
[]
[]
[]
[]
[]
[]
[]
[]
[]
[]
[]
[1]
[22]
[21]
[20]
[19,null,null,{"$f":"Constraints!P174","v":"Emax=6%"}]
[18]
[17,null,{"$f":"HLOOKUP($I$10,Constraints!$Q$176:AD197,A379,TRUE)","v":{"$error":"#N/A"}},{"$f":"Constraints!P176","v":"super"}]
[16,null,{"$f":"HLOOKUP($I$10,Constraints!$Q$176:AD198,A380,TRUE)","v":{"$error":"#N/A"}},{"$f":"Constraints!P197","v":6},1050]
[15,null,{"$f":"HLOOKUP($I$10,Constraints!$Q$176:AD199,A381,TRUE)","v":{"$error":"#N/A"}},{"$f":"Constraints!P196","v":5.8}]
[14,null,{"$f":"HLOOKUP($I$10,Constraints!$Q$176:AD200,A382,TRUE)","v":{"$error":"#N/A"}},{"$f":"Constraints!P195","v":5.6}]
[13,null,{"$f":"HLOOKUP($I$10,Constraints!$Q$176:AD201,A383,TRUE)","v":{"$error":"#N/A"}},{"$f":"Constraints!P194","v":5.4}]
[12,null,{"$f":"HLOOKUP($I$10,Constraints!$Q$176:AD202,A384,TRUE)","v":{"$error":"#N/A"}},{"$f":"Constraints!P193","v":5.2}]
[11,null,{"$f":"HLOOKUP($I$10,Constraints!$Q$176:AD203,A385,TRUE)","v":{"$error":"#N/A"}},{"$f":"Constraints!P192","v":5}]
[10,null,{"$f":"HLOOKUP($I$10,Constraints!$Q$176:AD204,A386,TRUE)","v":{"$error":"#N/A"}},{"$f":"Constraints!P191","v":4.8}]
[9,null,{"$f":"HLOOKUP($I$10,Constraints!$Q$176:AD205,A387,TRUE)","v":{"$error":"#N/A"}},{"$f":"Constraints!P190","v":4.5999999999999996}]
[8,null,{"$f":"HLOOKUP($I$10,Constraints!$Q$176:AD206,A388,TRUE)","v":{"$error":"#N/A"}},{"$f":"Constraints!P189","v":4.4000000000000004}]
[7,null,{"$f":"HLOOKUP($I$10,Constraints!$Q$176:AD207,A389,TRUE)","v":{"$error":"#N/A"}},{"$f":"Constraints!P188","v":4.2}]
[6,null,{"$f":"HLOOKUP($I$10,Constraints!$Q$176:AD208,A390,TRUE)","v":{"$error":"#N/A"}},{"$f":"Constraints!P187","v":4}]
[5,null,{"$f":"HLOOKUP($I$10,Constraints!$Q$176:AD209,A391,TRUE)","v":{"$error":"#N/A"}},{"$f":"Constraints!P186","v":3.8}]
[4,null,{"$f":"HLOOKUP($I$10,Constraints!$Q$176:AD210,A392,TRUE)","v":{"$error":"#N/A"}},{"$f":"Constraints!P185","v":3.6}]
[3,null,{"$f":"HLOOKUP($I$10,Constraints!$Q$176:AD211,A393,TRUE)","v":{"$error":"#N/A"}},{"$f":"Constraints!P184","v":3.4}]
[2,null,{"$f":"HLOOKUP($I$10,Constraints!$Q$176:AD212,A394,TRUE)","v":{"$error":"#N/A"}},{"$f":"Constraints!P183","v":3.2}]
[null,null,{"$f":"HLOOKUP($I$10,Constraints!$Q$176:AD213,A395,TRUE)","v":{"$error":"#N/A"}},{"$f":"Constraints!P182","v":3}]
[null,null,{"$f":"HLOOKUP($I$10,Constraints!$Q$176:AD214,A396,TRUE)","v":{"$error":"#N/A"}},{"$f":"Constraints!P181","v":2.8}]
[null,null,{"$f":"HLOOKUP($I$10,Constraints!$Q$176:AD215,A397,TRUE)","v":{"$error":"#N/A"}},{"$f":"Constraints!P180","v":2.6}]
[null,null,{"$f":"HLOOKUP($I$10,Constraints!$Q$176:AD216,A398,TRUE)","v":{"$error":"#N/A"}},{"$f":"Constraints!P179","v":2.4}]
[null,null,{"$f":"HLOOKUP($I$10,Constraints!$Q$176:AD217,A399,TRUE)","v":{"$error":"#N/A"}},{"$f":"Constraints!P178","v":2.2000000000000002}]
[1,null,{"$f":"HLOOKUP($I$10,Constraints!$Q$176:AD218,A400,TRUE)","v":{"$error":"#N/A"}},{"$f":"Constraints!P177","v":2}]
[32]
[31]
[30]
[29,null,null,{"$f":"Constraints!P201","v":"Emax=8%"}]
[28]
[27,null,{"$f":"HLOOKUP($I$10,Constraints!$Q$203:AD234,A406,TRUE)","v":{"$error":"#N/A"}},{"$f":"Constraints!P203","v":"super"}]
[26,null,{"$f":"HLOOKUP($I$10,Constraints!$Q$203:AD235,A407,TRUE)","v":{"$error":"#N/A"}},{"$f":"INDEX(Constraints!$P$203:$P$234,A407,)","v":8}]
[25,null,{"$f":"HLOOKUP($I$10,Constraints!$Q$203:AD236,A408,TRUE)","v":{"$error":"#N/A"}},{"$f":"INDEX(Constraints!$P$203:$P$234,A408,)","v":7.8}]
[24,null,{"$f":"HLOOKUP($I$10,Constraints!$Q$203:AD237,A409,TRUE)","v":{"$error":"#N/A"}},{"$f":"INDEX(Constraints!$P$203:$P$234,A409,)","v":7.6}]
[23,null,{"$f":"HLOOKUP($I$10,Constraints!$Q$203:AD238,A410,TRUE)","v":{"$error":"#N/A"}},{"$f":"INDEX(Constraints!$P$203:$P$234,A410,)","v":7.4}]
[22,null,{"$f":"HLOOKUP($I$10,Constraints!$Q$203:AD239,A411,TRUE)","v":{"$error":"#N/A"}},{"$f":"INDEX(Constraints!$P$203:$P$234,A411,)","v":7.2}]
[21,null,{"$f":"HLOOKUP($I$10,Constraints!$Q$203:AD240,A412,TRUE)","v":{"$error":"#N/A"}},{"$f":"INDEX(Constraints!$P$203:$P$234,A412,)","v":7}]
[20,null,{"$f":"HLOOKUP($I$10,Constraints!$Q$203:AD241,A413,TRUE)","v":{"$error":"#N/A"}},{"$f":"INDEX(Constraints!$P$203:$P$234,A413,)","v":6.8}]
[19,null,{"$f":"HLOOKUP($I$10,Constraints!$Q$203:AD242,A414,TRUE)","v":{"$error":"#N/A"}},{"$f":"INDEX(Constraints!$P$203:$P$234,A414,)","v":6.6}]
[18,null,{"$f":"HLOOKUP($I$10,Constraints!$Q$203:AD243,A415,TRUE)","v":{"$error":"#N/A"}},{"$f":"INDEX(Constraints!$P$203:$P$234,A415,)","v":6.4}]
[17,null,{"$f":"HLOOKUP($I$10,Constraints!$Q$203:AD244,A416,TRUE)","v":{"$error":"#N/A"}},{"$f":"INDEX(Constraints!$P$203:$P$234,A416,)","v":6.2}]
[16,null,{"$f":"HLOOKUP($I$10,Constraints!$Q$203:AD245,A417,TRUE)","v":{"$error":"#N/A"}},{"$f":"INDEX(Constraints!$P$203:$P$234,A417,)","v":6}]
[15,null,{"$f":"HLOOKUP($I$10,Constraints!$Q$203:AD246,A418,TRUE)","v":{"$error":"#N/A"}},{"$f":"INDEX(Constraints!$P$203:$P$234,A418,)","v":5.8}]
[14,null,{"$f":"HLOOKUP($I$10,Constraints!$Q$203:AD247,A419,TRUE)","v":{"$error":"#N/A"}},{"$f":"INDEX(Constraints!$P$203:$P$234,A419,)","v":5.6}]
[13,null,{"$f":"HLOOKUP($I$10,Constraints!$Q$203:AD248,A420,TRUE)","v":{"$error":"#N/A"}},{"$f":"INDEX(Constraints!$P$203:$P$234,A420,)","v":5.4}]
[12,null,{"$f":"HLOOKUP($I$10,Constraints!$Q$203:AD249,A421,TRUE)","v":{"$error":"#N/A"}},{"$f":"INDEX(Constraints!$P$203:$P$234,A421,)","v":5.2}]
[11,null,{"$f":"HLOOKUP($I$10,Constraints!$Q$203:AD250,A422,TRUE)","v":{"$error":"#N/A"}},{"$f":"INDEX(Constraints!$P$203:$P$234,A422,)","v":5}]
[10,null,{"$f":"HLOOKUP($I$10,Constraints!$Q$203:AD251,A423,TRUE)","v":{"$error":"#N/A"}},{"$f":"INDEX(Constraints!$P$203:$P$234,A423,)","v":4.8}]
[9,null,{"$f":"HLOOKUP($I$10,Constraints!$Q$203:AD252,A424,TRUE)","v":{"$error":"#N/A"}},{"$f":"INDEX(Constraints!$P$203:$P$234,A424,)","v":4.5999999999999996}]
[8,null,{"$f":"HLOOKUP($I$10,Constraints!$Q$203:AD253,A425,TRUE)","v":{"$error":"#N/A"}},{"$f":"INDEX(Constraints!$P$203:$P$234,A425,)","v":4.4000000000000004}]
[7,null,{"$f":"HLOOKUP($I$10,Constraints!$Q$203:AD254,A426,TRUE)","v":{"$error":"#N/A"}},{"$f":"INDEX(Constraints!$P$203:$P$234,A426,)","v":4.2}]
[6,null,{"$f":"HLOOKUP($I$10,Constraints!$Q$203:AD255,A427,TRUE)","v":{"$error":"#N/A"}},{"$f":"INDEX(Constraints!$P$203:$P$234,A427,)","v":4}]
[5,null,{"$f":"HLOOKUP($I$10,Constraints!$Q$203:AD256,A428,TRUE)","v":{"$error":"#N/A"}},{"$f":"INDEX(Constraints!$P$203:$P$234,A428,)","v":3.8}]
[4,null,{"$f":"HLOOKUP($I$10,Constraints!$Q$203:AD257,A429,TRUE)","v":{"$error":"#N/A"}},{"$f":"INDEX(Constraints!$P$203:$P$234,A429,)","v":3.6}]
[3,null,{"$f":"HLOOKUP($I$10,Constraints!$Q$203:AD258,A430,TRUE)","v":{"$error":"#N/A"}},{"$f":"INDEX(Constraints!$P$203:$P$234,A430,)","v":3.4}]
[2,null,{"$f":"HLOOKUP($I$10,Constraints!$Q$203:AD259,A431,TRUE)","v":{"$error":"#N/A"}},{"$f":"INDEX(Constraints!$P$203:$P$234,A431,)","v":3.2}]
[null,null,{"$f":"HLOOKUP($I$10,Constraints!$Q$203:AD260,A432,TRUE)","v":{"$error":"#N/A"}},{"$f":"INDEX(Constraints!$P$203:$P$234,A432,)","v":3}]
[null,null,{"$f":"HLOOKUP($I$10,Constraints!$Q$203:AD261,A433,TRUE)","v":{"$error":"#N/A"}},{"$f":"INDEX(Constraints!$P$203:$P$234,A433,)","v":2.8}]
[null,null,{"$f":"HLOOKUP($I$10,Constraints!$Q$203:AD262,A434,TRUE)","v":{"$error":"#N/A"}},{"$f":"INDEX(Constraints!$P$203:$P$234,A434,)","v":2.6}]
[null,null,{"$f":"HLOOKUP($I$10,Constraints!$Q$203:AD263,A435,TRUE)","v":{"$error":"#N/A"}},{"$f":"INDEX(Constraints!$P$203:$P$234,A435,)","v":2.4}]
[null,null,{"$f":"HLOOKUP($I$10,Constraints!$Q$203:AD264,A436,TRUE)","v":{"$error":"#N/A"}},{"$f":"INDEX(Constraints!$P$203:$P$234,A436,)","v":2.2000000000000002}]
[null,null,{"$f":"HLOOKUP($I$10,Constraints!$Q$203:AD265,A437,TRUE)","v":{"$error":"#N/A"}},{"$f":"INDEX(Constraints!$P$203:$P$234,A437,)","v":2}]

{"sheet":"Configuration 13","index":23,"n_rows":443,"n_cols":113,"rows_kept":443,"cut":false,"hidden":false,"merged":[[87,1,87,2],[88,1,88,2],[89,1,89,2],[97,10,97,12],[69,16,69,21],[69,22,69,23],[70,16,70,21],[70,22,70,23],[71,16,71,21],[71,22,71,23],[68,16,68,21],[68,22,68,23],[17,2,17,8],[18,2,18,8],[19,2,19,8],[20,5,20,7],[41,9,41,10],[46,2,47,2],[4,21,44,28],[48,12,48,19],[55,15,55,16],[55,18,55,19],[55,21,55,22],[67,16,67,23],[4,3,4,4],[9,3,9,4],[9,5,9,6],[10,3,10,4],[10,5,10,6],[8,3,8,4],[8,5,8,6],[12,2,15,4],[12,5,12,6],[13,5,13,6],[14,5,14,6],[11,5,11,6],[1,6,2,7],[1,8,2,8],[1,21,1,37],[2,1,2,4],[2,21,3,28],[2,30,3,37],[3,1,3,4],[3,6,4,7],[3,8,4,8],[4,1,4,2],[4,30,44,37],[5,1,5,2],[5,3,5,4],[6,1,6,7],[7,1,7,4],[7,7,7,8]]}
[]
[null,null,null,null,null,null,"Preferred Schematic View to Display",null,"Standard",null,null,null,null,null,null,null,null,null,null,null,null,"NOTES: "]
[null,"CHARACTERISTICS TO CONSIDER FOR ANALYSIS",null,null,null,null,null,null,null,null,null,null,null,null,null,null,null,null,null,null,null,"ELEMENTS INCREASING SAFETY",null,null,null,null,null,null,null,null,"COMMENTS ON PRIMARY CONSTRAINTS"]
[null,"INPUT INSTRUCTIONS",null,null,null,null,"Relative to",null,"Existing"]
[null,"Blue Boxes -- Select from pulldown options",null,"Select from Pulldown"]
[null,"Yellow Boxes -- Type input information into box",null,"Type Input Value"]
[null," Rural Multi-Lane Road Segment -- Safety Score Input",null,null,null,null,null,null,null,null,null,null,null,null,null,null,null,null,null,null,null,null,null,null,null,null,null,null,null,null,null,null,null,null,null,null,null,null,null,null,null,null,null,null,null,null,null,null,null,null,null,null,null,null,null,null,null,null,null,null,null,null,null,null,null,null,null,null,null,null,null,null,null,null,null,null,null,null,null,null,null,null,null,"Unadjusted Marginal Safety"]
[null,"General Information:",null,null,null,"General Site Features",null,{"$f":" I315 & \" Missing Features and Curves\"","v":"9 Missing Features and Curves"},null,null,null,null,null,null,null,null,null,null,null,null,null,null,null,null,null,null,null,null,null,null,null,null,null,null,null,null,null,null,null,null,null,null,null,null,null,null,null,null,null,null,null,null,null,null,null,null,null,null,null,null,null,null,null,null,null,null,null,null,null,null,null,null,null,null,null,null,null,null,null,null,null,null,null,{"$f":"I2&\" relative to \" &I4","v":"Standard relative to Existing"}]
[null,null,"Analyst:",{"$f":"+'Start Here'!H7","v":0},null,"Location "]
[null,null,"Agency or Company:",{"$f":"+'Start Here'!H8","v":0},null,"Design Speed (mph)"]
[null,null,"Date:",{"$f":"+'Start Here'!H9","v":"00:00:00"},null,"Posted Speed (mph)"]
[null,null,"Description:",null,null,"E max (%)"]
[null,null,"Input additional site information here",null,null,"    Design Year AADT (vehicles per day)"]
[null,null,null,null,null,"    Dist. from Centerline to Left   ROW (feet)"]
[null,null,null,null,null,"    Dist. from Centerline to Right ROW (feet)"]
[]
[null,"Warning:"]
[null,null,{"$f":"+IF(+I11>I10,\"Posted speed exceeds design speed. Optimal safety will only be achieved if design speed exceeds posted speed. The Safety Assessment Score is based on the higher of the two speed values.\",\"No speed warnings identified\")","v":"No speed warnings identified"}]
[null,null,{"$f":"IF(OR(F24=INDEX(MedConf_Header,1,3),+G24=INDEX(MedConf_Header,1,3)), \"Multilane undivided facilities are known to have substantially more collisions than multilane facilities with medians. In new construction a median or TWLTL should be considered.\",\" \")","v":" "},null,null,null,null,null,null,null,null,null,null,null,null,null,null,null,null,null,null,null,null,null,null,null,null,null,null,null,null,null,null,null,null,null,null,null,null,null,null,null,null,null,null,null,null,null,null,null,null,null,null,null,null,null,null,null,null,null,null,null,null,null,null,null,null,null,null,null,null,null,null,null,null,null,null,null,null,null,null,null,null,null,null,null,null,null,null,null,null,null,null,null,null,null,null,null,null,null,null,null,null,null,null,{"$f":"COUNTIF(DB23:DB46,DB20)","v":1}]
[null,null,{"$f":"IF(I13=\"40,001 < AADT < 60,000\", \"Multi-lane Road Should be Divided Due to High AADT Value\",\"\")","v":""},null,null,null,null,null,null,null,null,null,null,null,null,null,null,null,null,null,null,null,null,null,null,null,null,null,null,null,null,null,null,null,null,null,null,null,null,null,null,null,null,null,null,null,null,null,null,null,null,null,null,null,null,null,null,null,null,null,null,null,null,null,null,null,null,null,null,null,null,null,null,null,null,null,null,null,null,null,null,null,null,null,null,null,null,null,null,null,null,null,null,null,null,null,null,null,null,null,null,null,null,null,null,{"$f":"VLOOKUP(0,CZ23:DB46,3,)","v":10.01}]
[null,null,null,"Fill all elements",null,"To enter notes, use boxes to the right of the vortex ",null,null,null,null," "]
[null,{"$f":"+Construction!$I$2&\"  Total Available Points\"","v":"40  Total Available Points"},null,{"$f":" D249 & \" Missing Elements\"","v":"19 Missing Elements"},null,{"$f":" F249 & \" Missing Elements\"","v":"19 Missing Elements"},{"$f":" G249 & \" Missing Elements\"","v":"19 Missing Elements"},null,null,null,null,null,null,null,null,null,null,null,null,null,null,null,null,null,null,null,null,null,null,null,null,null,null,null,null,null,null,null,null,null,null,null,null,null,null,null,null,null,null,null,null,null,null,null,null,null,null,null,null,null,null,null,null,null,null,null,null,null,null,null,null,null,null,null,null,null,null,null,null,null,null,null,null,null,null,null,null,null,null,null,null,null,null,null,null,null,null,null,null,null,null,"Ranked element","CRF","abs","Re-rank","Rank","Ranked CRF","Element","New Element","crf.abs","rank","Sorted Element","Sorted CRF"]
[null,"Geometric Design Elements",null,"Existing","Standard (Based on Multi-lane Divided)","Design 1","Design 2",{"$f":"\"Marginal Safety for \"&$I$2&\" (compared to \" & $I$4 & \")\"","v":"Marginal Safety for Standard (compared to Existing)"},"Optimal (Based on Multi-lane Divided)",null,null,null,null,null,null,null,null,null,null,null,null,null,null,null,null,null,null,null,null,null,null,null,null,null,null,null,null,null,null,null,null,null,null,null,null,null,null,null,null,null,null,null,null,null,null,null,null,null,null,null,null,null,null,null,null,null,null,null,null,null,null,null,null,null,null,null,null,null,null,null,null,null,null,null,null,null,null,null,null,null,null,null,null,null,null,null,null,null,null,null,null,{"$f":"IF(CY23=0,\"\",DB23&\". \"&DD23)","v":""},{"$f":"H24","v":0},{"$f":"ABS(CY23)","v":0},{"$f":"_xlfn.RANK.EQ(DB23,$DB$23:$DB$46,1)","v":10},{"$f":"_xlfn.RANK.EQ(CZ23,$CZ$23:$CZ$46)+DG23/100","v":10.01},{"$f":"CY23","v":0},{"$f":"IF(ROUND(DF23,2)=0,\"\",C24)","v":""},{"$f":"DD23","v":""},{"$f":"CZ23","v":0},1,{"$f":"IFERROR(IF(IFERROR(VLOOKUP(DG23,$DA$23:$DF$46,4,)&\", \"&CY23=0,\"\"),\"\",IFERROR(VLOOKUP(DG23,$DA$23:$DE$46,4,),\"\")),\"\")","v":"Pavement Friction (skid number) ***"},{"$f":"IFERROR(IF(IFERROR(VLOOKUP(DG23,$DA$23:$DF$46,3,)&\", \"&CY23=0,\"\"),\"\",IFERROR(VLOOKUP(DG23,$DA$23:$DE$46,3,),\"\")),\"\")","v":0.28430956017940245}]
[null,null,"Configuration of Multilane Roadway",null,"Divided - Unsurfaced Median",null,null,null,"Divided - Unsurfaced Median",null,null,null,null,null,null,null,null,null,null,null,null,null,null,null,null,null,null,null,null,null,null,null,null,null,null,null,null,null,null,null,null,null,null,null,null,null,null,null,null,null,null,null,null,null,null,null,null,null,null,null,null,null,null,null,null,null,null,null,null,null,null,null,null,null,null,null,null,null,null,null,null,null,null,null,null,null,null,null,null,null,null,null,null,null,null,null,null,null,null,null,null,"5.02. Median Configuration (Width or Type)",{"$f":"H25","v":8.9999999999999969E-2},8.9999999999999969E-2,{"$f":"_xlfn.RANK.EQ(DB24,$DB$23:$DB$46,1)","v":5},{"$f":"_xlfn.RANK.EQ(CZ24,$CZ$23:$CZ$46)+DG24/100","v":5.0199999999999996},{"$f":"CY24","v":8.9999999999999969E-2},{"$f":"IF(ROUND(DF24,2)=0,\"\",C25)","v":"Median Configuration (Width or Type)"},{"$f":"DD24","v":"Median Configuration (Width or Type)"},8.9999999999999969E-2,2,{"$f":"IFERROR(IF(IFERROR(VLOOKUP(DG24,$DA$23:$DF$46,4,)&\", \"&CY24=0,\"\"),\"\",IFERROR(VLOOKUP(DG24,$DA$23:$DE$46,4,),\"\")),\"\")","v":"Driveway Density (driveways per mile)"},{"$f":"IFERROR(IF(IFERROR(VLOOKUP(DG24,$DA$23:$DF$46,3,)&\", \"&CY24=0,\"\"),\"\",IFERROR(VLOOKUP(DG24,$DA$23:$DE$46,3,),\"\")),\"\")","v":-0.22388114201141129}]
[null,null,"Median Configuration (Width or Type)",null,30,null,null,{"$f":"M103","v":8.9999999999999969E-2},100,null,null,null,null,null,null,null,null,null,null,null,null,null,null,null,null,null,null,null,null,null,null,null,null,null,null,null,null,null,null,null,null,null,null,null,null,null,null,null,null,null,null,null,null,null,null,null,null,null,null,null,null,null,null,null,null,null,null,null,null,null,null,null,null,null,null,null,null,null,null,null,null,null,null,null,null,null,null,null,null,null,null,null,null,null,null,null,null,null,null,null,null,"",{"$f":"H27","v":0},0,11,10.029999999999999,{"$f":"CY25","v":0},{"$f":"IF(ROUND(DF25,2)=0,\"\",C27)","v":""},{"$f":"DD25","v":""},0,3,{"$f":"IFERROR(IF(IFERROR(VLOOKUP(DG25,$DA$23:$DF$46,4,)&\", \"&CY25=0,\"\"),\"\",IFERROR(VLOOKUP(DG25,$DA$23:$DE$46,4,),\"\")),\"\")","v":"Average Outside Shoulder Width (feet)"},{"$f":"IFERROR(IF(IFERROR(VLOOKUP(DG25,$DA$23:$DF$46,3,)&\", \"&CY25=0,\"\"),\"\",IFERROR(VLOOKUP(DG25,$DA$23:$DE$46,3,),\"\")),\"\")","v":0.18061674008810569}]
[null,null,null,null,null,null,null,null,null,null,null,null,null,null,null,null,null,null,null,null,null,null,null,null,null,null,null,null,null,null,null,null,null,null,null,null,null,null,null,null,null,null,null,null,null,null,null,null,null,null,null,null,null,null,null,null,null,null,null,null,null,null,null,null,null,null,null,null,null,null,null,null,null,null,null,null,null,null,null,null,null,null,null,null,null,null,null,null,null,null,null,null,null,null,null,null,null,null,null,null,null,null,null,null,null,null,null,null,null,null,4,{"$f":"IFERROR(IF(IFERROR(VLOOKUP(DG26,$DA$23:$DF$46,4,)&\", \"&CY26=0,\"\"),\"\",IFERROR(VLOOKUP(DG26,$DA$23:$DE$46,4,),\"\")),\"\")","v":"Roadside Sideslope (Foreslope)"},{"$f":"IFERROR(IF(IFERROR(VLOOKUP(DG26,$DA$23:$DF$46,3,)&\", \"&CY26=0,\"\"),\"\",IFERROR(VLOOKUP(DG26,$DA$23:$DE$46,3,),\"\")),\"\")","v":0.15697622474810147}]
[null,null,"Lane Width (feet)",null,12,null,null,{"$f":"M104","v":0},12,null,null,null,null,null,null,null,null,null,null,null,null,null,null,null,null,null,null,null,null,null,null,null,null,null,null,null,null,null,null,null,null,null,null,null,null,null,null,null,null,null,null,null,null,null,null,null,null,null,null,null,null,null,null,null,null,null,null,null,null,null,null,null,null,null,null,null,null,null,null,null,null,null,null,null,null,null,null,null,null,null,null,null,null,null,null,null,null,null,null,null,null,null,null,null,null,null,null,null,null,null,5,"Median Configuration (Width or Type)",8.9999999999999969E-2]
[null,null,"Average Outside Shoulder Width (feet)",null,8,null,null,{"$f":"M105","v":0.18061674008810569},10,null,null,null,null,null,null,null,null,null,null,null,null,null,null,null,null,null,null,null,null,null,null,null,null,null,null,null,null,null,null,null,null,null,null,null,null,null,null,null,null,null,null,null,null,null,null,null,null,null,null,null,null,null,null,null,null,null,null,null,null,null,null,null,null,null,null,null,null,null,null,null,null,null,null,null,null,null,null,null,null,null,null,null,null,null,null,null,null,null,null,null,null,{"$f":"IF(CY28=0,\"\",DB28&\". \"&DD28)","v":"3.06. Average Outside Shoulder Width (feet)"},{"$f":"H28","v":0.18061674008810569},{"$f":"ABS(CY28)","v":0.18061674008810569},3,3.06,{"$f":"CY28","v":0.18061674008810569},{"$f":"IF(ROUND(DF28,2)=0,\"\",C28)","v":"Average Outside Shoulder Width (feet)"},{"$f":"DD28","v":"Average Outside Shoulder Width (feet)"},{"$f":"CZ28","v":0.18061674008810569},6,"Roadside Lateral Clearance to Obstruction (ft)",6.4777606999867676E-2]
[null,null,"Average Inside Shoulder Width (feet)",null,4,null,null,{"$f":"M106","v":0},10,null,null,null,null,null,null,null,null,null,null,null,null,null,null,null,null,null,null,null,null,null,null,null,null,null,null,null,null,null,null,null,null,null,null,null,null,null,null,null,null,null,null,null,null,null,null,null,null,null,null,null,null,null,null,null,null,null,null,null,null,null,null,null,null,null,null,null,null,null,null,null,null,null,null,null,null,null,null,null,null,null,null,null,null,null,null,null,null,null,null,null,null,{"$f":"IF(CY29=0,\"\",DB29&\". \"&DD29)","v":""},{"$f":"H33","v":0},{"$f":"ABS(CY29)","v":0},12,10.07,0,{"$f":"IF(ROUND(DF29,2)=0,\"\",\"Hz and Vt Alignment\")","v":""},"",{"$f":"CZ29","v":0},7,"Safety Edge",-2.3424031600265627E-2]
["",null,"Number of Lanes per Direction of Travel",null,2,null,null,null,2,null,null,null,null,null,null,null,null,null,null,null,null,null,null,null,null,null,null,null,null,null,null,null,null,null,null,null,null,null,null,null,null,null,null,null,null,null,null,null,null,null,null,null,null,null,null,null,null,null,null,null,null,null,null,null,null,null,null,null,null,null,null,null,null,null,null,null,null,null,null,null,null,null,null,null,null,null,null,null,null,null,null,null,null,null,null,null,null,null,null,null,null,{"$f":"IF(CY30=0,\"\",DB30&\". \"&DD30)","v":""},{"$f":"H29","v":0},{"$f":"ABS(CY30)","v":0},13,10.08,0,{"$f":"IF(ROUND(DF30,2)=0,\"\",C29)","v":""},"",{"$f":"CZ30","v":0},8,"Shoulder Rumble Strips",2.2875008800570917E-2]
[null,null,"Horizontal Curve Present?","--","--","--","--",null,"--",null,null,null,null,null,null,null,null,null,null,null,null,null,null,null,null,null,null,null,null,null,null,null,null,null,null,null,null,null,null,null,null,null,null,null,null,null,null,null,null,null,null,null,null,null,null,null,null,null,null,null,null,null,null,null,null,null,null,null,null,null,null,null,null,null,null,null,null,null,null,null,null,null,null,null,null,null,null,null,null,null,null,null,null,null,null,null,null,null,null,null,null,{"$f":"IF(CY31=0,\"\",DB31&\". \"&DD31)","v":""},{"$f":"H47","v":0},{"$f":"ABS(CY31)","v":0},14,10.09,0,{"$f":"IF(ROUND(DF31,2)=0,\"\",C47)","v":""},"",{"$f":"CZ31","v":0},9,"Lighting",-1.7096579124742384E-2]
[null,null,"Horizontal Curve Data for Controlling Element:","--","--","--","--",null,"--",null,null,null,null,null,null,null,null,null,null,null,null,null,null,null,null,null,null,null,null,null,null,null,null,null,null,null,null,null,null,null,null,null,null,null,null,null,null,null,null,null,null,null,null,null,null,null,null,null,null,null,null,null,null,null,null,null,null,null,null,null,null,null,null,null,null,null,null,null,null,null,null,null,null,null,null,null,null,null,null,null,null,null,null,null,null,null,null,null,null,null,null,"",{"$f":"H48","v":0},0,15,10.1,0,{"$f":"IF(ROUND(DF32,2)=0,\"\",C48)","v":""},"",0,10,"",0]
[null,null,"  Radius (feet)",null,{"$f":"IF(MAX($I$10,$I$11)<45,590,IF($I$12=6,VLOOKUP(MAX($I$10,$I$11),Construction!$B$27:$D$34,2,TRUE),VLOOKUP(MAX($I$10,$I$11),Construction!$G$27:$I$34,2,TRUE)))","v":590},null,null,{"$f":"M144","v":0},{"$f":"IF(MAX($I$10,$I$11)<45,590,IF($I$12=6,VLOOKUP(MAX($I$10,$I$11),Construction!$B$43:$C$50,2,TRUE),VLOOKUP(MAX($I$10,$I$11),Construction!$G$43:$H$50,2,TRUE)))","v":590},null,null,null,null,null,null,null,null,null,null,null,null,null,null,null,null,null,null,null,null,null,null,null,null,null,null,null,null,null,null,null,null,null,null,null,null,null,null,null,null,null,null,null,null,null,null,null,null,null,null,null,null,null,null,null,null,null,null,null,null,null,null,null,null,null,null,null,null,null,null,null,null,null,null,null,null,null,null,null,null,null,null,null,null,null,null,null,null,null,null,null,null,"",{"$f":"H56","v":0},0,16,10.11,0,{"$f":"IF(ROUND(DF33,2)=0,\"\",C56)","v":""},"",0,11,"",0]
[null,null,"Length of Horizontal Curve (feet)",null,{"$f":"IF(D35=\"\", \"\", E33*E35/57.296)","v":""},null,null,null,{"$f":"I33*I35/57.296","v":3758.5520804244625},null,null,null,null,null,null,null,null,null,null,null,null,null,null,null,null,null,null,null,null,null,null,null,null,null,null,null,null,null,null,null,null,null,null,null,null,null,null,null,null,null,null,null,null,null,null,null,null,null,null,null,null,null,null,null,null,null,null,null,null,null,null,null,null,null,null,null,null,null,null,null,null,null,null,null,null,null,null,null,null,null,null,null,null,null,null,null,null,null,null,null,null,"",0,0,17,10.119999999999999,0,"","",0,12,"",0]
[null,null,"Calculated Deflection Angle ∆",{"$f":"IF(OR(ISBLANK(D33),ISBLANK(D34),$B$31=\"No\",ISBLANK($B$31)),\"\",ROUND(D34/D33*57.296,1))","v":""},{"$f":"IF(ISBLANK(D35), \"\",D35)","v":""},{"$f":"IF(OR(ISBLANK(F33),ISBLANK(F34),$B$31=\"No\",ISBLANK($B$31)),\"\",ROUND(F34/F33*57.296,1))","v":""},{"$f":"IF(OR(ISBLANK(G33),ISBLANK(G34),$B$31=\"No\",ISBLANK($B$31)),\"\",ROUND(G34/G33*57.296,1))","v":""},null,{"$f":"MIN(D35,IF(F37=INDEX(HCurveChange,1,0), F35, 365),IF(G37=INDEX(HCurveChange,1,0), G35, 365))","v":365},null,null,null,null,null,null,null,null,null,null,null,null,null,null,null,null,null,null,null,null,null,null,null,null,null,null,null,null,null,null,null,null,null,null,null,null,null,null,null,null,null,null,null,null,null,null,null,null,null,null,null,null,null,null,null,null,null,null,null,null,null,null,null,null,null,null,null,null,null,null,null,null,null,null,null,null,null,null,null,null,null,null,null,null,null,null,null,null,null,null,null,null,"",0,0,18,10.130000000000001,0,"","",0,13,"",0]
[null,null,null,null,null,"∆ has changed. \nAre you changing the ∆?","∆ has changed. \nAre you changing the ∆?",null,null,null,null,null,null,null,null,null,null,null,null,null,null,null,null,null,null,null,null,null,null,null,null,null,null,null,null,null,null,null,null,null,null,null,null,null,null,null,null,null,null,null,null,null,null,null,null,null,null,null,null,null,null,null,null,null,null,null,null,null,null,null,null,null,null,null,null,null,null,null,null,null,null,null,null,null,null,null,null,null,null,null,null,null,null,null,null,null,null,null,null,null,null,"",0,0,19,10.14,0,"","",0,14,"",0]
[null,null,null,null,null,null,null,null,null,null,null,null,null,null,null,null,null,null,null,null,null,null,null,null,null,null,null,null,null,null,null,null,null,null,null,null,null,null,null,null,null,null,null,null,null,null,null,null,null,null,null,null,null,null,null,null,null,null,null,null,null,null,null,null,null,null,null,null,null,null,null,null,null,null,null,null,null,null,null,null,null,null,null,null,null,null,null,null,null,null,null,null,null,null,null,null,null,null,null,null,null,"8.15. Shoulder Rumble Strips",2.2875008800570917E-2,2.2875008800570917E-2,8,8.15,2.2875008800570917E-2,"Shoulder Rumble Strips","Shoulder Rumble Strips",2.2875008800570917E-2,15,"",0]
[null,null,"Vertical Curve Present?","--","--","--","--",null,{"$f":"E38","v":"--"},null,null,null,null,null,null,null,null,null,null,null,null,null,null,null,null,null,null,null,null,null,null,null,null,null,null,null,null,null,null,null,null,null,null,null,null,null,null,null,null,null,null,null,null,null,null,null,null,null,null,null,null,null,null,null,null,null,null,null,null,null,null,null,null,null,null,null,null,null,null,null,null,null,null,null,null,null,null,null,null,null,null,null,null,null,null,null,null,null,null,null,null,"",0,0,20,10.16,0,"","",0,16,"",0]
[null,null,"Vertical Curve Data for Controlling Element:","--","--","--","--",null,"--",null,null,null,null,null,null,null,null,null,null,null,null,null,null,null,null,null,null,null,null,null,null,null,null,null,null,null,null,null,null,null,null,null,null,null,null,null,null,null,null,null,null,null,null,null,null,null,null,null,null,null,null,null,null,null,null,null,null,null,null,null,null,null,null,null,null,null,null,null,null,null,null,null,null,null,null,null,null,null,null,null,null,null,null,null,null,null,null,null,null,null,null,"2.17. Driveway Density (driveways per mile)",-0.22388114201141129,0.22388114201141129,2,2.17,-0.22388114201141129,{"$f":"IF(DF39=0,\"\",C62)","v":"Driveway Density (driveways per mile)"},"Driveway Density (driveways per mile)",0.22388114201141129,17,"",0]
[null,null,"  Approach (Entry) Grade, G1 (%)",null,{"$f":"IF(ISBLANK(D40),\"\", D40)","v":""},null,null,null,{"$f":"IF(B38=\"Yes\",I231,I241)","v":""},null,null,null,null,null,null,null,null,null,null,null,null,null,null,null,null,null,null,null,null,null,null,null,null,null,null,null,null,null,null,null,null,null,null,null,null,null,null,null,null,null,null,null,null,null,null,null,null,null,null,null,null,null,null,null,null,null,null,null,null,null,null,null,null,null,null,null,null,null,null,null,null,null,null,null,null,null,null,null,null,null,null,null,null,null,null,null,null,null,null,null,null,"9.18. Lighting",-1.7096579124742384E-2,1.7096579124742384E-2,9,9.18,-1.7096579124742384E-2,{"$f":"IF(DF40=0,\"\",C63)","v":"Lighting"},"Lighting",1.7096579124742384E-2,18,"",0]
[null,null,"  Departure (Exit) Grade, G2 (%)",null,{"$f":"IF(ISBLANK(D41),\"\", D41)","v":""},null,null,null,{"$f":"IF($B$38=\"Yes\",I232,\"\")","v":""},null,null,null,null,null,null,null,null,null,null,null,null,null,null,null,null,null,null,null,null,null,null,null,null,null,null,null,null,null,null,null,null,null,null,null,null,null,null,null,null,null,null,null,null,null,null,null,null,null,null,null,null,null,null,null,null,null,null,null,null,null,null,null,null,null,null,null,null,null,null,null,null,null,null,null,null,null,null,null,null,null,null,null,null,null,null,null,null,null,null,null,null,"1.19. Pavement Friction (skid number) ***",0.28430956017940245,0.28430956017940245,1,1.19,0.28430956017940245,{"$f":"IF(DF41=0,\"\",C64)","v":"Pavement Friction (skid number) ***"},"Pavement Friction (skid number) ***",0.28430956017940245,19,"",0]
[null,null,"  Length (feet)",null,{"$f":"IF(AND($B$38=\"Yes\", D43<>\"\"), ABS(E40-E41)*D43, \"\")","v":""},null,null,null,{"$f":"IF(AND($B$38=\"Yes\",I40<>\"\",I41<>\"\", NOT(ISBLANK($I$10)), NOT(ISBLANK($I$11))),ABS(I41-I40)*I43,\"\")","v":""},null,null,null,null,null,null,null,null,null,null,null,null,null,null,null,null,null,null,null,null,null,null,null,null,null,null,null,null,null,null,null,null,null,null,null,null,null,null,null,null,null,null,null,null,null,null,null,null,null,null,null,null,null,null,null,null,null,null,null,null,null,null,null,null,null,null,null,null,null,null,null,null,null,null,null,null,null,null,null,null,null,null,null,null,null,null,null,null,null,null,null,null,"4.2. Roadside Sideslope (Foreslope)",{"$f":"H75","v":0.15697622474810147},0.15697622474810147,4,4.2,0.15697622474810147,{"$f":"IF(DF42=0,\"\",C75)","v":"Roadside Sideslope (Foreslope)"},"Roadside Sideslope (Foreslope)",0.15697622474810147,20,"",0]
[null,null,"  Calculated Rate of Change, K (ft/ft)",{"$f":"IF(OR($B$38=\"No\",ISBLANK($B$38), ISBLANK(D40), ISBLANK(D41),ISBLANK(D42), D40=D41), \"\", ROUND(D42/(ABS(D41-D40)),1))","v":""},{"$f":"IF(AND($B$38=\"Yes\", NOT(ISBLANK($I$10)), NOT(ISBLANK($I$11)), D43<>\"\"), IF($E$46=\"Crest\",  VLOOKUP(MAX($I$10,$I$11),Construction!$B$159:$D$171,2,TRUE), VLOOKUP(MAX($I$10,$I$11),Construction!$B$159:$D$171,3,TRUE)), \"\")","v":""},{"$f":"IF(AND($B$38=\"Yes\", SUM(F267:F269)=0),ROUND(F42/(ABS(F41-F40)),1),\"\")","v":""},{"$f":"IF(AND($B$38=\"Yes\", SUM(G267:G269)=0),ROUND(G42/(ABS(G41-G40)),1),\"\")","v":""},null,{"$f":"IF(OR($B$38<>\"Yes\", ISBLANK($I$10), ISBLANK($I$11), $I$40=\"\", $I$41=\"\", $I$46=\"--\", ISBLANK($I$46)),\"\",IF(I$46=\"Crest\",VLOOKUP(MAX($I$10,$I$11),Construction!$B$177:$D$189,2,TRUE),VLOOKUP(MAX($I$10,$I$11),Construction!$B$177:$D$189,3,TRUE)))","v":""},null,null,null,null,null,null,null,null,null,null,null,null,null,null,null,null,null,null,null,null,null,null,null,null,null,null,null,null,null,null,null,null,null,null,null,null,null,null,null,null,null,null,null,null,null,null,null,null,null,null,null,null,null,null,null,null,null,null,null,null,null,null,null,null,null,null,null,null,null,null,null,null,null,null,null,null,null,null,null,null,null,null,null,null,null,null,null,null,null,null,null,null,"",{"$f":"H76","v":0},0,21,10.210000000000001,0,{"$f":"IF(DF43=0,\"\",C76)","v":""},"",0,21,"",0]
[null,null,null,null,null,"Are you changing the geometry?","Are you changing the geometry?",null,null,null,null,null,null,null,null,null,null,null,null,null,null,null,null,null,null,null,null,null,null,null,null,null,null,null,null,null,null,null,null,null,null,null,null,null,null,null,null,null,null,null,null,null,null,null,null,null,null,null,null,null,null,null,null,null,null,null,null,null,null,null,null,null,null,null,null,null,null,null,null,null,null,null,null,null,null,null,null,null,null,null,null,null,null,null,null,null,null,null,null,null,null,"7.22. Safety Edge",{"$f":"H77","v":-2.3424031600265627E-2},2.3424031600265627E-2,7,7.22,-2.3424031600265627E-2,{"$f":"IF(DF44=0,\"\",C77)","v":"Safety Edge"},"Safety Edge",2.3424031600265627E-2,22,"",0]
[null,null,null,null,null,null,null,null,null,null,null,null,null,null,null,null,null,null,null,null,null,null,null,null,null,null,null,null,null,null,null,null,null,null,null,null,null,null,null,null,null,null,null,null,null,null,null,null,null,null,null,null,null,null,null,null,null,null,null,null,null,null,null,null,null,null,null,null,null,null,null,null,null,null,null,null,null,null,null,null,null,null,null,null,null,null,null,null,null,null,null,null,null,null,null,null,null,null,null,null,null,"6.23. Roadside Lateral Clearance to Obstruction (ft)",{"$f":"H78","v":6.4777606999867676E-2},6.4777606999867676E-2,6,6.23,6.4777606999867676E-2,{"$f":"IF(DF45=0,\"\",C78)","v":"Roadside Lateral Clearance to Obstruction (ft)"},"Roadside Lateral Clearance to Obstruction (ft)",6.4777606999867676E-2,23,"",{"$f":"IFERROR(IF(IFERROR(VLOOKUP(DG45,$DA$23:$DF$46,3,)&\", \"&CY45=0,\"\"),\"\",IFERROR(VLOOKUP(DG45,$DA$23:$DE$46,3,),\"\")),\"\")","v":""}]
[null,null,"  Calculated Sag or Crest?",{"$f":"IF(AND($B$38=\"Yes\", SUM(D267:D269)=0),IF(D40>D41,\"Crest\",\"Sag\"),\"--\")","v":"--"},{"$f":"IF(AND($B$38=\"Yes\", SUM(D267:D269)=0),IF(E40>E41,\"Crest\",\"Sag\"),\"--\")","v":"--"},{"$f":"IF(AND($B$38=\"Yes\", SUM(F267:F269)=0),IF(F40>F41,\"Crest\",\"Sag\"),\"--\")","v":"--"},{"$f":"IF(AND($B$38=\"Yes\", SUM(G267:G269)=0),IF(G40>G41,\"Crest\",\"Sag\"),\"--\")","v":"--"},null,{"$f":"IF($B$38=\"Yes\",IF(I40>I41,\"Crest\",\"Sag\"),\"--\")","v":"--"},null,null,null,null,null,null,null,null,null,null,null,null,null,null,null,null,null,null,null,null,null,null,null,null,null,null,null,null,null,null,null,null,null,null,null,null,null,null,null,null,null,null,null,null,null,null,null,null,null,null,null,null,null,null,null,null,null,null,null,null,null,null,null,null,null,null,null,null,null,null,null,null,null,null,null,null,null,null,null,null,null,null,null,null,null,null,null,null,null,null,null,null,"",{"$f":"H79","v":0},0,22,10.24,0,{"$f":"IF(DF46=0,\"\",C79)","v":""},"",0,24,"",{"$f":"IFERROR(IF(IFERROR(VLOOKUP(DG46,$DA$23:$DF$46,3,)&\", \"&CY46=0,\"\"),\"\",IFERROR(VLOOKUP(DG46,$DA$23:$DE$46,3,),\"\")),\"\")","v":""}]
[]
[]
[null,null,"Geometric Design Element (Partial Score)",{"$f":"IF(OR(SUM(D251:D252,D254:D257,D260:D261,D267:D269)>0, ISERR(D129)),\"\",D129)","v":""},{"$f":"IF(OR(SUM(E251:E252,E254:E257,E260:E261,E267:E269)>0, ISERR(E129)),\"\",E129)","v":""},"","",null,{"$f":"IF(OR(SUM(I251:I252,I254:I257,I260:I261,I267:I269)>0, ISERR(I129)),\"\",I129)","v":""},null,null,null,"SCHEMATIC REPRESENTING INPUT DATA FOR ",null,null,null,null,null,null,null,{"$f":"IF($I$2=\"Existing\",\"EXISTING CONFIGURATION\",IF($I$2=\"Standard\",\"STANDARD OPTION\",IF($I$2=\"Design 1\",\"DESIGN 1 OPTION\",IF($I$2=\"Design 2\",\"DESIGN 2 OPTION\",\"OPTIMAL OPTION\"))))","v":"STANDARD OPTION"}]
[null,null,"Total Safety Score",{"$f":"IF(OR(D$249>0, $I$315>0, ISERROR(D$205+D$175+D$129)),\"\",D$205+D$175+D$129)","v":""},{"$f":"IF(OR(E$249>0, $I$315>0, ISERROR(E$205+E$175+E$129)),\"\",E$205+E$175+E$129)","v":""},{"$f":"IF(OR(F$249>0, $I$315>0, ISERROR(F$205+F$175+F$129)),\"\",F$205+F$175+F$129)","v":""},{"$f":"IF(OR(G$249>0, $I$315>0, ISERROR(G$205+G$175+G$129)),\"\",G$205+G$175+G$129)","v":""},null,{"$f":"IF(OR(I$249>0, $I$315>0, ISERROR(I$205+I$175+I$129)),\"\",I$205+I$175+I$129)","v":""}]
[null,null,null,null,null,null,null,null,null,null,null,"LT",null,null,null,null,null,null,null,null,null,null,null,null,null,null,"RT"]
[null,null,null,null,null,null,null,null,null,null,null,"R/W",null,null,null,null,null,null,{"$f":"+O54+W54","v":0},null,null,null,null,null,null,null,"R/W"]
[]
[null,{"$f":"+Construction!$I$3&\"  Total Available Points\"","v":"20  Total Available Points"},null,null,null,null,null,null,null,null,null,null,null,null,{"$f":"+$I$14","v":0},null,null,null,null,null,null,null,{"$f":"+$I$15","v":0}]
[null,"Traffic Elements",null,"Existing","Standard","Design 1","Design 2",{"$f":"H23","v":"Marginal Safety for Standard (compared to Existing)"},"Optimal"]
[null,null,"Advance Static Curve Warning Signs",null,"No",null,null,{"$f":"M149","v":0},"Yes",null,null,{"$f":"+O54-N56-P56","v":-32},null,{"$f":"IF(+$I$2=\"Existing\",D28,IF($I$2=\"Standard\",E28,IF($I$2=\"Design 1\",F28,IF($I$2=\"Design 2\",G28,I28))))","v":8},null,{"$f":"IF(+$I$2=\"Existing\",D27*D30,IF($I$2=\"Standard\",E27*E30,IF($I$2=\"Design 1\",F27*F30,IF($I$2=\"Design 2\",G27*G30,I27*I30))))","v":24},null,null,null,null,null,{"$f":"+P56","v":24},null,null,{"$f":"+N56","v":8},{"$f":"+W54-V56-Y56","v":-32}]
[null,null,"Chevron Signs on Horizontal Curves",null,"No",null,null,{"$f":"M150","v":0},"Yes"]
[null,null,"Post-Mounted Delineators",null,"No",null,null,{"$f":"M151","v":0},"Yes"]
[null,null,"Edgeline Pavement Markings or Profile Markings",null,"No",null,null,{"$f":"M152","v":0},"Yes"]
[null,null,"Shoulder Rumble Strips",null,"Yes",null,null,{"$f":"M154","v":2.2875008800570917E-2},"Yes"]
[null,null,"Centerline Rumble Strips",null,"No",null,null,{"$f":"M155","v":0},"Yes",null,null,null,null,null,null,null,null,null,"Tangent X-Section"]
[null,null,"Driveway Density (driveways per mile)",null,10,null,null,{"$f":"M156","v":-0.22388114201141129},0]
[null,null,"Lighting",null,"No",null,null,{"$f":"M157","v":-1.7096579124742384E-2},"Yes"]
[null,null,"Pavement Friction (skid number) ***",null,37,null,null,{"$f":"M158","v":0.28430956017940245},54]
[null,null,"Traffic Control Element (Partial Score):",{"$f":"IF(ISERROR(D175), \"\", D175)","v":12},{"$f":"IF(ISERROR(E175), \"\", E175)","v":14},"","",null,{"$f":"IF(ISERROR(I175), \"\", I175)","v":20}]
[null,null,"Total Safety Score",{"$f":"IF(OR(D$249>0, $I$315>0, ISERROR(D$205+D$175+D$129)),\"\",D$205+D$175+D$129)","v":""},{"$f":"IF(OR(E$249>0, $I$315>0, ISERROR(E$205+E$175+E$129)),\"\",E$205+E$175+E$129)","v":""},"","",null,{"$f":"IF(OR(I$249>0, $I$315>0, ISERROR(I$205+I$175+I$129)),\"\",I$205+I$175+I$129)","v":""}]
[null,null,null,null,null,null,null,null,null,null," "]
[null,null,"*** Pavement friction/skid numbers will not be subject to open records requests ***",null,null,null,null,null,null,null,null,null,null,null,null,null,{"$f":"IF($I$2=\"Existing\",\"SCORE SUMMARY FOR EXISTING CONFIGURATION\", IF($I$2=\"Standard\",\"SCORE SUMMARY FOR STANDARD OPTION\",IF($I$2=\"Design 1\",\"SCORE SUMMARY FOR DESIGN 1 OPTION\",IF($I$2=\"Design 2\",\"SCORE SUMMARY FOR DESIGN 2 OPTION\", \"SCORE SUMMARY FOR OPTIMAL OPTION\"))))","v":"SCORE SUMMARY FOR STANDARD OPTION"}]
[null,null,null,null,null,null,null,null,null,null,null,null,null,null,null,null,"GEOMETRIC DESIGN:",null,null,null,null,null,{"$f":"IF($I$2=\"Existing\",D49,IF($I$2=\"Standard\",E49,IF($I$2=\"Design 1\",F49,IF($I$2=\"Design 2\",G49,I49))))","v":""}]
[null,null,null,null,null,null,null,null,null,null,null,null,null,null,null,null,"TRAFFIC CONTROL:",null,null,null,null,null,{"$f":"IF($I$2=\"Existing\",D65,IF($I$2=\"Standard\",E65,IF($I$2=\"Design 1\",F65,IF($I$2=\"Design 2\",G65,I65))))","v":14}]
[null,null,null,null,null,null,null,null,null,null,null,null,null,null,null,null,"ROADSIDE:",null,null,null,null,null,{"$f":"IF($I$2=\"Existing\",D80,IF($I$2=\"Standard\",E80,IF($I$2=\"Design 1\",F80,IF($I$2=\"Design 2\",G80,I80))))","v":27}]
[null,null,null,null,null,null,null,null,null,null,null,null,null,null,null,null,"OVERALL SAFETY SCORE:",null,null,null,null,null,{"$f":"SUM(W69:X71)","v":41}]
[null,{"$f":"+Construction!$I$4&\"  Total Available Points\"","v":"40  Total Available Points"}]
[null,"Roadside  Elements",null,"Existing","Standard","Design 1","Design 2",{"$f":"H23","v":"Marginal Safety for Standard (compared to Existing)"},"Optimal"]
[null,null,"Roadside Sideslope (Foreslope)",null,"1V:4H",null,null,{"$f":"M184","v":0.15697622474810147},"1V:6H"]
[null,null,"Roadside Backslope",null,{"$f":"E75","v":"1V:4H"},null,null,{"$f":"M185","v":0},"1V:4H"]
[null,null,"Safety Edge",null,"No",null,null,-2.3424031600265627E-2,"Yes"]
[null,null,"Roadside Lateral Clearance to Obstruction (ft)",null,30,null,null,6.4777606999867676E-2,40]
[null,null,"Roadside Obstruction Type",null,"None",null,null,0,"None/Removed"]
[null,null,"Roadside Element (Partial Score):",{"$f":"IF(ISERR(D205),\"\",D205)","v":20},{"$f":"IF(ISERR(E205),\"\",E205)","v":27},20,20,null,{"$f":"IF(ISERR(I205),\"\",I205)","v":40},null,null,null,null,null,null,null,null,null,null,null,null,null,null," "]
[null,null,"Total Safety Score",{"$f":"IF(OR(D$249>0, $I$315>0, ISERROR(D$205+D$175+D$129)),\"\",D$205+D$175+D$129)","v":""},{"$f":"IF(OR(E$249>0, $I$315>0, ISERROR(E$205+E$175+E$129)),\"\",E$205+E$175+E$129)","v":""},"","",null,{"$f":"IF(OR(I$249>0, $I$315>0, ISERROR(I$205+I$175+I$129)),\"\",I$205+I$175+I$129)","v":""}]
[]
[]
[]
[]
[null,"ADDITIONAL SIDESLOPE INFORMATION"]
[null,null,"Distance to Slope Toe from Shoulder (ft)",null,{"$f":"D87","v":0},{"$f":"E87","v":0},0,null,{"$f":"G87","v":0}]
[null,"Minimum foreslope feasible within current ROW",null,null,{"$f":"IF(OR(ISBLANK($D$87), ISERROR(E209)), \"\", \"1V:\"&E209&\"H\")","v":""},{"$f":"IF(OR(ISBLANK($D$87), ISERROR(F209)), \"\", \"1V:\"&F209&\"H\")","v":""},{"$f":"IF(OR(ISBLANK($D$87), ISERROR(G209)), \"\", \"1V:\"&G209&\"H\")","v":""},null,{"$f":"IF(OR(ISBLANK($D$87), ISERROR(I209)), \"\", \"1V:\"&I209&\"H\")","v":""}]
[null,"Additional R/W needed on left side",null,null,{"$f":"IF(OR(ISBLANK($D$87), ISERROR(E213)),\"\", MAX(E213,E216))","v":""},{"$f":"IF(OR(ISBLANK($D$87), ISERROR(F213)), \"\", MAX(F213,F216))","v":""},{"$f":"IF(OR(ISBLANK($D$87), ISERROR(G213)),\"\", MAX(G213,G216))","v":""},null,{"$f":"IF(OR(ISBLANK($D$87), ISERROR(I213)),\"\", MAX(I213,I216))","v":""}]
[null,"Additional R/W needed on right side",null,null,{"$f":"IF(OR(ISBLANK($D$87), ISERROR(E214)), \"\", MAX(E214,E217))","v":""},{"$f":"IF(OR(ISBLANK($D$87), ISERROR(F214)), \"\", MAX(F214,F217))","v":""},{"$f":"IF(OR(ISBLANK($D$87), ISERROR(G214)),\"\", MAX(G214,G217))","v":""},null,{"$f":"IF(OR(ISBLANK($D$87), ISERROR(I214)),\"\", MAX(I214,I217))","v":""}]
[]
[]
[]
[]
[]
[]
[]
[null,null,null,{"$f":"GetCMF_MED(D24,D25,2000,D28)","v":1},null,null,null,null,null,{"$f":"1-I104/E104","v":0},"For Plot"]
[null,null,null,null,null,null,null,null,null,{"$f":"1-I105/E105","v":3.2258064516129115E-2},"relative to","Prefer"]
[null,null,null,{"$f":"MAX(SUM(D107:D111)-5,$I$100)","v":{"$error":"#VALUE!"}},{"$f":"MAX(SUM(E107:E111)-5,$I$100)","v":{"$error":"#VALUE!"}},{"$error":"#VALUE!"},{"$error":"#VALUE!"},null,{"$f":"SUM(I107:I111)-5","v":{"$error":"#VALUE!"}},{"$f":"1-I106/E106","v":0.14444080962898154},{"$f":"MATCH(K101,ModView,0)","v":1},{"$f":"MATCH(L101,ModView,0)","v":2}]
[null,"Geometric",null,null,null,null,null,null,null,{"$f":"1-I107/E107","v":{"$error":"#VALUE!"}},{"$f":"I4","v":"Existing"},{"$f":"I2","v":"Standard"},"%"]
[null,null,"Divided versus Undivided",1,1,1,1,null,1,null,{"$f":"INDEX($D102:$I102,K$100)","v":1},{"$f":"INDEX($D102:$I102,L$100)","v":1},{"$f":"IF(ISERROR(1-L102/K102), 0, 1-L102/K102)","v":0}]
[null,null,"Median Width",{"$f":"GetCMF_MED(D24,D25,$I$13,D28)","v":1},{"$f":"GetCMF_MED(E24,E25,$I$13,E28)","v":0.91},{"$f":"GetCMF_MED(F24,F25,$I$13,F28)","v":1},{"$f":"GetCMF_MED(G24,G25,$I$13,G28)","v":1},{"$f":"H25","v":8.9999999999999969E-2},{"$f":"GetCMF_MED(I24,I25,$I$13,I28)","v":0.66},null,{"$f":"INDEX($D103:$I103,K$100)","v":1},{"$f":"INDEX($D103:$I103,L$100)","v":0.91},{"$f":"IF(ISERROR(1-L103/K103), 0, 1-L103/K103)","v":8.9999999999999969E-2}]
[null,null,"LW CMF",{"$f":"IF(D24=INDEX(MedConf_Header,1,2),VLOOKUP(+D27,Construction!$N$30:$O$36,2),VLOOKUP(D27,Construction!$I$15:$J$21,2))","v":{"$error":"#N/A"}},{"$f":"IF(E24=INDEX(MedConf_Header,1,2),VLOOKUP(+E27,Construction!$N$30:$O$36,2),VLOOKUP(E27,Construction!$I$15:$J$21,2))","v":1},{"$f":"IF(F24=INDEX(MedConf_Header,1,2),VLOOKUP(+F27,Construction!$N$30:$O$36,2),VLOOKUP(F27,Construction!$I$15:$J$21,2))","v":{"$error":"#N/A"}},{"$f":"IF(G24=INDEX(MedConf_Header,1,2),VLOOKUP(+G27,Construction!$N$30:$O$36,2),VLOOKUP(G27,Construction!$I$15:$J$21,2))","v":{"$error":"#N/A"}},{"$f":"H27","v":0},{"$f":"IF(I24=INDEX(MedConf_Header,1,2),VLOOKUP(+I27,Construction!$N$30:$O$36,2),VLOOKUP(I27,Construction!$I$15:$J$21,2))","v":1},null,{"$f":"INDEX($D104:$I104,K$100)","v":{"$error":"#N/A"}},{"$f":"INDEX($D104:$I104,L$100)","v":1},0,null,0]
[null,null,"SW CMF",{"$f":"IF(D24=INDEX(MedConf_Header,1,2),VLOOKUP(D28,Construction!$C$11:D21,2),(VLOOKUP(D28,Construction!$O$43:$P$53,2)-1)*0.27+1)","v":1.135},{"$f":"IF(E24=INDEX(MedConf_Header,1,2),VLOOKUP(E28,Construction!$C$11:E21,2),(VLOOKUP(E28,Construction!$O$43:$P$53,2)-1)*0.27+1)","v":0.93},{"$f":"IF(F24=INDEX(MedConf_Header,1,2),VLOOKUP(F28,Construction!$C$11:F21,2),(VLOOKUP(F28,Construction!$O$43:$P$53,2)-1)*0.27+1)","v":1.135},{"$f":"IF(G24=INDEX(MedConf_Header,1,2),VLOOKUP(G28,Construction!$C$11:G21,2),(VLOOKUP(G28,Construction!$O$43:$P$53,2)-1)*0.27+1)","v":1.135},{"$f":"IF($I$2=\"Existing\",(1-D105/E105),(IF($I$2=\"Design 1\",(1-F105/E105),(IF($I$2=\"Design 2\",(1-G105/E105),(IF($I$2=\"Optimal\",(1-I105/E105),0)))))))","v":0},{"$f":"IF(I24=INDEX(MedConf_Header,1,2),VLOOKUP(I28,Construction!$C$11:I21,2),(VLOOKUP(I28,Construction!$O$43:$P$53,2)-1)*0.27+1)","v":0.9},null,{"$f":"INDEX($D105:$I105,K$100)","v":1.135},{"$f":"INDEX($D105:$I105,L$100)","v":0.93},0.18061674008810569,null,0.15503875968992242]
[null,null,"Inside Shoulder Width",{"$f":"IF(AND(D24=INDEX(MedConf_Header,1,2), NOT(ISBLANK(D29))), EXP(-0.026*(D29-4)), 1)","v":1},{"$f":"IF(AND(E24=INDEX(MedConf_Header,1,2), NOT(ISBLANK(E29))), EXP(-0.026*(E29-4)), 1)","v":1},{"$f":"IF(AND(F24=INDEX(MedConf_Header,1,2), NOT(ISBLANK(F29))), EXP(-0.026*(F29-4)), 1)","v":1},{"$f":"IF(AND(G24=INDEX(MedConf_Header,1,2), NOT(ISBLANK(G29))), EXP(-0.026*(G29-4)), 1)","v":1},0,{"$f":"IF(AND(I24=INDEX(MedConf_Header,1,2), NOT(ISBLANK(I29))), EXP(-0.026*(I29-4)), 1)","v":0.85555919037101846},null,{"$f":"INDEX($D106:$I106,K$100)","v":1},{"$f":"INDEX($D106:$I106,L$100)","v":1},0,null,0]
[null,null,"HC and Grade",{"$f":"D$138^D$131","v":1},{"$f":"E$138^E$131","v":1},1,1,0,{"$f":"I$138^I$131","v":{"$error":"#VALUE!"}},null,{"$f":"INDEX($D107:$I107,K$100)","v":1},{"$f":"INDEX($D107:$I107,L$100)","v":1},0,null,0]
[null,null,"HC and VC Crest type I",{"$f":"D$139^D$132","v":1},{"$f":"E$139^E$132","v":1},1,1,0,{"$f":"I$139^I$132","v":{"$error":"#VALUE!"}},null,{"$f":"INDEX($D108:$I108,K$100)","v":1},{"$f":"INDEX($D108:$I108,L$100)","v":1},0,null,0]
[null,null,"HC and VC Sag type I",{"$f":"D$140^D$133","v":1},{"$f":"E$140^E$133","v":1},1,1,0,{"$f":"I$140^I$133","v":{"$error":"#VALUE!"}},{"$f":"1-I115/E115","v":{"$error":"#VALUE!"}},{"$f":"INDEX($D109:$I109,K$100)","v":1},{"$f":"INDEX($D109:$I109,L$100)","v":1},0,null,0]
[null,null,"HC and VC Crest type II",{"$f":"D$141^D$134","v":1},{"$f":"E$141^E$134","v":1},1,1,0,{"$f":"I$141^I$134","v":{"$error":"#VALUE!"}},{"$f":"1-I116/E116","v":{"$error":"#VALUE!"}},{"$f":"INDEX($D110:$I110,K$100)","v":1},{"$f":"INDEX($D110:$I110,L$100)","v":1},0,null,0]
[null,null,"HC and VC Sag type II",{"$f":"D$142^D$135","v":1},{"$f":"E$142^E$135","v":1},1,1,0,{"$f":"I$142^I$135","v":{"$error":"#VALUE!"}},{"$f":"1-I117/E117","v":{"$error":"#VALUE!"}},{"$f":"INDEX($D111:$I111,K$100)","v":1},{"$f":"INDEX($D111:$I111,L$100)","v":1},0,null,0]
[null,null,"Add TWLTL",{"$f":"IF(D$47=\"No\",1,CMFs!$F$17)","v":0.71},{"$f":"IF(E$47=\"No\",1,CMFs!$F$17)","v":0.71},{"$f":"IF(F$47=\"No\",1,CMFs!$F$17)","v":0.71},{"$f":"IF(G$47=\"No\",1,CMFs!$F$17)","v":0.71},0,{"$f":"IF(I$47=\"No\",1,CMFs!$F$17)","v":0.71},{"$f":"1-I118/E118","v":{"$error":"#VALUE!"}},{"$f":"INDEX($D112:$I112,K$100)","v":0.71},{"$f":"INDEX($D112:$I112,L$100)","v":0.71},0,null,0]
[null,null,"Provide passing lane",{"$f":"IF(D$48=\"No\",1,CMFs!$F$21)","v":0.75},{"$f":"IF(E$48=\"No\",1,CMFs!$F$21)","v":0.75},{"$f":"IF(F$48=\"No\",1,CMFs!$F$21)","v":0.75},{"$f":"IF(G$48=\"No\",1,CMFs!$F$21)","v":0.75},0,{"$f":"IF(I$48=\"No\",1,CMFs!$F$21)","v":0.75},{"$f":"I119/E119","v":{"$error":"#VALUE!"}},{"$f":"INDEX($D113:$I113,K$100)","v":0.75},{"$f":"INDEX($D113:$I113,L$100)","v":0.75},0,null,0]
[]
[null,null,"COMBINED Calculated CMF",{"$f":"+D104*D105*D106*D107*D108*D109*D110*D111*D112*D113*D103*D102","v":{"$error":"#N/A"}},{"$f":"+E104*E105*E106*E107*E108*E109*E110*E111*E112*E113*E103*E102","v":0.45065475000000005},{"$error":"#N/A"},{"$error":"#N/A"},{"$f":"IF($I$2=\"Existing\",(D115),(IF($I$2=\"Design 1\",(F115),(IF($I$2=\"Design 2\",(G115),(IF($I$2=\"Optimal\",(I115),E115)))))))","v":0.45065475000000005},{"$f":"+I104*I105*I106*I107*I108*I109*I110*I111*I112*I113*I103*I102","v":{"$error":"#VALUE!"}},null,{"$f":"INDEX($D115:$I115,K$100)","v":{"$error":"#N/A"}},{"$f":"INDEX($D115:$I115,L$100)","v":0.45065475000000005},{"$f":"IF(ISERROR(1-L115/K115), 0, 1-L115/K115)","v":0},null,0]
[null,null,"Calculated Relative to Design Standards (Column E)",{"$f":"+D115/$E$115","v":{"$error":"#N/A"}},1,{"$error":"#N/A"},{"$error":"#N/A"},1,{"$error":"#VALUE!"},null,{"$f":"INDEX($D116:$I116,K$100)","v":{"$error":"#N/A"}},{"$f":"INDEX($D116:$I116,L$100)","v":1},0,null,0]
[null,null,"P(Crash)",{"$f":"+D116/(D116+1)","v":{"$error":"#N/A"}},0.5,{"$error":"#N/A"},{"$error":"#N/A"},0.5,{"$error":"#VALUE!"},null,{"$f":"INDEX($D117:$I117,K$100)","v":{"$error":"#N/A"}},{"$f":"INDEX($D117:$I117,L$100)","v":0.5},0,null,0]
[null,null,"Factor Change on S curve",{"$f":"+D117/$E$117","v":{"$error":"#N/A"}},1,{"$error":"#N/A"},{"$error":"#N/A"},1,{"$error":"#VALUE!"},null,{"$f":"INDEX($D118:$I118,K$100)","v":{"$error":"#N/A"}},{"$f":"INDEX($D118:$I118,L$100)","v":1},0,null,0]
[null,null,"Adjust to Scale of 100",{"$f":"+$I$118/D118*100","v":{"$error":"#VALUE!"}},{"$error":"#VALUE!"},{"$error":"#VALUE!"},{"$error":"#VALUE!"},{"$error":"#VALUE!"},{"$error":"#VALUE!"},null,{"$f":"INDEX($D119:$I119,K$100)","v":{"$error":"#VALUE!"}},{"$f":"INDEX($D119:$I119,L$100)","v":{"$error":"#VALUE!"}},0]
[null,null,"Unadjusted Combined Relative to Standard",{"$f":"+D115/$E$115","v":{"$error":"#N/A"}},1,{"$error":"#N/A"},{"$error":"#N/A"},1,{"$error":"#VALUE!"},{"$f":"I126/E126","v":{"$error":"#VALUE!"}},{"$f":"INDEX($D120:$I120,K$100)","v":{"$error":"#N/A"}},{"$f":"INDEX($D120:$I120,L$100)","v":1},0,null,0]
[]
[null,null,"Adjusted for PA Basis",{"$f":"+D115*(1+1)/(1+D115*1)","v":{"$error":"#N/A"}},0.62131220402373488,{"$error":"#N/A"},{"$error":"#N/A"},{"$f":"IF($I$2=\"Existing\",(D122),(IF($I$2=\"Design 1\",(F122),(IF($I$2=\"Design 2\",(G122),(IF($I$2=\"Optimal\",(I122),E122)))))))","v":0.62131220402373488},{"$error":"#VALUE!"},null,{"$f":"INDEX($D122:$I122,K$100)","v":{"$error":"#N/A"}},{"$f":"INDEX($D122:$I122,L$100)","v":0.62131220402373488},{"$f":"IF(ISERROR(1-L122/K122), 0, 1-L122/K122)","v":0},null,0]
[null,null,"Corrected by Odds Ratio",{"$f":"+D122/$E$122","v":{"$error":"#N/A"}},1,{"$error":"#N/A"},{"$error":"#N/A"},{"$f":"IF($I$2=\"Existing\",(D123),(IF($I$2=\"Design 1\",(F123),(IF($I$2=\"Design 2\",(G123),(IF($I$2=\"Optimal\",(I123),E123)))))))","v":1},{"$error":"#VALUE!"},{"$f":"I129/E129","v":{"$error":"#VALUE!"}},{"$f":"INDEX($D123:$I123,K$100)","v":{"$error":"#N/A"}},{"$f":"INDEX($D123:$I123,L$100)","v":1},0,null,0]
[null,null,"Pinned s",{"$f":"(1/D123)^$D127","v":{"$error":"#N/A"}},{"$f":"(1/E123)^$D127","v":{"$error":"#VALUE!"}},{"$error":"#N/A"},{"$f":"IF(ISERROR((1/G123)^$D127), 0, (1/G123)^$D127)","v":0},{"$error":"#VALUE!"},{"$error":"#VALUE!"},null,{"$f":"INDEX($D124:$I124,K$100)","v":{"$error":"#N/A"}},{"$f":"INDEX($D124:$I124,L$100)","v":{"$error":"#VALUE!"}},0,null,0]
[null,null,null,{"$f":"(D124+$F128-1)/(1+(D124+$F128-1))","v":{"$error":"#N/A"}},{"$f":"(E124+$F128-1)/(1+(E124+$F128-1))","v":{"$error":"#VALUE!"}},{"$error":"#N/A"},0.57142857142857151,{"$error":"#VALUE!"},{"$error":"#VALUE!"},null,{"$f":"INDEX($D125:$I125,K$100)","v":{"$error":"#N/A"}},{"$f":"INDEX($D125:$I125,L$100)","v":{"$error":"#VALUE!"}},0,null,0]
[null,null,"Score Odds Ratio with Optimal (old)",{"$f":"MIN(ROUND($I$123/D123*Construction!$I$2,0),$I126)","v":{"$error":"#VALUE!"}},{"$f":"MIN(ROUND($I$123/E123*Construction!$I$2,0),$I126)","v":{"$error":"#VALUE!"}},{"$f":"MIN(ROUND($I$123/F123*Construction!$I$2,0),$I126)","v":{"$error":"#VALUE!"}},{"$f":"MIN(ROUND($I$123/G123*Construction!$I$2,0),$I126)","v":{"$error":"#VALUE!"}},{"$f":"IF($I$2=\"Existing\",(D126),(IF($I$2=\"Design 1\",(F126),(IF($I$2=\"Design 2\",(G126),(IF($I$2=\"Optimal\",(I126),E126)))))))","v":{"$error":"#VALUE!"}},{"$f":"ROUND($I$123/I123*Construction!$I$2,0)","v":{"$error":"#VALUE!"}}]
[null,null,"Logistic1",{"$f":"LN((D128/(1-D128))/(0.5/0.5))/LN(IF($E123/I123=1,0.999,$E123/I123))","v":{"$error":"#VALUE!"}}]
[null,null,"Logistic Param",0.999,null,{"$f":"0.7/0.3","v":2.3333333333333335}]
[null,null,"Score ",{"$f":"MIN(ROUND(D125*Construction!$I$2,0),$I126)","v":{"$error":"#N/A"}},{"$f":"MIN(ROUND(E125*Construction!$I$2,0),$I126)","v":{"$error":"#VALUE!"}},{"$f":"MIN(ROUND(F125*Construction!$I$2,0),$I126)","v":{"$error":"#N/A"}},{"$f":"MIN(ROUND(G125*Construction!$I$2,0),$I126)","v":{"$error":"#VALUE!"}},{"$f":"MIN(ROUND(H125*Construction!$I$2,0),$I126)","v":{"$error":"#VALUE!"}},{"$f":"MIN(ROUND(I125*Construction!$I$2,0),$I126)","v":{"$error":"#VALUE!"}}]
[]
[null,null,"HC and Grade",{"$f":"IF($B$139,0,1)","v":1},{"$f":"IF($B$139,0,1)","v":1},1,1,{"$f":"IF($I$2=\"Existing\",(D131),(IF($I$2=\"Design 1\",(F131),(IF($I$2=\"Design 2\",(G131),(IF($I$2=\"Optimal\",(I131),E131)))))))","v":1},{"$f":"IF($B$139,0,1)","v":1}]
["HC?",null,"HC and VC Crest type I",{"$f":"IF(AND($B$139=1,SIGN(D$40)=1,ABS(D$40)<=ABS(D$40-D$41),D$46=\"Crest\"),1,0)","v":0},{"$f":"IF(AND($B$139=1,SIGN(IF(ISNUMBER(E$40),E$40,0))=1,\n  ABS(IF(ISNUMBER(E$40),E$40,0))<=ABS(IF(ISNUMBER(E$40),E$40,0)-IF(ISNUMBER(E$41),E$41,0)),E$46=\"Crest\"),\n  1,0)","v":0},{"$f":"IF(AND($B$139=1,SIGN(F$40)=1,ABS(F$40)<=ABS(F$40-F$41),F$46=\"Crest\"),1,0)","v":0},{"$f":"IF(AND($B$139=1,SIGN(G$40)=1,ABS(G$40)<=ABS(G$40-G$41),G$46=\"Crest\"),1,0)","v":0},{"$f":"IF($I$2=\"Existing\",(D132),(IF($I$2=\"Design 1\",(F132),(IF($I$2=\"Design 2\",(G132),(IF($I$2=\"Optimal\",(I132),E132)))))))","v":0},{"$f":"IF(AND($B$138=1,SIGN(I$40)=1,ABS(I$40)<=ABS(I$40-IF(ISNUMBER(I$41), I$41,0)),I$46=\"Crest\"),1,0)","v":{"$error":"#VALUE!"}},null,{"$f":"INDEX($D132:$I132,K$100)","v":0},{"$f":"INDEX($D132:$I132,L$100)","v":0},{"$f":"IF(ISERROR(1-L132/K132), 0, 1-L132/K132)","v":0}]
["VC?",null,"HC and VC Sag type I",{"$f":"IF(AND($B$139=1,SIGN(D$40)=1,ABS(D$40)<=ABS(D$40-D$41),D$46=\"Sag\"),1,0)","v":0},{"$f":"IF(AND($B$139=1,SIGN(IF(ISNUMBER(E$40),E$40,0))=1,\n  ABS(IF(ISNUMBER(E$40),E$40,0))<=ABS(IF(ISNUMBER(E$40),E$40,0)-IF(ISNUMBER(E$41),E$41,0)),E$46=\"Sag\"),\n  1,0)","v":0},{"$f":"IF(AND($B$139=1,SIGN(F$40)=1,ABS(F$40)<=ABS(F$40-F$41),F$46=\"Sag\"),1,0)","v":0},{"$f":"IF(AND($B$139=1,SIGN(G$40)=1,ABS(G$40)<=ABS(G$40-G$41),G$46=\"Sag\"),1,0)","v":0},{"$f":"IF($I$2=\"Existing\",(D133),(IF($I$2=\"Design 1\",(F133),(IF($I$2=\"Design 2\",(G133),(IF($I$2=\"Optimal\",(I133),E133)))))))","v":0},{"$f":"IF(AND($B$138=1,SIGN(I$40)=1,ABS(I$40)<=ABS(I$40-IF(ISNUMBER(I$41), I$41,0)),I$46=\"Sag\"),1,0)","v":{"$error":"#VALUE!"}},null,{"$f":"INDEX($D133:$I133,K$100)","v":0},{"$f":"INDEX($D133:$I133,L$100)","v":0},0]
[null,null,"HC and VC Crest type II",{"$f":"IF(AND($B$139=1,D$46=\"Crest\",D$132=0),1,0)","v":0},{"$f":"IF(AND($B$139=1,E$46=\"Crest\",E$132=0),1,0)","v":0},{"$f":"IF(AND($B$139=1,F$46=\"Crest\",F$132=0),1,0)","v":0},{"$f":"IF(AND($B$139=1,G$46=\"Crest\",G$132=0),1,0)","v":0},{"$f":"IF($I$2=\"Existing\",(D134),(IF($I$2=\"Design 1\",(F134),(IF($I$2=\"Design 2\",(G134),(IF($I$2=\"Optimal\",(I134),E134)))))))","v":0},{"$f":"IF(AND($B$139=1,I$46=\"Crest\",I$132=0),1,0)","v":{"$error":"#VALUE!"}},null,{"$f":"INDEX($D134:$I134,K$100)","v":0},{"$f":"INDEX($D134:$I134,L$100)","v":0},0]
[null,null,"HC and VC Sag type II",{"$f":"IF(AND($B$139=1,D$46=\"Sag\",D$133=0),1,0)","v":0},{"$f":"IF(AND($B$139=1,E$46=\"Sag\",E$133=0),1,0)","v":0},{"$f":"IF(AND($B$139=1,F$46=\"Sag\",F$133=0),1,0)","v":0},{"$f":"IF(AND($B$139=1,G$46=\"Sag\",G$133=0),1,0)","v":0},{"$f":"IF($I$2=\"Existing\",(D135),(IF($I$2=\"Design 1\",(F135),(IF($I$2=\"Design 2\",(G135),(IF($I$2=\"Optimal\",(I135),E135)))))))","v":0},{"$f":"IF(AND($B$139=1,I$46=\"Sag\",I$133=0),1,0)","v":{"$error":"#VALUE!"}},null,{"$f":"INDEX($D135:$I135,K$100)","v":0},{"$f":"INDEX($D135:$I135,L$100)","v":0},0]
[null,"Yes/No"]
[null,null,"HC and VC:"]
[null,{"$f":"IF(B31=\"Yes\",1,0)","v":0},"HC and Grade",{"$f":"IF($B$139=0,\n  EXP(0.042*ABS(D$40)\n    +$B$138*0.16*LN(2*5730/IF(ISNUMBER(D$33),D$33,1))*$B$138\n    +4.16*$B$138/IF(ISNUMBER(D$33),D$33,1)/IF( AND(ISNUMBER(D$34),D$34<>0),D$34,1)),\n  1)","v":1},{"$f":"IF($B$139=0,\n  EXP(0.042*ABS(D$40)\n    +$B$138*0.16*LN(2*5730/IF(ISNUMBER(E$33),E$33,1))*$B$138\n    +4.16*$B$138/IF(ISNUMBER(E$33),E$33,1)/IF( AND(ISNUMBER(E$34),E$34<>0),E$34,1)),\n  1)","v":1},{"$f":"IF($B$139=0,\n  EXP(0.042*ABS(F$40)\n    +$B$138*0.16*LN(2*5730/IF(ISNUMBER(F$33),F$33,1))*$B$138\n    +4.16*$B$138/IF(ISNUMBER(F$33),F$33,1)/IF( AND(ISNUMBER(F$34),F$34<>0),F$34,1)),\n  1)","v":1},{"$f":"IF($B$139=0,\n  EXP(0.042*ABS(G$40)\n    +$B$138*0.16*LN(2*5730/IF(ISNUMBER(G$33),G$33,1))*$B$138\n    +4.16*$B$138/IF(ISNUMBER(G$33),G$33,1)/IF( AND(ISNUMBER(G$34),G$34<>0),G$34,1)),\n  1)","v":1},null,{"$f":"IF($B$139=0,\n  EXP(0.042*ABS(I$40)\n    +$B$138*0.16*LN(2*5730/IF(ISNUMBER(I$33),I$33,1))*$B$138\n    +4.16*$B$138/IF(ISNUMBER(I$33),I$33,1)/IF( AND(ISNUMBER(I$34),I$34<>0),I$34,1)),\n  1)","v":{"$error":"#VALUE!"}},null,{"$f":"INDEX($D138:$I138,K$100)","v":1},{"$f":"INDEX($D138:$I138,L$100)","v":1},{"$f":"IF(ISERROR(1-L138/K138), 0, 1-L138/K138)","v":0},null,0]
[null,{"$f":"IF(B38=\"Yes\",1,0)","v":0},"HC and VC Crest type I",{"$f":"IF($B$139=0,1,EXP(0.005648908*5730*ABS(+D$40-D$41)*$B$139/D$145*$B$138))","v":1},{"$f":"IF($B$139=0,1,EXP(0.005648908*5730*ABS(+E$40-E$41)*$B$139/E$145*$B$138))","v":1},1,1,{"$f":"IF($I$2=\"Existing\",(D139),(IF($I$2=\"Design 1\",(F139),(IF($I$2=\"Design 2\",(G139),(IF($I$2=\"Optimal\",(I139),E139)))))))","v":1},1,null,{"$f":"INDEX($D139:$I139,K$100)","v":1},{"$f":"INDEX($D139:$I139,L$100)","v":1},0,null,0]
[null,null,"HC and VC Sag type I",{"$f":"IF($B$139=0,1,EXP(9.15857042*$B$139/D$146+0.010284958*5730*$B$139*$B$138*ABS(+D$40-D$41)/D$145))","v":1},{"$f":"IF($B$139=0,1,EXP(9.15857042*$B$139/E$146+0.010284958*5730*$B$139*$B$138*ABS(+E$40-E$41)/E$145))","v":1},1,1,{"$f":"IF($I$2=\"Existing\",(D140),(IF($I$2=\"Design 1\",(F140),(IF($I$2=\"Design 2\",(G140),(IF($I$2=\"Optimal\",(I140),E140)))))))","v":1},1,null,{"$f":"INDEX($D140:$I140,K$100)","v":1},{"$f":"INDEX($D140:$I140,L$100)","v":1},0,null,0]
[null,null,"HC and VC Crest type II",{"$f":"IF($B$139=0,1,EXP(0.005648908*5730*ABS(+D$40-D$41)*$B$139/D$145*$B$138))","v":1},{"$f":"IF($B$139=0,1,EXP(0.005648908*5730*ABS(+E$40-E$41)*$B$139/E$145*$B$138))","v":1},1,1,{"$f":"IF($I$2=\"Existing\",(D141),(IF($I$2=\"Design 1\",(F141),(IF($I$2=\"Design 2\",(G141),(IF($I$2=\"Optimal\",(I141),E141)))))))","v":1},1,null,{"$f":"INDEX($D141:$I141,K$100)","v":1},{"$f":"INDEX($D141:$I141,L$100)","v":1},0,null,0]
[null,null,"HC and VC Sag type II",{"$f":"IF($B$139=0,1,(0.246011284*EXP(LN(0.188*2*5730/D$145)*$B$138)+0.753988716*EXP(0.022*5730/D$145*ABS(D$40-D$41)*$B$139*$B$138)))","v":1},{"$f":"IF($B$139=0,1,(0.246011284*EXP(LN(0.188*2*5730/E$145)*$B$138)+0.753988716*EXP(0.022*5730/E$145*ABS(E$40-E$41)*$B$139*$B$138)))","v":1},1,1,{"$f":"IF($I$2=\"Existing\",(D142),(IF($I$2=\"Design 1\",(F142),(IF($I$2=\"Design 2\",(G142),(IF($I$2=\"Optimal\",(I142),E142)))))))","v":1},1,null,{"$f":"INDEX($D142:$I142,K$100)","v":1},{"$f":"INDEX($D142:$I142,L$100)","v":1},0,null,0]
[]
[null,null,"Combined HZ and VT",{"$f":"MMULT(TRANSPOSE(D131:D135),D138:D142)","v":1},{"$f":"MMULT(TRANSPOSE(E131:E135),E138:E142)","v":1},{"$f":"MMULT(TRANSPOSE(F131:F135),F138:F142)","v":1},{"$f":"MMULT(TRANSPOSE(G131:G135),G138:G142)","v":1},{"$f":"IF($I$2=\"Existing\",(D144),(IF($I$2=\"Design 1\",(F144),(IF($I$2=\"Design 2\",(G144),(IF($I$2=\"Optimal\",(I144),E144)))))))","v":1},{"$f":"MMULT(TRANSPOSE(I131:I135),I138:I142)","v":{"$error":"#VALUE!"}},null,{"$f":"INDEX($D144:$I144,K$100)","v":1},{"$f":"INDEX($D144:$I144,L$100)","v":1},{"$f":"IF(ISERROR(1-L144/K144), 0, 1-L144/K144)","v":0},null,0]
[null,null,"effective R for calculation",{"$f":"IF(ISNUMBER(D33), D33, 99999999)","v":99999999},{"$f":"IF(ISNUMBER(E33), E33, 99999999)","v":590},99999999,99999999,null,590]
[null,null,"effective K for calculation",{"$f":"IF(ISNUMBER(D43), D43, 99999999)","v":99999999},{"$f":"IF(ISNUMBER(E43), E43, 99999999)","v":99999999},99999999,99999999,null,99999999]
[null,"Traffic"]
[null,null,null,"Existing","Standard","Design 1","Design 2"]
[null,null,"Advance static curve warning signs",{"$f":"IF(D24=INDEX(MedConf_Header,1,2),IF(AND($B$31=\"Yes\",D$56=\"Yes\"),(Traffic!$F$4-1)*AVERAGE(Constraints!$F$24,Constraints!$H$24)/Constraints!$D$24+1,1),(IF(AND($B$31=\"Yes\",D$56=\"Yes\"),(Traffic!$F$4-1)*AVERAGE(Constraints!$F$38,Constraints!$H$38)/Constraints!$D$38+1,1)))","v":1},{"$f":"IF(AND($B$31=\"Yes\",E$56=\"Yes\"),(Traffic!$F$4-1)*AVERAGE(Constraints!$F$24,Constraints!$H$24)/Constraints!$D$24+1,1)","v":1},{"$f":"IF(F24=INDEX(MedConf_Header,1,2),IF(AND($B$31=\"Yes\",F$56=\"Yes\"),(Traffic!$F$4-1)*AVERAGE(Constraints!$F$24,Constraints!$H$24)/Constraints!$D$24+1,1),(IF(AND($B$31=\"Yes\",F$56=\"Yes\"),(Traffic!$F$4-1)*AVERAGE(Constraints!$F$38,Constraints!$H$38)/Constraints!$D$38+1,1)))","v":1},{"$f":"IF(G24=INDEX(MedConf_Header,1,2),IF(AND($B$31=\"Yes\",G$56=\"Yes\"),(Traffic!$F$4-1)*AVERAGE(Constraints!$F$24,Constraints!$H$24)/Constraints!$D$24+1,1),(IF(AND($B$31=\"Yes\",G$56=\"Yes\"),(Traffic!$F$4-1)*AVERAGE(Constraints!$F$38,Constraints!$H$38)/Constraints!$D$38+1,1)))","v":1},{"$f":"IF($I$2=\"Existing\",(D149),(IF($I$2=\"Design 1\",(F149),(IF($I$2=\"Design 2\",(G149),(IF($I$2=\"Optimal\",(I149),E149)))))))","v":1},{"$f":"IF(AND($B$31=\"Yes\",I$56=\"Yes\"),(Traffic!$F$4-1)*AVERAGE(Constraints!$F$24,Constraints!$H$24)/Constraints!$D$24+1,1)","v":1},null,{"$f":"INDEX($D149:$I149,K$100)","v":1},{"$f":"INDEX($D149:$I149,L$100)","v":1},{"$f":"IF(ISERROR(1-L149/K149), 0, 1-L149/K149)","v":0},null,0]
[null,null,"Install chevron signs on horizontal curves",{"$f":"IF(D24=INDEX(MedConf_Header,1,2),(IF(D$57=\"No\",1,(IF(AND($B$31=\"Yes\",D$27<11.5),((Traffic!$F$6-1)*(Constraints!$E$18+Constraints!$E$22))+1,1)))),(IF(D$57=\"No\",1,(IF(AND($B$31=\"Yes\",D$27<11.5),((Traffic!$F$6-1)*(Constraints!$E$32+Constraints!$E$36))+1,1)))))","v":1},{"$f":"IF(E$57=\"No\",1,(IF(AND($B$31=\"Yes\",E$27<11.5),((Traffic!$F$6-1)*(Constraints!$E$18+Constraints!$E$22))+1,1)))","v":1},{"$f":"IF(F24=INDEX(MedConf_Header,1,2),(IF(F$57=\"No\",1,(IF(AND($B$31=\"Yes\",F$27<11.5),((Traffic!$F$6-1)*(Constraints!$E$18+Constraints!$E$22))+1,1)))),(IF(F$57=\"No\",1,(IF(AND($B$31=\"Yes\",F$27<11.5),((Traffic!$F$6-1)*(Constraints!$E$32+Constraints!$E$36))+1,1)))))","v":1},{"$f":"IF(G24=INDEX(MedConf_Header,1,2),(IF(G$57=\"No\",1,(IF(AND($B$31=\"Yes\",G$27<11.5),((Traffic!$F$6-1)*(Constraints!$E$18+Constraints!$E$22))+1,1)))),(IF(G$57=\"No\",1,(IF(AND($B$31=\"Yes\",G$27<11.5),((Traffic!$F$6-1)*(Constraints!$E$32+Constraints!$E$36))+1,1)))))","v":1},{"$f":"IF($I$2=\"Existing\",(D150),(IF($I$2=\"Design 1\",(F150),(IF($I$2=\"Design 2\",(G150),(IF($I$2=\"Optimal\",(I150),E150)))))))","v":1},{"$f":"IF(I$57=\"No\",1,(IF(AND($B$31=\"Yes\",I$27<11.5),((Traffic!$F$6-1)*(Constraints!$E$18+Constraints!$E$22))+1,1)))","v":1},null,{"$f":"INDEX($D150:$I150,K$100)","v":1},{"$f":"INDEX($D150:$I150,L$100)","v":1},0,null,0]
[null,null,"Install post-mounted delineators",{"$f":"IF(D24=INDEX(MedConf_Header,1,2),IF(AND($B$31=\"Yes\",D$58=\"Yes\"),(Traffic!$F$12-1)*Constraints!$E$17+1,1),(IF(AND($B$31=\"Yes\",D$58=\"Yes\"),(Traffic!$F$12-1)*Constraints!$E$31+1,1)))","v":1},{"$f":"IF(AND($B$31=\"Yes\",E$58=\"Yes\"),(Traffic!$F$12-1)*Constraints!$E$17+1,1)","v":1},{"$f":"IF(F24=INDEX(MedConf_Header,1,2),IF(AND($B$31=\"Yes\",F$58=\"Yes\"),(Traffic!$F$12-1)*Constraints!$E$17+1,1),(IF(AND($B$31=\"Yes\",F$58=\"Yes\"),(Traffic!$F$12-1)*Constraints!$E$31+1,1)))","v":1},{"$f":"IF(G24=INDEX(MedConf_Header,1,2),IF(AND($B$31=\"Yes\",G$58=\"Yes\"),(Traffic!$F$12-1)*Constraints!$E$17+1,1),(IF(AND($B$31=\"Yes\",G$58=\"Yes\"),(Traffic!$F$12-1)*Constraints!$E$31+1,1)))","v":1},{"$f":"IF($I$2=\"Existing\",(D151),(IF($I$2=\"Design 1\",(F151),(IF($I$2=\"Design 2\",(G151),(IF($I$2=\"Optimal\",(I151),E151)))))))","v":1},{"$f":"IF(AND($B$31=\"Yes\",I$58=\"Yes\"),(Traffic!$F$12-1)*Constraints!$E$17+1,1)","v":1},null,{"$f":"INDEX($D151:$I151,K$100)","v":1},{"$f":"INDEX($D151:$I151,L$100)","v":1},0,null,0]
[null,null,"Install edgeline  or Profile pavement markings ",{"$f":"IF(D24=INDEX(MedConf_Header,1,2),(IF(D$59=\"Yes\",Traffic!$F$18*0.5+((Traffic!$F$20*(Constraints!$H$17+Constraints!$H$20+Constraints!$H$21)+1*(Constraints!$H$24-(Constraints!$H$17+Constraints!$H$20+Constraints!$H$21)))/Constraints!$H$24)*0.5,1)),(IF(D$59=\"Yes\",Traffic!$F$18*0.5+((Traffic!$F$20*(Constraints!$H$31+Constraints!$H$34+Constraints!$H$35)+1*(Constraints!$H$38-(Constraints!$H$31+Constraints!$H$34+Constraints!$H$35)))/Constraints!$H$38)*0.5,1)))","v":1},{"$f":"IF(E24=INDEX(MedConf_Header,1,2),(IF(E$59=\"Yes\",Traffic!$F$18*0.5+((Traffic!$F$20*(Constraints!$H$17+Constraints!$H$20+Constraints!$H$21)+1*(Constraints!$H$24-(Constraints!$H$17+Constraints!$H$20+Constraints!$H$21)))/Constraints!$H$24)*0.5,1)),(IF(E$59=\"Yes\",Traffic!$F$18*0.5+((Traffic!$F$20*(Constraints!$H$31+Constraints!$H$34+Constraints!$H$35)+1*(Constraints!$H$38-(Constraints!$H$31+Constraints!$H$34+Constraints!$H$35)))/Constraints!$H$38)*0.5,1)))","v":1},{"$f":"IF(F24=INDEX(MedConf_Header,1,2),(IF(F$59=\"Yes\",Traffic!$F$18*0.5+((Traffic!$F$20*(Constraints!$H$17+Constraints!$H$20+Constraints!$H$21)+1*(Constraints!$H$24-(Constraints!$H$17+Constraints!$H$20+Constraints!$H$21)))/Constraints!$H$24)*0.5,1)),(IF(F$59=\"Yes\",Traffic!$F$18*0.5+((Traffic!$F$20*(Constraints!$H$31+Constraints!$H$34+Constraints!$H$35)+1*(Constraints!$H$38-(Constraints!$H$31+Constraints!$H$34+Constraints!$H$35)))/Constraints!$H$38)*0.5,1)))","v":1},{"$f":"IF(G24=INDEX(MedConf_Header,1,2),(IF(G$59=\"Yes\",Traffic!$F$18*0.5+((Traffic!$F$20*(Constraints!$H$17+Constraints!$H$20+Constraints!$H$21)+1*(Constraints!$H$24-(Constraints!$H$17+Constraints!$H$20+Constraints!$H$21)))/Constraints!$H$24)*0.5,1)),(IF(G$59=\"Yes\",Traffic!$F$18*0.5+((Traffic!$F$20*(Constraints!$H$31+Constraints!$H$34+Constraints!$H$35)+1*(Constraints!$H$38-(Constraints!$H$31+Constraints!$H$34+Constraints!$H$35)))/Constraints!$H$38)*0.5,1)))","v":1},{"$f":"IF($I$2=\"Existing\",(D152),(IF($I$2=\"Design 1\",(F152),(IF($I$2=\"Design 2\",(G152),(IF($I$2=\"Optimal\",(I152),E152)))))))","v":1},{"$f":"IF(I24=INDEX(MedConf_Header,1,2),(IF(I$59=\"Yes\",Traffic!$F$18*0.5+((Traffic!$F$20*(Constraints!$H$17+Constraints!$H$20+Constraints!$H$21)+1*(Constraints!$H$24-(Constraints!$H$17+Constraints!$H$20+Constraints!$H$21)))/Constraints!$H$24)*0.5,1)),(IF(I$59=\"Yes\",Traffic!$F$18*0.5+((Traffic!$F$20*(Constraints!$H$31+Constraints!$H$34+Constraints!$H$35)+1*(Constraints!$H$38-(Constraints!$H$31+Constraints!$H$34+Constraints!$H$35)))/Constraints!$H$38)*0.5,1)))","v":0.87439641434262949},null,{"$f":"INDEX($D152:$I152,K$100)","v":1},{"$f":"INDEX($D152:$I152,L$100)","v":1},0,null,0.13824118691351761]
[null,null,"Profiles",1,1,1,1,1,1,null,{"$f":"INDEX($D153:$I153,K$100)","v":1},{"$f":"INDEX($D153:$I153,L$100)","v":1},0,null,0]
[null,null,"Shoulder rumble strips",{"$f":"IF(D24=INDEX(MedConf_Header,1,2),(IF(D$60=\"No\",1,(Traffic!$F$27*(Constraints!$H$17+Constraints!$H$20+Constraints!$H$21)+1*(Constraints!$H$24-(Constraints!$H$17+Constraints!$H$20+Constraints!$H$21)))/Constraints!$H$24)),(IF(D$60=\"No\",1,(Traffic!$F$27*(Constraints!$H$31+Constraints!$H$34+Constraints!$H$35)+1*(Constraints!$H$38-(Constraints!$H$31+Constraints!$H$34+Constraints!$H$35)))/Constraints!$H$38)))","v":0.93956289460903353},{"$f":"IF(E$60=\"No\",1,(Traffic!$F$27*(Constraints!$H$17+Constraints!$H$20+Constraints!$H$21)+1*(Constraints!$H$24-(Constraints!$H$17+Constraints!$H$20+Constraints!$H$21)))/Constraints!$H$24)","v":0.91807038512616201},{"$f":"IF(F24=INDEX(MedConf_Header,1,2),(IF(F$60=\"No\",1,(Traffic!$F$27*(Constraints!$H$17+Constraints!$H$20+Constraints!$H$21)+1*(Constraints!$H$24-(Constraints!$H$17+Constraints!$H$20+Constraints!$H$21)))/Constraints!$H$24)),(IF(F$60=\"No\",1,(Traffic!$F$27*(Constraints!$H$31+Constraints!$H$34+Constraints!$H$35)+1*(Constraints!$H$38-(Constraints!$H$31+Constraints!$H$34+Constraints!$H$35)))/Constraints!$H$38)))","v":0.93956289460903353},{"$f":"IF(G24=INDEX(MedConf_Header,1,2),(IF(G$60=\"No\",1,(Traffic!$F$27*(Constraints!$H$17+Constraints!$H$20+Constraints!$H$21)+1*(Constraints!$H$24-(Constraints!$H$17+Constraints!$H$20+Constraints!$H$21)))/Constraints!$H$24)),(IF(G$60=\"No\",1,(Traffic!$F$27*(Constraints!$H$31+Constraints!$H$34+Constraints!$H$35)+1*(Constraints!$H$38-(Constraints!$H$31+Constraints!$H$34+Constraints!$H$35)))/Constraints!$H$38)))","v":0.93956289460903353},{"$f":"IF($I$2=\"Existing\",(D154),(IF($I$2=\"Design 1\",(F154),(IF($I$2=\"Design 2\",(G154),(IF($I$2=\"Optimal\",(I154),E154)))))))","v":0.91807038512616201},{"$f":"IF(I$60=\"No\",1,(Traffic!$F$27*(Constraints!$H$17+Constraints!$H$20+Constraints!$H$21)+1*(Constraints!$H$24-(Constraints!$H$17+Constraints!$H$20+Constraints!$H$21)))/Constraints!$H$24)","v":0.91807038512616201},null,{"$f":"INDEX($D154:$I154,K$100)","v":0.93956289460903353},{"$f":"INDEX($D154:$I154,L$100)","v":0.91807038512616201},2.2875008800570917E-2,null,0]
[null,null,"Install centerline rumble strips",{"$f":"IF(D24=INDEX(MedConf_Header,1,3),(IF(D$61=\"No\",1,(Traffic!$E$81*(Constraints!$H$31+Constraints!$H$34+Constraints!$H$35)+1*(Constraints!$H$38-(Constraints!$H$31+Constraints!$H$34+Constraints!$H$35)))/Constraints!$H$38)+0.001),1)","v":1},{"$f":"IF(E24=INDEX(MedConf_Header,1,3),(IF(E$61=\"No\",1,(Traffic!$E$81*(Constraints!$H$31+Constraints!$H$34+Constraints!$H$35)+1*(Constraints!$H$38-(Constraints!$H$31+Constraints!$H$34+Constraints!$H$35)))/Constraints!$H$38)+0.001),1)","v":1},{"$f":"IF(F24=INDEX(MedConf_Header,1,3),(IF(F$61=\"No\",1,(Traffic!$E$81*(Constraints!$H$31+Constraints!$H$34+Constraints!$H$35)+1*(Constraints!$H$38-(Constraints!$H$31+Constraints!$H$34+Constraints!$H$35)))/Constraints!$H$38)+0.001),1)","v":1},{"$f":"IF(G24=INDEX(MedConf_Header,1,3),(IF(G$61=\"No\",1,(Traffic!$E$81*(Constraints!$H$31+Constraints!$H$34+Constraints!$H$35)+1*(Constraints!$H$38-(Constraints!$H$31+Constraints!$H$34+Constraints!$H$35)))/Constraints!$H$38)+0.001),1)","v":1},{"$f":"IF($I$2=\"Existing\",(D155),(IF($I$2=\"Design 1\",(F155),(IF($I$2=\"Design 2\",(G155),(IF($I$2=\"Optimal\",(I155),E155)))))))","v":1},{"$f":"IF(I24=INDEX(MedConf_Header,1,3),(IF(I$61=\"No\",1,(Traffic!$E$81*(Constraints!$H$31+Constraints!$H$34+Constraints!$H$35)+1*(Constraints!$H$38-(Constraints!$H$31+Constraints!$H$34+Constraints!$H$35)))/Constraints!$H$38)+0.001),1)","v":1},null,{"$f":"INDEX($D155:$I155,K$100)","v":1},{"$f":"INDEX($D155:$I155,L$100)","v":1},0,null,-0.16279069767441867]
[null,null,"Driveway Density (driveways per mile)",{"$f":"EXP(-LN(Traffic!$F$31)*(D$62-$E$62))","v":0.81707280688754669},{"$f":"EXP(-LN(Traffic!$F$31)*(E$62-$E$62))","v":1},{"$f":"EXP(-LN(Traffic!$F$31)*(F$62-$E$62))","v":0.81707280688754669},{"$f":"EXP(-LN(Traffic!$F$31)*(G$62-$E$62))","v":0.81707280688754669},{"$f":"IF($I$2=\"Existing\",(D156),(IF($I$2=\"Design 1\",(F156),(IF($I$2=\"Design 2\",(G156),(IF($I$2=\"Optimal\",(I156),E156)))))))","v":1},{"$f":"EXP(-LN(Traffic!$F$31)*(I$62-$E$62))","v":0.81707280688754669},null,{"$f":"INDEX($D156:$I156,K$100)","v":0.81707280688754669},{"$f":"INDEX($D156:$I156,L$100)","v":1},-0.22388114201141129,null,-0.22388114201141129]
[null,null,"Install lighting",{"$f":"IF(D24=INDEX(MedConf_Header,1,2),(IF(D$63=\"No\",1,1-(((1-Traffic!$F$54*Constraints!$H$24-Constraints!$F$24/3)+((1-Traffic!$F$54*Constraints!$D$24-Constraints!$H$24)))*$S$19+((1-Traffic!$F$56)*Constraints!$F$24/3))/Constraints!$D$24)),(IF(D$63=\"No\",1,1-(((1-Traffic!$F$54*Constraints!$H$38-Constraints!$F$38/3)+((1-Traffic!$F$54*Constraints!$D$38-Constraints!$H$38)))*$S$19+((1-Traffic!$F$56)*Constraints!$F$38/3))/Constraints!$D$38)))","v":0.98319080068143105},{"$f":"IF(E$63=\"No\",1,1-(((1-Traffic!$F$54*Constraints!$H$24-Constraints!$F$24/3)+((1-Traffic!$F$54*Constraints!$D$24-Constraints!$H$24)))*$S$19+((1-Traffic!$F$56)*Constraints!$F$24/3))/Constraints!$D$24)","v":1},{"$f":"IF(F24=INDEX(MedConf_Header,1,2),(IF(F$63=\"No\",1,1-(((1-Traffic!$F$54*Constraints!$H$24-Constraints!$F$24/3)+((1-Traffic!$F$54*Constraints!$D$24-Constraints!$H$24)))*$S$19+((1-Traffic!$F$56)*Constraints!$F$24/3))/Constraints!$D$24)),(IF(F$63=\"No\",1,1-(((1-Traffic!$F$54*Constraints!$H$38-Constraints!$F$38/3)+((1-Traffic!$F$54*Constraints!$D$38-Constraints!$H$38)))*$S$19+((1-Traffic!$F$56)*Constraints!$F$38/3))/Constraints!$D$38)))","v":0.98319080068143105},{"$f":"IF(G24=INDEX(MedConf_Header,1,2),(IF(G$63=\"No\",1,1-(((1-Traffic!$F$54*Constraints!$H$24-Constraints!$F$24/3)+((1-Traffic!$F$54*Constraints!$D$24-Constraints!$H$24)))*$S$19+((1-Traffic!$F$56)*Constraints!$F$24/3))/Constraints!$D$24)),(IF(G$63=\"No\",1,1-(((1-Traffic!$F$54*Constraints!$H$38-Constraints!$F$38/3)+((1-Traffic!$F$54*Constraints!$D$38-Constraints!$H$38)))*$S$19+((1-Traffic!$F$56)*Constraints!$F$38/3))/Constraints!$D$38)))","v":0.98319080068143105},{"$f":"IF($I$2=\"Existing\",(D157),(IF($I$2=\"Design 1\",(F157),(IF($I$2=\"Design 2\",(G157),(IF($I$2=\"Optimal\",(I157),E157)))))))","v":1},{"$f":"IF(I$63=\"No\",1,1-(((1-Traffic!$F$54*Constraints!$H$24-Constraints!$F$24/3)+((1-Traffic!$F$54*Constraints!$D$24-Constraints!$H$24)))*$S$19+((1-Traffic!$F$56)*Constraints!$F$24/3))/Constraints!$D$24)","v":0.98062689234129152},null,{"$f":"INDEX($D157:$I157,K$100)","v":0.98319080068143105},{"$f":"INDEX($D157:$I157,L$100)","v":1},-1.7096579124742384E-2,null,-2.3499081529478438E-2]
[null,null,"Pavement friction (skid number)",{"$f":"EXP(LN(Traffic!$F$48)*(D$64-$E$64))","v":1.3972521419325798},{"$f":"EXP(LN(Traffic!$F$48)*(E$64-$E$64))","v":1},{"$f":"IF(MATCH(F64,SkidNums,0)=3, $D158,EXP(LN([5]Traffic!$F$49)*(RIGHT(F$64,2)-$E$64)))","v":{"$error":"#N/A"}},{"$f":"IF(MATCH(G64,SkidNums,0)=3, $D158,EXP(LN([5]Traffic!$F$49)*(RIGHT(G$64,2)-$E$64)))","v":{"$error":"#N/A"}},{"$f":"IF($I$2=\"Existing\",(D158),(IF($I$2=\"Design 1\",(F158),(IF($I$2=\"Design 2\",(G158),(IF($I$2=\"Optimal\",(I158),E158)))))))","v":1},{"$f":"EXP(LN(Traffic!$F$48)*(I$64-$E$64))","v":0.85753553626991963},null,{"$f":"INDEX($D158:$I158,K$100)","v":1.3972521419325798},{"$f":"INDEX($D158:$I158,L$100)","v":1},0.28430956017940245,null,0]
[]
[]
[null,null,"COMBINED Calculated CMF",{"$f":"+D149*D150*D151*D152*D153*D154*D155*D156*D157*D158","v":1.0546277742651902},{"$f":"+E149*E150*E151*E152*E153*E154*E155*E156*E157*E158","v":0.91807038512616201},{"$error":"#N/A"},{"$error":"#N/A"},{"$f":"IF($I$2=\"Existing\",(D161),(IF($I$2=\"Design 1\",(F161),(IF($I$2=\"Design 2\",(G161),(IF($I$2=\"Optimal\",(I161),E161)))))))","v":0.91807038512616201},{"$f":"+I149*I150*I151*I152*I153*I154*I155*I156*I157*I158","v":0.55157049744255038},null,{"$f":"INDEX($D161:$I161,K$100)","v":1.0546277742651902},{"$f":"INDEX($D161:$I161,L$100)","v":0.91807038512616201},{"$f":"IF(ISERROR(1-L161/K161), 0, 1-L161/K161)","v":0.12948396815565966},null,0]
[null,null,"Calculated Relative to Design Standards (Column E)",{"$f":"+D161/$E$161","v":1.1487439213282784},{"$f":"+E161/$E$161","v":1},{"$error":"#N/A"},{"$error":"#N/A"},1,{"$f":"+I161/$E$161","v":0.60079325766156055},null,{"$f":"INDEX($D162:$I162,K$100)","v":1.1487439213282784},{"$f":"INDEX($D162:$I162,L$100)","v":1},0.12948396815565966,null,0]
[null,null,"P(Crash)",{"$f":"+D162/(D162+1)","v":0.53461183062622242},0.5,{"$error":"#N/A"},{"$error":"#N/A"},0.5,{"$f":"+I162/(I162+1)","v":0.37530971272280322},null,{"$f":"INDEX($D163:$I163,K$100)","v":0.53461183062622242},{"$f":"INDEX($D163:$I163,L$100)","v":0.5},6.4741984077829939E-2]
[null,null,"Factor Change on S curve",{"$f":"+D163/$E$163","v":1.0692236612524448},{"$f":"+E163/$E$163","v":1},{"$f":"+F163/$E$163","v":{"$error":"#N/A"}},{"$error":"#N/A"},1,{"$f":"+I163/$E$163","v":0.75061942544560645},null,{"$f":"INDEX($D164:$I164,K$100)","v":1.0692236612524448},{"$f":"INDEX($D164:$I164,L$100)","v":1},6.4741984077829939E-2]
[null,null,"Adjust to Scale of 100",{"$f":"+$I$118/D164*100","v":{"$error":"#VALUE!"}},{"$error":"#VALUE!"},{"$error":"#VALUE!"},{"$error":"#VALUE!"},{"$error":"#VALUE!"},{"$f":"+$I$118/I164*100","v":{"$error":"#VALUE!"}}]
[null,null,"Unadjusted Combined Relative to Standard",{"$f":"+D161/$E$161","v":1.1487439213282784},{"$f":"+E161/$E$161","v":1},{"$f":"+F161/$E$161","v":{"$error":"#N/A"}},{"$error":"#N/A"},1,{"$f":"+I161/$E$161","v":0.60079325766156055},{"$f":"I172/E172","v":1.3333333333333333},{"$f":"INDEX($D166:$I166,K$100)","v":1.1487439213282784},{"$f":"INDEX($D166:$I166,L$100)","v":1},{"$f":"IF(ISERROR(1-L166/K166), 0, 1-L166/K166)","v":0.12948396815565966}]
[null,null,null,null,null,null,null,0,null,null,{"$f":"INDEX($D167:$I167,K$100)","v":0},{"$f":"INDEX($D167:$I167,L$100)","v":0},0]
[null,null,"Adjusted for PA Basis",{"$f":"+D161*(1+1)/(1+D161*1)","v":1.0265876743950504},0.95728539707970672,{"$error":"#N/A"},{"$error":"#N/A"},0.95728539707970672,{"$f":"+I161*(1+1)/(1+I161*1)","v":0.71098348202895401},null,{"$f":"INDEX($D168:$I168,K$100)","v":1.0265876743950504},{"$f":"INDEX($D168:$I168,L$100)","v":0.95728539707970672},6.750741221998624E-2]
[null,null,"Corrected by Odds Ratio",{"$f":"+D168/$E$168","v":1.0723945831898796},{"$f":"+E168/$E$168","v":1},{"$f":"+F168/$E$168","v":{"$error":"#N/A"}},{"$error":"#N/A"},1,{"$f":"+I168/$E$168","v":0.74270795752017016},{"$f":"I175/E175","v":1.4285714285714286},{"$f":"INDEX($D169:$I169,K$100)","v":1.0723945831898796},{"$f":"INDEX($D169:$I169,L$100)","v":1},6.750741221998624E-2]
[null,null,null,{"$f":"(1/D169)^$D173","v":0.19732178070922252},{"$f":"(1/E169)^$D173","v":1},{"$error":"#N/A"},{"$error":"#N/A"},1,998.99999999999955,null,{"$f":"INDEX($D170:$I170,K$100)","v":0.19732178070922252},{"$f":"INDEX($D170:$I170,L$100)","v":1},-4.0678642591089362]
[null,null,null,{"$f":"(D170+$F174-1)/(1+(D170+$F174-1))","v":0.6048454036857811},{"$f":"(E170+$F174-1)/(1+(E170+$F174-1))","v":0.70000000000000007},{"$error":"#N/A"},{"$error":"#N/A"},0.70000000000000007,0.99900133155792281,null,{"$f":"INDEX($D171:$I171,K$100)","v":0.6048454036857811},{"$f":"INDEX($D171:$I171,L$100)","v":0.70000000000000007},-0.15732052477272696]
[null,null,"Score Odds Ratio with Optimal as 100 (old)",{"$f":"MIN(ROUND($I$169/D169*Construction!$I$3,0),$I172)","v":14},{"$f":"MIN(ROUND($I$169/E169*Construction!$I$3,0),$I172)","v":15},{"$f":"MIN(ROUND($I$169/F169*Construction!$I$3,0),$I172)","v":{"$error":"#N/A"}},{"$f":"MIN(ROUND($I$169/G169*Construction!$I$3,0),$I172)","v":{"$error":"#N/A"}},null,{"$f":"ROUND($I$169/I169*Construction!$I$3,0)","v":20}]
[null,null,"Logistic1",{"$f":"LN((D174/(1-D174))/(0.5/0.5))/LN($E169/I169)","v":23.2196999386987}]
[null,null,"Logistic Param",0.999,null,{"$f":"0.7/0.3","v":2.3333333333333335}]
[null,null,"Score ",{"$f":"MIN(ROUND(D171*Construction!$I$3,0),$I172)","v":12},{"$f":"MIN(ROUND(E171*Construction!$I$3,0),$I172)","v":14},{"$f":"MIN(ROUND(F171*Construction!$I$3,0),$I172)","v":{"$error":"#N/A"}},{"$f":"MIN(ROUND(G171*Construction!$I$3,0),$I172)","v":{"$error":"#N/A"}},null,{"$f":"MIN(ROUND(I171*Construction!$I$3,0),$I172)","v":20}]
[]
[]
[]
[]
[null,null,null,{"$f":"INDEX(MedConf_Header,1,2)","v":"Divided - Unsurfaced Median"}]
[]
[null,"Roadsde",null,"Existing","Standard","Design 1","Design 2"]
[null,null,null,{"$f":"IF(ISBLANK(D75), 0, MID(D75,FIND(\":\",D75,1)+1,FIND(\"H\",D75,1)-FIND(\":\",D75,1)-1)+0)","v":0},{"$f":"MID(E75,FIND(\":\",E75,1)+1,FIND(\"H\",E75,1)-FIND(\":\",E75,1)-1)+0","v":4},{"$f":"IF(ISBLANK(F75), 0, MID(F75,FIND(\":\",F75,1)+1,FIND(\"H\",F75,1)-FIND(\":\",F75,1)-1)+0)","v":0},{"$f":"IF(ISBLANK(G75), 0, MID(G75,FIND(\":\",G75,1)+1,FIND(\"H\",G75,1)-FIND(\":\",G75,1)-1)+0)","v":0},null,{"$f":"MID(I75,FIND(\":\",I75,1)+1,FIND(\"H\",I75,1)-FIND(\":\",I75,1)-1)+0","v":6},null,null,null,null,null,0]
[null,null,"Sideslope (Foreslope)",{"$f":"IF(D24=INDEX(MedConf_Header,1,2),(IF(D183<=3,1,IF(OR(D183=4,D183=5),(Roadside!$F$15-1)*Constraints!$H$24/Constraints!$D$24+1,(Roadside!$F$15*Roadside!$F$16-1)*Constraints!$H$24/Constraints!$D$24+1))),(IF(D183<=3,1,IF(OR(D183=4,D183=5),(Roadside!$F$15-1)*Constraints!$H$38/Constraints!$D$38+1,(Roadside!$F$15*Roadside!$F$16-1)*Constraints!$H$38/Constraints!$D$38+1))))","v":1},{"$f":"IF(E24=INDEX(MedConf_Header,1,2),(IF(E183<=3,1,IF(OR(E183=4,E183=5),(Roadside!$F$15-1)*Constraints!$H$24/Constraints!$D$24+1,(Roadside!$F$15*Roadside!$F$16-1)*Constraints!$H$24/Constraints!$D$24+1))),(IF(E183<=3,1,IF(OR(E183=4,E183=5),(Roadside!$F$15-1)*Constraints!$H$38/Constraints!$D$38+1,(Roadside!$F$15*Roadside!$F$16-1)*Constraints!$H$38/Constraints!$D$38+1))))","v":0.84302377525189853},{"$f":"IF(F24=INDEX(MedConf_Header,1,2),(IF(F183<=3,1,IF(OR(F183=4,F183=5),(Roadside!$F$15-1)*Constraints!$H$24/Constraints!$D$24+1,(Roadside!$F$15*Roadside!$F$16-1)*Constraints!$H$24/Constraints!$D$24+1))),(IF(F183<=3,1,IF(OR(F183=4,F183=5),(Roadside!$F$15-1)*Constraints!$H$38/Constraints!$D$38+1,(Roadside!$F$15*Roadside!$F$16-1)*Constraints!$H$38/Constraints!$D$38+1))))","v":1},{"$f":"IF(G24=INDEX(MedConf_Header,1,2),(IF(G183<=3,1,IF(OR(G183=4,G183=5),(Roadside!$F$15-1)*Constraints!$H$24/Constraints!$D$24+1,(Roadside!$F$15*Roadside!$F$16-1)*Constraints!$H$24/Constraints!$D$24+1))),(IF(G183<=3,1,IF(OR(G183=4,G183=5),(Roadside!$F$15-1)*Constraints!$H$38/Constraints!$D$38+1,(Roadside!$F$15*Roadside!$F$16-1)*Constraints!$H$38/Constraints!$D$38+1))))","v":1},{"$f":"IF($I$2=\"Existing\",(D184),(IF($I$2=\"Design 1\",(F184),(IF($I$2=\"Design 2\",(G184),(IF($I$2=\"Optimal\",(I184),E184)))))))","v":0.84302377525189853},{"$f":"IF(I24=INDEX(MedConf_Header,1,2),(IF(I183<=3,1,IF(OR(I183=4,I183=5),(Roadside!$F$15-1)*Constraints!$H$24/Constraints!$D$24+1,(Roadside!$F$15*Roadside!$F$16-1)*Constraints!$H$24/Constraints!$D$24+1))),(IF(I183<=3,1,IF(OR(I183=4,I183=5),(Roadside!$F$15-1)*Constraints!$H$38/Constraints!$D$38+1,(Roadside!$F$15*Roadside!$F$16-1)*Constraints!$H$38/Constraints!$D$38+1))))","v":0.79533290316176108},null,{"$f":"INDEX($D184:$I184,K$100)","v":1},{"$f":"INDEX($D184:$I184,L$100)","v":0.84302377525189853},{"$f":"IF(ISERROR(1-L184/K184), 0, 1-L184/K184)","v":0.15697622474810147},null,0]
[null,null,"Backslope",1,1,1,1,{"$f":"IF($I$2=\"Existing\",(D185),(IF($I$2=\"Design 1\",(F185),(IF($I$2=\"Design 2\",(G185),(IF($I$2=\"Optimal\",(I185),E185)))))))","v":1},1,null,{"$f":"INDEX($D185:$I185,K$100)","v":1},{"$f":"INDEX($D185:$I185,L$100)","v":1},0,null,0]
[null,null,"SafetyEdge",{"$f":"IF(D24=INDEX(MedConf_Header,1,2),(IF(D$77=\"No\",1,(Roadside!$F$23-1)*AVERAGE(Constraints!$H$24,Constraints!$F$24)/Constraints!$D$24+1)),(IF(D$77=\"No\",1,(Roadside!$F$23-1)*AVERAGE(Constraints!$H$38,Constraints!$F$38)/Constraints!$D$38+1)))","v":0.97711209540034072},{"$f":"IF(E$77=\"No\",1,(Roadside!$F$23-1)*AVERAGE(Constraints!$H$24,Constraints!$F$24)/Constraints!$D$24+1)","v":1},{"$f":"IF(F24=INDEX(MedConf_Header,1,2),(IF(F$77=\"No\",1,(Roadside!$F$23-1)*AVERAGE(Constraints!$H$24,Constraints!$F$24)/Constraints!$D$24+1)),(IF(F$77=\"No\",1,(Roadside!$F$23-1)*AVERAGE(Constraints!$H$38,Constraints!$F$38)/Constraints!$D$38+1)))","v":0.97711209540034072},{"$f":"IF(G24=INDEX(MedConf_Header,1,2),(IF(G$77=\"No\",1,(Roadside!$F$23-1)*AVERAGE(Constraints!$H$24,Constraints!$F$24)/Constraints!$D$24+1)),(IF(G$77=\"No\",1,(Roadside!$F$23-1)*AVERAGE(Constraints!$H$38,Constraints!$F$38)/Constraints!$D$38+1)))","v":0.97711209540034072},{"$f":"IF($I$2=\"Existing\",(D186),(IF($I$2=\"Design 1\",(F186),(IF($I$2=\"Design 2\",(G186),(IF($I$2=\"Optimal\",(I186),E186)))))))","v":1},{"$f":"IF(I$77=\"No\",1,(Roadside!$F$23-1)*AVERAGE(Constraints!$H$24,Constraints!$F$24)/Constraints!$D$24+1)","v":0.97526887377773364},null,{"$f":"INDEX($D186:$I186,K$100)","v":0.97711209540034072},{"$f":"INDEX($D186:$I186,L$100)","v":1},-2.3424031600265627E-2,null,-2.8188991921691331E-2]
[null,null,"Lateral Clearance (ft)",{"$f":"IF(D24=INDEX(MedConf_Header,1,2),(IF($B$31=\"Yes\",((EXP(LN(Roadside!$F$11)*(IF(D$79=\"None\",40,D$78)-30)/30)-1))*Constraints!$H$17/Constraints!$D$24+1,((EXP(LN(Roadside!$F$10)*(IF(D$79=\"None\",40,D$78)-30)/30)-1))*Constraints!$H$17/Constraints!$D$24+1)),(IF($B$31=\"Yes\",((EXP(LN(Roadside!$F$11)*(IF(D$79=\"None\",40,D$78)-30)/30)-1))*Constraints!$H$31/Constraints!$D$38+1,((EXP(LN(Roadside!$F$10)*(IF(D$79=\"None\",40,D$78)-30)/30)-1))*Constraints!$H$31/Constraints!$D$38+1)))","v":1.0472592444132678},{"$f":"IF(E24=INDEX(MedConf_Header,1,2),(IF($B$31=\"Yes\",((EXP(LN(Roadside!$F$11)*(IF(E$79=\"None\",40,E$78)-30)/30)-1))*Constraints!$H$17/Constraints!$D$24+1,((EXP(LN(Roadside!$F$10)*(IF(E$79=\"None\",40,E$78)-30)/30)-1))*Constraints!$H$17/Constraints!$D$24+1)),(IF($B$31=\"Yes\",((EXP(LN(Roadside!$F$11)*(IF(E$79=\"None\",40,E$78)-30)/30)-1))*Constraints!$H$31/Constraints!$D$38+1,((EXP(LN(Roadside!$F$10)*(IF(E$79=\"None\",40,E$78)-30)/30)-1))*Constraints!$H$31/Constraints!$D$38+1)))","v":0.97942029665168673},{"$f":"IF(F24=INDEX(MedConf_Header,1,2),(IF($B$31=\"Yes\",((EXP(LN(Roadside!$F$11)*(IF(F$79=\"None\",40,F$78)-30)/30)-1))*Constraints!$H$17/Constraints!$D$24+1,((EXP(LN(Roadside!$F$10)*(IF(F$79=\"None\",40,F$78)-30)/30)-1))*Constraints!$H$17/Constraints!$D$24+1)),(IF($B$31=\"Yes\",((EXP(LN(Roadside!$F$11)*(IF(F$79=\"None\",40,F$78)-30)/30)-1))*Constraints!$H$31/Constraints!$D$38+1,((EXP(LN(Roadside!$F$10)*(IF(F$79=\"None\",40,F$78)-30)/30)-1))*Constraints!$H$31/Constraints!$D$38+1)))","v":1.0472592444132678},{"$f":"IF(G24=INDEX(MedConf_Header,1,2),(IF($B$31=\"Yes\",((EXP(LN(Roadside!$F$11)*(IF(G$79=\"None\",40,G$78)-30)/30)-1))*Constraints!$H$17/Constraints!$D$24+1,((EXP(LN(Roadside!$F$10)*(IF(G$79=\"None\",40,G$78)-30)/30)-1))*Constraints!$H$17/Constraints!$D$24+1)),(IF($B$31=\"Yes\",((EXP(LN(Roadside!$F$11)*(IF(G$79=\"None\",40,G$78)-30)/30)-1))*Constraints!$H$31/Constraints!$D$38+1,((EXP(LN(Roadside!$F$10)*(IF(G$79=\"None\",40,G$78)-30)/30)-1))*Constraints!$H$31/Constraints!$D$38+1)))","v":1.0472592444132678},{"$f":"IF($I$2=\"Existing\",(D187),(IF($I$2=\"Design 1\",(F187),(IF($I$2=\"Design 2\",(G187),(IF($I$2=\"Optimal\",(I187),E187)))))))","v":0.97942029665168673},{"$f":"IF(I24=INDEX(MedConf_Header,1,2),(IF($B$31=\"Yes\",((EXP(LN(Roadside!$F$11)*(IF(I$79=\"None\",40,I$78)-30)/30)-1))*Constraints!$H$17/Constraints!$D$24+1,((EXP(LN(Roadside!$F$10)*(IF(I$79=\"None\",40,I$78)-30)/30)-1))*Constraints!$H$17/Constraints!$D$24+1)),(IF($B$31=\"Yes\",((EXP(LN(Roadside!$F$11)*(IF(I$79=\"None\",40,I$78)-30)/30)-1))*Constraints!$H$31/Constraints!$D$38+1,((EXP(LN(Roadside!$F$10)*(IF(I$79=\"None\",40,I$78)-30)/30)-1))*Constraints!$H$31/Constraints!$D$38+1)))","v":0.97942029665168673},null,{"$f":"INDEX($D187:$I187,K$100)","v":1.0472592444132678},{"$f":"INDEX($D187:$I187,L$100)","v":0.97942029665168673},6.4777606999867676E-2,null,9.0307162971216326E-2]
[null,null,"Roadside Obstruction Type",{"$f":"IF(D24=INDEX(MedConf_Header,1,2),(IF(D$79=\"Guardrail\",(Roadside!$F$25-1)*(($I$78-D$78)/$I$78)^2*Constraints!$H$17/Constraints!$D$24+1,1)),(IF(D$79=\"Guardrail\",(Roadside!$F$25-1)*(($I$78-D$78)/$I$78)^2*Constraints!$H$31/Constraints!$D$38+1,1)))","v":1},{"$f":"IF(E24=INDEX(MedConf_Header,1,2),(IF(E$79=\"Guardrail\",(Roadside!$F$25-1)*(($I$78-E$78)/$I$78)^2*Constraints!$H$17/Constraints!$D$24+1,1)),(IF(E$79=\"Guardrail\",(Roadside!$F$25-1)*(($I$78-E$78)/$I$78)^2*Constraints!$H$31/Constraints!$D$38+1,1)))","v":1},{"$f":"IF(F24=INDEX(MedConf_Header,1,2),(IF(F$79=\"Guardrail\",(Roadside!$F$25-1)*(($I$78-F$78)/$I$78)^2*Constraints!$H$17/Constraints!$D$24+1,1)),(IF(F$79=\"Guardrail\",(Roadside!$F$25-1)*(($I$78-F$78)/$I$78)^2*Constraints!$H$31/Constraints!$D$38+1,1)))","v":1},{"$f":"IF(G24=INDEX(MedConf_Header,1,2),(IF(G$79=\"Guardrail\",(Roadside!$F$25-1)*(($I$78-G$78)/$I$78)^2*Constraints!$H$17/Constraints!$D$24+1,1)),(IF(G$79=\"Guardrail\",(Roadside!$F$25-1)*(($I$78-G$78)/$I$78)^2*Constraints!$H$31/Constraints!$D$38+1,1)))","v":1},{"$f":"IF($I$2=\"Existing\",(D188),(IF($I$2=\"Design 1\",(F188),(IF($I$2=\"Design 2\",(G188),(IF($I$2=\"Optimal\",(I188),E188)))))))","v":1},{"$f":"IF(I24=INDEX(MedConf_Header,1,2),(IF(I$79=\"Guardrail\",(Roadside!$F$25-1)*(($I$78-I$78)/$I$78)^2*Constraints!$H$17/Constraints!$D$24+1,1)),(IF(I$79=\"Guardrail\",(Roadside!$F$25-1)*(($I$78-I$78)/$I$78)^2*Constraints!$H$31/Constraints!$D$38+1,1)))","v":1},null,{"$f":"INDEX($D188:$I188,K$100)","v":1},{"$f":"INDEX($D188:$I188,L$100)","v":1},0,null,0]
[null,null,null,null,null,null,null,null,null,null,{"$f":"INDEX($D189:$I189,K$100)","v":0},{"$f":"INDEX($D189:$I189,L$100)","v":0},0]
[null,null,null,null,null,null,null,null,null,null,{"$f":"INDEX($D190:$I190,K$100)","v":0},{"$f":"INDEX($D190:$I190,L$100)","v":0},0]
[null,null,"COMBINED Calculated CMF",{"$f":"+D184*D185*D186*D187*D188","v":1.0232896747360256},{"$f":"+E184*E185*E186*E187*E188","v":0.82567459604163929},1.0232896747360256,1.0232896747360256,{"$f":"IF($I$2=\"Existing\",(D191),(IF($I$2=\"Design 1\",(F191),(IF($I$2=\"Design 2\",(G191),(IF($I$2=\"Optimal\",(I191),E191)))))))","v":0.82567459604163929},{"$f":"+I184*I185*I186*I187*I188","v":0.75970050156555824},null,{"$f":"INDEX($D191:$I191,K$100)","v":1.0232896747360256},{"$f":"INDEX($D191:$I191,L$100)","v":0.82567459604163929},0.1931174364144389]
[null,null,"Calculated Relative to Design Standards (Column E)",{"$f":"+D191/$E$191","v":1.2393377241370527},{"$f":"+E191/$E$191","v":1},1.2393377241370527,1.2393377241370527,1,{"$f":"+I191/$E$191","v":0.92009673690777583},null,{"$f":"INDEX($D192:$I192,K$100)","v":1.2393377241370527},{"$f":"INDEX($D192:$I192,L$100)","v":1},0.1931174364144389]
[null,null,"P(Crash)",{"$f":"+D192/(D192+1)","v":0.55343939896990835},0.5,0.55343939896990835,0.55343939896990835,0.5,{"$f":"+I192/(I192+1)","v":0.47919290691027777},null,{"$f":"INDEX($D193:$I193,K$100)","v":0.55343939896990835},{"$f":"INDEX($D193:$I193,L$100)","v":0.5},9.6558718207219618E-2]
[null,null,"Factor Change on S curve",{"$f":"+D193/$E$193","v":1.1068787979398167},{"$f":"+E193/$E$193","v":1},1.1068787979398167,1.1068787979398167,1,{"$f":"+I193/$E$193","v":0.95838581382055554},null,{"$f":"INDEX($D194:$I194,K$100)","v":1.1068787979398167},{"$f":"INDEX($D194:$I194,L$100)","v":1},9.6558718207219618E-2]
[null,null,"Adjust to Scale of 100",{"$f":"+$I$118/D194*100","v":{"$error":"#VALUE!"}},{"$error":"#VALUE!"},{"$error":"#VALUE!"},{"$error":"#VALUE!"},{"$error":"#VALUE!"},{"$f":"+$I$118/I194*100","v":{"$error":"#VALUE!"}},null,{"$f":"INDEX($D195:$I195,K$100)","v":{"$error":"#VALUE!"}},{"$f":"INDEX($D195:$I195,L$100)","v":{"$error":"#VALUE!"}},0]
[null,null,"Unadjusted Combined Relative to Standard",{"$f":"+D191/$E$191","v":1.2393377241370527},{"$f":"+E191/$E$191","v":1},1.2393377241370527,1.2393377241370527,1,{"$f":"+I191/$E$191","v":0.92009673690777583},{"$f":"I202/E202","v":1.0810810810810811},{"$f":"INDEX($D196:$I196,K$100)","v":1.2393377241370527},{"$f":"INDEX($D196:$I196,L$100)","v":1},0.1931174364144389]
[null,null,null,null,null,null,null,null,null,null,{"$f":"INDEX($D197:$I197,K$100)","v":0},{"$f":"INDEX($D197:$I197,L$100)","v":0},0]
[null,null,"Adjusted for PA Basis",{"$f":"+D191*(1+1)/(1+D191*1)","v":1.0115107960203793},0.90451452611745442,1.0115107960203793,1.0115107960203793,{"$f":"IF($I$2=\"Existing\",(D198),(IF($I$2=\"Design 1\",(F198),(IF($I$2=\"Design 2\",(G198),(IF($I$2=\"Optimal\",(I198),E198)))))))","v":0.90451452611745442},{"$f":"+I191*(1+1)/(1+I191*1)","v":0.86344295621859868},null,{"$f":"INDEX($D198:$I198,K$100)","v":1.0115107960203793},{"$f":"INDEX($D198:$I198,L$100)","v":0.90451452611745442},0.10577867317272727]
[null,null,"Corrected by Odds Ratio",{"$f":"+D191/$E$191","v":1.2393377241370527},{"$f":"+E191/$E$191","v":1},1.2393377241370527,1.2393377241370527,{"$f":"IF($I$2=\"Existing\",(D199),(IF($I$2=\"Design 1\",(F199),(IF($I$2=\"Design 2\",(G199),(IF($I$2=\"Optimal\",(I199),E199)))))))","v":1},{"$f":"+I191/$E$191","v":0.92009673690777583},{"$f":"I205/E205","v":1.4814814814814814},{"$f":"INDEX($D199:$I199,K$100)","v":1.2393377241370527},{"$f":"INDEX($D199:$I199,L$100)","v":1},0.1931174364144389]
[null,null,null,{"$f":"(1/D199)^$D203","v":1.8666691582346016E-8},{"$f":"(1/E199)^$D203","v":1},1.8666691582346016E-8,1.8666691582346016E-8,1,998.99999999999955]
[null,null,null,{"$f":"(D200+$F204-1)/(1+(D200+$F204-1))","v":0.50000000466667294},{"$f":"(E200+$F204-1)/(1+(E200+$F204-1))","v":0.66666666666666663},0.50000000466667294,0.50000000466667294,0.66666666666666663,0.99900099900099903]
[null,null,"Score Odds Ratio with Optimal as 100 (old)",{"$f":"MIN(ROUND($I$199/D199*Construction!$I$4,0),$I202)","v":30},{"$f":"MIN(ROUND($I$199/E199*Construction!$I$4,0),$I202)","v":37},{"$f":"MIN(ROUND($I$199/F199*Construction!$I$4,0),$I202)","v":30},{"$f":"MIN(ROUND($I$199/G199*Construction!$I$4,0),$I202)","v":30},null,{"$f":"ROUND($I$199/I199*Construction!$I$4,0)","v":40}]
[null,null,"Logistic1",{"$f":"LN((D204/(1-D204))/(0.5/0.5))/LN($E199/I199)","v":82.937655007418002}]
[null,null,"Logistic Param",0.999,null,2]
[null,null,"Score ",{"$f":"MIN(ROUND(D201*Construction!$I$4,0),$I202)","v":20},{"$f":"MIN(ROUND(E201*Construction!$I$4,0),$I202)","v":27},{"$f":"MIN(ROUND(F201*Construction!$I$4,0),$I202)","v":20},{"$f":"MIN(ROUND(G201*Construction!$I$4,0),$I202)","v":20},null,{"$f":"MIN(ROUND(I201*Construction!$I$4,0),$I202)","v":40}]
[]
[]
[]
[]
[null,null,{"$f":"D87/D183","v":{"$error":"#DIV/0!"}},null,{"$f":"ROUNDUP((MIN($I$14,$I$15)-E27-E28)/$C$210,0)","v":{"$error":"#DIV/0!"}},{"$f":"ROUNDUP((MIN($I$14,$I$15)-F27-F28)/$C$210,0)","v":{"$error":"#DIV/0!"}},{"$f":"ROUNDUP((MIN($I$14,$I$15)-G27-G28)/$C$210,0)","v":{"$error":"#DIV/0!"}},null,{"$f":"ROUNDUP((MIN($I$14,$I$15)-I27-I28)/$C$210,0)","v":{"$error":"#DIV/0!"}}]
[]
[]
[null,null,"Distance to low point","Distance to low point",{"$f":"$C$210*E183","v":{"$error":"#DIV/0!"}},{"$f":"$C$210*F183","v":{"$error":"#DIV/0!"}},{"$error":"#DIV/0!"},null,{"$f":"$C$210*I183","v":{"$error":"#DIV/0!"}}]
[null,null,null,"Additional ROW1 Needed for Foreslope",{"$f":"IF(E213>($I$14-E27-E28),E213-($I$14-E27-E28),0)","v":{"$error":"#DIV/0!"}},{"$f":"IF(F213>($I$14-F27-F28),F213-($I$14-F27-F28),0)","v":{"$error":"#DIV/0!"}},{"$f":"IF(G213>($I$14-G27-G28),G213-($I$14-G27-G28),0)","v":{"$error":"#DIV/0!"}},null,{"$f":"IF(I213>($I$14-I27-I28),I213-($I$14-I27-I28),0)","v":{"$error":"#DIV/0!"}}]
[null,null,null,"Additional ROW2 Needed for Foreslope",{"$f":"IF(E213>($I$15-E27-E28),E213-($I$15-E27-E28),0)","v":{"$error":"#DIV/0!"}},{"$f":"IF(F213>($I$15-F27-F28),F213-($I$15-F27-F28),0)","v":{"$error":"#DIV/0!"}},{"$f":"IF(G213>($I$15-G27-G28),G213-($I$15-G27-G28),0)","v":{"$error":"#DIV/0!"}},null,{"$f":"IF(I213>($I$15-I27-I28),I213-($I$15-I27-I28),0)","v":{"$error":"#DIV/0!"}}]
[]
[null,null,null,"Additional ROW1 Needed for Lateral Clearance",{"$f":"IF((CL251+E30)-$I$14<0,0,(CL251+E30)-$I$14)","v":2},{"$f":"IF((CM251+F30)-$I$14<0,0,(CM251+F30)-$I$14)","v":0},{"$f":"IF((CN251+G30)-$I$14<0,0,(CN251+G30)-$I$14)","v":0},null,{"$f":"IF((CP251+I30)-$I$14<0,0,(CP251+I30)-$I$14)","v":2}]
[null,null,null,"Additional ROW2 Needed for Lateral Clearance",{"$f":"IF((CL251+E30)-$I$15<0,0,(CL251+E30)-$I$15)","v":2},{"$f":"IF((CM251+F30)-$I$15<0,0,(CM251+F30)-$I$15)","v":0},{"$f":"IF((CN251+G30)-$I$15<0,0,(CN251+G30)-$I$15)","v":0},null,{"$f":"IF((CP251+I30)-$I$15<0,0,(CP251+I30)-$I$15)","v":2}]
[]
[]
[]
[]
[]
[]
[]
[]
[]
[]
[]
[null,null,"For Vertical Opt Use when Yes Vertical:"]
[null,null,"G1",{"$f":"D40","v":0},null,{"$f":"F40","v":0},{"$f":"G40","v":0},null,{"$f":"IF(ISERROR($E$238),\"\",INDEX(D231:G231,$E$238))","v":""}]
[null,null,"G2",{"$f":"D41","v":0},null,{"$f":"F41","v":0},{"$f":"G41","v":0},null,{"$f":"IF(ISERROR($E$238),\"\",INDEX(D232:G232,$E$238))","v":""}]
[null,null,"abs(G2-G1)",{"$f":"ABS(D40-D41)","v":0},null,{"$f":"ABS(F40-F41)","v":0},{"$f":"ABS(G40-G41)","v":0}]
[null,null,"Count in indicator (K no change; or K change but accept)",{"$f":"IF(D43<>\"\",1,\"\")","v":""},null,{"$f":"IF(OR(AND($B$38 = \"Yes\", $D$43 <> F43, F43 <>\"\", $D$43 <> \"\", F45=\"Yes.\"),AND($B$38 = \"Yes\", $D$43 = F43, F43 <>\"\", $D$43 <> \"\")), 1,\"\")","v":""},{"$f":"IF(OR(AND($B$38 = \"Yes\", $D$43 <> G43, G43 <>\"\", $D$43 <> \"\", G45=\"Yes.\"),AND($B$38 = \"Yes\", $D$43 = G43, G43 <>\"\", $D$43 <> \"\")), 1,\"\")","v":""}]
[]
[null,null,"Valid abs(G2-G1)",{"$f":"IF(ISERROR(D233*D234),\"\",D233*D234)","v":""},null,{"$f":"IF(ISERROR(F233*F234),\"\",F233*F234)","v":""},{"$f":"IF(ISERROR(G233*G234),\"\",G233*G234)","v":""}]
[null,null,"The min valid abs(G2-G1)",null,{"$f":"MIN(D236,F236,G236)","v":0}]
[null,null,"Index",null,{"$f":"MATCH(E237,D236:G236,0)","v":{"$error":"#N/A"}}]
[]
[null,null,"For Vertical Opt Use When No Vertical:"]
[null,null,"G1",{"$f":"IF(ISBLANK(D40), 999, D40)","v":999},null,{"$f":"IF(ISBLANK(F40), 999, F40)","v":999},{"$f":"IF(ISBLANK(G40), 999, G40)","v":999},null,{"$f":"IF(E246=999,\"\",E246)","v":""}]
[null,null,"Sign of G1",{"$f":"IF(D241>=0,1,-1)","v":1},null,{"$f":"IF(F241>=0,1,-1)","v":1},{"$f":"IF(G241>=0,1,-1)","v":1}]
[null,null,"Abs G1",{"$f":"ABS(D241)","v":999},null,{"$f":"ABS(F241)","v":999},{"$f":"ABS(G241)","v":999}]
[null,null,"Min Abs G1",null,{"$f":"MIN(D243:G243)","v":999}]
[null,null,"Which is the Best G1",null,{"$f":"MATCH(E244,D243:G243,0)","v":1}]
[null,null,"Best G1 Value",null,{"$f":"INDEX(D241:G241,1,E245)","v":999}]
[]
[]
[null,null,"Check if all cells filled",{"$f":"SUM(D251:D314)","v":19},{"$f":"SUM(E251:E314)","v":1},19,19,0,0]
[]
[null,null,{"$f":"C24","v":"Configuration of Multilane Roadway"},{"$f":"IF(ISBLANK(D24),1,0)","v":1},{"$f":"IF(ISBLANK(E24),1,0)","v":0},1,1,null,0]
[null,null,{"$f":"C25","v":"Median Configuration (Width or Type)"},{"$f":"IF(AND(D24<>\"No Median\", ISBLANK(D25)),1,0)","v":1},0,{"$f":"IF(AND(F24<>\"No Median\", ISBLANK(F25)),1,0)","v":1},{"$f":"IF(AND(G24<>\"No Median\", ISBLANK(G25)),1,0)","v":1},null,0]
[]
[null,null,"Lane Width (feet)",{"$f":"IF(ISBLANK(D27),1,0)","v":1},0,1,1,null,{"$f":"IF(ISBLANK(I27),1,0)","v":0}]
[null,null,"Average Outside Shoulder Width (feet)",1,0,1,1,null,0]
[null,null,"Average Inside Shoulder Width (feet)",1,0,1,1,null,0]
[null,null,"Number of Lanes per Direction of Travel",1,0,1,1,null,0]
[null,null,"Horizontal Curve Present?"]
[null,null,"Horizontal Curve Data for Controlling Element:"]
[null,null,"  Radius (feet)",{"$f":"IF(AND($B$31=\"Yes\", ISBLANK(D33)),1,0)","v":0},null,{"$f":"IF(AND($B$31=\"Yes\", ISBLANK(F33)),1,0)","v":0},{"$f":"IF(AND($B$31=\"Yes\", ISBLANK(G33)),1,0)","v":0},null,{"$f":"IF(ISBLANK(I33),1,0)","v":0}]
[null,null,"Length of Horizontal Curve (feet)",{"$f":"IF(AND($B$31=\"Yes\", ISBLANK(D34)),1,0)","v":0},null,{"$f":"IF(AND($B$31=\"Yes\", ISBLANK(F34)),1,0)","v":0},{"$f":"IF(AND($B$31=\"Yes\", ISBLANK(G34)),1,0)","v":0},null,0]
[null,null,"Calculated Deflection Angle ∆"]
[]
[null,null,null,null,null,{"$f":"IF(AND($B$31 = \"Yes\", $D$35 <> F35, F35<>\"\",ISBLANK(F37)),1,0)","v":0},{"$f":"IF(AND($B$31 = \"Yes\", $D$35 <> G35, G35<>\"\",ISBLANK(G37)),1,0)","v":0}]
[null,null,"Vertical Curve Present?"]
[null,null,"Vertical Curve Data for Controlling Element:"]
[null,null,"  Approach (Entry) Grade, G1 (%)",{"$f":"IF(ISBLANK(D40),1,0)","v":1},0,1,1,null,{"$f":"IF(ISBLANK(I40),1,0)","v":0}]
[null,null,"  Departure (Exit) Grade, G2 (%)",{"$f":"IF(AND($B$38=\"Yes\", ISBLANK(D41)),1,0)","v":0},{"$f":"IF(AND($B$38=\"Yes\", ISBLANK(E41)),1,0)","v":0},0,0,null,0]
[null,null,"  Length (feet)",{"$f":"IF(AND($B$38=\"Yes\", ISBLANK(D42)),1,0)","v":0},0,0,0,null,0]
[null,null,"  Calculated Rate of Change, K (ft/ft)"]
[]
[]
[null,null,"  Calculated Sag or Crest?"]
[]
[]
[null,null,"Geometric Design Element (Partial Score)"]
[null,null,"Total Safety Score"]
[]
[]
[]
[]
[]
[null,null,"Advance Static Curve Warning Signs",{"$f":"IF(AND($B$31=\"Yes\", ISBLANK(D56)),1,0)","v":0},{"$f":"IF(AND($B$31=\"Yes\", ISBLANK(E56)),1,0)","v":0},0,0,null,{"$f":"IF(ISBLANK(I56),1,0)","v":0}]
[null,null,"Chevron Signs on Horizontal Curves",{"$f":"IF(AND($B$31=\"Yes\", ISBLANK(D57)),1,0)","v":0},0,0,0,null,0]
[null,null,"Post-Mounted Delineators",0,0,0,0,null,0]
[null,null,"Edgeline Pavement Markings or Profile Markings",{"$f":"IF(ISBLANK(D59),1,0)","v":1},0,1,1,null,0]
[null,null,"Shoulder Rumble Strips",1,0,1,1,null,0]
[null,null,"Centerline Rumble Strips",1,0,1,1,null,0]
[null,null,"Driveway Density (driveways per mile)",1,0,1,1,null,0]
[null,null,"Lighting",1,0,1,1,null,0]
[null,null,"Pavement Friction (skid number) ***",1,0,1,1,null,0]
[null,null,"Traffic Control Element (Partial Score):"]
[null,null,"Total Safety Score"]
[]
[]
[]
[]
[]
[]
[]
[]
[null,null,"Roadside Sideslope (Foreslope)",{"$f":"IF(ISBLANK(D75),1,0)","v":1},0,1,1,null,{"$f":"IF(ISBLANK(I75),1,0)","v":0}]
[null,null,"Roadside Backslope",1,0,1,1,null,0]
[null,null,"Safety Edge",1,0,1,1,null,0]
[null,null,"Roadside Lateral Clearance to Obstruction (ft)",1,0,1,1,null,0]
[null,null,"Roadside Obstruction Type",1,0,1,1,null,0]
[null,null,"Roadside Element (Partial Score):"]
[null,null,"Total Safety Score"]
[]
[]
[]
[]
[]
[null,null,"Distance to Slope Toe from Shoulder (ft)",{"$f":"IF(ISBLANK(D87),1,0)","v":1},{"$f":"D314","v":1},{"$f":"E314","v":1},1,null,0]
[null,null,null,null,null,null,null,null,{"$f":"SUM(I316:I324)","v":9}]
[null,null,null,null,null,null,null,{"$f":"F9","v":"Location "},{"$f":"IF(ISBLANK(I9),1,0)","v":1}]
[null,null,null,null,null,null,null,{"$f":"F10","v":"Design Speed (mph)"},{"$f":"IF(ISBLANK(I10),1,0)","v":1}]
[null,null,null,null,null,null,null,"Posted Speed (mph)",1]
[null,null,null,null,null,null,null,"E max (%)",1]
[null,null,null,null,null,null,null,"    Design Year AADT (vehicles per day)",1]
[null,null,null,null,null,null,null,"    Dist. from Centerline to Left   ROW (feet)",1]
[null,null,null,null,null,null,null,"    Dist. from Centerline to Right ROW (feet)",1]
[null,null,null,null,null,null,null,"H CV",{"$f":"IF(ISBLANK(B31),1,0)","v":1}]
[null,null,null,null,null,null,null,"V HV",{"$f":"IF(ISBLANK(B38),1,0)","v":1}]
[]
[]
[]
[]
[]
[]
[]
[]
[]
[]
[]
[]
[]
[]
[]
[]
[]
[]
[]
[]
[]
[]
[]
[]
[]
[]
[]
[]
[]
[]
[]
[]
[]
[]
[]
[]
[]
[]
[]
[]
[]
[]
[]
[]
[]
[]
[]
[]
[]
[]
[]
[]
[]
[]
[1]
[22]
[21]
[20]
[19,null,null,{"$f":"Constraints!P174","v":"Emax=6%"}]
[18]
[17,null,{"$f":"HLOOKUP($I$10,Constraints!$Q$176:AD197,A379,TRUE)","v":{"$error":"#N/A"}},{"$f":"Constraints!P176","v":"super"}]
[16,null,{"$f":"HLOOKUP($I$10,Constraints!$Q$176:AD198,A380,TRUE)","v":{"$error":"#N/A"}},{"$f":"Constraints!P197","v":6},1050]
[15,null,{"$f":"HLOOKUP($I$10,Constraints!$Q$176:AD199,A381,TRUE)","v":{"$error":"#N/A"}},{"$f":"Constraints!P196","v":5.8}]
[14,null,{"$f":"HLOOKUP($I$10,Constraints!$Q$176:AD200,A382,TRUE)","v":{"$error":"#N/A"}},{"$f":"Constraints!P195","v":5.6}]
[13,null,{"$f":"HLOOKUP($I$10,Constraints!$Q$176:AD201,A383,TRUE)","v":{"$error":"#N/A"}},{"$f":"Constraints!P194","v":5.4}]
[12,null,{"$f":"HLOOKUP($I$10,Constraints!$Q$176:AD202,A384,TRUE)","v":{"$error":"#N/A"}},{"$f":"Constraints!P193","v":5.2}]
[11,null,{"$f":"HLOOKUP($I$10,Constraints!$Q$176:AD203,A385,TRUE)","v":{"$error":"#N/A"}},{"$f":"Constraints!P192","v":5}]
[10,null,{"$f":"HLOOKUP($I$10,Constraints!$Q$176:AD204,A386,TRUE)","v":{"$error":"#N/A"}},{"$f":"Constraints!P191","v":4.8}]
[9,null,{"$f":"HLOOKUP($I$10,Constraints!$Q$176:AD205,A387,TRUE)","v":{"$error":"#N/A"}},{"$f":"Constraints!P190","v":4.5999999999999996}]
[8,null,{"$f":"HLOOKUP($I$10,Constraints!$Q$176:AD206,A388,TRUE)","v":{"$error":"#N/A"}},{"$f":"Constraints!P189","v":4.4000000000000004}]
[7,null,{"$f":"HLOOKUP($I$10,Constraints!$Q$176:AD207,A389,TRUE)","v":{"$error":"#N/A"}},{"$f":"Constraints!P188","v":4.2}]
[6,null,{"$f":"HLOOKUP($I$10,Constraints!$Q$176:AD208,A390,TRUE)","v":{"$error":"#N/A"}},{"$f":"Constraints!P187","v":4}]
[5,null,{"$f":"HLOOKUP($I$10,Constraints!$Q$176:AD209,A391,TRUE)","v":{"$error":"#N/A"}},{"$f":"Constraints!P186","v":3.8}]
[4,null,{"$f":"HLOOKUP($I$10,Constraints!$Q$176:AD210,A392,TRUE)","v":{"$error":"#N/A"}},{"$f":"Constraints!P185","v":3.6}]
[3,null,{"$f":"HLOOKUP($I$10,Constraints!$Q$176:AD211,A393,TRUE)","v":{"$error":"#N/A"}},{"$f":"Constraints!P184","v":3.4}]
[2,null,{"$f":"HLOOKUP($I$10,Constraints!$Q$176:AD212,A394,TRUE)","v":{"$error":"#N/A"}},{"$f":"Constraints!P183","v":3.2}]
[null,null,{"$f":"HLOOKUP($I$10,Constraints!$Q$176:AD213,A395,TRUE)","v":{"$error":"#N/A"}},{"$f":"Constraints!P182","v":3}]
[null,null,{"$f":"HLOOKUP($I$10,Constraints!$Q$176:AD214,A396,TRUE)","v":{"$error":"#N/A"}},{"$f":"Constraints!P181","v":2.8}]
[null,null,{"$f":"HLOOKUP($I$10,Constraints!$Q$176:AD215,A397,TRUE)","v":{"$error":"#N/A"}},{"$f":"Constraints!P180","v":2.6}]
[null,null,{"$f":"HLOOKUP($I$10,Constraints!$Q$176:AD216,A398,TRUE)","v":{"$error":"#N/A"}},{"$f":"Constraints!P179","v":2.4}]
[null,null,{"$f":"HLOOKUP($I$10,Constraints!$Q$176:AD217,A399,TRUE)","v":{"$error":"#N/A"}},{"$f":"Constraints!P178","v":2.2000000000000002}]
[1,null,{"$f":"HLOOKUP($I$10,Constraints!$Q$176:AD218,A400,TRUE)","v":{"$error":"#N/A"}},{"$f":"Constraints!P177","v":2}]
[32]
[31]
[30]
[29,null,null,{"$f":"Constraints!P201","v":"Emax=8%"}]
[28]
[27,null,{"$f":"HLOOKUP($I$10,Constraints!$Q$203:AD234,A406,TRUE)","v":{"$error":"#N/A"}},{"$f":"Constraints!P203","v":"super"}]
[26,null,{"$f":"HLOOKUP($I$10,Constraints!$Q$203:AD235,A407,TRUE)","v":{"$error":"#N/A"}},{"$f":"INDEX(Constraints!$P$203:$P$234,A407,)","v":8}]
[25,null,{"$f":"HLOOKUP($I$10,Constraints!$Q$203:AD236,A408,TRUE)","v":{"$error":"#N/A"}},{"$f":"INDEX(Constraints!$P$203:$P$234,A408,)","v":7.8}]
[24,null,{"$f":"HLOOKUP($I$10,Constraints!$Q$203:AD237,A409,TRUE)","v":{"$error":"#N/A"}},{"$f":"INDEX(Constraints!$P$203:$P$234,A409,)","v":7.6}]
[23,null,{"$f":"HLOOKUP($I$10,Constraints!$Q$203:AD238,A410,TRUE)","v":{"$error":"#N/A"}},{"$f":"INDEX(Constraints!$P$203:$P$234,A410,)","v":7.4}]
[22,null,{"$f":"HLOOKUP($I$10,Constraints!$Q$203:AD239,A411,TRUE)","v":{"$error":"#N/A"}},{"$f":"INDEX(Constraints!$P$203:$P$234,A411,)","v":7.2}]
[21,null,{"$f":"HLOOKUP($I$10,Constraints!$Q$203:AD240,A412,TRUE)","v":{"$error":"#N/A"}},{"$f":"INDEX(Constraints!$P$203:$P$234,A412,)","v":7}]
[20,null,{"$f":"HLOOKUP($I$10,Constraints!$Q$203:AD241,A413,TRUE)","v":{"$error":"#N/A"}},{"$f":"INDEX(Constraints!$P$203:$P$234,A413,)","v":6.8}]
[19,null,{"$f":"HLOOKUP($I$10,Constraints!$Q$203:AD242,A414,TRUE)","v":{"$error":"#N/A"}},{"$f":"INDEX(Constraints!$P$203:$P$234,A414,)","v":6.6}]
[18,null,{"$f":"HLOOKUP($I$10,Constraints!$Q$203:AD243,A415,TRUE)","v":{"$error":"#N/A"}},{"$f":"INDEX(Constraints!$P$203:$P$234,A415,)","v":6.4}]
[17,null,{"$f":"HLOOKUP($I$10,Constraints!$Q$203:AD244,A416,TRUE)","v":{"$error":"#N/A"}},{"$f":"INDEX(Constraints!$P$203:$P$234,A416,)","v":6.2}]
[16,null,{"$f":"HLOOKUP($I$10,Constraints!$Q$203:AD245,A417,TRUE)","v":{"$error":"#N/A"}},{"$f":"INDEX(Constraints!$P$203:$P$234,A417,)","v":6}]
[15,null,{"$f":"HLOOKUP($I$10,Constraints!$Q$203:AD246,A418,TRUE)","v":{"$error":"#N/A"}},{"$f":"INDEX(Constraints!$P$203:$P$234,A418,)","v":5.8}]
[14,null,{"$f":"HLOOKUP($I$10,Constraints!$Q$203:AD247,A419,TRUE)","v":{"$error":"#N/A"}},{"$f":"INDEX(Constraints!$P$203:$P$234,A419,)","v":5.6}]
[13,null,{"$f":"HLOOKUP($I$10,Constraints!$Q$203:AD248,A420,TRUE)","v":{"$error":"#N/A"}},{"$f":"INDEX(Constraints!$P$203:$P$234,A420,)","v":5.4}]
[12,null,{"$f":"HLOOKUP($I$10,Constraints!$Q$203:AD249,A421,TRUE)","v":{"$error":"#N/A"}},{"$f":"INDEX(Constraints!$P$203:$P$234,A421,)","v":5.2}]
[11,null,{"$f":"HLOOKUP($I$10,Constraints!$Q$203:AD250,A422,TRUE)","v":{"$error":"#N/A"}},{"$f":"INDEX(Constraints!$P$203:$P$234,A422,)","v":5}]
[10,null,{"$f":"HLOOKUP($I$10,Constraints!$Q$203:AD251,A423,TRUE)","v":{"$error":"#N/A"}},{"$f":"INDEX(Constraints!$P$203:$P$234,A423,)","v":4.8}]
[9,null,{"$f":"HLOOKUP($I$10,Constraints!$Q$203:AD252,A424,TRUE)","v":{"$error":"#N/A"}},{"$f":"INDEX(Constraints!$P$203:$P$234,A424,)","v":4.5999999999999996}]
[8,null,{"$f":"HLOOKUP($I$10,Constraints!$Q$203:AD253,A425,TRUE)","v":{"$error":"#N/A"}},{"$f":"INDEX(Constraints!$P$203:$P$234,A425,)","v":4.4000000000000004}]
[7,null,{"$f":"HLOOKUP($I$10,Constraints!$Q$203:AD254,A426,TRUE)","v":{"$error":"#N/A"}},{"$f":"INDEX(Constraints!$P$203:$P$234,A426,)","v":4.2}]
[6,null,{"$f":"HLOOKUP($I$10,Constraints!$Q$203:AD255,A427,TRUE)","v":{"$error":"#N/A"}},{"$f":"INDEX(Constraints!$P$203:$P$234,A427,)","v":4}]
[5,null,{"$f":"HLOOKUP($I$10,Constraints!$Q$203:AD256,A428,TRUE)","v":{"$error":"#N/A"}},{"$f":"INDEX(Constraints!$P$203:$P$234,A428,)","v":3.8}]
[4,null,{"$f":"HLOOKUP($I$10,Constraints!$Q$203:AD257,A429,TRUE)","v":{"$error":"#N/A"}},{"$f":"INDEX(Constraints!$P$203:$P$234,A429,)","v":3.6}]
[3,null,{"$f":"HLOOKUP($I$10,Constraints!$Q$203:AD258,A430,TRUE)","v":{"$error":"#N/A"}},{"$f":"INDEX(Constraints!$P$203:$P$234,A430,)","v":3.4}]
[2,null,{"$f":"HLOOKUP($I$10,Constraints!$Q$203:AD259,A431,TRUE)","v":{"$error":"#N/A"}},{"$f":"INDEX(Constraints!$P$203:$P$234,A431,)","v":3.2}]
[null,null,{"$f":"HLOOKUP($I$10,Constraints!$Q$203:AD260,A432,TRUE)","v":{"$error":"#N/A"}},{"$f":"INDEX(Constraints!$P$203:$P$234,A432,)","v":3}]
[null,null,{"$f":"HLOOKUP($I$10,Constraints!$Q$203:AD261,A433,TRUE)","v":{"$error":"#N/A"}},{"$f":"INDEX(Constraints!$P$203:$P$234,A433,)","v":2.8}]
[null,null,{"$f":"HLOOKUP($I$10,Constraints!$Q$203:AD262,A434,TRUE)","v":{"$error":"#N/A"}},{"$f":"INDEX(Constraints!$P$203:$P$234,A434,)","v":2.6}]
[null,null,{"$f":"HLOOKUP($I$10,Constraints!$Q$203:AD263,A435,TRUE)","v":{"$error":"#N/A"}},{"$f":"INDEX(Constraints!$P$203:$P$234,A435,)","v":2.4}]
[null,null,{"$f":"HLOOKUP($I$10,Constraints!$Q$203:AD264,A436,TRUE)","v":{"$error":"#N/A"}},{"$f":"INDEX(Constraints!$P$203:$P$234,A436,)","v":2.2000000000000002}]
[null,null,{"$f":"HLOOKUP($I$10,Constraints!$Q$203:AD265,A437,TRUE)","v":{"$error":"#N/A"}},{"$f":"INDEX(Constraints!$P$203:$P$234,A437,)","v":2}]

{"sheet":"Configuration 14","index":24,"n_rows":443,"n_cols":113,"rows_kept":443,"cut":false,"hidden":false,"merged":[[87,1,87,2],[88,1,88,2],[89,1,89,2],[97,10,97,12],[69,16,69,21],[69,22,69,23],[70,16,70,21],[70,22,70,23],[71,16,71,21],[71,22,71,23],[68,16,68,21],[68,22,68,23],[17,2,17,8],[18,2,18,8],[19,2,19,8],[20,5,20,7],[41,9,41,10],[46,2,47,2],[4,21,44,28],[48,12,48,19],[55,15,55,16],[55,18,55,19],[55,21,55,22],[67,16,67,23],[4,3,4,4],[9,3,9,4],[9,5,9,6],[10,3,10,4],[10,5,10,6],[8,3,8,4],[8,5,8,6],[12,2,15,4],[12,5,12,6],[13,5,13,6],[14,5,14,6],[11,5,11,6],[1,6,2,7],[1,8,2,8],[1,21,1,37],[2,1,2,4],[2,21,3,28],[2,30,3,37],[3,1,3,4],[3,6,4,7],[3,8,4,8],[4,1,4,2],[4,30,44,37],[5,1,5,2],[5,3,5,4],[6,1,6,7],[7,1,7,4],[7,7,7,8]]}
[]
[null,null,null,null,null,null,"Preferred Schematic View to Display",null,"Standard",null,null,null,null,null,null,null,null,null,null,null,null,"NOTES: "]
[null,"CHARACTERISTICS TO CONSIDER FOR ANALYSIS",null,null,null,null,null,null,null,null,null,null,null,null,null,null,null,null,null,null,null,"ELEMENTS INCREASING SAFETY",null,null,null,null,null,null,null,null,"COMMENTS ON PRIMARY CONSTRAINTS"]
[null,"INPUT INSTRUCTIONS",null,null,null,null,"Relative to",null,"Existing"]
[null,"Blue Boxes -- Select from pulldown options",null,"Select from Pulldown"]
[null,"Yellow Boxes -- Type input information into box",null,"Type Input Value"]
[null," Rural Multi-Lane Road Segment -- Safety Score Input",null,null,null,null,null,null,null,null,null,null,null,null,null,null,null,null,null,null,null,null,null,null,null,null,null,null,null,null,null,null,null,null,null,null,null,null,null,null,null,null,null,null,null,null,null,null,null,null,null,null,null,null,null,null,null,null,null,null,null,null,null,null,null,null,null,null,null,null,null,null,null,null,null,null,null,null,null,null,null,null,null,"Unadjusted Marginal Safety"]
[null,"General Information:",null,null,null,"General Site Features",null,{"$f":" I315 & \" Missing Features and Curves\"","v":"9 Missing Features and Curves"},null,null,null,null,null,null,null,null,null,null,null,null,null,null,null,null,null,null,null,null,null,null,null,null,null,null,null,null,null,null,null,null,null,null,null,null,null,null,null,null,null,null,null,null,null,null,null,null,null,null,null,null,null,null,null,null,null,null,null,null,null,null,null,null,null,null,null,null,null,null,null,null,null,null,null,{"$f":"I2&\" relative to \" &I4","v":"Standard relative to Existing"}]
[null,null,"Analyst:",{"$f":"+'Start Here'!H7","v":0},null,"Location "]
[null,null,"Agency or Company:",{"$f":"+'Start Here'!H8","v":0},null,"Design Speed (mph)"]
[null,null,"Date:",{"$f":"+'Start Here'!H9","v":"00:00:00"},null,"Posted Speed (mph)"]
[null,null,"Description:",null,null,"E max (%)"]
[null,null,"Input additional site information here",null,null,"    Design Year AADT (vehicles per day)"]
[null,null,null,null,null,"    Dist. from Centerline to Left   ROW (feet)"]
[null,null,null,null,null,"    Dist. from Centerline to Right ROW (feet)"]
[]
[null,"Warning:"]
[null,null,{"$f":"+IF(+I11>I10,\"Posted speed exceeds design speed. Optimal safety will only be achieved if design speed exceeds posted speed. The Safety Assessment Score is based on the higher of the two speed values.\",\"No speed warnings identified\")","v":"No speed warnings identified"}]
[null,null,{"$f":"IF(OR(F24=INDEX(MedConf_Header,1,3),+G24=INDEX(MedConf_Header,1,3)), \"Multilane undivided facilities are known to have substantially more collisions than multilane facilities with medians. In new construction a median or TWLTL should be considered.\",\" \")","v":" "},null,null,null,null,null,null,null,null,null,null,null,null,null,null,null,null,null,null,null,null,null,null,null,null,null,null,null,null,null,null,null,null,null,null,null,null,null,null,null,null,null,null,null,null,null,null,null,null,null,null,null,null,null,null,null,null,null,null,null,null,null,null,null,null,null,null,null,null,null,null,null,null,null,null,null,null,null,null,null,null,null,null,null,null,null,null,null,null,null,null,null,null,null,null,null,null,null,null,null,null,null,null,{"$f":"COUNTIF(DB23:DB46,DB20)","v":1}]
[null,null,{"$f":"IF(I13=\"40,001 < AADT < 60,000\", \"Multi-lane Road Should be Divided Due to High AADT Value\",\"\")","v":""},null,null,null,null,null,null,null,null,null,null,null,null,null,null,null,null,null,null,null,null,null,null,null,null,null,null,null,null,null,null,null,null,null,null,null,null,null,null,null,null,null,null,null,null,null,null,null,null,null,null,null,null,null,null,null,null,null,null,null,null,null,null,null,null,null,null,null,null,null,null,null,null,null,null,null,null,null,null,null,null,null,null,null,null,null,null,null,null,null,null,null,null,null,null,null,null,null,null,null,null,null,null,{"$f":"VLOOKUP(0,CZ23:DB46,3,)","v":10.01}]
[null,null,null,"Fill all elements",null,"To enter notes, use boxes to the right of the vortex ",null,null,null,null," "]
[null,{"$f":"+Construction!$I$2&\"  Total Available Points\"","v":"40  Total Available Points"},null,{"$f":" D249 & \" Missing Elements\"","v":"19 Missing Elements"},null,{"$f":" F249 & \" Missing Elements\"","v":"19 Missing Elements"},{"$f":" G249 & \" Missing Elements\"","v":"19 Missing Elements"},null,null,null,null,null,null,null,null,null,null,null,null,null,null,null,null,null,null,null,null,null,null,null,null,null,null,null,null,null,null,null,null,null,null,null,null,null,null,null,null,null,null,null,null,null,null,null,null,null,null,null,null,null,null,null,null,null,null,null,null,null,null,null,null,null,null,null,null,null,null,null,null,null,null,null,null,null,null,null,null,null,null,null,null,null,null,null,null,null,null,null,null,null,null,"Ranked element","CRF","abs","Re-rank","Rank","Ranked CRF","Element","New Element","crf.abs","rank","Sorted Element","Sorted CRF"]
[null,"Geometric Design Elements",null,"Existing","Standard (Based on Multi-lane Divided)","Design 1","Design 2",{"$f":"\"Marginal Safety for \"&$I$2&\" (compared to \" & $I$4 & \")\"","v":"Marginal Safety for Standard (compared to Existing)"},"Optimal (Based on Multi-lane Divided)",null,null,null,null,null,null,null,null,null,null,null,null,null,null,null,null,null,null,null,null,null,null,null,null,null,null,null,null,null,null,null,null,null,null,null,null,null,null,null,null,null,null,null,null,null,null,null,null,null,null,null,null,null,null,null,null,null,null,null,null,null,null,null,null,null,null,null,null,null,null,null,null,null,null,null,null,null,null,null,null,null,null,null,null,null,null,null,null,null,null,null,null,{"$f":"IF(CY23=0,\"\",DB23&\". \"&DD23)","v":""},{"$f":"H24","v":0},{"$f":"ABS(CY23)","v":0},{"$f":"_xlfn.RANK.EQ(DB23,$DB$23:$DB$46,1)","v":10},{"$f":"_xlfn.RANK.EQ(CZ23,$CZ$23:$CZ$46)+DG23/100","v":10.01},{"$f":"CY23","v":0},{"$f":"IF(ROUND(DF23,2)=0,\"\",C24)","v":""},{"$f":"DD23","v":""},{"$f":"CZ23","v":0},1,{"$f":"IFERROR(IF(IFERROR(VLOOKUP(DG23,$DA$23:$DF$46,4,)&\", \"&CY23=0,\"\"),\"\",IFERROR(VLOOKUP(DG23,$DA$23:$DE$46,4,),\"\")),\"\")","v":"Pavement Friction (skid number) ***"},{"$f":"IFERROR(IF(IFERROR(VLOOKUP(DG23,$DA$23:$DF$46,3,)&\", \"&CY23=0,\"\"),\"\",IFERROR(VLOOKUP(DG23,$DA$23:$DE$46,3,),\"\")),\"\")","v":0.28430956017940245}]
[null,null,"Configuration of Multilane Roadway",null,"Divided - Unsurfaced Median",null,null,null,"Divided - Unsurfaced Median",null,null,null,null,null,null,null,null,null,null,null,null,null,null,null,null,null,null,null,null,null,null,null,null,null,null,null,null,null,null,null,null,null,null,null,null,null,null,null,null,null,null,null,null,null,null,null,null,null,null,null,null,null,null,null,null,null,null,null,null,null,null,null,null,null,null,null,null,null,null,null,null,null,null,null,null,null,null,null,null,null,null,null,null,null,null,null,null,null,null,null,null,"5.02. Median Configuration (Width or Type)",{"$f":"H25","v":8.9999999999999969E-2},8.9999999999999969E-2,{"$f":"_xlfn.RANK.EQ(DB24,$DB$23:$DB$46,1)","v":5},{"$f":"_xlfn.RANK.EQ(CZ24,$CZ$23:$CZ$46)+DG24/100","v":5.0199999999999996},{"$f":"CY24","v":8.9999999999999969E-2},{"$f":"IF(ROUND(DF24,2)=0,\"\",C25)","v":"Median Configuration (Width or Type)"},{"$f":"DD24","v":"Median Configuration (Width or Type)"},8.9999999999999969E-2,2,{"$f":"IFERROR(IF(IFERROR(VLOOKUP(DG24,$DA$23:$DF$46,4,)&\", \"&CY24=0,\"\"),\"\",IFERROR(VLOOKUP(DG24,$DA$23:$DE$46,4,),\"\")),\"\")","v":"Driveway Density (driveways per mile)"},{"$f":"IFERROR(IF(IFERROR(VLOOKUP(DG24,$DA$23:$DF$46,3,)&\", \"&CY24=0,\"\"),\"\",IFERROR(VLOOKUP(DG24,$DA$23:$DE$46,3,),\"\")),\"\")","v":-0.22388114201141129}]
[null,null,"Median Configuration (Width or Type)",null,30,null,null,{"$f":"M103","v":8.9999999999999969E-2},100,null,null,null,null,null,null,null,null,null,null,null,null,null,null,null,null,null,null,null,null,null,null,null,null,null,null,null,null,null,null,null,null,null,null,null,null,null,null,null,null,null,null,null,null,null,null,null,null,null,null,null,null,null,null,null,null,null,null,null,null,null,null,null,null,null,null,null,null,null,null,null,null,null,null,null,null,null,null,null,null,null,null,null,null,null,null,null,null,null,null,null,null,"",{"$f":"H27","v":0},0,11,10.029999999999999,{"$f":"CY25","v":0},{"$f":"IF(ROUND(DF25,2)=0,\"\",C27)","v":""},{"$f":"DD25","v":""},0,3,{"$f":"IFERROR(IF(IFERROR(VLOOKUP(DG25,$DA$23:$DF$46,4,)&\", \"&CY25=0,\"\"),\"\",IFERROR(VLOOKUP(DG25,$DA$23:$DE$46,4,),\"\")),\"\")","v":"Average Outside Shoulder Width (feet)"},{"$f":"IFERROR(IF(IFERROR(VLOOKUP(DG25,$DA$23:$DF$46,3,)&\", \"&CY25=0,\"\"),\"\",IFERROR(VLOOKUP(DG25,$DA$23:$DE$46,3,),\"\")),\"\")","v":0.18061674008810569}]
[null,null,null,null,null,null,null,null,null,null,null,null,null,null,null,null,null,null,null,null,null,null,null,null,null,null,null,null,null,null,null,null,null,null,null,null,null,null,null,null,null,null,null,null,null,null,null,null,null,null,null,null,null,null,null,null,null,null,null,null,null,null,null,null,null,null,null,null,null,null,null,null,null,null,null,null,null,null,null,null,null,null,null,null,null,null,null,null,null,null,null,null,null,null,null,null,null,null,null,null,null,null,null,null,null,null,null,null,null,null,4,{"$f":"IFERROR(IF(IFERROR(VLOOKUP(DG26,$DA$23:$DF$46,4,)&\", \"&CY26=0,\"\"),\"\",IFERROR(VLOOKUP(DG26,$DA$23:$DE$46,4,),\"\")),\"\")","v":"Roadside Sideslope (Foreslope)"},{"$f":"IFERROR(IF(IFERROR(VLOOKUP(DG26,$DA$23:$DF$46,3,)&\", \"&CY26=0,\"\"),\"\",IFERROR(VLOOKUP(DG26,$DA$23:$DE$46,3,),\"\")),\"\")","v":0.15697622474810147}]
[null,null,"Lane Width (feet)",null,12,null,null,{"$f":"M104","v":0},12,null,null,null,null,null,null,null,null,null,null,null,null,null,null,null,null,null,null,null,null,null,null,null,null,null,null,null,null,null,null,null,null,null,null,null,null,null,null,null,null,null,null,null,null,null,null,null,null,null,null,null,null,null,null,null,null,null,null,null,null,null,null,null,null,null,null,null,null,null,null,null,null,null,null,null,null,null,null,null,null,null,null,null,null,null,null,null,null,null,null,null,null,null,null,null,null,null,null,null,null,null,5,"Median Configuration (Width or Type)",8.9999999999999969E-2]
[null,null,"Average Outside Shoulder Width (feet)",null,8,null,null,{"$f":"M105","v":0.18061674008810569},10,null,null,null,null,null,null,null,null,null,null,null,null,null,null,null,null,null,null,null,null,null,null,null,null,null,null,null,null,null,null,null,null,null,null,null,null,null,null,null,null,null,null,null,null,null,null,null,null,null,null,null,null,null,null,null,null,null,null,null,null,null,null,null,null,null,null,null,null,null,null,null,null,null,null,null,null,null,null,null,null,null,null,null,null,null,null,null,null,null,null,null,null,{"$f":"IF(CY28=0,\"\",DB28&\". \"&DD28)","v":"3.06. Average Outside Shoulder Width (feet)"},{"$f":"H28","v":0.18061674008810569},{"$f":"ABS(CY28)","v":0.18061674008810569},3,3.06,{"$f":"CY28","v":0.18061674008810569},{"$f":"IF(ROUND(DF28,2)=0,\"\",C28)","v":"Average Outside Shoulder Width (feet)"},{"$f":"DD28","v":"Average Outside Shoulder Width (feet)"},{"$f":"CZ28","v":0.18061674008810569},6,"Roadside Lateral Clearance to Obstruction (ft)",6.4777606999867676E-2]
[null,null,"Average Inside Shoulder Width (feet)",null,4,null,null,{"$f":"M106","v":0},10,null,null,null,null,null,null,null,null,null,null,null,null,null,null,null,null,null,null,null,null,null,null,null,null,null,null,null,null,null,null,null,null,null,null,null,null,null,null,null,null,null,null,null,null,null,null,null,null,null,null,null,null,null,null,null,null,null,null,null,null,null,null,null,null,null,null,null,null,null,null,null,null,null,null,null,null,null,null,null,null,null,null,null,null,null,null,null,null,null,null,null,null,{"$f":"IF(CY29=0,\"\",DB29&\". \"&DD29)","v":""},{"$f":"H33","v":0},{"$f":"ABS(CY29)","v":0},12,10.07,0,{"$f":"IF(ROUND(DF29,2)=0,\"\",\"Hz and Vt Alignment\")","v":""},"",{"$f":"CZ29","v":0},7,"Safety Edge",-2.3424031600265627E-2]
["",null,"Number of Lanes per Direction of Travel",null,2,null,null,null,2,null,null,null,null,null,null,null,null,null,null,null,null,null,null,null,null,null,null,null,null,null,null,null,null,null,null,null,null,null,null,null,null,null,null,null,null,null,null,null,null,null,null,null,null,null,null,null,null,null,null,null,null,null,null,null,null,null,null,null,null,null,null,null,null,null,null,null,null,null,null,null,null,null,null,null,null,null,null,null,null,null,null,null,null,null,null,null,null,null,null,null,null,{"$f":"IF(CY30=0,\"\",DB30&\". \"&DD30)","v":""},{"$f":"H29","v":0},{"$f":"ABS(CY30)","v":0},13,10.08,0,{"$f":"IF(ROUND(DF30,2)=0,\"\",C29)","v":""},"",{"$f":"CZ30","v":0},8,"Shoulder Rumble Strips",2.2875008800570917E-2]
[null,null,"Horizontal Curve Present?","--","--","--","--",null,"--",null,null,null,null,null,null,null,null,null,null,null,null,null,null,null,null,null,null,null,null,null,null,null,null,null,null,null,null,null,null,null,null,null,null,null,null,null,null,null,null,null,null,null,null,null,null,null,null,null,null,null,null,null,null,null,null,null,null,null,null,null,null,null,null,null,null,null,null,null,null,null,null,null,null,null,null,null,null,null,null,null,null,null,null,null,null,null,null,null,null,null,null,{"$f":"IF(CY31=0,\"\",DB31&\". \"&DD31)","v":""},{"$f":"H47","v":0},{"$f":"ABS(CY31)","v":0},14,10.09,0,{"$f":"IF(ROUND(DF31,2)=0,\"\",C47)","v":""},"",{"$f":"CZ31","v":0},9,"Lighting",-1.7096579124742384E-2]
[null,null,"Horizontal Curve Data for Controlling Element:","--","--","--","--",null,"--",null,null,null,null,null,null,null,null,null,null,null,null,null,null,null,null,null,null,null,null,null,null,null,null,null,null,null,null,null,null,null,null,null,null,null,null,null,null,null,null,null,null,null,null,null,null,null,null,null,null,null,null,null,null,null,null,null,null,null,null,null,null,null,null,null,null,null,null,null,null,null,null,null,null,null,null,null,null,null,null,null,null,null,null,null,null,null,null,null,null,null,null,"",{"$f":"H48","v":0},0,15,10.1,0,{"$f":"IF(ROUND(DF32,2)=0,\"\",C48)","v":""},"",0,10,"",0]
[null,null,"  Radius (feet)",null,{"$f":"IF(MAX($I$10,$I$11)<45,590,IF($I$12=6,VLOOKUP(MAX($I$10,$I$11),Construction!$B$27:$D$34,2,TRUE),VLOOKUP(MAX($I$10,$I$11),Construction!$G$27:$I$34,2,TRUE)))","v":590},null,null,{"$f":"M144","v":0},{"$f":"IF(MAX($I$10,$I$11)<45,590,IF($I$12=6,VLOOKUP(MAX($I$10,$I$11),Construction!$B$43:$C$50,2,TRUE),VLOOKUP(MAX($I$10,$I$11),Construction!$G$43:$H$50,2,TRUE)))","v":590},null,null,null,null,null,null,null,null,null,null,null,null,null,null,null,null,null,null,null,null,null,null,null,null,null,null,null,null,null,null,null,null,null,null,null,null,null,null,null,null,null,null,null,null,null,null,null,null,null,null,null,null,null,null,null,null,null,null,null,null,null,null,null,null,null,null,null,null,null,null,null,null,null,null,null,null,null,null,null,null,null,null,null,null,null,null,null,null,null,null,null,null,"",{"$f":"H56","v":0},0,16,10.11,0,{"$f":"IF(ROUND(DF33,2)=0,\"\",C56)","v":""},"",0,11,"",0]
[null,null,"Length of Horizontal Curve (feet)",null,{"$f":"IF(D35=\"\", \"\", E33*E35/57.296)","v":""},null,null,null,{"$f":"I33*I35/57.296","v":3758.5520804244625},null,null,null,null,null,null,null,null,null,null,null,null,null,null,null,null,null,null,null,null,null,null,null,null,null,null,null,null,null,null,null,null,null,null,null,null,null,null,null,null,null,null,null,null,null,null,null,null,null,null,null,null,null,null,null,null,null,null,null,null,null,null,null,null,null,null,null,null,null,null,null,null,null,null,null,null,null,null,null,null,null,null,null,null,null,null,null,null,null,null,null,null,"",0,0,17,10.119999999999999,0,"","",0,12,"",0]
[null,null,"Calculated Deflection Angle ∆",{"$f":"IF(OR(ISBLANK(D33),ISBLANK(D34),$B$31=\"No\",ISBLANK($B$31)),\"\",ROUND(D34/D33*57.296,1))","v":""},{"$f":"IF(ISBLANK(D35), \"\",D35)","v":""},{"$f":"IF(OR(ISBLANK(F33),ISBLANK(F34),$B$31=\"No\",ISBLANK($B$31)),\"\",ROUND(F34/F33*57.296,1))","v":""},{"$f":"IF(OR(ISBLANK(G33),ISBLANK(G34),$B$31=\"No\",ISBLANK($B$31)),\"\",ROUND(G34/G33*57.296,1))","v":""},null,{"$f":"MIN(D35,IF(F37=INDEX(HCurveChange,1,0), F35, 365),IF(G37=INDEX(HCurveChange,1,0), G35, 365))","v":365},null,null,null,null,null,null,null,null,null,null,null,null,null,null,null,null,null,null,null,null,null,null,null,null,null,null,null,null,null,null,null,null,null,null,null,null,null,null,null,null,null,null,null,null,null,null,null,null,null,null,null,null,null,null,null,null,null,null,null,null,null,null,null,null,null,null,null,null,null,null,null,null,null,null,null,null,null,null,null,null,null,null,null,null,null,null,null,null,null,null,null,null,"",0,0,18,10.130000000000001,0,"","",0,13,"",0]
[null,null,null,null,null,"∆ has changed. \nAre you changing the ∆?","∆ has changed. \nAre you changing the ∆?",null,null,null,null,null,null,null,null,null,null,null,null,null,null,null,null,null,null,null,null,null,null,null,null,null,null,null,null,null,null,null,null,null,null,null,null,null,null,null,null,null,null,null,null,null,null,null,null,null,null,null,null,null,null,null,null,null,null,null,null,null,null,null,null,null,null,null,null,null,null,null,null,null,null,null,null,null,null,null,null,null,null,null,null,null,null,null,null,null,null,null,null,null,null,"",0,0,19,10.14,0,"","",0,14,"",0]
[null,null,null,null,null,null,null,null,null,null,null,null,null,null,null,null,null,null,null,null,null,null,null,null,null,null,null,null,null,null,null,null,null,null,null,null,null,null,null,null,null,null,null,null,null,null,null,null,null,null,null,null,null,null,null,null,null,null,null,null,null,null,null,null,null,null,null,null,null,null,null,null,null,null,null,null,null,null,null,null,null,null,null,null,null,null,null,null,null,null,null,null,null,null,null,null,null,null,null,null,null,"8.15. Shoulder Rumble Strips",2.2875008800570917E-2,2.2875008800570917E-2,8,8.15,2.2875008800570917E-2,"Shoulder Rumble Strips","Shoulder Rumble Strips",2.2875008800570917E-2,15,"",0]
[null,null,"Vertical Curve Present?","--","--","--","--",null,{"$f":"E38","v":"--"},null,null,null,null,null,null,null,null,null,null,null,null,null,null,null,null,null,null,null,null,null,null,null,null,null,null,null,null,null,null,null,null,null,null,null,null,null,null,null,null,null,null,null,null,null,null,null,null,null,null,null,null,null,null,null,null,null,null,null,null,null,null,null,null,null,null,null,null,null,null,null,null,null,null,null,null,null,null,null,null,null,null,null,null,null,null,null,null,null,null,null,null,"",0,0,20,10.16,0,"","",0,16,"",0]
[null,null,"Vertical Curve Data for Controlling Element:","--","--","--","--",null,"--",null,null,null,null,null,null,null,null,null,null,null,null,null,null,null,null,null,null,null,null,null,null,null,null,null,null,null,null,null,null,null,null,null,null,null,null,null,null,null,null,null,null,null,null,null,null,null,null,null,null,null,null,null,null,null,null,null,null,null,null,null,null,null,null,null,null,null,null,null,null,null,null,null,null,null,null,null,null,null,null,null,null,null,null,null,null,null,null,null,null,null,null,"2.17. Driveway Density (driveways per mile)",-0.22388114201141129,0.22388114201141129,2,2.17,-0.22388114201141129,{"$f":"IF(DF39=0,\"\",C62)","v":"Driveway Density (driveways per mile)"},"Driveway Density (driveways per mile)",0.22388114201141129,17,"",0]
[null,null,"  Approach (Entry) Grade, G1 (%)",null,{"$f":"IF(ISBLANK(D40),\"\", D40)","v":""},null,null,null,{"$f":"IF(B38=\"Yes\",I231,I241)","v":""},null,null,null,null,null,null,null,null,null,null,null,null,null,null,null,null,null,null,null,null,null,null,null,null,null,null,null,null,null,null,null,null,null,null,null,null,null,null,null,null,null,null,null,null,null,null,null,null,null,null,null,null,null,null,null,null,null,null,null,null,null,null,null,null,null,null,null,null,null,null,null,null,null,null,null,null,null,null,null,null,null,null,null,null,null,null,null,null,null,null,null,null,"9.18. Lighting",-1.7096579124742384E-2,1.7096579124742384E-2,9,9.18,-1.7096579124742384E-2,{"$f":"IF(DF40=0,\"\",C63)","v":"Lighting"},"Lighting",1.7096579124742384E-2,18,"",0]
[null,null,"  Departure (Exit) Grade, G2 (%)",null,{"$f":"IF(ISBLANK(D41),\"\", D41)","v":""},null,null,null,{"$f":"IF($B$38=\"Yes\",I232,\"\")","v":""},null,null,null,null,null,null,null,null,null,null,null,null,null,null,null,null,null,null,null,null,null,null,null,null,null,null,null,null,null,null,null,null,null,null,null,null,null,null,null,null,null,null,null,null,null,null,null,null,null,null,null,null,null,null,null,null,null,null,null,null,null,null,null,null,null,null,null,null,null,null,null,null,null,null,null,null,null,null,null,null,null,null,null,null,null,null,null,null,null,null,null,null,"1.19. Pavement Friction (skid number) ***",0.28430956017940245,0.28430956017940245,1,1.19,0.28430956017940245,{"$f":"IF(DF41=0,\"\",C64)","v":"Pavement Friction (skid number) ***"},"Pavement Friction (skid number) ***",0.28430956017940245,19,"",0]
[null,null,"  Length (feet)",null,{"$f":"IF(AND($B$38=\"Yes\", D43<>\"\"), ABS(E40-E41)*D43, \"\")","v":""},null,null,null,{"$f":"IF(AND($B$38=\"Yes\",I40<>\"\",I41<>\"\", NOT(ISBLANK($I$10)), NOT(ISBLANK($I$11))),ABS(I41-I40)*I43,\"\")","v":""},null,null,null,null,null,null,null,null,null,null,null,null,null,null,null,null,null,null,null,null,null,null,null,null,null,null,null,null,null,null,null,null,null,null,null,null,null,null,null,null,null,null,null,null,null,null,null,null,null,null,null,null,null,null,null,null,null,null,null,null,null,null,null,null,null,null,null,null,null,null,null,null,null,null,null,null,null,null,null,null,null,null,null,null,null,null,null,null,null,null,null,null,"4.2. Roadside Sideslope (Foreslope)",{"$f":"H75","v":0.15697622474810147},0.15697622474810147,4,4.2,0.15697622474810147,{"$f":"IF(DF42=0,\"\",C75)","v":"Roadside Sideslope (Foreslope)"},"Roadside Sideslope (Foreslope)",0.15697622474810147,20,"",0]
[null,null,"  Calculated Rate of Change, K (ft/ft)",{"$f":"IF(OR($B$38=\"No\",ISBLANK($B$38), ISBLANK(D40), ISBLANK(D41),ISBLANK(D42), D40=D41), \"\", ROUND(D42/(ABS(D41-D40)),1))","v":""},{"$f":"IF(AND($B$38=\"Yes\", NOT(ISBLANK($I$10)), NOT(ISBLANK($I$11)), D43<>\"\"), IF($E$46=\"Crest\",  VLOOKUP(MAX($I$10,$I$11),Construction!$B$159:$D$171,2,TRUE), VLOOKUP(MAX($I$10,$I$11),Construction!$B$159:$D$171,3,TRUE)), \"\")","v":""},{"$f":"IF(AND($B$38=\"Yes\", SUM(F267:F269)=0),ROUND(F42/(ABS(F41-F40)),1),\"\")","v":""},{"$f":"IF(AND($B$38=\"Yes\", SUM(G267:G269)=0),ROUND(G42/(ABS(G41-G40)),1),\"\")","v":""},null,{"$f":"IF(OR($B$38<>\"Yes\", ISBLANK($I$10), ISBLANK($I$11), $I$40=\"\", $I$41=\"\", $I$46=\"--\", ISBLANK($I$46)),\"\",IF(I$46=\"Crest\",VLOOKUP(MAX($I$10,$I$11),Construction!$B$177:$D$189,2,TRUE),VLOOKUP(MAX($I$10,$I$11),Construction!$B$177:$D$189,3,TRUE)))","v":""},null,null,null,null,null,null,null,null,null,null,null,null,null,null,null,null,null,null,null,null,null,null,null,null,null,null,null,null,null,null,null,null,null,null,null,null,null,null,null,null,null,null,null,null,null,null,null,null,null,null,null,null,null,null,null,null,null,null,null,null,null,null,null,null,null,null,null,null,null,null,null,null,null,null,null,null,null,null,null,null,null,null,null,null,null,null,null,null,null,null,null,null,"",{"$f":"H76","v":0},0,21,10.210000000000001,0,{"$f":"IF(DF43=0,\"\",C76)","v":""},"",0,21,"",0]
[null,null,null,null,null,"Are you changing the geometry?","Are you changing the geometry?",null,null,null,null,null,null,null,null,null,null,null,null,null,null,null,null,null,null,null,null,null,null,null,null,null,null,null,null,null,null,null,null,null,null,null,null,null,null,null,null,null,null,null,null,null,null,null,null,null,null,null,null,null,null,null,null,null,null,null,null,null,null,null,null,null,null,null,null,null,null,null,null,null,null,null,null,null,null,null,null,null,null,null,null,null,null,null,null,null,null,null,null,null,null,"7.22. Safety Edge",{"$f":"H77","v":-2.3424031600265627E-2},2.3424031600265627E-2,7,7.22,-2.3424031600265627E-2,{"$f":"IF(DF44=0,\"\",C77)","v":"Safety Edge"},"Safety Edge",2.3424031600265627E-2,22,"",0]
[null,null,null,null,null,null,null,null,null,null,null,null,null,null,null,null,null,null,null,null,null,null,null,null,null,null,null,null,null,null,null,null,null,null,null,null,null,null,null,null,null,null,null,null,null,null,null,null,null,null,null,null,null,null,null,null,null,null,null,null,null,null,null,null,null,null,null,null,null,null,null,null,null,null,null,null,null,null,null,null,null,null,null,null,null,null,null,null,null,null,null,null,null,null,null,null,null,null,null,null,null,"6.23. Roadside Lateral Clearance to Obstruction (ft)",{"$f":"H78","v":6.4777606999867676E-2},6.4777606999867676E-2,6,6.23,6.4777606999867676E-2,{"$f":"IF(DF45=0,\"\",C78)","v":"Roadside Lateral Clearance to Obstruction (ft)"},"Roadside Lateral Clearance to Obstruction (ft)",6.4777606999867676E-2,23,"",{"$f":"IFERROR(IF(IFERROR(VLOOKUP(DG45,$DA$23:$DF$46,3,)&\", \"&CY45=0,\"\"),\"\",IFERROR(VLOOKUP(DG45,$DA$23:$DE$46,3,),\"\")),\"\")","v":""}]
[null,null,"  Calculated Sag or Crest?",{"$f":"IF(AND($B$38=\"Yes\", SUM(D267:D269)=0),IF(D40>D41,\"Crest\",\"Sag\"),\"--\")","v":"--"},{"$f":"IF(AND($B$38=\"Yes\", SUM(D267:D269)=0),IF(E40>E41,\"Crest\",\"Sag\"),\"--\")","v":"--"},{"$f":"IF(AND($B$38=\"Yes\", SUM(F267:F269)=0),IF(F40>F41,\"Crest\",\"Sag\"),\"--\")","v":"--"},{"$f":"IF(AND($B$38=\"Yes\", SUM(G267:G269)=0),IF(G40>G41,\"Crest\",\"Sag\"),\"--\")","v":"--"},null,{"$f":"IF($B$38=\"Yes\",IF(I40>I41,\"Crest\",\"Sag\"),\"--\")","v":"--"},null,null,null,null,null,null,null,null,null,null,null,null,null,null,null,null,null,null,null,null,null,null,null,null,null,null,null,null,null,null,null,null,null,null,null,null,null,null,null,null,null,null,null,null,null,null,null,null,null,null,null,null,null,null,null,null,null,null,null,null,null,null,null,null,null,null,null,null,null,null,null,null,null,null,null,null,null,null,null,null,null,null,null,null,null,null,null,null,null,null,null,null,"",{"$f":"H79","v":0},0,22,10.24,0,{"$f":"IF(DF46=0,\"\",C79)","v":""},"",0,24,"",{"$f":"IFERROR(IF(IFERROR(VLOOKUP(DG46,$DA$23:$DF$46,3,)&\", \"&CY46=0,\"\"),\"\",IFERROR(VLOOKUP(DG46,$DA$23:$DE$46,3,),\"\")),\"\")","v":""}]
[]
[]
[null,null,"Geometric Design Element (Partial Score)",{"$f":"IF(OR(SUM(D251:D252,D254:D257,D260:D261,D267:D269)>0, ISERR(D129)),\"\",D129)","v":""},{"$f":"IF(OR(SUM(E251:E252,E254:E257,E260:E261,E267:E269)>0, ISERR(E129)),\"\",E129)","v":""},"","",null,{"$f":"IF(OR(SUM(I251:I252,I254:I257,I260:I261,I267:I269)>0, ISERR(I129)),\"\",I129)","v":""},null,null,null,"SCHEMATIC REPRESENTING INPUT DATA FOR ",null,null,null,null,null,null,null,{"$f":"IF($I$2=\"Existing\",\"EXISTING CONFIGURATION\",IF($I$2=\"Standard\",\"STANDARD OPTION\",IF($I$2=\"Design 1\",\"DESIGN 1 OPTION\",IF($I$2=\"Design 2\",\"DESIGN 2 OPTION\",\"OPTIMAL OPTION\"))))","v":"STANDARD OPTION"}]
[null,null,"Total Safety Score",{"$f":"IF(OR(D$249>0, $I$315>0, ISERROR(D$205+D$175+D$129)),\"\",D$205+D$175+D$129)","v":""},{"$f":"IF(OR(E$249>0, $I$315>0, ISERROR(E$205+E$175+E$129)),\"\",E$205+E$175+E$129)","v":""},{"$f":"IF(OR(F$249>0, $I$315>0, ISERROR(F$205+F$175+F$129)),\"\",F$205+F$175+F$129)","v":""},{"$f":"IF(OR(G$249>0, $I$315>0, ISERROR(G$205+G$175+G$129)),\"\",G$205+G$175+G$129)","v":""},null,{"$f":"IF(OR(I$249>0, $I$315>0, ISERROR(I$205+I$175+I$129)),\"\",I$205+I$175+I$129)","v":""}]
[null,null,null,null,null,null,null,null,null,null,null,"LT",null,null,null,null,null,null,null,null,null,null,null,null,null,null,"RT"]
[null,null,null,null,null,null,null,null,null,null,null,"R/W",null,null,null,null,null,null,{"$f":"+O54+W54","v":0},null,null,null,null,null,null,null,"R/W"]
[]
[null,{"$f":"+Construction!$I$3&\"  Total Available Points\"","v":"20  Total Available Points"},null,null,null,null,null,null,null,null,null,null,null,null,{"$f":"+$I$14","v":0},null,null,null,null,null,null,null,{"$f":"+$I$15","v":0}]
[null,"Traffic Elements",null,"Existing","Standard","Design 1","Design 2",{"$f":"H23","v":"Marginal Safety for Standard (compared to Existing)"},"Optimal"]
[null,null,"Advance Static Curve Warning Signs",null,"No",null,null,{"$f":"M149","v":0},"Yes",null,null,{"$f":"+O54-N56-P56","v":-32},null,{"$f":"IF(+$I$2=\"Existing\",D28,IF($I$2=\"Standard\",E28,IF($I$2=\"Design 1\",F28,IF($I$2=\"Design 2\",G28,I28))))","v":8},null,{"$f":"IF(+$I$2=\"Existing\",D27*D30,IF($I$2=\"Standard\",E27*E30,IF($I$2=\"Design 1\",F27*F30,IF($I$2=\"Design 2\",G27*G30,I27*I30))))","v":24},null,null,null,null,null,{"$f":"+P56","v":24},null,null,{"$f":"+N56","v":8},{"$f":"+W54-V56-Y56","v":-32}]
[null,null,"Chevron Signs on Horizontal Curves",null,"No",null,null,{"$f":"M150","v":0},"Yes"]
[null,null,"Post-Mounted Delineators",null,"No",null,null,{"$f":"M151","v":0},"Yes"]
[null,null,"Edgeline Pavement Markings or Profile Markings",null,"No",null,null,{"$f":"M152","v":0},"Yes"]
[null,null,"Shoulder Rumble Strips",null,"Yes",null,null,{"$f":"M154","v":2.2875008800570917E-2},"Yes"]
[null,null,"Centerline Rumble Strips",null,"No",null,null,{"$f":"M155","v":0},"Yes",null,null,null,null,null,null,null,null,null,"Tangent X-Section"]
[null,null,"Driveway Density (driveways per mile)",null,10,null,null,{"$f":"M156","v":-0.22388114201141129},0]
[null,null,"Lighting",null,"No",null,null,{"$f":"M157","v":-1.7096579124742384E-2},"Yes"]
[null,null,"Pavement Friction (skid number) ***",null,37,null,null,{"$f":"M158","v":0.28430956017940245},54]
[null,null,"Traffic Control Element (Partial Score):",{"$f":"IF(ISERROR(D175), \"\", D175)","v":12},{"$f":"IF(ISERROR(E175), \"\", E175)","v":14},"","",null,{"$f":"IF(ISERROR(I175), \"\", I175)","v":20}]
[null,null,"Total Safety Score",{"$f":"IF(OR(D$249>0, $I$315>0, ISERROR(D$205+D$175+D$129)),\"\",D$205+D$175+D$129)","v":""},{"$f":"IF(OR(E$249>0, $I$315>0, ISERROR(E$205+E$175+E$129)),\"\",E$205+E$175+E$129)","v":""},"","",null,{"$f":"IF(OR(I$249>0, $I$315>0, ISERROR(I$205+I$175+I$129)),\"\",I$205+I$175+I$129)","v":""}]
[null,null,null,null,null,null,null,null,null,null," "]
[null,null,"*** Pavement friction/skid numbers will not be subject to open records requests ***",null,null,null,null,null,null,null,null,null,null,null,null,null,{"$f":"IF($I$2=\"Existing\",\"SCORE SUMMARY FOR EXISTING CONFIGURATION\", IF($I$2=\"Standard\",\"SCORE SUMMARY FOR STANDARD OPTION\",IF($I$2=\"Design 1\",\"SCORE SUMMARY FOR DESIGN 1 OPTION\",IF($I$2=\"Design 2\",\"SCORE SUMMARY FOR DESIGN 2 OPTION\", \"SCORE SUMMARY FOR OPTIMAL OPTION\"))))","v":"SCORE SUMMARY FOR STANDARD OPTION"}]
[null,null,null,null,null,null,null,null,null,null,null,null,null,null,null,null,"GEOMETRIC DESIGN:",null,null,null,null,null,{"$f":"IF($I$2=\"Existing\",D49,IF($I$2=\"Standard\",E49,IF($I$2=\"Design 1\",F49,IF($I$2=\"Design 2\",G49,I49))))","v":""}]
[null,null,null,null,null,null,null,null,null,null,null,null,null,null,null,null,"TRAFFIC CONTROL:",null,null,null,null,null,{"$f":"IF($I$2=\"Existing\",D65,IF($I$2=\"Standard\",E65,IF($I$2=\"Design 1\",F65,IF($I$2=\"Design 2\",G65,I65))))","v":14}]
[null,null,null,null,null,null,null,null,null,null,null,null,null,null,null,null,"ROADSIDE:",null,null,null,null,null,{"$f":"IF($I$2=\"Existing\",D80,IF($I$2=\"Standard\",E80,IF($I$2=\"Design 1\",F80,IF($I$2=\"Design 2\",G80,I80))))","v":27}]
[null,null,null,null,null,null,null,null,null,null,null,null,null,null,null,null,"OVERALL SAFETY SCORE:",null,null,null,null,null,{"$f":"SUM(W69:X71)","v":41}]
[null,{"$f":"+Construction!$I$4&\"  Total Available Points\"","v":"40  Total Available Points"}]
[null,"Roadside  Elements",null,"Existing","Standard","Design 1","Design 2",{"$f":"H23","v":"Marginal Safety for Standard (compared to Existing)"},"Optimal"]
[null,null,"Roadside Sideslope (Foreslope)",null,"1V:4H",null,null,{"$f":"M184","v":0.15697622474810147},"1V:6H"]
[null,null,"Roadside Backslope",null,{"$f":"E75","v":"1V:4H"},null,null,{"$f":"M185","v":0},"1V:4H"]
[null,null,"Safety Edge",null,"No",null,null,-2.3424031600265627E-2,"Yes"]
[null,null,"Roadside Lateral Clearance to Obstruction (ft)",null,30,null,null,6.4777606999867676E-2,40]
[null,null,"Roadside Obstruction Type",null,"None",null,null,0,"None/Removed"]
[null,null,"Roadside Element (Partial Score):",{"$f":"IF(ISERR(D205),\"\",D205)","v":20},{"$f":"IF(ISERR(E205),\"\",E205)","v":27},20,20,null,{"$f":"IF(ISERR(I205),\"\",I205)","v":40},null,null,null,null,null,null,null,null,null,null,null,null,null,null," "]
[null,null,"Total Safety Score",{"$f":"IF(OR(D$249>0, $I$315>0, ISERROR(D$205+D$175+D$129)),\"\",D$205+D$175+D$129)","v":""},{"$f":"IF(OR(E$249>0, $I$315>0, ISERROR(E$205+E$175+E$129)),\"\",E$205+E$175+E$129)","v":""},"","",null,{"$f":"IF(OR(I$249>0, $I$315>0, ISERROR(I$205+I$175+I$129)),\"\",I$205+I$175+I$129)","v":""}]
[]
[]
[]
[]
[null,"ADDITIONAL SIDESLOPE INFORMATION"]
[null,null,"Distance to Slope Toe from Shoulder (ft)",null,{"$f":"D87","v":0},{"$f":"E87","v":0},0,null,{"$f":"G87","v":0}]
[null,"Minimum foreslope feasible within current ROW",null,null,{"$f":"IF(OR(ISBLANK($D$87), ISERROR(E209)), \"\", \"1V:\"&E209&\"H\")","v":""},{"$f":"IF(OR(ISBLANK($D$87), ISERROR(F209)), \"\", \"1V:\"&F209&\"H\")","v":""},{"$f":"IF(OR(ISBLANK($D$87), ISERROR(G209)), \"\", \"1V:\"&G209&\"H\")","v":""},null,{"$f":"IF(OR(ISBLANK($D$87), ISERROR(I209)), \"\", \"1V:\"&I209&\"H\")","v":""}]
[null,"Additional R/W needed on left side",null,null,{"$f":"IF(OR(ISBLANK($D$87), ISERROR(E213)),\"\", MAX(E213,E216))","v":""},{"$f":"IF(OR(ISBLANK($D$87), ISERROR(F213)), \"\", MAX(F213,F216))","v":""},{"$f":"IF(OR(ISBLANK($D$87), ISERROR(G213)),\"\", MAX(G213,G216))","v":""},null,{"$f":"IF(OR(ISBLANK($D$87), ISERROR(I213)),\"\", MAX(I213,I216))","v":""}]
[null,"Additional R/W needed on right side",null,null,{"$f":"IF(OR(ISBLANK($D$87), ISERROR(E214)), \"\", MAX(E214,E217))","v":""},{"$f":"IF(OR(ISBLANK($D$87), ISERROR(F214)), \"\", MAX(F214,F217))","v":""},{"$f":"IF(OR(ISBLANK($D$87), ISERROR(G214)),\"\", MAX(G214,G217))","v":""},null,{"$f":"IF(OR(ISBLANK($D$87), ISERROR(I214)),\"\", MAX(I214,I217))","v":""}]
[]
[]
[]
[]
[]
[]
[]
[null,null,null,{"$f":"GetCMF_MED(D24,D25,2000,D28)","v":1},null,null,null,null,null,{"$f":"1-I104/E104","v":0},"For Plot"]
[null,null,null,null,null,null,null,null,null,{"$f":"1-I105/E105","v":3.2258064516129115E-2},"relative to","Prefer"]
[null,null,null,{"$f":"MAX(SUM(D107:D111)-5,$I$100)","v":{"$error":"#VALUE!"}},{"$f":"MAX(SUM(E107:E111)-5,$I$100)","v":{"$error":"#VALUE!"}},{"$error":"#VALUE!"},{"$error":"#VALUE!"},null,{"$f":"SUM(I107:I111)-5","v":{"$error":"#VALUE!"}},{"$f":"1-I106/E106","v":0.14444080962898154},{"$f":"MATCH(K101,ModView,0)","v":1},{"$f":"MATCH(L101,ModView,0)","v":2}]
[null,"Geometric",null,null,null,null,null,null,null,{"$f":"1-I107/E107","v":{"$error":"#VALUE!"}},{"$f":"I4","v":"Existing"},{"$f":"I2","v":"Standard"},"%"]
[null,null,"Divided versus Undivided",1,1,1,1,null,1,null,{"$f":"INDEX($D102:$I102,K$100)","v":1},{"$f":"INDEX($D102:$I102,L$100)","v":1},{"$f":"IF(ISERROR(1-L102/K102), 0, 1-L102/K102)","v":0}]
[null,null,"Median Width",{"$f":"GetCMF_MED(D24,D25,$I$13,D28)","v":1},{"$f":"GetCMF_MED(E24,E25,$I$13,E28)","v":0.91},{"$f":"GetCMF_MED(F24,F25,$I$13,F28)","v":1},{"$f":"GetCMF_MED(G24,G25,$I$13,G28)","v":1},{"$f":"H25","v":8.9999999999999969E-2},{"$f":"GetCMF_MED(I24,I25,$I$13,I28)","v":0.66},null,{"$f":"INDEX($D103:$I103,K$100)","v":1},{"$f":"INDEX($D103:$I103,L$100)","v":0.91},{"$f":"IF(ISERROR(1-L103/K103), 0, 1-L103/K103)","v":8.9999999999999969E-2}]
[null,null,"LW CMF",{"$f":"IF(D24=INDEX(MedConf_Header,1,2),VLOOKUP(+D27,Construction!$N$30:$O$36,2),VLOOKUP(D27,Construction!$I$15:$J$21,2))","v":{"$error":"#N/A"}},{"$f":"IF(E24=INDEX(MedConf_Header,1,2),VLOOKUP(+E27,Construction!$N$30:$O$36,2),VLOOKUP(E27,Construction!$I$15:$J$21,2))","v":1},{"$f":"IF(F24=INDEX(MedConf_Header,1,2),VLOOKUP(+F27,Construction!$N$30:$O$36,2),VLOOKUP(F27,Construction!$I$15:$J$21,2))","v":{"$error":"#N/A"}},{"$f":"IF(G24=INDEX(MedConf_Header,1,2),VLOOKUP(+G27,Construction!$N$30:$O$36,2),VLOOKUP(G27,Construction!$I$15:$J$21,2))","v":{"$error":"#N/A"}},{"$f":"H27","v":0},{"$f":"IF(I24=INDEX(MedConf_Header,1,2),VLOOKUP(+I27,Construction!$N$30:$O$36,2),VLOOKUP(I27,Construction!$I$15:$J$21,2))","v":1},null,{"$f":"INDEX($D104:$I104,K$100)","v":{"$error":"#N/A"}},{"$f":"INDEX($D104:$I104,L$100)","v":1},0,null,0]
[null,null,"SW CMF",{"$f":"IF(D24=INDEX(MedConf_Header,1,2),VLOOKUP(D28,Construction!$C$11:D21,2),(VLOOKUP(D28,Construction!$O$43:$P$53,2)-1)*0.27+1)","v":1.135},{"$f":"IF(E24=INDEX(MedConf_Header,1,2),VLOOKUP(E28,Construction!$C$11:E21,2),(VLOOKUP(E28,Construction!$O$43:$P$53,2)-1)*0.27+1)","v":0.93},{"$f":"IF(F24=INDEX(MedConf_Header,1,2),VLOOKUP(F28,Construction!$C$11:F21,2),(VLOOKUP(F28,Construction!$O$43:$P$53,2)-1)*0.27+1)","v":1.135},{"$f":"IF(G24=INDEX(MedConf_Header,1,2),VLOOKUP(G28,Construction!$C$11:G21,2),(VLOOKUP(G28,Construction!$O$43:$P$53,2)-1)*0.27+1)","v":1.135},{"$f":"IF($I$2=\"Existing\",(1-D105/E105),(IF($I$2=\"Design 1\",(1-F105/E105),(IF($I$2=\"Design 2\",(1-G105/E105),(IF($I$2=\"Optimal\",(1-I105/E105),0)))))))","v":0},{"$f":"IF(I24=INDEX(MedConf_Header,1,2),VLOOKUP(I28,Construction!$C$11:I21,2),(VLOOKUP(I28,Construction!$O$43:$P$53,2)-1)*0.27+1)","v":0.9},null,{"$f":"INDEX($D105:$I105,K$100)","v":1.135},{"$f":"INDEX($D105:$I105,L$100)","v":0.93},0.18061674008810569,null,0.15503875968992242]
[null,null,"Inside Shoulder Width",{"$f":"IF(AND(D24=INDEX(MedConf_Header,1,2), NOT(ISBLANK(D29))), EXP(-0.026*(D29-4)), 1)","v":1},{"$f":"IF(AND(E24=INDEX(MedConf_Header,1,2), NOT(ISBLANK(E29))), EXP(-0.026*(E29-4)), 1)","v":1},{"$f":"IF(AND(F24=INDEX(MedConf_Header,1,2), NOT(ISBLANK(F29))), EXP(-0.026*(F29-4)), 1)","v":1},{"$f":"IF(AND(G24=INDEX(MedConf_Header,1,2), NOT(ISBLANK(G29))), EXP(-0.026*(G29-4)), 1)","v":1},0,{"$f":"IF(AND(I24=INDEX(MedConf_Header,1,2), NOT(ISBLANK(I29))), EXP(-0.026*(I29-4)), 1)","v":0.85555919037101846},null,{"$f":"INDEX($D106:$I106,K$100)","v":1},{"$f":"INDEX($D106:$I106,L$100)","v":1},0,null,0]
[null,null,"HC and Grade",{"$f":"D$138^D$131","v":1},{"$f":"E$138^E$131","v":1},1,1,0,{"$f":"I$138^I$131","v":{"$error":"#VALUE!"}},null,{"$f":"INDEX($D107:$I107,K$100)","v":1},{"$f":"INDEX($D107:$I107,L$100)","v":1},0,null,0]
[null,null,"HC and VC Crest type I",{"$f":"D$139^D$132","v":1},{"$f":"E$139^E$132","v":1},1,1,0,{"$f":"I$139^I$132","v":{"$error":"#VALUE!"}},null,{"$f":"INDEX($D108:$I108,K$100)","v":1},{"$f":"INDEX($D108:$I108,L$100)","v":1},0,null,0]
[null,null,"HC and VC Sag type I",{"$f":"D$140^D$133","v":1},{"$f":"E$140^E$133","v":1},1,1,0,{"$f":"I$140^I$133","v":{"$error":"#VALUE!"}},{"$f":"1-I115/E115","v":{"$error":"#VALUE!"}},{"$f":"INDEX($D109:$I109,K$100)","v":1},{"$f":"INDEX($D109:$I109,L$100)","v":1},0,null,0]
[null,null,"HC and VC Crest type II",{"$f":"D$141^D$134","v":1},{"$f":"E$141^E$134","v":1},1,1,0,{"$f":"I$141^I$134","v":{"$error":"#VALUE!"}},{"$f":"1-I116/E116","v":{"$error":"#VALUE!"}},{"$f":"INDEX($D110:$I110,K$100)","v":1},{"$f":"INDEX($D110:$I110,L$100)","v":1},0,null,0]
[null,null,"HC and VC Sag type II",{"$f":"D$142^D$135","v":1},{"$f":"E$142^E$135","v":1},1,1,0,{"$f":"I$142^I$135","v":{"$error":"#VALUE!"}},{"$f":"1-I117/E117","v":{"$error":"#VALUE!"}},{"$f":"INDEX($D111:$I111,K$100)","v":1},{"$f":"INDEX($D111:$I111,L$100)","v":1},0,null,0]
[null,null,"Add TWLTL",{"$f":"IF(D$47=\"No\",1,CMFs!$F$17)","v":0.71},{"$f":"IF(E$47=\"No\",1,CMFs!$F$17)","v":0.71},{"$f":"IF(F$47=\"No\",1,CMFs!$F$17)","v":0.71},{"$f":"IF(G$47=\"No\",1,CMFs!$F$17)","v":0.71},0,{"$f":"IF(I$47=\"No\",1,CMFs!$F$17)","v":0.71},{"$f":"1-I118/E118","v":{"$error":"#VALUE!"}},{"$f":"INDEX($D112:$I112,K$100)","v":0.71},{"$f":"INDEX($D112:$I112,L$100)","v":0.71},0,null,0]
[null,null,"Provide passing lane",{"$f":"IF(D$48=\"No\",1,CMFs!$F$21)","v":0.75},{"$f":"IF(E$48=\"No\",1,CMFs!$F$21)","v":0.75},{"$f":"IF(F$48=\"No\",1,CMFs!$F$21)","v":0.75},{"$f":"IF(G$48=\"No\",1,CMFs!$F$21)","v":0.75},0,{"$f":"IF(I$48=\"No\",1,CMFs!$F$21)","v":0.75},{"$f":"I119/E119","v":{"$error":"#VALUE!"}},{"$f":"INDEX($D113:$I113,K$100)","v":0.75},{"$f":"INDEX($D113:$I113,L$100)","v":0.75},0,null,0]
[]
[null,null,"COMBINED Calculated CMF",{"$f":"+D104*D105*D106*D107*D108*D109*D110*D111*D112*D113*D103*D102","v":{"$error":"#N/A"}},{"$f":"+E104*E105*E106*E107*E108*E109*E110*E111*E112*E113*E103*E102","v":0.45065475000000005},{"$error":"#N/A"},{"$error":"#N/A"},{"$f":"IF($I$2=\"Existing\",(D115),(IF($I$2=\"Design 1\",(F115),(IF($I$2=\"Design 2\",(G115),(IF($I$2=\"Optimal\",(I115),E115)))))))","v":0.45065475000000005},{"$f":"+I104*I105*I106*I107*I108*I109*I110*I111*I112*I113*I103*I102","v":{"$error":"#VALUE!"}},null,{"$f":"INDEX($D115:$I115,K$100)","v":{"$error":"#N/A"}},{"$f":"INDEX($D115:$I115,L$100)","v":0.45065475000000005},{"$f":"IF(ISERROR(1-L115/K115), 0, 1-L115/K115)","v":0},null,0]
[null,null,"Calculated Relative to Design Standards (Column E)",{"$f":"+D115/$E$115","v":{"$error":"#N/A"}},1,{"$error":"#N/A"},{"$error":"#N/A"},1,{"$error":"#VALUE!"},null,{"$f":"INDEX($D116:$I116,K$100)","v":{"$error":"#N/A"}},{"$f":"INDEX($D116:$I116,L$100)","v":1},0,null,0]
[null,null,"P(Crash)",{"$f":"+D116/(D116+1)","v":{"$error":"#N/A"}},0.5,{"$error":"#N/A"},{"$error":"#N/A"},0.5,{"$error":"#VALUE!"},null,{"$f":"INDEX($D117:$I117,K$100)","v":{"$error":"#N/A"}},{"$f":"INDEX($D117:$I117,L$100)","v":0.5},0,null,0]
[null,null,"Factor Change on S curve",{"$f":"+D117/$E$117","v":{"$error":"#N/A"}},1,{"$error":"#N/A"},{"$error":"#N/A"},1,{"$error":"#VALUE!"},null,{"$f":"INDEX($D118:$I118,K$100)","v":{"$error":"#N/A"}},{"$f":"INDEX($D118:$I118,L$100)","v":1},0,null,0]
[null,null,"Adjust to Scale of 100",{"$f":"+$I$118/D118*100","v":{"$error":"#VALUE!"}},{"$error":"#VALUE!"},{"$error":"#VALUE!"},{"$error":"#VALUE!"},{"$error":"#VALUE!"},{"$error":"#VALUE!"},null,{"$f":"INDEX($D119:$I119,K$100)","v":{"$error":"#VALUE!"}},{"$f":"INDEX($D119:$I119,L$100)","v":{"$error":"#VALUE!"}},0]
[null,null,"Unadjusted Combined Relative to Standard",{"$f":"+D115/$E$115","v":{"$error":"#N/A"}},1,{"$error":"#N/A"},{"$error":"#N/A"},1,{"$error":"#VALUE!"},{"$f":"I126/E126","v":{"$error":"#VALUE!"}},{"$f":"INDEX($D120:$I120,K$100)","v":{"$error":"#N/A"}},{"$f":"INDEX($D120:$I120,L$100)","v":1},0,null,0]
[]
[null,null,"Adjusted for PA Basis",{"$f":"+D115*(1+1)/(1+D115*1)","v":{"$error":"#N/A"}},0.62131220402373488,{"$error":"#N/A"},{"$error":"#N/A"},{"$f":"IF($I$2=\"Existing\",(D122),(IF($I$2=\"Design 1\",(F122),(IF($I$2=\"Design 2\",(G122),(IF($I$2=\"Optimal\",(I122),E122)))))))","v":0.62131220402373488},{"$error":"#VALUE!"},null,{"$f":"INDEX($D122:$I122,K$100)","v":{"$error":"#N/A"}},{"$f":"INDEX($D122:$I122,L$100)","v":0.62131220402373488},{"$f":"IF(ISERROR(1-L122/K122), 0, 1-L122/K122)","v":0},null,0]
[null,null,"Corrected by Odds Ratio",{"$f":"+D122/$E$122","v":{"$error":"#N/A"}},1,{"$error":"#N/A"},{"$error":"#N/A"},{"$f":"IF($I$2=\"Existing\",(D123),(IF($I$2=\"Design 1\",(F123),(IF($I$2=\"Design 2\",(G123),(IF($I$2=\"Optimal\",(I123),E123)))))))","v":1},{"$error":"#VALUE!"},{"$f":"I129/E129","v":{"$error":"#VALUE!"}},{"$f":"INDEX($D123:$I123,K$100)","v":{"$error":"#N/A"}},{"$f":"INDEX($D123:$I123,L$100)","v":1},0,null,0]
[null,null,"Pinned s",{"$f":"(1/D123)^$D127","v":{"$error":"#N/A"}},{"$f":"(1/E123)^$D127","v":{"$error":"#VALUE!"}},{"$error":"#N/A"},{"$f":"IF(ISERROR((1/G123)^$D127), 0, (1/G123)^$D127)","v":0},{"$error":"#VALUE!"},{"$error":"#VALUE!"},null,{"$f":"INDEX($D124:$I124,K$100)","v":{"$error":"#N/A"}},{"$f":"INDEX($D124:$I124,L$100)","v":{"$error":"#VALUE!"}},0,null,0]
[null,null,null,{"$f":"(D124+$F128-1)/(1+(D124+$F128-1))","v":{"$error":"#N/A"}},{"$f":"(E124+$F128-1)/(1+(E124+$F128-1))","v":{"$error":"#VALUE!"}},{"$error":"#N/A"},0.57142857142857151,{"$error":"#VALUE!"},{"$error":"#VALUE!"},null,{"$f":"INDEX($D125:$I125,K$100)","v":{"$error":"#N/A"}},{"$f":"INDEX($D125:$I125,L$100)","v":{"$error":"#VALUE!"}},0,null,0]
[null,null,"Score Odds Ratio with Optimal (old)",{"$f":"MIN(ROUND($I$123/D123*Construction!$I$2,0),$I126)","v":{"$error":"#VALUE!"}},{"$f":"MIN(ROUND($I$123/E123*Construction!$I$2,0),$I126)","v":{"$error":"#VALUE!"}},{"$f":"MIN(ROUND($I$123/F123*Construction!$I$2,0),$I126)","v":{"$error":"#VALUE!"}},{"$f":"MIN(ROUND($I$123/G123*Construction!$I$2,0),$I126)","v":{"$error":"#VALUE!"}},{"$f":"IF($I$2=\"Existing\",(D126),(IF($I$2=\"Design 1\",(F126),(IF($I$2=\"Design 2\",(G126),(IF($I$2=\"Optimal\",(I126),E126)))))))","v":{"$error":"#VALUE!"}},{"$f":"ROUND($I$123/I123*Construction!$I$2,0)","v":{"$error":"#VALUE!"}}]
[null,null,"Logistic1",{"$f":"LN((D128/(1-D128))/(0.5/0.5))/LN(IF($E123/I123=1,0.999,$E123/I123))","v":{"$error":"#VALUE!"}}]
[null,null,"Logistic Param",0.999,null,{"$f":"0.7/0.3","v":2.3333333333333335}]
[null,null,"Score ",{"$f":"MIN(ROUND(D125*Construction!$I$2,0),$I126)","v":{"$error":"#N/A"}},{"$f":"MIN(ROUND(E125*Construction!$I$2,0),$I126)","v":{"$error":"#VALUE!"}},{"$f":"MIN(ROUND(F125*Construction!$I$2,0),$I126)","v":{"$error":"#N/A"}},{"$f":"MIN(ROUND(G125*Construction!$I$2,0),$I126)","v":{"$error":"#VALUE!"}},{"$f":"MIN(ROUND(H125*Construction!$I$2,0),$I126)","v":{"$error":"#VALUE!"}},{"$f":"MIN(ROUND(I125*Construction!$I$2,0),$I126)","v":{"$error":"#VALUE!"}}]
[]
[null,null,"HC and Grade",{"$f":"IF($B$139,0,1)","v":1},{"$f":"IF($B$139,0,1)","v":1},1,1,{"$f":"IF($I$2=\"Existing\",(D131),(IF($I$2=\"Design 1\",(F131),(IF($I$2=\"Design 2\",(G131),(IF($I$2=\"Optimal\",(I131),E131)))))))","v":1},{"$f":"IF($B$139,0,1)","v":1}]
["HC?",null,"HC and VC Crest type I",{"$f":"IF(AND($B$139=1,SIGN(D$40)=1,ABS(D$40)<=ABS(D$40-D$41),D$46=\"Crest\"),1,0)","v":0},{"$f":"IF(AND($B$139=1,SIGN(IF(ISNUMBER(E$40),E$40,0))=1,\n  ABS(IF(ISNUMBER(E$40),E$40,0))<=ABS(IF(ISNUMBER(E$40),E$40,0)-IF(ISNUMBER(E$41),E$41,0)),E$46=\"Crest\"),\n  1,0)","v":0},{"$f":"IF(AND($B$139=1,SIGN(F$40)=1,ABS(F$40)<=ABS(F$40-F$41),F$46=\"Crest\"),1,0)","v":0},{"$f":"IF(AND($B$139=1,SIGN(G$40)=1,ABS(G$40)<=ABS(G$40-G$41),G$46=\"Crest\"),1,0)","v":0},{"$f":"IF($I$2=\"Existing\",(D132),(IF($I$2=\"Design 1\",(F132),(IF($I$2=\"Design 2\",(G132),(IF($I$2=\"Optimal\",(I132),E132)))))))","v":0},{"$f":"IF(AND($B$138=1,SIGN(I$40)=1,ABS(I$40)<=ABS(I$40-IF(ISNUMBER(I$41), I$41,0)),I$46=\"Crest\"),1,0)","v":{"$error":"#VALUE!"}},null,{"$f":"INDEX($D132:$I132,K$100)","v":0},{"$f":"INDEX($D132:$I132,L$100)","v":0},{"$f":"IF(ISERROR(1-L132/K132), 0, 1-L132/K132)","v":0}]
["VC?",null,"HC and VC Sag type I",{"$f":"IF(AND($B$139=1,SIGN(D$40)=1,ABS(D$40)<=ABS(D$40-D$41),D$46=\"Sag\"),1,0)","v":0},{"$f":"IF(AND($B$139=1,SIGN(IF(ISNUMBER(E$40),E$40,0))=1,\n  ABS(IF(ISNUMBER(E$40),E$40,0))<=ABS(IF(ISNUMBER(E$40),E$40,0)-IF(ISNUMBER(E$41),E$41,0)),E$46=\"Sag\"),\n  1,0)","v":0},{"$f":"IF(AND($B$139=1,SIGN(F$40)=1,ABS(F$40)<=ABS(F$40-F$41),F$46=\"Sag\"),1,0)","v":0},{"$f":"IF(AND($B$139=1,SIGN(G$40)=1,ABS(G$40)<=ABS(G$40-G$41),G$46=\"Sag\"),1,0)","v":0},{"$f":"IF($I$2=\"Existing\",(D133),(IF($I$2=\"Design 1\",(F133),(IF($I$2=\"Design 2\",(G133),(IF($I$2=\"Optimal\",(I133),E133)))))))","v":0},{"$f":"IF(AND($B$138=1,SIGN(I$40)=1,ABS(I$40)<=ABS(I$40-IF(ISNUMBER(I$41), I$41,0)),I$46=\"Sag\"),1,0)","v":{"$error":"#VALUE!"}},null,{"$f":"INDEX($D133:$I133,K$100)","v":0},{"$f":"INDEX($D133:$I133,L$100)","v":0},0]
[null,null,"HC and VC Crest type II",{"$f":"IF(AND($B$139=1,D$46=\"Crest\",D$132=0),1,0)","v":0},{"$f":"IF(AND($B$139=1,E$46=\"Crest\",E$132=0),1,0)","v":0},{"$f":"IF(AND($B$139=1,F$46=\"Crest\",F$132=0),1,0)","v":0},{"$f":"IF(AND($B$139=1,G$46=\"Crest\",G$132=0),1,0)","v":0},{"$f":"IF($I$2=\"Existing\",(D134),(IF($I$2=\"Design 1\",(F134),(IF($I$2=\"Design 2\",(G134),(IF($I$2=\"Optimal\",(I134),E134)))))))","v":0},{"$f":"IF(AND($B$139=1,I$46=\"Crest\",I$132=0),1,0)","v":{"$error":"#VALUE!"}},null,{"$f":"INDEX($D134:$I134,K$100)","v":0},{"$f":"INDEX($D134:$I134,L$100)","v":0},0]
[null,null,"HC and VC Sag type II",{"$f":"IF(AND($B$139=1,D$46=\"Sag\",D$133=0),1,0)","v":0},{"$f":"IF(AND($B$139=1,E$46=\"Sag\",E$133=0),1,0)","v":0},{"$f":"IF(AND($B$139=1,F$46=\"Sag\",F$133=0),1,0)","v":0},{"$f":"IF(AND($B$139=1,G$46=\"Sag\",G$133=0),1,0)","v":0},{"$f":"IF($I$2=\"Existing\",(D135),(IF($I$2=\"Design 1\",(F135),(IF($I$2=\"Design 2\",(G135),(IF($I$2=\"Optimal\",(I135),E135)))))))","v":0},{"$f":"IF(AND($B$139=1,I$46=\"Sag\",I$133=0),1,0)","v":{"$error":"#VALUE!"}},null,{"$f":"INDEX($D135:$I135,K$100)","v":0},{"$f":"INDEX($D135:$I135,L$100)","v":0},0]
[null,"Yes/No"]
[null,null,"HC and VC:"]
[null,{"$f":"IF(B31=\"Yes\",1,0)","v":0},"HC and Grade",{"$f":"IF($B$139=0,\n  EXP(0.042*ABS(D$40)\n    +$B$138*0.16*LN(2*5730/IF(ISNUMBER(D$33),D$33,1))*$B$138\n    +4.16*$B$138/IF(ISNUMBER(D$33),D$33,1)/IF( AND(ISNUMBER(D$34),D$34<>0),D$34,1)),\n  1)","v":1},{"$f":"IF($B$139=0,\n  EXP(0.042*ABS(D$40)\n    +$B$138*0.16*LN(2*5730/IF(ISNUMBER(E$33),E$33,1))*$B$138\n    +4.16*$B$138/IF(ISNUMBER(E$33),E$33,1)/IF( AND(ISNUMBER(E$34),E$34<>0),E$34,1)),\n  1)","v":1},{"$f":"IF($B$139=0,\n  EXP(0.042*ABS(F$40)\n    +$B$138*0.16*LN(2*5730/IF(ISNUMBER(F$33),F$33,1))*$B$138\n    +4.16*$B$138/IF(ISNUMBER(F$33),F$33,1)/IF( AND(ISNUMBER(F$34),F$34<>0),F$34,1)),\n  1)","v":1},{"$f":"IF($B$139=0,\n  EXP(0.042*ABS(G$40)\n    +$B$138*0.16*LN(2*5730/IF(ISNUMBER(G$33),G$33,1))*$B$138\n    +4.16*$B$138/IF(ISNUMBER(G$33),G$33,1)/IF( AND(ISNUMBER(G$34),G$34<>0),G$34,1)),\n  1)","v":1},null,{"$f":"IF($B$139=0,\n  EXP(0.042*ABS(I$40)\n    +$B$138*0.16*LN(2*5730/IF(ISNUMBER(I$33),I$33,1))*$B$138\n    +4.16*$B$138/IF(ISNUMBER(I$33),I$33,1)/IF( AND(ISNUMBER(I$34),I$34<>0),I$34,1)),\n  1)","v":{"$error":"#VALUE!"}},null,{"$f":"INDEX($D138:$I138,K$100)","v":1},{"$f":"INDEX($D138:$I138,L$100)","v":1},{"$f":"IF(ISERROR(1-L138/K138), 0, 1-L138/K138)","v":0},null,0]
[null,{"$f":"IF(B38=\"Yes\",1,0)","v":0},"HC and VC Crest type I",{"$f":"IF($B$139=0,1,EXP(0.005648908*5730*ABS(+D$40-D$41)*$B$139/D$145*$B$138))","v":1},{"$f":"IF($B$139=0,1,EXP(0.005648908*5730*ABS(+E$40-E$41)*$B$139/E$145*$B$138))","v":1},1,1,{"$f":"IF($I$2=\"Existing\",(D139),(IF($I$2=\"Design 1\",(F139),(IF($I$2=\"Design 2\",(G139),(IF($I$2=\"Optimal\",(I139),E139)))))))","v":1},1,null,{"$f":"INDEX($D139:$I139,K$100)","v":1},{"$f":"INDEX($D139:$I139,L$100)","v":1},0,null,0]
[null,null,"HC and VC Sag type I",{"$f":"IF($B$139=0,1,EXP(9.15857042*$B$139/D$146+0.010284958*5730*$B$139*$B$138*ABS(+D$40-D$41)/D$145))","v":1},{"$f":"IF($B$139=0,1,EXP(9.15857042*$B$139/E$146+0.010284958*5730*$B$139*$B$138*ABS(+E$40-E$41)/E$145))","v":1},1,1,{"$f":"IF($I$2=\"Existing\",(D140),(IF($I$2=\"Design 1\",(F140),(IF($I$2=\"Design 2\",(G140),(IF($I$2=\"Optimal\",(I140),E140)))))))","v":1},1,null,{"$f":"INDEX($D140:$I140,K$100)","v":1},{"$f":"INDEX($D140:$I140,L$100)","v":1},0,null,0]
[null,null,"HC and VC Crest type II",{"$f":"IF($B$139=0,1,EXP(0.005648908*5730*ABS(+D$40-D$41)*$B$139/D$145*$B$138))","v":1},{"$f":"IF($B$139=0,1,EXP(0.005648908*5730*ABS(+E$40-E$41)*$B$139/E$145*$B$138))","v":1},1,1,{"$f":"IF($I$2=\"Existing\",(D141),(IF($I$2=\"Design 1\",(F141),(IF($I$2=\"Design 2\",(G141),(IF($I$2=\"Optimal\",(I141),E141)))))))","v":1},1,null,{"$f":"INDEX($D141:$I141,K$100)","v":1},{"$f":"INDEX($D141:$I141,L$100)","v":1},0,null,0]
[null,null,"HC and VC Sag type II",{"$f":"IF($B$139=0,1,(0.246011284*EXP(LN(0.188*2*5730/D$145)*$B$138)+0.753988716*EXP(0.022*5730/D$145*ABS(D$40-D$41)*$B$139*$B$138)))","v":1},{"$f":"IF($B$139=0,1,(0.246011284*EXP(LN(0.188*2*5730/E$145)*$B$138)+0.753988716*EXP(0.022*5730/E$145*ABS(E$40-E$41)*$B$139*$B$138)))","v":1},1,1,{"$f":"IF($I$2=\"Existing\",(D142),(IF($I$2=\"Design 1\",(F142),(IF($I$2=\"Design 2\",(G142),(IF($I$2=\"Optimal\",(I142),E142)))))))","v":1},1,null,{"$f":"INDEX($D142:$I142,K$100)","v":1},{"$f":"INDEX($D142:$I142,L$100)","v":1},0,null,0]
[]
[null,null,"Combined HZ and VT",{"$f":"MMULT(TRANSPOSE(D131:D135),D138:D142)","v":1},{"$f":"MMULT(TRANSPOSE(E131:E135),E138:E142)","v":1},{"$f":"MMULT(TRANSPOSE(F131:F135),F138:F142)","v":1},{"$f":"MMULT(TRANSPOSE(G131:G135),G138:G142)","v":1},{"$f":"IF($I$2=\"Existing\",(D144),(IF($I$2=\"Design 1\",(F144),(IF($I$2=\"Design 2\",(G144),(IF($I$2=\"Optimal\",(I144),E144)))))))","v":1},{"$f":"MMULT(TRANSPOSE(I131:I135),I138:I142)","v":{"$error":"#VALUE!"}},null,{"$f":"INDEX($D144:$I144,K$100)","v":1},{"$f":"INDEX($D144:$I144,L$100)","v":1},{"$f":"IF(ISERROR(1-L144/K144), 0, 1-L144/K144)","v":0},null,0]
[null,null,"effective R for calculation",{"$f":"IF(ISNUMBER(D33), D33, 99999999)","v":99999999},{"$f":"IF(ISNUMBER(E33), E33, 99999999)","v":590},99999999,99999999,null,590]
[null,null,"effective K for calculation",{"$f":"IF(ISNUMBER(D43), D43, 99999999)","v":99999999},{"$f":"IF(ISNUMBER(E43), E43, 99999999)","v":99999999},99999999,99999999,null,99999999]
[null,"Traffic"]
[null,null,null,"Existing","Standard","Design 1","Design 2"]
[null,null,"Advance static curve warning signs",{"$f":"IF(D24=INDEX(MedConf_Header,1,2),IF(AND($B$31=\"Yes\",D$56=\"Yes\"),(Traffic!$F$4-1)*AVERAGE(Constraints!$F$24,Constraints!$H$24)/Constraints!$D$24+1,1),(IF(AND($B$31=\"Yes\",D$56=\"Yes\"),(Traffic!$F$4-1)*AVERAGE(Constraints!$F$38,Constraints!$H$38)/Constraints!$D$38+1,1)))","v":1},{"$f":"IF(AND($B$31=\"Yes\",E$56=\"Yes\"),(Traffic!$F$4-1)*AVERAGE(Constraints!$F$24,Constraints!$H$24)/Constraints!$D$24+1,1)","v":1},{"$f":"IF(F24=INDEX(MedConf_Header,1,2),IF(AND($B$31=\"Yes\",F$56=\"Yes\"),(Traffic!$F$4-1)*AVERAGE(Constraints!$F$24,Constraints!$H$24)/Constraints!$D$24+1,1),(IF(AND($B$31=\"Yes\",F$56=\"Yes\"),(Traffic!$F$4-1)*AVERAGE(Constraints!$F$38,Constraints!$H$38)/Constraints!$D$38+1,1)))","v":1},{"$f":"IF(G24=INDEX(MedConf_Header,1,2),IF(AND($B$31=\"Yes\",G$56=\"Yes\"),(Traffic!$F$4-1)*AVERAGE(Constraints!$F$24,Constraints!$H$24)/Constraints!$D$24+1,1),(IF(AND($B$31=\"Yes\",G$56=\"Yes\"),(Traffic!$F$4-1)*AVERAGE(Constraints!$F$38,Constraints!$H$38)/Constraints!$D$38+1,1)))","v":1},{"$f":"IF($I$2=\"Existing\",(D149),(IF($I$2=\"Design 1\",(F149),(IF($I$2=\"Design 2\",(G149),(IF($I$2=\"Optimal\",(I149),E149)))))))","v":1},{"$f":"IF(AND($B$31=\"Yes\",I$56=\"Yes\"),(Traffic!$F$4-1)*AVERAGE(Constraints!$F$24,Constraints!$H$24)/Constraints!$D$24+1,1)","v":1},null,{"$f":"INDEX($D149:$I149,K$100)","v":1},{"$f":"INDEX($D149:$I149,L$100)","v":1},{"$f":"IF(ISERROR(1-L149/K149), 0, 1-L149/K149)","v":0},null,0]
[null,null,"Install chevron signs on horizontal curves",{"$f":"IF(D24=INDEX(MedConf_Header,1,2),(IF(D$57=\"No\",1,(IF(AND($B$31=\"Yes\",D$27<11.5),((Traffic!$F$6-1)*(Constraints!$E$18+Constraints!$E$22))+1,1)))),(IF(D$57=\"No\",1,(IF(AND($B$31=\"Yes\",D$27<11.5),((Traffic!$F$6-1)*(Constraints!$E$32+Constraints!$E$36))+1,1)))))","v":1},{"$f":"IF(E$57=\"No\",1,(IF(AND($B$31=\"Yes\",E$27<11.5),((Traffic!$F$6-1)*(Constraints!$E$18+Constraints!$E$22))+1,1)))","v":1},{"$f":"IF(F24=INDEX(MedConf_Header,1,2),(IF(F$57=\"No\",1,(IF(AND($B$31=\"Yes\",F$27<11.5),((Traffic!$F$6-1)*(Constraints!$E$18+Constraints!$E$22))+1,1)))),(IF(F$57=\"No\",1,(IF(AND($B$31=\"Yes\",F$27<11.5),((Traffic!$F$6-1)*(Constraints!$E$32+Constraints!$E$36))+1,1)))))","v":1},{"$f":"IF(G24=INDEX(MedConf_Header,1,2),(IF(G$57=\"No\",1,(IF(AND($B$31=\"Yes\",G$27<11.5),((Traffic!$F$6-1)*(Constraints!$E$18+Constraints!$E$22))+1,1)))),(IF(G$57=\"No\",1,(IF(AND($B$31=\"Yes\",G$27<11.5),((Traffic!$F$6-1)*(Constraints!$E$32+Constraints!$E$36))+1,1)))))","v":1},{"$f":"IF($I$2=\"Existing\",(D150),(IF($I$2=\"Design 1\",(F150),(IF($I$2=\"Design 2\",(G150),(IF($I$2=\"Optimal\",(I150),E150)))))))","v":1},{"$f":"IF(I$57=\"No\",1,(IF(AND($B$31=\"Yes\",I$27<11.5),((Traffic!$F$6-1)*(Constraints!$E$18+Constraints!$E$22))+1,1)))","v":1},null,{"$f":"INDEX($D150:$I150,K$100)","v":1},{"$f":"INDEX($D150:$I150,L$100)","v":1},0,null,0]
[null,null,"Install post-mounted delineators",{"$f":"IF(D24=INDEX(MedConf_Header,1,2),IF(AND($B$31=\"Yes\",D$58=\"Yes\"),(Traffic!$F$12-1)*Constraints!$E$17+1,1),(IF(AND($B$31=\"Yes\",D$58=\"Yes\"),(Traffic!$F$12-1)*Constraints!$E$31+1,1)))","v":1},{"$f":"IF(AND($B$31=\"Yes\",E$58=\"Yes\"),(Traffic!$F$12-1)*Constraints!$E$17+1,1)","v":1},{"$f":"IF(F24=INDEX(MedConf_Header,1,2),IF(AND($B$31=\"Yes\",F$58=\"Yes\"),(Traffic!$F$12-1)*Constraints!$E$17+1,1),(IF(AND($B$31=\"Yes\",F$58=\"Yes\"),(Traffic!$F$12-1)*Constraints!$E$31+1,1)))","v":1},{"$f":"IF(G24=INDEX(MedConf_Header,1,2),IF(AND($B$31=\"Yes\",G$58=\"Yes\"),(Traffic!$F$12-1)*Constraints!$E$17+1,1),(IF(AND($B$31=\"Yes\",G$58=\"Yes\"),(Traffic!$F$12-1)*Constraints!$E$31+1,1)))","v":1},{"$f":"IF($I$2=\"Existing\",(D151),(IF($I$2=\"Design 1\",(F151),(IF($I$2=\"Design 2\",(G151),(IF($I$2=\"Optimal\",(I151),E151)))))))","v":1},{"$f":"IF(AND($B$31=\"Yes\",I$58=\"Yes\"),(Traffic!$F$12-1)*Constraints!$E$17+1,1)","v":1},null,{"$f":"INDEX($D151:$I151,K$100)","v":1},{"$f":"INDEX($D151:$I151,L$100)","v":1},0,null,0]
[null,null,"Install edgeline  or Profile pavement markings ",{"$f":"IF(D24=INDEX(MedConf_Header,1,2),(IF(D$59=\"Yes\",Traffic!$F$18*0.5+((Traffic!$F$20*(Constraints!$H$17+Constraints!$H$20+Constraints!$H$21)+1*(Constraints!$H$24-(Constraints!$H$17+Constraints!$H$20+Constraints!$H$21)))/Constraints!$H$24)*0.5,1)),(IF(D$59=\"Yes\",Traffic!$F$18*0.5+((Traffic!$F$20*(Constraints!$H$31+Constraints!$H$34+Constraints!$H$35)+1*(Constraints!$H$38-(Constraints!$H$31+Constraints!$H$34+Constraints!$H$35)))/Constraints!$H$38)*0.5,1)))","v":1},{"$f":"IF(E24=INDEX(MedConf_Header,1,2),(IF(E$59=\"Yes\",Traffic!$F$18*0.5+((Traffic!$F$20*(Constraints!$H$17+Constraints!$H$20+Constraints!$H$21)+1*(Constraints!$H$24-(Constraints!$H$17+Constraints!$H$20+Constraints!$H$21)))/Constraints!$H$24)*0.5,1)),(IF(E$59=\"Yes\",Traffic!$F$18*0.5+((Traffic!$F$20*(Constraints!$H$31+Constraints!$H$34+Constraints!$H$35)+1*(Constraints!$H$38-(Constraints!$H$31+Constraints!$H$34+Constraints!$H$35)))/Constraints!$H$38)*0.5,1)))","v":1},{"$f":"IF(F24=INDEX(MedConf_Header,1,2),(IF(F$59=\"Yes\",Traffic!$F$18*0.5+((Traffic!$F$20*(Constraints!$H$17+Constraints!$H$20+Constraints!$H$21)+1*(Constraints!$H$24-(Constraints!$H$17+Constraints!$H$20+Constraints!$H$21)))/Constraints!$H$24)*0.5,1)),(IF(F$59=\"Yes\",Traffic!$F$18*0.5+((Traffic!$F$20*(Constraints!$H$31+Constraints!$H$34+Constraints!$H$35)+1*(Constraints!$H$38-(Constraints!$H$31+Constraints!$H$34+Constraints!$H$35)))/Constraints!$H$38)*0.5,1)))","v":1},{"$f":"IF(G24=INDEX(MedConf_Header,1,2),(IF(G$59=\"Yes\",Traffic!$F$18*0.5+((Traffic!$F$20*(Constraints!$H$17+Constraints!$H$20+Constraints!$H$21)+1*(Constraints!$H$24-(Constraints!$H$17+Constraints!$H$20+Constraints!$H$21)))/Constraints!$H$24)*0.5,1)),(IF(G$59=\"Yes\",Traffic!$F$18*0.5+((Traffic!$F$20*(Constraints!$H$31+Constraints!$H$34+Constraints!$H$35)+1*(Constraints!$H$38-(Constraints!$H$31+Constraints!$H$34+Constraints!$H$35)))/Constraints!$H$38)*0.5,1)))","v":1},{"$f":"IF($I$2=\"Existing\",(D152),(IF($I$2=\"Design 1\",(F152),(IF($I$2=\"Design 2\",(G152),(IF($I$2=\"Optimal\",(I152),E152)))))))","v":1},{"$f":"IF(I24=INDEX(MedConf_Header,1,2),(IF(I$59=\"Yes\",Traffic!$F$18*0.5+((Traffic!$F$20*(Constraints!$H$17+Constraints!$H$20+Constraints!$H$21)+1*(Constraints!$H$24-(Constraints!$H$17+Constraints!$H$20+Constraints!$H$21)))/Constraints!$H$24)*0.5,1)),(IF(I$59=\"Yes\",Traffic!$F$18*0.5+((Traffic!$F$20*(Constraints!$H$31+Constraints!$H$34+Constraints!$H$35)+1*(Constraints!$H$38-(Constraints!$H$31+Constraints!$H$34+Constraints!$H$35)))/Constraints!$H$38)*0.5,1)))","v":0.87439641434262949},null,{"$f":"INDEX($D152:$I152,K$100)","v":1},{"$f":"INDEX($D152:$I152,L$100)","v":1},0,null,0.13824118691351761]
[null,null,"Profiles",1,1,1,1,1,1,null,{"$f":"INDEX($D153:$I153,K$100)","v":1},{"$f":"INDEX($D153:$I153,L$100)","v":1},0,null,0]
[null,null,"Shoulder rumble strips",{"$f":"IF(D24=INDEX(MedConf_Header,1,2),(IF(D$60=\"No\",1,(Traffic!$F$27*(Constraints!$H$17+Constraints!$H$20+Constraints!$H$21)+1*(Constraints!$H$24-(Constraints!$H$17+Constraints!$H$20+Constraints!$H$21)))/Constraints!$H$24)),(IF(D$60=\"No\",1,(Traffic!$F$27*(Constraints!$H$31+Constraints!$H$34+Constraints!$H$35)+1*(Constraints!$H$38-(Constraints!$H$31+Constraints!$H$34+Constraints!$H$35)))/Constraints!$H$38)))","v":0.93956289460903353},{"$f":"IF(E$60=\"No\",1,(Traffic!$F$27*(Constraints!$H$17+Constraints!$H$20+Constraints!$H$21)+1*(Constraints!$H$24-(Constraints!$H$17+Constraints!$H$20+Constraints!$H$21)))/Constraints!$H$24)","v":0.91807038512616201},{"$f":"IF(F24=INDEX(MedConf_Header,1,2),(IF(F$60=\"No\",1,(Traffic!$F$27*(Constraints!$H$17+Constraints!$H$20+Constraints!$H$21)+1*(Constraints!$H$24-(Constraints!$H$17+Constraints!$H$20+Constraints!$H$21)))/Constraints!$H$24)),(IF(F$60=\"No\",1,(Traffic!$F$27*(Constraints!$H$31+Constraints!$H$34+Constraints!$H$35)+1*(Constraints!$H$38-(Constraints!$H$31+Constraints!$H$34+Constraints!$H$35)))/Constraints!$H$38)))","v":0.93956289460903353},{"$f":"IF(G24=INDEX(MedConf_Header,1,2),(IF(G$60=\"No\",1,(Traffic!$F$27*(Constraints!$H$17+Constraints!$H$20+Constraints!$H$21)+1*(Constraints!$H$24-(Constraints!$H$17+Constraints!$H$20+Constraints!$H$21)))/Constraints!$H$24)),(IF(G$60=\"No\",1,(Traffic!$F$27*(Constraints!$H$31+Constraints!$H$34+Constraints!$H$35)+1*(Constraints!$H$38-(Constraints!$H$31+Constraints!$H$34+Constraints!$H$35)))/Constraints!$H$38)))","v":0.93956289460903353},{"$f":"IF($I$2=\"Existing\",(D154),(IF($I$2=\"Design 1\",(F154),(IF($I$2=\"Design 2\",(G154),(IF($I$2=\"Optimal\",(I154),E154)))))))","v":0.91807038512616201},{"$f":"IF(I$60=\"No\",1,(Traffic!$F$27*(Constraints!$H$17+Constraints!$H$20+Constraints!$H$21)+1*(Constraints!$H$24-(Constraints!$H$17+Constraints!$H$20+Constraints!$H$21)))/Constraints!$H$24)","v":0.91807038512616201},null,{"$f":"INDEX($D154:$I154,K$100)","v":0.93956289460903353},{"$f":"INDEX($D154:$I154,L$100)","v":0.91807038512616201},2.2875008800570917E-2,null,0]
[null,null,"Install centerline rumble strips",{"$f":"IF(D24=INDEX(MedConf_Header,1,3),(IF(D$61=\"No\",1,(Traffic!$E$81*(Constraints!$H$31+Constraints!$H$34+Constraints!$H$35)+1*(Constraints!$H$38-(Constraints!$H$31+Constraints!$H$34+Constraints!$H$35)))/Constraints!$H$38)+0.001),1)","v":1},{"$f":"IF(E24=INDEX(MedConf_Header,1,3),(IF(E$61=\"No\",1,(Traffic!$E$81*(Constraints!$H$31+Constraints!$H$34+Constraints!$H$35)+1*(Constraints!$H$38-(Constraints!$H$31+Constraints!$H$34+Constraints!$H$35)))/Constraints!$H$38)+0.001),1)","v":1},{"$f":"IF(F24=INDEX(MedConf_Header,1,3),(IF(F$61=\"No\",1,(Traffic!$E$81*(Constraints!$H$31+Constraints!$H$34+Constraints!$H$35)+1*(Constraints!$H$38-(Constraints!$H$31+Constraints!$H$34+Constraints!$H$35)))/Constraints!$H$38)+0.001),1)","v":1},{"$f":"IF(G24=INDEX(MedConf_Header,1,3),(IF(G$61=\"No\",1,(Traffic!$E$81*(Constraints!$H$31+Constraints!$H$34+Constraints!$H$35)+1*(Constraints!$H$38-(Constraints!$H$31+Constraints!$H$34+Constraints!$H$35)))/Constraints!$H$38)+0.001),1)","v":1},{"$f":"IF($I$2=\"Existing\",(D155),(IF($I$2=\"Design 1\",(F155),(IF($I$2=\"Design 2\",(G155),(IF($I$2=\"Optimal\",(I155),E155)))))))","v":1},{"$f":"IF(I24=INDEX(MedConf_Header,1,3),(IF(I$61=\"No\",1,(Traffic!$E$81*(Constraints!$H$31+Constraints!$H$34+Constraints!$H$35)+1*(Constraints!$H$38-(Constraints!$H$31+Constraints!$H$34+Constraints!$H$35)))/Constraints!$H$38)+0.001),1)","v":1},null,{"$f":"INDEX($D155:$I155,K$100)","v":1},{"$f":"INDEX($D155:$I155,L$100)","v":1},0,null,-0.16279069767441867]
[null,null,"Driveway Density (driveways per mile)",{"$f":"EXP(-LN(Traffic!$F$31)*(D$62-$E$62))","v":0.81707280688754669},{"$f":"EXP(-LN(Traffic!$F$31)*(E$62-$E$62))","v":1},{"$f":"EXP(-LN(Traffic!$F$31)*(F$62-$E$62))","v":0.81707280688754669},{"$f":"EXP(-LN(Traffic!$F$31)*(G$62-$E$62))","v":0.81707280688754669},{"$f":"IF($I$2=\"Existing\",(D156),(IF($I$2=\"Design 1\",(F156),(IF($I$2=\"Design 2\",(G156),(IF($I$2=\"Optimal\",(I156),E156)))))))","v":1},{"$f":"EXP(-LN(Traffic!$F$31)*(I$62-$E$62))","v":0.81707280688754669},null,{"$f":"INDEX($D156:$I156,K$100)","v":0.81707280688754669},{"$f":"INDEX($D156:$I156,L$100)","v":1},-0.22388114201141129,null,-0.22388114201141129]
[null,null,"Install lighting",{"$f":"IF(D24=INDEX(MedConf_Header,1,2),(IF(D$63=\"No\",1,1-(((1-Traffic!$F$54*Constraints!$H$24-Constraints!$F$24/3)+((1-Traffic!$F$54*Constraints!$D$24-Constraints!$H$24)))*$S$19+((1-Traffic!$F$56)*Constraints!$F$24/3))/Constraints!$D$24)),(IF(D$63=\"No\",1,1-(((1-Traffic!$F$54*Constraints!$H$38-Constraints!$F$38/3)+((1-Traffic!$F$54*Constraints!$D$38-Constraints!$H$38)))*$S$19+((1-Traffic!$F$56)*Constraints!$F$38/3))/Constraints!$D$38)))","v":0.98319080068143105},{"$f":"IF(E$63=\"No\",1,1-(((1-Traffic!$F$54*Constraints!$H$24-Constraints!$F$24/3)+((1-Traffic!$F$54*Constraints!$D$24-Constraints!$H$24)))*$S$19+((1-Traffic!$F$56)*Constraints!$F$24/3))/Constraints!$D$24)","v":1},{"$f":"IF(F24=INDEX(MedConf_Header,1,2),(IF(F$63=\"No\",1,1-(((1-Traffic!$F$54*Constraints!$H$24-Constraints!$F$24/3)+((1-Traffic!$F$54*Constraints!$D$24-Constraints!$H$24)))*$S$19+((1-Traffic!$F$56)*Constraints!$F$24/3))/Constraints!$D$24)),(IF(F$63=\"No\",1,1-(((1-Traffic!$F$54*Constraints!$H$38-Constraints!$F$38/3)+((1-Traffic!$F$54*Constraints!$D$38-Constraints!$H$38)))*$S$19+((1-Traffic!$F$56)*Constraints!$F$38/3))/Constraints!$D$38)))","v":0.98319080068143105},{"$f":"IF(G24=INDEX(MedConf_Header,1,2),(IF(G$63=\"No\",1,1-(((1-Traffic!$F$54*Constraints!$H$24-Constraints!$F$24/3)+((1-Traffic!$F$54*Constraints!$D$24-Constraints!$H$24)))*$S$19+((1-Traffic!$F$56)*Constraints!$F$24/3))/Constraints!$D$24)),(IF(G$63=\"No\",1,1-(((1-Traffic!$F$54*Constraints!$H$38-Constraints!$F$38/3)+((1-Traffic!$F$54*Constraints!$D$38-Constraints!$H$38)))*$S$19+((1-Traffic!$F$56)*Constraints!$F$38/3))/Constraints!$D$38)))","v":0.98319080068143105},{"$f":"IF($I$2=\"Existing\",(D157),(IF($I$2=\"Design 1\",(F157),(IF($I$2=\"Design 2\",(G157),(IF($I$2=\"Optimal\",(I157),E157)))))))","v":1},{"$f":"IF(I$63=\"No\",1,1-(((1-Traffic!$F$54*Constraints!$H$24-Constraints!$F$24/3)+((1-Traffic!$F$54*Constraints!$D$24-Constraints!$H$24)))*$S$19+((1-Traffic!$F$56)*Constraints!$F$24/3))/Constraints!$D$24)","v":0.98062689234129152},null,{"$f":"INDEX($D157:$I157,K$100)","v":0.98319080068143105},{"$f":"INDEX($D157:$I157,L$100)","v":1},-1.7096579124742384E-2,null,-2.3499081529478438E-2]
[null,null,"Pavement friction (skid number)",{"$f":"EXP(LN(Traffic!$F$48)*(D$64-$E$64))","v":1.3972521419325798},{"$f":"EXP(LN(Traffic!$F$48)*(E$64-$E$64))","v":1},{"$f":"IF(MATCH(F64,SkidNums,0)=3, $D158,EXP(LN([5]Traffic!$F$49)*(RIGHT(F$64,2)-$E$64)))","v":{"$error":"#N/A"}},{"$f":"IF(MATCH(G64,SkidNums,0)=3, $D158,EXP(LN([5]Traffic!$F$49)*(RIGHT(G$64,2)-$E$64)))","v":{"$error":"#N/A"}},{"$f":"IF($I$2=\"Existing\",(D158),(IF($I$2=\"Design 1\",(F158),(IF($I$2=\"Design 2\",(G158),(IF($I$2=\"Optimal\",(I158),E158)))))))","v":1},{"$f":"EXP(LN(Traffic!$F$48)*(I$64-$E$64))","v":0.85753553626991963},null,{"$f":"INDEX($D158:$I158,K$100)","v":1.3972521419325798},{"$f":"INDEX($D158:$I158,L$100)","v":1},0.28430956017940245,null,0]
[]
[]
[null,null,"COMBINED Calculated CMF",{"$f":"+D149*D150*D151*D152*D153*D154*D155*D156*D157*D158","v":1.0546277742651902},{"$f":"+E149*E150*E151*E152*E153*E154*E155*E156*E157*E158","v":0.91807038512616201},{"$error":"#N/A"},{"$error":"#N/A"},{"$f":"IF($I$2=\"Existing\",(D161),(IF($I$2=\"Design 1\",(F161),(IF($I$2=\"Design 2\",(G161),(IF($I$2=\"Optimal\",(I161),E161)))))))","v":0.91807038512616201},{"$f":"+I149*I150*I151*I152*I153*I154*I155*I156*I157*I158","v":0.55157049744255038},null,{"$f":"INDEX($D161:$I161,K$100)","v":1.0546277742651902},{"$f":"INDEX($D161:$I161,L$100)","v":0.91807038512616201},{"$f":"IF(ISERROR(1-L161/K161), 0, 1-L161/K161)","v":0.12948396815565966},null,0]
[null,null,"Calculated Relative to Design Standards (Column E)",{"$f":"+D161/$E$161","v":1.1487439213282784},{"$f":"+E161/$E$161","v":1},{"$error":"#N/A"},{"$error":"#N/A"},1,{"$f":"+I161/$E$161","v":0.60079325766156055},null,{"$f":"INDEX($D162:$I162,K$100)","v":1.1487439213282784},{"$f":"INDEX($D162:$I162,L$100)","v":1},0.12948396815565966,null,0]
[null,null,"P(Crash)",{"$f":"+D162/(D162+1)","v":0.53461183062622242},0.5,{"$error":"#N/A"},{"$error":"#N/A"},0.5,{"$f":"+I162/(I162+1)","v":0.37530971272280322},null,{"$f":"INDEX($D163:$I163,K$100)","v":0.53461183062622242},{"$f":"INDEX($D163:$I163,L$100)","v":0.5},6.4741984077829939E-2]
[null,null,"Factor Change on S curve",{"$f":"+D163/$E$163","v":1.0692236612524448},{"$f":"+E163/$E$163","v":1},{"$f":"+F163/$E$163","v":{"$error":"#N/A"}},{"$error":"#N/A"},1,{"$f":"+I163/$E$163","v":0.75061942544560645},null,{"$f":"INDEX($D164:$I164,K$100)","v":1.0692236612524448},{"$f":"INDEX($D164:$I164,L$100)","v":1},6.4741984077829939E-2]
[null,null,"Adjust to Scale of 100",{"$f":"+$I$118/D164*100","v":{"$error":"#VALUE!"}},{"$error":"#VALUE!"},{"$error":"#VALUE!"},{"$error":"#VALUE!"},{"$error":"#VALUE!"},{"$f":"+$I$118/I164*100","v":{"$error":"#VALUE!"}}]
[null,null,"Unadjusted Combined Relative to Standard",{"$f":"+D161/$E$161","v":1.1487439213282784},{"$f":"+E161/$E$161","v":1},{"$f":"+F161/$E$161","v":{"$error":"#N/A"}},{"$error":"#N/A"},1,{"$f":"+I161/$E$161","v":0.60079325766156055},{"$f":"I172/E172","v":1.3333333333333333},{"$f":"INDEX($D166:$I166,K$100)","v":1.1487439213282784},{"$f":"INDEX($D166:$I166,L$100)","v":1},{"$f":"IF(ISERROR(1-L166/K166), 0, 1-L166/K166)","v":0.12948396815565966}]
[null,null,null,null,null,null,null,0,null,null,{"$f":"INDEX($D167:$I167,K$100)","v":0},{"$f":"INDEX($D167:$I167,L$100)","v":0},0]
[null,null,"Adjusted for PA Basis",{"$f":"+D161*(1+1)/(1+D161*1)","v":1.0265876743950504},0.95728539707970672,{"$error":"#N/A"},{"$error":"#N/A"},0.95728539707970672,{"$f":"+I161*(1+1)/(1+I161*1)","v":0.71098348202895401},null,{"$f":"INDEX($D168:$I168,K$100)","v":1.0265876743950504},{"$f":"INDEX($D168:$I168,L$100)","v":0.95728539707970672},6.750741221998624E-2]
[null,null,"Corrected by Odds Ratio",{"$f":"+D168/$E$168","v":1.0723945831898796},{"$f":"+E168/$E$168","v":1},{"$f":"+F168/$E$168","v":{"$error":"#N/A"}},{"$error":"#N/A"},1,{"$f":"+I168/$E$168","v":0.74270795752017016},{"$f":"I175/E175","v":1.4285714285714286},{"$f":"INDEX($D169:$I169,K$100)","v":1.0723945831898796},{"$f":"INDEX($D169:$I169,L$100)","v":1},6.750741221998624E-2]
[null,null,null,{"$f":"(1/D169)^$D173","v":0.19732178070922252},{"$f":"(1/E169)^$D173","v":1},{"$error":"#N/A"},{"$error":"#N/A"},1,998.99999999999955,null,{"$f":"INDEX($D170:$I170,K$100)","v":0.19732178070922252},{"$f":"INDEX($D170:$I170,L$100)","v":1},-4.0678642591089362]
[null,null,null,{"$f":"(D170+$F174-1)/(1+(D170+$F174-1))","v":0.6048454036857811},{"$f":"(E170+$F174-1)/(1+(E170+$F174-1))","v":0.70000000000000007},{"$error":"#N/A"},{"$error":"#N/A"},0.70000000000000007,0.99900133155792281,null,{"$f":"INDEX($D171:$I171,K$100)","v":0.6048454036857811},{"$f":"INDEX($D171:$I171,L$100)","v":0.70000000000000007},-0.15732052477272696]
[null,null,"Score Odds Ratio with Optimal as 100 (old)",{"$f":"MIN(ROUND($I$169/D169*Construction!$I$3,0),$I172)","v":14},{"$f":"MIN(ROUND($I$169/E169*Construction!$I$3,0),$I172)","v":15},{"$f":"MIN(ROUND($I$169/F169*Construction!$I$3,0),$I172)","v":{"$error":"#N/A"}},{"$f":"MIN(ROUND($I$169/G169*Construction!$I$3,0),$I172)","v":{"$error":"#N/A"}},null,{"$f":"ROUND($I$169/I169*Construction!$I$3,0)","v":20}]
[null,null,"Logistic1",{"$f":"LN((D174/(1-D174))/(0.5/0.5))/LN($E169/I169)","v":23.2196999386987}]
[null,null,"Logistic Param",0.999,null,{"$f":"0.7/0.3","v":2.3333333333333335}]
[null,null,"Score ",{"$f":"MIN(ROUND(D171*Construction!$I$3,0),$I172)","v":12},{"$f":"MIN(ROUND(E171*Construction!$I$3,0),$I172)","v":14},{"$f":"MIN(ROUND(F171*Construction!$I$3,0),$I172)","v":{"$error":"#N/A"}},{"$f":"MIN(ROUND(G171*Construction!$I$3,0),$I172)","v":{"$error":"#N/A"}},null,{"$f":"MIN(ROUND(I171*Construction!$I$3,0),$I172)","v":20}]
[]
[]
[]
[]
[null,null,null,{"$f":"INDEX(MedConf_Header,1,2)","v":"Divided - Unsurfaced Median"}]
[]
[null,"Roadsde",null,"Existing","Standard","Design 1","Design 2"]
[null,null,null,{"$f":"IF(ISBLANK(D75), 0, MID(D75,FIND(\":\",D75,1)+1,FIND(\"H\",D75,1)-FIND(\":\",D75,1)-1)+0)","v":0},{"$f":"MID(E75,FIND(\":\",E75,1)+1,FIND(\"H\",E75,1)-FIND(\":\",E75,1)-1)+0","v":4},{"$f":"IF(ISBLANK(F75), 0, MID(F75,FIND(\":\",F75,1)+1,FIND(\"H\",F75,1)-FIND(\":\",F75,1)-1)+0)","v":0},{"$f":"IF(ISBLANK(G75), 0, MID(G75,FIND(\":\",G75,1)+1,FIND(\"H\",G75,1)-FIND(\":\",G75,1)-1)+0)","v":0},null,{"$f":"MID(I75,FIND(\":\",I75,1)+1,FIND(\"H\",I75,1)-FIND(\":\",I75,1)-1)+0","v":6},null,null,null,null,null,0]
[null,null,"Sideslope (Foreslope)",{"$f":"IF(D24=INDEX(MedConf_Header,1,2),(IF(D183<=3,1,IF(OR(D183=4,D183=5),(Roadside!$F$15-1)*Constraints!$H$24/Constraints!$D$24+1,(Roadside!$F$15*Roadside!$F$16-1)*Constraints!$H$24/Constraints!$D$24+1))),(IF(D183<=3,1,IF(OR(D183=4,D183=5),(Roadside!$F$15-1)*Constraints!$H$38/Constraints!$D$38+1,(Roadside!$F$15*Roadside!$F$16-1)*Constraints!$H$38/Constraints!$D$38+1))))","v":1},{"$f":"IF(E24=INDEX(MedConf_Header,1,2),(IF(E183<=3,1,IF(OR(E183=4,E183=5),(Roadside!$F$15-1)*Constraints!$H$24/Constraints!$D$24+1,(Roadside!$F$15*Roadside!$F$16-1)*Constraints!$H$24/Constraints!$D$24+1))),(IF(E183<=3,1,IF(OR(E183=4,E183=5),(Roadside!$F$15-1)*Constraints!$H$38/Constraints!$D$38+1,(Roadside!$F$15*Roadside!$F$16-1)*Constraints!$H$38/Constraints!$D$38+1))))","v":0.84302377525189853},{"$f":"IF(F24=INDEX(MedConf_Header,1,2),(IF(F183<=3,1,IF(OR(F183=4,F183=5),(Roadside!$F$15-1)*Constraints!$H$24/Constraints!$D$24+1,(Roadside!$F$15*Roadside!$F$16-1)*Constraints!$H$24/Constraints!$D$24+1))),(IF(F183<=3,1,IF(OR(F183=4,F183=5),(Roadside!$F$15-1)*Constraints!$H$38/Constraints!$D$38+1,(Roadside!$F$15*Roadside!$F$16-1)*Constraints!$H$38/Constraints!$D$38+1))))","v":1},{"$f":"IF(G24=INDEX(MedConf_Header,1,2),(IF(G183<=3,1,IF(OR(G183=4,G183=5),(Roadside!$F$15-1)*Constraints!$H$24/Constraints!$D$24+1,(Roadside!$F$15*Roadside!$F$16-1)*Constraints!$H$24/Constraints!$D$24+1))),(IF(G183<=3,1,IF(OR(G183=4,G183=5),(Roadside!$F$15-1)*Constraints!$H$38/Constraints!$D$38+1,(Roadside!$F$15*Roadside!$F$16-1)*Constraints!$H$38/Constraints!$D$38+1))))","v":1},{"$f":"IF($I$2=\"Existing\",(D184),(IF($I$2=\"Design 1\",(F184),(IF($I$2=\"Design 2\",(G184),(IF($I$2=\"Optimal\",(I184),E184)))))))","v":0.84302377525189853},{"$f":"IF(I24=INDEX(MedConf_Header,1,2),(IF(I183<=3,1,IF(OR(I183=4,I183=5),(Roadside!$F$15-1)*Constraints!$H$24/Constraints!$D$24+1,(Roadside!$F$15*Roadside!$F$16-1)*Constraints!$H$24/Constraints!$D$24+1))),(IF(I183<=3,1,IF(OR(I183=4,I183=5),(Roadside!$F$15-1)*Constraints!$H$38/Constraints!$D$38+1,(Roadside!$F$15*Roadside!$F$16-1)*Constraints!$H$38/Constraints!$D$38+1))))","v":0.79533290316176108},null,{"$f":"INDEX($D184:$I184,K$100)","v":1},{"$f":"INDEX($D184:$I184,L$100)","v":0.84302377525189853},{"$f":"IF(ISERROR(1-L184/K184), 0, 1-L184/K184)","v":0.15697622474810147},null,0]
[null,null,"Backslope",1,1,1,1,{"$f":"IF($I$2=\"Existing\",(D185),(IF($I$2=\"Design 1\",(F185),(IF($I$2=\"Design 2\",(G185),(IF($I$2=\"Optimal\",(I185),E185)))))))","v":1},1,null,{"$f":"INDEX($D185:$I185,K$100)","v":1},{"$f":"INDEX($D185:$I185,L$100)","v":1},0,null,0]
[null,null,"SafetyEdge",{"$f":"IF(D24=INDEX(MedConf_Header,1,2),(IF(D$77=\"No\",1,(Roadside!$F$23-1)*AVERAGE(Constraints!$H$24,Constraints!$F$24)/Constraints!$D$24+1)),(IF(D$77=\"No\",1,(Roadside!$F$23-1)*AVERAGE(Constraints!$H$38,Constraints!$F$38)/Constraints!$D$38+1)))","v":0.97711209540034072},{"$f":"IF(E$77=\"No\",1,(Roadside!$F$23-1)*AVERAGE(Constraints!$H$24,Constraints!$F$24)/Constraints!$D$24+1)","v":1},{"$f":"IF(F24=INDEX(MedConf_Header,1,2),(IF(F$77=\"No\",1,(Roadside!$F$23-1)*AVERAGE(Constraints!$H$24,Constraints!$F$24)/Constraints!$D$24+1)),(IF(F$77=\"No\",1,(Roadside!$F$23-1)*AVERAGE(Constraints!$H$38,Constraints!$F$38)/Constraints!$D$38+1)))","v":0.97711209540034072},{"$f":"IF(G24=INDEX(MedConf_Header,1,2),(IF(G$77=\"No\",1,(Roadside!$F$23-1)*AVERAGE(Constraints!$H$24,Constraints!$F$24)/Constraints!$D$24+1)),(IF(G$77=\"No\",1,(Roadside!$F$23-1)*AVERAGE(Constraints!$H$38,Constraints!$F$38)/Constraints!$D$38+1)))","v":0.97711209540034072},{"$f":"IF($I$2=\"Existing\",(D186),(IF($I$2=\"Design 1\",(F186),(IF($I$2=\"Design 2\",(G186),(IF($I$2=\"Optimal\",(I186),E186)))))))","v":1},{"$f":"IF(I$77=\"No\",1,(Roadside!$F$23-1)*AVERAGE(Constraints!$H$24,Constraints!$F$24)/Constraints!$D$24+1)","v":0.97526887377773364},null,{"$f":"INDEX($D186:$I186,K$100)","v":0.97711209540034072},{"$f":"INDEX($D186:$I186,L$100)","v":1},-2.3424031600265627E-2,null,-2.8188991921691331E-2]
[null,null,"Lateral Clearance (ft)",{"$f":"IF(D24=INDEX(MedConf_Header,1,2),(IF($B$31=\"Yes\",((EXP(LN(Roadside!$F$11)*(IF(D$79=\"None\",40,D$78)-30)/30)-1))*Constraints!$H$17/Constraints!$D$24+1,((EXP(LN(Roadside!$F$10)*(IF(D$79=\"None\",40,D$78)-30)/30)-1))*Constraints!$H$17/Constraints!$D$24+1)),(IF($B$31=\"Yes\",((EXP(LN(Roadside!$F$11)*(IF(D$79=\"None\",40,D$78)-30)/30)-1))*Constraints!$H$31/Constraints!$D$38+1,((EXP(LN(Roadside!$F$10)*(IF(D$79=\"None\",40,D$78)-30)/30)-1))*Constraints!$H$31/Constraints!$D$38+1)))","v":1.0472592444132678},{"$f":"IF(E24=INDEX(MedConf_Header,1,2),(IF($B$31=\"Yes\",((EXP(LN(Roadside!$F$11)*(IF(E$79=\"None\",40,E$78)-30)/30)-1))*Constraints!$H$17/Constraints!$D$24+1,((EXP(LN(Roadside!$F$10)*(IF(E$79=\"None\",40,E$78)-30)/30)-1))*Constraints!$H$17/Constraints!$D$24+1)),(IF($B$31=\"Yes\",((EXP(LN(Roadside!$F$11)*(IF(E$79=\"None\",40,E$78)-30)/30)-1))*Constraints!$H$31/Constraints!$D$38+1,((EXP(LN(Roadside!$F$10)*(IF(E$79=\"None\",40,E$78)-30)/30)-1))*Constraints!$H$31/Constraints!$D$38+1)))","v":0.97942029665168673},{"$f":"IF(F24=INDEX(MedConf_Header,1,2),(IF($B$31=\"Yes\",((EXP(LN(Roadside!$F$11)*(IF(F$79=\"None\",40,F$78)-30)/30)-1))*Constraints!$H$17/Constraints!$D$24+1,((EXP(LN(Roadside!$F$10)*(IF(F$79=\"None\",40,F$78)-30)/30)-1))*Constraints!$H$17/Constraints!$D$24+1)),(IF($B$31=\"Yes\",((EXP(LN(Roadside!$F$11)*(IF(F$79=\"None\",40,F$78)-30)/30)-1))*Constraints!$H$31/Constraints!$D$38+1,((EXP(LN(Roadside!$F$10)*(IF(F$79=\"None\",40,F$78)-30)/30)-1))*Constraints!$H$31/Constraints!$D$38+1)))","v":1.0472592444132678},{"$f":"IF(G24=INDEX(MedConf_Header,1,2),(IF($B$31=\"Yes\",((EXP(LN(Roadside!$F$11)*(IF(G$79=\"None\",40,G$78)-30)/30)-1))*Constraints!$H$17/Constraints!$D$24+1,((EXP(LN(Roadside!$F$10)*(IF(G$79=\"None\",40,G$78)-30)/30)-1))*Constraints!$H$17/Constraints!$D$24+1)),(IF($B$31=\"Yes\",((EXP(LN(Roadside!$F$11)*(IF(G$79=\"None\",40,G$78)-30)/30)-1))*Constraints!$H$31/Constraints!$D$38+1,((EXP(LN(Roadside!$F$10)*(IF(G$79=\"None\",40,G$78)-30)/30)-1))*Constraints!$H$31/Constraints!$D$38+1)))","v":1.0472592444132678},{"$f":"IF($I$2=\"Existing\",(D187),(IF($I$2=\"Design 1\",(F187),(IF($I$2=\"Design 2\",(G187),(IF($I$2=\"Optimal\",(I187),E187)))))))","v":0.97942029665168673},{"$f":"IF(I24=INDEX(MedConf_Header,1,2),(IF($B$31=\"Yes\",((EXP(LN(Roadside!$F$11)*(IF(I$79=\"None\",40,I$78)-30)/30)-1))*Constraints!$H$17/Constraints!$D$24+1,((EXP(LN(Roadside!$F$10)*(IF(I$79=\"None\",40,I$78)-30)/30)-1))*Constraints!$H$17/Constraints!$D$24+1)),(IF($B$31=\"Yes\",((EXP(LN(Roadside!$F$11)*(IF(I$79=\"None\",40,I$78)-30)/30)-1))*Constraints!$H$31/Constraints!$D$38+1,((EXP(LN(Roadside!$F$10)*(IF(I$79=\"None\",40,I$78)-30)/30)-1))*Constraints!$H$31/Constraints!$D$38+1)))","v":0.97942029665168673},null,{"$f":"INDEX($D187:$I187,K$100)","v":1.0472592444132678},{"$f":"INDEX($D187:$I187,L$100)","v":0.97942029665168673},6.4777606999867676E-2,null,9.0307162971216326E-2]
[null,null,"Roadside Obstruction Type",{"$f":"IF(D24=INDEX(MedConf_Header,1,2),(IF(D$79=\"Guardrail\",(Roadside!$F$25-1)*(($I$78-D$78)/$I$78)^2*Constraints!$H$17/Constraints!$D$24+1,1)),(IF(D$79=\"Guardrail\",(Roadside!$F$25-1)*(($I$78-D$78)/$I$78)^2*Constraints!$H$31/Constraints!$D$38+1,1)))","v":1},{"$f":"IF(E24=INDEX(MedConf_Header,1,2),(IF(E$79=\"Guardrail\",(Roadside!$F$25-1)*(($I$78-E$78)/$I$78)^2*Constraints!$H$17/Constraints!$D$24+1,1)),(IF(E$79=\"Guardrail\",(Roadside!$F$25-1)*(($I$78-E$78)/$I$78)^2*Constraints!$H$31/Constraints!$D$38+1,1)))","v":1},{"$f":"IF(F24=INDEX(MedConf_Header,1,2),(IF(F$79=\"Guardrail\",(Roadside!$F$25-1)*(($I$78-F$78)/$I$78)^2*Constraints!$H$17/Constraints!$D$24+1,1)),(IF(F$79=\"Guardrail\",(Roadside!$F$25-1)*(($I$78-F$78)/$I$78)^2*Constraints!$H$31/Constraints!$D$38+1,1)))","v":1},{"$f":"IF(G24=INDEX(MedConf_Header,1,2),(IF(G$79=\"Guardrail\",(Roadside!$F$25-1)*(($I$78-G$78)/$I$78)^2*Constraints!$H$17/Constraints!$D$24+1,1)),(IF(G$79=\"Guardrail\",(Roadside!$F$25-1)*(($I$78-G$78)/$I$78)^2*Constraints!$H$31/Constraints!$D$38+1,1)))","v":1},{"$f":"IF($I$2=\"Existing\",(D188),(IF($I$2=\"Design 1\",(F188),(IF($I$2=\"Design 2\",(G188),(IF($I$2=\"Optimal\",(I188),E188)))))))","v":1},{"$f":"IF(I24=INDEX(MedConf_Header,1,2),(IF(I$79=\"Guardrail\",(Roadside!$F$25-1)*(($I$78-I$78)/$I$78)^2*Constraints!$H$17/Constraints!$D$24+1,1)),(IF(I$79=\"Guardrail\",(Roadside!$F$25-1)*(($I$78-I$78)/$I$78)^2*Constraints!$H$31/Constraints!$D$38+1,1)))","v":1},null,{"$f":"INDEX($D188:$I188,K$100)","v":1},{"$f":"INDEX($D188:$I188,L$100)","v":1},0,null,0]
[null,null,null,null,null,null,null,null,null,null,{"$f":"INDEX($D189:$I189,K$100)","v":0},{"$f":"INDEX($D189:$I189,L$100)","v":0},0]
[null,null,null,null,null,null,null,null,null,null,{"$f":"INDEX($D190:$I190,K$100)","v":0},{"$f":"INDEX($D190:$I190,L$100)","v":0},0]
[null,null,"COMBINED Calculated CMF",{"$f":"+D184*D185*D186*D187*D188","v":1.0232896747360256},{"$f":"+E184*E185*E186*E187*E188","v":0.82567459604163929},1.0232896747360256,1.0232896747360256,{"$f":"IF($I$2=\"Existing\",(D191),(IF($I$2=\"Design 1\",(F191),(IF($I$2=\"Design 2\",(G191),(IF($I$2=\"Optimal\",(I191),E191)))))))","v":0.82567459604163929},{"$f":"+I184*I185*I186*I187*I188","v":0.75970050156555824},null,{"$f":"INDEX($D191:$I191,K$100)","v":1.0232896747360256},{"$f":"INDEX($D191:$I191,L$100)","v":0.82567459604163929},0.1931174364144389]
[null,null,"Calculated Relative to Design Standards (Column E)",{"$f":"+D191/$E$191","v":1.2393377241370527},{"$f":"+E191/$E$191","v":1},1.2393377241370527,1.2393377241370527,1,{"$f":"+I191/$E$191","v":0.92009673690777583},null,{"$f":"INDEX($D192:$I192,K$100)","v":1.2393377241370527},{"$f":"INDEX($D192:$I192,L$100)","v":1},0.1931174364144389]
[null,null,"P(Crash)",{"$f":"+D192/(D192+1)","v":0.55343939896990835},0.5,0.55343939896990835,0.55343939896990835,0.5,{"$f":"+I192/(I192+1)","v":0.47919290691027777},null,{"$f":"INDEX($D193:$I193,K$100)","v":0.55343939896990835},{"$f":"INDEX($D193:$I193,L$100)","v":0.5},9.6558718207219618E-2]
[null,null,"Factor Change on S curve",{"$f":"+D193/$E$193","v":1.1068787979398167},{"$f":"+E193/$E$193","v":1},1.1068787979398167,1.1068787979398167,1,{"$f":"+I193/$E$193","v":0.95838581382055554},null,{"$f":"INDEX($D194:$I194,K$100)","v":1.1068787979398167},{"$f":"INDEX($D194:$I194,L$100)","v":1},9.6558718207219618E-2]
[null,null,"Adjust to Scale of 100",{"$f":"+$I$118/D194*100","v":{"$error":"#VALUE!"}},{"$error":"#VALUE!"},{"$error":"#VALUE!"},{"$error":"#VALUE!"},{"$error":"#VALUE!"},{"$f":"+$I$118/I194*100","v":{"$error":"#VALUE!"}},null,{"$f":"INDEX($D195:$I195,K$100)","v":{"$error":"#VALUE!"}},{"$f":"INDEX($D195:$I195,L$100)","v":{"$error":"#VALUE!"}},0]
[null,null,"Unadjusted Combined Relative to Standard",{"$f":"+D191/$E$191","v":1.2393377241370527},{"$f":"+E191/$E$191","v":1},1.2393377241370527,1.2393377241370527,1,{"$f":"+I191/$E$191","v":0.92009673690777583},{"$f":"I202/E202","v":1.0810810810810811},{"$f":"INDEX($D196:$I196,K$100)","v":1.2393377241370527},{"$f":"INDEX($D196:$I196,L$100)","v":1},0.1931174364144389]
[null,null,null,null,null,null,null,null,null,null,{"$f":"INDEX($D197:$I197,K$100)","v":0},{"$f":"INDEX($D197:$I197,L$100)","v":0},0]
[null,null,"Adjusted for PA Basis",{"$f":"+D191*(1+1)/(1+D191*1)","v":1.0115107960203793},0.90451452611745442,1.0115107960203793,1.0115107960203793,{"$f":"IF($I$2=\"Existing\",(D198),(IF($I$2=\"Design 1\",(F198),(IF($I$2=\"Design 2\",(G198),(IF($I$2=\"Optimal\",(I198),E198)))))))","v":0.90451452611745442},{"$f":"+I191*(1+1)/(1+I191*1)","v":0.86344295621859868},null,{"$f":"INDEX($D198:$I198,K$100)","v":1.0115107960203793},{"$f":"INDEX($D198:$I198,L$100)","v":0.90451452611745442},0.10577867317272727]
[null,null,"Corrected by Odds Ratio",{"$f":"+D191/$E$191","v":1.2393377241370527},{"$f":"+E191/$E$191","v":1},1.2393377241370527,1.2393377241370527,{"$f":"IF($I$2=\"Existing\",(D199),(IF($I$2=\"Design 1\",(F199),(IF($I$2=\"Design 2\",(G199),(IF($I$2=\"Optimal\",(I199),E199)))))))","v":1},{"$f":"+I191/$E$191","v":0.92009673690777583},{"$f":"I205/E205","v":1.4814814814814814},{"$f":"INDEX($D199:$I199,K$100)","v":1.2393377241370527},{"$f":"INDEX($D199:$I199,L$100)","v":1},0.1931174364144389]
[null,null,null,{"$f":"(1/D199)^$D203","v":1.8666691582346016E-8},{"$f":"(1/E199)^$D203","v":1},1.8666691582346016E-8,1.8666691582346016E-8,1,998.99999999999955]
[null,null,null,{"$f":"(D200+$F204-1)/(1+(D200+$F204-1))","v":0.50000000466667294},{"$f":"(E200+$F204-1)/(1+(E200+$F204-1))","v":0.66666666666666663},0.50000000466667294,0.50000000466667294,0.66666666666666663,0.99900099900099903]
[null,null,"Score Odds Ratio with Optimal as 100 (old)",{"$f":"MIN(ROUND($I$199/D199*Construction!$I$4,0),$I202)","v":30},{"$f":"MIN(ROUND($I$199/E199*Construction!$I$4,0),$I202)","v":37},{"$f":"MIN(ROUND($I$199/F199*Construction!$I$4,0),$I202)","v":30},{"$f":"MIN(ROUND($I$199/G199*Construction!$I$4,0),$I202)","v":30},null,{"$f":"ROUND($I$199/I199*Construction!$I$4,0)","v":40}]
[null,null,"Logistic1",{"$f":"LN((D204/(1-D204))/(0.5/0.5))/LN($E199/I199)","v":82.937655007418002}]
[null,null,"Logistic Param",0.999,null,2]
[null,null,"Score ",{"$f":"MIN(ROUND(D201*Construction!$I$4,0),$I202)","v":20},{"$f":"MIN(ROUND(E201*Construction!$I$4,0),$I202)","v":27},{"$f":"MIN(ROUND(F201*Construction!$I$4,0),$I202)","v":20},{"$f":"MIN(ROUND(G201*Construction!$I$4,0),$I202)","v":20},null,{"$f":"MIN(ROUND(I201*Construction!$I$4,0),$I202)","v":40}]
[]
[]
[]
[]
[null,null,{"$f":"D87/D183","v":{"$error":"#DIV/0!"}},null,{"$f":"ROUNDUP((MIN($I$14,$I$15)-E27-E28)/$C$210,0)","v":{"$error":"#DIV/0!"}},{"$f":"ROUNDUP((MIN($I$14,$I$15)-F27-F28)/$C$210,0)","v":{"$error":"#DIV/0!"}},{"$f":"ROUNDUP((MIN($I$14,$I$15)-G27-G28)/$C$210,0)","v":{"$error":"#DIV/0!"}},null,{"$f":"ROUNDUP((MIN($I$14,$I$15)-I27-I28)/$C$210,0)","v":{"$error":"#DIV/0!"}}]
[]
[]
[null,null,"Distance to low point","Distance to low point",{"$f":"$C$210*E183","v":{"$error":"#DIV/0!"}},{"$f":"$C$210*F183","v":{"$error":"#DIV/0!"}},{"$error":"#DIV/0!"},null,{"$f":"$C$210*I183","v":{"$error":"#DIV/0!"}}]
[null,null,null,"Additional ROW1 Needed for Foreslope",{"$f":"IF(E213>($I$14-E27-E28),E213-($I$14-E27-E28),0)","v":{"$error":"#DIV/0!"}},{"$f":"IF(F213>($I$14-F27-F28),F213-($I$14-F27-F28),0)","v":{"$error":"#DIV/0!"}},{"$f":"IF(G213>($I$14-G27-G28),G213-($I$14-G27-G28),0)","v":{"$error":"#DIV/0!"}},null,{"$f":"IF(I213>($I$14-I27-I28),I213-($I$14-I27-I28),0)","v":{"$error":"#DIV/0!"}}]
[null,null,null,"Additional ROW2 Needed for Foreslope",{"$f":"IF(E213>($I$15-E27-E28),E213-($I$15-E27-E28),0)","v":{"$error":"#DIV/0!"}},{"$f":"IF(F213>($I$15-F27-F28),F213-($I$15-F27-F28),0)","v":{"$error":"#DIV/0!"}},{"$f":"IF(G213>($I$15-G27-G28),G213-($I$15-G27-G28),0)","v":{"$error":"#DIV/0!"}},null,{"$f":"IF(I213>($I$15-I27-I28),I213-($I$15-I27-I28),0)","v":{"$error":"#DIV/0!"}}]
[]
[null,null,null,"Additional ROW1 Needed for Lateral Clearance",{"$f":"IF((CL251+E30)-$I$14<0,0,(CL251+E30)-$I$14)","v":2},{"$f":"IF((CM251+F30)-$I$14<0,0,(CM251+F30)-$I$14)","v":0},{"$f":"IF((CN251+G30)-$I$14<0,0,(CN251+G30)-$I$14)","v":0},null,{"$f":"IF((CP251+I30)-$I$14<0,0,(CP251+I30)-$I$14)","v":2}]
[null,null,null,"Additional ROW2 Needed for Lateral Clearance",{"$f":"IF((CL251+E30)-$I$15<0,0,(CL251+E30)-$I$15)","v":2},{"$f":"IF((CM251+F30)-$I$15<0,0,(CM251+F30)-$I$15)","v":0},{"$f":"IF((CN251+G30)-$I$15<0,0,(CN251+G30)-$I$15)","v":0},null,{"$f":"IF((CP251+I30)-$I$15<0,0,(CP251+I30)-$I$15)","v":2}]
[]
[]
[]
[]
[]
[]
[]
[]
[]
[]
[]
[null,null,"For Vertical Opt Use when Yes Vertical:"]
[null,null,"G1",{"$f":"D40","v":0},null,{"$f":"F40","v":0},{"$f":"G40","v":0},null,{"$f":"IF(ISERROR($E$238),\"\",INDEX(D231:G231,$E$238))","v":""}]
[null,null,"G2",{"$f":"D41","v":0},null,{"$f":"F41","v":0},{"$f":"G41","v":0},null,{"$f":"IF(ISERROR($E$238),\"\",INDEX(D232:G232,$E$238))","v":""}]
[null,null,"abs(G2-G1)",{"$f":"ABS(D40-D41)","v":0},null,{"$f":"ABS(F40-F41)","v":0},{"$f":"ABS(G40-G41)","v":0}]
[null,null,"Count in indicator (K no change; or K change but accept)",{"$f":"IF(D43<>\"\",1,\"\")","v":""},null,{"$f":"IF(OR(AND($B$38 = \"Yes\", $D$43 <> F43, F43 <>\"\", $D$43 <> \"\", F45=\"Yes.\"),AND($B$38 = \"Yes\", $D$43 = F43, F43 <>\"\", $D$43 <> \"\")), 1,\"\")","v":""},{"$f":"IF(OR(AND($B$38 = \"Yes\", $D$43 <> G43, G43 <>\"\", $D$43 <> \"\", G45=\"Yes.\"),AND($B$38 = \"Yes\", $D$43 = G43, G43 <>\"\", $D$43 <> \"\")), 1,\"\")","v":""}]
[]
[null,null,"Valid abs(G2-G1)",{"$f":"IF(ISERROR(D233*D234),\"\",D233*D234)","v":""},null,{"$f":"IF(ISERROR(F233*F234),\"\",F233*F234)","v":""},{"$f":"IF(ISERROR(G233*G234),\"\",G233*G234)","v":""}]
[null,null,"The min valid abs(G2-G1)",null,{"$f":"MIN(D236,F236,G236)","v":0}]
[null,null,"Index",null,{"$f":"MATCH(E237,D236:G236,0)","v":{"$error":"#N/A"}}]
[]
[null,null,"For Vertical Opt Use When No Vertical:"]
[null,null,"G1",{"$f":"IF(ISBLANK(D40), 999, D40)","v":999},null,{"$f":"IF(ISBLANK(F40), 999, F40)","v":999},{"$f":"IF(ISBLANK(G40), 999, G40)","v":999},null,{"$f":"IF(E246=999,\"\",E246)","v":""}]
[null,null,"Sign of G1",{"$f":"IF(D241>=0,1,-1)","v":1},null,{"$f":"IF(F241>=0,1,-1)","v":1},{"$f":"IF(G241>=0,1,-1)","v":1}]
[null,null,"Abs G1",{"$f":"ABS(D241)","v":999},null,{"$f":"ABS(F241)","v":999},{"$f":"ABS(G241)","v":999}]
[null,null,"Min Abs G1",null,{"$f":"MIN(D243:G243)","v":999}]
[null,null,"Which is the Best G1",null,{"$f":"MATCH(E244,D243:G243,0)","v":1}]
[null,null,"Best G1 Value",null,{"$f":"INDEX(D241:G241,1,E245)","v":999}]
[]
[]
[null,null,"Check if all cells filled",{"$f":"SUM(D251:D314)","v":19},{"$f":"SUM(E251:E314)","v":1},19,19,0,0]
[]
[null,null,{"$f":"C24","v":"Configuration of Multilane Roadway"},{"$f":"IF(ISBLANK(D24),1,0)","v":1},{"$f":"IF(ISBLANK(E24),1,0)","v":0},1,1,null,0]
[null,null,{"$f":"C25","v":"Median Configuration (Width or Type)"},{"$f":"IF(AND(D24<>\"No Median\", ISBLANK(D25)),1,0)","v":1},0,{"$f":"IF(AND(F24<>\"No Median\", ISBLANK(F25)),1,0)","v":1},{"$f":"IF(AND(G24<>\"No Median\", ISBLANK(G25)),1,0)","v":1},null,0]
[]
[null,null,"Lane Width (feet)",{"$f":"IF(ISBLANK(D27),1,0)","v":1},0,1,1,null,{"$f":"IF(ISBLANK(I27),1,0)","v":0}]
[null,null,"Average Outside Shoulder Width (feet)",1,0,1,1,null,0]
[null,null,"Average Inside Shoulder Width (feet)",1,0,1,1,null,0]
[null,null,"Number of Lanes per Direction of Travel",1,0,1,1,null,0]
[null,null,"Horizontal Curve Present?"]
[null,null,"Horizontal Curve Data for Controlling Element:"]
[null,null,"  Radius (feet)",{"$f":"IF(AND($B$31=\"Yes\", ISBLANK(D33)),1,0)","v":0},null,{"$f":"IF(AND($B$31=\"Yes\", ISBLANK(F33)),1,0)","v":0},{"$f":"IF(AND($B$31=\"Yes\", ISBLANK(G33)),1,0)","v":0},null,{"$f":"IF(ISBLANK(I33),1,0)","v":0}]
[null,null,"Length of Horizontal Curve (feet)",{"$f":"IF(AND($B$31=\"Yes\", ISBLANK(D34)),1,0)","v":0},null,{"$f":"IF(AND($B$31=\"Yes\", ISBLANK(F34)),1,0)","v":0},{"$f":"IF(AND($B$31=\"Yes\", ISBLANK(G34)),1,0)","v":0},null,0]
[null,null,"Calculated Deflection Angle ∆"]
[]
[null,null,null,null,null,{"$f":"IF(AND($B$31 = \"Yes\", $D$35 <> F35, F35<>\"\",ISBLANK(F37)),1,0)","v":0},{"$f":"IF(AND($B$31 = \"Yes\", $D$35 <> G35, G35<>\"\",ISBLANK(G37)),1,0)","v":0}]
[null,null,"Vertical Curve Present?"]
[null,null,"Vertical Curve Data for Controlling Element:"]
[null,null,"  Approach (Entry) Grade, G1 (%)",{"$f":"IF(ISBLANK(D40),1,0)","v":1},0,1,1,null,{"$f":"IF(ISBLANK(I40),1,0)","v":0}]
[null,null,"  Departure (Exit) Grade, G2 (%)",{"$f":"IF(AND($B$38=\"Yes\", ISBLANK(D41)),1,0)","v":0},{"$f":"IF(AND($B$38=\"Yes\", ISBLANK(E41)),1,0)","v":0},0,0,null,0]
[null,null,"  Length (feet)",{"$f":"IF(AND($B$38=\"Yes\", ISBLANK(D42)),1,0)","v":0},0,0,0,null,0]
[null,null,"  Calculated Rate of Change, K (ft/ft)"]
[]
[]
[null,null,"  Calculated Sag or Crest?"]
[]
[]
[null,null,"Geometric Design Element (Partial Score)"]
[null,null,"Total Safety Score"]
[]
[]
[]
[]
[]
[null,null,"Advance Static Curve Warning Signs",{"$f":"IF(AND($B$31=\"Yes\", ISBLANK(D56)),1,0)","v":0},{"$f":"IF(AND($B$31=\"Yes\", ISBLANK(E56)),1,0)","v":0},0,0,null,{"$f":"IF(ISBLANK(I56),1,0)","v":0}]
[null,null,"Chevron Signs on Horizontal Curves",{"$f":"IF(AND($B$31=\"Yes\", ISBLANK(D57)),1,0)","v":0},0,0,0,null,0]
[null,null,"Post-Mounted Delineators",0,0,0,0,null,0]
[null,null,"Edgeline Pavement Markings or Profile Markings",{"$f":"IF(ISBLANK(D59),1,0)","v":1},0,1,1,null,0]
[null,null,"Shoulder Rumble Strips",1,0,1,1,null,0]
[null,null,"Centerline Rumble Strips",1,0,1,1,null,0]
[null,null,"Driveway Density (driveways per mile)",1,0,1,1,null,0]
[null,null,"Lighting",1,0,1,1,null,0]
[null,null,"Pavement Friction (skid number) ***",1,0,1,1,null,0]
[null,null,"Traffic Control Element (Partial Score):"]
[null,null,"Total Safety Score"]
[]
[]
[]
[]
[]
[]
[]
[]
[null,null,"Roadside Sideslope (Foreslope)",{"$f":"IF(ISBLANK(D75),1,0)","v":1},0,1,1,null,{"$f":"IF(ISBLANK(I75),1,0)","v":0}]
[null,null,"Roadside Backslope",1,0,1,1,null,0]
[null,null,"Safety Edge",1,0,1,1,null,0]
[null,null,"Roadside Lateral Clearance to Obstruction (ft)",1,0,1,1,null,0]
[null,null,"Roadside Obstruction Type",1,0,1,1,null,0]
[null,null,"Roadside Element (Partial Score):"]
[null,null,"Total Safety Score"]
[]
[]
[]
[]
[]
[null,null,"Distance to Slope Toe from Shoulder (ft)",{"$f":"IF(ISBLANK(D87),1,0)","v":1},{"$f":"D314","v":1},{"$f":"E314","v":1},1,null,0]
[null,null,null,null,null,null,null,null,{"$f":"SUM(I316:I324)","v":9}]
[null,null,null,null,null,null,null,{"$f":"F9","v":"Location "},{"$f":"IF(ISBLANK(I9),1,0)","v":1}]
[null,null,null,null,null,null,null,{"$f":"F10","v":"Design Speed (mph)"},{"$f":"IF(ISBLANK(I10),1,0)","v":1}]
[null,null,null,null,null,null,null,"Posted Speed (mph)",1]
[null,null,null,null,null,null,null,"E max (%)",1]
[null,null,null,null,null,null,null,"    Design Year AADT (vehicles per day)",1]
[null,null,null,null,null,null,null,"    Dist. from Centerline to Left   ROW (feet)",1]
[null,null,null,null,null,null,null,"    Dist. from Centerline to Right ROW (feet)",1]
[null,null,null,null,null,null,null,"H CV",{"$f":"IF(ISBLANK(B31),1,0)","v":1}]
[null,null,null,null,null,null,null,"V HV",{"$f":"IF(ISBLANK(B38),1,0)","v":1}]
[]
[]
[]
[]
[]
[]
[]
[]
[]
[]
[]
[]
[]
[]
[]
[]
[]
[]
[]
[]
[]
[]
[]
[]
[]
[]
[]
[]
[]
[]
[]
[]
[]
[]
[]
[]
[]
[]
[]
[]
[]
[]
[]
[]
[]
[]
[]
[]
[]
[]
[]
[]
[]
[]
[1]
[22]
[21]
[20]
[19,null,null,{"$f":"Constraints!P174","v":"Emax=6%"}]
[18]
[17,null,{"$f":"HLOOKUP($I$10,Constraints!$Q$176:AD197,A379,TRUE)","v":{"$error":"#N/A"}},{"$f":"Constraints!P176","v":"super"}]
[16,null,{"$f":"HLOOKUP($I$10,Constraints!$Q$176:AD198,A380,TRUE)","v":{"$error":"#N/A"}},{"$f":"Constraints!P197","v":6},1050]
[15,null,{"$f":"HLOOKUP($I$10,Constraints!$Q$176:AD199,A381,TRUE)","v":{"$error":"#N/A"}},{"$f":"Constraints!P196","v":5.8}]
[14,null,{"$f":"HLOOKUP($I$10,Constraints!$Q$176:AD200,A382,TRUE)","v":{"$error":"#N/A"}},{"$f":"Constraints!P195","v":5.6}]
[13,null,{"$f":"HLOOKUP($I$10,Constraints!$Q$176:AD201,A383,TRUE)","v":{"$error":"#N/A"}},{"$f":"Constraints!P194","v":5.4}]
[12,null,{"$f":"HLOOKUP($I$10,Constraints!$Q$176:AD202,A384,TRUE)","v":{"$error":"#N/A"}},{"$f":"Constraints!P193","v":5.2}]
[11,null,{"$f":"HLOOKUP($I$10,Constraints!$Q$176:AD203,A385,TRUE)","v":{"$error":"#N/A"}},{"$f":"Constraints!P192","v":5}]
[10,null,{"$f":"HLOOKUP($I$10,Constraints!$Q$176:AD204,A386,TRUE)","v":{"$error":"#N/A"}},{"$f":"Constraints!P191","v":4.8}]
[9,null,{"$f":"HLOOKUP($I$10,Constraints!$Q$176:AD205,A387,TRUE)","v":{"$error":"#N/A"}},{"$f":"Constraints!P190","v":4.5999999999999996}]
[8,null,{"$f":"HLOOKUP($I$10,Constraints!$Q$176:AD206,A388,TRUE)","v":{"$error":"#N/A"}},{"$f":"Constraints!P189","v":4.4000000000000004}]
[7,null,{"$f":"HLOOKUP($I$10,Constraints!$Q$176:AD207,A389,TRUE)","v":{"$error":"#N/A"}},{"$f":"Constraints!P188","v":4.2}]
[6,null,{"$f":"HLOOKUP($I$10,Constraints!$Q$176:AD208,A390,TRUE)","v":{"$error":"#N/A"}},{"$f":"Constraints!P187","v":4}]
[5,null,{"$f":"HLOOKUP($I$10,Constraints!$Q$176:AD209,A391,TRUE)","v":{"$error":"#N/A"}},{"$f":"Constraints!P186","v":3.8}]
[4,null,{"$f":"HLOOKUP($I$10,Constraints!$Q$176:AD210,A392,TRUE)","v":{"$error":"#N/A"}},{"$f":"Constraints!P185","v":3.6}]
[3,null,{"$f":"HLOOKUP($I$10,Constraints!$Q$176:AD211,A393,TRUE)","v":{"$error":"#N/A"}},{"$f":"Constraints!P184","v":3.4}]
[2,null,{"$f":"HLOOKUP($I$10,Constraints!$Q$176:AD212,A394,TRUE)","v":{"$error":"#N/A"}},{"$f":"Constraints!P183","v":3.2}]
[null,null,{"$f":"HLOOKUP($I$10,Constraints!$Q$176:AD213,A395,TRUE)","v":{"$error":"#N/A"}},{"$f":"Constraints!P182","v":3}]
[null,null,{"$f":"HLOOKUP($I$10,Constraints!$Q$176:AD214,A396,TRUE)","v":{"$error":"#N/A"}},{"$f":"Constraints!P181","v":2.8}]
[null,null,{"$f":"HLOOKUP($I$10,Constraints!$Q$176:AD215,A397,TRUE)","v":{"$error":"#N/A"}},{"$f":"Constraints!P180","v":2.6}]
[null,null,{"$f":"HLOOKUP($I$10,Constraints!$Q$176:AD216,A398,TRUE)","v":{"$error":"#N/A"}},{"$f":"Constraints!P179","v":2.4}]
[null,null,{"$f":"HLOOKUP($I$10,Constraints!$Q$176:AD217,A399,TRUE)","v":{"$error":"#N/A"}},{"$f":"Constraints!P178","v":2.2000000000000002}]
[1,null,{"$f":"HLOOKUP($I$10,Constraints!$Q$176:AD218,A400,TRUE)","v":{"$error":"#N/A"}},{"$f":"Constraints!P177","v":2}]
[32]
[31]
[30]
[29,null,null,{"$f":"Constraints!P201","v":"Emax=8%"}]
[28]
[27,null,{"$f":"HLOOKUP($I$10,Constraints!$Q$203:AD234,A406,TRUE)","v":{"$error":"#N/A"}},{"$f":"Constraints!P203","v":"super"}]
[26,null,{"$f":"HLOOKUP($I$10,Constraints!$Q$203:AD235,A407,TRUE)","v":{"$error":"#N/A"}},{"$f":"INDEX(Constraints!$P$203:$P$234,A407,)","v":8}]
[25,null,{"$f":"HLOOKUP($I$10,Constraints!$Q$203:AD236,A408,TRUE)","v":{"$error":"#N/A"}},{"$f":"INDEX(Constraints!$P$203:$P$234,A408,)","v":7.8}]
[24,null,{"$f":"HLOOKUP($I$10,Constraints!$Q$203:AD237,A409,TRUE)","v":{"$error":"#N/A"}},{"$f":"INDEX(Constraints!$P$203:$P$234,A409,)","v":7.6}]
[23,null,{"$f":"HLOOKUP($I$10,Constraints!$Q$203:AD238,A410,TRUE)","v":{"$error":"#N/A"}},{"$f":"INDEX(Constraints!$P$203:$P$234,A410,)","v":7.4}]
[22,null,{"$f":"HLOOKUP($I$10,Constraints!$Q$203:AD239,A411,TRUE)","v":{"$error":"#N/A"}},{"$f":"INDEX(Constraints!$P$203:$P$234,A411,)","v":7.2}]
[21,null,{"$f":"HLOOKUP($I$10,Constraints!$Q$203:AD240,A412,TRUE)","v":{"$error":"#N/A"}},{"$f":"INDEX(Constraints!$P$203:$P$234,A412,)","v":7}]
[20,null,{"$f":"HLOOKUP($I$10,Constraints!$Q$203:AD241,A413,TRUE)","v":{"$error":"#N/A"}},{"$f":"INDEX(Constraints!$P$203:$P$234,A413,)","v":6.8}]
[19,null,{"$f":"HLOOKUP($I$10,Constraints!$Q$203:AD242,A414,TRUE)","v":{"$error":"#N/A"}},{"$f":"INDEX(Constraints!$P$203:$P$234,A414,)","v":6.6}]
[18,null,{"$f":"HLOOKUP($I$10,Constraints!$Q$203:AD243,A415,TRUE)","v":{"$error":"#N/A"}},{"$f":"INDEX(Constraints!$P$203:$P$234,A415,)","v":6.4}]
[17,null,{"$f":"HLOOKUP($I$10,Constraints!$Q$203:AD244,A416,TRUE)","v":{"$error":"#N/A"}},{"$f":"INDEX(Constraints!$P$203:$P$234,A416,)","v":6.2}]
[16,null,{"$f":"HLOOKUP($I$10,Constraints!$Q$203:AD245,A417,TRUE)","v":{"$error":"#N/A"}},{"$f":"INDEX(Constraints!$P$203:$P$234,A417,)","v":6}]
[15,null,{"$f":"HLOOKUP($I$10,Constraints!$Q$203:AD246,A418,TRUE)","v":{"$error":"#N/A"}},{"$f":"INDEX(Constraints!$P$203:$P$234,A418,)","v":5.8}]
[14,null,{"$f":"HLOOKUP($I$10,Constraints!$Q$203:AD247,A419,TRUE)","v":{"$error":"#N/A"}},{"$f":"INDEX(Constraints!$P$203:$P$234,A419,)","v":5.6}]
[13,null,{"$f":"HLOOKUP($I$10,Constraints!$Q$203:AD248,A420,TRUE)","v":{"$error":"#N/A"}},{"$f":"INDEX(Constraints!$P$203:$P$234,A420,)","v":5.4}]
[12,null,{"$f":"HLOOKUP($I$10,Constraints!$Q$203:AD249,A421,TRUE)","v":{"$error":"#N/A"}},{"$f":"INDEX(Constraints!$P$203:$P$234,A421,)","v":5.2}]
[11,null,{"$f":"HLOOKUP($I$10,Constraints!$Q$203:AD250,A422,TRUE)","v":{"$error":"#N/A"}},{"$f":"INDEX(Constraints!$P$203:$P$234,A422,)","v":5}]
[10,null,{"$f":"HLOOKUP($I$10,Constraints!$Q$203:AD251,A423,TRUE)","v":{"$error":"#N/A"}},{"$f":"INDEX(Constraints!$P$203:$P$234,A423,)","v":4.8}]
[9,null,{"$f":"HLOOKUP($I$10,Constraints!$Q$203:AD252,A424,TRUE)","v":{"$error":"#N/A"}},{"$f":"INDEX(Constraints!$P$203:$P$234,A424,)","v":4.5999999999999996}]
[8,null,{"$f":"HLOOKUP($I$10,Constraints!$Q$203:AD253,A425,TRUE)","v":{"$error":"#N/A"}},{"$f":"INDEX(Constraints!$P$203:$P$234,A425,)","v":4.4000000000000004}]
[7,null,{"$f":"HLOOKUP($I$10,Constraints!$Q$203:AD254,A426,TRUE)","v":{"$error":"#N/A"}},{"$f":"INDEX(Constraints!$P$203:$P$234,A426,)","v":4.2}]
[6,null,{"$f":"HLOOKUP($I$10,Constraints!$Q$203:AD255,A427,TRUE)","v":{"$error":"#N/A"}},{"$f":"INDEX(Constraints!$P$203:$P$234,A427,)","v":4}]
[5,null,{"$f":"HLOOKUP($I$10,Constraints!$Q$203:AD256,A428,TRUE)","v":{"$error":"#N/A"}},{"$f":"INDEX(Constraints!$P$203:$P$234,A428,)","v":3.8}]
[4,null,{"$f":"HLOOKUP($I$10,Constraints!$Q$203:AD257,A429,TRUE)","v":{"$error":"#N/A"}},{"$f":"INDEX(Constraints!$P$203:$P$234,A429,)","v":3.6}]
[3,null,{"$f":"HLOOKUP($I$10,Constraints!$Q$203:AD258,A430,TRUE)","v":{"$error":"#N/A"}},{"$f":"INDEX(Constraints!$P$203:$P$234,A430,)","v":3.4}]
[2,null,{"$f":"HLOOKUP($I$10,Constraints!$Q$203:AD259,A431,TRUE)","v":{"$error":"#N/A"}},{"$f":"INDEX(Constraints!$P$203:$P$234,A431,)","v":3.2}]
[null,null,{"$f":"HLOOKUP($I$10,Constraints!$Q$203:AD260,A432,TRUE)","v":{"$error":"#N/A"}},{"$f":"INDEX(Constraints!$P$203:$P$234,A432,)","v":3}]
[null,null,{"$f":"HLOOKUP($I$10,Constraints!$Q$203:AD261,A433,TRUE)","v":{"$error":"#N/A"}},{"$f":"INDEX(Constraints!$P$203:$P$234,A433,)","v":2.8}]
[null,null,{"$f":"HLOOKUP($I$10,Constraints!$Q$203:AD262,A434,TRUE)","v":{"$error":"#N/A"}},{"$f":"INDEX(Constraints!$P$203:$P$234,A434,)","v":2.6}]
[null,null,{"$f":"HLOOKUP($I$10,Constraints!$Q$203:AD263,A435,TRUE)","v":{"$error":"#N/A"}},{"$f":"INDEX(Constraints!$P$203:$P$234,A435,)","v":2.4}]
[null,null,{"$f":"HLOOKUP($I$10,Constraints!$Q$203:AD264,A436,TRUE)","v":{"$error":"#N/A"}},{"$f":"INDEX(Constraints!$P$203:$P$234,A436,)","v":2.2000000000000002}]
[null,null,{"$f":"HLOOKUP($I$10,Constraints!$Q$203:AD265,A437,TRUE)","v":{"$error":"#N/A"}},{"$f":"INDEX(Constraints!$P$203:$P$234,A437,)","v":2}]

{"sheet":"Configuration 15","index":25,"n_rows":443,"n_cols":113,"rows_kept":443,"cut":false,"hidden":false,"merged":[[87,1,87,2],[88,1,88,2],[89,1,89,2],[97,10,97,12],[69,16,69,21],[69,22,69,23],[70,16,70,21],[70,22,70,23],[71,16,71,21],[71,22,71,23],[68,16,68,21],[68,22,68,23],[17,2,17,8],[18,2,18,8],[19,2,19,8],[20,5,20,7],[41,9,41,10],[46,2,47,2],[4,21,44,28],[48,12,48,19],[55,15,55,16],[55,18,55,19],[55,21,55,22],[67,16,67,23],[4,3,4,4],[9,3,9,4],[9,5,9,6],[10,3,10,4],[10,5,10,6],[8,3,8,4],[8,5,8,6],[12,2,15,4],[12,5,12,6],[13,5,13,6],[14,5,14,6],[11,5,11,6],[1,6,2,7],[1,8,2,8],[1,21,1,37],[2,1,2,4],[2,21,3,28],[2,30,3,37],[3,1,3,4],[3,6,4,7],[3,8,4,8],[4,1,4,2],[4,30,44,37],[5,1,5,2],[5,3,5,4],[6,1,6,7],[7,1,7,4],[7,7,7,8]]}
[]
[null,null,null,null,null,null,"Preferred Schematic View to Display",null,"Standard",null,null,null,null,null,null,null,null,null,null,null,null,"NOTES: "]
[null,"CHARACTERISTICS TO CONSIDER FOR ANALYSIS",null,null,null,null,null,null,null,null,null,null,null,null,null,null,null,null,null,null,null,"ELEMENTS INCREASING SAFETY",null,null,null,null,null,null,null,null,"COMMENTS ON PRIMARY CONSTRAINTS"]
[null,"INPUT INSTRUCTIONS",null,null,null,null,"Relative to",null,"Existing"]
[null,"Blue Boxes -- Select from pulldown options",null,"Select from Pulldown"]
[null,"Yellow Boxes -- Type input information into box",null,"Type Input Value"]
[null," Rural Multi-Lane Road Segment -- Safety Score Input",null,null,null,null,null,null,null,null,null,null,null,null,null,null,null,null,null,null,null,null,null,null,null,null,null,null,null,null,null,null,null,null,null,null,null,null,null,null,null,null,null,null,null,null,null,null,null,null,null,null,null,null,null,null,null,null,null,null,null,null,null,null,null,null,null,null,null,null,null,null,null,null,null,null,null,null,null,null,null,null,null,"Unadjusted Marginal Safety"]
[null,"General Information:",null,null,null,"General Site Features",null,{"$f":" I315 & \" Missing Features and Curves\"","v":"9 Missing Features and Curves"},null,null,null,null,null,null,null,null,null,null,null,null,null,null,null,null,null,null,null,null,null,null,null,null,null,null,null,null,null,null,null,null,null,null,null,null,null,null,null,null,null,null,null,null,null,null,null,null,null,null,null,null,null,null,null,null,null,null,null,null,null,null,null,null,null,null,null,null,null,null,null,null,null,null,null,{"$f":"I2&\" relative to \" &I4","v":"Standard relative to Existing"}]
[null,null,"Analyst:",{"$f":"+'Start Here'!H7","v":0},null,"Location "]
[null,null,"Agency or Company:",{"$f":"+'Start Here'!H8","v":0},null,"Design Speed (mph)"]
[null,null,"Date:",{"$f":"+'Start Here'!H9","v":"00:00:00"},null,"Posted Speed (mph)"]
[null,null,"Description:",null,null,"E max (%)"]
[null,null,"Input additional site information here",null,null,"    Design Year AADT (vehicles per day)"]
[null,null,null,null,null,"    Dist. from Centerline to Left   ROW (feet)"]
[null,null,null,null,null,"    Dist. from Centerline to Right ROW (feet)"]
[]
[null,"Warning:"]
[null,null,{"$f":"+IF(+I11>I10,\"Posted speed exceeds design speed. Optimal safety will only be achieved if design speed exceeds posted speed. The Safety Assessment Score is based on the higher of the two speed values.\",\"No speed warnings identified\")","v":"No speed warnings identified"}]
[null,null,{"$f":"IF(OR(F24=INDEX(MedConf_Header,1,3),+G24=INDEX(MedConf_Header,1,3)), \"Multilane undivided facilities are known to have substantially more collisions than multilane facilities with medians. In new construction a median or TWLTL should be considered.\",\" \")","v":" "},null,null,null,null,null,null,null,null,null,null,null,null,null,null,null,null,null,null,null,null,null,null,null,null,null,null,null,null,null,null,null,null,null,null,null,null,null,null,null,null,null,null,null,null,null,null,null,null,null,null,null,null,null,null,null,null,null,null,null,null,null,null,null,null,null,null,null,null,null,null,null,null,null,null,null,null,null,null,null,null,null,null,null,null,null,null,null,null,null,null,null,null,null,null,null,null,null,null,null,null,null,null,{"$f":"COUNTIF(DB23:DB46,DB20)","v":1}]
[null,null,{"$f":"IF(I13=\"40,001 < AADT < 60,000\", \"Multi-lane Road Should be Divided Due to High AADT Value\",\"\")","v":""},null,null,null,null,null,null,null,null,null,null,null,null,null,null,null,null,null,null,null,null,null,null,null,null,null,null,null,null,null,null,null,null,null,null,null,null,null,null,null,null,null,null,null,null,null,null,null,null,null,null,null,null,null,null,null,null,null,null,null,null,null,null,null,null,null,null,null,null,null,null,null,null,null,null,null,null,null,null,null,null,null,null,null,null,null,null,null,null,null,null,null,null,null,null,null,null,null,null,null,null,null,null,{"$f":"VLOOKUP(0,CZ23:DB46,3,)","v":10.01}]
[null,null,null,"Fill all elements",null,"To enter notes, use boxes to the right of the vortex ",null,null,null,null," "]
[null,{"$f":"+Construction!$I$2&\"  Total Available Points\"","v":"40  Total Available Points"},null,{"$f":" D249 & \" Missing Elements\"","v":"19 Missing Elements"},null,{"$f":" F249 & \" Missing Elements\"","v":"19 Missing Elements"},{"$f":" G249 & \" Missing Elements\"","v":"19 Missing Elements"},null,null,null,null,null,null,null,null,null,null,null,null,null,null,null,null,null,null,null,null,null,null,null,null,null,null,null,null,null,null,null,null,null,null,null,null,null,null,null,null,null,null,null,null,null,null,null,null,null,null,null,null,null,null,null,null,null,null,null,null,null,null,null,null,null,null,null,null,null,null,null,null,null,null,null,null,null,null,null,null,null,null,null,null,null,null,null,null,null,null,null,null,null,null,"Ranked element","CRF","abs","Re-rank","Rank","Ranked CRF","Element","New Element","crf.abs","rank","Sorted Element","Sorted CRF"]
[null,"Geometric Design Elements",null,"Existing","Standard (Based on Multi-lane Divided)","Design 1","Design 2",{"$f":"\"Marginal Safety for \"&$I$2&\" (compared to \" & $I$4 & \")\"","v":"Marginal Safety for Standard (compared to Existing)"},"Optimal (Based on Multi-lane Divided)",null,null,null,null,null,null,null,null,null,null,null,null,null,null,null,null,null,null,null,null,null,null,null,null,null,null,null,null,null,null,null,null,null,null,null,null,null,null,null,null,null,null,null,null,null,null,null,null,null,null,null,null,null,null,null,null,null,null,null,null,null,null,null,null,null,null,null,null,null,null,null,null,null,null,null,null,null,null,null,null,null,null,null,null,null,null,null,null,null,null,null,null,{"$f":"IF(CY23=0,\"\",DB23&\". \"&DD23)","v":""},{"$f":"H24","v":0},{"$f":"ABS(CY23)","v":0},{"$f":"_xlfn.RANK.EQ(DB23,$DB$23:$DB$46,1)","v":10},{"$f":"_xlfn.RANK.EQ(CZ23,$CZ$23:$CZ$46)+DG23/100","v":10.01},{"$f":"CY23","v":0},{"$f":"IF(ROUND(DF23,2)=0,\"\",C24)","v":""},{"$f":"DD23","v":""},{"$f":"CZ23","v":0},1,{"$f":"IFERROR(IF(IFERROR(VLOOKUP(DG23,$DA$23:$DF$46,4,)&\", \"&CY23=0,\"\"),\"\",IFERROR(VLOOKUP(DG23,$DA$23:$DE$46,4,),\"\")),\"\")","v":"Pavement Friction (skid number) ***"},{"$f":"IFERROR(IF(IFERROR(VLOOKUP(DG23,$DA$23:$DF$46,3,)&\", \"&CY23=0,\"\"),\"\",IFERROR(VLOOKUP(DG23,$DA$23:$DE$46,3,),\"\")),\"\")","v":0.28430956017940245}]
[null,null,"Configuration of Multilane Roadway",null,"Divided - Unsurfaced Median",null,null,null,"Divided - Unsurfaced Median",null,null,null,null,null,null,null,null,null,null,null,null,null,null,null,null,null,null,null,null,null,null,null,null,null,null,null,null,null,null,null,null,null,null,null,null,null,null,null,null,null,null,null,null,null,null,null,null,null,null,null,null,null,null,null,null,null,null,null,null,null,null,null,null,null,null,null,null,null,null,null,null,null,null,null,null,null,null,null,null,null,null,null,null,null,null,null,null,null,null,null,null,"5.02. Median Configuration (Width or Type)",{"$f":"H25","v":8.9999999999999969E-2},8.9999999999999969E-2,{"$f":"_xlfn.RANK.EQ(DB24,$DB$23:$DB$46,1)","v":5},{"$f":"_xlfn.RANK.EQ(CZ24,$CZ$23:$CZ$46)+DG24/100","v":5.0199999999999996},{"$f":"CY24","v":8.9999999999999969E-2},{"$f":"IF(ROUND(DF24,2)=0,\"\",C25)","v":"Median Configuration (Width or Type)"},{"$f":"DD24","v":"Median Configuration (Width or Type)"},8.9999999999999969E-2,2,{"$f":"IFERROR(IF(IFERROR(VLOOKUP(DG24,$DA$23:$DF$46,4,)&\", \"&CY24=0,\"\"),\"\",IFERROR(VLOOKUP(DG24,$DA$23:$DE$46,4,),\"\")),\"\")","v":"Driveway Density (driveways per mile)"},{"$f":"IFERROR(IF(IFERROR(VLOOKUP(DG24,$DA$23:$DF$46,3,)&\", \"&CY24=0,\"\"),\"\",IFERROR(VLOOKUP(DG24,$DA$23:$DE$46,3,),\"\")),\"\")","v":-0.22388114201141129}]
[null,null,"Median Configuration (Width or Type)",null,30,null,null,{"$f":"M103","v":8.9999999999999969E-2},100,null,null,null,null,null,null,null,null,null,null,null,null,null,null,null,null,null,null,null,null,null,null,null,null,null,null,null,null,null,null,null,null,null,null,null,null,null,null,null,null,null,null,null,null,null,null,null,null,null,null,null,null,null,null,null,null,null,null,null,null,null,null,null,null,null,null,null,null,null,null,null,null,null,null,null,null,null,null,null,null,null,null,null,null,null,null,null,null,null,null,null,null,"",{"$f":"H27","v":0},0,11,10.029999999999999,{"$f":"CY25","v":0},{"$f":"IF(ROUND(DF25,2)=0,\"\",C27)","v":""},{"$f":"DD25","v":""},0,3,{"$f":"IFERROR(IF(IFERROR(VLOOKUP(DG25,$DA$23:$DF$46,4,)&\", \"&CY25=0,\"\"),\"\",IFERROR(VLOOKUP(DG25,$DA$23:$DE$46,4,),\"\")),\"\")","v":"Average Outside Shoulder Width (feet)"},{"$f":"IFERROR(IF(IFERROR(VLOOKUP(DG25,$DA$23:$DF$46,3,)&\", \"&CY25=0,\"\"),\"\",IFERROR(VLOOKUP(DG25,$DA$23:$DE$46,3,),\"\")),\"\")","v":0.18061674008810569}]
[null,null,null,null,null,null,null,null,null,null,null,null,null,null,null,null,null,null,null,null,null,null,null,null,null,null,null,null,null,null,null,null,null,null,null,null,null,null,null,null,null,null,null,null,null,null,null,null,null,null,null,null,null,null,null,null,null,null,null,null,null,null,null,null,null,null,null,null,null,null,null,null,null,null,null,null,null,null,null,null,null,null,null,null,null,null,null,null,null,null,null,null,null,null,null,null,null,null,null,null,null,null,null,null,null,null,null,null,null,null,4,{"$f":"IFERROR(IF(IFERROR(VLOOKUP(DG26,$DA$23:$DF$46,4,)&\", \"&CY26=0,\"\"),\"\",IFERROR(VLOOKUP(DG26,$DA$23:$DE$46,4,),\"\")),\"\")","v":"Roadside Sideslope (Foreslope)"},{"$f":"IFERROR(IF(IFERROR(VLOOKUP(DG26,$DA$23:$DF$46,3,)&\", \"&CY26=0,\"\"),\"\",IFERROR(VLOOKUP(DG26,$DA$23:$DE$46,3,),\"\")),\"\")","v":0.15697622474810147}]
[null,null,"Lane Width (feet)",null,12,null,null,{"$f":"M104","v":0},12,null,null,null,null,null,null,null,null,null,null,null,null,null,null,null,null,null,null,null,null,null,null,null,null,null,null,null,null,null,null,null,null,null,null,null,null,null,null,null,null,null,null,null,null,null,null,null,null,null,null,null,null,null,null,null,null,null,null,null,null,null,null,null,null,null,null,null,null,null,null,null,null,null,null,null,null,null,null,null,null,null,null,null,null,null,null,null,null,null,null,null,null,null,null,null,null,null,null,null,null,null,5,"Median Configuration (Width or Type)",8.9999999999999969E-2]
[null,null,"Average Outside Shoulder Width (feet)",null,8,null,null,{"$f":"M105","v":0.18061674008810569},10,null,null,null,null,null,null,null,null,null,null,null,null,null,null,null,null,null,null,null,null,null,null,null,null,null,null,null,null,null,null,null,null,null,null,null,null,null,null,null,null,null,null,null,null,null,null,null,null,null,null,null,null,null,null,null,null,null,null,null,null,null,null,null,null,null,null,null,null,null,null,null,null,null,null,null,null,null,null,null,null,null,null,null,null,null,null,null,null,null,null,null,null,{"$f":"IF(CY28=0,\"\",DB28&\". \"&DD28)","v":"3.06. Average Outside Shoulder Width (feet)"},{"$f":"H28","v":0.18061674008810569},{"$f":"ABS(CY28)","v":0.18061674008810569},3,3.06,{"$f":"CY28","v":0.18061674008810569},{"$f":"IF(ROUND(DF28,2)=0,\"\",C28)","v":"Average Outside Shoulder Width (feet)"},{"$f":"DD28","v":"Average Outside Shoulder Width (feet)"},{"$f":"CZ28","v":0.18061674008810569},6,"Roadside Lateral Clearance to Obstruction (ft)",6.4777606999867676E-2]
[null,null,"Average Inside Shoulder Width (feet)",null,4,null,null,{"$f":"M106","v":0},10,null,null,null,null,null,null,null,null,null,null,null,null,null,null,null,null,null,null,null,null,null,null,null,null,null,null,null,null,null,null,null,null,null,null,null,null,null,null,null,null,null,null,null,null,null,null,null,null,null,null,null,null,null,null,null,null,null,null,null,null,null,null,null,null,null,null,null,null,null,null,null,null,null,null,null,null,null,null,null,null,null,null,null,null,null,null,null,null,null,null,null,null,{"$f":"IF(CY29=0,\"\",DB29&\". \"&DD29)","v":""},{"$f":"H33","v":0},{"$f":"ABS(CY29)","v":0},12,10.07,0,{"$f":"IF(ROUND(DF29,2)=0,\"\",\"Hz and Vt Alignment\")","v":""},"",{"$f":"CZ29","v":0},7,"Safety Edge",-2.3424031600265627E-2]
["",null,"Number of Lanes per Direction of Travel",null,2,null,null,null,2,null,null,null,null,null,null,null,null,null,null,null,null,null,null,null,null,null,null,null,null,null,null,null,null,null,null,null,null,null,null,null,null,null,null,null,null,null,null,null,null,null,null,null,null,null,null,null,null,null,null,null,null,null,null,null,null,null,null,null,null,null,null,null,null,null,null,null,null,null,null,null,null,null,null,null,null,null,null,null,null,null,null,null,null,null,null,null,null,null,null,null,null,{"$f":"IF(CY30=0,\"\",DB30&\". \"&DD30)","v":""},{"$f":"H29","v":0},{"$f":"ABS(CY30)","v":0},13,10.08,0,{"$f":"IF(ROUND(DF30,2)=0,\"\",C29)","v":""},"",{"$f":"CZ30","v":0},8,"Shoulder Rumble Strips",2.2875008800570917E-2]
[null,null,"Horizontal Curve Present?","--","--","--","--",null,"--",null,null,null,null,null,null,null,null,null,null,null,null,null,null,null,null,null,null,null,null,null,null,null,null,null,null,null,null,null,null,null,null,null,null,null,null,null,null,null,null,null,null,null,null,null,null,null,null,null,null,null,null,null,null,null,null,null,null,null,null,null,null,null,null,null,null,null,null,null,null,null,null,null,null,null,null,null,null,null,null,null,null,null,null,null,null,null,null,null,null,null,null,{"$f":"IF(CY31=0,\"\",DB31&\". \"&DD31)","v":""},{"$f":"H47","v":0},{"$f":"ABS(CY31)","v":0},14,10.09,0,{"$f":"IF(ROUND(DF31,2)=0,\"\",C47)","v":""},"",{"$f":"CZ31","v":0},9,"Lighting",-1.7096579124742384E-2]
[null,null,"Horizontal Curve Data for Controlling Element:","--","--","--","--",null,"--",null,null,null,null,null,null,null,null,null,null,null,null,null,null,null,null,null,null,null,null,null,null,null,null,null,null,null,null,null,null,null,null,null,null,null,null,null,null,null,null,null,null,null,null,null,null,null,null,null,null,null,null,null,null,null,null,null,null,null,null,null,null,null,null,null,null,null,null,null,null,null,null,null,null,null,null,null,null,null,null,null,null,null,null,null,null,null,null,null,null,null,null,"",{"$f":"H48","v":0},0,15,10.1,0,{"$f":"IF(ROUND(DF32,2)=0,\"\",C48)","v":""},"",0,10,"",0]
[null,null,"  Radius (feet)",null,{"$f":"IF(MAX($I$10,$I$11)<45,590,IF($I$12=6,VLOOKUP(MAX($I$10,$I$11),Construction!$B$27:$D$34,2,TRUE),VLOOKUP(MAX($I$10,$I$11),Construction!$G$27:$I$34,2,TRUE)))","v":590},null,null,{"$f":"M144","v":0},{"$f":"IF(MAX($I$10,$I$11)<45,590,IF($I$12=6,VLOOKUP(MAX($I$10,$I$11),Construction!$B$43:$C$50,2,TRUE),VLOOKUP(MAX($I$10,$I$11),Construction!$G$43:$H$50,2,TRUE)))","v":590},null,null,null,null,null,null,null,null,null,null,null,null,null,null,null,null,null,null,null,null,null,null,null,null,null,null,null,null,null,null,null,null,null,null,null,null,null,null,null,null,null,null,null,null,null,null,null,null,null,null,null,null,null,null,null,null,null,null,null,null,null,null,null,null,null,null,null,null,null,null,null,null,null,null,null,null,null,null,null,null,null,null,null,null,null,null,null,null,null,null,null,null,"",{"$f":"H56","v":0},0,16,10.11,0,{"$f":"IF(ROUND(DF33,2)=0,\"\",C56)","v":""},"",0,11,"",0]
[null,null,"Length of Horizontal Curve (feet)",null,{"$f":"IF(D35=\"\", \"\", E33*E35/57.296)","v":""},null,null,null,{"$f":"I33*I35/57.296","v":3758.5520804244625},null,null,null,null,null,null,null,null,null,null,null,null,null,null,null,null,null,null,null,null,null,null,null,null,null,null,null,null,null,null,null,null,null,null,null,null,null,null,null,null,null,null,null,null,null,null,null,null,null,null,null,null,null,null,null,null,null,null,null,null,null,null,null,null,null,null,null,null,null,null,null,null,null,null,null,null,null,null,null,null,null,null,null,null,null,null,null,null,null,null,null,null,"",0,0,17,10.119999999999999,0,"","",0,12,"",0]
[null,null,"Calculated Deflection Angle ∆",{"$f":"IF(OR(ISBLANK(D33),ISBLANK(D34),$B$31=\"No\",ISBLANK($B$31)),\"\",ROUND(D34/D33*57.296,1))","v":""},{"$f":"IF(ISBLANK(D35), \"\",D35)","v":""},{"$f":"IF(OR(ISBLANK(F33),ISBLANK(F34),$B$31=\"No\",ISBLANK($B$31)),\"\",ROUND(F34/F33*57.296,1))","v":""},{"$f":"IF(OR(ISBLANK(G33),ISBLANK(G34),$B$31=\"No\",ISBLANK($B$31)),\"\",ROUND(G34/G33*57.296,1))","v":""},null,{"$f":"MIN(D35,IF(F37=INDEX(HCurveChange,1,0), F35, 365),IF(G37=INDEX(HCurveChange,1,0), G35, 365))","v":365},null,null,null,null,null,null,null,null,null,null,null,null,null,null,null,null,null,null,null,null,null,null,null,null,null,null,null,null,null,null,null,null,null,null,null,null,null,null,null,null,null,null,null,null,null,null,null,null,null,null,null,null,null,null,null,null,null,null,null,null,null,null,null,null,null,null,null,null,null,null,null,null,null,null,null,null,null,null,null,null,null,null,null,null,null,null,null,null,null,null,null,null,"",0,0,18,10.130000000000001,0,"","",0,13,"",0]
[null,null,null,null,null,"∆ has changed. \nAre you changing the ∆?","∆ has changed. \nAre you changing the ∆?",null,null,null,null,null,null,null,null,null,null,null,null,null,null,null,null,null,null,null,null,null,null,null,null,null,null,null,null,null,null,null,null,null,null,null,null,null,null,null,null,null,null,null,null,null,null,null,null,null,null,null,null,null,null,null,null,null,null,null,null,null,null,null,null,null,null,null,null,null,null,null,null,null,null,null,null,null,null,null,null,null,null,null,null,null,null,null,null,null,null,null,null,null,null,"",0,0,19,10.14,0,"","",0,14,"",0]
[null,null,null,null,null,null,null,null,null,null,null,null,null,null,null,null,null,null,null,null,null,null,null,null,null,null,null,null,null,null,null,null,null,null,null,null,null,null,null,null,null,null,null,null,null,null,null,null,null,null,null,null,null,null,null,null,null,null,null,null,null,null,null,null,null,null,null,null,null,null,null,null,null,null,null,null,null,null,null,null,null,null,null,null,null,null,null,null,null,null,null,null,null,null,null,null,null,null,null,null,null,"8.15. Shoulder Rumble Strips",2.2875008800570917E-2,2.2875008800570917E-2,8,8.15,2.2875008800570917E-2,"Shoulder Rumble Strips","Shoulder Rumble Strips",2.2875008800570917E-2,15,"",0]
[null,null,"Vertical Curve Present?","--","--","--","--",null,{"$f":"E38","v":"--"},null,null,null,null,null,null,null,null,null,null,null,null,null,null,null,null,null,null,null,null,null,null,null,null,null,null,null,null,null,null,null,null,null,null,null,null,null,null,null,null,null,null,null,null,null,null,null,null,null,null,null,null,null,null,null,null,null,null,null,null,null,null,null,null,null,null,null,null,null,null,null,null,null,null,null,null,null,null,null,null,null,null,null,null,null,null,null,null,null,null,null,null,"",0,0,20,10.16,0,"","",0,16,"",0]
[null,null,"Vertical Curve Data for Controlling Element:","--","--","--","--",null,"--",null,null,null,null,null,null,null,null,null,null,null,null,null,null,null,null,null,null,null,null,null,null,null,null,null,null,null,null,null,null,null,null,null,null,null,null,null,null,null,null,null,null,null,null,null,null,null,null,null,null,null,null,null,null,null,null,null,null,null,null,null,null,null,null,null,null,null,null,null,null,null,null,null,null,null,null,null,null,null,null,null,null,null,null,null,null,null,null,null,null,null,null,"2.17. Driveway Density (driveways per mile)",-0.22388114201141129,0.22388114201141129,2,2.17,-0.22388114201141129,{"$f":"IF(DF39=0,\"\",C62)","v":"Driveway Density (driveways per mile)"},"Driveway Density (driveways per mile)",0.22388114201141129,17,"",0]
[null,null,"  Approach (Entry) Grade, G1 (%)",null,{"$f":"IF(ISBLANK(D40),\"\", D40)","v":""},null,null,null,{"$f":"IF(B38=\"Yes\",I231,I241)","v":""},null,null,null,null,null,null,null,null,null,null,null,null,null,null,null,null,null,null,null,null,null,null,null,null,null,null,null,null,null,null,null,null,null,null,null,null,null,null,null,null,null,null,null,null,null,null,null,null,null,null,null,null,null,null,null,null,null,null,null,null,null,null,null,null,null,null,null,null,null,null,null,null,null,null,null,null,null,null,null,null,null,null,null,null,null,null,null,null,null,null,null,null,"9.18. Lighting",-1.7096579124742384E-2,1.7096579124742384E-2,9,9.18,-1.7096579124742384E-2,{"$f":"IF(DF40=0,\"\",C63)","v":"Lighting"},"Lighting",1.7096579124742384E-2,18,"",0]
[null,null,"  Departure (Exit) Grade, G2 (%)",null,{"$f":"IF(ISBLANK(D41),\"\", D41)","v":""},null,null,null,{"$f":"IF($B$38=\"Yes\",I232,\"\")","v":""},null,null,null,null,null,null,null,null,null,null,null,null,null,null,null,null,null,null,null,null,null,null,null,null,null,null,null,null,null,null,null,null,null,null,null,null,null,null,null,null,null,null,null,null,null,null,null,null,null,null,null,null,null,null,null,null,null,null,null,null,null,null,null,null,null,null,null,null,null,null,null,null,null,null,null,null,null,null,null,null,null,null,null,null,null,null,null,null,null,null,null,null,"1.19. Pavement Friction (skid number) ***",0.28430956017940245,0.28430956017940245,1,1.19,0.28430956017940245,{"$f":"IF(DF41=0,\"\",C64)","v":"Pavement Friction (skid number) ***"},"Pavement Friction (skid number) ***",0.28430956017940245,19,"",0]
[null,null,"  Length (feet)",null,{"$f":"IF(AND($B$38=\"Yes\", D43<>\"\"), ABS(E40-E41)*D43, \"\")","v":""},null,null,null,{"$f":"IF(AND($B$38=\"Yes\",I40<>\"\",I41<>\"\", NOT(ISBLANK($I$10)), NOT(ISBLANK($I$11))),ABS(I41-I40)*I43,\"\")","v":""},null,null,null,null,null,null,null,null,null,null,null,null,null,null,null,null,null,null,null,null,null,null,null,null,null,null,null,null,null,null,null,null,null,null,null,null,null,null,null,null,null,null,null,null,null,null,null,null,null,null,null,null,null,null,null,null,null,null,null,null,null,null,null,null,null,null,null,null,null,null,null,null,null,null,null,null,null,null,null,null,null,null,null,null,null,null,null,null,null,null,null,null,"4.2. Roadside Sideslope (Foreslope)",{"$f":"H75","v":0.15697622474810147},0.15697622474810147,4,4.2,0.15697622474810147,{"$f":"IF(DF42=0,\"\",C75)","v":"Roadside Sideslope (Foreslope)"},"Roadside Sideslope (Foreslope)",0.15697622474810147,20,"",0]
[null,null,"  Calculated Rate of Change, K (ft/ft)",{"$f":"IF(OR($B$38=\"No\",ISBLANK($B$38), ISBLANK(D40), ISBLANK(D41),ISBLANK(D42), D40=D41), \"\", ROUND(D42/(ABS(D41-D40)),1))","v":""},{"$f":"IF(AND($B$38=\"Yes\", NOT(ISBLANK($I$10)), NOT(ISBLANK($I$11)), D43<>\"\"), IF($E$46=\"Crest\",  VLOOKUP(MAX($I$10,$I$11),Construction!$B$159:$D$171,2,TRUE), VLOOKUP(MAX($I$10,$I$11),Construction!$B$159:$D$171,3,TRUE)), \"\")","v":""},{"$f":"IF(AND($B$38=\"Yes\", SUM(F267:F269)=0),ROUND(F42/(ABS(F41-F40)),1),\"\")","v":""},{"$f":"IF(AND($B$38=\"Yes\", SUM(G267:G269)=0),ROUND(G42/(ABS(G41-G40)),1),\"\")","v":""},null,{"$f":"IF(OR($B$38<>\"Yes\", ISBLANK($I$10), ISBLANK($I$11), $I$40=\"\", $I$41=\"\", $I$46=\"--\", ISBLANK($I$46)),\"\",IF(I$46=\"Crest\",VLOOKUP(MAX($I$10,$I$11),Construction!$B$177:$D$189,2,TRUE),VLOOKUP(MAX($I$10,$I$11),Construction!$B$177:$D$189,3,TRUE)))","v":""},null,null,null,null,null,null,null,null,null,null,null,null,null,null,null,null,null,null,null,null,null,null,null,null,null,null,null,null,null,null,null,null,null,null,null,null,null,null,null,null,null,null,null,null,null,null,null,null,null,null,null,null,null,null,null,null,null,null,null,null,null,null,null,null,null,null,null,null,null,null,null,null,null,null,null,null,null,null,null,null,null,null,null,null,null,null,null,null,null,null,null,null,"",{"$f":"H76","v":0},0,21,10.210000000000001,0,{"$f":"IF(DF43=0,\"\",C76)","v":""},"",0,21,"",0]
[null,null,null,null,null,"Are you changing the geometry?","Are you changing the geometry?",null,null,null,null,null,null,null,null,null,null,null,null,null,null,null,null,null,null,null,null,null,null,null,null,null,null,null,null,null,null,null,null,null,null,null,null,null,null,null,null,null,null,null,null,null,null,null,null,null,null,null,null,null,null,null,null,null,null,null,null,null,null,null,null,null,null,null,null,null,null,null,null,null,null,null,null,null,null,null,null,null,null,null,null,null,null,null,null,null,null,null,null,null,null,"7.22. Safety Edge",{"$f":"H77","v":-2.3424031600265627E-2},2.3424031600265627E-2,7,7.22,-2.3424031600265627E-2,{"$f":"IF(DF44=0,\"\",C77)","v":"Safety Edge"},"Safety Edge",2.3424031600265627E-2,22,"",0]
[null,null,null,null,null,null,null,null,null,null,null,null,null,null,null,null,null,null,null,null,null,null,null,null,null,null,null,null,null,null,null,null,null,null,null,null,null,null,null,null,null,null,null,null,null,null,null,null,null,null,null,null,null,null,null,null,null,null,null,null,null,null,null,null,null,null,null,null,null,null,null,null,null,null,null,null,null,null,null,null,null,null,null,null,null,null,null,null,null,null,null,null,null,null,null,null,null,null,null,null,null,"6.23. Roadside Lateral Clearance to Obstruction (ft)",{"$f":"H78","v":6.4777606999867676E-2},6.4777606999867676E-2,6,6.23,6.4777606999867676E-2,{"$f":"IF(DF45=0,\"\",C78)","v":"Roadside Lateral Clearance to Obstruction (ft)"},"Roadside Lateral Clearance to Obstruction (ft)",6.4777606999867676E-2,23,"",{"$f":"IFERROR(IF(IFERROR(VLOOKUP(DG45,$DA$23:$DF$46,3,)&\", \"&CY45=0,\"\"),\"\",IFERROR(VLOOKUP(DG45,$DA$23:$DE$46,3,),\"\")),\"\")","v":""}]
[null,null,"  Calculated Sag or Crest?",{"$f":"IF(AND($B$38=\"Yes\", SUM(D267:D269)=0),IF(D40>D41,\"Crest\",\"Sag\"),\"--\")","v":"--"},{"$f":"IF(AND($B$38=\"Yes\", SUM(D267:D269)=0),IF(E40>E41,\"Crest\",\"Sag\"),\"--\")","v":"--"},{"$f":"IF(AND($B$38=\"Yes\", SUM(F267:F269)=0),IF(F40>F41,\"Crest\",\"Sag\"),\"--\")","v":"--"},{"$f":"IF(AND($B$38=\"Yes\", SUM(G267:G269)=0),IF(G40>G41,\"Crest\",\"Sag\"),\"--\")","v":"--"},null,{"$f":"IF($B$38=\"Yes\",IF(I40>I41,\"Crest\",\"Sag\"),\"--\")","v":"--"},null,null,null,null,null,null,null,null,null,null,null,null,null,null,null,null,null,null,null,null,null,null,null,null,null,null,null,null,null,null,null,null,null,null,null,null,null,null,null,null,null,null,null,null,null,null,null,null,null,null,null,null,null,null,null,null,null,null,null,null,null,null,null,null,null,null,null,null,null,null,null,null,null,null,null,null,null,null,null,null,null,null,null,null,null,null,null,null,null,null,null,null,"",{"$f":"H79","v":0},0,22,10.24,0,{"$f":"IF(DF46=0,\"\",C79)","v":""},"",0,24,"",{"$f":"IFERROR(IF(IFERROR(VLOOKUP(DG46,$DA$23:$DF$46,3,)&\", \"&CY46=0,\"\"),\"\",IFERROR(VLOOKUP(DG46,$DA$23:$DE$46,3,),\"\")),\"\")","v":""}]
[]
[]
[null,null,"Geometric Design Element (Partial Score)",{"$f":"IF(OR(SUM(D251:D252,D254:D257,D260:D261,D267:D269)>0, ISERR(D129)),\"\",D129)","v":""},{"$f":"IF(OR(SUM(E251:E252,E254:E257,E260:E261,E267:E269)>0, ISERR(E129)),\"\",E129)","v":""},"","",null,{"$f":"IF(OR(SUM(I251:I252,I254:I257,I260:I261,I267:I269)>0, ISERR(I129)),\"\",I129)","v":""},null,null,null,"SCHEMATIC REPRESENTING INPUT DATA FOR ",null,null,null,null,null,null,null,{"$f":"IF($I$2=\"Existing\",\"EXISTING CONFIGURATION\",IF($I$2=\"Standard\",\"STANDARD OPTION\",IF($I$2=\"Design 1\",\"DESIGN 1 OPTION\",IF($I$2=\"Design 2\",\"DESIGN 2 OPTION\",\"OPTIMAL OPTION\"))))","v":"STANDARD OPTION"}]
[null,null,"Total Safety Score",{"$f":"IF(OR(D$249>0, $I$315>0, ISERROR(D$205+D$175+D$129)),\"\",D$205+D$175+D$129)","v":""},{"$f":"IF(OR(E$249>0, $I$315>0, ISERROR(E$205+E$175+E$129)),\"\",E$205+E$175+E$129)","v":""},{"$f":"IF(OR(F$249>0, $I$315>0, ISERROR(F$205+F$175+F$129)),\"\",F$205+F$175+F$129)","v":""},{"$f":"IF(OR(G$249>0, $I$315>0, ISERROR(G$205+G$175+G$129)),\"\",G$205+G$175+G$129)","v":""},null,{"$f":"IF(OR(I$249>0, $I$315>0, ISERROR(I$205+I$175+I$129)),\"\",I$205+I$175+I$129)","v":""}]
[null,null,null,null,null,null,null,null,null,null,null,"LT",null,null,null,null,null,null,null,null,null,null,null,null,null,null,"RT"]
[null,null,null,null,null,null,null,null,null,null,null,"R/W",null,null,null,null,null,null,{"$f":"+O54+W54","v":0},null,null,null,null,null,null,null,"R/W"]
[]
[null,{"$f":"+Construction!$I$3&\"  Total Available Points\"","v":"20  Total Available Points"},null,null,null,null,null,null,null,null,null,null,null,null,{"$f":"+$I$14","v":0},null,null,null,null,null,null,null,{"$f":"+$I$15","v":0}]
[null,"Traffic Elements",null,"Existing","Standard","Design 1","Design 2",{"$f":"H23","v":"Marginal Safety for Standard (compared to Existing)"},"Optimal"]
[null,null,"Advance Static Curve Warning Signs",null,"No",null,null,{"$f":"M149","v":0},"Yes",null,null,{"$f":"+O54-N56-P56","v":-32},null,{"$f":"IF(+$I$2=\"Existing\",D28,IF($I$2=\"Standard\",E28,IF($I$2=\"Design 1\",F28,IF($I$2=\"Design 2\",G28,I28))))","v":8},null,{"$f":"IF(+$I$2=\"Existing\",D27*D30,IF($I$2=\"Standard\",E27*E30,IF($I$2=\"Design 1\",F27*F30,IF($I$2=\"Design 2\",G27*G30,I27*I30))))","v":24},null,null,null,null,null,{"$f":"+P56","v":24},null,null,{"$f":"+N56","v":8},{"$f":"+W54-V56-Y56","v":-32}]
[null,null,"Chevron Signs on Horizontal Curves",null,"No",null,null,{"$f":"M150","v":0},"Yes"]
[null,null,"Post-Mounted Delineators",null,"No",null,null,{"$f":"M151","v":0},"Yes"]
[null,null,"Edgeline Pavement Markings or Profile Markings",null,"No",null,null,{"$f":"M152","v":0},"Yes"]
[null,null,"Shoulder Rumble Strips",null,"Yes",null,null,{"$f":"M154","v":2.2875008800570917E-2},"Yes"]
[null,null,"Centerline Rumble Strips",null,"No",null,null,{"$f":"M155","v":0},"Yes",null,null,null,null,null,null,null,null,null,"Tangent X-Section"]
[null,null,"Driveway Density (driveways per mile)",null,10,null,null,{"$f":"M156","v":-0.22388114201141129},0]
[null,null,"Lighting",null,"No",null,null,{"$f":"M157","v":-1.7096579124742384E-2},"Yes"]
[null,null,"Pavement Friction (skid number) ***",null,37,null,null,{"$f":"M158","v":0.28430956017940245},54]
[null,null,"Traffic Control Element (Partial Score):",{"$f":"IF(ISERROR(D175), \"\", D175)","v":12},{"$f":"IF(ISERROR(E175), \"\", E175)","v":14},"","",null,{"$f":"IF(ISERROR(I175), \"\", I175)","v":20}]
[null,null,"Total Safety Score",{"$f":"IF(OR(D$249>0, $I$315>0, ISERROR(D$205+D$175+D$129)),\"\",D$205+D$175+D$129)","v":""},{"$f":"IF(OR(E$249>0, $I$315>0, ISERROR(E$205+E$175+E$129)),\"\",E$205+E$175+E$129)","v":""},"","",null,{"$f":"IF(OR(I$249>0, $I$315>0, ISERROR(I$205+I$175+I$129)),\"\",I$205+I$175+I$129)","v":""}]
[null,null,null,null,null,null,null,null,null,null," "]
[null,null,"*** Pavement friction/skid numbers will not be subject to open records requests ***",null,null,null,null,null,null,null,null,null,null,null,null,null,{"$f":"IF($I$2=\"Existing\",\"SCORE SUMMARY FOR EXISTING CONFIGURATION\", IF($I$2=\"Standard\",\"SCORE SUMMARY FOR STANDARD OPTION\",IF($I$2=\"Design 1\",\"SCORE SUMMARY FOR DESIGN 1 OPTION\",IF($I$2=\"Design 2\",\"SCORE SUMMARY FOR DESIGN 2 OPTION\", \"SCORE SUMMARY FOR OPTIMAL OPTION\"))))","v":"SCORE SUMMARY FOR STANDARD OPTION"}]
[null,null,null,null,null,null,null,null,null,null,null,null,null,null,null,null,"GEOMETRIC DESIGN:",null,null,null,null,null,{"$f":"IF($I$2=\"Existing\",D49,IF($I$2=\"Standard\",E49,IF($I$2=\"Design 1\",F49,IF($I$2=\"Design 2\",G49,I49))))","v":""}]
[null,null,null,null,null,null,null,null,null,null,null,null,null,null,null,null,"TRAFFIC CONTROL:",null,null,null,null,null,{"$f":"IF($I$2=\"Existing\",D65,IF($I$2=\"Standard\",E65,IF($I$2=\"Design 1\",F65,IF($I$2=\"Design 2\",G65,I65))))","v":14}]
[null,null,null,null,null,null,null,null,null,null,null,null,null,null,null,null,"ROADSIDE:",null,null,null,null,null,{"$f":"IF($I$2=\"Existing\",D80,IF($I$2=\"Standard\",E80,IF($I$2=\"Design 1\",F80,IF($I$2=\"Design 2\",G80,I80))))","v":27}]
[null,null,null,null,null,null,null,null,null,null,null,null,null,null,null,null,"OVERALL SAFETY SCORE:",null,null,null,null,null,{"$f":"SUM(W69:X71)","v":41}]
[null,{"$f":"+Construction!$I$4&\"  Total Available Points\"","v":"40  Total Available Points"}]
[null,"Roadside  Elements",null,"Existing","Standard","Design 1","Design 2",{"$f":"H23","v":"Marginal Safety for Standard (compared to Existing)"},"Optimal"]
[null,null,"Roadside Sideslope (Foreslope)",null,"1V:4H",null,null,{"$f":"M184","v":0.15697622474810147},"1V:6H"]
[null,null,"Roadside Backslope",null,{"$f":"E75","v":"1V:4H"},null,null,{"$f":"M185","v":0},"1V:4H"]
[null,null,"Safety Edge",null,"No",null,null,-2.3424031600265627E-2,"Yes"]
[null,null,"Roadside Lateral Clearance to Obstruction (ft)",null,30,null,null,6.4777606999867676E-2,40]
[null,null,"Roadside Obstruction Type",null,"None",null,null,0,"None/Removed"]
[null,null,"Roadside Element (Partial Score):",{"$f":"IF(ISERR(D205),\"\",D205)","v":20},{"$f":"IF(ISERR(E205),\"\",E205)","v":27},20,20,null,{"$f":"IF(ISERR(I205),\"\",I205)","v":40},null,null,null,null,null,null,null,null,null,null,null,null,null,null," "]
[null,null,"Total Safety Score",{"$f":"IF(OR(D$249>0, $I$315>0, ISERROR(D$205+D$175+D$129)),\"\",D$205+D$175+D$129)","v":""},{"$f":"IF(OR(E$249>0, $I$315>0, ISERROR(E$205+E$175+E$129)),\"\",E$205+E$175+E$129)","v":""},"","",null,{"$f":"IF(OR(I$249>0, $I$315>0, ISERROR(I$205+I$175+I$129)),\"\",I$205+I$175+I$129)","v":""}]
[]
[]
[]
[]
[null,"ADDITIONAL SIDESLOPE INFORMATION"]
[null,null,"Distance to Slope Toe from Shoulder (ft)",null,{"$f":"D87","v":0},{"$f":"E87","v":0},0,null,{"$f":"G87","v":0}]
[null,"Minimum foreslope feasible within current ROW",null,null,{"$f":"IF(OR(ISBLANK($D$87), ISERROR(E209)), \"\", \"1V:\"&E209&\"H\")","v":""},{"$f":"IF(OR(ISBLANK($D$87), ISERROR(F209)), \"\", \"1V:\"&F209&\"H\")","v":""},{"$f":"IF(OR(ISBLANK($D$87), ISERROR(G209)), \"\", \"1V:\"&G209&\"H\")","v":""},null,{"$f":"IF(OR(ISBLANK($D$87), ISERROR(I209)), \"\", \"1V:\"&I209&\"H\")","v":""}]
[null,"Additional R/W needed on left side",null,null,{"$f":"IF(OR(ISBLANK($D$87), ISERROR(E213)),\"\", MAX(E213,E216))","v":""},{"$f":"IF(OR(ISBLANK($D$87), ISERROR(F213)), \"\", MAX(F213,F216))","v":""},{"$f":"IF(OR(ISBLANK($D$87), ISERROR(G213)),\"\", MAX(G213,G216))","v":""},null,{"$f":"IF(OR(ISBLANK($D$87), ISERROR(I213)),\"\", MAX(I213,I216))","v":""}]
[null,"Additional R/W needed on right side",null,null,{"$f":"IF(OR(ISBLANK($D$87), ISERROR(E214)), \"\", MAX(E214,E217))","v":""},{"$f":"IF(OR(ISBLANK($D$87), ISERROR(F214)), \"\", MAX(F214,F217))","v":""},{"$f":"IF(OR(ISBLANK($D$87), ISERROR(G214)),\"\", MAX(G214,G217))","v":""},null,{"$f":"IF(OR(ISBLANK($D$87), ISERROR(I214)),\"\", MAX(I214,I217))","v":""}]
[]
[]
[]
[]
[]
[]
[]
[null,null,null,{"$f":"GetCMF_MED(D24,D25,2000,D28)","v":1},null,null,null,null,null,{"$f":"1-I104/E104","v":0},"For Plot"]
[null,null,null,null,null,null,null,null,null,{"$f":"1-I105/E105","v":3.2258064516129115E-2},"relative to","Prefer"]
[null,null,null,{"$f":"MAX(SUM(D107:D111)-5,$I$100)","v":{"$error":"#VALUE!"}},{"$f":"MAX(SUM(E107:E111)-5,$I$100)","v":{"$error":"#VALUE!"}},{"$error":"#VALUE!"},{"$error":"#VALUE!"},null,{"$f":"SUM(I107:I111)-5","v":{"$error":"#VALUE!"}},{"$f":"1-I106/E106","v":0.14444080962898154},{"$f":"MATCH(K101,ModView,0)","v":1},{"$f":"MATCH(L101,ModView,0)","v":2}]
[null,"Geometric",null,null,null,null,null,null,null,{"$f":"1-I107/E107","v":{"$error":"#VALUE!"}},{"$f":"I4","v":"Existing"},{"$f":"I2","v":"Standard"},"%"]
[null,null,"Divided versus Undivided",1,1,1,1,null,1,null,{"$f":"INDEX($D102:$I102,K$100)","v":1},{"$f":"INDEX($D102:$I102,L$100)","v":1},{"$f":"IF(ISERROR(1-L102/K102), 0, 1-L102/K102)","v":0}]
[null,null,"Median Width",{"$f":"GetCMF_MED(D24,D25,$I$13,D28)","v":1},{"$f":"GetCMF_MED(E24,E25,$I$13,E28)","v":0.91},{"$f":"GetCMF_MED(F24,F25,$I$13,F28)","v":1},{"$f":"GetCMF_MED(G24,G25,$I$13,G28)","v":1},{"$f":"H25","v":8.9999999999999969E-2},{"$f":"GetCMF_MED(I24,I25,$I$13,I28)","v":0.66},null,{"$f":"INDEX($D103:$I103,K$100)","v":1},{"$f":"INDEX($D103:$I103,L$100)","v":0.91},{"$f":"IF(ISERROR(1-L103/K103), 0, 1-L103/K103)","v":8.9999999999999969E-2}]
[null,null,"LW CMF",{"$f":"IF(D24=INDEX(MedConf_Header,1,2),VLOOKUP(+D27,Construction!$N$30:$O$36,2),VLOOKUP(D27,Construction!$I$15:$J$21,2))","v":{"$error":"#N/A"}},{"$f":"IF(E24=INDEX(MedConf_Header,1,2),VLOOKUP(+E27,Construction!$N$30:$O$36,2),VLOOKUP(E27,Construction!$I$15:$J$21,2))","v":1},{"$f":"IF(F24=INDEX(MedConf_Header,1,2),VLOOKUP(+F27,Construction!$N$30:$O$36,2),VLOOKUP(F27,Construction!$I$15:$J$21,2))","v":{"$error":"#N/A"}},{"$f":"IF(G24=INDEX(MedConf_Header,1,2),VLOOKUP(+G27,Construction!$N$30:$O$36,2),VLOOKUP(G27,Construction!$I$15:$J$21,2))","v":{"$error":"#N/A"}},{"$f":"H27","v":0},{"$f":"IF(I24=INDEX(MedConf_Header,1,2),VLOOKUP(+I27,Construction!$N$30:$O$36,2),VLOOKUP(I27,Construction!$I$15:$J$21,2))","v":1},null,{"$f":"INDEX($D104:$I104,K$100)","v":{"$error":"#N/A"}},{"$f":"INDEX($D104:$I104,L$100)","v":1},0,null,0]
[null,null,"SW CMF",{"$f":"IF(D24=INDEX(MedConf_Header,1,2),VLOOKUP(D28,Construction!$C$11:D21,2),(VLOOKUP(D28,Construction!$O$43:$P$53,2)-1)*0.27+1)","v":1.135},{"$f":"IF(E24=INDEX(MedConf_Header,1,2),VLOOKUP(E28,Construction!$C$11:E21,2),(VLOOKUP(E28,Construction!$O$43:$P$53,2)-1)*0.27+1)","v":0.93},{"$f":"IF(F24=INDEX(MedConf_Header,1,2),VLOOKUP(F28,Construction!$C$11:F21,2),(VLOOKUP(F28,Construction!$O$43:$P$53,2)-1)*0.27+1)","v":1.135},{"$f":"IF(G24=INDEX(MedConf_Header,1,2),VLOOKUP(G28,Construction!$C$11:G21,2),(VLOOKUP(G28,Construction!$O$43:$P$53,2)-1)*0.27+1)","v":1.135},{"$f":"IF($I$2=\"Existing\",(1-D105/E105),(IF($I$2=\"Design 1\",(1-F105/E105),(IF($I$2=\"Design 2\",(1-G105/E105),(IF($I$2=\"Optimal\",(1-I105/E105),0)))))))","v":0},{"$f":"IF(I24=INDEX(MedConf_Header,1,2),VLOOKUP(I28,Construction!$C$11:I21,2),(VLOOKUP(I28,Construction!$O$43:$P$53,2)-1)*0.27+1)","v":0.9},null,{"$f":"INDEX($D105:$I105,K$100)","v":1.135},{"$f":"INDEX($D105:$I105,L$100)","v":0.93},0.18061674008810569,null,0.15503875968992242]
[null,null,"Inside Shoulder Width",{"$f":"IF(AND(D24=INDEX(MedConf_Header,1,2), NOT(ISBLANK(D29))), EXP(-0.026*(D29-4)), 1)","v":1},{"$f":"IF(AND(E24=INDEX(MedConf_Header,1,2), NOT(ISBLANK(E29))), EXP(-0.026*(E29-4)), 1)","v":1},{"$f":"IF(AND(F24=INDEX(MedConf_Header,1,2), NOT(ISBLANK(F29))), EXP(-0.026*(F29-4)), 1)","v":1},{"$f":"IF(AND(G24=INDEX(MedConf_Header,1,2), NOT(ISBLANK(G29))), EXP(-0.026*(G29-4)), 1)","v":1},0,{"$f":"IF(AND(I24=INDEX(MedConf_Header,1,2), NOT(ISBLANK(I29))), EXP(-0.026*(I29-4)), 1)","v":0.85555919037101846},null,{"$f":"INDEX($D106:$I106,K$100)","v":1},{"$f":"INDEX($D106:$I106,L$100)","v":1},0,null,0]
[null,null,"HC and Grade",{"$f":"D$138^D$131","v":1},{"$f":"E$138^E$131","v":1},1,1,0,{"$f":"I$138^I$131","v":{"$error":"#VALUE!"}},null,{"$f":"INDEX($D107:$I107,K$100)","v":1},{"$f":"INDEX($D107:$I107,L$100)","v":1},0,null,0]
[null,null,"HC and VC Crest type I",{"$f":"D$139^D$132","v":1},{"$f":"E$139^E$132","v":1},1,1,0,{"$f":"I$139^I$132","v":{"$error":"#VALUE!"}},null,{"$f":"INDEX($D108:$I108,K$100)","v":1},{"$f":"INDEX($D108:$I108,L$100)","v":1},0,null,0]
[null,null,"HC and VC Sag type I",{"$f":"D$140^D$133","v":1},{"$f":"E$140^E$133","v":1},1,1,0,{"$f":"I$140^I$133","v":{"$error":"#VALUE!"}},{"$f":"1-I115/E115","v":{"$error":"#VALUE!"}},{"$f":"INDEX($D109:$I109,K$100)","v":1},{"$f":"INDEX($D109:$I109,L$100)","v":1},0,null,0]
[null,null,"HC and VC Crest type II",{"$f":"D$141^D$134","v":1},{"$f":"E$141^E$134","v":1},1,1,0,{"$f":"I$141^I$134","v":{"$error":"#VALUE!"}},{"$f":"1-I116/E116","v":{"$error":"#VALUE!"}},{"$f":"INDEX($D110:$I110,K$100)","v":1},{"$f":"INDEX($D110:$I110,L$100)","v":1},0,null,0]
[null,null,"HC and VC Sag type II",{"$f":"D$142^D$135","v":1},{"$f":"E$142^E$135","v":1},1,1,0,{"$f":"I$142^I$135","v":{"$error":"#VALUE!"}},{"$f":"1-I117/E117","v":{"$error":"#VALUE!"}},{"$f":"INDEX($D111:$I111,K$100)","v":1},{"$f":"INDEX($D111:$I111,L$100)","v":1},0,null,0]
[null,null,"Add TWLTL",{"$f":"IF(D$47=\"No\",1,CMFs!$F$17)","v":0.71},{"$f":"IF(E$47=\"No\",1,CMFs!$F$17)","v":0.71},{"$f":"IF(F$47=\"No\",1,CMFs!$F$17)","v":0.71},{"$f":"IF(G$47=\"No\",1,CMFs!$F$17)","v":0.71},0,{"$f":"IF(I$47=\"No\",1,CMFs!$F$17)","v":0.71},{"$f":"1-I118/E118","v":{"$error":"#VALUE!"}},{"$f":"INDEX($D112:$I112,K$100)","v":0.71},{"$f":"INDEX($D112:$I112,L$100)","v":0.71},0,null,0]
[null,null,"Provide passing lane",{"$f":"IF(D$48=\"No\",1,CMFs!$F$21)","v":0.75},{"$f":"IF(E$48=\"No\",1,CMFs!$F$21)","v":0.75},{"$f":"IF(F$48=\"No\",1,CMFs!$F$21)","v":0.75},{"$f":"IF(G$48=\"No\",1,CMFs!$F$21)","v":0.75},0,{"$f":"IF(I$48=\"No\",1,CMFs!$F$21)","v":0.75},{"$f":"I119/E119","v":{"$error":"#VALUE!"}},{"$f":"INDEX($D113:$I113,K$100)","v":0.75},{"$f":"INDEX($D113:$I113,L$100)","v":0.75},0,null,0]
[]
[null,null,"COMBINED Calculated CMF",{"$f":"+D104*D105*D106*D107*D108*D109*D110*D111*D112*D113*D103*D102","v":{"$error":"#N/A"}},{"$f":"+E104*E105*E106*E107*E108*E109*E110*E111*E112*E113*E103*E102","v":0.45065475000000005},{"$error":"#N/A"},{"$error":"#N/A"},{"$f":"IF($I$2=\"Existing\",(D115),(IF($I$2=\"Design 1\",(F115),(IF($I$2=\"Design 2\",(G115),(IF($I$2=\"Optimal\",(I115),E115)))))))","v":0.45065475000000005},{"$f":"+I104*I105*I106*I107*I108*I109*I110*I111*I112*I113*I103*I102","v":{"$error":"#VALUE!"}},null,{"$f":"INDEX($D115:$I115,K$100)","v":{"$error":"#N/A"}},{"$f":"INDEX($D115:$I115,L$100)","v":0.45065475000000005},{"$f":"IF(ISERROR(1-L115/K115), 0, 1-L115/K115)","v":0},null,0]
[null,null,"Calculated Relative to Design Standards (Column E)",{"$f":"+D115/$E$115","v":{"$error":"#N/A"}},1,{"$error":"#N/A"},{"$error":"#N/A"},1,{"$error":"#VALUE!"},null,{"$f":"INDEX($D116:$I116,K$100)","v":{"$error":"#N/A"}},{"$f":"INDEX($D116:$I116,L$100)","v":1},0,null,0]
[null,null,"P(Crash)",{"$f":"+D116/(D116+1)","v":{"$error":"#N/A"}},0.5,{"$error":"#N/A"},{"$error":"#N/A"},0.5,{"$error":"#VALUE!"},null,{"$f":"INDEX($D117:$I117,K$100)","v":{"$error":"#N/A"}},{"$f":"INDEX($D117:$I117,L$100)","v":0.5},0,null,0]
[null,null,"Factor Change on S curve",{"$f":"+D117/$E$117","v":{"$error":"#N/A"}},1,{"$error":"#N/A"},{"$error":"#N/A"},1,{"$error":"#VALUE!"},null,{"$f":"INDEX($D118:$I118,K$100)","v":{"$error":"#N/A"}},{"$f":"INDEX($D118:$I118,L$100)","v":1},0,null,0]
[null,null,"Adjust to Scale of 100",{"$f":"+$I$118/D118*100","v":{"$error":"#VALUE!"}},{"$error":"#VALUE!"},{"$error":"#VALUE!"},{"$error":"#VALUE!"},{"$error":"#VALUE!"},{"$error":"#VALUE!"},null,{"$f":"INDEX($D119:$I119,K$100)","v":{"$error":"#VALUE!"}},{"$f":"INDEX($D119:$I119,L$100)","v":{"$error":"#VALUE!"}},0]
[null,null,"Unadjusted Combined Relative to Standard",{"$f":"+D115/$E$115","v":{"$error":"#N/A"}},1,{"$error":"#N/A"},{"$error":"#N/A"},1,{"$error":"#VALUE!"},{"$f":"I126/E126","v":{"$error":"#VALUE!"}},{"$f":"INDEX($D120:$I120,K$100)","v":{"$error":"#N/A"}},{"$f":"INDEX($D120:$I120,L$100)","v":1},0,null,0]
[]
[null,null,"Adjusted for PA Basis",{"$f":"+D115*(1+1)/(1+D115*1)","v":{"$error":"#N/A"}},0.62131220402373488,{"$error":"#N/A"},{"$error":"#N/A"},{"$f":"IF($I$2=\"Existing\",(D122),(IF($I$2=\"Design 1\",(F122),(IF($I$2=\"Design 2\",(G122),(IF($I$2=\"Optimal\",(I122),E122)))))))","v":0.62131220402373488},{"$error":"#VALUE!"},null,{"$f":"INDEX($D122:$I122,K$100)","v":{"$error":"#N/A"}},{"$f":"INDEX($D122:$I122,L$100)","v":0.62131220402373488},{"$f":"IF(ISERROR(1-L122/K122), 0, 1-L122/K122)","v":0},null,0]
[null,null,"Corrected by Odds Ratio",{"$f":"+D122/$E$122","v":{"$error":"#N/A"}},1,{"$error":"#N/A"},{"$error":"#N/A"},{"$f":"IF($I$2=\"Existing\",(D123),(IF($I$2=\"Design 1\",(F123),(IF($I$2=\"Design 2\",(G123),(IF($I$2=\"Optimal\",(I123),E123)))))))","v":1},{"$error":"#VALUE!"},{"$f":"I129/E129","v":{"$error":"#VALUE!"}},{"$f":"INDEX($D123:$I123,K$100)","v":{"$error":"#N/A"}},{"$f":"INDEX($D123:$I123,L$100)","v":1},0,null,0]
[null,null,"Pinned s",{"$f":"(1/D123)^$D127","v":{"$error":"#N/A"}},{"$f":"(1/E123)^$D127","v":{"$error":"#VALUE!"}},{"$error":"#N/A"},{"$f":"IF(ISERROR((1/G123)^$D127), 0, (1/G123)^$D127)","v":0},{"$error":"#VALUE!"},{"$error":"#VALUE!"},null,{"$f":"INDEX($D124:$I124,K$100)","v":{"$error":"#N/A"}},{"$f":"INDEX($D124:$I124,L$100)","v":{"$error":"#VALUE!"}},0,null,0]
[null,null,null,{"$f":"(D124+$F128-1)/(1+(D124+$F128-1))","v":{"$error":"#N/A"}},{"$f":"(E124+$F128-1)/(1+(E124+$F128-1))","v":{"$error":"#VALUE!"}},{"$error":"#N/A"},0.57142857142857151,{"$error":"#VALUE!"},{"$error":"#VALUE!"},null,{"$f":"INDEX($D125:$I125,K$100)","v":{"$error":"#N/A"}},{"$f":"INDEX($D125:$I125,L$100)","v":{"$error":"#VALUE!"}},0,null,0]
[null,null,"Score Odds Ratio with Optimal (old)",{"$f":"MIN(ROUND($I$123/D123*Construction!$I$2,0),$I126)","v":{"$error":"#VALUE!"}},{"$f":"MIN(ROUND($I$123/E123*Construction!$I$2,0),$I126)","v":{"$error":"#VALUE!"}},{"$f":"MIN(ROUND($I$123/F123*Construction!$I$2,0),$I126)","v":{"$error":"#VALUE!"}},{"$f":"MIN(ROUND($I$123/G123*Construction!$I$2,0),$I126)","v":{"$error":"#VALUE!"}},{"$f":"IF($I$2=\"Existing\",(D126),(IF($I$2=\"Design 1\",(F126),(IF($I$2=\"Design 2\",(G126),(IF($I$2=\"Optimal\",(I126),E126)))))))","v":{"$error":"#VALUE!"}},{"$f":"ROUND($I$123/I123*Construction!$I$2,0)","v":{"$error":"#VALUE!"}}]
[null,null,"Logistic1",{"$f":"LN((D128/(1-D128))/(0.5/0.5))/LN(IF($E123/I123=1,0.999,$E123/I123))","v":{"$error":"#VALUE!"}}]
[null,null,"Logistic Param",0.999,null,{"$f":"0.7/0.3","v":2.3333333333333335}]
[null,null,"Score ",{"$f":"MIN(ROUND(D125*Construction!$I$2,0),$I126)","v":{"$error":"#N/A"}},{"$f":"MIN(ROUND(E125*Construction!$I$2,0),$I126)","v":{"$error":"#VALUE!"}},{"$f":"MIN(ROUND(F125*Construction!$I$2,0),$I126)","v":{"$error":"#N/A"}},{"$f":"MIN(ROUND(G125*Construction!$I$2,0),$I126)","v":{"$error":"#VALUE!"}},{"$f":"MIN(ROUND(H125*Construction!$I$2,0),$I126)","v":{"$error":"#VALUE!"}},{"$f":"MIN(ROUND(I125*Construction!$I$2,0),$I126)","v":{"$error":"#VALUE!"}}]
[]
[null,null,"HC and Grade",{"$f":"IF($B$139,0,1)","v":1},{"$f":"IF($B$139,0,1)","v":1},1,1,{"$f":"IF($I$2=\"Existing\",(D131),(IF($I$2=\"Design 1\",(F131),(IF($I$2=\"Design 2\",(G131),(IF($I$2=\"Optimal\",(I131),E131)))))))","v":1},{"$f":"IF($B$139,0,1)","v":1}]
["HC?",null,"HC and VC Crest type I",{"$f":"IF(AND($B$139=1,SIGN(D$40)=1,ABS(D$40)<=ABS(D$40-D$41),D$46=\"Crest\"),1,0)","v":0},{"$f":"IF(AND($B$139=1,SIGN(IF(ISNUMBER(E$40),E$40,0))=1,\n  ABS(IF(ISNUMBER(E$40),E$40,0))<=ABS(IF(ISNUMBER(E$40),E$40,0)-IF(ISNUMBER(E$41),E$41,0)),E$46=\"Crest\"),\n  1,0)","v":0},{"$f":"IF(AND($B$139=1,SIGN(F$40)=1,ABS(F$40)<=ABS(F$40-F$41),F$46=\"Crest\"),1,0)","v":0},{"$f":"IF(AND($B$139=1,SIGN(G$40)=1,ABS(G$40)<=ABS(G$40-G$41),G$46=\"Crest\"),1,0)","v":0},{"$f":"IF($I$2=\"Existing\",(D132),(IF($I$2=\"Design 1\",(F132),(IF($I$2=\"Design 2\",(G132),(IF($I$2=\"Optimal\",(I132),E132)))))))","v":0},{"$f":"IF(AND($B$138=1,SIGN(I$40)=1,ABS(I$40)<=ABS(I$40-IF(ISNUMBER(I$41), I$41,0)),I$46=\"Crest\"),1,0)","v":{"$error":"#VALUE!"}},null,{"$f":"INDEX($D132:$I132,K$100)","v":0},{"$f":"INDEX($D132:$I132,L$100)","v":0},{"$f":"IF(ISERROR(1-L132/K132), 0, 1-L132/K132)","v":0}]
["VC?",null,"HC and VC Sag type I",{"$f":"IF(AND($B$139=1,SIGN(D$40)=1,ABS(D$40)<=ABS(D$40-D$41),D$46=\"Sag\"),1,0)","v":0},{"$f":"IF(AND($B$139=1,SIGN(IF(ISNUMBER(E$40),E$40,0))=1,\n  ABS(IF(ISNUMBER(E$40),E$40,0))<=ABS(IF(ISNUMBER(E$40),E$40,0)-IF(ISNUMBER(E$41),E$41,0)),E$46=\"Sag\"),\n  1,0)","v":0},{"$f":"IF(AND($B$139=1,SIGN(F$40)=1,ABS(F$40)<=ABS(F$40-F$41),F$46=\"Sag\"),1,0)","v":0},{"$f":"IF(AND($B$139=1,SIGN(G$40)=1,ABS(G$40)<=ABS(G$40-G$41),G$46=\"Sag\"),1,0)","v":0},{"$f":"IF($I$2=\"Existing\",(D133),(IF($I$2=\"Design 1\",(F133),(IF($I$2=\"Design 2\",(G133),(IF($I$2=\"Optimal\",(I133),E133)))))))","v":0},{"$f":"IF(AND($B$138=1,SIGN(I$40)=1,ABS(I$40)<=ABS(I$40-IF(ISNUMBER(I$41), I$41,0)),I$46=\"Sag\"),1,0)","v":{"$error":"#VALUE!"}},null,{"$f":"INDEX($D133:$I133,K$100)","v":0},{"$f":"INDEX($D133:$I133,L$100)","v":0},0]
[null,null,"HC and VC Crest type II",{"$f":"IF(AND($B$139=1,D$46=\"Crest\",D$132=0),1,0)","v":0},{"$f":"IF(AND($B$139=1,E$46=\"Crest\",E$132=0),1,0)","v":0},{"$f":"IF(AND($B$139=1,F$46=\"Crest\",F$132=0),1,0)","v":0},{"$f":"IF(AND($B$139=1,G$46=\"Crest\",G$132=0),1,0)","v":0},{"$f":"IF($I$2=\"Existing\",(D134),(IF($I$2=\"Design 1\",(F134),(IF($I$2=\"Design 2\",(G134),(IF($I$2=\"Optimal\",(I134),E134)))))))","v":0},{"$f":"IF(AND($B$139=1,I$46=\"Crest\",I$132=0),1,0)","v":{"$error":"#VALUE!"}},null,{"$f":"INDEX($D134:$I134,K$100)","v":0},{"$f":"INDEX($D134:$I134,L$100)","v":0},0]
[null,null,"HC and VC Sag type II",{"$f":"IF(AND($B$139=1,D$46=\"Sag\",D$133=0),1,0)","v":0},{"$f":"IF(AND($B$139=1,E$46=\"Sag\",E$133=0),1,0)","v":0},{"$f":"IF(AND($B$139=1,F$46=\"Sag\",F$133=0),1,0)","v":0},{"$f":"IF(AND($B$139=1,G$46=\"Sag\",G$133=0),1,0)","v":0},{"$f":"IF($I$2=\"Existing\",(D135),(IF($I$2=\"Design 1\",(F135),(IF($I$2=\"Design 2\",(G135),(IF($I$2=\"Optimal\",(I135),E135)))))))","v":0},{"$f":"IF(AND($B$139=1,I$46=\"Sag\",I$133=0),1,0)","v":{"$error":"#VALUE!"}},null,{"$f":"INDEX($D135:$I135,K$100)","v":0},{"$f":"INDEX($D135:$I135,L$100)","v":0},0]
[null,"Yes/No"]
[null,null,"HC and VC:"]
[null,{"$f":"IF(B31=\"Yes\",1,0)","v":0},"HC and Grade",{"$f":"IF($B$139=0,\n  EXP(0.042*ABS(D$40)\n    +$B$138*0.16*LN(2*5730/IF(ISNUMBER(D$33),D$33,1))*$B$138\n    +4.16*$B$138/IF(ISNUMBER(D$33),D$33,1)/IF( AND(ISNUMBER(D$34),D$34<>0),D$34,1)),\n  1)","v":1},{"$f":"IF($B$139=0,\n  EXP(0.042*ABS(D$40)\n    +$B$138*0.16*LN(2*5730/IF(ISNUMBER(E$33),E$33,1))*$B$138\n    +4.16*$B$138/IF(ISNUMBER(E$33),E$33,1)/IF( AND(ISNUMBER(E$34),E$34<>0),E$34,1)),\n  1)","v":1},{"$f":"IF($B$139=0,\n  EXP(0.042*ABS(F$40)\n    +$B$138*0.16*LN(2*5730/IF(ISNUMBER(F$33),F$33,1))*$B$138\n    +4.16*$B$138/IF(ISNUMBER(F$33),F$33,1)/IF( AND(ISNUMBER(F$34),F$34<>0),F$34,1)),\n  1)","v":1},{"$f":"IF($B$139=0,\n  EXP(0.042*ABS(G$40)\n    +$B$138*0.16*LN(2*5730/IF(ISNUMBER(G$33),G$33,1))*$B$138\n    +4.16*$B$138/IF(ISNUMBER(G$33),G$33,1)/IF( AND(ISNUMBER(G$34),G$34<>0),G$34,1)),\n  1)","v":1},null,{"$f":"IF($B$139=0,\n  EXP(0.042*ABS(I$40)\n    +$B$138*0.16*LN(2*5730/IF(ISNUMBER(I$33),I$33,1))*$B$138\n    +4.16*$B$138/IF(ISNUMBER(I$33),I$33,1)/IF( AND(ISNUMBER(I$34),I$34<>0),I$34,1)),\n  1)","v":{"$error":"#VALUE!"}},null,{"$f":"INDEX($D138:$I138,K$100)","v":1},{"$f":"INDEX($D138:$I138,L$100)","v":1},{"$f":"IF(ISERROR(1-L138/K138), 0, 1-L138/K138)","v":0},null,0]
[null,{"$f":"IF(B38=\"Yes\",1,0)","v":0},"HC and VC Crest type I",{"$f":"IF($B$139=0,1,EXP(0.005648908*5730*ABS(+D$40-D$41)*$B$139/D$145*$B$138))","v":1},{"$f":"IF($B$139=0,1,EXP(0.005648908*5730*ABS(+E$40-E$41)*$B$139/E$145*$B$138))","v":1},1,1,{"$f":"IF($I$2=\"Existing\",(D139),(IF($I$2=\"Design 1\",(F139),(IF($I$2=\"Design 2\",(G139),(IF($I$2=\"Optimal\",(I139),E139)))))))","v":1},1,null,{"$f":"INDEX($D139:$I139,K$100)","v":1},{"$f":"INDEX($D139:$I139,L$100)","v":1},0,null,0]
[null,null,"HC and VC Sag type I",{"$f":"IF($B$139=0,1,EXP(9.15857042*$B$139/D$146+0.010284958*5730*$B$139*$B$138*ABS(+D$40-D$41)/D$145))","v":1},{"$f":"IF($B$139=0,1,EXP(9.15857042*$B$139/E$146+0.010284958*5730*$B$139*$B$138*ABS(+E$40-E$41)/E$145))","v":1},1,1,{"$f":"IF($I$2=\"Existing\",(D140),(IF($I$2=\"Design 1\",(F140),(IF($I$2=\"Design 2\",(G140),(IF($I$2=\"Optimal\",(I140),E140)))))))","v":1},1,null,{"$f":"INDEX($D140:$I140,K$100)","v":1},{"$f":"INDEX($D140:$I140,L$100)","v":1},0,null,0]
[null,null,"HC and VC Crest type II",{"$f":"IF($B$139=0,1,EXP(0.005648908*5730*ABS(+D$40-D$41)*$B$139/D$145*$B$138))","v":1},{"$f":"IF($B$139=0,1,EXP(0.005648908*5730*ABS(+E$40-E$41)*$B$139/E$145*$B$138))","v":1},1,1,{"$f":"IF($I$2=\"Existing\",(D141),(IF($I$2=\"Design 1\",(F141),(IF($I$2=\"Design 2\",(G141),(IF($I$2=\"Optimal\",(I141),E141)))))))","v":1},1,null,{"$f":"INDEX($D141:$I141,K$100)","v":1},{"$f":"INDEX($D141:$I141,L$100)","v":1},0,null,0]
[null,null,"HC and VC Sag type II",{"$f":"IF($B$139=0,1,(0.246011284*EXP(LN(0.188*2*5730/D$145)*$B$138)+0.753988716*EXP(0.022*5730/D$145*ABS(D$40-D$41)*$B$139*$B$138)))","v":1},{"$f":"IF($B$139=0,1,(0.246011284*EXP(LN(0.188*2*5730/E$145)*$B$138)+0.753988716*EXP(0.022*5730/E$145*ABS(E$40-E$41)*$B$139*$B$138)))","v":1},1,1,{"$f":"IF($I$2=\"Existing\",(D142),(IF($I$2=\"Design 1\",(F142),(IF($I$2=\"Design 2\",(G142),(IF($I$2=\"Optimal\",(I142),E142)))))))","v":1},1,null,{"$f":"INDEX($D142:$I142,K$100)","v":1},{"$f":"INDEX($D142:$I142,L$100)","v":1},0,null,0]
[]
[null,null,"Combined HZ and VT",{"$f":"MMULT(TRANSPOSE(D131:D135),D138:D142)","v":1},{"$f":"MMULT(TRANSPOSE(E131:E135),E138:E142)","v":1},{"$f":"MMULT(TRANSPOSE(F131:F135),F138:F142)","v":1},{"$f":"MMULT(TRANSPOSE(G131:G135),G138:G142)","v":1},{"$f":"IF($I$2=\"Existing\",(D144),(IF($I$2=\"Design 1\",(F144),(IF($I$2=\"Design 2\",(G144),(IF($I$2=\"Optimal\",(I144),E144)))))))","v":1},{"$f":"MMULT(TRANSPOSE(I131:I135),I138:I142)","v":{"$error":"#VALUE!"}},null,{"$f":"INDEX($D144:$I144,K$100)","v":1},{"$f":"INDEX($D144:$I144,L$100)","v":1},{"$f":"IF(ISERROR(1-L144/K144), 0, 1-L144/K144)","v":0},null,0]
[null,null,"effective R for calculation",{"$f":"IF(ISNUMBER(D33), D33, 99999999)","v":99999999},{"$f":"IF(ISNUMBER(E33), E33, 99999999)","v":590},99999999,99999999,null,590]
[null,null,"effective K for calculation",{"$f":"IF(ISNUMBER(D43), D43, 99999999)","v":99999999},{"$f":"IF(ISNUMBER(E43), E43, 99999999)","v":99999999},99999999,99999999,null,99999999]
[null,"Traffic"]
[null,null,null,"Existing","Standard","Design 1","Design 2"]
[null,null,"Advance static curve warning signs",{"$f":"IF(D24=INDEX(MedConf_Header,1,2),IF(AND($B$31=\"Yes\",D$56=\"Yes\"),(Traffic!$F$4-1)*AVERAGE(Constraints!$F$24,Constraints!$H$24)/Constraints!$D$24+1,1),(IF(AND($B$31=\"Yes\",D$56=\"Yes\"),(Traffic!$F$4-1)*AVERAGE(Constraints!$F$38,Constraints!$H$38)/Constraints!$D$38+1,1)))","v":1},{"$f":"IF(AND($B$31=\"Yes\",E$56=\"Yes\"),(Traffic!$F$4-1)*AVERAGE(Constraints!$F$24,Constraints!$H$24)/Constraints!$D$24+1,1)","v":1},{"$f":"IF(F24=INDEX(MedConf_Header,1,2),IF(AND($B$31=\"Yes\",F$56=\"Yes\"),(Traffic!$F$4-1)*AVERAGE(Constraints!$F$24,Constraints!$H$24)/Constraints!$D$24+1,1),(IF(AND($B$31=\"Yes\",F$56=\"Yes\"),(Traffic!$F$4-1)*AVERAGE(Constraints!$F$38,Constraints!$H$38)/Constraints!$D$38+1,1)))","v":1},{"$f":"IF(G24=INDEX(MedConf_Header,1,2),IF(AND($B$31=\"Yes\",G$56=\"Yes\"),(Traffic!$F$4-1)*AVERAGE(Constraints!$F$24,Constraints!$H$24)/Constraints!$D$24+1,1),(IF(AND($B$31=\"Yes\",G$56=\"Yes\"),(Traffic!$F$4-1)*AVERAGE(Constraints!$F$38,Constraints!$H$38)/Constraints!$D$38+1,1)))","v":1},{"$f":"IF($I$2=\"Existing\",(D149),(IF($I$2=\"Design 1\",(F149),(IF($I$2=\"Design 2\",(G149),(IF($I$2=\"Optimal\",(I149),E149)))))))","v":1},{"$f":"IF(AND($B$31=\"Yes\",I$56=\"Yes\"),(Traffic!$F$4-1)*AVERAGE(Constraints!$F$24,Constraints!$H$24)/Constraints!$D$24+1,1)","v":1},null,{"$f":"INDEX($D149:$I149,K$100)","v":1},{"$f":"INDEX($D149:$I149,L$100)","v":1},{"$f":"IF(ISERROR(1-L149/K149), 0, 1-L149/K149)","v":0},null,0]
[null,null,"Install chevron signs on horizontal curves",{"$f":"IF(D24=INDEX(MedConf_Header,1,2),(IF(D$57=\"No\",1,(IF(AND($B$31=\"Yes\",D$27<11.5),((Traffic!$F$6-1)*(Constraints!$E$18+Constraints!$E$22))+1,1)))),(IF(D$57=\"No\",1,(IF(AND($B$31=\"Yes\",D$27<11.5),((Traffic!$F$6-1)*(Constraints!$E$32+Constraints!$E$36))+1,1)))))","v":1},{"$f":"IF(E$57=\"No\",1,(IF(AND($B$31=\"Yes\",E$27<11.5),((Traffic!$F$6-1)*(Constraints!$E$18+Constraints!$E$22))+1,1)))","v":1},{"$f":"IF(F24=INDEX(MedConf_Header,1,2),(IF(F$57=\"No\",1,(IF(AND($B$31=\"Yes\",F$27<11.5),((Traffic!$F$6-1)*(Constraints!$E$18+Constraints!$E$22))+1,1)))),(IF(F$57=\"No\",1,(IF(AND($B$31=\"Yes\",F$27<11.5),((Traffic!$F$6-1)*(Constraints!$E$32+Constraints!$E$36))+1,1)))))","v":1},{"$f":"IF(G24=INDEX(MedConf_Header,1,2),(IF(G$57=\"No\",1,(IF(AND($B$31=\"Yes\",G$27<11.5),((Traffic!$F$6-1)*(Constraints!$E$18+Constraints!$E$22))+1,1)))),(IF(G$57=\"No\",1,(IF(AND($B$31=\"Yes\",G$27<11.5),((Traffic!$F$6-1)*(Constraints!$E$32+Constraints!$E$36))+1,1)))))","v":1},{"$f":"IF($I$2=\"Existing\",(D150),(IF($I$2=\"Design 1\",(F150),(IF($I$2=\"Design 2\",(G150),(IF($I$2=\"Optimal\",(I150),E150)))))))","v":1},{"$f":"IF(I$57=\"No\",1,(IF(AND($B$31=\"Yes\",I$27<11.5),((Traffic!$F$6-1)*(Constraints!$E$18+Constraints!$E$22))+1,1)))","v":1},null,{"$f":"INDEX($D150:$I150,K$100)","v":1},{"$f":"INDEX($D150:$I150,L$100)","v":1},0,null,0]
[null,null,"Install post-mounted delineators",{"$f":"IF(D24=INDEX(MedConf_Header,1,2),IF(AND($B$31=\"Yes\",D$58=\"Yes\"),(Traffic!$F$12-1)*Constraints!$E$17+1,1),(IF(AND($B$31=\"Yes\",D$58=\"Yes\"),(Traffic!$F$12-1)*Constraints!$E$31+1,1)))","v":1},{"$f":"IF(AND($B$31=\"Yes\",E$58=\"Yes\"),(Traffic!$F$12-1)*Constraints!$E$17+1,1)","v":1},{"$f":"IF(F24=INDEX(MedConf_Header,1,2),IF(AND($B$31=\"Yes\",F$58=\"Yes\"),(Traffic!$F$12-1)*Constraints!$E$17+1,1),(IF(AND($B$31=\"Yes\",F$58=\"Yes\"),(Traffic!$F$12-1)*Constraints!$E$31+1,1)))","v":1},{"$f":"IF(G24=INDEX(MedConf_Header,1,2),IF(AND($B$31=\"Yes\",G$58=\"Yes\"),(Traffic!$F$12-1)*Constraints!$E$17+1,1),(IF(AND($B$31=\"Yes\",G$58=\"Yes\"),(Traffic!$F$12-1)*Constraints!$E$31+1,1)))","v":1},{"$f":"IF($I$2=\"Existing\",(D151),(IF($I$2=\"Design 1\",(F151),(IF($I$2=\"Design 2\",(G151),(IF($I$2=\"Optimal\",(I151),E151)))))))","v":1},{"$f":"IF(AND($B$31=\"Yes\",I$58=\"Yes\"),(Traffic!$F$12-1)*Constraints!$E$17+1,1)","v":1},null,{"$f":"INDEX($D151:$I151,K$100)","v":1},{"$f":"INDEX($D151:$I151,L$100)","v":1},0,null,0]
[null,null,"Install edgeline  or Profile pavement markings ",{"$f":"IF(D24=INDEX(MedConf_Header,1,2),(IF(D$59=\"Yes\",Traffic!$F$18*0.5+((Traffic!$F$20*(Constraints!$H$17+Constraints!$H$20+Constraints!$H$21)+1*(Constraints!$H$24-(Constraints!$H$17+Constraints!$H$20+Constraints!$H$21)))/Constraints!$H$24)*0.5,1)),(IF(D$59=\"Yes\",Traffic!$F$18*0.5+((Traffic!$F$20*(Constraints!$H$31+Constraints!$H$34+Constraints!$H$35)+1*(Constraints!$H$38-(Constraints!$H$31+Constraints!$H$34+Constraints!$H$35)))/Constraints!$H$38)*0.5,1)))","v":1},{"$f":"IF(E24=INDEX(MedConf_Header,1,2),(IF(E$59=\"Yes\",Traffic!$F$18*0.5+((Traffic!$F$20*(Constraints!$H$17+Constraints!$H$20+Constraints!$H$21)+1*(Constraints!$H$24-(Constraints!$H$17+Constraints!$H$20+Constraints!$H$21)))/Constraints!$H$24)*0.5,1)),(IF(E$59=\"Yes\",Traffic!$F$18*0.5+((Traffic!$F$20*(Constraints!$H$31+Constraints!$H$34+Constraints!$H$35)+1*(Constraints!$H$38-(Constraints!$H$31+Constraints!$H$34+Constraints!$H$35)))/Constraints!$H$38)*0.5,1)))","v":1},{"$f":"IF(F24=INDEX(MedConf_Header,1,2),(IF(F$59=\"Yes\",Traffic!$F$18*0.5+((Traffic!$F$20*(Constraints!$H$17+Constraints!$H$20+Constraints!$H$21)+1*(Constraints!$H$24-(Constraints!$H$17+Constraints!$H$20+Constraints!$H$21)))/Constraints!$H$24)*0.5,1)),(IF(F$59=\"Yes\",Traffic!$F$18*0.5+((Traffic!$F$20*(Constraints!$H$31+Constraints!$H$34+Constraints!$H$35)+1*(Constraints!$H$38-(Constraints!$H$31+Constraints!$H$34+Constraints!$H$35)))/Constraints!$H$38)*0.5,1)))","v":1},{"$f":"IF(G24=INDEX(MedConf_Header,1,2),(IF(G$59=\"Yes\",Traffic!$F$18*0.5+((Traffic!$F$20*(Constraints!$H$17+Constraints!$H$20+Constraints!$H$21)+1*(Constraints!$H$24-(Constraints!$H$17+Constraints!$H$20+Constraints!$H$21)))/Constraints!$H$24)*0.5,1)),(IF(G$59=\"Yes\",Traffic!$F$18*0.5+((Traffic!$F$20*(Constraints!$H$31+Constraints!$H$34+Constraints!$H$35)+1*(Constraints!$H$38-(Constraints!$H$31+Constraints!$H$34+Constraints!$H$35)))/Constraints!$H$38)*0.5,1)))","v":1},{"$f":"IF($I$2=\"Existing\",(D152),(IF($I$2=\"Design 1\",(F152),(IF($I$2=\"Design 2\",(G152),(IF($I$2=\"Optimal\",(I152),E152)))))))","v":1},{"$f":"IF(I24=INDEX(MedConf_Header,1,2),(IF(I$59=\"Yes\",Traffic!$F$18*0.5+((Traffic!$F$20*(Constraints!$H$17+Constraints!$H$20+Constraints!$H$21)+1*(Constraints!$H$24-(Constraints!$H$17+Constraints!$H$20+Constraints!$H$21)))/Constraints!$H$24)*0.5,1)),(IF(I$59=\"Yes\",Traffic!$F$18*0.5+((Traffic!$F$20*(Constraints!$H$31+Constraints!$H$34+Constraints!$H$35)+1*(Constraints!$H$38-(Constraints!$H$31+Constraints!$H$34+Constraints!$H$35)))/Constraints!$H$38)*0.5,1)))","v":0.87439641434262949},null,{"$f":"INDEX($D152:$I152,K$100)","v":1},{"$f":"INDEX($D152:$I152,L$100)","v":1},0,null,0.13824118691351761]
[null,null,"Profiles",1,1,1,1,1,1,null,{"$f":"INDEX($D153:$I153,K$100)","v":1},{"$f":"INDEX($D153:$I153,L$100)","v":1},0,null,0]
[null,null,"Shoulder rumble strips",{"$f":"IF(D24=INDEX(MedConf_Header,1,2),(IF(D$60=\"No\",1,(Traffic!$F$27*(Constraints!$H$17+Constraints!$H$20+Constraints!$H$21)+1*(Constraints!$H$24-(Constraints!$H$17+Constraints!$H$20+Constraints!$H$21)))/Constraints!$H$24)),(IF(D$60=\"No\",1,(Traffic!$F$27*(Constraints!$H$31+Constraints!$H$34+Constraints!$H$35)+1*(Constraints!$H$38-(Constraints!$H$31+Constraints!$H$34+Constraints!$H$35)))/Constraints!$H$38)))","v":0.93956289460903353},{"$f":"IF(E$60=\"No\",1,(Traffic!$F$27*(Constraints!$H$17+Constraints!$H$20+Constraints!$H$21)+1*(Constraints!$H$24-(Constraints!$H$17+Constraints!$H$20+Constraints!$H$21)))/Constraints!$H$24)","v":0.91807038512616201},{"$f":"IF(F24=INDEX(MedConf_Header,1,2),(IF(F$60=\"No\",1,(Traffic!$F$27*(Constraints!$H$17+Constraints!$H$20+Constraints!$H$21)+1*(Constraints!$H$24-(Constraints!$H$17+Constraints!$H$20+Constraints!$H$21)))/Constraints!$H$24)),(IF(F$60=\"No\",1,(Traffic!$F$27*(Constraints!$H$31+Constraints!$H$34+Constraints!$H$35)+1*(Constraints!$H$38-(Constraints!$H$31+Constraints!$H$34+Constraints!$H$35)))/Constraints!$H$38)))","v":0.93956289460903353},{"$f":"IF(G24=INDEX(MedConf_Header,1,2),(IF(G$60=\"No\",1,(Traffic!$F$27*(Constraints!$H$17+Constraints!$H$20+Constraints!$H$21)+1*(Constraints!$H$24-(Constraints!$H$17+Constraints!$H$20+Constraints!$H$21)))/Constraints!$H$24)),(IF(G$60=\"No\",1,(Traffic!$F$27*(Constraints!$H$31+Constraints!$H$34+Constraints!$H$35)+1*(Constraints!$H$38-(Constraints!$H$31+Constraints!$H$34+Constraints!$H$35)))/Constraints!$H$38)))","v":0.93956289460903353},{"$f":"IF($I$2=\"Existing\",(D154),(IF($I$2=\"Design 1\",(F154),(IF($I$2=\"Design 2\",(G154),(IF($I$2=\"Optimal\",(I154),E154)))))))","v":0.91807038512616201},{"$f":"IF(I$60=\"No\",1,(Traffic!$F$27*(Constraints!$H$17+Constraints!$H$20+Constraints!$H$21)+1*(Constraints!$H$24-(Constraints!$H$17+Constraints!$H$20+Constraints!$H$21)))/Constraints!$H$24)","v":0.91807038512616201},null,{"$f":"INDEX($D154:$I154,K$100)","v":0.93956289460903353},{"$f":"INDEX($D154:$I154,L$100)","v":0.91807038512616201},2.2875008800570917E-2,null,0]
[null,null,"Install centerline rumble strips",{"$f":"IF(D24=INDEX(MedConf_Header,1,3),(IF(D$61=\"No\",1,(Traffic!$E$81*(Constraints!$H$31+Constraints!$H$34+Constraints!$H$35)+1*(Constraints!$H$38-(Constraints!$H$31+Constraints!$H$34+Constraints!$H$35)))/Constraints!$H$38)+0.001),1)","v":1},{"$f":"IF(E24=INDEX(MedConf_Header,1,3),(IF(E$61=\"No\",1,(Traffic!$E$81*(Constraints!$H$31+Constraints!$H$34+Constraints!$H$35)+1*(Constraints!$H$38-(Constraints!$H$31+Constraints!$H$34+Constraints!$H$35)))/Constraints!$H$38)+0.001),1)","v":1},{"$f":"IF(F24=INDEX(MedConf_Header,1,3),(IF(F$61=\"No\",1,(Traffic!$E$81*(Constraints!$H$31+Constraints!$H$34+Constraints!$H$35)+1*(Constraints!$H$38-(Constraints!$H$31+Constraints!$H$34+Constraints!$H$35)))/Constraints!$H$38)+0.001),1)","v":1},{"$f":"IF(G24=INDEX(MedConf_Header,1,3),(IF(G$61=\"No\",1,(Traffic!$E$81*(Constraints!$H$31+Constraints!$H$34+Constraints!$H$35)+1*(Constraints!$H$38-(Constraints!$H$31+Constraints!$H$34+Constraints!$H$35)))/Constraints!$H$38)+0.001),1)","v":1},{"$f":"IF($I$2=\"Existing\",(D155),(IF($I$2=\"Design 1\",(F155),(IF($I$2=\"Design 2\",(G155),(IF($I$2=\"Optimal\",(I155),E155)))))))","v":1},{"$f":"IF(I24=INDEX(MedConf_Header,1,3),(IF(I$61=\"No\",1,(Traffic!$E$81*(Constraints!$H$31+Constraints!$H$34+Constraints!$H$35)+1*(Constraints!$H$38-(Constraints!$H$31+Constraints!$H$34+Constraints!$H$35)))/Constraints!$H$38)+0.001),1)","v":1},null,{"$f":"INDEX($D155:$I155,K$100)","v":1},{"$f":"INDEX($D155:$I155,L$100)","v":1},0,null,-0.16279069767441867]
[null,null,"Driveway Density (driveways per mile)",{"$f":"EXP(-LN(Traffic!$F$31)*(D$62-$E$62))","v":0.81707280688754669},{"$f":"EXP(-LN(Traffic!$F$31)*(E$62-$E$62))","v":1},{"$f":"EXP(-LN(Traffic!$F$31)*(F$62-$E$62))","v":0.81707280688754669},{"$f":"EXP(-LN(Traffic!$F$31)*(G$62-$E$62))","v":0.81707280688754669},{"$f":"IF($I$2=\"Existing\",(D156),(IF($I$2=\"Design 1\",(F156),(IF($I$2=\"Design 2\",(G156),(IF($I$2=\"Optimal\",(I156),E156)))))))","v":1},{"$f":"EXP(-LN(Traffic!$F$31)*(I$62-$E$62))","v":0.81707280688754669},null,{"$f":"INDEX($D156:$I156,K$100)","v":0.81707280688754669},{"$f":"INDEX($D156:$I156,L$100)","v":1},-0.22388114201141129,null,-0.22388114201141129]
[null,null,"Install lighting",{"$f":"IF(D24=INDEX(MedConf_Header,1,2),(IF(D$63=\"No\",1,1-(((1-Traffic!$F$54*Constraints!$H$24-Constraints!$F$24/3)+((1-Traffic!$F$54*Constraints!$D$24-Constraints!$H$24)))*$S$19+((1-Traffic!$F$56)*Constraints!$F$24/3))/Constraints!$D$24)),(IF(D$63=\"No\",1,1-(((1-Traffic!$F$54*Constraints!$H$38-Constraints!$F$38/3)+((1-Traffic!$F$54*Constraints!$D$38-Constraints!$H$38)))*$S$19+((1-Traffic!$F$56)*Constraints!$F$38/3))/Constraints!$D$38)))","v":0.98319080068143105},{"$f":"IF(E$63=\"No\",1,1-(((1-Traffic!$F$54*Constraints!$H$24-Constraints!$F$24/3)+((1-Traffic!$F$54*Constraints!$D$24-Constraints!$H$24)))*$S$19+((1-Traffic!$F$56)*Constraints!$F$24/3))/Constraints!$D$24)","v":1},{"$f":"IF(F24=INDEX(MedConf_Header,1,2),(IF(F$63=\"No\",1,1-(((1-Traffic!$F$54*Constraints!$H$24-Constraints!$F$24/3)+((1-Traffic!$F$54*Constraints!$D$24-Constraints!$H$24)))*$S$19+((1-Traffic!$F$56)*Constraints!$F$24/3))/Constraints!$D$24)),(IF(F$63=\"No\",1,1-(((1-Traffic!$F$54*Constraints!$H$38-Constraints!$F$38/3)+((1-Traffic!$F$54*Constraints!$D$38-Constraints!$H$38)))*$S$19+((1-Traffic!$F$56)*Constraints!$F$38/3))/Constraints!$D$38)))","v":0.98319080068143105},{"$f":"IF(G24=INDEX(MedConf_Header,1,2),(IF(G$63=\"No\",1,1-(((1-Traffic!$F$54*Constraints!$H$24-Constraints!$F$24/3)+((1-Traffic!$F$54*Constraints!$D$24-Constraints!$H$24)))*$S$19+((1-Traffic!$F$56)*Constraints!$F$24/3))/Constraints!$D$24)),(IF(G$63=\"No\",1,1-(((1-Traffic!$F$54*Constraints!$H$38-Constraints!$F$38/3)+((1-Traffic!$F$54*Constraints!$D$38-Constraints!$H$38)))*$S$19+((1-Traffic!$F$56)*Constraints!$F$38/3))/Constraints!$D$38)))","v":0.98319080068143105},{"$f":"IF($I$2=\"Existing\",(D157),(IF($I$2=\"Design 1\",(F157),(IF($I$2=\"Design 2\",(G157),(IF($I$2=\"Optimal\",(I157),E157)))))))","v":1},{"$f":"IF(I$63=\"No\",1,1-(((1-Traffic!$F$54*Constraints!$H$24-Constraints!$F$24/3)+((1-Traffic!$F$54*Constraints!$D$24-Constraints!$H$24)))*$S$19+((1-Traffic!$F$56)*Constraints!$F$24/3))/Constraints!$D$24)","v":0.98062689234129152},null,{"$f":"INDEX($D157:$I157,K$100)","v":0.98319080068143105},{"$f":"INDEX($D157:$I157,L$100)","v":1},-1.7096579124742384E-2,null,-2.3499081529478438E-2]
[null,null,"Pavement friction (skid number)",{"$f":"EXP(LN(Traffic!$F$48)*(D$64-$E$64))","v":1.3972521419325798},{"$f":"EXP(LN(Traffic!$F$48)*(E$64-$E$64))","v":1},{"$f":"IF(MATCH(F64,SkidNums,0)=3, $D158,EXP(LN([5]Traffic!$F$49)*(RIGHT(F$64,2)-$E$64)))","v":{"$error":"#N/A"}},{"$f":"IF(MATCH(G64,SkidNums,0)=3, $D158,EXP(LN([5]Traffic!$F$49)*(RIGHT(G$64,2)-$E$64)))","v":{"$error":"#N/A"}},{"$f":"IF($I$2=\"Existing\",(D158),(IF($I$2=\"Design 1\",(F158),(IF($I$2=\"Design 2\",(G158),(IF($I$2=\"Optimal\",(I158),E158)))))))","v":1},{"$f":"EXP(LN(Traffic!$F$48)*(I$64-$E$64))","v":0.85753553626991963},null,{"$f":"INDEX($D158:$I158,K$100)","v":1.3972521419325798},{"$f":"INDEX($D158:$I158,L$100)","v":1},0.28430956017940245,null,0]
[]
[]
[null,null,"COMBINED Calculated CMF",{"$f":"+D149*D150*D151*D152*D153*D154*D155*D156*D157*D158","v":1.0546277742651902},{"$f":"+E149*E150*E151*E152*E153*E154*E155*E156*E157*E158","v":0.91807038512616201},{"$error":"#N/A"},{"$error":"#N/A"},{"$f":"IF($I$2=\"Existing\",(D161),(IF($I$2=\"Design 1\",(F161),(IF($I$2=\"Design 2\",(G161),(IF($I$2=\"Optimal\",(I161),E161)))))))","v":0.91807038512616201},{"$f":"+I149*I150*I151*I152*I153*I154*I155*I156*I157*I158","v":0.55157049744255038},null,{"$f":"INDEX($D161:$I161,K$100)","v":1.0546277742651902},{"$f":"INDEX($D161:$I161,L$100)","v":0.91807038512616201},{"$f":"IF(ISERROR(1-L161/K161), 0, 1-L161/K161)","v":0.12948396815565966},null,0]
[null,null,"Calculated Relative to Design Standards (Column E)",{"$f":"+D161/$E$161","v":1.1487439213282784},{"$f":"+E161/$E$161","v":1},{"$error":"#N/A"},{"$error":"#N/A"},1,{"$f":"+I161/$E$161","v":0.60079325766156055},null,{"$f":"INDEX($D162:$I162,K$100)","v":1.1487439213282784},{"$f":"INDEX($D162:$I162,L$100)","v":1},0.12948396815565966,null,0]
[null,null,"P(Crash)",{"$f":"+D162/(D162+1)","v":0.53461183062622242},0.5,{"$error":"#N/A"},{"$error":"#N/A"},0.5,{"$f":"+I162/(I162+1)","v":0.37530971272280322},null,{"$f":"INDEX($D163:$I163,K$100)","v":0.53461183062622242},{"$f":"INDEX($D163:$I163,L$100)","v":0.5},6.4741984077829939E-2]
[null,null,"Factor Change on S curve",{"$f":"+D163/$E$163","v":1.0692236612524448},{"$f":"+E163/$E$163","v":1},{"$f":"+F163/$E$163","v":{"$error":"#N/A"}},{"$error":"#N/A"},1,{"$f":"+I163/$E$163","v":0.75061942544560645},null,{"$f":"INDEX($D164:$I164,K$100)","v":1.0692236612524448},{"$f":"INDEX($D164:$I164,L$100)","v":1},6.4741984077829939E-2]
[null,null,"Adjust to Scale of 100",{"$f":"+$I$118/D164*100","v":{"$error":"#VALUE!"}},{"$error":"#VALUE!"},{"$error":"#VALUE!"},{"$error":"#VALUE!"},{"$error":"#VALUE!"},{"$f":"+$I$118/I164*100","v":{"$error":"#VALUE!"}}]
[null,null,"Unadjusted Combined Relative to Standard",{"$f":"+D161/$E$161","v":1.1487439213282784},{"$f":"+E161/$E$161","v":1},{"$f":"+F161/$E$161","v":{"$error":"#N/A"}},{"$error":"#N/A"},1,{"$f":"+I161/$E$161","v":0.60079325766156055},{"$f":"I172/E172","v":1.3333333333333333},{"$f":"INDEX($D166:$I166,K$100)","v":1.1487439213282784},{"$f":"INDEX($D166:$I166,L$100)","v":1},{"$f":"IF(ISERROR(1-L166/K166), 0, 1-L166/K166)","v":0.12948396815565966}]
[null,null,null,null,null,null,null,0,null,null,{"$f":"INDEX($D167:$I167,K$100)","v":0},{"$f":"INDEX($D167:$I167,L$100)","v":0},0]
[null,null,"Adjusted for PA Basis",{"$f":"+D161*(1+1)/(1+D161*1)","v":1.0265876743950504},0.95728539707970672,{"$error":"#N/A"},{"$error":"#N/A"},0.95728539707970672,{"$f":"+I161*(1+1)/(1+I161*1)","v":0.71098348202895401},null,{"$f":"INDEX($D168:$I168,K$100)","v":1.0265876743950504},{"$f":"INDEX($D168:$I168,L$100)","v":0.95728539707970672},6.750741221998624E-2]
[null,null,"Corrected by Odds Ratio",{"$f":"+D168/$E$168","v":1.0723945831898796},{"$f":"+E168/$E$168","v":1},{"$f":"+F168/$E$168","v":{"$error":"#N/A"}},{"$error":"#N/A"},1,{"$f":"+I168/$E$168","v":0.74270795752017016},{"$f":"I175/E175","v":1.4285714285714286},{"$f":"INDEX($D169:$I169,K$100)","v":1.0723945831898796},{"$f":"INDEX($D169:$I169,L$100)","v":1},6.750741221998624E-2]
[null,null,null,{"$f":"(1/D169)^$D173","v":0.19732178070922252},{"$f":"(1/E169)^$D173","v":1},{"$error":"#N/A"},{"$error":"#N/A"},1,998.99999999999955,null,{"$f":"INDEX($D170:$I170,K$100)","v":0.19732178070922252},{"$f":"INDEX($D170:$I170,L$100)","v":1},-4.0678642591089362]
[null,null,null,{"$f":"(D170+$F174-1)/(1+(D170+$F174-1))","v":0.6048454036857811},{"$f":"(E170+$F174-1)/(1+(E170+$F174-1))","v":0.70000000000000007},{"$error":"#N/A"},{"$error":"#N/A"},0.70000000000000007,0.99900133155792281,null,{"$f":"INDEX($D171:$I171,K$100)","v":0.6048454036857811},{"$f":"INDEX($D171:$I171,L$100)","v":0.70000000000000007},-0.15732052477272696]
[null,null,"Score Odds Ratio with Optimal as 100 (old)",{"$f":"MIN(ROUND($I$169/D169*Construction!$I$3,0),$I172)","v":14},{"$f":"MIN(ROUND($I$169/E169*Construction!$I$3,0),$I172)","v":15},{"$f":"MIN(ROUND($I$169/F169*Construction!$I$3,0),$I172)","v":{"$error":"#N/A"}},{"$f":"MIN(ROUND($I$169/G169*Construction!$I$3,0),$I172)","v":{"$error":"#N/A"}},null,{"$f":"ROUND($I$169/I169*Construction!$I$3,0)","v":20}]
[null,null,"Logistic1",{"$f":"LN((D174/(1-D174))/(0.5/0.5))/LN($E169/I169)","v":23.2196999386987}]
[null,null,"Logistic Param",0.999,null,{"$f":"0.7/0.3","v":2.3333333333333335}]
[null,null,"Score ",{"$f":"MIN(ROUND(D171*Construction!$I$3,0),$I172)","v":12},{"$f":"MIN(ROUND(E171*Construction!$I$3,0),$I172)","v":14},{"$f":"MIN(ROUND(F171*Construction!$I$3,0),$I172)","v":{"$error":"#N/A"}},{"$f":"MIN(ROUND(G171*Construction!$I$3,0),$I172)","v":{"$error":"#N/A"}},null,{"$f":"MIN(ROUND(I171*Construction!$I$3,0),$I172)","v":20}]
[]
[]
[]
[]
[null,null,null,{"$f":"INDEX(MedConf_Header,1,2)","v":"Divided - Unsurfaced Median"}]
[]
[null,"Roadsde",null,"Existing","Standard","Design 1","Design 2"]
[null,null,null,{"$f":"IF(ISBLANK(D75), 0, MID(D75,FIND(\":\",D75,1)+1,FIND(\"H\",D75,1)-FIND(\":\",D75,1)-1)+0)","v":0},{"$f":"MID(E75,FIND(\":\",E75,1)+1,FIND(\"H\",E75,1)-FIND(\":\",E75,1)-1)+0","v":4},{"$f":"IF(ISBLANK(F75), 0, MID(F75,FIND(\":\",F75,1)+1,FIND(\"H\",F75,1)-FIND(\":\",F75,1)-1)+0)","v":0},{"$f":"IF(ISBLANK(G75), 0, MID(G75,FIND(\":\",G75,1)+1,FIND(\"H\",G75,1)-FIND(\":\",G75,1)-1)+0)","v":0},null,{"$f":"MID(I75,FIND(\":\",I75,1)+1,FIND(\"H\",I75,1)-FIND(\":\",I75,1)-1)+0","v":6},null,null,null,null,null,0]
[null,null,"Sideslope (Foreslope)",{"$f":"IF(D24=INDEX(MedConf_Header,1,2),(IF(D183<=3,1,IF(OR(D183=4,D183=5),(Roadside!$F$15-1)*Constraints!$H$24/Constraints!$D$24+1,(Roadside!$F$15*Roadside!$F$16-1)*Constraints!$H$24/Constraints!$D$24+1))),(IF(D183<=3,1,IF(OR(D183=4,D183=5),(Roadside!$F$15-1)*Constraints!$H$38/Constraints!$D$38+1,(Roadside!$F$15*Roadside!$F$16-1)*Constraints!$H$38/Constraints!$D$38+1))))","v":1},{"$f":"IF(E24=INDEX(MedConf_Header,1,2),(IF(E183<=3,1,IF(OR(E183=4,E183=5),(Roadside!$F$15-1)*Constraints!$H$24/Constraints!$D$24+1,(Roadside!$F$15*Roadside!$F$16-1)*Constraints!$H$24/Constraints!$D$24+1))),(IF(E183<=3,1,IF(OR(E183=4,E183=5),(Roadside!$F$15-1)*Constraints!$H$38/Constraints!$D$38+1,(Roadside!$F$15*Roadside!$F$16-1)*Constraints!$H$38/Constraints!$D$38+1))))","v":0.84302377525189853},{"$f":"IF(F24=INDEX(MedConf_Header,1,2),(IF(F183<=3,1,IF(OR(F183=4,F183=5),(Roadside!$F$15-1)*Constraints!$H$24/Constraints!$D$24+1,(Roadside!$F$15*Roadside!$F$16-1)*Constraints!$H$24/Constraints!$D$24+1))),(IF(F183<=3,1,IF(OR(F183=4,F183=5),(Roadside!$F$15-1)*Constraints!$H$38/Constraints!$D$38+1,(Roadside!$F$15*Roadside!$F$16-1)*Constraints!$H$38/Constraints!$D$38+1))))","v":1},{"$f":"IF(G24=INDEX(MedConf_Header,1,2),(IF(G183<=3,1,IF(OR(G183=4,G183=5),(Roadside!$F$15-1)*Constraints!$H$24/Constraints!$D$24+1,(Roadside!$F$15*Roadside!$F$16-1)*Constraints!$H$24/Constraints!$D$24+1))),(IF(G183<=3,1,IF(OR(G183=4,G183=5),(Roadside!$F$15-1)*Constraints!$H$38/Constraints!$D$38+1,(Roadside!$F$15*Roadside!$F$16-1)*Constraints!$H$38/Constraints!$D$38+1))))","v":1},{"$f":"IF($I$2=\"Existing\",(D184),(IF($I$2=\"Design 1\",(F184),(IF($I$2=\"Design 2\",(G184),(IF($I$2=\"Optimal\",(I184),E184)))))))","v":0.84302377525189853},{"$f":"IF(I24=INDEX(MedConf_Header,1,2),(IF(I183<=3,1,IF(OR(I183=4,I183=5),(Roadside!$F$15-1)*Constraints!$H$24/Constraints!$D$24+1,(Roadside!$F$15*Roadside!$F$16-1)*Constraints!$H$24/Constraints!$D$24+1))),(IF(I183<=3,1,IF(OR(I183=4,I183=5),(Roadside!$F$15-1)*Constraints!$H$38/Constraints!$D$38+1,(Roadside!$F$15*Roadside!$F$16-1)*Constraints!$H$38/Constraints!$D$38+1))))","v":0.79533290316176108},null,{"$f":"INDEX($D184:$I184,K$100)","v":1},{"$f":"INDEX($D184:$I184,L$100)","v":0.84302377525189853},{"$f":"IF(ISERROR(1-L184/K184), 0, 1-L184/K184)","v":0.15697622474810147},null,0]
[null,null,"Backslope",1,1,1,1,{"$f":"IF($I$2=\"Existing\",(D185),(IF($I$2=\"Design 1\",(F185),(IF($I$2=\"Design 2\",(G185),(IF($I$2=\"Optimal\",(I185),E185)))))))","v":1},1,null,{"$f":"INDEX($D185:$I185,K$100)","v":1},{"$f":"INDEX($D185:$I185,L$100)","v":1},0,null,0]
[null,null,"SafetyEdge",{"$f":"IF(D24=INDEX(MedConf_Header,1,2),(IF(D$77=\"No\",1,(Roadside!$F$23-1)*AVERAGE(Constraints!$H$24,Constraints!$F$24)/Constraints!$D$24+1)),(IF(D$77=\"No\",1,(Roadside!$F$23-1)*AVERAGE(Constraints!$H$38,Constraints!$F$38)/Constraints!$D$38+1)))","v":0.97711209540034072},{"$f":"IF(E$77=\"No\",1,(Roadside!$F$23-1)*AVERAGE(Constraints!$H$24,Constraints!$F$24)/Constraints!$D$24+1)","v":1},{"$f":"IF(F24=INDEX(MedConf_Header,1,2),(IF(F$77=\"No\",1,(Roadside!$F$23-1)*AVERAGE(Constraints!$H$24,Constraints!$F$24)/Constraints!$D$24+1)),(IF(F$77=\"No\",1,(Roadside!$F$23-1)*AVERAGE(Constraints!$H$38,Constraints!$F$38)/Constraints!$D$38+1)))","v":0.97711209540034072},{"$f":"IF(G24=INDEX(MedConf_Header,1,2),(IF(G$77=\"No\",1,(Roadside!$F$23-1)*AVERAGE(Constraints!$H$24,Constraints!$F$24)/Constraints!$D$24+1)),(IF(G$77=\"No\",1,(Roadside!$F$23-1)*AVERAGE(Constraints!$H$38,Constraints!$F$38)/Constraints!$D$38+1)))","v":0.97711209540034072},{"$f":"IF($I$2=\"Existing\",(D186),(IF($I$2=\"Design 1\",(F186),(IF($I$2=\"Design 2\",(G186),(IF($I$2=\"Optimal\",(I186),E186)))))))","v":1},{"$f":"IF(I$77=\"No\",1,(Roadside!$F$23-1)*AVERAGE(Constraints!$H$24,Constraints!$F$24)/Constraints!$D$24+1)","v":0.97526887377773364},null,{"$f":"INDEX($D186:$I186,K$100)","v":0.97711209540034072},{"$f":"INDEX($D186:$I186,L$100)","v":1},-2.3424031600265627E-2,null,-2.8188991921691331E-2]
[null,null,"Lateral Clearance (ft)",{"$f":"IF(D24=INDEX(MedConf_Header,1,2),(IF($B$31=\"Yes\",((EXP(LN(Roadside!$F$11)*(IF(D$79=\"None\",40,D$78)-30)/30)-1))*Constraints!$H$17/Constraints!$D$24+1,((EXP(LN(Roadside!$F$10)*(IF(D$79=\"None\",40,D$78)-30)/30)-1))*Constraints!$H$17/Constraints!$D$24+1)),(IF($B$31=\"Yes\",((EXP(LN(Roadside!$F$11)*(IF(D$79=\"None\",40,D$78)-30)/30)-1))*Constraints!$H$31/Constraints!$D$38+1,((EXP(LN(Roadside!$F$10)*(IF(D$79=\"None\",40,D$78)-30)/30)-1))*Constraints!$H$31/Constraints!$D$38+1)))","v":1.0472592444132678},{"$f":"IF(E24=INDEX(MedConf_Header,1,2),(IF($B$31=\"Yes\",((EXP(LN(Roadside!$F$11)*(IF(E$79=\"None\",40,E$78)-30)/30)-1))*Constraints!$H$17/Constraints!$D$24+1,((EXP(LN(Roadside!$F$10)*(IF(E$79=\"None\",40,E$78)-30)/30)-1))*Constraints!$H$17/Constraints!$D$24+1)),(IF($B$31=\"Yes\",((EXP(LN(Roadside!$F$11)*(IF(E$79=\"None\",40,E$78)-30)/30)-1))*Constraints!$H$31/Constraints!$D$38+1,((EXP(LN(Roadside!$F$10)*(IF(E$79=\"None\",40,E$78)-30)/30)-1))*Constraints!$H$31/Constraints!$D$38+1)))","v":0.97942029665168673},{"$f":"IF(F24=INDEX(MedConf_Header,1,2),(IF($B$31=\"Yes\",((EXP(LN(Roadside!$F$11)*(IF(F$79=\"None\",40,F$78)-30)/30)-1))*Constraints!$H$17/Constraints!$D$24+1,((EXP(LN(Roadside!$F$10)*(IF(F$79=\"None\",40,F$78)-30)/30)-1))*Constraints!$H$17/Constraints!$D$24+1)),(IF($B$31=\"Yes\",((EXP(LN(Roadside!$F$11)*(IF(F$79=\"None\",40,F$78)-30)/30)-1))*Constraints!$H$31/Constraints!$D$38+1,((EXP(LN(Roadside!$F$10)*(IF(F$79=\"None\",40,F$78)-30)/30)-1))*Constraints!$H$31/Constraints!$D$38+1)))","v":1.0472592444132678},{"$f":"IF(G24=INDEX(MedConf_Header,1,2),(IF($B$31=\"Yes\",((EXP(LN(Roadside!$F$11)*(IF(G$79=\"None\",40,G$78)-30)/30)-1))*Constraints!$H$17/Constraints!$D$24+1,((EXP(LN(Roadside!$F$10)*(IF(G$79=\"None\",40,G$78)-30)/30)-1))*Constraints!$H$17/Constraints!$D$24+1)),(IF($B$31=\"Yes\",((EXP(LN(Roadside!$F$11)*(IF(G$79=\"None\",40,G$78)-30)/30)-1))*Constraints!$H$31/Constraints!$D$38+1,((EXP(LN(Roadside!$F$10)*(IF(G$79=\"None\",40,G$78)-30)/30)-1))*Constraints!$H$31/Constraints!$D$38+1)))","v":1.0472592444132678},{"$f":"IF($I$2=\"Existing\",(D187),(IF($I$2=\"Design 1\",(F187),(IF($I$2=\"Design 2\",(G187),(IF($I$2=\"Optimal\",(I187),E187)))))))","v":0.97942029665168673},{"$f":"IF(I24=INDEX(MedConf_Header,1,2),(IF($B$31=\"Yes\",((EXP(LN(Roadside!$F$11)*(IF(I$79=\"None\",40,I$78)-30)/30)-1))*Constraints!$H$17/Constraints!$D$24+1,((EXP(LN(Roadside!$F$10)*(IF(I$79=\"None\",40,I$78)-30)/30)-1))*Constraints!$H$17/Constraints!$D$24+1)),(IF($B$31=\"Yes\",((EXP(LN(Roadside!$F$11)*(IF(I$79=\"None\",40,I$78)-30)/30)-1))*Constraints!$H$31/Constraints!$D$38+1,((EXP(LN(Roadside!$F$10)*(IF(I$79=\"None\",40,I$78)-30)/30)-1))*Constraints!$H$31/Constraints!$D$38+1)))","v":0.97942029665168673},null,{"$f":"INDEX($D187:$I187,K$100)","v":1.0472592444132678},{"$f":"INDEX($D187:$I187,L$100)","v":0.97942029665168673},6.4777606999867676E-2,null,9.0307162971216326E-2]
[null,null,"Roadside Obstruction Type",{"$f":"IF(D24=INDEX(MedConf_Header,1,2),(IF(D$79=\"Guardrail\",(Roadside!$F$25-1)*(($I$78-D$78)/$I$78)^2*Constraints!$H$17/Constraints!$D$24+1,1)),(IF(D$79=\"Guardrail\",(Roadside!$F$25-1)*(($I$78-D$78)/$I$78)^2*Constraints!$H$31/Constraints!$D$38+1,1)))","v":1},{"$f":"IF(E24=INDEX(MedConf_Header,1,2),(IF(E$79=\"Guardrail\",(Roadside!$F$25-1)*(($I$78-E$78)/$I$78)^2*Constraints!$H$17/Constraints!$D$24+1,1)),(IF(E$79=\"Guardrail\",(Roadside!$F$25-1)*(($I$78-E$78)/$I$78)^2*Constraints!$H$31/Constraints!$D$38+1,1)))","v":1},{"$f":"IF(F24=INDEX(MedConf_Header,1,2),(IF(F$79=\"Guardrail\",(Roadside!$F$25-1)*(($I$78-F$78)/$I$78)^2*Constraints!$H$17/Constraints!$D$24+1,1)),(IF(F$79=\"Guardrail\",(Roadside!$F$25-1)*(($I$78-F$78)/$I$78)^2*Constraints!$H$31/Constraints!$D$38+1,1)))","v":1},{"$f":"IF(G24=INDEX(MedConf_Header,1,2),(IF(G$79=\"Guardrail\",(Roadside!$F$25-1)*(($I$78-G$78)/$I$78)^2*Constraints!$H$17/Constraints!$D$24+1,1)),(IF(G$79=\"Guardrail\",(Roadside!$F$25-1)*(($I$78-G$78)/$I$78)^2*Constraints!$H$31/Constraints!$D$38+1,1)))","v":1},{"$f":"IF($I$2=\"Existing\",(D188),(IF($I$2=\"Design 1\",(F188),(IF($I$2=\"Design 2\",(G188),(IF($I$2=\"Optimal\",(I188),E188)))))))","v":1},{"$f":"IF(I24=INDEX(MedConf_Header,1,2),(IF(I$79=\"Guardrail\",(Roadside!$F$25-1)*(($I$78-I$78)/$I$78)^2*Constraints!$H$17/Constraints!$D$24+1,1)),(IF(I$79=\"Guardrail\",(Roadside!$F$25-1)*(($I$78-I$78)/$I$78)^2*Constraints!$H$31/Constraints!$D$38+1,1)))","v":1},null,{"$f":"INDEX($D188:$I188,K$100)","v":1},{"$f":"INDEX($D188:$I188,L$100)","v":1},0,null,0]
[null,null,null,null,null,null,null,null,null,null,{"$f":"INDEX($D189:$I189,K$100)","v":0},{"$f":"INDEX($D189:$I189,L$100)","v":0},0]
[null,null,null,null,null,null,null,null,null,null,{"$f":"INDEX($D190:$I190,K$100)","v":0},{"$f":"INDEX($D190:$I190,L$100)","v":0},0]
[null,null,"COMBINED Calculated CMF",{"$f":"+D184*D185*D186*D187*D188","v":1.0232896747360256},{"$f":"+E184*E185*E186*E187*E188","v":0.82567459604163929},1.0232896747360256,1.0232896747360256,{"$f":"IF($I$2=\"Existing\",(D191),(IF($I$2=\"Design 1\",(F191),(IF($I$2=\"Design 2\",(G191),(IF($I$2=\"Optimal\",(I191),E191)))))))","v":0.82567459604163929},{"$f":"+I184*I185*I186*I187*I188","v":0.75970050156555824},null,{"$f":"INDEX($D191:$I191,K$100)","v":1.0232896747360256},{"$f":"INDEX($D191:$I191,L$100)","v":0.82567459604163929},0.1931174364144389]
[null,null,"Calculated Relative to Design Standards (Column E)",{"$f":"+D191/$E$191","v":1.2393377241370527},{"$f":"+E191/$E$191","v":1},1.2393377241370527,1.2393377241370527,1,{"$f":"+I191/$E$191","v":0.92009673690777583},null,{"$f":"INDEX($D192:$I192,K$100)","v":1.2393377241370527},{"$f":"INDEX($D192:$I192,L$100)","v":1},0.1931174364144389]
[null,null,"P(Crash)",{"$f":"+D192/(D192+1)","v":0.55343939896990835},0.5,0.55343939896990835,0.55343939896990835,0.5,{"$f":"+I192/(I192+1)","v":0.47919290691027777},null,{"$f":"INDEX($D193:$I193,K$100)","v":0.55343939896990835},{"$f":"INDEX($D193:$I193,L$100)","v":0.5},9.6558718207219618E-2]
[null,null,"Factor Change on S curve",{"$f":"+D193/$E$193","v":1.1068787979398167},{"$f":"+E193/$E$193","v":1},1.1068787979398167,1.1068787979398167,1,{"$f":"+I193/$E$193","v":0.95838581382055554},null,{"$f":"INDEX($D194:$I194,K$100)","v":1.1068787979398167},{"$f":"INDEX($D194:$I194,L$100)","v":1},9.6558718207219618E-2]
[null,null,"Adjust to Scale of 100",{"$f":"+$I$118/D194*100","v":{"$error":"#VALUE!"}},{"$error":"#VALUE!"},{"$error":"#VALUE!"},{"$error":"#VALUE!"},{"$error":"#VALUE!"},{"$f":"+$I$118/I194*100","v":{"$error":"#VALUE!"}},null,{"$f":"INDEX($D195:$I195,K$100)","v":{"$error":"#VALUE!"}},{"$f":"INDEX($D195:$I195,L$100)","v":{"$error":"#VALUE!"}},0]
[null,null,"Unadjusted Combined Relative to Standard",{"$f":"+D191/$E$191","v":1.2393377241370527},{"$f":"+E191/$E$191","v":1},1.2393377241370527,1.2393377241370527,1,{"$f":"+I191/$E$191","v":0.92009673690777583},{"$f":"I202/E202","v":1.0810810810810811},{"$f":"INDEX($D196:$I196,K$100)","v":1.2393377241370527},{"$f":"INDEX($D196:$I196,L$100)","v":1},0.1931174364144389]
[null,null,null,null,null,null,null,null,null,null,{"$f":"INDEX($D197:$I197,K$100)","v":0},{"$f":"INDEX($D197:$I197,L$100)","v":0},0]
[null,null,"Adjusted for PA Basis",{"$f":"+D191*(1+1)/(1+D191*1)","v":1.0115107960203793},0.90451452611745442,1.0115107960203793,1.0115107960203793,{"$f":"IF($I$2=\"Existing\",(D198),(IF($I$2=\"Design 1\",(F198),(IF($I$2=\"Design 2\",(G198),(IF($I$2=\"Optimal\",(I198),E198)))))))","v":0.90451452611745442},{"$f":"+I191*(1+1)/(1+I191*1)","v":0.86344295621859868},null,{"$f":"INDEX($D198:$I198,K$100)","v":1.0115107960203793},{"$f":"INDEX($D198:$I198,L$100)","v":0.90451452611745442},0.10577867317272727]
[null,null,"Corrected by Odds Ratio",{"$f":"+D191/$E$191","v":1.2393377241370527},{"$f":"+E191/$E$191","v":1},1.2393377241370527,1.2393377241370527,{"$f":"IF($I$2=\"Existing\",(D199),(IF($I$2=\"Design 1\",(F199),(IF($I$2=\"Design 2\",(G199),(IF($I$2=\"Optimal\",(I199),E199)))))))","v":1},{"$f":"+I191/$E$191","v":0.92009673690777583},{"$f":"I205/E205","v":1.4814814814814814},{"$f":"INDEX($D199:$I199,K$100)","v":1.2393377241370527},{"$f":"INDEX($D199:$I199,L$100)","v":1},0.1931174364144389]
[null,null,null,{"$f":"(1/D199)^$D203","v":1.8666691582346016E-8},{"$f":"(1/E199)^$D203","v":1},1.8666691582346016E-8,1.8666691582346016E-8,1,998.99999999999955]
[null,null,null,{"$f":"(D200+$F204-1)/(1+(D200+$F204-1))","v":0.50000000466667294},{"$f":"(E200+$F204-1)/(1+(E200+$F204-1))","v":0.66666666666666663},0.50000000466667294,0.50000000466667294,0.66666666666666663,0.99900099900099903]
[null,null,"Score Odds Ratio with Optimal as 100 (old)",{"$f":"MIN(ROUND($I$199/D199*Construction!$I$4,0),$I202)","v":30},{"$f":"MIN(ROUND($I$199/E199*Construction!$I$4,0),$I202)","v":37},{"$f":"MIN(ROUND($I$199/F199*Construction!$I$4,0),$I202)","v":30},{"$f":"MIN(ROUND($I$199/G199*Construction!$I$4,0),$I202)","v":30},null,{"$f":"ROUND($I$199/I199*Construction!$I$4,0)","v":40}]
[null,null,"Logistic1",{"$f":"LN((D204/(1-D204))/(0.5/0.5))/LN($E199/I199)","v":82.937655007418002}]
[null,null,"Logistic Param",0.999,null,2]
[null,null,"Score ",{"$f":"MIN(ROUND(D201*Construction!$I$4,0),$I202)","v":20},{"$f":"MIN(ROUND(E201*Construction!$I$4,0),$I202)","v":27},{"$f":"MIN(ROUND(F201*Construction!$I$4,0),$I202)","v":20},{"$f":"MIN(ROUND(G201*Construction!$I$4,0),$I202)","v":20},null,{"$f":"MIN(ROUND(I201*Construction!$I$4,0),$I202)","v":40}]
[]
[]
[]
[]
[null,null,{"$f":"D87/D183","v":{"$error":"#DIV/0!"}},null,{"$f":"ROUNDUP((MIN($I$14,$I$15)-E27-E28)/$C$210,0)","v":{"$error":"#DIV/0!"}},{"$f":"ROUNDUP((MIN($I$14,$I$15)-F27-F28)/$C$210,0)","v":{"$error":"#DIV/0!"}},{"$f":"ROUNDUP((MIN($I$14,$I$15)-G27-G28)/$C$210,0)","v":{"$error":"#DIV/0!"}},null,{"$f":"ROUNDUP((MIN($I$14,$I$15)-I27-I28)/$C$210,0)","v":{"$error":"#DIV/0!"}}]
[]
[]
[null,null,"Distance to low point","Distance to low point",{"$f":"$C$210*E183","v":{"$error":"#DIV/0!"}},{"$f":"$C$210*F183","v":{"$error":"#DIV/0!"}},{"$error":"#DIV/0!"},null,{"$f":"$C$210*I183","v":{"$error":"#DIV/0!"}}]
[null,null,null,"Additional ROW1 Needed for Foreslope",{"$f":"IF(E213>($I$14-E27-E28),E213-($I$14-E27-E28),0)","v":{"$error":"#DIV/0!"}},{"$f":"IF(F213>($I$14-F27-F28),F213-($I$14-F27-F28),0)","v":{"$error":"#DIV/0!"}},{"$f":"IF(G213>($I$14-G27-G28),G213-($I$14-G27-G28),0)","v":{"$error":"#DIV/0!"}},null,{"$f":"IF(I213>($I$14-I27-I28),I213-($I$14-I27-I28),0)","v":{"$error":"#DIV/0!"}}]
[null,null,null,"Additional ROW2 Needed for Foreslope",{"$f":"IF(E213>($I$15-E27-E28),E213-($I$15-E27-E28),0)","v":{"$error":"#DIV/0!"}},{"$f":"IF(F213>($I$15-F27-F28),F213-($I$15-F27-F28),0)","v":{"$error":"#DIV/0!"}},{"$f":"IF(G213>($I$15-G27-G28),G213-($I$15-G27-G28),0)","v":{"$error":"#DIV/0!"}},null,{"$f":"IF(I213>($I$15-I27-I28),I213-($I$15-I27-I28),0)","v":{"$error":"#DIV/0!"}}]
[]
[null,null,null,"Additional ROW1 Needed for Lateral Clearance",{"$f":"IF((CL251+E30)-$I$14<0,0,(CL251+E30)-$I$14)","v":2},{"$f":"IF((CM251+F30)-$I$14<0,0,(CM251+F30)-$I$14)","v":0},{"$f":"IF((CN251+G30)-$I$14<0,0,(CN251+G30)-$I$14)","v":0},null,{"$f":"IF((CP251+I30)-$I$14<0,0,(CP251+I30)-$I$14)","v":2}]
[null,null,null,"Additional ROW2 Needed for Lateral Clearance",{"$f":"IF((CL251+E30)-$I$15<0,0,(CL251+E30)-$I$15)","v":2},{"$f":"IF((CM251+F30)-$I$15<0,0,(CM251+F30)-$I$15)","v":0},{"$f":"IF((CN251+G30)-$I$15<0,0,(CN251+G30)-$I$15)","v":0},null,{"$f":"IF((CP251+I30)-$I$15<0,0,(CP251+I30)-$I$15)","v":2}]
[]
[]
[]
[]
[]
[]
[]
[]
[]
[]
[]
[null,null,"For Vertical Opt Use when Yes Vertical:"]
[null,null,"G1",{"$f":"D40","v":0},null,{"$f":"F40","v":0},{"$f":"G40","v":0},null,{"$f":"IF(ISERROR($E$238),\"\",INDEX(D231:G231,$E$238))","v":""}]
[null,null,"G2",{"$f":"D41","v":0},null,{"$f":"F41","v":0},{"$f":"G41","v":0},null,{"$f":"IF(ISERROR($E$238),\"\",INDEX(D232:G232,$E$238))","v":""}]
[null,null,"abs(G2-G1)",{"$f":"ABS(D40-D41)","v":0},null,{"$f":"ABS(F40-F41)","v":0},{"$f":"ABS(G40-G41)","v":0}]
[null,null,"Count in indicator (K no change; or K change but accept)",{"$f":"IF(D43<>\"\",1,\"\")","v":""},null,{"$f":"IF(OR(AND($B$38 = \"Yes\", $D$43 <> F43, F43 <>\"\", $D$43 <> \"\", F45=\"Yes.\"),AND($B$38 = \"Yes\", $D$43 = F43, F43 <>\"\", $D$43 <> \"\")), 1,\"\")","v":""},{"$f":"IF(OR(AND($B$38 = \"Yes\", $D$43 <> G43, G43 <>\"\", $D$43 <> \"\", G45=\"Yes.\"),AND($B$38 = \"Yes\", $D$43 = G43, G43 <>\"\", $D$43 <> \"\")), 1,\"\")","v":""}]
[]
[null,null,"Valid abs(G2-G1)",{"$f":"IF(ISERROR(D233*D234),\"\",D233*D234)","v":""},null,{"$f":"IF(ISERROR(F233*F234),\"\",F233*F234)","v":""},{"$f":"IF(ISERROR(G233*G234),\"\",G233*G234)","v":""}]
[null,null,"The min valid abs(G2-G1)",null,{"$f":"MIN(D236,F236,G236)","v":0}]
[null,null,"Index",null,{"$f":"MATCH(E237,D236:G236,0)","v":{"$error":"#N/A"}}]
[]
[null,null,"For Vertical Opt Use When No Vertical:"]
[null,null,"G1",{"$f":"IF(ISBLANK(D40), 999, D40)","v":999},null,{"$f":"IF(ISBLANK(F40), 999, F40)","v":999},{"$f":"IF(ISBLANK(G40), 999, G40)","v":999},null,{"$f":"IF(E246=999,\"\",E246)","v":""}]
[null,null,"Sign of G1",{"$f":"IF(D241>=0,1,-1)","v":1},null,{"$f":"IF(F241>=0,1,-1)","v":1},{"$f":"IF(G241>=0,1,-1)","v":1}]
[null,null,"Abs G1",{"$f":"ABS(D241)","v":999},null,{"$f":"ABS(F241)","v":999},{"$f":"ABS(G241)","v":999}]
[null,null,"Min Abs G1",null,{"$f":"MIN(D243:G243)","v":999}]
[null,null,"Which is the Best G1",null,{"$f":"MATCH(E244,D243:G243,0)","v":1}]
[null,null,"Best G1 Value",null,{"$f":"INDEX(D241:G241,1,E245)","v":999}]
[]
[]
[null,null,"Check if all cells filled",{"$f":"SUM(D251:D314)","v":19},{"$f":"SUM(E251:E314)","v":1},19,19,0,0]
[]
[null,null,{"$f":"C24","v":"Configuration of Multilane Roadway"},{"$f":"IF(ISBLANK(D24),1,0)","v":1},{"$f":"IF(ISBLANK(E24),1,0)","v":0},1,1,null,0]
[null,null,{"$f":"C25","v":"Median Configuration (Width or Type)"},{"$f":"IF(AND(D24<>\"No Median\", ISBLANK(D25)),1,0)","v":1},0,{"$f":"IF(AND(F24<>\"No Median\", ISBLANK(F25)),1,0)","v":1},{"$f":"IF(AND(G24<>\"No Median\", ISBLANK(G25)),1,0)","v":1},null,0]
[]
[null,null,"Lane Width (feet)",{"$f":"IF(ISBLANK(D27),1,0)","v":1},0,1,1,null,{"$f":"IF(ISBLANK(I27),1,0)","v":0}]
[null,null,"Average Outside Shoulder Width (feet)",1,0,1,1,null,0]
[null,null,"Average Inside Shoulder Width (feet)",1,0,1,1,null,0]
[null,null,"Number of Lanes per Direction of Travel",1,0,1,1,null,0]
[null,null,"Horizontal Curve Present?"]
[null,null,"Horizontal Curve Data for Controlling Element:"]
[null,null,"  Radius (feet)",{"$f":"IF(AND($B$31=\"Yes\", ISBLANK(D33)),1,0)","v":0},null,{"$f":"IF(AND($B$31=\"Yes\", ISBLANK(F33)),1,0)","v":0},{"$f":"IF(AND($B$31=\"Yes\", ISBLANK(G33)),1,0)","v":0},null,{"$f":"IF(ISBLANK(I33),1,0)","v":0}]
[null,null,"Length of Horizontal Curve (feet)",{"$f":"IF(AND($B$31=\"Yes\", ISBLANK(D34)),1,0)","v":0},null,{"$f":"IF(AND($B$31=\"Yes\", ISBLANK(F34)),1,0)","v":0},{"$f":"IF(AND($B$31=\"Yes\", ISBLANK(G34)),1,0)","v":0},null,0]
[null,null,"Calculated Deflection Angle ∆"]
[]
[null,null,null,null,null,{"$f":"IF(AND($B$31 = \"Yes\", $D$35 <> F35, F35<>\"\",ISBLANK(F37)),1,0)","v":0},{"$f":"IF(AND($B$31 = \"Yes\", $D$35 <> G35, G35<>\"\",ISBLANK(G37)),1,0)","v":0}]
[null,null,"Vertical Curve Present?"]
[null,null,"Vertical Curve Data for Controlling Element:"]
[null,null,"  Approach (Entry) Grade, G1 (%)",{"$f":"IF(ISBLANK(D40),1,0)","v":1},0,1,1,null,{"$f":"IF(ISBLANK(I40),1,0)","v":0}]
[null,null,"  Departure (Exit) Grade, G2 (%)",{"$f":"IF(AND($B$38=\"Yes\", ISBLANK(D41)),1,0)","v":0},{"$f":"IF(AND($B$38=\"Yes\", ISBLANK(E41)),1,0)","v":0},0,0,null,0]
[null,null,"  Length (feet)",{"$f":"IF(AND($B$38=\"Yes\", ISBLANK(D42)),1,0)","v":0},0,0,0,null,0]
[null,null,"  Calculated Rate of Change, K (ft/ft)"]
[]
[]
[null,null,"  Calculated Sag or Crest?"]
[]
[]
[null,null,"Geometric Design Element (Partial Score)"]
[null,null,"Total Safety Score"]
[]
[]
[]
[]
[]
[null,null,"Advance Static Curve Warning Signs",{"$f":"IF(AND($B$31=\"Yes\", ISBLANK(D56)),1,0)","v":0},{"$f":"IF(AND($B$31=\"Yes\", ISBLANK(E56)),1,0)","v":0},0,0,null,{"$f":"IF(ISBLANK(I56),1,0)","v":0}]
[null,null,"Chevron Signs on Horizontal Curves",{"$f":"IF(AND($B$31=\"Yes\", ISBLANK(D57)),1,0)","v":0},0,0,0,null,0]
[null,null,"Post-Mounted Delineators",0,0,0,0,null,0]
[null,null,"Edgeline Pavement Markings or Profile Markings",{"$f":"IF(ISBLANK(D59),1,0)","v":1},0,1,1,null,0]
[null,null,"Shoulder Rumble Strips",1,0,1,1,null,0]
[null,null,"Centerline Rumble Strips",1,0,1,1,null,0]
[null,null,"Driveway Density (driveways per mile)",1,0,1,1,null,0]
[null,null,"Lighting",1,0,1,1,null,0]
[null,null,"Pavement Friction (skid number) ***",1,0,1,1,null,0]
[null,null,"Traffic Control Element (Partial Score):"]
[null,null,"Total Safety Score"]
[]
[]
[]
[]
[]
[]
[]
[]
[null,null,"Roadside Sideslope (Foreslope)",{"$f":"IF(ISBLANK(D75),1,0)","v":1},0,1,1,null,{"$f":"IF(ISBLANK(I75),1,0)","v":0}]
[null,null,"Roadside Backslope",1,0,1,1,null,0]
[null,null,"Safety Edge",1,0,1,1,null,0]
[null,null,"Roadside Lateral Clearance to Obstruction (ft)",1,0,1,1,null,0]
[null,null,"Roadside Obstruction Type",1,0,1,1,null,0]
[null,null,"Roadside Element (Partial Score):"]
[null,null,"Total Safety Score"]
[]
[]
[]
[]
[]
[null,null,"Distance to Slope Toe from Shoulder (ft)",{"$f":"IF(ISBLANK(D87),1,0)","v":1},{"$f":"D314","v":1},{"$f":"E314","v":1},1,null,0]
[null,null,null,null,null,null,null,null,{"$f":"SUM(I316:I324)","v":9}]
[null,null,null,null,null,null,null,{"$f":"F9","v":"Location "},{"$f":"IF(ISBLANK(I9),1,0)","v":1}]
[null,null,null,null,null,null,null,{"$f":"F10","v":"Design Speed (mph)"},{"$f":"IF(ISBLANK(I10),1,0)","v":1}]
[null,null,null,null,null,null,null,"Posted Speed (mph)",1]
[null,null,null,null,null,null,null,"E max (%)",1]
[null,null,null,null,null,null,null,"    Design Year AADT (vehicles per day)",1]
[null,null,null,null,null,null,null,"    Dist. from Centerline to Left   ROW (feet)",1]
[null,null,null,null,null,null,null,"    Dist. from Centerline to Right ROW (feet)",1]
[null,null,null,null,null,null,null,"H CV",{"$f":"IF(ISBLANK(B31),1,0)","v":1}]
[null,null,null,null,null,null,null,"V HV",{"$f":"IF(ISBLANK(B38),1,0)","v":1}]
[]
[]
[]
[]
[]
[]
[]
[]
[]
[]
[]
[]
[]
[]
[]
[]
[]
[]
[]
[]
[]
[]
[]
[]
[]
[]
[]
[]
[]
[]
[]
[]
[]
[]
[]
[]
[]
[]
[]
[]
[]
[]
[]
[]
[]
[]
[]
[]
[]
[]
[]
[]
[]
[]
[1]
[22]
[21]
[20]
[19,null,null,{"$f":"Constraints!P174","v":"Emax=6%"}]
[18]
[17,null,{"$f":"HLOOKUP($I$10,Constraints!$Q$176:AD197,A379,TRUE)","v":{"$error":"#N/A"}},{"$f":"Constraints!P176","v":"super"}]
[16,null,{"$f":"HLOOKUP($I$10,Constraints!$Q$176:AD198,A380,TRUE)","v":{"$error":"#N/A"}},{"$f":"Constraints!P197","v":6},1050]
[15,null,{"$f":"HLOOKUP($I$10,Constraints!$Q$176:AD199,A381,TRUE)","v":{"$error":"#N/A"}},{"$f":"Constraints!P196","v":5.8}]
[14,null,{"$f":"HLOOKUP($I$10,Constraints!$Q$176:AD200,A382,TRUE)","v":{"$error":"#N/A"}},{"$f":"Constraints!P195","v":5.6}]
[13,null,{"$f":"HLOOKUP($I$10,Constraints!$Q$176:AD201,A383,TRUE)","v":{"$error":"#N/A"}},{"$f":"Constraints!P194","v":5.4}]
[12,null,{"$f":"HLOOKUP($I$10,Constraints!$Q$176:AD202,A384,TRUE)","v":{"$error":"#N/A"}},{"$f":"Constraints!P193","v":5.2}]
[11,null,{"$f":"HLOOKUP($I$10,Constraints!$Q$176:AD203,A385,TRUE)","v":{"$error":"#N/A"}},{"$f":"Constraints!P192","v":5}]
[10,null,{"$f":"HLOOKUP($I$10,Constraints!$Q$176:AD204,A386,TRUE)","v":{"$error":"#N/A"}},{"$f":"Constraints!P191","v":4.8}]
[9,null,{"$f":"HLOOKUP($I$10,Constraints!$Q$176:AD205,A387,TRUE)","v":{"$error":"#N/A"}},{"$f":"Constraints!P190","v":4.5999999999999996}]
[8,null,{"$f":"HLOOKUP($I$10,Constraints!$Q$176:AD206,A388,TRUE)","v":{"$error":"#N/A"}},{"$f":"Constraints!P189","v":4.4000000000000004}]
[7,null,{"$f":"HLOOKUP($I$10,Constraints!$Q$176:AD207,A389,TRUE)","v":{"$error":"#N/A"}},{"$f":"Constraints!P188","v":4.2}]
[6,null,{"$f":"HLOOKUP($I$10,Constraints!$Q$176:AD208,A390,TRUE)","v":{"$error":"#N/A"}},{"$f":"Constraints!P187","v":4}]
[5,null,{"$f":"HLOOKUP($I$10,Constraints!$Q$176:AD209,A391,TRUE)","v":{"$error":"#N/A"}},{"$f":"Constraints!P186","v":3.8}]
[4,null,{"$f":"HLOOKUP($I$10,Constraints!$Q$176:AD210,A392,TRUE)","v":{"$error":"#N/A"}},{"$f":"Constraints!P185","v":3.6}]
[3,null,{"$f":"HLOOKUP($I$10,Constraints!$Q$176:AD211,A393,TRUE)","v":{"$error":"#N/A"}},{"$f":"Constraints!P184","v":3.4}]
[2,null,{"$f":"HLOOKUP($I$10,Constraints!$Q$176:AD212,A394,TRUE)","v":{"$error":"#N/A"}},{"$f":"Constraints!P183","v":3.2}]
[null,null,{"$f":"HLOOKUP($I$10,Constraints!$Q$176:AD213,A395,TRUE)","v":{"$error":"#N/A"}},{"$f":"Constraints!P182","v":3}]
[null,null,{"$f":"HLOOKUP($I$10,Constraints!$Q$176:AD214,A396,TRUE)","v":{"$error":"#N/A"}},{"$f":"Constraints!P181","v":2.8}]
[null,null,{"$f":"HLOOKUP($I$10,Constraints!$Q$176:AD215,A397,TRUE)","v":{"$error":"#N/A"}},{"$f":"Constraints!P180","v":2.6}]
[null,null,{"$f":"HLOOKUP($I$10,Constraints!$Q$176:AD216,A398,TRUE)","v":{"$error":"#N/A"}},{"$f":"Constraints!P179","v":2.4}]
[null,null,{"$f":"HLOOKUP($I$10,Constraints!$Q$176:AD217,A399,TRUE)","v":{"$error":"#N/A"}},{"$f":"Constraints!P178","v":2.2000000000000002}]
[1,null,{"$f":"HLOOKUP($I$10,Constraints!$Q$176:AD218,A400,TRUE)","v":{"$error":"#N/A"}},{"$f":"Constraints!P177","v":2}]
[32]
[31]
[30]
[29,null,null,{"$f":"Constraints!P201","v":"Emax=8%"}]
[28]
[27,null,{"$f":"HLOOKUP($I$10,Constraints!$Q$203:AD234,A406,TRUE)","v":{"$error":"#N/A"}},{"$f":"Constraints!P203","v":"super"}]
[26,null,{"$f":"HLOOKUP($I$10,Constraints!$Q$203:AD235,A407,TRUE)","v":{"$error":"#N/A"}},{"$f":"INDEX(Constraints!$P$203:$P$234,A407,)","v":8}]
[25,null,{"$f":"HLOOKUP($I$10,Constraints!$Q$203:AD236,A408,TRUE)","v":{"$error":"#N/A"}},{"$f":"INDEX(Constraints!$P$203:$P$234,A408,)","v":7.8}]
[24,null,{"$f":"HLOOKUP($I$10,Constraints!$Q$203:AD237,A409,TRUE)","v":{"$error":"#N/A"}},{"$f":"INDEX(Constraints!$P$203:$P$234,A409,)","v":7.6}]
[23,null,{"$f":"HLOOKUP($I$10,Constraints!$Q$203:AD238,A410,TRUE)","v":{"$error":"#N/A"}},{"$f":"INDEX(Constraints!$P$203:$P$234,A410,)","v":7.4}]
[22,null,{"$f":"HLOOKUP($I$10,Constraints!$Q$203:AD239,A411,TRUE)","v":{"$error":"#N/A"}},{"$f":"INDEX(Constraints!$P$203:$P$234,A411,)","v":7.2}]
[21,null,{"$f":"HLOOKUP($I$10,Constraints!$Q$203:AD240,A412,TRUE)","v":{"$error":"#N/A"}},{"$f":"INDEX(Constraints!$P$203:$P$234,A412,)","v":7}]
[20,null,{"$f":"HLOOKUP($I$10,Constraints!$Q$203:AD241,A413,TRUE)","v":{"$error":"#N/A"}},{"$f":"INDEX(Constraints!$P$203:$P$234,A413,)","v":6.8}]
[19,null,{"$f":"HLOOKUP($I$10,Constraints!$Q$203:AD242,A414,TRUE)","v":{"$error":"#N/A"}},{"$f":"INDEX(Constraints!$P$203:$P$234,A414,)","v":6.6}]
[18,null,{"$f":"HLOOKUP($I$10,Constraints!$Q$203:AD243,A415,TRUE)","v":{"$error":"#N/A"}},{"$f":"INDEX(Constraints!$P$203:$P$234,A415,)","v":6.4}]
[17,null,{"$f":"HLOOKUP($I$10,Constraints!$Q$203:AD244,A416,TRUE)","v":{"$error":"#N/A"}},{"$f":"INDEX(Constraints!$P$203:$P$234,A416,)","v":6.2}]
[16,null,{"$f":"HLOOKUP($I$10,Constraints!$Q$203:AD245,A417,TRUE)","v":{"$error":"#N/A"}},{"$f":"INDEX(Constraints!$P$203:$P$234,A417,)","v":6}]
[15,null,{"$f":"HLOOKUP($I$10,Constraints!$Q$203:AD246,A418,TRUE)","v":{"$error":"#N/A"}},{"$f":"INDEX(Constraints!$P$203:$P$234,A418,)","v":5.8}]
[14,null,{"$f":"HLOOKUP($I$10,Constraints!$Q$203:AD247,A419,TRUE)","v":{"$error":"#N/A"}},{"$f":"INDEX(Constraints!$P$203:$P$234,A419,)","v":5.6}]
[13,null,{"$f":"HLOOKUP($I$10,Constraints!$Q$203:AD248,A420,TRUE)","v":{"$error":"#N/A"}},{"$f":"INDEX(Constraints!$P$203:$P$234,A420,)","v":5.4}]
[12,null,{"$f":"HLOOKUP($I$10,Constraints!$Q$203:AD249,A421,TRUE)","v":{"$error":"#N/A"}},{"$f":"INDEX(Constraints!$P$203:$P$234,A421,)","v":5.2}]
[11,null,{"$f":"HLOOKUP($I$10,Constraints!$Q$203:AD250,A422,TRUE)","v":{"$error":"#N/A"}},{"$f":"INDEX(Constraints!$P$203:$P$234,A422,)","v":5}]
[10,null,{"$f":"HLOOKUP($I$10,Constraints!$Q$203:AD251,A423,TRUE)","v":{"$error":"#N/A"}},{"$f":"INDEX(Constraints!$P$203:$P$234,A423,)","v":4.8}]
[9,null,{"$f":"HLOOKUP($I$10,Constraints!$Q$203:AD252,A424,TRUE)","v":{"$error":"#N/A"}},{"$f":"INDEX(Constraints!$P$203:$P$234,A424,)","v":4.5999999999999996}]
[8,null,{"$f":"HLOOKUP($I$10,Constraints!$Q$203:AD253,A425,TRUE)","v":{"$error":"#N/A"}},{"$f":"INDEX(Constraints!$P$203:$P$234,A425,)","v":4.4000000000000004}]
[7,null,{"$f":"HLOOKUP($I$10,Constraints!$Q$203:AD254,A426,TRUE)","v":{"$error":"#N/A"}},{"$f":"INDEX(Constraints!$P$203:$P$234,A426,)","v":4.2}]
[6,null,{"$f":"HLOOKUP($I$10,Constraints!$Q$203:AD255,A427,TRUE)","v":{"$error":"#N/A"}},{"$f":"INDEX(Constraints!$P$203:$P$234,A427,)","v":4}]
[5,null,{"$f":"HLOOKUP($I$10,Constraints!$Q$203:AD256,A428,TRUE)","v":{"$error":"#N/A"}},{"$f":"INDEX(Constraints!$P$203:$P$234,A428,)","v":3.8}]
[4,null,{"$f":"HLOOKUP($I$10,Constraints!$Q$203:AD257,A429,TRUE)","v":{"$error":"#N/A"}},{"$f":"INDEX(Constraints!$P$203:$P$234,A429,)","v":3.6}]
[3,null,{"$f":"HLOOKUP($I$10,Constraints!$Q$203:AD258,A430,TRUE)","v":{"$error":"#N/A"}},{"$f":"INDEX(Constraints!$P$203:$P$234,A430,)","v":3.4}]
[2,null,{"$f":"HLOOKUP($I$10,Constraints!$Q$203:AD259,A431,TRUE)","v":{"$error":"#N/A"}},{"$f":"INDEX(Constraints!$P$203:$P$234,A431,)","v":3.2}]
[null,null,{"$f":"HLOOKUP($I$10,Constraints!$Q$203:AD260,A432,TRUE)","v":{"$error":"#N/A"}},{"$f":"INDEX(Constraints!$P$203:$P$234,A432,)","v":3}]
[null,null,{"$f":"HLOOKUP($I$10,Constraints!$Q$203:AD261,A433,TRUE)","v":{"$error":"#N/A"}},{"$f":"INDEX(Constraints!$P$203:$P$234,A433,)","v":2.8}]
[null,null,{"$f":"HLOOKUP($I$10,Constraints!$Q$203:AD262,A434,TRUE)","v":{"$error":"#N/A"}},{"$f":"INDEX(Constraints!$P$203:$P$234,A434,)","v":2.6}]
[null,null,{"$f":"HLOOKUP($I$10,Constraints!$Q$203:AD263,A435,TRUE)","v":{"$error":"#N/A"}},{"$f":"INDEX(Constraints!$P$203:$P$234,A435,)","v":2.4}]
[null,null,{"$f":"HLOOKUP($I$10,Constraints!$Q$203:AD264,A436,TRUE)","v":{"$error":"#N/A"}},{"$f":"INDEX(Constraints!$P$203:$P$234,A436,)","v":2.2000000000000002}]
[null,null,{"$f":"HLOOKUP($I$10,Constraints!$Q$203:AD265,A437,TRUE)","v":{"$error":"#N/A"}},{"$f":"INDEX(Constraints!$P$203:$P$234,A437,)","v":2}]