{"text_format":"1","workbook":"xlsx","n_sheets":12,"sheets":["Instructions","FC List","Master Template Set-up","Invoice","Signature Authority","WA Financial Status Summary","Summary of Total Amt Invoiced","Labor Summary (Office)","Labor Summary (Field)","Unit Cost Summary","ODE","TE Summary"],"not_rendered":{"charts":0,"images":2,"macros":1,"external_links":2,"defined_names":57,"comments":1,"pivot_tables":0},"unopened":[],"bounds":{"document_bytes":16777216,"sheet_cells":100000,"rows_first":2000,"rows_last":500,"rows_between":2000,"halvings":0,"cell_chars":16384,"cell_head_chars":4096},"cells_cut":0,"cells_raw":0,"read":"whole","date_system":"1900"}

{"sheet":"Instructions","index":0,"n_rows":221,"n_cols":3,"rows_kept":221,"cut":false,"hidden":false,"merged":[[196,0,196,1],[201,0,201,1],[204,0,204,1],[207,0,207,1],[0,0,0,1],[74,0,74,1],[89,0,89,1],[103,0,103,1],[97,0,97,1],[80,0,80,1],[91,1,96,1],[68,0,68,1],[12,0,12,1],[1,0,1,1],[88,0,88,1],[2,0,2,1],[3,0,3,1],[14,0,14,1],[21,0,21,1],[38,0,38,1],[42,0,42,1],[60,0,60,1],[62,1,67,1],[4,0,4,1],[52,0,52,1],[87,0,87,1],[5,0,5,1],[188,0,188,1],[128,0,128,1],[115,0,115,1],[116,1,121,1],[146,0,146,1],[148,1,153,1],[130,1,135,1],[180,0,180,1],[182,1,187,1],[169,0,169,1],[161,0,161,1],[144,0,144,1],[136,0,136,1],[163,1,168,1]]}
["Invoice Template for both Specified Rate and Unit Cost Payment Methods\n\nSetup and Submittal Instructions:\n\nMaster File Setup:  Enter data into cells highlighted in blue in the Master Template Setup and the Invoice tabs.  Save the Master File with the following:  Prime Provider Firm Name-Legacy Contract Number-WA Number-Master File (ex:  3rd Rock Engeineering-18-2IDP5001-WA1-Master File)\n\nMonthly Invoice Completion:  Open the Master File, do a \"save as\" with the following:  Prime Provider Firm Name-Legacy Contract Number-WA Number-Invoice Date (ex:  3rd Rock Engeineering-18-2IDP5001-WA1- 12-10-2020).  Enter data into all cells that are highlighted in yellow for each tab, starting with the Labor Summary (Office) and remaining tabs to the right.  The white cells will be automatically populated from data that is entered into the linked tabs in the invoice template. Go back and complete the remaining yellow cells in the Invoice, Signature Authority and WA Financial Status Summary tabs. Once the yellow cells have been populated in each tab, follow the instructions for completing the invoice by rolling up unused rows, checking that all totals have carried forward correctly, and checking the print setup to ensure that the margins are adjusted and the blank pages are deleted.  \n\n(Note:  Check totals.  If there is a rounding error, line through the total, make correction and initial next to the change prior to submitting the invoice package to TxDOT.  After TxDOT receives the invoice package, the procedures allow limited internal adjustments to round the total amount payable down, but not up, not even for a one cent rounding error.  In that case, the invoice package will be returned to the provider for correction and resubmission)\n\nFinal Invoice Preparation:  Hide the Instructions, FC List and Master Template Set-up tabs. Go to File, Print and make final adjustment to delete any blank pages, and adjust margins as needed.  Save the completed invoice template as a pdf and add supporting documentation. If this is a TxDOT District contract, email to peps_invoice_center_district@inboundna11.springcm.com. If this is a TxDOT Division contract, email to peps_invoice_center_division@inboundna11.springcm.com.  \n\nDO NOT MAKE ANY MODIFICATIONS TO THE PROGRAMMING OR FORMAT OF THE INVOICE TEMPLATE (OTHER THAN LINING THROUGH AND CORRECTING A ROUNDING ERROR, IF APPLICABLE).  MODIFICATIONS MAY RESULT IN A REJECTION OF THE INVOICE PACKAGE. ",null," "]
["FUNCTION CODE (FC) LIST - FOR INORMATIONAL PURPOSES ONLY"]
["Included for reference only:  Shows the \"New\" and the \"Legacy\" FC's.  The Legacy FCs will be used when invoicing and are already setup in the drop down menu in the Labor Summary (Office) tab where the Project (CSJ/Detail No.) and Source (Legacy FC) are set up for the monthly invoice.  The Legacy FC will automatically be converted to the New FCs and shown on the Chart of Accounts (COA) Invoice Conversion sheet that will be used by TxDOT to enter the invoice into TxDOT's electronic billing system for voucher processing."]
["CHART OF ACCOUNTS (COA) INVOICE CONVERSION SHEET - FOR TxDOT USE ONLY"]
["TxDOT Use Only - This page is setup to automatically convert Legacy TxDOT COA codes for voucher processing. If applicable, verify against the Invoice Conversion page provided with the executed Work Authorization.   The COA conversion page is setup to \"roll up\" the Legacy FCs into the New FCs so the amount of line items that you see on the conversion tab will not match the same amount of line items shown on the Invoice tab.  The COA includes a summary line that does not include a total in the \"Amount\" column.  Disregard that summary line as it is part of the conversion program.  Once each line number has been populated, click on the drop down menu button (Cell B9) by clicking on \"blanks\" from the drop down list to remove the checkmark, and the tab will roll up to remove unused rows.\n\n"]
["MASTER TEMPLATE SETUP",null,"Link to Master Template Set-up Tab"]
["Project (CSJ or Detail No.)","Enter all of the Project (CSJ/Detail No.) that have been provided by the TxDOT Project Manager (PM) for the particular Work Authorization (WA) or Specific Deliverable (SD) without WA contract. Additional Project (CSJ or Detail No's) can be added to this list, as needed.  This list will auto populate the drop down menu for the Project (CSJ or Detail No) that is found in column A of the Labor Summary (Office), starting with A42, A73, etc.  \n\nNote:  Labor Summary (Office) is the master list where the Project (CSJ or Detail No.) and the Source Function Codes (FC)  for the particular billing, and will auto populate the corresponding tabs in the Invoice Template.  The Legacy FCs are already setup in the drop down menu that is found in column B of the Labor Summary (Office), starting with B42, B73, etc.)   "]
["Master List of Employees","Enter the full name of each employee who will be performing services on the particular WA or SD contract without WAs.  Additional Employee Names can be added to this list, as needed.  This list will auto populate the Employee Names in the drop down menu found in Column C of the Labor Summary (Office), Labor Summary (Field) and TE Summary tabs."]
["Master List of Staffing Categories and Rates","Enter all of the Staffing Categories that have been approved and included as part of the WA or SD contract without WAs.  Additional Staffing Categories will require a Supplemental Work Authorization (SWA) to add staffing categories that are already part of the contract, but not part of the WA.  If a Staffing Category is needed that is not part of the contract, then a Supplemental Agreement (SA) to the contract must be executed prior to a SWA before a new Staffing Category can be added to the list and then used. This list will auto populate the Employee Staffing Categories in the drop down menu found in Column D of the Labor Summary (Office) and Labor Summary (Field)  tabs."]
["Mater List of Unit Cost Items","Enter all of the Unit Costs (UC) and Rates for the UC that have been approved and included as part to the WA or SD Contract without WAs (UCs must be part of Attachment E in the contract) and Exhibit D of the WA.. Additional UCs and Rates will require a SWA to add UCs and Rates that are already part of the contract, but not part of the WA.  If a UC and Rate is needed that is not part of the contract, then an SA to the contract must be executed prior to a SWA before a new UC can be added to the list and then used.   \n\nThis list will auto populate the drop down menu for the Type of Unit in Column C and the Unit Cost in Column E of the Unit Cost Summary tab.   "]
["Master List of Other Direct Expenses","Enter all of the Other Direct Expenses (ODEs), and the Fixed Rate (as applicable) that have been approved as part of the WA or SD Contract without WAs (ODEs must be part of Attachment E in the contract) and Exhibit D of the WA.. If the ODE rate  is an actual rate (not a fixed rate), then leave the Expense Cost (Fixed Rate) column for the particular ODE blank. Additional ODEs and Rates will require a SWA to add ODEs and Rates that are already part of the contract, but not part of the WA.  If an ODE and Rate is needed that is not part of the contract, then an SA to the contract must be executed prior to a SWA before a new ODE can be added to the list, and then used. This list will auto populate the Type of Expense in the drop down menu found in Column C and the Fixed Rate in Column E of the ODE tab.    "]
["Master List of Subproviders","Enter all Subprovider firm names that are approved for use in this WA or SD Contract without WAs (Subproviders must have rates in Attachment E, and, be part of Attachment H of the contract and Exhibit D of the WA.. All Subproviders shown on this list may not be utilized for every billing cycle.  Additional Subproviders will require a SWA to add Subproviders that are already part of the contract, but not part of the WA.  If an Subprovider is needed that is not part of the contract, then an SA to the contract must be executed prior to a SWA before a new Subprovider can be added to the list, and then used. This list will auto populate the drop down menu in Column A of the WA Financial Status Summary tab.  "]
["INVOICE",null,"Link to Invoice Tab"]
["Cell Heading"]
["INVOICE HEADER SECTION (TOP RIGHT)"]
["Provider Invoice Date","This cell is automatically populated by cell B30 of the Signature Authority tab, and is a write protected cell.  Verify that this cell has been populated correctly. "]
["Provider Invoice No.","Enter a unique number (assigned by the provider).  The number can be up to 17 digits (alpha and numeric with dashes only).  Do not duplicate invoice numbers.  It is preferred that the invoice number being with one (1) and is in sequence for each Work Authorization (WA) to ensure proper tracking. "]
["Combined Invoice Template Log No.","Default is 1 (primary invoice).  Select 2,3 (as applicable) from the drop down menu is this is a supplementary invoice for a Combined Invoice package.\n\nA combined invoice template package includes more than one invoice template (for example when using more than one payment method). See guidance and instructions for the Signature Authority tab and reference the Combined Invoice Summary section on the Signature Authority tab for more information)."]
["PeopleSoft (PS) Contract No.","Enter the PS Contract number that is found in the executed contract."]
["PS Work Authorization (WA) PO No.","Enter the PS WA PO number that is found in the executed WA.  "]
["TxDOT Invoice No.","Enter the number provided by the TxDOT Professional Engineering Procurement Services (PEPS) Division Service Center.  If you do not have the number, then this cell can be left blank."]
["INVOICE"]
["Provider Name","Enter provider name.  This must exactly match the name shown on the contract, and must be a complete legal name as shown on the Comptroller’s website."]
["Provider ID No.","Enter complete VID number (14 digits).  This number must correspond to correct remittance address.  If applicable, the last 3 digits correspond to a particular mail code to show where the payment is being mailed or if it is direct deposit.   "]
["Remittance Address","Enter the address where correspondence and documentation for this particular WA should be sent. This may be a different address than the one shown on the contract."]
["Begin Service Date","Enter a beginning service date for the particular bling period. \n\n\n"]
["End Service Date","Enter an end service date.  The invoice end service date will be for the date that shows the last activity for this particular billing period.\n(Note:  Do not cross Fiscal Appropriation Years (FY/AY) with your invoice.  TxDOT's FY/AY is September 1st through August 31st.  (ex:  September billing in 2020 would be FY 2021.)"]
["WA Project Manager (Provider)","Enter the name of the prime provider PM . "]
["DBE/HUB Goal Assignment and Percentage (for contract)","Select the goal assignment for the contract by clicking on the drop down menu to select one of the following:  DBE (for federal funded contracts) or HUB (for state funded contracts.  Enter the assigned goal percentage for the contract.  (The assigned goal percentage is found in the top section of Exhibit H-1 of the contract.)"]
["Legacy Contract No.","Enter the legacy contract number exactly as shown on the executed contract document (ex:  36-2IFP5001).    Contact the TxDOT PM for this Work Authorization (WA) or SD contract without WAs if you do not know the number."]
["Contract Amount","Enter the current contract amount.  (The amount entered in this cell is for the contract (not the WA).  This  is the authorized contract amount at the time the invoice is being submitted even if an SA is being processed for additional funds.)"]
["Contract Expiration Date","Enter the current contract expiration date.  Use MM/DD/YY formatting.  Enter the date of the current contract expiration at the time the invoice is being submitted, even if a SA is being processed for a time extension.  The contract expiration date is found on the fully executed contract."]
["Legacy WA No.","Enter the legacy WA number shown on the fully executed WA document (top right hand corner).  A separate invoice package must be submitted for each WA.  (For older, specific deliverable contracts without WAs, insert N/A. An N/A shown here will apply to all corresponding WA information cells.)"]
["WA Amount","Enter the exact amount shown in Part II of  the WA, including any additional amounts that have been added by a fully executed SWA.  The WA amount will be the total WA amount at the time the invoice is being submitted even if a SWA is being processed (but has not been executed) for a different amount."]
["WA Execution Date","Enter the date that the WA was fully executed.  This will be the date that the WA was signed by the TxDOT signature authority as shown in the fully executed WA under the title \"The State of Texas\"."]
["WA Expiration Date","Enter the current expiration date for the executed WA.   This will be the expiration date shown in Part IV of the fully executed WA.  This date will be the WA expiration date at the time the invoice is being submitted even if a SWA is being processed (but has not been fully executed) for a time extension."]
["WA Payment Type(s)","Enter payment type (or types) as shown on Part IV of the executed WA.  The method of payment to the primary provider will be entered in this cell, although various methods of payment may have been used for calculation purposes."]
["WA Project Manager (TxDOT)","Enter the name of the TxDOT PM for this specific WA. "]
["INVOICE SUMMARY SECTION"]
["AY (Approp Year/Fiscal Year)","Use the four (4) digit  appropriation year (fiscal year). TxDOT’s AY (FY)  is 9/1/YY to 8/31/YY.   The invoice must not cross AYs.  A separate invoice must be submitted for invoices that are split across appropriation years. "]
["DEPT\n(Budget Acct Source Unit)","Enter six (6) numeric digits that will be provided by the TxDOT PM. This will be the number for the DIST/DIV budget account that has been setup in PeopleSoft to fund the project. \n\nNote the question to the right of this section: \"Is this a Consultant Engineering Contract (CEC)?\". If \"Yes\" is selected, additional instructions will appear to allow the inclusion of multiple DEPT values to be entered. Otherwise (for all other contract types), only one DEPT value will be permitted."]
["Project Description","Enter a short description of the project.  The description will closely match that shown on the 1st page of the WA.  Both alpha and numeric characters can be used, and the cell can be expanded to fit a general description."]
["INVOICE DETAIL SECTION"]
["Line No.","No entry required.  The line indicator directly corresponds to the total amount invoiced by CSJ and FC shown in the Summary of Total Amount Invoiced tab and for each subtotal line number entered into the corresponding tabs. The line indicator also directly corresponds to the Highway Maintenance Detail line No. in the next section. Detailed information will be provided by the TxDOT PM when there is no CSJ/Detail number associated with the project.  "]
["DD (DIST/DIV Budget No.)","Enter the district or division number that is provided by the TxDOT PM."]
["PCBU \n(601+Segment ID)\n- Enter 2 digit Segment ID number only.","Enter the Segment ID (ONLY) that is provided by the TxDOT PM.  Note: The leading 601 will automatically be added when the line item rolls over to the COA Inv Conv tab. "]
["Project\n(CSJ or Detail No.)\n","Automatically populated from Project (CSJ/Detail No.) that was selected using the Labor Summary (Office) for the particular billing, and is a write protected cell.  Verify that this cell has been populated correctly. Once each line number has been populated, click on the drop down menu button (Cell D20) by clicking on \"blanks\" from the drop down list to remove the checkmark, and the tab will roll up to remove unused rows."]
["Amount","Automatically populated and is a write protected cell.  Verify that the amount has been populated correctly by line number.  "]
["Source \n(Legacy Function Code)\n","Automatically populated from Source (Legacy FC) that was selected using the Labor Summary (Office) for the particular billing, and is a write protected cell.  Verify that this cell has been populated correctly. \n\nThe provider will submit their monthly invoice by the CSJ/Detail number and Legacy FC detail as provided by the TxDOT PM.  The Legacy FC will automatically be converted to the PeopleSoft FC in the COA Invoice Conversion tab. The Function Code is based on the scope of work in the WA or the Contract.   Reference and use the FC List  Legacy Function Code (FC) from the list of FCs, along with a descriptions of work as indicted in the FC List tab .  The TxDOT PM will assist to ensure that the correct FCs are used.)"]
["ACCT \n(Object of Expenditure)","Enter the ACCT (Object of Expenditure) number provided by the TxDOT PM for this WA.  Reference the table shown in columns Z and AA, and sinter the four digit ACCT number that corresponds to the FC shown in column F.  (ex: Source (Legacy FC) is 100, then ACCT will be 7256.)"]
["(TxDOT Use Only)  \nSpecial Funding Indicator/SFI Code  TxDOT Use Only","Do not enter any data in this cell.  This code will be entered by the PEPS SC (if applicable)."]
["Amount Total\n(Cell E71)","Automatically calculated (sums Invoice column A cells A21 to cell A70). Note: This amount must reconcile to the tabs Summary of Total Amount Invoiced (cell AG63)  This cell of information must also match the Total Combined Invoice Amount shown in the WA Financial Status Summary (cell E14)."]
["Highway Maintenance Detail Section\n(This section is used for special projects that do not have an assigned CSJ/Detail number.)"]
["Line No.","Detailed information will be provided by the TxDOT PM (if applicable). Data for this Line No. will directly correspond with the Line No. under the Invoice Detail subheading in this tab.  The TxDOT PM will provide additional information on utilizing the Line No. cell when there is no CSJ/Detail number associated with the project, and the Highway Maintenance Detail information will be necessary to correctly identify the project."]
["Task/Work Order","Detailed information will be provided by the TxDOT PM when a CSJ/Detail number is not directly associated with the project.  "]
["County","Detailed information will be provided by the TxDOT (if applicable).  If this cell is applicable, then it will always be a 3 digit numeric cell."]
["System","Detailed information will be provided by the TxDOT (if applicable).  If this cell is applicable, then it will always be a 2 digit alpha cell."]
["Highway No.","Detailed information will be provided by the TxDOT (if applicable).  If this cell is applicable, then it will always be a 4 digit numeric cell."]
["Suffix","Detailed information will be provided by the TxDOT (if applicable).  If this cell is applicable, then it will always be a 1 digit alpha cell."]
["Class","Detailed information will be provided by the TxDOT (if applicable).  If this cell is applicable, then it will always be a 2 digit numeric cell."]
["SIGNATURE AUTHORITY tab",null,"Link to Signature Authority Tab"]
["Cell Heading"]
["Provider Invoice No.","The following group of cells will automatically be populated from the data entered into the Invoice and Signature Authority tabs.  Reference instructions for these cells under the sections for Invoice and Signature Authority."]
["Combined Invoice Template Log No."]
["Legacy Contract No."]
["Legacy WA No."]
["Provider Name"]
["Provider ID No."]
["COMBINED INVOICE SUMMARY"]
["Combined Invoice Templates","These cells are write protected and are used to describe supplemental invoice tabs included in addition to the primary invoice tab, if applicable. "]
["Combined Invoice Template Log No.","These cells are write protected and are used to describe supplemental invoice tabs included in addition to the primary invoice tab."]
["Reason for Combined Invoice tab Package","If using additional supplementary invoice templates that will be attached to the primary invoice template, use the drop-down menu starting with Cell D15 to select a reason from the drop down menu for using the additional invoice template (for a supplemental invoice) . Descriptions for reasons to combine invoice templates are listed in Column I (Cells 14-19) of this worksheet.\n\nNote:  The total amount billed for the supplementary template will be entered on the primary template, and a complete supplemental template shall be attached to the primary template to support the amount billed.\n\nWhen using a Supplementary Invoice (additional invoice template), the entire supplementary invoice template package must be included with the primary invoice package (including a signed Signature Authority worksheet). The Signature Authority worksheet  of the primary invoice will show the Invoice Template Amount including the supplemental invoice amount, if applicable.  \n\nIt is preferred that a supplementary invoice to a previous billed invoice be submitted as a 'Stand Alone\" invoice package.  Contact the PEPS SC for additional instructions, if needed.\n\nPer terms of the contract, only one invoice may be submitted monthly.\n"]
["Invoice Template Amount\n","Enter the total amount for each supplementary invoice tab where applicable.  This amount should match the Total found on the Invoice tab page for each supplementary invoice and should also correspond with the Combined Invoice tab Log No. listed for that supplementary invoice.  Once each line number has been populated, click on the drop down menu button in Cell E14, then uncheck \"blanks\" from the drop down list.  This will roll up unused rows."]
["Total Combined Invoice Amount","This cell is automatically calculated. (Sum of the Combined Invoice tabs Log No. 1-5, for the primary invoice tab and any supplementary invoice tab totals entered.)"]
["PROVIDER USE ONLY\nInvoice Certification "]
["Prompt Payment (PP) Certification"]
["Provider Invoice No. for PP Verification","The provider invoice number for PP verification will be the particular invoice that has been submitted and payment has been received from TxDOT by the provider (normally within last 60 days).  Read the certification statement regarding prompt payment to subproviders for the invoice indicated in this section. Follow the instructions as stated."]
["Date Provider Received Payment \n(for PP Verification)","Enter the date that the payment for the specific invoice indicated was received from TxDOT."]
["Begin Service Date \n(for PP Verification)","Enter the begin service date for the billing period."]
["End Service Date \n(for PP Verification)","Enter the end service date for the billing period."]
["PROVIDER SIGNATURE BLOCK"]
["Provider Authorized Signature","It is the provider’s discretion as to who signs the certification for  this invoice package. \n\nThe providers representative that signs the invoice will be used as a starting point if there are questions regarding the invoice package, and will be considered as the person accountable for the allowable invoice amount being billed for the specific work authorization (WA) and  for the Prompt Payment certification statement according to the terms of the contract.   Additionally, the provider’s PM should be contacted if there are issues regarding the invoice package. \n\n(Note:  Signature and Printed Name must be the same person.  A certified electronic signature (such as DocuSign is acceptable.)"]
["Name","Typed or print name.  Signature and Printed Name must be the same person. "]
["Title","Type or clearly write in the title of the individual who signed the invoice."]
["Phone No.","Phone No. is the direct phone number to the individual who signed the form.  "]
["Email Address","Enter the email address for the person that is signing the invoice and responsible for the certification of the invoice package, and will be the person that can answer any questions regarding the invoice or prompt payment."]
["Provider Invoice Date","Enter the date that the invoice is being submitted to TxDOT. Note:  Make sure that the date entered is the same date that the invoice package is emailed to the PEPS Invoice Center for processing."]
["TxDOT USE ONLY"]
["This section will be completed by TxDOT.  \nReviewed By:  Enter the signature of the reviewers.  This should be a PEPS SC Contract Specialist and the TxDOT District or Division Project Manager. \nApproved By:  This will be the TxDOT District or Division person who has signature authority for the WA.\n\n"]
["WORK AUTHORIZATION FINANCIAL STATUS SUMMARY",null,"Link to WA Financial Status Summary Tab"]
["Cell Heading"]
["Provider Invoice No.","This group of cells will automatically be populated from the data entered into the Invoice and Signature Authority tabs.  Reference instructions for these cells under the sections for Invoice and Signature Authority."]
["Combined Invoice Template Log No."]
["Provider Name"]
["Provider ID"]
["Legacy Contract No."]
["Legacy WA No."]
["WORK AUTHORIZATION FINANCIAL SUMMARY"]
["Authorized Amount","Automatically populated from the Invoice tab WA Authorized Amount..  "]
["Previous Invoiced Amount\n(Required cell)","Enter the accumulative total amount invoiced to date for this WA.  Include the total amount for all invoices that have been submitted to TxDOT for processing, including any supplementary invoices."]
["Total Combined Invoice Amount \n(Including any supplemental invoices, if applicable.)","Automatically populated cell.  This amount is populated from the Signature Authority tab.  "]
["Total Invoiced to Date (Including this Invoice and any supplements, if applicable.)","Automatically populated cell by formula.  Note:  This amount will be a total of Previous Invoiced Amount and Total Combined Invoice Amount. "]
["Balance Remaining","Automatically populated cell by formula.  This amount will be the Authorized Amount minus Total Invoiced to Date (including this invoice and any supplements).  "]
["INVOICE SUMMARY"]
["Total Labor (Office)","Automatically populated field.  Must equal the total shown in the Labor Summary (Office) tab. "]
["Total Labor (Field)","Automatically populated field.  Must equal the total shown in the  Labor Summary (Field) tab. "]
["Total Unit Costs","Automatically populated field.  Must equal the total shown in the  Unit Cost Summary tab. "]
["Subtotal (Labor + UC)","Automatically calculated. Verify calculations."]
["Adjustment (from previous billing - documentation required)","Enter applicable overpayment or underpayment from previous invoice that has been billed and processed for payment.  Documentation to support the adjustment is required.   An adjustment will need to be included as a Supplementary Invoice Template on the Signature Authority tab.  The adjustment will be automatically added or subtracted from the Total Combined Invoice Amount shown on this tab."]
["Subtotal (Labor + UC) +/- Adjustment)","Automatically calculated. Verify calculations."]
["Total Other Direct Expenses (ODEs)","Automatically populated cell by formula from the total shown in the ODE tab."]
["Total Travel Expenses","Automatically populated cell by formula from the Summary of Total Amount Invoiced tab."]
["Total Amount  Invoiced","Automatically populated cell by formula from the WA Financial Status Summary"]
["Subprovider Firm Name - \n(Cell A25)\n","Select the Subprovider Firm Nmr from the drop down many in cell A 28, 29, etc. associated with each subprovider  that is billing for the particular billing cycle.  Revisions to the Subprovider Firm Name list must be made using the Master Template Setup tab. Once each line number has been populated, click on the drop down menu button (Cell A27), and uncheck the (Blanks) box, and then click OK to remove unused rows.\n\nNote:  Modifications to the drop down menu must be entered into the table in the Master Template Set-Up tab."]
["Total Invoice","Automatically populated cell by formula.  "]
["SUMMARY OF TOTAL AMOUNT INVOICED",null,"Link to Summary of Total Amt Invoice Tab"]
["Provider Invoice No.","This group of cells will automatically be populated from the data entered into the Invoice and Signature Authority tabs.  Reference instructions for these cells under the sections for Invoice and Signature Authority."]
["Combined Invoice Template Log No."]
["Provider Name"]
["Provider ID No."]
["Legacy Contract No."]
["Legacy WA No."]
["Line No.","The line number directly corresponds with the line number, by Project - (CSJ or Detail No.) and the Source (Legacy FC)  in each of the tabs, and directly populates to each line number shown in the Invoice tab in the Amount column shown under the Invoice Detail subheading.  Verify that the amounts shown for each line number correspond with the line number amounts shown in the Invoice tab as indicated above."]
["Provider Labor (Office)\nProvider Labor (Field)\nUnit Cost Summary\nOther Direct Expenses (ODE)\nTravel Expense (TE) Summary\nProject CSJ/Detail\nSource (Legacy Function Code (FC))\n\n","This cell is automatically populated from the tabs as indicated in the titles of each column,  and is a write protected cell.  The amount for each line No. will correspond to each subtotal line number in each of the tabs.  Check entry to ensure that the line No. corresponds, and that all cells have been populated correctly.  Once each line number has been populated, click on the drop down menu button (Cell G13) and uncheck  the \"blanks\", and then the \"ok\"  button to remove unused rows.\n"]
["Subprovider Firm Name \n(for this billing period)\nCells\n H12, I12,etc.","These are write protected cells that are automatically populated with the Subprovider Firm Name that has been set up, and selected as an active Subprovider for this billing cycle from the drop down menu in the WA Financial Status Summary tab.  Verify that the correct subprovider has been selected that has performed services, and who has submitted an invoice during this billing cycle.  "]
["Subprovider Amounts \n(for this billing period)\n\n*instructions to hide \nunused columns","Enter the individual total amount billed (Labor and Other Direct Expenses) for each subprovider shown, this will directly correspond to the line No. for each Source (CSJ/Detail) and Legacy (FC).  The same CSJ can be associated with multiple function codes. The total amount entered for each subprovider will populate the WA Financial Status Summary tab with the dollar amount for each subprovider (that is selected to submit billing for this invoice) under the Invoice Summary subheading in Cell E28, E29, etc. for each Subprovider.  Detailed backup documentation must be provided to support the amount shown for each subprovider. Once you have entered the amounts for each subprovider, hide unused columns:  Note:  The \"hide\" and \"unhide\" feature is available for this sheet so that the confused columns can be hidden when the completed tab is ready to save as a pdf for submission for payment."]
["Total ","Automatically populated cell by formula.  Verify calculations."]
["Total Amount","Automatically populated cell by formula.   Verify that all cells and formulas are correct, and have carried over to the Invoice template."]
["Labor Summary (Office) and Labor Summary (Field)",null,"Link to Labor Summary (Office) Tab"]
["Cell Heading",null,"Link to Labor Summary (Field) Tab"]
["Provider Invoice No.","This group of cells will automatically be populated from the data entered into the Invoice and Signature Authority tabs.  Reference instructions for these cells under the sections for Invoice and Signature Authority."]
["Combined Invoice Template Log No."]
["Legacy Contract No."]
["Legacy WA No."]
["Provider Name"]
["Provider ID No."]
["Labor Breakdown by CSJ/Function Code"]
["Project\n(CSJ/Detail number)\n\nMaster Setup Tab - All Project (CSJ/Detail No.) for this billing period will be setup using this tab, even if there will not be labor charges for \"Office\".","Select the appropriate Project (CSJ or Detail No.) from the drop down menu for each subtotal line (Ex:  Cell A42, A73, etc.) that is applicable to the services being provided for the particular billing period. The provider will submit their monthly invoice by the Project (CSJ/Detail) number and Source (Legacy FC) detail as provided by the TxDOT PM.  (The Source (Legacy FC) used will automatically be converted to the New \"PeopleSoft\" FC in the Chart of Accounts (COA) Invoice Conversion tab. The function code are  based on the scope of work in the WA or the Contract.   The line items by Project (CSJ/Detail) number will automatically populate corresponding subtotal  line numbers in other tabs (Labor Summary (Field), Unit Cost Summary, and TE Summary)  in this workbook.  If the information is not correct here, it will not be correct throughout the invoice package. \n\nNote:  Modifications to the drop down menu must be entered into the table in the Master Template Set-Up tab.\n\n"]
["Source\n(Legacy Function Code)","Select the appropriate Source (Legacy FC) from the drop down menu for each subtotal line (Ex:  Cell B42, B73...).  The provider will submit their monthly invoice by the Project (CSJ/Detail) number and Source (Legacy FC) detail as provided by the TxDOT PM.  (The Source (Legacy FC) used will automatically be converted to the New \"PeopleSoft\" FC in the Chart of Accounts (COA) Invoice Conversion tab. The function code are  based on the scope of work in the WA or the Contract.   \n\nReference and use the Source (Legacy FC) from the last of FCs, along with a description of work as indicted in the FC List tab .  The TxDOT PM will assist to ensure that the correct FCs are used. "]
["Employee Name","Select the appropriate Employee Name from the drop down menu ( Cell C12,C13, etc.)  for each Project (CSJ or Detail No) and  Source (Legacy FC) where the employee provided services for the billing period. Repeat this action to select Emp Name used for this billing cycle by dropping down to the next set of Project (CSJ or Detail No) and Source (Legacy FC) for the billing period.  \n"]
["Employee Staffing Category\n","Select the appropriate Employee Staffing Category from the drop down menu ( Cell D12,D13, etc.)  for each Project (CSJ or Detail No) and  Source (Legacy FC) where the employee provided services for the billing period. Repeat this action to select Employee Staffing Category used for this billing cycle by dropping down to the next set of Project (CSJ or Detail No) and Source (Legacy FC) for the billing period.  Once each line number has been populated, click on the drop down menu button (Cell D11 and uncheck  the \"blanks\", and then the \"ok\"  button to remove unused rows.\n"]
["No. of Hours","Enter the number of hours shown for each employee that performed by each employee during this billing cycle  "]
["Contract Rate","Automatically populated from the Master Template Setup File, Column K."]
["Total Labor","Automatically populated cell by formula.  Verify calculations.  Note:  This amount will be  No .of Hours times Contract Rate.  "]
["SUBTOTAL BY CSJ/Detail number/FC (LINE No.)"]
["Line Total by Project/Source ","The sum of  No. of Hours times Actual Hourly Rate summed up by the CSJ/Detail number/FC.  Verify that calculations are correct."]
["UNIT COST SUMMARY",null,"Link to Unit Cost Tab"]
["Cell Heading"]
["Provider Invoice No.","This group of cells will automatically be populated from the data entered into the Invoice and Signature Authority tabs.  Reference instructions for these cells under the sections for Invoice and Signature Authority."]
["Combined Invoice Template Log No."]
["Provider Name"]
["Provider ID No."]
["Legacy Contract No."]
["Legacy WA No."]
["Line No.","The line number directly corresponds with the line number, by Project (CSJ/Detail) and the Source Legacy Function Code (FC) in each of the tabs, and directly populates the Invoice template in the Amount column shown under the Invoice Detail subheading.\n\nVerify that the amounts shown for each line number correspond with the same line number amounts shown in the Invoice tab as indicated above."]
["Project\nCSJ/Detail number","Auto populated with the same Project and Source that was entered by subtotal line number in the Labor Summary (Office) tab."]
["Source\n(Legacy Function Code)","Auto populated with the same Project and Source that was entered by subtotal line number in the Labor Summary (Office) tab."]
["Type of Unit\n","Select the Type of Unit Cost from the drop down menu ( Cell C12,C13, etc.)  for each Project (CSJ or Detail No) and  Source (Legacy FC) where services for Unit Costs were completed for the billing period. Repeat this action to select the Type of Unit for services completed for this billing cycle by dropping down to the next set of Project (CSJ or Detail No) and Source (Legacy FC) for the billing period.   \n\nNote:  Modifications to the drop down menu must be entered into the table in the Master Template Set-Up tab.\n"]
["Quantity\n\n","Enter the quantity for each Type of Unit.  Once each line number has been populated, click on the drop down menu button (Cell D11)  to remove unused rows by unchecking the (Blanks) box,  then click OK to remove unused rows."]
["Unit Cost","Automatically populated from the Master Template Setup File, Column O."]
["Unit Cost Total\n","Automatically populated cell by formula.  Verify that the calculations are correct.  Note:  The total shown in Cell H1562 should match the total shown in the Summary of Total Amt Invoiced  tab (Cell D63)."]
["OTHER DIRECT EXPENSE (ODE) SUMMARY",null,"Link to ODE Tab"]
["Cell Heading"]
["Provider Invoice No.","This group of cells will automatically be populated from the data entered into the Invoice and Signature Authority tabs.  Reference instructions for these cells under the sections for Invoice and Signature Authority."]
["Combined Invoice Template Log No."]
["Provider Name"]
["Provider ID No."]
["Legacy Contract No."]
["Legacy WA No."]
["ODE Breakdown by Project (CSJ/Detail No) and by Source (Legacy Function Code)"]
["Project\nCSJ/Detail number","Auto populated with the same Project and Source that was entered by subtotal line number in the Labor Summary (Office) tab."]
["Source\n(Legacy Function Code)","Auto populated with the same Project and Source that was entered by subtotal line number in the Labor Summary (Office) tab."]
["Type of Expense \n\n","Select the Type of Expense from the drop down menu in Cell C12, C13, etc.  Scroll up or down the list to select the type of expense that is being billed for this particular invoice.   All types of expenses will not always be utilized for each billing cycle.  Only expenses incurred during this billing cycle will be selected from the list of approved expenses for this WA.  Repeat this action to select the acronym associated with the expense by dropping down to the next row.  Once each line number has been populated, click on the drop down menu button (Cell C11)  to remove unused rows by unchecking the (Blanks) box,  then click OK to remove unused rows.\n\nNote:  Modifications to the drop down menu must be entered into the table in the Master Template Set-Up tab."]
["Quantity","Enter the quantity of units for each Type of Expense incurred.  (Ex:  20, 2000, etc.)"]
["Actual Rate (Not to Exceed Contract Max Rate)","Enter the actual cost rate associated with the expense. There will be either an actual rate, not to exceed the maximum amount.  "]
["Fixed Rate (As shown in contract)","Automatically populated from the Fixed Rates entered into the Master Template Setup tab.  "]
["Total Amount Billed","Automatically populated by formula.  This cell is an automatic calculation to add up the sum of the Total Amount Billed.   Verify calculations."]
["Subtotal by Line No. ","Automatically populated by formula.  This cell is an automatic calculation to add up the sum of the Total Amount Billed.   Verify calculations.\n\nNote:  The total shown in Cell I1562 should match the total shown in the Summary of Total Amt Invoiced  tab (Cell E63)."]
["Receipt or Usage Log Attached","Click on the drop down menu in Column I and select Y, N or N/A."]
["Total Providers ODE Summary","Automatically populated by formula.  Verify calculations."]
["TRAVEL EXPENSE SUMMARY",null,"Link to TE Summary Tab"]
["Cell Heading"]
["Provider Invoice No.","This group of cells will automatically be populated from the data entered into the Invoice and Signature Authority tabs.  Reference instructions for these cells under the sections for Invoice and Signature Authority."]
["Combined Invoice Template Log No."]
["Provider Name"]
["Provider ID"]
["Legacy Contract No."]
["Legacy WA No."]
["Travel Expense Breakdown"]
["Travel Expense Summary\nOverview","Enter the date according to the following instructions for each travel expense.  Travel expenses will be populated either as a \"Per Trip\" amount, or a \"Per Day\" amount.  Travel expenses that are billed \"Per Trip\" extend more than one day.  Travel expenses that are billed \"Per Day\" must be shown on a separate line item, even if they are associated with a trip. \n\nExample: \nJohn Doe has billable air fare for a trip from June 1-3 and stays two nights in a hotel from June 1-2.  John's air fare will be billed as a trip and can be entered on one line item and will have a start date of June 1st and an end date of June 3rd.  John Doe's, hotel/lodging however, will be entered on separate lines with the first night's start and end date being June 1, and the second night's start and end date (on a separate line) being June 2nd."]
["Project (CSJ/Detail)","Auto populated with the same Project and Source that was entered by subtotal line number in the Labor Summary (Office) tab."]
["Source (Legacy FC) ","Auto populated with the same Project and Source number that was entered by subtotal line number in the Labor Summary (Office) tab."]
["Employee Name\n","Select the appropriate Employee Name from the drop down menu ( Cell C14, C15, etc.)  for each Project (CSJ or Detail No) and  Source (Legacy FC) where the employee traveled for the project. Repeat this action to select Emp Name used for this billing cycle by dropping down to the next set of Project (CSJ or Detail No) and Source (Legacy FC) for the billing period.  Once each line number has been populated, click on the drop down menu button (Cell C13)  to remove unused rows by unchecking the (Blanks) box,  then click OK to remove unused rows.\n\nNote:  Modifications to the drop down menu must be entered into the table in the Master Template Set-Up tab.\n"]
["Start Date","Enter the first date of travel as the start date.  "]
["End Date","Enter the last date of travel as the end date.  See instructions in Cell B190 above.  "]
["Air Travel\n(Round Trip Per Person)","Enter the actual amount charged (within the approved maximum amount negotiated for the WA) for the round trip air fare  for each employee.  Each individual employee's travel must be listed separately in order to provide an adequate cross-reference to verify approved travel expenses."]
["Lodging (Per Night Per Person)"]
["Lodging/Hotel\nPer Night/Person","Enter the actual amount for each night of stay on a separate line item (start/end date will be the same for each night of stay).  If associated with another travel expense entered as a trip (more than one day), such as \"Air Travel\", the lodging nights must fall within the range of the trip dates  The base rate for each night of stay must be within the approved maximum as shown in the WA, and will exclude state and local taxes.  The state and local taxes for lodging is entered separately."]
["Amount","Enter the actual amount of state and local taxes paid for each night of stay.  The taxes and fees must be shown on the same line item as the lodging amount billed.  "]
["Taxes/Fees","This cell is automatically populated to add the amount entered for the lodging/hotel expense, and the taxes and fees for the state and local hotel taxes."]
["Total","Automatically populated by formula.  Verify calculations."]
["Meals (Per Diem)"]
["Day No.","Enter the day number for the per diem.  For example, if the billable amount of per diem is for 3 days of travel, then each day would be entered as a separate line item.    Day 1, then Day 2, etc.  On the first and last day of travel, enter actual meal expenses up to 75% of the meal per diem rate for the city of travel. For days between the first and last day, enter the actual meal expenses up to the meal per diem rate.  "]
["Amount","Enter the actual per diem amount spent for each day, not to exceed the maximum amount allowable for the city of travel, and as approved in this WA.  The 81st Texas Legislature set the State Per Diem rate to the Federal Per Diem rate, which can be found on the US General Services Administration website:  (http://www.gsa.gov/portal/category/21287).  Note: The federal per diem rates include $5.00 in incidental costs. This $5.00 must be deducted from the rate to determine the maximum amount allowable.  Allowable incidental costs, such as parking, are shown as separate line items, and will not be included with the allowable per diem rates."]
["Mileage (Per Trip or Per Day)"]
["No. of Miles","Enter the number of miles associated with travel \"Per Day\" or \"Per Trip\".  Enter the current state rate applicable for the invoice time period in Cell M9 to calculate the total mileage.  The mileage rate is a fixed rate and will be used to calculate the reimbursable amount for the actual number of documented miles driven for the project as indicated in the work authorization. "]
["Amount","This cell is automatically populated to calculate number of miles times the current allowable state rate.  Note:  If the allowable mileage rate is different than the allowable state rate, please contact your PM to receive and update the rate to reflect the actual allowable rate for your WA. The mileage rates is applicable to the specific dates of travel.  The rates can be changed using Cell M9."]
["Other Travel Expenses"]
["Rental Car\nPer Day/Trip/Person\n(Texas and Insurance Included)","Enter the amount billed for actual costs as either \"Per Trip\", or \"Per Day\" for all reimbursable charges.  The amount billed must be within the allowable rate as shown in the WA."]
["Amount","Enter the amount billed for actual costs as either \"Per Trip\", or \"Per Day\" for all reimbursable charges.  The amount billed must be within the allowable rate as shown in the WA."]
["Parking Fees\nPer Trip/Day","Enter the amount billed for actual costs as either \"Per Trip\", or \"Per Day\" for all reimbursable charges.  The amount billed must be within the allowable rate as shown in the WA."]
["Amount","Enter the amount billed for actual costs as either \"Per Trip\", or \"Per Day\" for all reimbursable charges.  The amount billed must be within the allowable rate as shown in the WA."]
["Rental Car\nPer Trip/Day","Enter the amount billed for actual costs as either \"Per Trip\", or \"Per Day\" for all reimbursable charges.  The amount billed must be within the allowable rate as shown in the WA."]
["Amount","Enter the amount billed for actual costs as either \"Per Trip\", or \"Per Day\" for all reimbursable charges.  The amount billed must be within the allowable rate as shown in the WA."]
["Toll Charges\nPer Trip/Day","Enter the amount billed for actual costs as either \"Per Trip\", or \"Per Day\" for all reimbursable charges.  The amount billed must be within the allowable rate as shown in the WA."]
["Amount","Automatically populated by formula.  Verify calculations."]
["Taxi/Cab Fare\nPer Trip/Day","Enter the number of times taxi/cab fare services were used for each trip.  (Ex:  for one trip a taxi was used three times, enter \"3\" for the number of times)."]
["No. of Fares","Enter the amount billed for actual costs as either \"Per Trip\", or \"Per Day\" for all reimbursable charges.  The amount billed must be within the allowable rate as shown in the WA."]
["Amount","Automatically populated by formula.  Verify calculations."]
["Line Totals","Automatically populated by formula.  Verify calculations."]
["TE Summary Total\n","Automatically populated by formula.  This is the amount that will populate the Summary of Total Amount Invoiced.  Verify calculations."]

{"sheet":"FC List","index":1,"n_rows":40,"n_cols":5,"rows_kept":40,"cut":false,"hidden":false,"merged":[[0,0,0,4],[1,0,1,4],[2,0,3,0],[6,0,8,0],[9,0,15,0],[32,2,39,2],[32,0,39,0],[21,0,29,0],[2,1,2,2],[2,3,2,4],[19,0,20,0],[19,1,20,1],[19,2,20,2],[21,1,29,1],[21,2,29,2],[32,1,39,1]]}
["Professional Engineering Procurement Services (PEPS) Division"]
["Eleven FCs have been consolidated from the legacy Thirty Three (33) FCs, as shown below.  "]
["PC Bus Unit","New Function Codes (ERP Function Codes)",null,"Legacy Function Codes"]
[null,"FC ","Description ","FC ","Description "]
[72,"000","General","000","General"]
[72,100,"General PE",100,"General PE"]
[76,null,null,180,"District Design Review and Processing"]
[null,100,"Pre-DES Funding Agreement Work ",181,"Austin Office Processing (State prepared PS& E)"]
[null,null,null,182,"Austin Office Processing (Consultant Prepared PS& E)"]
[76,null,null,102,"Feasibility Studies"]
[null,null,null,110,"Route and Design Studies"]
[null,null,null,126,"Donated Items or Services"]
[null,102,"Feasibility Studies",146,"Rework by TxDOT of complete consultant plans on advance PE projects. Advance PE are activities in function codes 102 through 150."]
[null,null,null,169,"Donated Items or Services"]
[null,null,null,191,"Toll Feasibility Studies"]
[null,null,null,195,"Rail Division - PE"]
[76,120,"Social/Econ/Environ Studies",120,"Social, Economic and Environmental Studies and Public Involvement"]
[76,130,"Right-of-Way Survey",130,"Right of Way Survey (State or Contract Provided)"]
[76,135,"Right-of-Way Utility Activities",135,"Right of Way Data Utility Engineering Investigation along with Utility Coordination and Accommodation"]
[76,145,"Managing Contracted/Donated PE",145,"Managing Contracted or Donated Advance PE Services. "]
[null,null,null,164,"Managing Contracted or Donated PS&E PE Services.  "]
[76,160,"Roadway Design",150,"Field Surveying and Photogrammetry"]
[null,null,null,160,"Roadway Design Controls (Computations and Drafting)"]
[null,null,null,161,"Drainage"]
[null,null,null,162,"Signing, Pavement Markings, Signalization (Permanent)"]
[null,null,null,163,"Miscellaneous (Roadway)"]
[null,null,null,165,"Traffic Management Systems (Permanent)"]
[null,null,null,166,"Rework By TxDOT Of Completed Consultant Plans on PE & E projects. \nPS&E PE are activities in Function Codes 160 through 190. \nRework Segment 76 FCs 160-190 for metric conversion. \nRework existing PS&E to metric units on projects already into plan preparation."]
[null,null,null,170,"Bridge Design"]
[null,null,null,190,"Other pre-letting date charges, not otherwise classified. "]
[76,192,"District and Division CDA",192,"Comprehensive Development Agreement Procurement"]
[76,193,"Toll Collection Planning",193,"Toll Collection "]
[76,300,"General Function",310,"Project Supervision"]
[null,null,null,320,"Inspection of Work in Progress and Project Records"]
[null,null,null,330,"Job Control"]
[null,null,null,340,"Post Letting Date Construction Surveys for Construction Contracts. "]
[null,null,null,350,"Design Verification, Changes and Alterations (State prepared plans only)"]
[null,null,null,351,"Design Verification, Changes and Alterations (Consultant prepared plans only)\nReview of plans to verify applicability to actual conditions and for errors; checking Shop Drawings, Field Change Requests, Extra Work Orders, Memorandum Agreements and Supplement Agreements. \nIncludes such activities at both residency and district headquarters. \nIncludes all costs to acquire and manage consultant contracts and services applicable to Construction Engineering (CE)."]
[null,null,null,352,"Final Plan Preparation"]
[null,null,null,390,"Construction Engineering not Otherwise Classified"]

{"sheet":"Master Template Set-up","index":2,"n_rows":155,"n_cols":22,"rows_kept":155,"cut":false,"hidden":false,"merged":[[4,13,4,14],[4,17,4,18],[4,0,4,1],[4,9,4,10],[1,0,1,12]]}
[null,null,null,null,null,null,null,null,null,null,null,null,null,"Instructions","Click link to see instructions for this tab"]
["This TAB shall be used for entering in the Master Lists for CSJs or Detail No., Employees, Staffing Categories, Unit Cost Items, Other Direct Expenses, and Subproviders."]
[]
[]
["Master List of Projects (CSJs or Detail No.)\n\nThe approved Project (CSJ or Detail No's.) will be provided by the TxDOT Project Manager (PM) for the particular Work Authorization (WA).  \n\nThe Project (CSJ or Detail No's) shown below will auto populate the drop down menu of the Labor Summary (Office) worksheet of this Invoice Template.  \n\nAll corresponding worksheets in the Invoice Template will be auto populated with corresponding Subtotal Line No's that have been selected using the drop down menu in the Labor Summary (Office) worksheet for the particular billing period.  \n\nNote:  Not all Project (CSJ or Detail No.'s) n this list will be used for every billing period.  ",null,null,null,null,null,"Master List of Employees",null,null,"Master List of Staffing Categories and Rates",null,null,null,"Master List of Unit Cost Items",null,null,null,"Master List of Other Direct Expenses\n\n\nNOTE: Since Actual Rates vary, DO NOT enter a rate below ONLY enter the Expense type.  Actual Rates are to be entered on the ODE TAB and assoicated with the appropriate Expense.",null,null,null,"Master List of Subproviders"]
["Subtotal Line No.","Project (CSJ or Detail No.)",null,null,null,null,"Employee Name",null,null,"Staffing Category","Contract Rate",null,null,"Unit Item","Unit Cost Rate",null,null,"Expenses","Expense Cost (FIXED RATES)",null,null,"Subproviders"]
[1,null,null,null,"000",1,null,null,1,null,null,null,1,null,null,null,1,null,null,null,1]
[2,null,null,null,"100",2,null,null,2,null,null,null,2,null,null,null,2,null,null,null,2]
[3,null,null,null,102,3,null,null,3,null,null,null,3,null,null,null,3,null,null,null,3]
[4,null,null,null,"110",4,null,null,4,null,null,null,4,null,null,null,4,null,null,null,4]
[5,null,null,null,"120",5,null,null,5,null,null,null,5,null,null,null,5,null,null,null,5]
[6,null,null,null,"130",6,null,null,6,null,null,null,6,null,null,null,6,null,null,null,6]
[7,null,null,null,"135",7,null,null,7,null,null,null,7,null,null,null,7,null,null,null,7]
[8,null,null,null,"145",8,null,null,8,null,null,null,8,null,null,null,8,null,null,null,8]
[9,null,null,null,"146",9,null,null,9,null,null,null,9,null,null,null,9,null,null,null,9]
[10,null,null,null,"150",10,null,null,10,null,null,null,10,null,null,null,10,null,null,null,10]
[11,null,null,null,"160",11,null,null,11,null,null,null,11,null,null,null,11,null,null,null,11]
[12,null,null,null,"161",12,null,null,12,null,null,null,12,null,null,null,12,null,null,null,12]
[13,null,null,null,"162",13,null,null,13,null,null,null,13,null,null,null,13,null,null,null,13]
[14,null,null,null,"163",14,null,null,14,null,null,null,14,null,null,null,14,null,null,null,14]
[15,null,null,null,"164",15,null,null,15,null,null,null,15,null,null,null,15,null,null,null,15]
[16,null,null,null,"165",16,null,null,16,null,null,null,16,null,null,null,16,null,null,null,16]
[17,null,null,null,"166",17,null,null,17,null,null,null,17,null,null,null,17,null,null,null,17]
[18,null,null,null,"169",18,null,null,18,null,null,null,18,null,null,null,18,null,null,null,18]
[19,null,null,null,"170",19,null,null,19,null,null,null,19,null,null,null,19,null,null,null,19]
[20,null,null,null,"180",20,null,null,20,null,null,null,20,null,null,null,20,null,null,null,20]
[21,null,null,null,"181",21,null,null,21,null,null,null,21,null,null,null,21,null,null,null,21]
[22,null,null,null,"182",22,null,null,22,null,null,null,22,null,null,null,22,null,null,null,22]
[23,null,null,null,"190",23,null,null,23,null,null,null,23,null,null,null,23,null,null,null,23]
[24,null,null,null,"191",24,null,null,24,null,null,null,24,null,null,null,24,null,null,null,24]
[25,null,null,null,"192",25,null,null,25,null,null,null,25,null,null,null,25,null,null,null,25]
[26,null,null,null,"193",26,null,null,26,null,null,null,26,null,null,null,26,null,null,null,26]
[27,null,null,null,"195",27,null,null,27,null,null,null,27,null,null,null,27,null,null,null,27]
[28,null,null,null,"310",28,null,null,28,null,null,null,28,null,null,null,28,null,null,null,28]
[29,null,null,null,"320",29,null,null,29,null,null,null,29,null,null,null,29,null,null,null,29]
[30,null,null,null,"330",30,null,null,30,null,null,null,30,null,null,null,30,null,null,null,30]
[31,null,null,null,"340",31,null,null,31,null,null,null,31,null,null,null,31,null,null,null,31]
[32,null,null,null,"350",32,null,null,32,null,null,null,32,null,null,null,32,null,null,null,32]
[33,null,null,null,"351",33,null,null,33,null,null,null,33,null,null,null,33,null,null,null,33]
[34,null,null,null,"352",34,null,null,34,null,null,null,34,null,null,null,34,null,null,null,34]
[35,null,null,null,"390",35,null,null,35,null,null,null,35,null,null,null,35,null,null,null,35]
[36,null,null,null,null,36,null,null,36,null,null,null,36,null,null,null,36,null,null,null,36]
[37,null,null,null,null,37,null,null,37,null,null,null,37,null,null,null,37,null,null,null,37]
[38,null,null,null,null,38,null,null,38,null,null,null,38,null,null,null,38,null,null,null,38]
[39,null,null,null,null,39,null,null,39,null,null,null,39,null,null,null,39,null,null,null,39]
[40,null,null,null,null,40,null,null,40,null,null,null,40,null,null,null,40,null,null,null,40]
[41,null,null,null,null,41,null,null,41,null,null,null,41,null,null,null,41,null,null,null,41]
[42,null,null,null,null,42,null,null,42,null,null,null,42,null,null,null,42,null,null,null,42]
[43,null,null,null,null,43,null,null,43,null,null,null,43,null,null,null,43,null,null,null,43]
[44,null,null,null,null,44,null,null,44,null,null,null,44,null,null,null,44,null,null,null,44]
[45,null,null,null,"Y",45,null,null,45,null,null,null,45,null,null,null,45,null,null,null,45]
[46,null,null,null,"N",46,null,null,46,null,null,null,46,null,null,null,46,null,null,null,46]
[47,null,null,null,"N/A",47,null,null,47,null,null,null,47,null,null,null,47,null,null,null,47]
[48,null,null,null,null,48,null,null,48,null,null,null,48,null,null,null,48,null,null,null,48]
[49,null,null,null,null,49,null,null,49,null,null,null,49,null,null,null,49,null,null,null,49]
[50,null,null,null,null,50,null,null,50,null,null,null,50,null,null,null,50,null,null,null,50]
[null,null,null,null,null,51,null,null,51,null,null,null,51,null,null,null,51,null,null,null,51]
[null,null,null,null,null,52,null,null,52,null,null,null,52,null,null,null,52]
[null,null,null,null,null,53,null,null,53,null,null,null,53,null,null,null,53]
[null,null,null,null,null,54,null,null,54,null,null,null,54,null,null,null,54]
[null,null,null,null,null,55,null,null,55,null,null,null,55,null,null,null,55]
[null,null,null,null,null,56,null,null,56,null,null,null,56,null,null,null,56]
[null,null,null,null,null,57,null,null,57,null,null,null,57,null,null,null,57]
[null,null,null,null,null,58,null,null,58,null,null,null,58,null,null,null,58]
[null,null,null,null,null,59,null,null,59,null,null,null,59,null,null,null,59]
[null,null,null,null,null,60,null,null,60,null,null,null,60,null,null,null,60]
[null,null,null,null,null,61,null,null,61,null,null,null,61,null,null,null,61]
[null,null,null,null,null,62,null,null,62,null,null,null,62,null,null,null,62]
[null,null,null,null,null,63,null,null,63,null,null,null,63,null,null,null,63]
[null,null,null,null,null,64,null,null,64,null,null,null,64,null,null,null,64]
[null,null,null,null,null,65,null,null,65,null,null,null,65,null,null,null,65]
[null,null,null,null,null,66,null,null,66,null,null,null,66,null,null,null,66]
[null,null,null,null,null,67,null,null,67,null,null,null,67,null,null,null,67]
[null,null,null,null,null,68,null,null,68,null,null,null,68,null,null,null,68]
[null,null,null,null,null,69,null,null,69,null,null,null,69,null,null,null,69]
[null,null,null,null,null,70,null,null,70,null,null,null,70,null,null,null,70]
[null,null,null,null,null,71,null,null,71,null,null,null,71,null,null,null,71]
[null,null,null,null,null,72,null,null,72,null,null,null,72,null,null,null,72]
[null,null,null,null,null,73,null,null,73,null,null,null,73,null,null,null,73]
[null,null,null,null,null,74,null,null,74,null,null,null,74,null,null,null,74]
[null,null,null,null,null,75,null,null,75,null,null,null,75,null,null,null,75]
[null,null,null,null,null,76,null,null,76,null,null,null,76,null,null,null,76]
[null,null,null,null,null,77,null,null,77,null,null,null,77,null,null,null,77]
[null,null,null,null,null,78,null,null,78,null,null,null,78,null,null,null,78]
[null,null,null,null,null,79,null,null,79,null,null,null,79,null,null,null,79]
[null,null,null,null,null,80,null,null,80,null,null,null,80,null,null,null,80]
[null,null,null,null,null,81,null,null,81,null,null,null,81,null,null,null,81]
[null,null,null,null,null,82,null,null,82,null,null,null,82,null,null,null,82]
[null,null,null,null,null,83,null,null,83,null,null,null,83,null,null,null,83]
[null,null,null,null,null,84,null,null,84,null,null,null,84,null,null,null,84]
[null,null,null,null,null,85,null,null,85,null,null,null,85,null,null,null,85]
[null,null,null,null,null,86,null,null,86,null,null,null,86,null,null,null,86]
[null,null,null,null,null,87,null,null,87,null,null,null,87,null,null,null,87]
[null,null,null,null,null,88,null,null,88,null,null,null,88,null,null,null,88]
[null,null,null,null,null,89,null,null,89,null,null,null,89,null,null,null,89]
[null,null,null,null,null,90,null,null,90,null,null,null,90,null,null,null,90]
[null,null,null,null,null,91,null,null,91,null,null,null,91,null,null,null,91]
[null,null,null,null,null,92,null,null,92,null,null,null,92,null,null,null,92]
[null,null,null,null,null,93,null,null,93,null,null,null,93,null,null,null,93]
[null,null,null,null,null,94,null,null,94,null,null,null,94,null,null,null,94]
[null,null,null,null,null,95,null,null,95,null,null,null,95,null,null,null,95]
[null,null,null,null,null,96,null,null,96,null,null,null,96,null,null,null,96]
[null,null,null,null,null,97,null,null,97,null,null,null,97,null,null,null,97]
[null,null,null,null,null,98,null,null,98,null,null,null,98,null,null,null,98]
[null,null,null,null,null,99,null,null,99,null,null,null,99,null,null,null,99]
[null,null,null,null,null,100,null,null,100,null,null,null,100,null,null,null,100]
[null,null,null,null,null,101,null,null,101,null,null,null,101,null,null,null,101]
[null,null,null,null,null,102,null,null,102,null,null,null,102,null,null,null,102]
[null,null,null,null,null,103,null,null,103,null,null,null,103,null,null,null,103]
[null,null,null,null,null,104,null,null,104,null,null,null,104,null,null,null,104]
[null,null,null,null,null,105,null,null,105,null,null,null,105,null,null,null,105]
[null,null,null,null,null,106,null,null,106,null,null,null,106,null,null,null,106]
[null,null,null,null,null,107,null,null,107,null,null,null,107,null,null,null,107]
[null,null,null,null,null,108,null,null,108,null,null,null,108,null,null,null,108]
[null,null,null,null,null,109,null,null,109,null,null,null,109,null,null,null,109]
[null,null,null,null,null,110,null,null,110,null,null,null,110,null,null,null,110]
[null,null,null,null,null,111,null,null,111,null,null,null,111,null,null,null,111]
[null,null,null,null,null,112,null,null,112,null,null,null,112,null,null,null,112]
[null,null,null,null,null,113,null,null,113,null,null,null,113,null,null,null,113]
[null,null,null,null,null,114,null,null,114,null,null,null,114,null,null,null,114]
[null,null,null,null,null,115,null,null,115,null,null,null,115,null,null,null,115]
[null,null,null,null,null,116,null,null,116,null,null,null,116,null,null,null,116]
[null,null,null,null,null,117,null,null,117,null,null,null,117,null,null,null,117]
[null,null,null,null,null,118,null,null,118,null,null,null,118,null,null,null,118]
[null,null,null,null,null,119,null,null,119,null,null,null,119,null,null,null,119]
[null,null,null,null,null,120,null,null,120,null,null,null,120,null,null,null,120]
[null,null,null,null,null,121,null,null,121,null,null,null,121,null,null,null,121]
[null,null,null,null,null,122,null,null,122,null,null,null,122,null,null,null,122]
[null,null,null,null,null,123,null,null,123,null,null,null,123,null,null,null,123]
[null,null,null,null,null,124,null,null,124,null,null,null,124,null,null,null,124]
[null,null,null,null,null,125,null,null,125,null,null,null,125,null,null,null,125]
[null,null,null,null,null,126,null,null,126,null,null,null,126,null,null,null,126]
[null,null,null,null,null,127,null,null,127,null,null,null,127,null,null,null,127]
[null,null,null,null,null,128,null,null,128,null,null,null,128,null,null,null,128]
[null,null,null,null,null,129,null,null,129,null,null,null,129,null,null,null,129]
[null,null,null,null,null,130,null,null,130,null,null,null,130,null,null,null,130]
[null,null,null,null,null,131,null,null,131,null,null,null,131,null,null,null,131]
[null,null,null,null,null,132,null,null,132,null,null,null,132,null,null,null,132]
[null,null,null,null,null,133,null,null,133,null,null,null,133,null,null,null,133]
[null,null,null,null,null,134,null,null,134,null,null,null,134,null,null,null,134]
[null,null,null,null,null,135,null,null,135,null,null,null,135,null,null,null,135]
[null,null,null,null,null,136,null,null,136,null,null,null,136,null,null,null,136]
[null,null,null,null,null,137,null,null,137,null,null,null,137,null,null,null,137]
[null,null,null,null,null,138,null,null,138,null,null,null,138,null,null,null,138]
[null,null,null,null,null,139,null,null,139,null,null,null,139,null,null,null,139]
[null,null,null,null,null,140,null,null,140,null,null,null,140,null,null,null,140]
[null,null,null,null,null,141,null,null,141,null,null,null,141,null,null,null,141]
[null,null,null,null,null,142,null,null,142,null,null,null,142,null,null,null,142]
[null,null,null,null,null,143,null,null,143,null,null,null,143,null,null,null,143]
[null,null,null,null,null,144,null,null,144,null,null,null,144,null,null,null,144]
[null,null,null,null,null,145,null,null,145,null,null,null,145,null,null,null,145]
[null,null,null,null,null,146,null,null,146,null,null,null,146,null,null,null,146]
[null,null,null,null,null,147,null,null,147,null,null,null,147,null,null,null,147]
[null,null,null,null,null,148,null,null,148,null,null,null,148,null,null,null,148]
[null,null,null,null,null,149,null,null,149,null,null,null,149,null,null,null,149]

{"sheet":"Invoice","index":3,"n_rows":135,"n_cols":30,"rows_kept":135,"cut":false,"hidden":false,"merged":[[20,2,20,7],[21,2,21,7],[22,2,22,7],[23,2,23,7],[24,2,24,7],[25,2,25,7],[26,2,26,7],[27,2,27,7],[134,4,134,5],[130,4,130,5],[131,4,131,5],[129,4,129,5],[99,4,99,5],[115,4,115,5],[114,4,114,5],[102,4,102,5],[103,4,103,5],[104,4,104,5],[133,4,133,5],[125,4,125,5],[132,4,132,5],[124,4,124,5],[127,4,127,5],[128,4,128,5],[107,4,107,5],[113,4,113,5],[100,4,100,5],[101,4,101,5],[108,4,108,5],[109,4,109,5],[111,4,111,5],[112,4,112,5],[110,4,110,5],[126,4,126,5],[117,4,117,5],[118,4,118,5],[119,4,119,5],[122,4,122,5],[123,4,123,5],[120,4,120,5],[121,4,121,5],[116,4,116,5],[0,6,0,7],[6,5,6,7],[9,5,9,7],[5,0,5,7],[6,0,6,1],[7,0,7,1],[7,2,7,3],[9,0,9,3],[7,5,7,7],[8,5,8,7],[8,0,8,1],[8,2,8,3],[0,2,0,3],[97,4,97,5],[105,4,105,5],[106,4,106,5],[10,5,10,7],[12,5,12,7],[98,4,98,5],[84,4,84,5],[85,4,85,5],[86,4,86,5],[28,0,28,7],[94,4,94,5],[95,4,95,5],[96,4,96,5],[90,4,90,5],[83,0,83,7],[81,0,81,2],[91,4,91,5],[92,4,92,5],[93,4,93,5],[87,4,87,5],[88,4,88,5],[89,4,89,5],[14,0,14,1],[11,5,11,7],[16,0,17,0],[16,1,17,1],[16,2,17,7],[16,26,17,26],[81,5,81,7],[1,6,1,7],[3,2,4,2],[3,3,4,3],[2,6,2,7],[3,6,3,7],[4,6,4,7],[6,2,6,3],[10,0,10,3],[18,2,18,7],[15,0,15,7],[11,0,11,1],[13,0,13,1],[12,2,12,3],[11,2,11,3],[12,0,12,1],[13,2,13,3],[13,5,13,6],[14,5,14,7],[19,2,19,7],[29,5,30,5],[29,6,30,6],[29,7,30,7],[28,26,29,27],[29,8,30,8],[29,0,30,0],[29,1,30,1],[29,2,30,2],[29,3,30,3],[29,4,30,4]]}
[null,null,"Template Updated: Sept 2023-Ver 14",null,"Provider Invoice No.",null,null,null,null,null,1,null,null,null,null,null,null,null,null,null,null,null,null,null,null,null,null,"Master Template Cell"]
[null,null,null,null,"Combined Invoice Template Log No.",null,null,null,null,null,2,null,null,null,null,null,null,null,null,null,null,null,null,null,null,null,null,"Monthly Submittal Cell"]
[null,null,null,null,"PeopleSoft (PS) Contract No.",null,null,null,null,null,3,null,null,null,null,null,null,null,null,null,null,null,null,null,null,null,"Instructions","Click link to see instructions for this tab"]
[null,null,"Provider Invoice Date",{"$f":"'Signature Authority'!B31","v":"00:00:00"},"PS Work Authorization (WA) PO No.",null,null,null,null,null,4]
[null,null,null,null,"TxDOT Invoice No.",null,null,null,null,null,5]
["INVOICE"]
["Provider Name:  ",null,null,null,"Legacy Contract No.  ",null,null,null,null,null,"Cost Plus Fixed Fee"]
["Provider ID No.  ",null,null,null,"Contract Amount:  ",null,null,null,null,null,"Lump Sum"]
["Remittance Address:",null,null,null,"Contract Expiration Date: ",null,null,null,null,null,"Specified Rate"]
[null,null,null,null,"Legacy WA No.",null,null,null,null,null,"Specified Rate/Unit Cost"]
[null,null,null,null,"WA  Authorized Amount:  ",null,null,null,null,{"$f":"IF(F11=\"\",\"For SD Contracts without WAs, enter contract amount for WA Authorized Amount.\",\"\")","v":"For SD Contracts without WAs, enter contract amount for WA Authorized Amount."}]
["Begin Service Date:  ",null,null,null,"WA Execution Date:",null,null,null,null,{"$f":"IF(F12=\"\",\"For SD Contracts without WAs, enter Contract Execution Date in WA Execution Date.\",\"\")","v":"For SD Contracts without WAs, enter Contract Execution Date in WA Execution Date."},"DBE"]
["End Service Date:  ",null,null,null,"WA Expiration Date: ",null,null,null,null,{"$f":"IF(F13=\"\",\"For SD Contracts without WAs, enter Contract Expiration Date in WA Expiration Date.\",\"\")","v":"For SD Contracts without WAs, enter Contract Expiration Date in WA Expiration Date."},"HUB"]
["WA Project Manager (Provider):",null,null,null,"WA Payment Type(s) for this WA:  ",null,null,null,null,{"$f":"IF(F14=\"\",\"For SD Contracts WA Payment Type(s) is the same as the Contract Payment type(s)\",\"\")","v":"For SD Contracts WA Payment Type(s) is the same as the Contract Payment type(s)"}]
["DBE/HUB Goal Assignment for Contract and %:",null,null,null,"WA Project Manager (TxDOT):  "]
["INVOICE SUMMARY"]
["AY\n(App/Fiscal Yr.)\n4 digit","DEPT\n(Budget Acct\nSource Unit)","Project Description",null,null,null,null,null,null,null,null,"FC,DDO,CSJ,Account,PCBU",null,null,null,null,null,null,null,null,null,null,null,null,null,null,"Is this a Consultant Engineering Contract (CEC)?"]
[null,null,null,null,null,null,null,null,null,null,null,null,null,null,null,null,null,null,null,null,null,null,null,null,null,null,null,{"$f":"IF(AB17=\"Yes\",\"push: \nctrl a\",\"\")","v":""}]
[]
[]
[]
[]
[]
[]
[]
[]
[]
[]
["INVOICE DETAIL",null,null,null,null,null,null,null,null,null,null,null,null,null,null,null,null,null,null,null,null,null,null,null,null,null,"FC to ACCT (Object of Expenditure) Conversion"]
["Line No.","DD\n(DIST/DIV \nBudget No.)","PCBU\n(Enter 2 Digit Seg ID  No. Only)","PROJECT\n(CSJ or Detail No.)","AMOUNT","SOURCE\n(Legacy Function Code)","ACCT\n(Object of Expenditure)","(TxDOT Use Only) SFI Code","DEPT \n(Budget Acct Source Unit)"]
[null,null,null,null,null,null,null,null,null,null,"Helper","Concat","Amount","Source Type","Account","Approp","PC Business ","Unique Concats","Sum","Account","Approp","Fund","PC Bus","Project","Activity",null,"FC (Legacy FC)","ACCT"]
[1,null,null,{"$f":"IF('Labor Summary (Office)'!A42=0,\"\",'Labor Summary (Office)'!A42)","v":""},{"$f":"'Summary of Total Amt Invoiced'!AH14","v":0},{"$f":"'Labor Summary (Office)'!B42","v":0},null,{"$f":"IF(C32>0,Y32,\"\")","v":""},null,null,1,{"$f":"IF(N32>0,CONCATENATE(N32,X32,O32,C32),\"\")","v":""},{"$f":"IF(E32> 0,E32,\"\")","v":""},{"$f":"IF(OR(F32=180,F32=181,F32=182),100,IF(OR(F32=102,F32=110,F32=126,F32=146,F32=169,F32=191,F32=195),102,IF(F32=120,120,IF(F32=130,130,IF(OR(F32=145,F32=164),145,IF(OR(F32=150,F32=160,F32=161,F32=162,F32=163,F32=165,F32=166,F32=170,F32=190),160,IF(F32=192,192,IF(F32=193,193,IF(OR(F32=310,F32=320,F32=330,F32=340,F32=350,F32=351,F32=352,F32=390),300,\"\")))))))))","v":""},{"$f":"IF(G32=\"\",\"\",IF(OR(G32=421,G32=7253),7253,IF(G32=437,7223,7256)))","v":""},{"$f":"IF(N32=\"\",\"\",IF(N32=\"130\",13020,13035))","v":""},{"$f":"IF(C32>0,CONCATENATE(\"601\", C32),\"\")","v":""},{"$f":"IFERROR(VLOOKUP(ROW()-20,$K$32:$Q$81,2,FALSE),\"\")","v":""},{"$f":"SUMIF($L$32:L81,R32,$M$32:$M$81)","v":0},{"$f":"VLOOKUP(R32,$L$32:$Q$81,4,FALSE)","v":""},{"$f":"VLOOKUP(R32,$L$32:$Q$81,5,FALSE)","v":""},{"$f":" IF(R32<>\"\",\"0006\",\"\")","v":""},{"$f":"VLOOKUP(R32,$L$32:$Q$81,6,FALSE)","v":""},{"$f":"CONCATENATE(B32,SUBSTITUTE(D32,\"-\",\"\"))","v":""},{"$f":"IF(N32=\"\",\"PE\",IF(N32<=192,\"PE\",IF(N32=300,\"CE\",\"PE\")))","v":"PE"},null,"100 (180)",7256,null,{"$f":"IFERROR(VLOOKUP(ROW()-1,$L$32:$AB$81,6,FALSE),\"\")","v":""}]
[2,null,null,{"$f":"IF('Labor Summary (Office)'!A73=0,\"\",'Labor Summary (Office)'!A73)","v":""},{"$f":"'Summary of Total Amt Invoiced'!AH15","v":0},{"$f":"'Labor Summary (Office)'!B73","v":0},null,{"$f":"IF(C33>0,Y33,\"\")","v":""},null,null,{"$f":"IF(COUNTIF($L$32:L33,L33)=1,K32+1,K32)","v":1},{"$f":"IF(N33>0,CONCATENATE(N33,X33,O33,C33),\"\")","v":""},"",{"$f":"IF(OR(F33=180,F33=181,F33=182),100,IF(OR(F33=102,F33=110,F33=126,F33=146,F33=169,F33=191,F33=195),102,IF(F33=120,120,IF(F33=130,130,IF(OR(F33=145,F33=164),145,IF(OR(F33=150,F33=160,F33=161,F33=162,F33=163,F33=165,F33=166,F33=170,F33=190),160,IF(F33=192,192,IF(F33=193,193,IF(OR(F33=310,F33=320,F33=330,F33=340,F33=350,F33=351,F33=352,F33=390),300,\"\")))))))))","v":""},{"$f":"IF(G33=\"\",\"\",IF(OR(G33=421,G33=7253),7253,IF(G33=437,7223,7256)))","v":""},{"$f":"IF(N33=\"\",\"\",IF(N33=\"130\",13020,13035))","v":""},{"$f":"IF(C33>0,CONCATENATE(\"601\", C33),\"\")","v":""},"",{"$f":"SUMIF($L$32:L82,R33,$M$32:$M$81)","v":0},{"$f":"VLOOKUP(R33,$L$32:$Q$81,4,FALSE)","v":""},{"$f":"VLOOKUP(R33,$L$32:$Q$81,5,FALSE)","v":""},{"$f":" IF(R33<>\"\",\"0006\",\"\")","v":""},{"$f":"VLOOKUP(R33,$L$32:$Q$81,6,FALSE)","v":""},{"$f":"CONCATENATE(B33,SUBSTITUTE(D33,\"-\",\"\"))","v":""},{"$f":"IF(N33=\"\",\"PE\",IF(N33<=192,\"PE\",IF(N33=300,\"CE\",\"PE\")))","v":"PE"},null,"100 (181)",7256]
[3,null,null,{"$f":"IF('Labor Summary (Office)'!A104=0,\"\",'Labor Summary (Office)'!A104)","v":""},{"$f":"'Summary of Total Amt Invoiced'!AH16","v":0},{"$f":"'Labor Summary (Office)'!B104","v":0},null,"",null,null,{"$f":"IF(COUNTIF($L$32:L34,L34)=1,K33+1,K33)","v":1},"","","","","","","",{"$f":"SUMIF($L$32:L83,R34,$M$32:$M$81)","v":0},"","","","","","PE",null,"100 (182)",7256]
[4,null,null,{"$f":"IF('Labor Summary (Office)'!A135=0,\"\",'Labor Summary (Office)'!A135)","v":""},{"$f":"'Summary of Total Amt Invoiced'!AH17","v":0},{"$f":"'Labor Summary (Office)'!B135","v":0},null,"",null,null,{"$f":"IF(COUNTIF($L$32:L35,L35)=1,K34+1,K34)","v":1},"","","","","","","",{"$f":"SUMIF($L$32:L84,R35,$M$32:$M$81)","v":0},"","","","","","PE",null,"102 (102)",7256]
[5,null,null,{"$f":"IF('Labor Summary (Office)'!A166=0,\"\",'Labor Summary (Office)'!A166)","v":""},{"$f":"'Summary of Total Amt Invoiced'!AH18","v":0},{"$f":"'Labor Summary (Office)'!B166","v":0},null,"",null,null,{"$f":"IF(COUNTIF($L$32:L36,L36)=1,K35+1,K35)","v":1},"","","","","","","",{"$f":"SUMIF($L$32:L85,R36,$M$32:$M$81)","v":0},"","","","","","PE",null,"102 (110)",7256]
[6,null,null,{"$f":"IF('Labor Summary (Office)'!A197=0,\"\",'Labor Summary (Office)'!A197)","v":""},{"$f":"'Summary of Total Amt Invoiced'!AH19","v":0},{"$f":"'Labor Summary (Office)'!B197","v":0},null,"",null,null,{"$f":"IF(COUNTIF($L$32:L37,L37)=1,K36+1,K36)","v":1},"","","","","","","",{"$f":"SUMIF($L$32:L86,R37,$M$32:$M$81)","v":0},"","","","","","PE",null,"102 (126)",7256]
[7,null,null,{"$f":"IF('Labor Summary (Office)'!A228=0,\"\",'Labor Summary (Office)'!A228)","v":""},{"$f":"'Summary of Total Amt Invoiced'!AH20","v":0},{"$f":"'Labor Summary (Office)'!B228","v":0},null,"",null,null,{"$f":"IF(COUNTIF($L$32:L38,L38)=1,K37+1,K37)","v":1},"","","","","","","",{"$f":"SUMIF($L$32:L87,R38,$M$32:$M$81)","v":0},"","","","","","PE",null,"102 (146)",7256]
[8,null,null,{"$f":"IF('Labor Summary (Office)'!A259=0,\"\",'Labor Summary (Office)'!A259)","v":""},{"$f":"'Summary of Total Amt Invoiced'!AH21","v":0},{"$f":"'Labor Summary (Office)'!B259","v":0},null,"",null,null,{"$f":"IF(COUNTIF($L$32:L39,L39)=1,K38+1,K38)","v":1},"","","","","","","",{"$f":"SUMIF($L$32:L88,R39,$M$32:$M$81)","v":0},"","","","","","PE",null,"102 (169)",7256]
[9,null,null,{"$f":"IF('Labor Summary (Office)'!A290=0,\"\",'Labor Summary (Office)'!A290)","v":""},{"$f":"'Summary of Total Amt Invoiced'!AH22","v":0},{"$f":"'Labor Summary (Office)'!B290","v":0},null,"",null,null,{"$f":"IF(COUNTIF($L$32:L40,L40)=1,K39+1,K39)","v":1},"","","","","","","",{"$f":"SUMIF($L$32:L89,R40,$M$32:$M$81)","v":0},"","","","","","PE",null,"102 (191)",7256]
[10,null,null,{"$f":"IF('Labor Summary (Office)'!A321=0,\"\",'Labor Summary (Office)'!A321)","v":""},{"$f":"'Summary of Total Amt Invoiced'!AH23","v":0},{"$f":"'Labor Summary (Office)'!B321","v":0},null,"",null,null,{"$f":"IF(COUNTIF($L$32:L41,L41)=1,K40+1,K40)","v":1},"","","","","","","",{"$f":"SUMIF($L$32:L90,R41,$M$32:$M$81)","v":0},"","","","","","PE",null,"102 (195)",7256]
[11,null,null,{"$f":"IF('Labor Summary (Office)'!A352=0,\"\",'Labor Summary (Office)'!A352)","v":""},{"$f":"'Summary of Total Amt Invoiced'!AH24","v":0},{"$f":"'Labor Summary (Office)'!B352","v":0},null,"",null,null,{"$f":"IF(COUNTIF($L$32:L42,L42)=1,K41+1,K41)","v":1},"","","","","","","",{"$f":"SUMIF($L$32:L91,R42,$M$32:$M$81)","v":0},"","","","","","PE",null,"120 (120)",7256]
[12,null,null,{"$f":"IF('Labor Summary (Office)'!A383=0,\"\",'Labor Summary (Office)'!A383)","v":""},{"$f":"'Summary of Total Amt Invoiced'!AH25","v":0},{"$f":"'Labor Summary (Office)'!B383","v":0},null,"",null,null,{"$f":"IF(COUNTIF($L$32:L43,L43)=1,K42+1,K42)","v":1},"","","","","","","",{"$f":"SUMIF($L$32:L92,R43,$M$32:$M$81)","v":0},"","","","","","PE",null,"130 (130)",7253]
[13,null,null,{"$f":"IF('Labor Summary (Office)'!A414=0,\"\", 'Labor Summary (Office)'!A414)","v":""},{"$f":"'Summary of Total Amt Invoiced'!AH26","v":0},{"$f":"'Labor Summary (Office)'!B414","v":0},null,"",null,null,{"$f":"IF(COUNTIF($L$32:L44,L44)=1,K43+1,K43)","v":1},"","","","","","","",{"$f":"SUMIF($L$32:L93,R44,$M$32:$M$81)","v":0},"","","","","","PE",null,"135 (135)",7256]
[14,null,null,{"$f":"IF('Labor Summary (Office)'!A445=0,\"\",'Labor Summary (Office)'!A445)","v":""},{"$f":"'Summary of Total Amt Invoiced'!AH27","v":0},{"$f":"'Labor Summary (Office)'!B445","v":0},null,"",null,null,{"$f":"IF(COUNTIF($L$32:L45,L45)=1,K44+1,K44)","v":1},"","","","","","","",{"$f":"SUMIF($L$32:L94,R45,$M$32:$M$81)","v":0},"","","","","","PE",null,"145 (145)",7256]
[15,null,null,{"$f":"IF('Labor Summary (Office)'!A476=0,\"\",'Labor Summary (Office)'!A476)","v":""},{"$f":"'Summary of Total Amt Invoiced'!AH28","v":0},{"$f":"'Labor Summary (Office)'!B476","v":0},null,"",null,null,{"$f":"IF(COUNTIF($L$32:L46,L46)=1,K45+1,K45)","v":1},"","","","","","","",{"$f":"SUMIF($L$32:L95,R46,$M$32:$M$81)","v":0},"","","","","","PE",null,"145 (164)",7256]
[16,null,null,{"$f":"IF('Labor Summary (Office)'!A507=0,\"\",'Labor Summary (Office)'!A507)","v":""},{"$f":"'Summary of Total Amt Invoiced'!AH29","v":0},{"$f":"'Labor Summary (Office)'!B507","v":0},null,"",null,null,{"$f":"IF(COUNTIF($L$32:L47,L47)=1,K46+1,K46)","v":1},"","","","","","","",{"$f":"SUMIF($L$32:L96,R47,$M$32:$M$81)","v":0},"","","","","","PE",null,"160 (150)",7253]
[17,null,null,{"$f":"IF('Labor Summary (Office)'!A538=0,\"\",'Labor Summary (Office)'!A538)","v":""},{"$f":"'Summary of Total Amt Invoiced'!AH30","v":0},{"$f":"'Labor Summary (Office)'!B538","v":0},null,"",null,null,{"$f":"IF(COUNTIF($L$32:L48,L48)=1,K47+1,K47)","v":1},"","","","","","","",{"$f":"SUMIF($L$32:L97,R48,$M$32:$M$81)","v":0},"","","","","","PE",null,"160 (160)",7256]
[18,null,null,{"$f":"IF('Labor Summary (Office)'!A569=0,\"\",'Labor Summary (Office)'!A569)","v":""},{"$f":"'Summary of Total Amt Invoiced'!AH31","v":0},{"$f":"'Labor Summary (Office)'!B569","v":0},null,"",null,null,{"$f":"IF(COUNTIF($L$32:L49,L49)=1,K48+1,K48)","v":1},"","","","","","","",{"$f":"SUMIF($L$32:L98,R49,$M$32:$M$81)","v":0},"","","","","","PE",null,"160 (161)",7256]
[19,null,null,{"$f":"IF('Labor Summary (Office)'!A600=0,\"\",'Labor Summary (Office)'!A600)","v":""},{"$f":"'Summary of Total Amt Invoiced'!AH32","v":0},{"$f":"'Labor Summary (Office)'!B600","v":0},null,"",null,null,{"$f":"IF(COUNTIF($L$32:L50,L50)=1,K49+1,K49)","v":1},"","","","","","","",{"$f":"SUMIF($L$32:L99,R50,$M$32:$M$81)","v":0},"","","","","","PE",null,"160 (162)",7256]
[20,null,null,{"$f":"IF('Labor Summary (Office)'!A631=0,\"\",'Labor Summary (Office)'!A631)","v":""},{"$f":"'Summary of Total Amt Invoiced'!AH33","v":0},{"$f":"'Labor Summary (Office)'!B631","v":0},null,"",null,null,{"$f":"IF(COUNTIF($L$32:L51,L51)=1,K50+1,K50)","v":1},"","","","","","","",{"$f":"SUMIF($L$32:L100,R51,$M$32:$M$81)","v":0},"","","","","","PE",null,"160 (163)",7256]
[21,null,null,{"$f":"IF('Labor Summary (Office)'!A662=0,\"\",'Labor Summary (Office)'!A662)","v":""},{"$f":"'Summary of Total Amt Invoiced'!AH34","v":0},{"$f":"'Labor Summary (Office)'!B662","v":0},null,"",null,null,{"$f":"IF(COUNTIF($L$32:L52,L52)=1,K51+1,K51)","v":1},"","","","","","","",{"$f":"SUMIF($L$32:L101,R52,$M$32:$M$81)","v":0},"","","","","","PE",null,"160 (165)",7256]
[22,null,null,{"$f":"IF('Labor Summary (Office)'!A693=0,\"\",'Labor Summary (Office)'!A693)","v":""},{"$f":"'Summary of Total Amt Invoiced'!AH35","v":0},{"$f":"'Labor Summary (Office)'!B693","v":0},null,"",null,null,{"$f":"IF(COUNTIF($L$32:L53,L53)=1,K52+1,K52)","v":1},"","","","","","","",{"$f":"SUMIF($L$32:L102,R53,$M$32:$M$81)","v":0},"","","","","","PE",null,"160 (166)",7256]
[23,null,null,{"$f":"IF('Labor Summary (Office)'!A724=0,\"\",'Labor Summary (Office)'!A724)","v":""},{"$f":"'Summary of Total Amt Invoiced'!AH36","v":0},{"$f":"'Labor Summary (Office)'!B724","v":0},null,"",null,null,{"$f":"IF(COUNTIF($L$32:L54,L54)=1,K53+1,K53)","v":1},"","","","","","","",{"$f":"SUMIF($L$32:L103,R54,$M$32:$M$81)","v":0},"","","","","","PE",null,"160 (170)",7256]
[24,null,null,{"$f":"IF('Labor Summary (Office)'!A755=0,\"\",'Labor Summary (Office)'!A755)","v":""},{"$f":"'Summary of Total Amt Invoiced'!AH37","v":0},{"$f":"'Labor Summary (Office)'!B755","v":0},null,"",null,null,{"$f":"IF(COUNTIF($L$32:L55,L55)=1,K54+1,K54)","v":1},"","","","","","","",{"$f":"SUMIF($L$32:L104,R55,$M$32:$M$81)","v":0},"","","","","","PE",null,"160 (190)",7256]
[25,null,null,{"$f":"IF('Labor Summary (Office)'!A786=0,\"\",'Labor Summary (Office)'!A786)","v":""},{"$f":"'Summary of Total Amt Invoiced'!AH38","v":0},{"$f":"'Labor Summary (Office)'!B786","v":0},null,"",null,null,{"$f":"IF(COUNTIF($L$32:L56,L56)=1,K55+1,K55)","v":1},"","","","","","","",{"$f":"SUMIF($L$32:L105,R56,$M$32:$M$81)","v":0},"","","","","","PE",null,"192 (192)",7256]
[26,null,null,{"$f":"IF('Labor Summary (Office)'!A817=0,\"\",'Labor Summary (Office)'!A817)","v":""},{"$f":"'Summary of Total Amt Invoiced'!AH39","v":0},{"$f":"'Labor Summary (Office)'!B817","v":0},null,"",null,null,{"$f":"IF(COUNTIF($L$32:L57,L57)=1,K56+1,K56)","v":1},"","","","","","","",{"$f":"SUMIF($L$32:L106,R57,$M$32:$M$81)","v":0},"","","","","","PE",null,"193 (193)",7256]
[27,null,null,{"$f":"IF('Labor Summary (Office)'!A848=0,\"\",'Labor Summary (Office)'!A848)","v":""},{"$f":"'Summary of Total Amt Invoiced'!AH40","v":0},{"$f":"'Labor Summary (Office)'!B848","v":0},null,"",null,null,{"$f":"IF(COUNTIF($L$32:L58,L58)=1,K57+1,K57)","v":1},"","","","","","","",{"$f":"SUMIF($L$32:L107,R58,$M$32:$M$81)","v":0},"","","","","","PE",null,"300 (310)",7256]
[28,null,null,{"$f":"IF('Labor Summary (Office)'!A879=0,\"\",'Labor Summary (Office)'!A879)","v":""},{"$f":"'Summary of Total Amt Invoiced'!AH41","v":0},{"$f":"'Labor Summary (Office)'!B879","v":0},null,"",null,null,{"$f":"IF(COUNTIF($L$32:L59,L59)=1,K58+1,K58)","v":1},"","","","","","","",{"$f":"SUMIF($L$32:L108,R59,$M$32:$M$81)","v":0},"","","","","","PE",null,"300 (320)",7256]
[29,null,null,{"$f":"IF('Labor Summary (Office)'!A910=0,\"\",'Labor Summary (Office)'!A910)","v":""},{"$f":"'Summary of Total Amt Invoiced'!AH42","v":0},{"$f":"'Labor Summary (Office)'!B910","v":0},null,"",null,null,{"$f":"IF(COUNTIF($L$32:L60,L60)=1,K59+1,K59)","v":1},"","","","","","","",{"$f":"SUMIF($L$32:L109,R60,$M$32:$M$81)","v":0},"","","","","","PE",null,"300 (330)",7256]
[30,null,null,{"$f":"IF('Labor Summary (Office)'!A941=0,\"\",'Labor Summary (Office)'!A941)","v":""},{"$f":"'Summary of Total Amt Invoiced'!AH43","v":0},{"$f":"'Labor Summary (Office)'!B941","v":0},null,"",null,null,{"$f":"IF(COUNTIF($L$32:L61,L61)=1,K60+1,K60)","v":1},"","","","","","","",{"$f":"SUMIF($L$32:L110,R61,$M$32:$M$81)","v":0},"","","","","","PE",null,"300 (340)",7256]
[31,null,null,{"$f":"IF('Labor Summary (Office)'!A972=0,\"\",'Labor Summary (Office)'!A972)","v":""},{"$f":"'Summary of Total Amt Invoiced'!AH44","v":0},{"$f":"'Labor Summary (Office)'!B972","v":0},null,"",null,null,{"$f":"IF(COUNTIF($L$32:L62,L62)=1,K61+1,K61)","v":1},"","","","","","","",{"$f":"SUMIF($L$32:L111,R62,$M$32:$M$81)","v":0},"","","","","","PE",null,"300 (350)",7256]
[32,null,null,{"$f":"IF('Labor Summary (Office)'!A1003=0,\"\",'Labor Summary (Office)'!A1003)","v":""},{"$f":"'Summary of Total Amt Invoiced'!AH45","v":0},{"$f":"'Labor Summary (Office)'!B1003","v":0},null,"",null,null,{"$f":"IF(COUNTIF($L$32:L63,L63)=1,K62+1,K62)","v":1},"","","","","","","",{"$f":"SUMIF($L$32:L112,R63,$M$32:$M$81)","v":0},"","","","","","PE",null,"300 (351)",7256]
[33,null,null,{"$f":"IF('Labor Summary (Office)'!A1034=0,\"\",'Labor Summary (Office)'!A1034)","v":""},{"$f":"'Summary of Total Amt Invoiced'!AH46","v":0},{"$f":"'Labor Summary (Office)'!B1034","v":0},null,"",null,null,{"$f":"IF(COUNTIF($L$32:L64,L64)=1,K63+1,K63)","v":1},"",{"$f":"IF(E64> 0,E64,\"\")","v":""},"","","","","",{"$f":"SUMIF($L$32:L113,R64,$M$32:$M$81)","v":0},"","","","","","PE",null,"300 (352)",7256]
[34,null,null,{"$f":"IF('Labor Summary (Office)'!A1065=0,\"\",'Labor Summary (Office)'!A1065)","v":""},{"$f":"'Summary of Total Amt Invoiced'!AH47","v":0},{"$f":"'Labor Summary (Office)'!B1065","v":0},null,"",null,null,{"$f":"IF(COUNTIF($L$32:L65,L65)=1,K64+1,K64)","v":1},"","","","","","","",{"$f":"SUMIF($L$32:L114,R65,$M$32:$M$81)","v":0},"","","","","","PE",null,"300 (390)",7256]
[35,null,null,{"$f":"IF('Labor Summary (Office)'!A1096=0,\"\",'Labor Summary (Office)'!A1096)","v":""},{"$f":"'Summary of Total Amt Invoiced'!AH48","v":0},{"$f":"'Labor Summary (Office)'!B1096","v":0},null,"",null,null,{"$f":"IF(COUNTIF($L$32:L66,L66)=1,K65+1,K65)","v":1},"","","","","","","",{"$f":"SUMIF($L$32:L115,R66,$M$32:$M$81)","v":0},"","","","","","PE"]
[36,null,null,{"$f":"IF('Labor Summary (Office)'!A1127=0,\"\",'Labor Summary (Office)'!A1127)","v":""},{"$f":"'Summary of Total Amt Invoiced'!AH49","v":0},{"$f":"'Labor Summary (Office)'!B1127","v":0},null,"",null,null,{"$f":"IF(COUNTIF($L$32:L67,L67)=1,K66+1,K66)","v":1},"","","","","","","",{"$f":"SUMIF($L$32:L116,R67,$M$32:$M$81)","v":0},"","","","","","PE"]
[37,null,null,{"$f":"IF('Labor Summary (Office)'!A1158=0,\"\",'Labor Summary (Office)'!A1158)","v":""},{"$f":"'Summary of Total Amt Invoiced'!AH50","v":0},{"$f":"'Labor Summary (Office)'!B1158","v":0},null,"",null,null,{"$f":"IF(COUNTIF($L$32:L68,L68)=1,K67+1,K67)","v":1},"","","","","","","",{"$f":"SUMIF($L$32:L117,R68,$M$32:$M$81)","v":0},"","","","","","PE"]
[38,null,null,{"$f":"IF('Labor Summary (Office)'!A1189=0,\"\",'Labor Summary (Office)'!A1189)","v":""},{"$f":"'Summary of Total Amt Invoiced'!AH51","v":0},{"$f":"'Labor Summary (Office)'!B1189","v":0},null,"",null,null,{"$f":"IF(COUNTIF($L$32:L69,L69)=1,K68+1,K68)","v":1},"","","","","","","",{"$f":"SUMIF($L$32:L118,R69,$M$32:$M$81)","v":0},"","","","","","PE"]
[39,null,null,{"$f":"IF('Labor Summary (Office)'!A1220=0,\"\",'Labor Summary (Office)'!A1220)","v":""},{"$f":"'Summary of Total Amt Invoiced'!AH52","v":0},{"$f":"'Labor Summary (Office)'!B1220","v":0},null,"",null,null,{"$f":"IF(COUNTIF($L$32:L70,L70)=1,K69+1,K69)","v":1},"","","","","","","",{"$f":"SUMIF($L$32:L119,R70,$M$32:$M$81)","v":0},"","","","","","PE"]
[40,null,null,{"$f":"IF('Labor Summary (Office)'!A1251=0,\"\",'Labor Summary (Office)'!A1251)","v":""},{"$f":"'Summary of Total Amt Invoiced'!AH53","v":0},{"$f":"'Labor Summary (Office)'!B1251","v":0},null,"",null,null,{"$f":"IF(COUNTIF($L$32:L71,L71)=1,K70+1,K70)","v":1},"","","","","","","",{"$f":"SUMIF($L$32:L120,R71,$M$32:$M$81)","v":0},"","","","","","PE"]
[41,null,null,{"$f":"IF('Labor Summary (Office)'!A1282=0,\"\",'Labor Summary (Office)'!A1282)","v":""},{"$f":"'Summary of Total Amt Invoiced'!AH54","v":0},{"$f":"'Labor Summary (Office)'!B1282","v":0},null,"",null,null,{"$f":"IF(COUNTIF($L$32:L72,L72)=1,K71+1,K71)","v":1},"","","","","","","",{"$f":"SUMIF($L$32:L121,R72,$M$32:$M$81)","v":0},"","","","","","PE"]
[42,null,null,{"$f":"IF('Labor Summary (Office)'!A1313=0,\"\",'Labor Summary (Office)'!A1313)","v":""},{"$f":"'Summary of Total Amt Invoiced'!AH55","v":0},{"$f":"'Labor Summary (Office)'!B1313","v":0},null,"",null,null,{"$f":"IF(COUNTIF($L$32:L73,L73)=1,K72+1,K72)","v":1},"","","","","","","",{"$f":"SUMIF($L$32:L122,R73,$M$32:$M$81)","v":0},"","","","","","PE"]
[43,null,null,{"$f":"IF('Labor Summary (Office)'!A1344=0,\"\",'Labor Summary (Office)'!A1344)","v":""},{"$f":"'Summary of Total Amt Invoiced'!AH56","v":0},{"$f":"'Labor Summary (Office)'!B1344","v":0},null,"",null,null,{"$f":"IF(COUNTIF($L$32:L74,L74)=1,K73+1,K73)","v":1},"","","","","","","",{"$f":"SUMIF($L$32:L123,R74,$M$32:$M$81)","v":0},"","","","","","PE"]
[44,null,null,{"$f":"IF('Labor Summary (Office)'!A1375=0,\"\",'Labor Summary (Office)'!A1375)","v":""},{"$f":"'Summary of Total Amt Invoiced'!AH57","v":0},{"$f":"'Labor Summary (Office)'!B1375","v":0},null,"",null,null,{"$f":"IF(COUNTIF($L$32:L75,L75)=1,K74+1,K74)","v":1},"","","","","","","",{"$f":"SUMIF($L$32:L124,R75,$M$32:$M$81)","v":0},"","","","","","PE"]
[45,null,null,{"$f":"IF('Labor Summary (Office)'!A1406=0,\"\",'Labor Summary (Office)'!A1406)","v":""},{"$f":"'Summary of Total Amt Invoiced'!AH58","v":0},{"$f":"'Labor Summary (Office)'!B1406","v":0},null,"",null,null,{"$f":"IF(COUNTIF($L$32:L76,L76)=1,K75+1,K75)","v":1},"","","","","","","",{"$f":"SUMIF($L$32:L125,R76,$M$32:$M$81)","v":0},"","","","","","PE"]
[46,null,null,{"$f":"IF('Labor Summary (Office)'!A1437=0,\"\",'Labor Summary (Office)'!A1437)","v":""},{"$f":"'Summary of Total Amt Invoiced'!AH59","v":0},{"$f":"'Labor Summary (Office)'!B1437","v":0},null,"",null,null,{"$f":"IF(COUNTIF($L$32:L77,L77)=1,K76+1,K76)","v":1},"","","","","","","",{"$f":"SUMIF($L$32:L126,R77,$M$32:$M$81)","v":0},"","","","","","PE"]
[47,null,null,{"$f":"IF('Labor Summary (Office)'!A1468=0,\"\",'Labor Summary (Office)'!A1468)","v":""},{"$f":"'Summary of Total Amt Invoiced'!AH60","v":0},{"$f":"'Labor Summary (Office)'!B1468","v":0},null,"",null,null,{"$f":"IF(COUNTIF($L$32:L78,L78)=1,K77+1,K77)","v":1},"","","","","","","",{"$f":"SUMIF($L$32:L127,R78,$M$32:$M$81)","v":0},"","","","","","PE"]
[48,null,null,{"$f":"IF('Labor Summary (Office)'!A1499=0,\"\",'Labor Summary (Office)'!A1499)","v":""},{"$f":"'Summary of Total Amt Invoiced'!AH61","v":0},{"$f":"'Labor Summary (Office)'!B1499","v":0},null,"",null,null,{"$f":"IF(COUNTIF($L$32:L79,L79)=1,K78+1,K78)","v":1},"","","","","","","",{"$f":"SUMIF($L$32:L128,R79,$M$32:$M$81)","v":0},"","","","","","PE"]
[49,null,null,{"$f":"IF('Labor Summary (Office)'!A1530=0,\"\",'Labor Summary (Office)'!A1530)","v":""},{"$f":"'Summary of Total Amt Invoiced'!AH62","v":0},{"$f":"'Labor Summary (Office)'!B1530","v":0},null,"",null,null,{"$f":"IF(COUNTIF($L$32:L80,L80)=1,K79+1,K79)","v":1},"","","","","","","",{"$f":"SUMIF($L$32:L129,R80,$M$32:$M$81)","v":0},"","","","","",{"$f":"IF(N80=\"\",\"PE\",IF(N80<=192,\"PE\",IF(N80=300,\"CE\",\"PE\")))","v":"PE"}]
[50,null,null,{"$f":"IF('Labor Summary (Office)'!A1561=0,\"\",'Labor Summary (Office)'!A1561)","v":""},{"$f":"'Summary of Total Amt Invoiced'!AH63","v":0},{"$f":"'Labor Summary (Office)'!B1561","v":0},null,"",null,null,{"$f":"IF(COUNTIF($L$32:L81,L81)=1,K80+1,K80)","v":1},"","","","","","","",{"$f":"SUMIF($L$32:L130,R81,$M$32:$M$81)","v":0},"","","","","",{"$f":"IF(N81=\"\",\"\",IF(N81<=192,\"PE\",IF(N81=200,\"CNST\",IF(N81>400,\"ROW\",\"CE\"))))","v":""}]
["Total:",null,null,"Total",{"$f":"ROUND(SUM(E32:E81),2)","v":0},{"$f":"IF(C82>0,Y82,\"\")","v":""},null,null,null,null,null,null,null,null,""]
[]
["Highway Maintenance Detail"]
["Line No.","Task/Work Order","County","System","Highway No.",null,"Suffix","Class"]
[1]
[2]
[3]
[4]
[5]
[6]
[7]
[8]
[9]
[10]
[11]
[12]
[13]
[14]
[15]
[16]
[17]
[18]
[19]
[20]
[21]
[22]
[23]
[24]
[25]
[26]
[27]
[28]
[29]
[30]
[31]
[32]
[33]
[34]
[35]
[36]
[37]
[38]
[39]
[40]
[41]
[42]
[43]
[44]
[45]
[46]
[47]
[48]
[49]
[50]

{"sheet":"Signature Authority","index":4,"n_rows":39,"n_cols":10,"rows_kept":39,"cut":false,"hidden":false,"merged":[[38,1,38,6],[37,0,37,6],[35,1,35,6],[33,0,33,6],[30,1,30,6],[32,0,32,6],[34,1,34,6],[36,1,36,6],[26,1,26,6],[18,4,18,6],[16,0,16,1],[17,0,17,1],[15,4,15,6],[16,4,16,6],[17,4,17,6],[25,1,25,6],[24,0,24,2],[24,5,24,6],[23,0,23,2],[23,5,23,6],[22,0,22,6],[29,1,29,6],[27,1,27,6],[28,1,28,6],[2,4,2,5],[5,0,5,6],[6,0,6,1],[13,0,13,1],[14,0,14,1],[6,2,6,6],[7,2,7,6],[8,2,8,6],[9,2,9,6],[9,0,9,1],[8,0,8,1],[10,0,10,3],[4,6,4,7],[12,4,12,6],[21,0,21,6],[4,4,4,5],[7,0,7,1],[10,5,10,6],[11,0,11,6],[18,0,18,3],[14,4,14,6],[13,4,13,6],[12,0,12,1],[19,0,19,6],[20,0,20,6],[15,0,15,1]]}
[null,null,null,null,null,"Provider Invoice No.  ",{"$f":"Invoice!G1","v":0}]
[null,null,null,null,null,"Combined Invoice Template Log No.  ",{"$f":"Invoice!G2","v":0},null,null,"Monthly Submittal Cell"]
[null,null,null,null,null,null,null,null,"Instructions","Click link to see instructions for this tab"]
[]
[]
["SIGNATURE AUTHORITY PAGE"]
["Legacy Contract No.",null,{"$f":"Invoice!F7","v":0}]
["Legacy WA No.",null,{"$f":"Invoice!F10","v":0}]
["Provider Name:  ",null,{"$f":"Invoice!C7","v":0}]
["Provider ID No. ",null,{"$f":"Invoice!C8","v":0}]
[]
["COMBINED INVOICE SUMMARY \n(Populate Supplementary Template information 2-5 below if using multiple invoice templates for this invoice)"]
["Combined Invoice Templates",null,"Invoice Template Log #","Reason for Combined Invoice Template Package","Invoice Template Amount",null,null,null,"Supplementary Invoice Templates"]
["Primary Invoice Template ",null,1,"Primary Invoice Template",{"$f":"Invoice!E82","v":0},null,null,null,"Supplementary Invoice to Previous Billing"]
["Supplementary Invoice Template",null,2,null,null,null,null,null,"Add 'l Pmt Method-Lump Sum"]
["Supplementary Invoice Template",null,3,null,null,null,null,null,"Add 'l Pmt Method-Specified Rate"]
["Supplementary Invoice Template",null,4,null,null,null,null,null,"Add 'l Pmt Method-Unit Cost"]
["Supplementary Invoice Template",null,5,null,null,null,null,null,"Add 'l Pmt Method-Cost Plus Fixed Fee"]
["TOTAL COMBINED INVOICE AMOUNT",null,null,null,{"$f":"SUM(E14:G18)","v":0},null,null,null,"Add 'l Template - Adjustment"]
["PROVIDER USE ONLY",null,null,null,null,null,null,null,"Add 'l Template - Add 'l Line Items Necessary"]
["I am duly authorized to certify this invoice on behalf of the above named Provider. I further certify that the claim is correct and is not duplicated on any paid or pending invoice."]
["PROMPT PAYMENT VERIFICATION"]
["I certify that all subproviders, except for any listed on the attached Prompt Payment (PP) Certification form (if applicable) have been paid according to PP law according to the Articles of the contract (within 10 days of receipt of payment) for the billing period indicated below. I understand that the state will  perform a periodic verification of PP by requesting supporting documentations such as cancelled checks or electronic bank transfers to support PP. (If any subproviders were not paid in accordance with PP, then a complete PP form shall be attached.)"]
["Provider Invoice No. for PP Verification",null,null,"Date Provider Received Payment MM/DD/YY\n(for PP Verification)","Begin Service Date\nMM/DD/YY\n(for PP Verification)","End Service Date\nMM/DD/YY\n(for PP Verification)"]
[]
["Provider Authorized Signature"]
["Name"]
["Title"]
["Phone # "]
["Email"]
["Provider Invoice Date",null,null,null,null,null,null,null,"This date must be the same date that the invoice is emailed to the PEPS Invoice Center for processing. Verify correct date is auto populated on the Invoice tab - Cell D4."]
[]
["TxDOT USE ONLY"]
["Reviewed By: "]
["Reviewer Signature\nTitle\nDate"]
["Reviewer Signature\nTitle\nDate"]
["Reviewer Signature\nTitle\nDate"]
["Approved By:"]
["Approver Signature\nTitle\nDate"]

{"sheet":"WA Financial Status Summary","index":5,"n_rows":296,"n_cols":8,"rows_kept":296,"cut":false,"hidden":false,"merged":[[16,0,16,4],[13,0,13,3],[17,0,17,2],[18,0,18,2],[10,0,10,3],[11,0,11,3],[12,0,12,3],[14,0,14,3],[15,0,15,3],[3,0,3,4],[4,0,4,4],[5,0,5,4],[9,0,9,4],[6,1,6,2],[7,1,7,2],[19,0,19,2],[33,0,33,2],[34,0,34,2],[28,0,28,2],[29,0,29,2],[30,0,30,2],[31,0,31,2],[32,0,32,2],[23,0,23,2],[24,0,24,2],[25,0,25,2],[26,0,26,2],[27,0,27,2],[20,0,20,2],[22,0,22,2],[21,0,21,1],[35,0,35,2],[36,0,36,2],[45,0,45,2],[40,0,40,2],[41,0,41,2],[42,0,42,2],[43,0,43,2],[44,0,44,2],[52,0,52,2],[37,0,37,2],[48,0,48,2],[49,0,49,2],[50,0,50,2],[51,0,51,2],[38,0,38,2],[39,0,39,2],[46,0,46,2],[47,0,47,2]]}
[null,null,null,"Provider Invoice No.  ",{"$f":"Invoice!G1","v":0}]
[null,null,null,"Combined Invoice Template Log No.  ",{"$f":"Invoice!G2","v":0},null,null,"Monthly Submittal Cell"]
[null,null,null,null,null,null,"Instructions","Click link to see instructions for this tab"]
["WORK AUTHORIZATION "]
["FINANCIAL STATUS SUMMARY"]
["SR-UC Payment Method"]
[{"$f":"Invoice!A7","v":"Provider Name:  "},{"$f":"Invoice!C7","v":0},null,{"$f":"Invoice!E7","v":"Legacy Contract No.  "},{"$f":"Invoice!F7","v":0}]
[{"$f":"Invoice!A8","v":"Provider ID No.  "},{"$f":"Invoice!C8","v":0},null,{"$f":"Invoice!E10","v":"Legacy WA No."},{"$f":"Invoice!F10","v":0}]
[]
["Work Authorization Financial Summary"]
["Authorized Amount",null,null,null,{"$f":"Invoice!F11","v":0}]
["Previous Invoiced Amount"]
["Amount of this Invoice",null,null,null,{"$f":"E53","v":0}]
["Total Combined Invoice Amount (including any supplemental invoices, if applicable)",null,null,null,{"$f":"'Signature Authority'!E19","v":0}]
["Total Invoiced to Date (including this invoice and any supplemental, if applicable)  ",null,null,null,{"$f":"E12+E14","v":0}]
["Balance Remaining",null,null,null,{"$f":"SUM(E11-E15)","v":0}]
["Invoice Summary"]
["Total Labor (Office)",null,null,null,{"$f":"'Labor Summary (Office)'!H1562","v":0}]
["Total Labor (Field)",null,null,null,{"$f":"'Labor Summary (Field)'!H1562","v":0}]
["Total Unit Costs",null,null,null,{"$f":"'Unit Cost Summary'!H1562","v":0}]
["Subtotal",null,null,null,{"$f":"SUM(E18:E20)","v":0}]
["Adjustment (from previous billing - documentation required)",null,null,null,{"$f":"C22","v":0}]
["Subtotal",null,null,null,{"$f":"ROUND(SUM(E21:E22),2)","v":0}]
["Total Other Direct Expenses",null,null,null,{"$f":"ODE!H1562","v":0}]
["Total Travel Expenses",null,null,null,{"$f":"'Summary of Total Amt Invoiced'!F64","v":0}]
["Total Amount Invoiced",null,null,null,{"$f":"E23+E24+E25","v":0}]
["Subprovider Firm Name "]
[null,null,null,null,{"$f":"'Summary of Total Amt Invoiced'!I$64","v":0}]
[null,null,null,null,{"$f":"'Summary of Total Amt Invoiced'!J$64","v":0}]
[null,null,null,null,{"$f":"'Summary of Total Amt Invoiced'!K$64","v":0}]
[null,null,null,null,{"$f":"'Summary of Total Amt Invoiced'!L$64","v":0}]
[null,null,null,null,{"$f":"'Summary of Total Amt Invoiced'!M$64","v":0}]
[null,null,null,null,{"$f":"'Summary of Total Amt Invoiced'!N$64","v":0}]
[null,null,null,null,{"$f":"'Summary of Total Amt Invoiced'!O$64","v":0}]
[null,null,null,null,{"$f":"'Summary of Total Amt Invoiced'!P$64","v":0}]
[null,null,null,null,{"$f":"'Summary of Total Amt Invoiced'!Q$64","v":0}]
[null,null,null,null,{"$f":"'Summary of Total Amt Invoiced'!R$64","v":0}]
[null,null,null,null,{"$f":"'Summary of Total Amt Invoiced'!S$64","v":0}]
[null,null,null,null,{"$f":"'Summary of Total Amt Invoiced'!T$64","v":0}]
[null,null,null,null,{"$f":"'Summary of Total Amt Invoiced'!U$64","v":0}]
[null,null,null,null,{"$f":"'Summary of Total Amt Invoiced'!V$64","v":0}]
[null,null,null,null,{"$f":"'Summary of Total Amt Invoiced'!W$64","v":0}]
[null,null,null,null,{"$f":"'Summary of Total Amt Invoiced'!X$64","v":0}]
[null,null,null,null,{"$f":"'Summary of Total Amt Invoiced'!Y$64","v":0}]
[null,null,null,null,{"$f":"'Summary of Total Amt Invoiced'!Z$64","v":0}]
[null,null,null,null,{"$f":"'Summary of Total Amt Invoiced'!AA$64","v":0}]
[null,null,null,null,{"$f":"'Summary of Total Amt Invoiced'!AB$64","v":0}]
[null,null,null,null,{"$f":"'Summary of Total Amt Invoiced'!AC$64","v":0}]
[null,null,null,null,{"$f":"'Summary of Total Amt Invoiced'!AD$64","v":0}]
[null,null,null,null,{"$f":"'Summary of Total Amt Invoiced'!AE$64","v":0}]
[null,null,null,null,{"$f":"'Summary of Total Amt Invoiced'!AF$64","v":0}]
[null,null,null,null,{"$f":"'Summary of Total Amt Invoiced'!AG$64","v":0}]
["Total Invoice Amount",null,null,null,{"$f":"ROUND(SUM(E26:E52),2)","v":0}]
[]
[]
[]
[]
[]
[]
[]
[]
[]
[]
[]
[]
[]
[]
[]
[]
[]
[]
[]
[]
[]
[]
[]
[]
[]
[]
[]
[]
[]
[]
[]
[]
[]
[]
[]
[]
[]
[]
[]
[]
[]
[]
[]
[]
[]
[]
[]
[]
[]
[]
[]
[]
[]
[]
[]
[]
[]
[]
[]
[]
[]
[]
[]
[]
[]
[]
[]
[]
[]
[]
[]
[]
[]
[]
[]
[]
[]
[]
[]
[]
[]
[]
[]
[]
[]
[]
[]
[]
[]
[]
[]
[]
[]
[]
[]
[]
[]
[]
[]
[]
[]
[]
[]
[]
[]
[]
[]
[]
[]
[]
[]
[]
[]
[]
[]
[]
[]
[]
[]
[]
[]
[]
[]
[]
[]
[]
[]
[]
[]
[]
[]
[]
[]
[]
[]
[]
[]
[]
[]
[]
[]
[]
[]
[]
[]
[]
[]
[]
[]
[]
[]
[]
[]
[]
[]
[]
[]
[]
[]
[]
[]
[]
[]
[]
[]
[]
[]
[]
[]
[]
[]
[]
[]
[]
[]
[]
[]
[]
[]
[]
[]
[]
[]
[]
[]
[]
[]
[]
[]
[]
[]
[]
[]
[]
[]
[]
[]
[]
[]
[]
[]
[]
[]
[]
[]
[]
[]
[]
[]
[]
[]
[]
[]
[]
[]
[]
[]
[]
[]
[]
[]
[]
[]
[]
[]
[]
[]
[]
[]
[]
[]
[]
[]
[]
[]
[]
[]
[]
[]
[]
[]
[]
[{"$f":"'Summary of Total Amt Invoiced'!AH64","v":0}]

{"sheet":"Summary of Total Amt Invoiced","index":6,"n_rows":64,"n_cols":34,"rows_kept":64,"cut":false,"hidden":false,"merged":[[1,8,1,9],[11,0,11,7],[5,0,5,7],[4,0,4,7],[10,0,10,1],[9,0,9,1],[7,0,7,1],[8,0,8,1],[7,2,7,7],[8,2,8,7],[9,2,9,7],[10,2,10,7],[6,0,6,7]]}
[null,null,null,null,null,null,null,null,null,null,"Monthly Submittal Cell"]
[null,null,null,null,null,null,"Provider Invoice No.  ",{"$f":"Invoice!G1","v":0},"Instructions",null,"Click link to see instructions for this tab"]
[null,null,null,null,null,null,"Combined Invoice Template Log No.  ",{"$f":"Invoice!G2","v":0}]
[]
[]
["SUMMARY OF TOTAL AMOUNT INVOICED"]
["SR - UC PAYMENT METHOD"]
["Legacy Contract No.  ",null,{"$f":"Invoice!F7","v":0}]
["Legacy WA No. ",null,{"$f":"Invoice!F10","v":0}]
["Provider Name:  ",null,{"$f":"Invoice!C7","v":0}]
["Provider ID No.  ",null,{"$f":"Invoice!C8","v":0}]
["Project (CSJ or Detail No.) and Source (Legacy FC) will auto populate all tabs from the CSJ/FCs selected for the particular billing cycle using the Labor Summary (Office) tab.",null,null,null,null,null,null,null,"Subprovider List:  Billing Subprovider Firm Name populated from list in WA Financial Status Summary (Use Drop Down List in Cell A28 to select subprovider for the billing period.  Enter the amount billed for the particular subprovider on the applicable line for Project and Source that corresponds to the services provided."]
["Line No.","Provider Labor\n(Office)","Provider Labor\n(Field)","Unit Cost Summary","Provider ODE","TE Summary","Project\n(CSJ or Detail No.)","Source\n(Legacy FC)",{"$f":"'WA Financial Status Summary'!$A28","v":0},{"$f":"'WA Financial Status Summary'!$A29","v":0},{"$f":"'WA Financial Status Summary'!$A30","v":0},{"$f":"'WA Financial Status Summary'!$A31","v":0},{"$f":"'WA Financial Status Summary'!$A32","v":0},{"$f":"'WA Financial Status Summary'!$A33","v":0},{"$f":"'WA Financial Status Summary'!$A34","v":0},{"$f":"'WA Financial Status Summary'!$A35","v":0},{"$f":"'WA Financial Status Summary'!$A36","v":0},{"$f":"'WA Financial Status Summary'!$A37","v":0},{"$f":"'WA Financial Status Summary'!$A38","v":0},{"$f":"'WA Financial Status Summary'!$A39","v":0},{"$f":"'WA Financial Status Summary'!$A40","v":0},{"$f":"'WA Financial Status Summary'!$A41","v":0},{"$f":"'WA Financial Status Summary'!$A42","v":0},{"$f":"'WA Financial Status Summary'!$A43","v":0},{"$f":"'WA Financial Status Summary'!$A44","v":0},{"$f":"'WA Financial Status Summary'!$A45","v":0},{"$f":"'WA Financial Status Summary'!$A46","v":0},{"$f":"'WA Financial Status Summary'!$A47","v":0},{"$f":"'WA Financial Status Summary'!$A48","v":0},{"$f":"'WA Financial Status Summary'!$A49","v":0},{"$f":"'WA Financial Status Summary'!$A50","v":0},{"$f":"'WA Financial Status Summary'!$A51","v":0},{"$f":"'WA Financial Status Summary'!$A52","v":0},"Total Amount"]
[1,{"$f":"'Labor Summary (Office)'!H42","v":0},{"$f":"'Labor Summary (Field)'!H42","v":0},{"$f":"'Unit Cost Summary'!G42","v":0},{"$f":"ODE!H42","v":0},{"$f":"'TE Summary'!S44","v":0},{"$f":"IF('Labor Summary (Office)'!A42=0,\"\",'Labor Summary (Office)'!A42)","v":""},{"$f":"OFFSET('Labor Summary (Office)'!B$42,ROWS(H$14:H14)*31-31,0)","v":0},null,null,null,null,null,null,null,null,null,null,null,null,null,null,null,null,null,null,null,null,null,null,null,null,null,{"$f":"SUM(B14+C14+D14+E14+F14)+SUM(I14:AG14)","v":0}]
[2,{"$f":"'Labor Summary (Office)'!H73","v":0},{"$f":"'Labor Summary (Field)'!H73","v":0},{"$f":"'Unit Cost Summary'!G73","v":0},{"$f":"ODE!H73","v":0},{"$f":"'TE Summary'!S75","v":0},{"$f":"IF('Labor Summary (Office)'!A73=0,\"\",'Labor Summary (Office)'!A73)","v":""},{"$f":"OFFSET('Labor Summary (Office)'!B$42,ROWS(H$14:H15)*31-31,0)","v":0},null,null,null,null,null,null,null,null,null,null,null,null,null,null,null,null,null,null,null,null,null,null,null,null,null,{"$f":"SUM(B15+C15+D15+E15+F15)+SUM(I15:AG15)","v":0}]
[3,{"$f":"'Labor Summary (Office)'!H104","v":0},{"$f":"'Labor Summary (Field)'!H104","v":0},{"$f":"'Unit Cost Summary'!G104","v":0},{"$f":"ODE!H104","v":0},{"$f":"'TE Summary'!S106","v":0},{"$f":"IF('Labor Summary (Office)'!A104=0,\"\",'Labor Summary (Office)'!A104)","v":""},{"$f":"OFFSET('Labor Summary (Office)'!B$42,ROWS(H$14:H16)*31-31,0)","v":0},null,null,null,null,null,null,null,null,null,null,null,null,null,null,null,null,null,null,null,null,null,null,null,null,null,0]
[4,{"$f":"'Labor Summary (Office)'!H135","v":0},{"$f":"'Labor Summary (Field)'!H135","v":0},{"$f":"'Unit Cost Summary'!G135","v":0},{"$f":"ODE!H135","v":0},{"$f":"'TE Summary'!S137","v":0},{"$f":"IF('Labor Summary (Office)'!A135=0,\"\",'Labor Summary (Office)'!A135)","v":""},{"$f":"OFFSET('Labor Summary (Office)'!B$42,ROWS(H$14:H17)*31-31,0)","v":0},null,null,null,null,null,null,null,null,null,null,null,null,null,null,null,null,null,null,null,null,null,null,null,null,null,0]
[5,{"$f":"'Labor Summary (Office)'!H166","v":0},{"$f":"'Labor Summary (Field)'!H166","v":0},{"$f":"'Unit Cost Summary'!G166","v":0},{"$f":"ODE!H166","v":0},{"$f":"'TE Summary'!S168","v":0},{"$f":"IF('Labor Summary (Office)'!A166=0,\"\",'Labor Summary (Office)'!A166)","v":""},{"$f":"OFFSET('Labor Summary (Office)'!B$42,ROWS(H$14:H18)*31-31,0)","v":0},null,null,null,null,null,null,null,null,null,null,null,null,null,null,null,null,null,null,null,null,null,null,null,null,null,0]
[6,{"$f":"'Labor Summary (Office)'!H197","v":0},{"$f":"'Labor Summary (Field)'!H197","v":0},{"$f":"'Unit Cost Summary'!G197","v":0},{"$f":"ODE!H197","v":0},{"$f":"'TE Summary'!S199","v":0},{"$f":"IF('Labor Summary (Office)'!A197=0,\"\",'Labor Summary (Office)'!A197)","v":""},{"$f":"OFFSET('Labor Summary (Office)'!B$42,ROWS(H$14:H19)*31-31,0)","v":0},null,null,null,null,null,null,null,null,null,null,null,null,null,null,null,null,null,null,null,null,null,null,null,null,null,0]
[7,{"$f":"'Labor Summary (Office)'!H228","v":0},{"$f":"'Labor Summary (Field)'!H228","v":0},{"$f":"'Unit Cost Summary'!G228","v":0},{"$f":"ODE!H228","v":0},{"$f":"'TE Summary'!S230","v":0},{"$f":"IF('Labor Summary (Office)'!A228=0,\"\",'Labor Summary (Office)'!A228)","v":""},{"$f":"OFFSET('Labor Summary (Office)'!B$42,ROWS(H$14:H20)*31-31,0)","v":0},null,null,null,null,null,null,null,null,null,null,null,null,null,null,null,null,null,null,null,null,null,null,null,null,null,0]
[8,{"$f":"'Labor Summary (Office)'!H259","v":0},{"$f":"'Labor Summary (Field)'!H259","v":0},{"$f":"'Unit Cost Summary'!G259","v":0},{"$f":"ODE!H259","v":0},{"$f":"'TE Summary'!S261","v":0},{"$f":"IF('Labor Summary (Office)'!A259=0,\"\",'Labor Summary (Office)'!A259)","v":""},{"$f":"OFFSET('Labor Summary (Office)'!B$42,ROWS(H$14:H21)*31-31,0)","v":0},null,null,null,null,null,null,null,null,null,null,null,null,null,null,null,null,null,null,null,null,null,null,null,null,null,0]
[9,{"$f":"'Labor Summary (Office)'!H290","v":0},{"$f":"'Labor Summary (Field)'!H290","v":0},{"$f":"'Unit Cost Summary'!G290","v":0},{"$f":"ODE!H290","v":0},{"$f":"'TE Summary'!S292","v":0},{"$f":"IF('Labor Summary (Office)'!A290=0,\"\",'Labor Summary (Office)'!A290)","v":""},{"$f":"OFFSET('Labor Summary (Office)'!B$42,ROWS(H$14:H22)*31-31,0)","v":0},null,null,null,null,null,null,null,null,null,null,null,null,null,null,null,null,null,null,null,null,null,null,null,null,null,0]
[10,{"$f":"'Labor Summary (Office)'!H321","v":0},{"$f":"'Labor Summary (Field)'!H321","v":0},{"$f":"'Unit Cost Summary'!G321","v":0},{"$f":"ODE!H321","v":0},{"$f":"'TE Summary'!S323","v":0},{"$f":"IF('Labor Summary (Office)'!A321=0,\"\",'Labor Summary (Office)'!A321)","v":""},{"$f":"OFFSET('Labor Summary (Office)'!B$42,ROWS(H$14:H23)*31-31,0)","v":0},null,null,null,null,null,null,null,null,null,null,null,null,null,null,null,null,null,null,null,null,null,null,null,null,null,0]
[11,{"$f":"'Labor Summary (Office)'!H352","v":0},{"$f":"'Labor Summary (Field)'!H352","v":0},{"$f":"'Unit Cost Summary'!G352","v":0},{"$f":"ODE!H352","v":0},{"$f":"'TE Summary'!S354","v":0},{"$f":"IF('Labor Summary (Office)'!A352=0,\"\",'Labor Summary (Office)'!A352)","v":""},{"$f":"OFFSET('Labor Summary (Office)'!B$42,ROWS(H$14:H24)*31-31,0)","v":0},null,null,null,null,null,null,null,null,null,null,null,null,null,null,null,null,null,null,null,null,null,null,null,null,null,0]
[12,{"$f":"'Labor Summary (Office)'!H383","v":0},{"$f":"'Labor Summary (Field)'!H383","v":0},{"$f":"'Unit Cost Summary'!G383","v":0},{"$f":"ODE!H383","v":0},{"$f":"'TE Summary'!S385","v":0},{"$f":"IF('Labor Summary (Office)'!A383=0,\"\",'Labor Summary (Office)'!A383)","v":""},{"$f":"OFFSET('Labor Summary (Office)'!B$42,ROWS(H$14:H25)*31-31,0)","v":0},null,null,null,null,null,null,null,null,null,null,null,null,null,null,null,null,null,null,null,null,null,null,null,null,null,0]
[13,{"$f":"'Labor Summary (Office)'!H414","v":0},{"$f":"'Labor Summary (Field)'!H414","v":0},{"$f":"'Unit Cost Summary'!G414","v":0},{"$f":"ODE!H414","v":0},{"$f":"'TE Summary'!S416","v":0},{"$f":"IF('Labor Summary (Office)'!A414=0,\"\",'Labor Summary (Office)'!A414)","v":""},{"$f":"OFFSET('Labor Summary (Office)'!B$42,ROWS(H$14:H26)*31-31,0)","v":0},null,null,null,null,null,null,null,null,null,null,null,null,null,null,null,null,null,null,null,null,null,null,null,null,null,0]
[14,{"$f":"'Labor Summary (Office)'!H445","v":0},{"$f":"'Labor Summary (Field)'!H445","v":0},{"$f":"'Unit Cost Summary'!G445","v":0},{"$f":"ODE!H445","v":0},{"$f":"'TE Summary'!S447","v":0},{"$f":"IF('Labor Summary (Office)'!A445=0,\"\",'Labor Summary (Office)'!A445)","v":""},{"$f":"OFFSET('Labor Summary (Office)'!B$42,ROWS(H$14:H27)*31-31,0)","v":0},null,null,null,null,null,null,null,null,null,null,null,null,null,null,null,null,null,null,null,null,null,null,null,null,null,0]
[15,{"$f":"'Labor Summary (Office)'!H476","v":0},{"$f":"'Labor Summary (Field)'!H476","v":0},{"$f":"'Unit Cost Summary'!G476","v":0},{"$f":"ODE!H476","v":0},{"$f":"'TE Summary'!S478","v":0},{"$f":"IF('Labor Summary (Office)'!A476=0,\"\",'Labor Summary (Office)'!A476)","v":""},{"$f":"OFFSET('Labor Summary (Office)'!B$42,ROWS(H$14:H28)*31-31,0)","v":0},null,null,null,null,null,null,null,null,null,null,null,null,null,null,null,null,null,null,null,null,null,null,null,null,null,0]
[16,{"$f":"'Labor Summary (Office)'!H507","v":0},{"$f":"'Labor Summary (Field)'!H507","v":0},{"$f":"'Unit Cost Summary'!G507","v":0},{"$f":"ODE!H507","v":0},{"$f":"'TE Summary'!S509","v":0},{"$f":"IF('Labor Summary (Office)'!A507=0,\"\",'Labor Summary (Office)'!A507)","v":""},{"$f":"OFFSET('Labor Summary (Office)'!B$42,ROWS(H$14:H29)*31-31,0)","v":0},null,null,null,null,null,null,null,null,null,null,null,null,null,null,null,null,null,null,null,null,null,null,null,null,null,0]
[17,{"$f":"'Labor Summary (Office)'!H538","v":0},{"$f":"'Labor Summary (Field)'!H538","v":0},{"$f":"'Unit Cost Summary'!G538","v":0},{"$f":"ODE!H538","v":0},{"$f":"'TE Summary'!S540","v":0},{"$f":"IF('Labor Summary (Office)'!A538=0,\"\",'Labor Summary (Office)'!A538)","v":""},{"$f":"OFFSET('Labor Summary (Office)'!B$42,ROWS(H$14:H30)*31-31,0)","v":0},null,null,null,null,null,null,null,null,null,null,null,null,null,null,null,null,null,null,null,null,null,null,null,null,null,0]
[18,{"$f":"'Labor Summary (Office)'!H569","v":0},{"$f":"'Labor Summary (Field)'!H569","v":0},{"$f":"'Unit Cost Summary'!G569","v":0},{"$f":"ODE!H569","v":0},{"$f":"'TE Summary'!S571","v":0},{"$f":"IF('Labor Summary (Office)'!A569=0,\"\",'Labor Summary (Office)'!A569)","v":""},{"$f":"OFFSET('Labor Summary (Office)'!B$42,ROWS(H$14:H31)*31-31,0)","v":0},null,null,null,null,null,null,null,null,null,null,null,null,null,null,null,null,null,null,null,null,null,null,null,null,null,0]
[19,{"$f":"'Labor Summary (Office)'!H600","v":0},{"$f":"'Labor Summary (Field)'!H600","v":0},{"$f":"'Unit Cost Summary'!G600","v":0},{"$f":"ODE!H600","v":0},{"$f":"'TE Summary'!S602","v":0},{"$f":"IF('Labor Summary (Office)'!A600=0,\"\",'Labor Summary (Office)'!A600)","v":""},{"$f":"OFFSET('Labor Summary (Office)'!B$42,ROWS(H$14:H32)*31-31,0)","v":0},null,null,null,null,null,null,null,null,null,null,null,null,null,null,null,null,null,null,null,null,null,null,null,null,null,0]
[20,{"$f":"'Labor Summary (Office)'!H631","v":0},{"$f":"'Labor Summary (Field)'!H631","v":0},{"$f":"'Unit Cost Summary'!G631","v":0},{"$f":"ODE!H631","v":0},{"$f":"'TE Summary'!S633","v":0},{"$f":"IF('Labor Summary (Office)'!A631=0,\"\",'Labor Summary (Office)'!A631)","v":""},{"$f":"OFFSET('Labor Summary (Office)'!B$42,ROWS(H$14:H33)*31-31,0)","v":0},null,null,null,null,null,null,null,null,null,null,null,null,null,null,null,null,null,null,null,null,null,null,null,null,null,0]
[21,{"$f":"'Labor Summary (Office)'!H662","v":0},{"$f":"'Labor Summary (Field)'!H662","v":0},{"$f":"'Unit Cost Summary'!G662","v":0},{"$f":"ODE!H662","v":0},{"$f":"'TE Summary'!S664","v":0},{"$f":"IF('Labor Summary (Office)'!A662=0,\"\",'Labor Summary (Office)'!A662)","v":""},{"$f":"OFFSET('Labor Summary (Office)'!B$42,ROWS(H$14:H34)*31-31,0)","v":0},null,null,null,null,null,null,null,null,null,null,null,null,null,null,null,null,null,null,null,null,null,null,null,null,null,0]
[22,{"$f":"'Labor Summary (Office)'!H693","v":0},{"$f":"'Labor Summary (Field)'!H693","v":0},{"$f":"'Unit Cost Summary'!G693","v":0},{"$f":"ODE!H693","v":0},{"$f":"'TE Summary'!S695","v":0},{"$f":"IF('Labor Summary (Office)'!A693=0,\"\",'Labor Summary (Office)'!A693)","v":""},{"$f":"OFFSET('Labor Summary (Office)'!B$42,ROWS(H$14:H35)*31-31,0)","v":0},null,null,null,null,null,null,null,null,null,null,null,null,null,null,null,null,null,null,null,null,null,null,null,null,null,0]
[23,{"$f":"'Labor Summary (Office)'!H724","v":0},{"$f":"'Labor Summary (Field)'!H724","v":0},{"$f":"'Unit Cost Summary'!G724","v":0},{"$f":"ODE!H724","v":0},{"$f":"'TE Summary'!S726","v":0},{"$f":"IF('Labor Summary (Office)'!A724=0,\"\",'Labor Summary (Office)'!A724)","v":""},{"$f":"OFFSET('Labor Summary (Office)'!B$42,ROWS(H$14:H36)*31-31,0)","v":0},null,null,null,null,null,null,null,null,null,null,null,null,null,null,null,null,null,null,null,null,null,null,null,null,null,0]
[24,{"$f":"'Labor Summary (Office)'!H755","v":0},{"$f":"'Labor Summary (Field)'!H755","v":0},{"$f":"'Unit Cost Summary'!G755","v":0},{"$f":"ODE!H755","v":0},{"$f":"'TE Summary'!S757","v":0},{"$f":"IF('Labor Summary (Office)'!A755=0,\"\",'Labor Summary (Office)'!A755)","v":""},{"$f":"OFFSET('Labor Summary (Office)'!B$42,ROWS(H$14:H37)*31-31,0)","v":0},null,null,null,null,null,null,null,null,null,null,null,null,null,null,null,null,null,null,null,null,null,null,null,null,null,0]
[25,{"$f":"'Labor Summary (Office)'!H786","v":0},{"$f":"'Labor Summary (Field)'!H786","v":0},{"$f":"'Unit Cost Summary'!G786","v":0},{"$f":"ODE!H786","v":0},{"$f":"'TE Summary'!S788","v":0},{"$f":"IF('Labor Summary (Office)'!A786=0,\"\",'Labor Summary (Office)'!A786)","v":""},{"$f":"OFFSET('Labor Summary (Office)'!B$42,ROWS(H$14:H38)*31-31,0)","v":0},null,null,null,null,null,null,null,null,null,null,null,null,null,null,null,null,null,null,null,null,null,null,null,null,null,0]
[26,{"$f":"'Labor Summary (Office)'!H817","v":0},{"$f":"'Labor Summary (Field)'!H817","v":0},{"$f":"'Unit Cost Summary'!G817","v":0},{"$f":"ODE!H817","v":0},{"$f":"'TE Summary'!S819","v":0},{"$f":"IF('Labor Summary (Office)'!A817=0,\"\",'Labor Summary (Office)'!A817)","v":""},{"$f":"OFFSET('Labor Summary (Office)'!B$42,ROWS(H$14:H39)*31-31,0)","v":0},null,null,null,null,null,null,null,null,null,null,null,null,null,null,null,null,null,null,null,null,null,null,null,null,null,0]
[27,{"$f":"'Labor Summary (Office)'!H848","v":0},{"$f":"'Labor Summary (Field)'!H848","v":0},{"$f":"'Unit Cost Summary'!G848","v":0},{"$f":"ODE!H848","v":0},{"$f":"'TE Summary'!S850","v":0},{"$f":"IF('Labor Summary (Office)'!A848=0,\"\",'Labor Summary (Office)'!A848)","v":""},{"$f":"OFFSET('Labor Summary (Office)'!B$42,ROWS(H$14:H40)*31-31,0)","v":0},null,null,null,null,null,null,null,null,null,null,null,null,null,null,null,null,null,null,null,null,null,null,null,null,null,0]
[28,{"$f":"'Labor Summary (Office)'!H879","v":0},{"$f":"'Labor Summary (Field)'!H879","v":0},{"$f":"'Unit Cost Summary'!G879","v":0},{"$f":"ODE!H879","v":0},{"$f":"'TE Summary'!S881","v":0},{"$f":"IF('Labor Summary (Office)'!A879=0,\"\",'Labor Summary (Office)'!A879)","v":""},{"$f":"OFFSET('Labor Summary (Office)'!B$42,ROWS(H$14:H41)*31-31,0)","v":0},null,null,null,null,null,null,null,null,null,null,null,null,null,null,null,null,null,null,null,null,null,null,null,null,null,0]
[29,{"$f":"'Labor Summary (Office)'!H910","v":0},{"$f":"'Labor Summary (Field)'!H910","v":0},{"$f":"'Unit Cost Summary'!G910","v":0},{"$f":"ODE!H910","v":0},{"$f":"'TE Summary'!S912","v":0},{"$f":"IF('Labor Summary (Office)'!A910=0,\"\",'Labor Summary (Office)'!A910)","v":""},{"$f":"OFFSET('Labor Summary (Office)'!B$42,ROWS(H$14:H42)*31-31,0)","v":0},null,null,null,null,null,null,null,null,null,null,null,null,null,null,null,null,null,null,null,null,null,null,null,null,null,0]
[30,{"$f":"'Labor Summary (Office)'!H941","v":0},{"$f":"'Labor Summary (Field)'!H941","v":0},{"$f":"'Unit Cost Summary'!G941","v":0},{"$f":"ODE!H941","v":0},{"$f":"'TE Summary'!S943","v":0},{"$f":"IF('Labor Summary (Office)'!A941=0,\"\",'Labor Summary (Office)'!A941)","v":""},{"$f":"OFFSET('Labor Summary (Office)'!B$42,ROWS(H$14:H43)*31-31,0)","v":0},null,null,null,null,null,null,null,null,null,null,null,null,null,null,null,null,null,null,null,null,null,null,null,null,null,0]
[31,{"$f":"'Labor Summary (Office)'!H972","v":0},{"$f":"'Labor Summary (Field)'!H972","v":0},{"$f":"'Unit Cost Summary'!G972","v":0},{"$f":"ODE!H972","v":0},{"$f":"'TE Summary'!S974","v":0},{"$f":"IF('Labor Summary (Office)'!A972=0,\"\",'Labor Summary (Office)'!A972)","v":""},{"$f":"OFFSET('Labor Summary (Office)'!B$42,ROWS(H$14:H44)*31-31,0)","v":0},null,null,null,null,null,null,null,null,null,null,null,null,null,null,null,null,null,null,null,null,null,null,null,null,null,0]
[32,{"$f":"'Labor Summary (Office)'!H1003","v":0},{"$f":"'Labor Summary (Field)'!H1003","v":0},{"$f":"'Unit Cost Summary'!G1003","v":0},{"$f":"ODE!H1003","v":0},{"$f":"'TE Summary'!S1005","v":0},{"$f":"IF('Labor Summary (Office)'!A1003=0,\"\",'Labor Summary (Office)'!A1003)","v":""},{"$f":"OFFSET('Labor Summary (Office)'!B$42,ROWS(H$14:H45)*31-31,0)","v":0},null,null,null,null,null,null,null,null,null,null,null,null,null,null,null,null,null,null,null,null,null,null,null,null,null,0]
[33,{"$f":"'Labor Summary (Office)'!H1034","v":0},{"$f":"'Labor Summary (Field)'!H1034","v":0},{"$f":"'Unit Cost Summary'!G1034","v":0},{"$f":"ODE!H1034","v":0},{"$f":"'TE Summary'!S1036","v":0},{"$f":"IF('Labor Summary (Office)'!A1034=0,\"\",'Labor Summary (Office)'!A1034)","v":""},{"$f":"OFFSET('Labor Summary (Office)'!B$42,ROWS(H$14:H46)*31-31,0)","v":0},null,null,null,null,null,null,null,null,null,null,null,null,null,null,null,null,null,null,null,null,null,null,null,null,null,0]
[34,{"$f":"'Labor Summary (Office)'!H1065","v":0},{"$f":"'Labor Summary (Field)'!H1065","v":0},{"$f":"'Unit Cost Summary'!G1065","v":0},{"$f":"ODE!H1065","v":0},{"$f":"'TE Summary'!S1067","v":0},{"$f":"IF('Labor Summary (Office)'!A1065=0,\"\",'Labor Summary (Office)'!A1065)","v":""},{"$f":"OFFSET('Labor Summary (Office)'!B$42,ROWS(H$14:H47)*31-31,0)","v":0},null,null,null,null,null,null,null,null,null,null,null,null,null,null,null,null,null,null,null,null,null,null,null,null,null,0]
[35,{"$f":"'Labor Summary (Office)'!H1096","v":0},{"$f":"'Labor Summary (Field)'!H1096","v":0},{"$f":"'Unit Cost Summary'!G1096","v":0},{"$f":"ODE!H1096","v":0},{"$f":"'TE Summary'!S1098","v":0},{"$f":"IF('Labor Summary (Office)'!A1096=0,\"\",'Labor Summary (Office)'!A1096)","v":""},{"$f":"OFFSET('Labor Summary (Office)'!B$42,ROWS(H$14:H48)*31-31,0)","v":0},null,null,null,null,null,null,null,null,null,null,null,null,null,null,null,null,null,null,null,null,null,null,null,null,null,0]
[36,{"$f":"'Labor Summary (Office)'!H1127","v":0},{"$f":"'Labor Summary (Field)'!H1127","v":0},{"$f":"'Unit Cost Summary'!G1127","v":0},{"$f":"ODE!H1127","v":0},{"$f":"'TE Summary'!S1129","v":0},{"$f":"IF('Labor Summary (Office)'!A1127=0,\"\",'Labor Summary (Office)'!A1127)","v":""},{"$f":"OFFSET('Labor Summary (Office)'!B$42,ROWS(H$14:H49)*31-31,0)","v":0},null,null,null,null,null,null,null,null,null,null,null,null,null,null,null,null,null,null,null,null,null,null,null,null,null,0]
[37,{"$f":"'Labor Summary (Office)'!H1158","v":0},{"$f":"'Labor Summary (Field)'!H1158","v":0},{"$f":"'Unit Cost Summary'!G1158","v":0},{"$f":"ODE!H1158","v":0},{"$f":"'TE Summary'!S1160","v":0},{"$f":"IF('Labor Summary (Office)'!A1158=0,\"\",'Labor Summary (Office)'!A1158)","v":""},{"$f":"OFFSET('Labor Summary (Office)'!B$42,ROWS(H$14:H50)*31-31,0)","v":0},null,null,null,null,null,null,null,null,null,null,null,null,null,null,null,null,null,null,null,null,null,null,null,null,null,0]
[38,{"$f":"'Labor Summary (Office)'!H1189","v":0},{"$f":"'Labor Summary (Field)'!H1189","v":0},{"$f":"'Unit Cost Summary'!G1189","v":0},{"$f":"ODE!H1189","v":0},{"$f":"'TE Summary'!S1191","v":0},{"$f":"IF('Labor Summary (Office)'!A1189=0,\"\",'Labor Summary (Office)'!A1189)","v":""},{"$f":"OFFSET('Labor Summary (Office)'!B$42,ROWS(H$14:H51)*31-31,0)","v":0},null,null,null,null,null,null,null,null,null,null,null,null,null,null,null,null,null,null,null,null,null,null,null,null,null,0]
[39,{"$f":"'Labor Summary (Office)'!H1220","v":0},{"$f":"'Labor Summary (Field)'!H1220","v":0},{"$f":"'Unit Cost Summary'!G1220","v":0},{"$f":"ODE!H1220","v":0},{"$f":"'TE Summary'!S1222","v":0},{"$f":"IF('Labor Summary (Office)'!A1220=0,\"\",'Labor Summary (Office)'!A1220)","v":""},{"$f":"OFFSET('Labor Summary (Office)'!B$42,ROWS(H$14:H52)*31-31,0)","v":0},null,null,null,null,null,null,null,null,null,null,null,null,null,null,null,null,null,null,null,null,null,null,null,null,null,0]
[40,{"$f":"'Labor Summary (Office)'!H1251","v":0},{"$f":"'Labor Summary (Field)'!H1251","v":0},{"$f":"'Unit Cost Summary'!G1251","v":0},{"$f":"ODE!H1251","v":0},{"$f":"'TE Summary'!S1253","v":0},{"$f":"IF('Labor Summary (Office)'!A1251=0,\"\",'Labor Summary (Office)'!A1251)","v":""},{"$f":"OFFSET('Labor Summary (Office)'!B$42,ROWS(H$14:H53)*31-31,0)","v":0},null,null,null,null,null,null,null,null,null,null,null,null,null,null,null,null,null,null,null,null,null,null,null,null,null,0]
[41,{"$f":"'Labor Summary (Office)'!H1282","v":0},{"$f":"'Labor Summary (Field)'!H1282","v":0},{"$f":"'Unit Cost Summary'!G1282","v":0},{"$f":"ODE!H1282","v":0},{"$f":"'TE Summary'!S1284","v":0},{"$f":"IF('Labor Summary (Office)'!A1282=0,\"\",'Labor Summary (Office)'!A1282)","v":""},{"$f":"OFFSET('Labor Summary (Office)'!B$42,ROWS(H$14:H54)*31-31,0)","v":0},null,null,null,null,null,null,null,null,null,null,null,null,null,null,null,null,null,null,null,null,null,null,null,null,null,0]
[42,{"$f":"'Labor Summary (Office)'!H1313","v":0},{"$f":"'Labor Summary (Field)'!H1313","v":0},{"$f":"'Unit Cost Summary'!G1313","v":0},{"$f":"ODE!H1313","v":0},{"$f":"'TE Summary'!S1315","v":0},{"$f":"IF('Labor Summary (Office)'!A1313=0,\"\",'Labor Summary (Office)'!A1313)","v":""},{"$f":"OFFSET('Labor Summary (Office)'!B$42,ROWS(H$14:H55)*31-31,0)","v":0},null,null,null,null,null,null,null,null,null,null,null,null,null,null,null,null,null,null,null,null,null,null,null,null,null,0]
[43,{"$f":"'Labor Summary (Office)'!H1344","v":0},{"$f":"'Labor Summary (Field)'!H1344","v":0},{"$f":"'Unit Cost Summary'!G1344","v":0},{"$f":"ODE!H1344","v":0},{"$f":"'TE Summary'!S1346","v":0},{"$f":"IF('Labor Summary (Office)'!A1324=0,\"\",'Labor Summary (Office)'!A1344)","v":""},{"$f":"OFFSET('Labor Summary (Office)'!B$42,ROWS(H$14:H56)*31-31,0)","v":0},null,null,null,null,null,null,null,null,null,null,null,null,null,null,null,null,null,null,null,null,null,null,null,null,null,0]
[44,{"$f":"'Labor Summary (Office)'!H1375","v":0},{"$f":"'Labor Summary (Field)'!H1375","v":0},{"$f":"'Unit Cost Summary'!G1375","v":0},{"$f":"ODE!H1375","v":0},{"$f":"'TE Summary'!S1377","v":0},{"$f":"IF('Labor Summary (Office)'!A1375=0,\"\",'Labor Summary (Office)'!A1375)","v":""},{"$f":"OFFSET('Labor Summary (Office)'!B$42,ROWS(H$14:H57)*31-31,0)","v":0},null,null,null,null,null,null,null,null,null,null,null,null,null,null,null,null,null,null,null,null,null,null,null,null,null,0]
[45,{"$f":"'Labor Summary (Office)'!H1406","v":0},{"$f":"'Labor Summary (Field)'!H1406","v":0},{"$f":"'Unit Cost Summary'!G1406","v":0},{"$f":"ODE!H1406","v":0},{"$f":"'TE Summary'!S1408","v":0},{"$f":"IF('Labor Summary (Office)'!A1406=0,\"\",'Labor Summary (Office)'!A1406)","v":""},{"$f":"OFFSET('Labor Summary (Office)'!B$42,ROWS(H$14:H58)*31-31,0)","v":0},null,null,null,null,null,null,null,null,null,null,null,null,null,null,null,null,null,null,null,null,null,null,null,null,null,0]
[46,{"$f":"'Labor Summary (Office)'!H1437","v":0},{"$f":"'Labor Summary (Field)'!H1437","v":0},{"$f":"'Unit Cost Summary'!G1437","v":0},{"$f":"ODE!H1437","v":0},{"$f":"'TE Summary'!S1439","v":0},{"$f":"IF('Labor Summary (Office)'!A1437=0,\"\",'Labor Summary (Office)'!A1437)","v":""},{"$f":"OFFSET('Labor Summary (Office)'!B$42,ROWS(H$14:H59)*31-31,0)","v":0},null,null,null,null,null,null,null,null,null,null,null,null,null,null,null,null,null,null,null,null,null,null,null,null,null,0]
[47,{"$f":"'Labor Summary (Office)'!H1468","v":0},{"$f":"'Labor Summary (Field)'!H1468","v":0},{"$f":"'Unit Cost Summary'!G1468","v":0},{"$f":"ODE!H1468","v":0},{"$f":"'TE Summary'!S1470","v":0},{"$f":"IF('Labor Summary (Office)'!A1468=0,\"\",'Labor Summary (Office)'!A1468)","v":""},{"$f":"OFFSET('Labor Summary (Office)'!B$42,ROWS(H$14:H60)*31-31,0)","v":0},null,null,null,null,null,null,null,null,null,null,null,null,null,null,null,null,null,null,null,null,null,null,null,null,null,0]
[48,{"$f":"'Labor Summary (Office)'!H1499","v":0},{"$f":"'Labor Summary (Field)'!H1499","v":0},{"$f":"'Unit Cost Summary'!G1499","v":0},{"$f":"ODE!H1499","v":0},{"$f":"'TE Summary'!S1501","v":0},{"$f":"IF('Labor Summary (Office)'!A1499=0,\"\",'Labor Summary (Office)'!A1499)","v":""},{"$f":"OFFSET('Labor Summary (Office)'!B$42,ROWS(H$14:H61)*31-31,0)","v":0},null,null,null,null,null,null,null,null,null,null,null,null,null,null,null,null,null,null,null,null,null,null,null,null,null,0]
[49,{"$f":"'Labor Summary (Office)'!H1530","v":0},{"$f":"'Labor Summary (Field)'!H1530","v":0},{"$f":"'Unit Cost Summary'!G1530","v":0},{"$f":"ODE!H1530","v":0},{"$f":"'TE Summary'!S1532","v":0},{"$f":"IF('Labor Summary (Office)'!A1530=0,\"\",'Labor Summary (Office)'!A1530)","v":""},{"$f":"OFFSET('Labor Summary (Office)'!B$42,ROWS(H$14:H62)*31-31,0)","v":0},null,null,null,null,null,null,null,null,null,null,null,null,null,null,null,null,null,null,null,null,null,null,null,null,null,0]
[50,{"$f":"'Labor Summary (Office)'!H1561","v":0},{"$f":"'Labor Summary (Field)'!H1561","v":0},{"$f":"'Unit Cost Summary'!G1561","v":0},{"$f":"ODE!H1561","v":0},{"$f":"'TE Summary'!S1563","v":0},{"$f":"IF('Labor Summary (Office)'!A1561=0,\"\",'Labor Summary (Office)'!A1561)","v":""},{"$f":"OFFSET('Labor Summary (Office)'!B$42,ROWS(H$14:H63)*31-31,0)","v":0},null,null,null,null,null,null,null,null,null,null,null,null,null,null,null,null,null,null,null,null,null,null,null,null,null,0]
["Totals",{"$f":"SUM(B14:B63)","v":0},0,0,{"$f":"SUM(E14:E63)","v":0},{"$f":"SUM(F14:F63)","v":0},"Total",null,0,0,{"$f":"SUM(K14:K63)","v":0},{"$f":"SUM(L14:L63)","v":0},0,0,0,0,0,0,0,0,0,0,0,0,0,0,0,0,0,0,0,0,0,{"$f":"ROUND(SUM(AH14:AH63),2)","v":0}]

{"sheet":"Labor Summary (Office)","index":7,"n_rows":1562,"n_cols":11,"rows_kept":1562,"cut":false,"hidden":false,"merged":[[1,8,1,9],[7,0,7,1],[6,4,6,5],[7,4,7,5],[7,2,7,3],[9,0,9,7],[7,6,7,7],[2,0,2,7],[4,0,4,7],[5,0,5,7],[6,6,6,7],[6,0,6,1],[6,2,6,3],[41,5,41,6],[72,5,72,6],[103,5,103,6],[1436,5,1436,6],[1405,5,1405,6],[1374,5,1374,6],[1343,5,1343,6],[1312,5,1312,6],[1250,5,1250,6],[1126,5,1126,6],[1157,5,1157,6],[1188,5,1188,6],[1219,5,1219,6],[1064,5,1064,6],[1095,5,1095,6],[692,5,692,6],[940,5,940,6],[971,5,971,6],[1002,5,1002,6],[1033,5,1033,6],[723,5,723,6],[754,5,754,6],[785,5,785,6],[816,5,816,6],[847,5,847,6],[599,5,599,6],[878,5,878,6],[630,5,630,6],[661,5,661,6],[909,5,909,6],[444,5,444,6],[475,5,475,6],[506,5,506,6],[537,5,537,6],[568,5,568,6],[1561,5,1561,6],[1560,5,1560,6],[1498,5,1498,6],[134,5,134,6],[165,5,165,6],[196,5,196,6],[227,5,227,6],[258,5,258,6],[289,5,289,6],[320,5,320,6],[351,5,351,6],[382,5,382,6],[1467,5,1467,6],[1529,5,1529,6],[1281,5,1281,6],[413,5,413,6]]}
[null,null,null,null,null,null,"Provider Invoice No.  ",{"$f":"Invoice!G1","v":0},null,null,"Monthly Submittal Cell"]
[null,null,null,null,null,null,"Combined Invoice Template Log No.  ",{"$f":"Invoice!G2","v":0},"Instructions",null,"Click link to see instructions for this tab"]
[]
[]
["LABOR SUMMARY (OFFICE)"]
["SR-UC Payment Method"]
[{"$f":"Invoice!A7","v":"Provider Name:  "},null,{"$f":"Invoice!C7","v":0},null,{"$f":"Invoice!E7","v":"Legacy Contract No.  "},null,{"$f":"Invoice!F7","v":0}]
[{"$f":"Invoice!A8","v":"Provider ID No.  "},null,{"$f":"Invoice!C8","v":0},null,{"$f":"Invoice!E10","v":"Legacy WA No."},null,{"$f":"Invoice!F10","v":0}]
[]
["Labor Breakdown by CSJ/Function Code:"]
["Project \n(CSJ or Detail No.)","Source (FC)","Employee Name\n","Employee Staffing Category ","No. of Hours","Contract Rate","Total Direct Labor","Line Total by Project/Source"]
[{"$f":"A$42","v":0},{"$f":"B$42","v":0},null,null,null,{"$f":"IFERROR(VLOOKUP(D12,Staffing,2,FALSE),\"\")","v":""},{"$f":"IFERROR(ROUND(E12*F12,2),\"\")","v":""}]
[{"$f":"A$42","v":0},{"$f":"B$42","v":0},null,null,null,"",{"$f":"IFERROR(ROUND(E13*F13,2),\"\")","v":""}]
[{"$f":"A$42","v":0},0,null,null,null,"",{"$f":"IFERROR(ROUND(E14*F14,2),\"\")","v":""}]
[0,0,null,null,null,"",""]
[0,0,null,null,null,"",""]
[0,0,null,null,null,"",""]
[0,0,null,null,null,"",""]
[0,0,null,null,null,"",""]
[0,0,null,null,null,"",""]
[0,0,null,null,null,"",""]
[0,0,null,null,null,"",""]
[0,0,null,null,null,"",""]
[0,0,null,null,null,"",""]
[0,0,null,null,null,"",""]
[0,0,null,null,null,"",""]
[{"$f":"A$42","v":0},{"$f":"B$42","v":0},null,null,null,"",""]
[0,0,null,null,null,"",""]
[{"$f":"A$42","v":0},0,null,null,null,"",""]
[0,0,null,null,null,"",""]
[0,0,null,null,null,"",""]
[0,0,null,null,null,"",""]
[0,0,null,null,null,"",""]
[0,0,null,null,null,"",""]
[0,0,null,null,null,"",""]
[0,0,null,null,null,"",""]
[0,0,null,null,null,"",""]
[0,0,null,null,null,"",""]
[0,0,null,null,null,"",""]
[0,0,null,null,null,"",""]
[0,0,null,null,null,"",""]
[null,null,null,{"$f":"IF(A42=0,\"\",A42)","v":""},null,"Subtotal Line 1",null,{"$f":"ROUND(SUM(G12:G41),2)","v":0}]
[{"$f":"A$73","v":0},{"$f":"B$73","v":0},null,null,null,{"$f":"IFERROR(VLOOKUP(D43,Staffing,2,FALSE),\"\")","v":""},{"$f":"IFERROR(ROUND(E43*F43,2),\"\")","v":""}]
[{"$f":"A$73","v":0},0,null,null,null,"",{"$f":"IFERROR(ROUND(E44*F44,2),\"\")","v":""}]
[0,0,null,null,null,"",""]
[0,0,null,null,null,"",""]
[0,0,null,null,null,"",""]
[0,0,null,null,null,"",""]
[0,0,null,null,null,"",""]
[0,0,null,null,null,"",""]
[0,0,null,null,null,"",""]
[0,0,null,null,null,"",""]
[0,0,null,null,null,"",""]
[0,0,null,null,null,"",""]
[0,0,null,null,null,"",""]
[0,0,null,null,null,"",""]
[0,0,null,null,null,"",""]
[{"$f":"A$73","v":0},{"$f":"B$73","v":0},null,null,null,"",""]
[0,0,null,null,null,"",""]
[{"$f":"A$73","v":0},0,null,null,null,"",""]
[0,0,null,null,null,"",""]
[0,0,null,null,null,"",""]
[0,0,null,null,null,"",""]
[0,0,null,null,null,"",""]
[0,0,null,null,null,"",""]
[0,0,null,null,null,"",""]
[0,0,null,null,null,"",""]
[0,0,null,null,null,"",""]
[0,0,null,null,null,"",""]
[0,0,null,null,null,"",""]
[0,0,null,null,null,"",""]
[0,0,null,null,null,"",""]
[null,null,null,{"$f":"IF(A73=0,\"\",A73)","v":""},null,"Subtotal Line 2",null,{"$f":"ROUND(SUM(G43:G72),2)","v":0}]
[{"$f":"A$104","v":0},{"$f":"B$104","v":0},null,null,null,{"$f":"IFERROR(VLOOKUP(D74,Staffing,2,FALSE),\"\")","v":""},{"$f":"IFERROR(ROUND(E74*F74,2),\"\")","v":""}]
[{"$f":"A$104","v":0},0,null,null,null,"",{"$f":"IFERROR(ROUND(E75*F75,2),\"\")","v":""}]
[0,0,null,null,null,"",""]
[0,0,null,null,null,"",""]
[0,0,null,null,null,"",""]
[0,0,null,null,null,"",""]
[0,0,null,null,null,"",""]
[0,0,null,null,null,"",""]
[0,0,null,null,null,"",""]
[0,0,null,null,null,"",""]
[0,0,null,null,null,"",""]
[0,0,null,null,null,"",""]
[0,0,null,null,null,"",""]
[0,0,null,null,null,"",""]
[0,0,null,null,null,"",""]
[{"$f":"A$104","v":0},{"$f":"B$104","v":0},null,null,null,"",""]
[0,0,null,null,null,"",""]
[{"$f":"A$104","v":0},0,null,null,null,"",""]
[0,0,null,null,null,"",""]
[0,0,null,null,null,"",""]
[0,0,null,null,null,"",""]
[0,0,null,null,null,"",""]
[0,0,null,null,null,"",""]
[0,0,null,null,null,"",""]
[0,0,null,null,null,"",""]
[0,0,null,null,null,"",""]
[0,0,null,null,null,"",""]
[0,0,null,null,null,"",""]
[0,0,null,null,null,"",""]
[0,0,null,null,null,"",""]
[null,null,null,{"$f":"IF(A104=0,\"\",A104)","v":""},null,"Subtotal Line 3",null,{"$f":"ROUND(SUM(G74:G103),2)","v":0}]
[{"$f":"A$135","v":0},{"$f":"B$135","v":0},null,null,null,{"$f":"IFERROR(VLOOKUP(D105,Staffing,2,FALSE),\"\")","v":""},{"$f":"IFERROR(ROUND(E105*F105,2),\"\")","v":""}]
[{"$f":"A$135","v":0},0,null,null,null,"",{"$f":"IFERROR(ROUND(E106*F106,2),\"\")","v":""}]
[0,0,null,null,null,"",""]
[0,0,null,null,null,"",""]
[0,0,null,null,null,"",""]
[0,0,null,null,null,"",""]
[0,0,null,null,null,"",""]
[0,0,null,null,null,"",""]
[0,0,null,null,null,"",""]
[0,0,null,null,null,"",""]
[0,0,null,null,null,"",""]
[0,0,null,null,null,"",""]
[0,0,null,null,null,"",""]
[0,0,null,null,null,"",""]
[0,0,null,null,null,"",""]
[{"$f":"A$135","v":0},{"$f":"B$135","v":0},null,null,null,"",""]
[0,0,null,null,null,"",""]
[{"$f":"A$135","v":0},0,null,null,null,"",""]
[0,0,null,null,null,"",""]
[0,0,null,null,null,"",""]
[0,0,null,null,null,"",""]
[0,0,null,null,null,"",""]
[0,0,null,null,null,"",""]
[0,0,null,null,null,"",""]
[0,0,null,null,null,"",""]
[0,0,null,null,null,"",""]
[0,0,null,null,null,"",""]
[0,0,null,null,null,"",""]
[0,0,null,null,null,"",""]
[0,0,null,null,null,"",""]
[null,null,null,{"$f":"IF(A135=0,\"\",A135)","v":""},null,"Subtotal Line 4",null,{"$f":"ROUND(SUM(G105:G134),2)","v":0}]
[{"$f":"A$166","v":0},{"$f":"B$166","v":0},null,null,null,{"$f":"IFERROR(VLOOKUP(D136,Staffing,2,FALSE),\"\")","v":""},{"$f":"IFERROR(ROUND(E136*F136,2),\"\")","v":""}]
[{"$f":"A$166","v":0},0,null,null,null,"",{"$f":"IFERROR(ROUND(E137*F137,2),\"\")","v":""}]
[0,0,null,null,null,"",""]
[0,0,null,null,null,"",""]
[0,0,null,null,null,"",""]
[0,0,null,null,null,"",""]
[0,0,null,null,null,"",""]
[0,0,null,null,null,"",""]
[0,0,null,null,null,"",""]
[0,0,null,null,null,"",""]
[0,0,null,null,null,"",""]
[0,0,null,null,null,"",""]
[0,0,null,null,null,"",""]
[0,0,null,null,null,"",""]
[0,0,null,null,null,"",""]
[{"$f":"A$166","v":0},{"$f":"B$166","v":0},null,null,null,"",""]
[0,0,null,null,null,"",""]
[{"$f":"A$166","v":0},0,null,null,null,"",""]
[0,0,null,null,null,"",""]
[0,0,null,null,null,"",""]
[0,0,null,null,null,"",""]
[0,0,null,null,null,"",""]
[0,0,null,null,null,"",""]
[0,0,null,null,null,"",""]
[0,0,null,null,null,"",""]
[0,0,null,null,null,"",""]
[0,0,null,null,null,"",""]
[0,0,null,null,null,"",""]
[0,0,null,null,null,"",""]
[0,0,null,null,null,"",""]
[null,null,null,{"$f":"IF(A166=0,\"\",A166)","v":""},null,"Subtotal Line 5",null,{"$f":"ROUND(SUM(G136:G165),2)","v":0}]
[{"$f":"A$197","v":0},{"$f":"B$197","v":0},null,null,null,{"$f":"IFERROR(VLOOKUP(D167,Staffing,2,FALSE),\"\")","v":""},{"$f":"IFERROR(ROUND(E167*F167,2),\"\")","v":""}]
[{"$f":"A$197","v":0},0,null,null,null,"",{"$f":"IFERROR(ROUND(E168*F168,2),\"\")","v":""}]
[0,0,null,null,null,"",""]
[0,0,null,null,null,"",""]
[0,0,null,null,null,"",""]
[0,0,null,null,null,"",""]
[0,0,null,null,null,"",""]
[0,0,null,null,null,"",""]
[0,0,null,null,null,"",""]
[0,0,null,null,null,"",""]
[0,0,null,null,null,"",""]
[0,0,null,null,null,"",""]
[0,0,null,null,null,"",""]
[0,0,null,null,null,"",""]
[0,0,null,null,null,"",""]
[{"$f":"A$197","v":0},{"$f":"B$197","v":0},null,null,null,"",""]
[0,0,null,null,null,"",""]
[{"$f":"A$197","v":0},0,null,null,null,"",""]
[0,0,null,null,null,"",""]
[0,0,null,null,null,"",""]
[0,0,null,null,null,"",""]
[0,0,null,null,null,"",""]
[0,0,null,null,null,"",""]
[0,0,null,null,null,"",""]
[0,0,null,null,null,"",""]
[0,0,null,null,null,"",""]
[0,0,null,null,null,"",""]
[0,0,null,null,null,"",""]
[0,0,null,null,null,"",""]
[0,0,null,null,null,"",""]
[null,null,null,{"$f":"IF(A197=0,\"\",A197)","v":""},null,"Subtotal Line 6",null,{"$f":"ROUND(SUM(G167:G196),2)","v":0}]
[{"$f":"A$228","v":0},{"$f":"B$228","v":0},null,null,null,{"$f":"IFERROR(VLOOKUP(D198,Staffing,2,FALSE),\"\")","v":""},{"$f":"IFERROR(ROUND(E198*F198,2),\"\")","v":""}]
[{"$f":"A$228","v":0},0,null,null,null,"",{"$f":"IFERROR(ROUND(E199*F199,2),\"\")","v":""}]
[0,0,null,null,null,"",""]
[0,0,null,null,null,"",""]
[0,0,null,null,null,"",""]
[0,0,null,null,null,"",""]
[0,0,null,null,null,"",""]
[0,0,null,null,null,"",""]
[0,0,null,null,null,"",""]
[0,0,null,null,null,"",""]
[0,0,null,null,null,"",""]
[0,0,null,null,null,"",""]
[0,0,null,null,null,"",""]
[0,0,null,null,null,"",""]
[0,0,null,null,null,"",""]
[{"$f":"A$228","v":0},{"$f":"B$228","v":0},null,null,null,"",""]
[0,0,null,null,null,"",""]
[{"$f":"A$228","v":0},0,null,null,null,"",""]
[0,0,null,null,null,"",""]
[0,0,null,null,null,"",""]
[0,0,null,null,null,"",""]
[0,0,null,null,null,"",""]
[0,0,null,null,null,"",""]
[0,0,null,null,null,"",""]
[0,0,null,null,null,"",""]
[0,0,null,null,null,"",""]
[0,0,null,null,null,"",""]
[0,0,null,null,null,"",""]
[0,0,null,null,null,"",""]
[0,0,null,null,null,"",""]
[null,null,null,{"$f":"IF(A228=0,\"\",A228)","v":""},null,"Subtotal Line 7",null,{"$f":"ROUND(SUM(G198:G227),2)","v":0}]
[{"$f":"A$259","v":0},{"$f":"B$259","v":0},null,null,null,{"$f":"IFERROR(VLOOKUP(D229,Staffing,2,FALSE),\"\")","v":""},{"$f":"IFERROR(ROUND(E229*F229,2),\"\")","v":""}]
[{"$f":"A$259","v":0},0,null,null,null,"",{"$f":"IFERROR(ROUND(E230*F230,2),\"\")","v":""}]
[0,0,null,null,null,"",""]
[0,0,null,null,null,"",""]
[0,0,null,null,null,"",""]
[0,0,null,null,null,"",""]
[0,0,null,null,null,"",""]
[0,0,null,null,null,"",""]
[0,0,null,null,null,"",""]
[0,0,null,null,null,"",""]
[0,0,null,null,null,"",""]
[0,0,null,null,null,"",""]
[0,0,null,null,null,"",""]
[0,0,null,null,null,"",""]
[0,0,null,null,null,"",""]
[{"$f":"A$259","v":0},{"$f":"B$259","v":0},null,null,null,"",""]
[0,0,null,null,null,"",""]
[{"$f":"A$259","v":0},0,null,null,null,"",""]
[0,0,null,null,null,"",""]
[0,0,null,null,null,"",""]
[0,0,null,null,null,"",""]
[0,0,null,null,null,"",""]
[0,0,null,null,null,"",""]
[0,0,null,null,null,"",""]
[0,0,null,null,null,"",""]
[0,0,null,null,null,"",""]
[0,0,null,null,null,"",""]
[0,0,null,null,null,"",""]
[0,0,null,null,null,"",""]
[0,0,null,null,null,"",""]
[null,null,null,{"$f":"IF(A259=0,\"\",A259)","v":""},null,"Subtotal Line 8",null,{"$f":"ROUND(SUM(G229:G258),2)","v":0}]
[{"$f":"A$290","v":0},{"$f":"B$290","v":0},null,null,null,{"$f":"IFERROR(VLOOKUP(D260,Staffing,2,FALSE),\"\")","v":""},{"$f":"IFERROR(ROUND(E260*F260,2),\"\")","v":""}]
[{"$f":"A$290","v":0},0,null,null,null,"",{"$f":"IFERROR(ROUND(E261*F261,2),\"\")","v":""}]
[0,0,null,null,null,"",""]
[0,0,null,null,null,"",""]
[0,0,null,null,null,"",""]
[0,0,null,null,null,"",""]
[0,0,null,null,null,"",""]
[0,0,null,null,null,"",""]
[0,0,null,null,null,"",""]
[0,0,null,null,null,"",""]
[0,0,null,null,null,"",""]
[0,0,null,null,null,"",""]
[0,0,null,null,null,"",""]
[0,0,null,null,null,"",""]
[0,0,null,null,null,"",""]
[{"$f":"A$290","v":0},{"$f":"B$290","v":0},null,null,null,"",""]
[0,0,null,null,null,"",""]
[{"$f":"A$290","v":0},0,null,null,null,"",""]
[0,0,null,null,null,"",""]
[0,0,null,null,null,"",""]
[0,0,null,null,null,"",""]
[0,0,null,null,null,"",""]
[0,0,null,null,null,"",""]
[0,0,null,null,null,"",""]
[0,0,null,null,null,"",""]
[0,0,null,null,null,"",""]
[0,0,null,null,null,"",""]
[0,0,null,null,null,"",""]
[0,0,null,null,null,"",""]
[0,0,null,null,null,"",""]
[null,null,null,{"$f":"IF(A290=0,\"\",A290)","v":""},null,"Subtotal Line 9",null,{"$f":"ROUND(SUM(G260:G289),2)","v":0}]
[{"$f":"A$321","v":0},{"$f":"B$321","v":0},null,null,null,{"$f":"IFERROR(VLOOKUP(D291,Staffing,2,FALSE),\"\")","v":""},{"$f":"IFERROR(ROUND(E291*F291,2),\"\")","v":""}]
[{"$f":"A$321","v":0},0,null,null,null,"",{"$f":"IFERROR(ROUND(E292*F292,2),\"\")","v":""}]
[0,0,null,null,null,"",""]
[0,0,null,null,null,"",""]
[0,0,null,null,null,"",""]
[0,0,null,null,null,"",""]
[0,0,null,null,null,"",""]
[0,0,null,null,null,"",""]
[0,0,null,null,null,"",""]
[0,0,null,null,null,"",""]
[0,0,null,null,null,"",""]
[0,0,null,null,null,"",""]
[0,0,null,null,null,"",""]
[0,0,null,null,null,"",""]
[0,0,null,null,null,"",""]
[{"$f":"A$321","v":0},{"$f":"B$321","v":0},null,null,null,"",""]
[0,0,null,null,null,"",""]
[{"$f":"A$321","v":0},0,null,null,null,"",""]
[0,0,null,null,null,"",""]
[0,0,null,null,null,"",""]
[0,0,null,null,null,"",""]
[0,0,null,null,null,"",""]
[0,0,null,null,null,"",""]
[0,0,null,null,null,"",""]
[0,0,null,null,null,"",""]
[0,0,null,null,null,"",""]
[0,0,null,null,null,"",""]
[0,0,null,null,null,"",""]
[0,0,null,null,null,"",""]
[0,0,null,null,null,"",""]
[null,null,null,{"$f":"IF(A321=0,\"\",A321)","v":""},null,"Subtotal Line 10",null,{"$f":"ROUND(SUM(G291:G320),2)","v":0}]
[{"$f":"A$352","v":0},{"$f":"B$352","v":0},null,null,null,{"$f":"IFERROR(VLOOKUP(D322,Staffing,2,FALSE),\"\")","v":""},{"$f":"IFERROR(ROUND(E322*F322,2),\"\")","v":""}]
[{"$f":"A$352","v":0},0,null,null,null,"",{"$f":"IFERROR(ROUND(E323*F323,2),\"\")","v":""}]
[0,0,null,null,null,"",""]
[0,0,null,null,null,"",""]
[0,0,null,null,null,"",""]
[0,0,null,null,null,"",""]
[0,0,null,null,null,"",""]
[0,0,null,null,null,"",""]
[0,0,null,null,null,"",""]
[0,0,null,null,null,"",""]
[0,0,null,null,null,"",""]
[0,0,null,null,null,"",""]
[0,0,null,null,null,"",""]
[0,0,null,null,null,"",""]
[0,0,null,null,null,"",""]
[{"$f":"A$352","v":0},{"$f":"B$352","v":0},null,null,null,"",""]
[0,0,null,null,null,"",""]
[{"$f":"A$352","v":0},0,null,null,null,"",""]
[0,0,null,null,null,"",""]
[0,0,null,null,null,"",""]
[0,0,null,null,null,"",""]
[0,0,null,null,null,"",""]
[0,0,null,null,null,"",""]
[0,0,null,null,null,"",""]
[0,0,null,null,null,"",""]
[0,0,null,null,null,"",""]
[0,0,null,null,null,"",""]
[0,0,null,null,null,"",""]
[0,0,null,null,null,"",""]
[0,0,null,null,null,"",""]
[null,null,null,{"$f":"IF(A352=0,\"\",A352)","v":""},null,"Subtotal Line 11",null,{"$f":"ROUND(SUM(G322:G351),2)","v":0}]
[{"$f":"A$383","v":0},{"$f":"B$383","v":0},null,null,null,{"$f":"IFERROR(VLOOKUP(D353,Staffing,2,FALSE),\"\")","v":""},{"$f":"IFERROR(ROUND(E353*F353,2),\"\")","v":""}]
[{"$f":"A$383","v":0},0,null,null,null,"",{"$f":"IFERROR(ROUND(E354*F354,2),\"\")","v":""}]
[0,0,null,null,null,"",""]
[0,0,null,null,null,"",""]
[0,0,null,null,null,"",""]
[0,0,null,null,null,"",""]
[0,0,null,null,null,"",""]
[0,0,null,null,null,"",""]
[0,0,null,null,null,"",""]
[0,0,null,null,null,"",""]
[0,0,null,null,null,"",""]
[0,0,null,null,null,"",""]
[0,0,null,null,null,"",""]
[0,0,null,null,null,"",""]
[0,0,null,null,null,"",""]
[{"$f":"A$383","v":0},{"$f":"B$383","v":0},null,null,null,"",""]
[0,0,null,null,null,"",""]
[{"$f":"A$383","v":0},0,null,null,null,"",""]
[0,0,null,null,null,"",""]
[0,0,null,null,null,"",""]
[0,0,null,null,null,"",""]
[0,0,null,null,null,"",""]
[0,0,null,null,null,"",""]
[0,0,null,null,null,"",""]
[0,0,null,null,null,"",""]
[0,0,null,null,null,"",""]
[0,0,null,null,null,"",""]
[0,0,null,null,null,"",""]
[0,0,null,null,null,"",""]
[0,0,null,null,null,"",""]
[null,null,null,{"$f":"IF(A383=0,\"\",A383)","v":""},null,"Subtotal Line 12",null,{"$f":"ROUND(SUM(G353:G382),2)","v":0}]
[{"$f":"A$414","v":0},{"$f":"B$414","v":0},null,null,null,{"$f":"IFERROR(VLOOKUP(D384,Staffing,2,FALSE),\"\")","v":""},{"$f":"IFERROR(ROUND(E384*F384,2),\"\")","v":""}]
[{"$f":"A$414","v":0},0,null,null,null,"",{"$f":"IFERROR(ROUND(E385*F385,2),\"\")","v":""}]
[0,0,null,null,null,"",""]
[0,0,null,null,null,"",""]
[0,0,null,null,null,"",""]
[0,0,null,null,null,"",""]
[0,0,null,null,null,"",""]
[0,0,null,null,null,"",""]
[0,0,null,null,null,"",""]
[0,0,null,null,null,"",""]
[0,0,null,null,null,"",""]
[0,0,null,null,null,"",""]
[0,0,null,null,null,"",""]
[0,0,null,null,null,"",""]
[0,0,null,null,null,"",""]
[{"$f":"A$414","v":0},{"$f":"B$414","v":0},null,null,null,"",""]
[0,0,null,null,null,"",""]
[{"$f":"A$414","v":0},0,null,null,null,"",""]
[0,0,null,null,null,"",""]
[0,0,null,null,null,"",""]
[0,0,null,null,null,"",""]
[0,0,null,null,null,"",""]
[0,0,null,null,null,"",""]
[0,0,null,null,null,"",""]
[0,0,null,null,null,"",""]
[0,0,null,null,null,"",""]
[0,0,null,null,null,"",""]
[0,0,null,null,null,"",""]
[0,0,null,null,null,"",""]
[0,0,null,null,null,"",""]
[null,null,null,{"$f":"IF(A414=0,\"\",A414)","v":""},null,"Subtotal Line 13",null,{"$f":"ROUND(SUM(G384:G413),2)","v":0}]
[{"$f":"A$445","v":0},{"$f":"B$445","v":0},null,null,null,{"$f":"IFERROR(VLOOKUP(D415,Staffing,2,FALSE),\"\")","v":""},{"$f":"IFERROR(ROUND(E415*F415,2),\"\")","v":""}]
[{"$f":"A$445","v":0},0,null,null,null,"",{"$f":"IFERROR(ROUND(E416*F416,2),\"\")","v":""}]
[0,0,null,null,null,"",""]
[0,0,null,null,null,"",""]
[0,0,null,null,null,"",""]
[0,0,null,null,null,"",""]
[0,0,null,null,null,"",""]
[0,0,null,null,null,"",""]
[0,0,null,null,null,"",""]
[0,0,null,null,null,"",""]
[0,0,null,null,null,"",""]
[0,0,null,null,null,"",""]
[0,0,null,null,null,"",""]
[0,0,null,null,null,"",""]
[0,0,null,null,null,"",""]
[{"$f":"A$445","v":0},{"$f":"B$445","v":0},null,null,null,"",""]
[0,0,null,null,null,"",""]
[{"$f":"A$445","v":0},0,null,null,null,"",""]
[0,0,null,null,null,"",""]
[0,0,null,null,null,"",""]
[0,0,null,null,null,"",""]
[0,0,null,null,null,"",""]
[0,0,null,null,null,"",""]
[0,0,null,null,null,"",""]
[0,0,null,null,null,"",""]
[0,0,null,null,null,"",""]
[0,0,null,null,null,"",""]
[0,0,null,null,null,"",""]
[0,0,null,null,null,"",""]
[0,0,null,null,null,"",""]
[null,null,null,{"$f":"IF(A445=0,\"\",A445)","v":""},null,"Subtotal Line 14",null,{"$f":"ROUND(SUM(G415:G444),2)","v":0}]
[{"$f":"A$476","v":0},{"$f":"B$476","v":0},null,null,null,{"$f":"IFERROR(VLOOKUP(D446,Staffing,2,FALSE),\"\")","v":""},{"$f":"IFERROR(ROUND(E446*F446,2),\"\")","v":""}]
[{"$f":"A$476","v":0},0,null,null,null,"",{"$f":"IFERROR(ROUND(E447*F447,2),\"\")","v":""}]
[0,0,null,null,null,"",""]
[0,0,null,null,null,"",""]
[0,0,null,null,null,"",""]
[0,0,null,null,null,"",""]
[0,0,null,null,null,"",""]
[0,0,null,null,null,"",""]
[0,0,null,null,null,"",""]
[0,0,null,null,null,"",""]
[0,0,null,null,null,"",""]
[0,0,null,null,null,"",""]
[0,0,null,null,null,"",""]
[0,0,null,null,null,"",""]
[0,0,null,null,null,"",""]
[{"$f":"A$476","v":0},{"$f":"B$476","v":0},null,null,null,"",""]
[0,0,null,null,null,"",""]
[{"$f":"A$476","v":0},0,null,null,null,"",""]
[0,0,null,null,null,"",""]
[0,0,null,null,null,"",""]
[0,0,null,null,null,"",""]
[0,0,null,null,null,"",""]
[0,0,null,null,null,"",""]
[0,0,null,null,null,"",""]
[0,0,null,null,null,"",""]
[0,0,null,null,null,"",""]
[0,0,null,null,null,"",""]
[0,0,null,null,null,"",""]
[0,0,null,null,null,"",""]
[0,0,null,null,null,"",""]
[null,null,null,{"$f":"IF(A476=0,\"\",A476)","v":""},null,"Subtotal Line 15",null,{"$f":"ROUND(SUM(G446:G475),2)","v":0}]
[{"$f":"A$507","v":0},{"$f":"B$507","v":0},null,null,null,{"$f":"IFERROR(VLOOKUP(D477,Staffing,2,FALSE),\"\")","v":""},{"$f":"IFERROR(ROUND(E477*F477,2),\"\")","v":""}]
[{"$f":"A$507","v":0},0,null,null,null,"",{"$f":"IFERROR(ROUND(E478*F478,2),\"\")","v":""}]
[0,0,null,null,null,"",""]
[0,0,null,null,null,"",""]
[0,0,null,null,null,"",""]
[0,0,null,null,null,"",""]
[0,0,null,null,null,"",""]
[0,0,null,null,null,"",""]
[0,0,null,null,null,"",""]
[0,0,null,null,null,"",""]
[0,0,null,null,null,"",""]
[0,0,null,null,null,"",""]
[0,0,null,null,null,"",""]
[0,0,null,null,null,"",""]
[0,0,null,null,null,"",""]
[{"$f":"A$507","v":0},{"$f":"B$507","v":0},null,null,null,"",""]
[0,0,null,null,null,"",""]
[{"$f":"A$507","v":0},0,null,null,null,"",""]
[0,0,null,null,null,"",""]
[0,0,null,null,null,"",""]
[0,0,null,null,null,"",""]
[0,0,null,null,null,"",""]
[0,0,null,null,null,"",""]
[0,0,null,null,null,"",""]
[0,0,null,null,null,"",""]
[0,0,null,null,null,"",""]
[0,0,null,null,null,"",""]
[0,0,null,null,null,"",""]
[0,0,null,null,null,"",""]
[0,0,null,null,null,"",""]
[null,null,null,{"$f":"IF(A507=0,\"\",A507)","v":""},null,"Subtotal Line 16",null,{"$f":"ROUND(SUM(G477:G506),2)","v":0}]
[{"$f":"A$538","v":0},{"$f":"B$538","v":0},null,null,null,{"$f":"IFERROR(VLOOKUP(D508,Staffing,2,FALSE),\"\")","v":""},{"$f":"IFERROR(ROUND(E508*F508,2),\"\")","v":""}]
[{"$f":"A$538","v":0},0,null,null,null,"",{"$f":"IFERROR(ROUND(E509*F509,2),\"\")","v":""}]
[0,0,null,null,null,"",""]
[0,0,null,null,null,"",""]
[0,0,null,null,null,"",""]
[0,0,null,null,null,"",""]
[0,0,null,null,null,"",""]
[0,0,null,null,null,"",""]
[0,0,null,null,null,"",""]
[0,0,null,null,null,"",""]
[0,0,null,null,null,"",""]
[0,0,null,null,null,"",""]
[0,0,null,null,null,"",""]
[0,0,null,null,null,"",""]
[0,0,null,null,null,"",""]
[{"$f":"A$538","v":0},{"$f":"B$538","v":0},null,null,null,"",""]
[0,0,null,null,null,"",""]
[{"$f":"A$538","v":0},0,null,null,null,"",""]
[0,0,null,null,null,"",""]
[0,0,null,null,null,"",""]
[0,0,null,null,null,"",""]
[0,0,null,null,null,"",""]
[0,0,null,null,null,"",""]
[0,0,null,null,null,"",""]
[0,0,null,null,null,"",""]
[0,0,null,null,null,"",""]
[0,0,null,null,null,"",""]
[0,0,null,null,null,"",""]
[0,0,null,null,null,"",""]
[0,0,null,null,null,"",""]
[null,null,null,{"$f":"IF(A538=0,\"\",A538)","v":""},null,"Subtotal Line 17",null,{"$f":"ROUND(SUM(G508:G537),2)","v":0}]
[{"$f":"A$569","v":0},{"$f":"B$569","v":0},null,null,null,{"$f":"IFERROR(VLOOKUP(D539,Staffing,2,FALSE),\"\")","v":""},{"$f":"IFERROR(ROUND(E539*F539,2),\"\")","v":""}]
[{"$f":"A$569","v":0},0,null,null,null,"",{"$f":"IFERROR(ROUND(E540*F540,2),\"\")","v":""}]
[0,0,null,null,null,"",""]
[0,0,null,null,null,"",""]
[0,0,null,null,null,"",""]
[0,0,null,null,null,"",""]
[0,0,null,null,null,"",""]
[0,0,null,null,null,"",""]
[0,0,null,null,null,"",""]
[0,0,null,null,null,"",""]
[0,0,null,null,null,"",""]
[0,0,null,null,null,"",""]
[0,0,null,null,null,"",""]
[0,0,null,null,null,"",""]
[0,0,null,null,null,"",""]
[{"$f":"A$569","v":0},{"$f":"B$569","v":0},null,null,null,"",""]
[0,0,null,null,null,"",""]
[{"$f":"A$569","v":0},0,null,null,null,"",""]
[0,0,null,null,null,"",""]
[0,0,null,null,null,"",""]
[0,0,null,null,null,"",""]
[0,0,null,null,null,"",""]
[0,0,null,null,null,"",""]
[0,0,null,null,null,"",""]
[0,0,null,null,null,"",""]
[0,0,null,null,null,"",""]
[0,0,null,null,null,"",""]
[0,0,null,null,null,"",""]
[0,0,null,null,null,"",""]
[0,0,null,null,null,"",""]
[null,null,null,{"$f":"IF(A569=0,\"\",A569)","v":""},null,"Subtotal Line 18",null,{"$f":"ROUND(SUM(G539:G568),2)","v":0}]
[{"$f":"A$600","v":0},{"$f":"B$600","v":0},null,null,null,{"$f":"IFERROR(VLOOKUP(D570,Staffing,2,FALSE),\"\")","v":""},{"$f":"IFERROR(ROUND(E570*F570,2),\"\")","v":""}]
[{"$f":"A$600","v":0},0,null,null,null,"",{"$f":"IFERROR(ROUND(E571*F571,2),\"\")","v":""}]
[0,0,null,null,null,"",""]
[0,0,null,null,null,"",""]
[0,0,null,null,null,"",""]
[0,0,null,null,null,"",""]
[0,0,null,null,null,"",""]
[0,0,null,null,null,"",""]
[0,0,null,null,null,"",""]
[0,0,null,null,null,"",""]
[0,0,null,null,null,"",""]
[0,0,null,null,null,"",""]
[0,0,null,null,null,"",""]
[0,0,null,null,null,"",""]
[0,0,null,null,null,"",""]
[{"$f":"A$600","v":0},{"$f":"B$600","v":0},null,null,null,"",""]
[0,0,null,null,null,"",""]
[{"$f":"A$600","v":0},0,null,null,null,"",""]
[0,0,null,null,null,"",""]
[0,0,null,null,null,"",""]
[0,0,null,null,null,"",""]
[0,0,null,null,null,"",""]
[0,0,null,null,null,"",""]
[0,0,null,null,null,"",""]
[0,0,null,null,null,"",""]
[0,0,null,null,null,"",""]
[0,0,null,null,null,"",""]
[0,0,null,null,null,"",""]
[0,0,null,null,null,"",""]
[0,0,null,null,null,"",""]
[null,null,null,{"$f":"IF(A600=0,\"\",A600)","v":""},null,"Subtotal Line 19",null,{"$f":"ROUND(SUM(G570:G599),2)","v":0}]
[{"$f":"A$631","v":0},{"$f":"B$631","v":0},null,null,null,{"$f":"IFERROR(VLOOKUP(D601,Staffing,2,FALSE),\"\")","v":""},{"$f":"IFERROR(ROUND(E601*F601,2),\"\")","v":""}]
[{"$f":"A$631","v":0},0,null,null,null,"",{"$f":"IFERROR(ROUND(E602*F602,2),\"\")","v":""}]
[0,0,null,null,null,"",""]
[0,0,null,null,null,"",""]
[0,0,null,null,null,"",""]
[0,0,null,null,null,"",""]
[0,0,null,null,null,"",""]
[0,0,null,null,null,"",""]
[0,0,null,null,null,"",""]
[0,0,null,null,null,"",""]
[0,0,null,null,null,"",""]
[0,0,null,null,null,"",""]
[0,0,null,null,null,"",""]
[0,0,null,null,null,"",""]
[0,0,null,null,null,"",""]
[{"$f":"A$631","v":0},{"$f":"B$631","v":0},null,null,null,"",""]
[0,0,null,null,null,"",""]
[{"$f":"A$631","v":0},0,null,null,null,"",""]
[0,0,null,null,null,"",""]
[0,0,null,null,null,"",""]
[0,0,null,null,null,"",""]
[0,0,null,null,null,"",""]
[0,0,null,null,null,"",""]
[0,0,null,null,null,"",""]
[0,0,null,null,null,"",""]
[0,0,null,null,null,"",""]
[0,0,null,null,null,"",""]
[0,0,null,null,null,"",""]
[0,0,null,null,null,"",""]
[0,0,null,null,null,"",""]
[null,null,null,{"$f":"IF(A631=0,\"\",A631)","v":""},null,"Subtotal Line 20",null,{"$f":"ROUND(SUM(G601:G630),2)","v":0}]
[{"$f":"A$662","v":0},{"$f":"B$662","v":0},null,null,null,{"$f":"IFERROR(VLOOKUP(D632,Staffing,2,FALSE),\"\")","v":""},{"$f":"IFERROR(ROUND(E632*F632,2),\"\")","v":""}]
[{"$f":"A$662","v":0},0,null,null,null,"",{"$f":"IFERROR(ROUND(E633*F633,2),\"\")","v":""}]
[0,0,null,null,null,"",""]
[0,0,null,null,null,"",""]
[0,0,null,null,null,"",""]
[0,0,null,null,null,"",""]
[0,0,null,null,null,"",""]
[0,0,null,null,null,"",""]
[0,0,null,null,null,"",""]
[0,0,null,null,null,"",""]
[0,0,null,null,null,"",""]
[0,0,null,null,null,"",""]
[0,0,null,null,null,"",""]
[0,0,null,null,null,"",""]
[0,0,null,null,null,"",""]
[{"$f":"A$662","v":0},{"$f":"B$662","v":0},null,null,null,"",""]
[0,0,null,null,null,"",""]
[{"$f":"A$662","v":0},0,null,null,null,"",""]
[0,0,null,null,null,"",""]
[0,0,null,null,null,"",""]
[0,0,null,null,null,"",""]
[0,0,null,null,null,"",""]
[0,0,null,null,null,"",""]
[0,0,null,null,null,"",""]
[0,0,null,null,null,"",""]
[0,0,null,null,null,"",""]
[0,0,null,null,null,"",""]
[0,0,null,null,null,"",""]
[0,0,null,null,null,"",""]
[0,0,null,null,null,"",""]
[null,null,null,{"$f":"IF(A662=0,\"\",A662)","v":""},null,"Subtotal Line 21",null,{"$f":"ROUND(SUM(G632:G661),2)","v":0}]
[{"$f":"A$693","v":0},{"$f":"B$693","v":0},null,null,null,{"$f":"IFERROR(VLOOKUP(D663,Staffing,2,FALSE),\"\")","v":""},{"$f":"IFERROR(ROUND(E663*F663,2),\"\")","v":""}]
[{"$f":"A$693","v":0},0,null,null,null,"",{"$f":"IFERROR(ROUND(E664*F664,2),\"\")","v":""}]
[0,0,null,null,null,"",""]
[0,0,null,null,null,"",""]
[0,0,null,null,null,"",""]
[0,0,null,null,null,"",""]
[0,0,null,null,null,"",""]
[0,0,null,null,null,"",""]
[0,0,null,null,null,"",""]
[0,0,null,null,null,"",""]
[0,0,null,null,null,"",""]
[0,0,null,null,null,"",""]
[0,0,null,null,null,"",""]
[0,0,null,null,null,"",""]
[0,0,null,null,null,"",""]
[{"$f":"A$693","v":0},{"$f":"B$693","v":0},null,null,null,"",""]
[0,0,null,null,null,"",""]
[{"$f":"A$693","v":0},0,null,null,null,"",""]
[0,0,null,null,null,"",""]
[0,0,null,null,null,"",""]
[0,0,null,null,null,"",""]
[0,0,null,null,null,"",""]
[0,0,null,null,null,"",""]
[0,0,null,null,null,"",""]
[0,0,null,null,null,"",""]
[0,0,null,null,null,"",""]
[0,0,null,null,null,"",""]
[0,0,null,null,null,"",""]
[0,0,null,null,null,"",""]
[0,0,null,null,null,"",""]
[null,null,null,{"$f":"IF(A693=0,\"\",A693)","v":""},null,"Subtotal Line 22",null,{"$f":"ROUND(SUM(G663:G692),2)","v":0}]
[{"$f":"A$724","v":0},{"$f":"B$724","v":0},null,null,null,{"$f":"IFERROR(VLOOKUP(D694,Staffing,2,FALSE),\"\")","v":""},{"$f":"IFERROR(ROUND(E694*F694,2),\"\")","v":""}]
[{"$f":"A$724","v":0},0,null,null,null,"",{"$f":"IFERROR(ROUND(E695*F695,2),\"\")","v":""}]
[0,0,null,null,null,"",""]
[0,0,null,null,null,"",""]
[0,0,null,null,null,"",""]
[0,0,null,null,null,"",""]
[0,0,null,null,null,"",""]
[0,0,null,null,null,"",""]
[0,0,null,null,null,"",""]
[0,0,null,null,null,"",""]
[0,0,null,null,null,"",""]
[0,0,null,null,null,"",""]
[0,0,null,null,null,"",""]
[0,0,null,null,null,"",""]
[0,0,null,null,null,"",""]
[{"$f":"A$724","v":0},{"$f":"B$724","v":0},null,null,null,"",""]
[0,0,null,null,null,"",""]
[{"$f":"A$724","v":0},0,null,null,null,"",""]
[0,0,null,null,null,"",""]
[0,0,null,null,null,"",""]
[0,0,null,null,null,"",""]
[0,0,null,null,null,"",""]
[0,0,null,null,null,"",""]
[0,0,null,null,null,"",""]
[0,0,null,null,null,"",""]
[0,0,null,null,null,"",""]
[0,0,null,null,null,"",""]
[0,0,null,null,null,"",""]
[0,0,null,null,null,"",""]
[0,0,null,null,null,"",""]
[null,null,null,{"$f":"IF(A724=0,\"\",A724)","v":""},null,"Subtotal Line 23",null,{"$f":"ROUND(SUM(G694:G723),2)","v":0}]
[{"$f":"A$755","v":0},{"$f":"B$755","v":0},null,null,null,{"$f":"IFERROR(VLOOKUP(D725,Staffing,2,FALSE),\"\")","v":""},{"$f":"IFERROR(ROUND(E725*F725,2),\"\")","v":""}]
[{"$f":"A$755","v":0},0,null,null,null,"",{"$f":"IFERROR(ROUND(E726*F726,2),\"\")","v":""}]
[0,0,null,null,null,"",""]
[0,0,null,null,null,"",""]
[0,0,null,null,null,"",""]
[0,0,null,null,null,"",""]
[0,0,null,null,null,"",""]
[0,0,null,null,null,"",""]
[0,0,null,null,null,"",""]
[0,0,null,null,null,"",""]
[0,0,null,null,null,"",""]
[0,0,null,null,null,"",""]
[0,0,null,null,null,"",""]
[0,0,null,null,null,"",""]
[0,0,null,null,null,"",""]
[{"$f":"A$755","v":0},{"$f":"B$755","v":0},null,null,null,"",""]
[0,0,null,null,null,"",""]
[{"$f":"A$755","v":0},0,null,null,null,"",""]
[0,0,null,null,null,"",""]
[0,0,null,null,null,"",""]
[0,0,null,null,null,"",""]
[0,0,null,null,null,"",""]
[0,0,null,null,null,"",""]
[0,0,null,null,null,"",""]
[0,0,null,null,null,"",""]
[0,0,null,null,null,"",""]
[0,0,null,null,null,"",""]
[0,0,null,null,null,"",""]
[0,0,null,null,null,"",""]
[0,0,null,null,null,"",""]
[null,null,null,{"$f":"IF(A755=0,\"\",A755)","v":""},null,"Subtotal Line 24",null,{"$f":"ROUND(SUM(G725:G754),2)","v":0}]
[{"$f":"A$786","v":0},{"$f":"B$786","v":0},null,null,null,{"$f":"IFERROR(VLOOKUP(D756,Staffing,2,FALSE),\"\")","v":""},{"$f":"IFERROR(ROUND(E756*F756,2),\"\")","v":""}]
[{"$f":"A$786","v":0},0,null,null,null,"",{"$f":"IFERROR(ROUND(E757*F757,2),\"\")","v":""}]
[0,0,null,null,null,"",""]
[0,0,null,null,null,"",""]
[0,0,null,null,null,"",""]
[0,0,null,null,null,"",""]
[0,0,null,null,null,"",""]
[0,0,null,null,null,"",""]
[0,0,null,null,null,"",""]
[0,0,null,null,null,"",""]
[0,0,null,null,null,"",""]
[0,0,null,null,null,"",""]
[0,0,null,null,null,"",""]
[0,0,null,null,null,"",""]
[0,0,null,null,null,"",""]
[{"$f":"A$786","v":0},{"$f":"B$786","v":0},null,null,null,"",""]
[0,0,null,null,null,"",""]
[{"$f":"A$786","v":0},0,null,null,null,"",""]
[0,0,null,null,null,"",""]
[0,0,null,null,null,"",""]
[0,0,null,null,null,"",""]
[0,0,null,null,null,"",""]
[0,0,null,null,null,"",""]
[0,0,null,null,null,"",""]
[0,0,null,null,null,"",""]
[0,0,null,null,null,"",""]
[0,0,null,null,null,"",""]
[0,0,null,null,null,"",""]
[0,0,null,null,null,"",""]
[0,0,null,null,null,"",""]
[null,null,null,{"$f":"IF(A786=0,\"\",A786)","v":""},null,"Subtotal Line 25",null,{"$f":"ROUND(SUM(G756:G785),2)","v":0}]
[{"$f":"A$817","v":0},{"$f":"B$817","v":0},null,null,null,{"$f":"IFERROR(VLOOKUP(D787,Staffing,2,FALSE),\"\")","v":""},{"$f":"IFERROR(ROUND(E787*F787,2),\"\")","v":""}]
[{"$f":"A$817","v":0},0,null,null,null,"",{"$f":"IFERROR(ROUND(E788*F788,2),\"\")","v":""}]
[0,0,null,null,null,"",""]
[0,0,null,null,null,"",""]
[0,0,null,null,null,"",""]
[0,0,null,null,null,"",""]
[0,0,null,null,null,"",""]
[0,0,null,null,null,"",""]
[0,0,null,null,null,"",""]
[0,0,null,null,null,"",""]
[0,0,null,null,null,"",""]
[0,0,null,null,null,"",""]
[0,0,null,null,null,"",""]
[0,0,null,null,null,"",""]
[0,0,null,null,null,"",""]
[{"$f":"A$817","v":0},{"$f":"B$817","v":0},null,null,null,"",""]
[0,0,null,null,null,"",""]
[{"$f":"A$817","v":0},0,null,null,null,"",""]
[0,0,null,null,null,"",""]
[0,0,null,null,null,"",""]
[0,0,null,null,null,"",""]
[0,0,null,null,null,"",""]
[0,0,null,null,null,"",""]
[0,0,null,null,null,"",""]
[0,0,null,null,null,"",""]
[0,0,null,null,null,"",""]
[0,0,null,null,null,"",""]
[0,0,null,null,null,"",""]
[0,0,null,null,null,"",""]
[0,0,null,null,null,"",""]
[null,null,null,{"$f":"IF(A817=0,\"\",A817)","v":""},null,"Subtotal Line 26",null,{"$f":"ROUND(SUM(G787:G816),2)","v":0}]
[{"$f":"A$848","v":0},{"$f":"B$848","v":0},null,null,null,{"$f":"IFERROR(VLOOKUP(D818,Staffing,2,FALSE),\"\")","v":""},{"$f":"IFERROR(ROUND(E818*F818,2),\"\")","v":""}]
[{"$f":"A$848","v":0},0,null,null,null,"",{"$f":"IFERROR(ROUND(E819*F819,2),\"\")","v":""}]
[0,0,null,null,null,"",""]
[0,0,null,null,null,"",""]
[0,0,null,null,null,"",""]
[0,0,null,null,null,"",""]
[0,0,null,null,null,"",""]
[0,0,null,null,null,"",""]
[0,0,null,null,null,"",""]
[0,0,null,null,null,"",""]
[0,0,null,null,null,"",""]
[0,0,null,null,null,"",""]
[0,0,null,null,null,"",""]
[0,0,null,null,null,"",""]
[0,0,null,null,null,"",""]
[{"$f":"A$848","v":0},{"$f":"B$848","v":0},null,null,null,"",""]
[0,0,null,null,null,"",""]
[{"$f":"A$848","v":0},0,null,null,null,"",""]
[0,0,null,null,null,"",""]
[0,0,null,null,null,"",""]
[0,0,null,null,null,"",""]
[0,0,null,null,null,"",""]
[0,0,null,null,null,"",""]
[0,0,null,null,null,"",""]
[0,0,null,null,null,"",""]
[0,0,null,null,null,"",""]
[0,0,null,null,null,"",""]
[0,0,null,null,null,"",""]
[0,0,null,null,null,"",""]
[0,0,null,null,null,"",""]
[null,null,null,{"$f":"IF(A848=0,\"\",A848)","v":""},null,"Subtotal Line 27",null,{"$f":"ROUND(SUM(G818:G847),2)","v":0}]
[{"$f":"A$879","v":0},{"$f":"B$879","v":0},null,null,null,{"$f":"IFERROR(VLOOKUP(D849,Staffing,2,FALSE),\"\")","v":""},{"$f":"IFERROR(ROUND(E849*F849,2),\"\")","v":""}]
[{"$f":"A$879","v":0},0,null,null,null,"",{"$f":"IFERROR(ROUND(E850*F850,2),\"\")","v":""}]
[0,0,null,null,null,"",""]
[0,0,null,null,null,"",""]
[0,0,null,null,null,"",""]
[0,0,null,null,null,"",""]
[0,0,null,null,null,"",""]
[0,0,null,null,null,"",""]
[0,0,null,null,null,"",""]
[0,0,null,null,null,"",""]
[0,0,null,null,null,"",""]
[0,0,null,null,null,"",""]
[0,0,null,null,null,"",""]
[0,0,null,null,null,"",""]
[0,0,null,null,null,"",""]
[{"$f":"A$879","v":0},{"$f":"B$879","v":0},null,null,null,"",""]
[0,0,null,null,null,"",""]
[{"$f":"A$879","v":0},0,null,null,null,"",""]
[0,0,null,null,null,"",""]
[0,0,null,null,null,"",""]
[0,0,null,null,null,"",""]
[0,0,null,null,null,"",""]
[0,0,null,null,null,"",""]
[0,0,null,null,null,"",""]
[0,0,null,null,null,"",""]
[0,0,null,null,null,"",""]
[0,0,null,null,null,"",""]
[0,0,null,null,null,"",""]
[0,0,null,null,null,"",""]
[0,0,null,null,null,"",""]
[null,null,null,{"$f":"IF(A879=0,\"\",A879)","v":""},null,"Subtotal Line 28",null,{"$f":"ROUND(SUM(G849:G878),2)","v":0}]
[{"$f":"A$910","v":0},0,null,null,null,{"$f":"IFERROR(VLOOKUP(D880,Staffing,2,FALSE),\"\")","v":""},{"$f":"IFERROR(ROUND(E880*F880,2),\"\")","v":""}]
[0,0,null,null,null,"",{"$f":"IFERROR(ROUND(E881*F881,2),\"\")","v":""}]
[0,0,null,null,null,"",""]
[0,0,null,null,null,"",""]
[0,0,null,null,null,"",""]
[0,0,null,null,null,"",""]
[0,0,null,null,null,"",""]
[0,0,null,null,null,"",""]
[0,0,null,null,null,"",""]
[0,0,null,null,null,"",""]
[0,0,null,null,null,"",""]
[0,0,null,null,null,"",""]
[0,0,null,null,null,"",""]
[0,0,null,null,null,"",""]
[0,0,null,null,null,"",""]
[0,0,null,null,null,"",""]
[0,0,null,null,null,"",""]
[0,0,null,null,null,"",""]
[0,0,null,null,null,"",""]
[0,0,null,null,null,"",""]
[0,0,null,null,null,"",""]
[0,0,null,null,null,"",""]
[0,0,null,null,null,"",""]
[0,0,null,null,null,"",""]
[0,0,null,null,null,"",""]
[0,0,null,null,null,"",""]
[0,0,null,null,null,"",""]
[0,0,null,null,null,"",""]
[0,0,null,null,null,"",""]
[0,0,null,null,null,"",""]
[null,null,null,{"$f":"IF(A910=0,\"\",A910)","v":""},null,"Subtotal Line 29",null,{"$f":"ROUND(SUM(G880:G909),2)","v":0}]
[{"$f":"A$941","v":0},{"$f":"B$941","v":0},null,null,null,{"$f":"IFERROR(VLOOKUP(D911,Staffing,2,FALSE),\"\")","v":""},{"$f":"IFERROR(ROUND(E911*F911,2),\"\")","v":""}]
[{"$f":"A$941","v":0},0,null,null,null,"",{"$f":"IFERROR(ROUND(E912*F912,2),\"\")","v":""}]
[0,0,null,null,null,"",""]
[0,0,null,null,null,"",""]
[0,0,null,null,null,"",""]
[0,0,null,null,null,"",""]
[0,0,null,null,null,"",""]
[0,0,null,null,null,"",""]
[0,0,null,null,null,"",""]
[0,0,null,null,null,"",""]
[0,0,null,null,null,"",""]
[0,0,null,null,null,"",""]
[0,0,null,null,null,"",""]
[0,0,null,null,null,"",""]
[0,0,null,null,null,"",""]
[{"$f":"A$941","v":0},{"$f":"B$941","v":0},null,null,null,"",""]
[0,0,null,null,null,"",""]
[{"$f":"A$941","v":0},0,null,null,null,"",""]
[0,0,null,null,null,"",""]
[0,0,null,null,null,"",""]
[0,0,null,null,null,"",""]
[0,0,null,null,null,"",""]
[0,0,null,null,null,"",""]
[0,0,null,null,null,"",""]
[0,0,null,null,null,"",""]
[0,0,null,null,null,"",""]
[0,0,null,null,null,"",""]
[0,0,null,null,null,"",""]
[0,0,null,null,null,"",""]
[0,0,null,null,null,"",""]
[null,null,null,{"$f":"IF(A941=0,\"\",A941)","v":""},null,"Subtotal Line 30",null,{"$f":"ROUND(SUM(G911:G940),2)","v":0}]
[{"$f":"A$972","v":0},{"$f":"B$972","v":0},null,null,null,{"$f":"IFERROR(VLOOKUP(D942,Staffing,2,FALSE),\"\")","v":""},{"$f":"IFERROR(ROUND(E942*F942,2),\"\")","v":""}]
[{"$f":"A$972","v":0},0,null,null,null,"",{"$f":"IFERROR(ROUND(E943*F943,2),\"\")","v":""}]
[0,0,null,null,null,"",""]
[0,0,null,null,null,"",""]
[0,0,null,null,null,"",""]
[0,0,null,null,null,"",""]
[0,0,null,null,null,"",""]
[0,0,null,null,null,"",""]
[0,0,null,null,null,"",""]
[0,0,null,null,null,"",""]
[0,0,null,null,null,"",""]
[0,0,null,null,null,"",""]
[0,0,null,null,null,"",""]
[0,0,null,null,null,"",""]
[0,0,null,null,null,"",""]
[{"$f":"A$972","v":0},{"$f":"B$972","v":0},null,null,null,"",""]
[0,0,null,null,null,"",""]
[{"$f":"A$972","v":0},0,null,null,null,"",""]
[0,0,null,null,null,"",""]
[0,0,null,null,null,"",""]
[0,0,null,null,null,"",""]
[0,0,null,null,null,"",""]
[0,0,null,null,null,"",""]
[0,0,null,null,null,"",""]
[0,0,null,null,null,"",""]
[0,0,null,null,null,"",""]
[0,0,null,null,null,"",""]
[0,0,null,null,null,"",""]
[0,0,null,null,null,"",""]
[0,0,null,null,null,"",""]
[null,null,null,{"$f":"IF(A972=0,\"\",A972)","v":""},null,"Subtotal Line 31",null,{"$f":"ROUND(SUM(G942:G971),2)","v":0}]
[{"$f":"A$1003","v":0},{"$f":"B$1003","v":0},null,null,null,{"$f":"IFERROR(VLOOKUP(D973,Staffing,2,FALSE),\"\")","v":""},{"$f":"IFERROR(ROUND(E973*F973,2),\"\")","v":""}]
[{"$f":"A$1003","v":0},0,null,null,null,"",{"$f":"IFERROR(ROUND(E974*F974,2),\"\")","v":""}]
[0,0,null,null,null,"",""]
[0,0,null,null,null,"",""]
[0,0,null,null,null,"",""]
[0,0,null,null,null,"",""]
[0,0,null,null,null,"",""]
[0,0,null,null,null,"",""]
[0,0,null,null,null,"",""]
[0,0,null,null,null,"",""]
[0,0,null,null,null,"",""]
[0,0,null,null,null,"",""]
[0,0,null,null,null,"",""]
[0,0,null,null,null,"",""]
[0,0,null,null,null,"",""]
[{"$f":"A$1003","v":0},{"$f":"B$1003","v":0},null,null,null,"",""]
[0,0,null,null,null,"",""]
[{"$f":"A$1003","v":0},0,null,null,null,"",""]
[0,0,null,null,null,"",""]
[0,0,null,null,null,"",""]
[0,0,null,null,null,"",""]
[0,0,null,null,null,"",""]
[0,0,null,null,null,"",""]
[0,0,null,null,null,"",""]
[0,0,null,null,null,"",""]
[0,0,null,null,null,"",""]
[0,0,null,null,null,"",""]
[0,0,null,null,null,"",""]
[0,0,null,null,null,"",""]
[0,0,null,null,null,"",""]
[null,null,null,{"$f":"IF(A1003=0,\"\",A1003)","v":""},null,"Subtotal Line 32",null,{"$f":"ROUND(SUM(G973:G1002),2)","v":0}]
[{"$f":"A$1034","v":0},{"$f":"B$1034","v":0},null,null,null,{"$f":"IFERROR(VLOOKUP(D1004,Staffing,2,FALSE),\"\")","v":""},{"$f":"IFERROR(ROUND(E1004*F1004,2),\"\")","v":""}]
[{"$f":"A$1034","v":0},0,null,null,null,"",{"$f":"IFERROR(ROUND(E1005*F1005,2),\"\")","v":""}]
[0,0,null,null,null,"",""]
[0,0,null,null,null,"",""]
[0,0,null,null,null,"",""]
[0,0,null,null,null,"",""]
[0,0,null,null,null,"",""]
[0,0,null,null,null,"",""]
[0,0,null,null,null,"",""]
[0,0,null,null,null,"",""]
[0,0,null,null,null,"",""]
[0,0,null,null,null,"",""]
[0,0,null,null,null,"",""]
[0,0,null,null,null,"",""]
[0,0,null,null,null,"",""]
[{"$f":"A$1034","v":0},{"$f":"B$1034","v":0},null,null,null,"",""]
[0,0,null,null,null,"",""]
[{"$f":"A$1034","v":0},0,null,null,null,"",""]
[0,0,null,null,null,"",""]
[0,0,null,null,null,"",""]
[0,0,null,null,null,"",""]
[0,0,null,null,null,"",""]
[0,0,null,null,null,"",""]
[0,0,null,null,null,"",""]
[0,0,null,null,null,"",""]
[0,0,null,null,null,"",""]
[0,0,null,null,null,"",""]
[0,0,null,null,null,"",""]
[0,0,null,null,null,"",""]
[0,0,null,null,null,"",""]
[null,null,null,{"$f":"IF(A1034=0,\"\",A1034)","v":""},null,"Subtotal Line 33",null,{"$f":"ROUND(SUM(G1004:G1033),2)","v":0}]
[{"$f":"A$1065","v":0},{"$f":"B$1065","v":0},null,null,null,{"$f":"IFERROR(VLOOKUP(D1035,Staffing,2,FALSE),\"\")","v":""},{"$f":"IFERROR(ROUND(E1035*F1035,2),\"\")","v":""}]
[{"$f":"A$1065","v":0},0,null,null,null,"",{"$f":"IFERROR(ROUND(E1036*F1036,2),\"\")","v":""}]
[0,0,null,null,null,"",""]
[0,0,null,null,null,"",""]
[0,0,null,null,null,"",""]
[0,0,null,null,null,"",""]
[0,0,null,null,null,"",""]
[0,0,null,null,null,"",""]
[0,0,null,null,null,"",""]
[0,0,null,null,null,"",""]
[0,0,null,null,null,"",""]
[0,0,null,null,null,"",""]
[0,0,null,null,null,"",""]
[0,0,null,null,null,"",""]
[0,0,null,null,null,"",""]
[{"$f":"A$1065","v":0},{"$f":"B$1065","v":0},null,null,null,"",""]
[0,0,null,null,null,"",""]
[{"$f":"A$1065","v":0},0,null,null,null,"",""]
[0,0,null,null,null,"",""]
[0,0,null,null,null,"",""]
[0,0,null,null,null,"",""]
[0,0,null,null,null,"",""]
[0,0,null,null,null,"",""]
[0,0,null,null,null,"",""]
[0,0,null,null,null,"",""]
[0,0,null,null,null,"",""]
[0,0,null,null,null,"",""]
[0,0,null,null,null,"",""]
[0,0,null,null,null,"",""]
[0,0,null,null,null,"",""]
[null,null,null,{"$f":"IF(A1065=0,\"\",A1065)","v":""},null,"Subtotal Line 34",null,{"$f":"ROUND(SUM(G1035:G1064),2)","v":0}]
[{"$f":"A$1096","v":0},{"$f":"B$1096","v":0},null,null,null,{"$f":"IFERROR(VLOOKUP(D1066,Staffing,2,FALSE),\"\")","v":""},{"$f":"IFERROR(ROUND(E1066*F1066,2),\"\")","v":""}]
[{"$f":"A$1096","v":0},0,null,null,null,"",{"$f":"IFERROR(ROUND(E1067*F1067,2),\"\")","v":""}]
[0,0,null,null,null,"",""]
[0,0,null,null,null,"",""]
[0,0,null,null,null,"",""]
[0,0,null,null,null,"",""]
[0,0,null,null,null,"",""]
[0,0,null,null,null,"",""]
[0,0,null,null,null,"",""]
[0,0,null,null,null,"",""]
[0,0,null,null,null,"",""]
[0,0,null,null,null,"",""]
[0,0,null,null,null,"",""]
[0,0,null,null,null,"",""]
[0,0,null,null,null,"",""]
[{"$f":"A$1096","v":0},{"$f":"B$1096","v":0},null,null,null,"",""]
[0,0,null,null,null,"",""]
[{"$f":"A$1096","v":0},0,null,null,null,"",""]
[0,0,null,null,null,"",""]
[0,0,null,null,null,"",""]
[0,0,null,null,null,"",""]
[0,0,null,null,null,"",""]
[0,0,null,null,null,"",""]
[0,0,null,null,null,"",""]
[0,0,null,null,null,"",""]
[0,0,null,null,null,"",""]
[0,0,null,null,null,"",""]
[0,0,null,null,null,"",""]
[0,0,null,null,null,"",""]
[0,0,null,null,null,"",""]
[null,null,null,{"$f":"IF(A1096=0,\"\",A1096)","v":""},null,"Subtotal Line 35",null,{"$f":"ROUND(SUM(G1066:G1095),2)","v":0}]
[{"$f":"A$1127","v":0},{"$f":"B$1127","v":0},null,null,null,{"$f":"IFERROR(VLOOKUP(D1097,Staffing,2,FALSE),\"\")","v":""},{"$f":"IFERROR(ROUND(E1097*F1097,2),\"\")","v":""}]
[{"$f":"A$1127","v":0},0,null,null,null,"",{"$f":"IFERROR(ROUND(E1098*F1098,2),\"\")","v":""}]
[0,0,null,null,null,"",""]
[0,0,null,null,null,"",""]
[0,0,null,null,null,"",""]
[0,0,null,null,null,"",""]
[0,0,null,null,null,"",""]
[0,0,null,null,null,"",""]
[0,0,null,null,null,"",""]
[0,0,null,null,null,"",""]
[0,0,null,null,null,"",""]
[0,0,null,null,null,"",""]
[0,0,null,null,null,"",""]
[0,0,null,null,null,"",""]
[0,0,null,null,null,"",""]
[{"$f":"A$1127","v":0},{"$f":"B$1127","v":0},null,null,null,"",""]
[0,0,null,null,null,"",""]
[{"$f":"A$1127","v":0},0,null,null,null,"",""]
[0,0,null,null,null,"",""]
[0,0,null,null,null,"",""]
[0,0,null,null,null,"",""]
[0,0,null,null,null,"",""]
[0,0,null,null,null,"",""]
[0,0,null,null,null,"",""]
[0,0,null,null,null,"",""]
[0,0,null,null,null,"",""]
[0,0,null,null,null,"",""]
[0,0,null,null,null,"",""]
[0,0,null,null,null,"",""]
[0,0,null,null,null,"",""]
[null,null,null,{"$f":"IF(A1127=0,\"\",A1127)","v":""},null,"Subtotal Line 36",null,{"$f":"ROUND(SUM(G1097:G1126),2)","v":0}]
[{"$f":"A$1158","v":0},{"$f":"B$1158","v":0},null,null,null,{"$f":"IFERROR(VLOOKUP(D1128,Staffing,2,FALSE),\"\")","v":""},{"$f":"IFERROR(ROUND(E1128*F1128,2),\"\")","v":""}]
[{"$f":"A$1158","v":0},0,null,null,null,"",{"$f":"IFERROR(ROUND(E1129*F1129,2),\"\")","v":""}]
[0,0,null,null,null,"",""]
[0,0,null,null,null,"",""]
[0,0,null,null,null,"",""]
[0,0,null,null,null,"",""]
[0,0,null,null,null,"",""]
[0,0,null,null,null,"",""]
[0,0,null,null,null,"",""]
[0,0,null,null,null,"",""]
[0,0,null,null,null,"",""]
[0,0,null,null,null,"",""]
[0,0,null,null,null,"",""]
[0,0,null,null,null,"",""]
[0,0,null,null,null,"",""]
[{"$f":"A$1158","v":0},{"$f":"B$1158","v":0},null,null,null,"",""]
[0,0,null,null,null,"",""]
[{"$f":"A$1158","v":0},0,null,null,null,"",""]
[0,0,null,null,null,"",""]
[0,0,null,null,null,"",""]
[0,0,null,null,null,"",""]
[0,0,null,null,null,"",""]
[0,0,null,null,null,"",""]
[0,0,null,null,null,"",""]
[0,0,null,null,null,"",""]
[0,0,null,null,null,"",""]
[0,0,null,null,null,"",""]
[0,0,null,null,null,"",""]
[0,0,null,null,null,"",""]
[0,0,null,null,null,"",""]
[null,null,null,{"$f":"IF(A1158=0,\"\",A1158)","v":""},null,"Subtotal Line 37",null,{"$f":"ROUND(SUM(G1128:G1157),2)","v":0}]
[{"$f":"A$1189","v":0},{"$f":"B$1189","v":0},null,null,null,{"$f":"IFERROR(VLOOKUP(D1159,Staffing,2,FALSE),\"\")","v":""},{"$f":"IFERROR(ROUND(E1159*F1159,2),\"\")","v":""}]
[{"$f":"A$1189","v":0},0,null,null,null,"",{"$f":"IFERROR(ROUND(E1160*F1160,2),\"\")","v":""}]
[0,0,null,null,null,"",""]
[0,0,null,null,null,"",""]
[0,0,null,null,null,"",""]
[0,0,null,null,null,"",""]
[0,0,null,null,null,"",""]
[0,0,null,null,null,"",""]
[0,0,null,null,null,"",""]
[0,0,null,null,null,"",""]
[0,0,null,null,null,"",""]
[0,0,null,null,null,"",""]
[0,0,null,null,null,"",""]
[0,0,null,null,null,"",""]
[0,0,null,null,null,"",""]
[{"$f":"A$1189","v":0},{"$f":"B$1189","v":0},null,null,null,"",""]
[0,0,null,null,null,"",""]
[{"$f":"A$1189","v":0},0,null,null,null,"",""]
[0,0,null,null,null,"",""]
[0,0,null,null,null,"",""]
[0,0,null,null,null,"",""]
[0,0,null,null,null,"",""]
[0,0,null,null,null,"",""]
[0,0,null,null,null,"",""]
[0,0,null,null,null,"",""]
[0,0,null,null,null,"",""]
[0,0,null,null,null,"",""]
[0,0,null,null,null,"",""]
[0,0,null,null,null,"",""]
[0,0,null,null,null,"",""]
[null,null,null,{"$f":"IF(A1189=0,\"\",A1189)","v":""},null,"Subtotal Line 38",null,{"$f":"ROUND(SUM(G1159:G1188),2)","v":0}]
[{"$f":"A$1220","v":0},{"$f":"B$1220","v":0},null,null,null,{"$f":"IFERROR(VLOOKUP(D1190,Staffing,2,FALSE),\"\")","v":""},{"$f":"IFERROR(ROUND(E1190*F1190,2),\"\")","v":""}]
[{"$f":"A$1220","v":0},0,null,null,null,"",{"$f":"IFERROR(ROUND(E1191*F1191,2),\"\")","v":""}]
[0,0,null,null,null,"",""]
[0,0,null,null,null,"",""]
[0,0,null,null,null,"",""]
[0,0,null,null,null,"",""]
[0,0,null,null,null,"",""]
[0,0,null,null,null,"",""]
[0,0,null,null,null,"",""]
[0,0,null,null,null,"",""]
[0,0,null,null,null,"",""]
[0,0,null,null,null,"",""]
[0,0,null,null,null,"",""]
[0,0,null,null,null,"",""]
[0,0,null,null,null,"",""]
[{"$f":"A$1220","v":0},{"$f":"B$1220","v":0},null,null,null,"",""]
[0,0,null,null,null,"",""]
[{"$f":"A$1220","v":0},0,null,null,null,"",""]
[0,0,null,null,null,"",""]
[0,0,null,null,null,"",""]
[0,0,null,null,null,"",""]
[0,0,null,null,null,"",""]
[0,0,null,null,null,"",""]
[0,0,null,null,null,"",""]
[0,0,null,null,null,"",""]
[0,0,null,null,null,"",""]
[0,0,null,null,null,"",""]
[0,0,null,null,null,"",""]
[0,0,null,null,null,"",""]
[0,0,null,null,null,"",""]
[null,null,null,{"$f":"IF(A1220=0,\"\",A1220)","v":""},null,"Subtotal Line 39",null,{"$f":"ROUND(SUM(G1190:G1219),2)","v":0}]
[{"$f":"A$1251","v":0},{"$f":"B$1251","v":0},null,null,null,{"$f":"IFERROR(VLOOKUP(D1221,Staffing,2,FALSE),\"\")","v":""},{"$f":"IFERROR(ROUND(E1221*F1221,2),\"\")","v":""}]
[{"$f":"A$1251","v":0},0,null,null,null,"",{"$f":"IFERROR(ROUND(E1222*F1222,2),\"\")","v":""}]
[0,0,null,null,null,"",""]
[0,0,null,null,null,"",""]
[0,0,null,null,null,"",""]
[0,0,null,null,null,"",""]
[0,0,null,null,null,"",""]
[0,0,null,null,null,"",""]
[0,0,null,null,null,"",""]
[0,0,null,null,null,"",""]
[0,0,null,null,null,"",""]
[0,0,null,null,null,"",""]
[0,0,null,null,null,"",""]
[0,0,null,null,null,"",""]
[0,0,null,null,null,"",""]
[{"$f":"A$1251","v":0},{"$f":"B$1251","v":0},null,null,null,"",""]
[0,0,null,null,null,"",""]
[{"$f":"A$1251","v":0},0,null,null,null,"",""]
[0,0,null,null,null,"",""]
[0,0,null,null,null,"",""]
[0,0,null,null,null,"",""]
[0,0,null,null,null,"",""]
[0,0,null,null,null,"",""]
[0,0,null,null,null,"",""]
[0,0,null,null,null,"",""]
[0,0,null,null,null,"",""]
[0,0,null,null,null,"",""]
[0,0,null,null,null,"",""]
[0,0,null,null,null,"",""]
[0,0,null,null,null,"",""]
[null,null,null,{"$f":"IF(A1251=0,\"\",A1251)","v":""},null,"Subtotal Line 40",null,{"$f":"ROUND(SUM(G1221:G1250),2)","v":0}]
[{"$f":"A$1282","v":0},{"$f":"B$1282","v":0},null,null,null,{"$f":"IFERROR(VLOOKUP(D1252,Staffing,2,FALSE),\"\")","v":""},{"$f":"IFERROR(ROUND(E1252*F1252,2),\"\")","v":""}]
[{"$f":"A$1282","v":0},0,null,null,null,"",{"$f":"IFERROR(ROUND(E1253*F1253,2),\"\")","v":""}]
[0,0,null,null,null,"",""]
[0,0,null,null,null,"",""]
[0,0,null,null,null,"",""]
[0,0,null,null,null,"",""]
[0,0,null,null,null,"",""]
[0,0,null,null,null,"",""]
[0,0,null,null,null,"",""]
[0,0,null,null,null,"",""]
[0,0,null,null,null,"",""]
[0,0,null,null,null,"",""]
[0,0,null,null,null,"",""]
[0,0,null,null,null,"",""]
[0,0,null,null,null,"",""]
[{"$f":"A$1282","v":0},{"$f":"B$1282","v":0},null,null,null,"",""]
[0,0,null,null,null,"",""]
[{"$f":"A$1282","v":0},0,null,null,null,"",""]
[0,0,null,null,null,"",""]
[0,0,null,null,null,"",""]
[0,0,null,null,null,"",""]
[0,0,null,null,null,"",""]
[0,0,null,null,null,"",""]
[0,0,null,null,null,"",""]
[0,0,null,null,null,"",""]
[0,0,null,null,null,"",""]
[0,0,null,null,null,"",""]
[0,0,null,null,null,"",""]
[0,0,null,null,null,"",""]
[0,0,null,null,null,"",""]
[null,null,null,{"$f":"IF(A1282=0,\"\",A1282)","v":""},null,"Subtotal Line 41",null,{"$f":"ROUND(SUM(G1252:G1281),2)","v":0}]
[{"$f":"A$1313","v":0},{"$f":"B$1313","v":0},null,null,null,{"$f":"IFERROR(VLOOKUP(D1283,Staffing,2,FALSE),\"\")","v":""},{"$f":"IFERROR(ROUND(E1283*F1283,2),\"\")","v":""}]
[{"$f":"A$1313","v":0},0,null,null,null,"",{"$f":"IFERROR(ROUND(E1284*F1284,2),\"\")","v":""}]
[0,0,null,null,null,"",""]
[0,0,null,null,null,"",""]
[0,0,null,null,null,"",""]
[0,0,null,null,null,"",""]
[0,0,null,null,null,"",""]
[0,0,null,null,null,"",""]
[0,0,null,null,null,"",""]
[0,0,null,null,null,"",""]
[0,0,null,null,null,"",""]
[0,0,null,null,null,"",""]
[0,0,null,null,null,"",""]
[0,0,null,null,null,"",""]
[0,0,null,null,null,"",""]
[{"$f":"A$1313","v":0},{"$f":"B$1313","v":0},null,null,null,"",""]
[0,0,null,null,null,"",""]
[{"$f":"A$1313","v":0},0,null,null,null,"",""]
[0,0,null,null,null,"",""]
[0,0,null,null,null,"",""]
[0,0,null,null,null,"",""]
[0,0,null,null,null,"",""]
[0,0,null,null,null,"",""]
[0,0,null,null,null,"",""]
[0,0,null,null,null,"",""]
[0,0,null,null,null,"",""]
[0,0,null,null,null,"",""]
[0,0,null,null,null,"",""]
[0,0,null,null,null,"",""]
[0,0,null,null,null,"",""]
[null,null,null,{"$f":"IF(A1313=0,\"\",A1313)","v":""},null,"Subtotal Line 42",null,{"$f":"ROUND(SUM(G1283:G1312),2)","v":0}]
[{"$f":"A$1344","v":0},{"$f":"B$1344","v":0},null,null,null,{"$f":"IFERROR(VLOOKUP(D1314,Staffing,2,FALSE),\"\")","v":""},{"$f":"IFERROR(ROUND(E1314*F1314,2),\"\")","v":""}]
[{"$f":"A$1344","v":0},0,null,null,null,"",{"$f":"IFERROR(ROUND(E1315*F1315,2),\"\")","v":""}]
[0,0,null,null,null,"",""]
[0,0,null,null,null,"",""]
[0,0,null,null,null,"",""]
[0,0,null,null,null,"",""]
[0,0,null,null,null,"",""]
[0,0,null,null,null,"",""]
[0,0,null,null,null,"",""]
[0,0,null,null,null,"",""]
[0,0,null,null,null,"",""]
[0,0,null,null,null,"",""]
[0,0,null,null,null,"",""]
[0,0,null,null,null,"",""]
[0,0,null,null,null,"",""]
[{"$f":"A$1344","v":0},{"$f":"B$1344","v":0},null,null,null,"",""]
[0,0,null,null,null,"",""]
[{"$f":"A$1344","v":0},0,null,null,null,"",""]
[0,0,null,null,null,"",""]
[0,0,null,null,null,"",""]
[0,0,null,null,null,"",""]
[0,0,null,null,null,"",""]
[0,0,null,null,null,"",""]
[0,0,null,null,null,"",""]
[0,0,null,null,null,"",""]
[0,0,null,null,null,"",""]
[0,0,null,null,null,"",""]
[0,0,null,null,null,"",""]
[0,0,null,null,null,"",""]
[0,0,null,null,null,"",""]
[null,null,null,{"$f":"IF(A1344=0,\"\",A1344)","v":""},null,"Subtotal Line 43",null,{"$f":"ROUND(SUM(G1314:G1343),2)","v":0}]
[{"$f":"A$1375","v":0},{"$f":"B$1375","v":0},null,null,null,{"$f":"IFERROR(VLOOKUP(D1345,Staffing,2,FALSE),\"\")","v":""},{"$f":"IFERROR(ROUND(E1345*F1345,2),\"\")","v":""}]
[{"$f":"A$1375","v":0},0,null,null,null,"",{"$f":"IFERROR(ROUND(E1346*F1346,2),\"\")","v":""}]
[0,0,null,null,null,"",""]
[0,0,null,null,null,"",""]
[0,0,null,null,null,"",""]
[0,0,null,null,null,"",""]
[0,0,null,null,null,"",""]
[0,0,null,null,null,"",""]
[0,0,null,null,null,"",""]
[0,0,null,null,null,"",""]
[0,0,null,null,null,"",""]
[0,0,null,null,null,"",""]
[0,0,null,null,null,"",""]
[0,0,null,null,null,"",""]
[0,0,null,null,null,"",""]
[{"$f":"A$1375","v":0},{"$f":"B$1375","v":0},null,null,null,"",""]
[0,0,null,null,null,"",""]
[{"$f":"A$1375","v":0},0,null,null,null,"",""]
[0,0,null,null,null,"",""]
[0,0,null,null,null,"",""]
[0,0,null,null,null,"",""]
[0,0,null,null,null,"",""]
[0,0,null,null,null,"",""]
[0,0,null,null,null,"",""]
[0,0,null,null,null,"",""]
[0,0,null,null,null,"",""]
[0,0,null,null,null,"",""]
[0,0,null,null,null,"",""]
[0,0,null,null,null,"",""]
[0,0,null,null,null,"",""]
[null,null,null,{"$f":"IF(A1375=0,\"\",A1375)","v":""},null,"Subtotal Line 44",null,{"$f":"ROUND(SUM(G1345:G1374),2)","v":0}]
[{"$f":"A$1406","v":0},{"$f":"B$1406","v":0},null,null,null,{"$f":"IFERROR(VLOOKUP(D1376,Staffing,2,FALSE),\"\")","v":""},{"$f":"IFERROR(ROUND(E1376*F1376,2),\"\")","v":""}]
[{"$f":"A$1406","v":0},0,null,null,null,"",{"$f":"IFERROR(ROUND(E1377*F1377,2),\"\")","v":""}]
[0,0,null,null,null,"",""]
[0,0,null,null,null,"",""]
[0,0,null,null,null,"",""]
[0,0,null,null,null,"",""]
[0,0,null,null,null,"",""]
[0,0,null,null,null,"",""]
[0,0,null,null,null,"",""]
[0,0,null,null,null,"",""]
[0,0,null,null,null,"",""]
[0,0,null,null,null,"",""]
[0,0,null,null,null,"",""]
[0,0,null,null,null,"",""]
[0,0,null,null,null,"",""]
[{"$f":"A$1406","v":0},{"$f":"B$1406","v":0},null,null,null,"",""]
[0,0,null,null,null,"",""]
[{"$f":"A$1406","v":0},0,null,null,null,"",""]
[0,0,null,null,null,"",""]
[0,0,null,null,null,"",""]
[0,0,null,null,null,"",""]
[0,0,null,null,null,"",""]
[0,0,null,null,null,"",""]
[0,0,null,null,null,"",""]
[0,0,null,null,null,"",""]
[0,0,null,null,null,"",""]
[0,0,null,null,null,"",""]
[0,0,null,null,null,"",""]
[0,0,null,null,null,"",""]
[0,0,null,null,null,"",""]
[null,null,null,{"$f":"IF(A1406=0,\"\",A1406)","v":""},null,"Subtotal Line 45",null,{"$f":"ROUND(SUM(G1376:G1405),2)","v":0}]
[{"$f":"A$1437","v":0},{"$f":"B$1437","v":0},null,null,null,{"$f":"IFERROR(VLOOKUP(D1407,Staffing,2,FALSE),\"\")","v":""},{"$f":"IFERROR(ROUND(E1407*F1407,2),\"\")","v":""}]
[{"$f":"A$1437","v":0},0,null,null,null,"",{"$f":"IFERROR(ROUND(E1408*F1408,2),\"\")","v":""}]
[0,0,null,null,null,"",""]
[0,0,null,null,null,"",""]
[0,0,null,null,null,"",""]
[0,0,null,null,null,"",""]
[0,0,null,null,null,"",""]
[0,0,null,null,null,"",""]
[0,0,null,null,null,"",""]
[0,0,null,null,null,"",""]
[0,0,null,null,null,"",""]
[0,0,null,null,null,"",""]
[0,0,null,null,null,"",""]
[0,0,null,null,null,"",""]
[0,0,null,null,null,"",""]
[{"$f":"A$1437","v":0},{"$f":"B$1437","v":0},null,null,null,"",""]
[0,0,null,null,null,"",""]
[{"$f":"A$1437","v":0},0,null,null,null,"",""]
[0,0,null,null,null,"",""]
[0,0,null,null,null,"",""]
[0,0,null,null,null,"",""]
[0,0,null,null,null,"",""]
[0,0,null,null,null,"",""]
[0,0,null,null,null,"",""]
[0,0,null,null,null,"",""]
[0,0,null,null,null,"",""]
[0,0,null,null,null,"",""]
[0,0,null,null,null,"",""]
[0,0,null,null,null,"",""]
[0,0,null,null,null,"",""]
[null,null,null,{"$f":"IF(A1437=0,\"\",A1437)","v":""},null,"Subtotal Line 46",null,{"$f":"ROUND(SUM(G1407:G1436),2)","v":0}]
[{"$f":"A$1468","v":0},{"$f":"B$1468","v":0},null,null,null,{"$f":"IFERROR(VLOOKUP(D1438,Staffing,2,FALSE),\"\")","v":""},{"$f":"IFERROR(ROUND(E1438*F1438,2),\"\")","v":""}]
[{"$f":"A$1468","v":0},0,null,null,null,"",{"$f":"IFERROR(ROUND(E1439*F1439,2),\"\")","v":""}]
[0,0,null,null,null,"",""]
[0,0,null,null,null,"",""]
[0,0,null,null,null,"",""]
[0,0,null,null,null,"",""]
[0,0,null,null,null,"",""]
[0,0,null,null,null,"",""]
[0,0,null,null,null,"",""]
[0,0,null,null,null,"",""]
[0,0,null,null,null,"",""]
[0,0,null,null,null,"",""]
[0,0,null,null,null,"",""]
[0,0,null,null,null,"",""]
[0,0,null,null,null,"",""]
[{"$f":"A$1468","v":0},{"$f":"B$1468","v":0},null,null,null,"",""]
[0,0,null,null,null,"",""]
[{"$f":"A$1468","v":0},0,null,null,null,"",""]
[0,0,null,null,null,"",""]
[0,0,null,null,null,"",""]
[0,0,null,null,null,"",""]
[0,0,null,null,null,"",""]
[0,0,null,null,null,"",""]
[0,0,null,null,null,"",""]
[0,0,null,null,null,"",""]
[0,0,null,null,null,"",""]
[0,0,null,null,null,"",""]
[0,0,null,null,null,"",""]
[0,0,null,null,null,"",""]
[0,0,null,null,null,"",""]
[null,null,null,{"$f":"IF(A1468=0,\"\",A1468)","v":""},null,"Subtotal Line 47",null,{"$f":"ROUND(SUM(G1438:G1467),2)","v":0}]
[{"$f":"A$1499","v":0},{"$f":"B$1499","v":0},null,null,null,{"$f":"IFERROR(VLOOKUP(D1469,Staffing,2,FALSE),\"\")","v":""},{"$f":"IFERROR(ROUND(E1469*F1469,2),\"\")","v":""}]
[{"$f":"A$1499","v":0},0,null,null,null,"",{"$f":"IFERROR(ROUND(E1470*F1470,2),\"\")","v":""}]
[0,0,null,null,null,"",""]
[0,0,null,null,null,"",""]
[0,0,null,null,null,"",""]
[0,0,null,null,null,"",""]
[0,0,null,null,null,"",""]
[0,0,null,null,null,"",""]
[0,0,null,null,null,"",""]
[0,0,null,null,null,"",""]
[0,0,null,null,null,"",""]
[0,0,null,null,null,"",""]
[0,0,null,null,null,"",""]
[0,0,null,null,null,"",""]
[0,0,null,null,null,"",""]
[{"$f":"A$1499","v":0},{"$f":"B$1499","v":0},null,null,null,"",""]
[0,0,null,null,null,"",""]
[{"$f":"A$1499","v":0},0,null,null,null,"",""]
[0,0,null,null,null,"",""]
[0,0,null,null,null,"",""]
[0,0,null,null,null,"",""]
[0,0,null,null,null,"",""]
[0,0,null,null,null,"",""]
[0,0,null,null,null,"",""]
[0,0,null,null,null,"",""]
[0,0,null,null,null,"",""]
[0,0,null,null,null,"",""]
[0,0,null,null,null,"",""]
[0,0,null,null,null,"",""]
[0,0,null,null,null,"",""]
[null,null,null,{"$f":"IF(A1499=0,\"\",A1499)","v":""},null,"Subtotal Line 48",null,{"$f":"ROUND(SUM(G1469:G1498),2)","v":0}]
[{"$f":"A$1530","v":0},{"$f":"B$1530","v":0},null,null,null,{"$f":"IFERROR(VLOOKUP(D1500,Staffing,2,FALSE),\"\")","v":""},{"$f":"IFERROR(ROUND(E1500*F1500,2),\"\")","v":""}]
[{"$f":"A$1530","v":0},0,null,null,null,"",{"$f":"IFERROR(ROUND(E1501*F1501,2),\"\")","v":""}]
[0,0,null,null,null,"",""]
[0,0,null,null,null,"",""]
[0,0,null,null,null,"",""]
[0,0,null,null,null,"",""]
[0,0,null,null,null,"",""]
[0,0,null,null,null,"",""]
[0,0,null,null,null,"",""]
[0,0,null,null,null,"",""]
[0,0,null,null,null,"",""]
[0,0,null,null,null,"",""]
[0,0,null,null,null,"",""]
[0,0,null,null,null,"",""]
[0,0,null,null,null,"",""]
[{"$f":"A$1530","v":0},{"$f":"B$1530","v":0},null,null,null,"",""]
[0,0,null,null,null,"",""]
[{"$f":"A$1530","v":0},0,null,null,null,"",""]
[0,0,null,null,null,"",""]
[0,0,null,null,null,"",""]
[0,0,null,null,null,"",""]
[0,0,null,null,null,"",""]
[0,0,null,null,null,"",""]
[0,0,null,null,null,"",""]
[0,0,null,null,null,"",""]
[0,0,null,null,null,"",""]
[0,0,null,null,null,"",""]
[0,0,null,null,null,"",""]
[0,0,null,null,null,"",""]
[0,0,null,null,null,"",""]
[null,null,null,{"$f":"IF(A1530=0,\"\",A1530)","v":""},null,"Subtotal Line 49",null,{"$f":"ROUND(SUM(G1500:G1529),2)","v":0}]
[{"$f":"A$1561","v":0},{"$f":"B$1561","v":0},null,null,null,{"$f":"IFERROR(VLOOKUP(D1531,Staffing,2,FALSE),\"\")","v":""},{"$f":"IFERROR(ROUND(E1531*F1531,2),\"\")","v":""}]
[{"$f":"A$1561","v":0},0,null,null,null,"",{"$f":"IFERROR(ROUND(E1532*F1532,2),\"\")","v":""}]
[0,0,null,null,null,"",""]
[0,0,null,null,null,"",""]
[0,0,null,null,null,"",""]
[0,0,null,null,null,"",""]
[0,0,null,null,null,"",""]
[0,0,null,null,null,"",""]
[0,0,null,null,null,"",""]
[0,0,null,null,null,"",""]
[0,0,null,null,null,"",""]
[0,0,null,null,null,"",""]
[0,0,null,null,null,"",""]
[0,0,null,null,null,"",""]
[0,0,null,null,null,"",""]
[{"$f":"A$1561","v":0},{"$f":"B$1561","v":0},null,null,null,"",""]
[0,0,null,null,null,"",""]
[{"$f":"A$1561","v":0},0,null,null,null,"",""]
[0,0,null,null,null,"",""]
[0,0,null,null,null,"",""]
[0,0,null,null,null,"",""]
[0,0,null,null,null,"",""]
[0,0,null,null,null,"",""]
[0,0,null,null,null,"",""]
[0,0,null,null,null,"",""]
[0,0,null,null,null,"",""]
[0,0,null,null,null,"",""]
[0,0,null,null,null,"",""]
[0,0,null,null,null,"",""]
[0,0,null,null,null,"",""]
[null,null,null,{"$f":"IF(A1561=0,\"\",A1561)","v":""},null,"Subtotal Line 50",null,{"$f":"ROUND(SUM(G1531:G1560),2)","v":0}]
[null,null,null,"Total",null,"Total Labor (Office)",null,{"$f":"ROUND(SUM(H12:H1561),2)","v":0}]

{"sheet":"Labor Summary (Field)","index":8,"n_rows":1749,"n_cols":12,"rows_kept":1749,"cut":false,"hidden":false,"merged":[[1,8,1,10],[2,0,2,7],[4,0,4,7],[6,0,6,1],[6,2,6,3],[6,4,6,5],[6,6,6,7],[5,0,5,7],[41,5,41,6],[7,0,7,1],[7,2,7,3],[7,4,7,5],[7,6,7,7],[9,0,9,7],[72,5,72,6],[103,5,103,6],[134,5,134,6],[165,5,165,6],[196,5,196,6],[227,5,227,6],[258,5,258,6],[289,5,289,6],[320,5,320,6],[351,5,351,6],[382,5,382,6],[413,5,413,6],[444,5,444,6],[475,5,475,6],[506,5,506,6],[537,5,537,6],[568,5,568,6],[599,5,599,6],[630,5,630,6],[661,5,661,6],[692,5,692,6],[723,5,723,6],[754,5,754,6],[785,5,785,6],[816,5,816,6],[847,5,847,6],[878,5,878,6],[909,5,909,6],[940,5,940,6],[971,5,971,6],[1002,5,1002,6],[1033,5,1033,6],[1064,5,1064,6],[1095,5,1095,6],[1126,5,1126,6],[1157,5,1157,6],[1188,5,1188,6],[1219,5,1219,6],[1250,5,1250,6],[1281,5,1281,6],[1312,5,1312,6],[1343,5,1343,6],[1374,5,1374,6],[1405,5,1405,6],[1436,5,1436,6],[1467,5,1467,6],[1498,5,1498,6],[1529,5,1529,6],[1561,4,1561,6],[1560,5,1560,6]]}
[null,null,null,null,null,null,"Provider Invoice No.  ",{"$f":"Invoice!G1","v":0},null,null,null,"Monthly Submittal Cell"]
[null,null,null,null,null,null,"Combined Invoice Template Log No.  ",{"$f":"Invoice!G2","v":0},"Instructions",null,null,"Click link to see instructions for this tab"]
[]
[]
["LABOR SUMMARY (FIELD)"]
["SR-UC Payment Method"]
["Provider Name:  ",null,{"$f":"Invoice!C7","v":0},null,"Legacy Contract No.  ",null,{"$f":"Invoice!F7","v":0}]
["Provider ID No.  ",null,{"$f":"Invoice!C8","v":0},null,"Legacy WA No.",null,{"$f":"Invoice!F10","v":0}]
[]
["Labor Breakdown:"]
["Project \n(CSJ or Detail No.)","Source (Legacy FC)","Employee Name","Employee Staffing Category","No. of Hours","Contract Rate","Total Labor","Line Total by Project/Source"]
[{"$f":"A$42","v":0},{"$f":"B$42","v":0},null,null,null,{"$f":"IFERROR(VLOOKUP(D12,Staffing,2,FALSE),\"\")","v":""},{"$f":"IFERROR(ROUND(E12*F12,2),\"\")","v":""}]
[{"$f":"A$42","v":0},0,null,null,null,{"$f":"IFERROR(VLOOKUP(D13,Staffing,2,FALSE),\"\")","v":""},{"$f":"IFERROR(ROUND(E13*F13,2),\"\")","v":""}]
[0,0,null,null,null,"",""]
[0,0,null,null,null,"",""]
[0,0,null,null,null,"",""]
[0,0,null,null,null,"",""]
[0,0,null,null,null,"",""]
[0,0,null,null,null,"",""]
[0,0,null,null,null,"",""]
[0,0,null,null,null,"",""]
[0,0,null,null,null,"",""]
[0,0,null,null,null,"",""]
[0,0,null,null,null,"",""]
[0,0,null,null,null,"",""]
[0,0,null,null,null,"",""]
[{"$f":"A$42","v":0},{"$f":"B$42","v":0},null,null,null,"",""]
[0,0,null,null,null,"",""]
[{"$f":"A$42","v":0},0,null,null,null,"",""]
[0,0,null,null,null,"",""]
[0,0,null,null,null,"",""]
[0,0,null,null,null,"",""]
[0,0,null,null,null,"",""]
[0,0,null,null,null,"",""]
[0,0,null,null,null,"",""]
[0,0,null,null,null,"",""]
[0,0,null,null,null,"",""]
[0,0,null,null,null,"",""]
[0,0,null,null,null,"",""]
[0,0,null,null,null,"",""]
[0,0,null,null,null,"",""]
[{"$f":"'Labor Summary (Office)'!A42","v":0},{"$f":"'Labor Summary (Office)'!B42","v":0},null,{"$f":"IF(A42=0,\"\",A42)","v":""},null,"Subtotal Line 1",null,{"$f":"ROUND(SUM(G12:G41),2)","v":0}]
[{"$f":"A$73","v":0},{"$f":"B$73","v":0},null,null,null,{"$f":"IFERROR(VLOOKUP(D43,Staffing,2,FALSE),\"\")","v":""},{"$f":"IFERROR(ROUND(E43*F43,2),\"\")","v":""}]
[{"$f":"A$73","v":0},0,null,null,null,"",{"$f":"IFERROR(ROUND(E44*F44,2),\"\")","v":""}]
[0,0,null,null,null,"",""]
[0,0,null,null,null,"",""]
[0,0,null,null,null,"",""]
[0,0,null,null,null,"",""]
[0,0,null,null,null,"",""]
[0,0,null,null,null,"",""]
[0,0,null,null,null,"",""]
[0,0,null,null,null,"",""]
[0,0,null,null,null,"",""]
[0,0,null,null,null,"",""]
[0,0,null,null,null,"",""]
[0,0,null,null,null,"",""]
[0,0,null,null,null,"",""]
[0,0,null,null,null,"",""]
[0,0,null,null,null,"",""]
[0,0,null,null,null,"",""]
[0,0,null,null,null,"",""]
[0,0,null,null,null,"",""]
[0,0,null,null,null,"",""]
[0,0,null,null,null,"",""]
[0,0,null,null,null,"",""]
[0,0,null,null,null,"",""]
[0,0,null,null,null,"",""]
[0,0,null,null,null,"",""]
[0,0,null,null,null,"",""]
[0,0,null,null,null,"",""]
[0,0,null,null,null,"",""]
[0,0,null,null,null,"",""]
[{"$f":"'Labor Summary (Office)'!A73","v":0},{"$f":"'Labor Summary (Office)'!B73","v":0},null,{"$f":"IF(A73=0,\"\",A73)","v":""},null,"Subtotal Line 2",null,{"$f":"ROUND(SUM(G43:G72),2)","v":0}]
[{"$f":"A$104","v":0},{"$f":"B$104","v":0},null,null,null,{"$f":"IFERROR(VLOOKUP(D74,Staffing,2,FALSE),\"\")","v":""},{"$f":"IFERROR(ROUND(E74*F74,2),\"\")","v":""}]
[{"$f":"A$104","v":0},0,null,null,null,"",{"$f":"IFERROR(ROUND(E75*F75,2),\"\")","v":""}]
[0,0,null,null,null,"",""]
[0,0,null,null,null,"",""]
[0,0,null,null,null,"",""]
[0,0,null,null,null,"",""]
[0,0,null,null,null,"",""]
[0,0,null,null,null,"",""]
[0,0,null,null,null,"",""]
[0,0,null,null,null,"",""]
[0,0,null,null,null,"",""]
[0,0,null,null,null,"",""]
[0,0,null,null,null,"",""]
[0,0,null,null,null,"",""]
[0,0,null,null,null,"",""]
[0,0,null,null,null,"",""]
[0,0,null,null,null,"",""]
[0,0,null,null,null,"",""]
[0,0,null,null,null,"",""]
[0,0,null,null,null,"",""]
[0,0,null,null,null,"",""]
[0,0,null,null,null,"",""]
[0,0,null,null,null,"",""]
[0,0,null,null,null,"",""]
[0,0,null,null,null,"",""]
[0,0,null,null,null,"",""]
[0,0,null,null,null,"",""]
[0,0,null,null,null,"",""]
[0,0,null,null,null,"",""]
[0,0,null,null,null,"",""]
[{"$f":"'Labor Summary (Office)'!A104","v":0},{"$f":"'Labor Summary (Office)'!B104","v":0},null,{"$f":"IF(A104=0,\"\",A104)","v":""},null,"Subtotal Line 3",null,{"$f":"ROUND(SUM(G74:G103),2)","v":0}]
[{"$f":"A$135","v":0},{"$f":"B$135","v":0},null,null,null,{"$f":"IFERROR(VLOOKUP(D105,Staffing,2,FALSE),\"\")","v":""},{"$f":"IFERROR(ROUND(E105*F105,2),\"\")","v":""}]
[{"$f":"A$135","v":0},0,null,null,null,"",{"$f":"IFERROR(ROUND(E106*F106,2),\"\")","v":""}]
[0,0,null,null,null,"",""]
[0,0,null,null,null,"",""]
[0,0,null,null,null,"",""]
[0,0,null,null,null,"",""]
[0,0,null,null,null,"",""]
[0,0,null,null,null,"",""]
[0,0,null,null,null,"",""]
[0,0,null,null,null,"",""]
[0,0,null,null,null,"",""]
[0,0,null,null,null,"",""]
[0,0,null,null,null,"",""]
[0,0,null,null,null,"",""]
[0,0,null,null,null,"",""]
[0,0,null,null,null,"",""]
[0,0,null,null,null,"",""]
[0,0,null,null,null,"",""]
[0,0,null,null,null,"",""]
[0,0,null,null,null,"",""]
[0,0,null,null,null,"",""]
[0,0,null,null,null,"",""]
[0,0,null,null,null,"",""]
[0,0,null,null,null,"",""]
[0,0,null,null,null,"",""]
[0,0,null,null,null,"",""]
[0,0,null,null,null,"",""]
[0,0,null,null,null,"",""]
[0,0,null,null,null,"",""]
[0,0,null,null,null,"",""]
[{"$f":"'Labor Summary (Office)'!A135","v":0},{"$f":"'Labor Summary (Office)'!B135","v":0},null,{"$f":"IF(A135=0,\"\",A135)","v":""},null,"Subtotal Line 4",null,{"$f":"ROUND(SUM(G105:G134),2)","v":0}]
[{"$f":"A$166","v":0},{"$f":"B$166","v":0},null,null,null,{"$f":"IFERROR(VLOOKUP(D136,Staffing,2,FALSE),\"\")","v":""},{"$f":"IFERROR(ROUND(E136*F136,2),\"\")","v":""}]
[{"$f":"A$166","v":0},0,null,null,null,"",{"$f":"IFERROR(ROUND(E137*F137,2),\"\")","v":""}]
[0,0,null,null,null,"",""]
[0,0,null,null,null,"",""]
[0,0,null,null,null,"",""]
[0,0,null,null,null,"",""]
[0,0,null,null,null,"",""]
[0,0,null,null,null,"",""]
[0,0,null,null,null,"",""]
[0,0,null,null,null,"",""]
[0,0,null,null,null,"",""]
[0,0,null,null,null,"",""]
[0,0,null,null,null,"",""]
[0,0,null,null,null,"",""]
[0,0,null,null,null,"",""]
[0,0,null,null,null,"",""]
[0,0,null,null,null,"",""]
[0,0,null,null,null,"",""]
[0,0,null,null,null,"",""]
[0,0,null,null,null,"",""]
[0,0,null,null,null,"",""]
[0,0,null,null,null,"",""]
[0,0,null,null,null,"",""]
[0,0,null,null,null,"",""]
[0,0,null,null,null,"",""]
[0,0,null,null,null,"",""]
[0,0,null,null,null,"",""]
[0,0,null,null,null,"",""]
[0,0,null,null,null,"",""]
[0,0,null,null,null,"",""]
[{"$f":"'Labor Summary (Office)'!A166","v":0},{"$f":"'Labor Summary (Office)'!B166","v":0},null,{"$f":"IF(A166=0,\"\",A166)","v":""},null,"Subtotal Line 5",null,{"$f":"ROUND(SUM(G136:G165),2)","v":0}]
[{"$f":"A$197","v":0},{"$f":"B$197","v":0},null,null,null,{"$f":"IFERROR(VLOOKUP(D167,Staffing,2,FALSE),\"\")","v":""},{"$f":"IFERROR(ROUND(E167*F167,2),\"\")","v":""}]
[{"$f":"A$197","v":0},0,null,null,null,"",{"$f":"IFERROR(ROUND(E168*F168,2),\"\")","v":""}]
[0,0,null,null,null,"",""]
[0,0,null,null,null,"",""]
[0,0,null,null,null,"",""]
[0,0,null,null,null,"",""]
[0,0,null,null,null,"",""]
[0,0,null,null,null,"",""]
[0,0,null,null,null,"",""]
[0,0,null,null,null,"",""]
[0,0,null,null,null,"",""]
[0,0,null,null,null,"",""]
[0,0,null,null,null,"",""]
[0,0,null,null,null,"",""]
[0,0,null,null,null,"",""]
[0,0,null,null,null,"",""]
[0,0,null,null,null,"",""]
[0,0,null,null,null,"",""]
[0,0,null,null,null,"",""]
[0,0,null,null,null,"",""]
[0,0,null,null,null,"",""]
[0,0,null,null,null,"",""]
[0,0,null,null,null,"",""]
[0,0,null,null,null,"",""]
[0,0,null,null,null,"",""]
[0,0,null,null,null,"",""]
[0,0,null,null,null,"",""]
[0,0,null,null,null,"",""]
[0,0,null,null,null,"",""]
[0,0,null,null,null,"",""]
[{"$f":"'Labor Summary (Office)'!A197","v":0},{"$f":"'Labor Summary (Office)'!B197","v":0},null,{"$f":"IF(A197=0,\"\",A197)","v":""},null,"Subtotal Line 6",null,{"$f":"ROUND(SUM(G167:G196),2)","v":0}]
[{"$f":"A$228","v":0},{"$f":"B$228","v":0},null,null,null,{"$f":"IFERROR(VLOOKUP(D198,Staffing,2,FALSE),\"\")","v":""},{"$f":"IFERROR(ROUND(E198*F198,2),\"\")","v":""}]
[{"$f":"A$228","v":0},0,null,null,null,"",{"$f":"IFERROR(ROUND(E199*F199,2),\"\")","v":""}]
[0,0,null,null,null,"",""]
[0,0,null,null,null,"",""]
[0,0,null,null,null,"",""]
[0,0,null,null,null,"",""]
[0,0,null,null,null,"",""]
[0,0,null,null,null,"",""]
[0,0,null,null,null,"",""]
[0,0,null,null,null,"",""]
[0,0,null,null,null,"",""]
[0,0,null,null,null,"",""]
[0,0,null,null,null,"",""]
[0,0,null,null,null,"",""]
[0,0,null,null,null,"",""]
[0,0,null,null,null,"",""]
[0,0,null,null,null,"",""]
[0,0,null,null,null,"",""]
[0,0,null,null,null,"",""]
[0,0,null,null,null,"",""]
[0,0,null,null,null,"",""]
[0,0,null,null,null,"",""]
[0,0,null,null,null,"",""]
[0,0,null,null,null,"",""]
[0,0,null,null,null,"",""]
[0,0,null,null,null,"",""]
[0,0,null,null,null,"",""]
[0,0,null,null,null,"",""]
[0,0,null,null,null,"",""]
[0,0,null,null,null,"",""]
[{"$f":"'Labor Summary (Office)'!A228","v":0},{"$f":"'Labor Summary (Office)'!B228","v":0},null,{"$f":"IF(A228=0,\"\",A228)","v":""},null,"Subtotal Line 7",null,{"$f":"ROUND(SUM(G198:G227),2)","v":0}]
[{"$f":"A$259","v":0},{"$f":"B$259","v":0},null,null,null,{"$f":"IFERROR(VLOOKUP(D229,Staffing,2,FALSE),\"\")","v":""},{"$f":"IFERROR(ROUND(E229*F229,2),\"\")","v":""}]
[{"$f":"A$259","v":0},0,null,null,null,"",{"$f":"IFERROR(ROUND(E230*F230,2),\"\")","v":""}]
[0,0,null,null,null,"",""]
[0,0,null,null,null,"",""]
[0,0,null,null,null,"",""]
[0,0,null,null,null,"",""]
[0,0,null,null,null,"",""]
[0,0,null,null,null,"",""]
[0,0,null,null,null,"",""]
[0,0,null,null,null,"",""]
[0,0,null,null,null,"",""]
[0,0,null,null,null,"",""]
[0,0,null,null,null,"",""]
[0,0,null,null,null,"",""]
[0,0,null,null,null,"",""]
[0,0,null,null,null,"",""]
[0,0,null,null,null,"",""]
[0,0,null,null,null,"",""]
[0,0,null,null,null,"",""]
[0,0,null,null,null,"",""]
[0,0,null,null,null,"",""]
[0,0,null,null,null,"",""]
[0,0,null,null,null,"",""]
[0,0,null,null,null,"",""]
[0,0,null,null,null,"",""]
[0,0,null,null,null,"",""]
[0,0,null,null,null,"",""]
[0,0,null,null,null,"",""]
[0,0,null,null,null,"",""]
[0,0,null,null,null,"",""]
[{"$f":"'Labor Summary (Office)'!A259","v":0},{"$f":"'Labor Summary (Office)'!B259","v":0},null,{"$f":"IF(A259=0,\"\",A259)","v":""},null,"Subtotal Line 8",null,{"$f":"ROUND(SUM(G229:G258),2)","v":0}]
[{"$f":"A$290","v":0},{"$f":"B$290","v":0},null,null,null,{"$f":"IFERROR(VLOOKUP(D260,Staffing,2,FALSE),\"\")","v":""},{"$f":"IFERROR(ROUND(E260*F260,2),\"\")","v":""}]
[{"$f":"A$290","v":0},0,null,null,null,"",{"$f":"IFERROR(ROUND(E261*F261,2),\"\")","v":""}]
[0,0,null,null,null,"",""]
[0,0,null,null,null,"",""]
[0,0,null,null,null,"",""]
[0,0,null,null,null,"",""]
[0,0,null,null,null,"",""]
[0,0,null,null,null,"",""]
[0,0,null,null,null,"",""]
[0,0,null,null,null,"",""]
[0,0,null,null,null,"",""]
[0,0,null,null,null,"",""]
[0,0,null,null,null,"",""]
[0,0,null,null,null,"",""]
[0,0,null,null,null,"",""]
[0,0,null,null,null,"",""]
[0,0,null,null,null,"",""]
[0,0,null,null,null,"",""]
[0,0,null,null,null,"",""]
[0,0,null,null,null,"",""]
[0,0,null,null,null,"",""]
[0,0,null,null,null,"",""]
[0,0,null,null,null,"",""]
[0,0,null,null,null,"",""]
[0,0,null,null,null,"",""]
[0,0,null,null,null,"",""]
[0,0,null,null,null,"",""]
[0,0,null,null,null,"",""]
[0,0,null,null,null,"",""]
[0,0,null,null,null,"",""]
[{"$f":"'Labor Summary (Office)'!A290","v":0},{"$f":"'Labor Summary (Office)'!B290","v":0},null,{"$f":"IF(A290=0,\"\",A290)","v":""},null,"Subtotal Line 9",null,{"$f":"ROUND(SUM(G260:G289),2)","v":0}]
[{"$f":"A$321","v":0},{"$f":"B$321","v":0},null,null,null,{"$f":"IFERROR(VLOOKUP(D291,Staffing,2,FALSE),\"\")","v":""},{"$f":"IFERROR(ROUND(E291*F291,2),\"\")","v":""}]
[{"$f":"A$321","v":0},0,null,null,null,"",{"$f":"IFERROR(ROUND(E292*F292,2),\"\")","v":""}]
[0,0,null,null,null,"",""]
[0,0,null,null,null,"",""]
[0,0,null,null,null,"",""]
[0,0,null,null,null,"",""]
[0,0,null,null,null,"",""]
[0,0,null,null,null,"",""]
[0,0,null,null,null,"",""]
[0,0,null,null,null,"",""]
[0,0,null,null,null,"",""]
[0,0,null,null,null,"",""]
[0,0,null,null,null,"",""]
[0,0,null,null,null,"",""]
[0,0,null,null,null,"",""]
[{"$f":"A$321","v":0},{"$f":"B$321","v":0},null,null,null,"",""]
[0,0,null,null,null,"",""]
[{"$f":"A$321","v":0},0,null,null,null,"",""]
[0,0,null,null,null,"",""]
[0,0,null,null,null,"",""]
[0,0,null,null,null,"",""]
[0,0,null,null,null,"",""]
[0,0,null,null,null,"",""]
[0,0,null,null,null,"",""]
[0,0,null,null,null,"",""]
[0,0,null,null,null,"",""]
[0,0,null,null,null,"",""]
[0,0,null,null,null,"",""]
[0,0,null,null,null,"",""]
[0,0,null,null,null,"",""]
[{"$f":"'Labor Summary (Office)'!A321","v":0},{"$f":"'Labor Summary (Office)'!B321","v":0},null,{"$f":"IF(A321=0,\"\",A321)","v":""},null,"Subtotal Line 10",null,{"$f":"ROUND(SUM(G291:G320),2)","v":0}]
[{"$f":"A$352","v":0},{"$f":"B$352","v":0},null,null,null,{"$f":"IFERROR(VLOOKUP(D322,Staffing,2,FALSE),\"\")","v":""},{"$f":"IFERROR(ROUND(E322*F322,2),\"\")","v":""}]
[{"$f":"A$352","v":0},0,null,null,null,"",{"$f":"IFERROR(ROUND(E323*F323,2),\"\")","v":""}]
[0,0,null,null,null,"",""]
[0,0,null,null,null,"",""]
[0,0,null,null,null,"",""]
[0,0,null,null,null,"",""]
[0,0,null,null,null,"",""]
[0,0,null,null,null,"",""]
[0,0,null,null,null,"",""]
[0,0,null,null,null,"",""]
[0,0,null,null,null,"",""]
[0,0,null,null,null,"",""]
[0,0,null,null,null,"",""]
[0,0,null,null,null,"",""]
[0,0,null,null,null,"",""]
[{"$f":"A$352","v":0},{"$f":"B$352","v":0},null,null,null,"",""]
[0,0,null,null,null,"",""]
[{"$f":"A$352","v":0},0,null,null,null,"",""]
[0,0,null,null,null,"",""]
[0,0,null,null,null,"",""]
[0,0,null,null,null,"",""]
[0,0,null,null,null,"",""]
[0,0,null,null,null,"",""]
[0,0,null,null,null,"",""]
[0,0,null,null,null,"",""]
[0,0,null,null,null,"",""]
[0,0,null,null,null,"",""]
[0,0,null,null,null,"",""]
[0,0,null,null,null,"",""]
[0,0,null,null,null,"",""]
[{"$f":"'Labor Summary (Office)'!A352","v":0},{"$f":"'Labor Summary (Office)'!B352","v":0},null,{"$f":"IF(A352=0,\"\",A352)","v":""},null,"Subtotal Line 11",null,{"$f":"ROUND(SUM(G322:G351),2)","v":0}]
[{"$f":"A$383","v":0},{"$f":"B$383","v":0},null,null,null,{"$f":"IFERROR(VLOOKUP(D353,Staffing,2,FALSE),\"\")","v":""},{"$f":"IFERROR(ROUND(E353*F353,2),\"\")","v":""}]
[{"$f":"A$383","v":0},0,null,null,null,"",{"$f":"IFERROR(ROUND(E354*F354,2),\"\")","v":""}]
[0,0,null,null,null,"",""]
[0,0,null,null,null,"",""]
[0,0,null,null,null,"",""]
[0,0,null,null,null,"",""]
[0,0,null,null,null,"",""]
[0,0,null,null,null,"",""]
[0,0,null,null,null,"",""]
[0,0,null,null,null,"",""]
[0,0,null,null,null,"",""]
[0,0,null,null,null,"",""]
[0,0,null,null,null,"",""]
[0,0,null,null,null,"",""]
[0,0,null,null,null,"",""]
[{"$f":"A$383","v":0},{"$f":"B$383","v":0},null,null,null,"",""]
[0,0,null,null,null,"",""]
[{"$f":"A$383","v":0},0,null,null,null,"",""]
[0,0,null,null,null,"",""]
[0,0,null,null,null,"",""]
[0,0,null,null,null,"",""]
[0,0,null,null,null,"",""]
[0,0,null,null,null,"",""]
[0,0,null,null,null,"",""]
[0,0,null,null,null,"",""]
[0,0,null,null,null,"",""]
[0,0,null,null,null,"",""]
[0,0,null,null,null,"",""]
[0,0,null,null,null,"",""]
[0,0,null,null,null,"",""]
[{"$f":"'Labor Summary (Office)'!A383","v":0},{"$f":"'Labor Summary (Office)'!B383","v":0},null,{"$f":"IF(A383=0,\"\",A383)","v":""},null,"Subtotal Line 12",null,{"$f":"ROUND(SUM(G353:G382),2)","v":0}]
[{"$f":"A$414","v":0},0,null,null,null,{"$f":"IFERROR(VLOOKUP(D384,Staffing,2,FALSE),\"\")","v":""},{"$f":"IFERROR(ROUND(E384*F384,2),\"\")","v":""}]
[0,0,null,null,null,"",{"$f":"IFERROR(ROUND(E385*F385,2),\"\")","v":""}]
[0,0,null,null,null,"",""]
[0,0,null,null,null,"",""]
[0,0,null,null,null,"",""]
[0,0,null,null,null,"",""]
[0,0,null,null,null,"",""]
[0,0,null,null,null,"",""]
[0,0,null,null,null,"",""]
[0,0,null,null,null,"",""]
[0,0,null,null,null,"",""]
[0,0,null,null,null,"",""]
[0,0,null,null,null,"",""]
[0,0,null,null,null,"",""]
[0,0,null,null,null,"",""]
[0,0,null,null,null,"",""]
[0,0,null,null,null,"",""]
[0,0,null,null,null,"",""]
[0,0,null,null,null,"",""]
[0,0,null,null,null,"",""]
[0,0,null,null,null,"",""]
[0,0,null,null,null,"",""]
[0,0,null,null,null,"",""]
[0,0,null,null,null,"",""]
[0,0,null,null,null,"",""]
[0,0,null,null,null,"",""]
[0,0,null,null,null,"",""]
[0,0,null,null,null,"",""]
[0,0,null,null,null,"",""]
[0,0,null,null,null,"",""]
[{"$f":"'Labor Summary (Office)'!A414","v":0},{"$f":"'Labor Summary (Office)'!B414","v":0},null,{"$f":"IF(A414=0,\"\",A414)","v":""},null,"Subtotal Line 13",null,{"$f":"ROUND(SUM(G384:G413),2)","v":0}]
[{"$f":"A$445","v":0},0,null,null,null,{"$f":"IFERROR(VLOOKUP(D415,Staffing,2,FALSE),\"\")","v":""},{"$f":"IFERROR(ROUND(E415*F415,2),\"\")","v":""}]
[0,0,null,null,null,"",{"$f":"IFERROR(ROUND(E416*F416,2),\"\")","v":""}]
[0,0,null,null,null,"",""]
[0,0,null,null,null,"",""]
[0,0,null,null,null,"",""]
[0,0,null,null,null,"",""]
[0,0,null,null,null,"",""]
[0,0,null,null,null,"",""]
[0,0,null,null,null,"",""]
[0,0,null,null,null,"",""]
[0,0,null,null,null,"",""]
[0,0,null,null,null,"",""]
[0,0,null,null,null,"",""]
[0,0,null,null,null,"",""]
[0,0,null,null,null,"",""]
[0,0,null,null,null,"",""]
[0,0,null,null,null,"",""]
[0,0,null,null,null,"",""]
[0,0,null,null,null,"",""]
[0,0,null,null,null,"",""]
[0,0,null,null,null,"",""]
[0,0,null,null,null,"",""]
[0,0,null,null,null,"",""]
[0,0,null,null,null,"",""]
[0,0,null,null,null,"",""]
[0,0,null,null,null,"",""]
[0,0,null,null,null,"",""]
[0,0,null,null,null,"",""]
[0,0,null,null,null,"",""]
[0,0,null,null,null,"",""]
[{"$f":"'Labor Summary (Office)'!A445","v":0},{"$f":"'Labor Summary (Office)'!B445","v":0},null,{"$f":"IF(A445=0,\"\",A445)","v":""},null,"Subtotal Line 14",null,{"$f":"ROUND(SUM(G415:G444),2)","v":0}]
[{"$f":"A$476","v":0},0,null,null,null,{"$f":"IFERROR(VLOOKUP(D446,Staffing,2,FALSE),\"\")","v":""},{"$f":"IFERROR(ROUND(E446*F446,2),\"\")","v":""}]
[0,0,null,null,null,"",{"$f":"IFERROR(ROUND(E447*F447,2),\"\")","v":""}]
[0,0,null,null,null,"",""]
[0,0,null,null,null,"",""]
[0,0,null,null,null,"",""]
[0,0,null,null,null,"",""]
[0,0,null,null,null,"",""]
[0,0,null,null,null,"",""]
[0,0,null,null,null,"",""]
[0,0,null,null,null,"",""]
[0,0,null,null,null,"",""]
[0,0,null,null,null,"",""]
[0,0,null,null,null,"",""]
[0,0,null,null,null,"",""]
[0,0,null,null,null,"",""]
[0,0,null,null,null,"",""]
[0,0,null,null,null,"",""]
[0,0,null,null,null,"",""]
[0,0,null,null,null,"",""]
[0,0,null,null,null,"",""]
[0,0,null,null,null,"",""]
[0,0,null,null,null,"",""]
[0,0,null,null,null,"",""]
[0,0,null,null,null,"",""]
[0,0,null,null,null,"",""]
[0,0,null,null,null,"",""]
[0,0,null,null,null,"",""]
[0,0,null,null,null,"",""]
[0,0,null,null,null,"",""]
[0,0,null,null,null,"",""]
[{"$f":"'Labor Summary (Office)'!A476","v":0},{"$f":"'Labor Summary (Office)'!B476","v":0},null,{"$f":"IF(A476=0,\"\",A476)","v":""},null,"Subtotal Line 15",null,{"$f":"ROUND(SUM(G446:G475),2)","v":0}]
[{"$f":"A$507","v":0},0,null,null,null,{"$f":"IFERROR(VLOOKUP(D477,Staffing,2,FALSE),\"\")","v":""},{"$f":"IFERROR(ROUND(E477*F477,2),\"\")","v":""}]
[0,0,null,null,null,"",{"$f":"IFERROR(ROUND(E478*F478,2),\"\")","v":""}]
[0,0,null,null,null,"",""]
[0,0,null,null,null,"",""]
[0,0,null,null,null,"",""]
[0,0,null,null,null,"",""]
[0,0,null,null,null,"",""]
[0,0,null,null,null,"",""]
[0,0,null,null,null,"",""]
[0,0,null,null,null,"",""]
[0,0,null,null,null,"",""]
[0,0,null,null,null,"",""]
[0,0,null,null,null,"",""]
[0,0,null,null,null,"",""]
[0,0,null,null,null,"",""]
[0,0,null,null,null,"",""]
[0,0,null,null,null,"",""]
[0,0,null,null,null,"",""]
[0,0,null,null,null,"",""]
[0,0,null,null,null,"",""]
[0,0,null,null,null,"",""]
[0,0,null,null,null,"",""]
[0,0,null,null,null,"",""]
[0,0,null,null,null,"",""]
[0,0,null,null,null,"",""]
[0,0,null,null,null,"",""]
[0,0,null,null,null,"",""]
[0,0,null,null,null,"",""]
[0,0,null,null,null,"",""]
[0,0,null,null,null,"",""]
[{"$f":"'Labor Summary (Office)'!A507","v":0},{"$f":"'Labor Summary (Office)'!B507","v":0},null,{"$f":"IF(A507=0,\"\",A507)","v":""},null,"Subtotal Line 16",null,{"$f":"ROUND(SUM(G477:G506),2)","v":0}]
[{"$f":"A$538","v":0},0,null,null,null,{"$f":"IFERROR(VLOOKUP(D508,Staffing,2,FALSE),\"\")","v":""},{"$f":"IFERROR(ROUND(E508*F508,2),\"\")","v":""}]
[0,0,null,null,null,"",{"$f":"IFERROR(ROUND(E509*F509,2),\"\")","v":""}]
[0,0,null,null,null,"",""]
[0,0,null,null,null,"",""]
[0,0,null,null,null,"",""]
[0,0,null,null,null,"",""]
[0,0,null,null,null,"",""]
[0,0,null,null,null,"",""]
[0,0,null,null,null,"",""]
[0,0,null,null,null,"",""]
[0,0,null,null,null,"",""]
[0,0,null,null,null,"",""]
[0,0,null,null,null,"",""]
[0,0,null,null,null,"",""]
[0,0,null,null,null,"",""]
[0,0,null,null,null,"",""]
[0,0,null,null,null,"",""]
[0,0,null,null,null,"",""]
[0,0,null,null,null,"",""]
[0,0,null,null,null,"",""]
[0,0,null,null,null,"",""]
[0,0,null,null,null,"",""]
[0,0,null,null,null,"",""]
[0,0,null,null,null,"",""]
[0,0,null,null,null,"",""]
[0,0,null,null,null,"",""]
[0,0,null,null,null,"",""]
[0,0,null,null,null,"",""]
[0,0,null,null,null,"",""]
[0,0,null,null,null,"",""]
[{"$f":"'Labor Summary (Office)'!A538","v":0},{"$f":"'Labor Summary (Office)'!B538","v":0},null,{"$f":"IF(A538=0,\"\",A538)","v":""},null,"Subtotal Line 17",null,{"$f":"ROUND(SUM(G508:G537),2)","v":0}]
[{"$f":"A$569","v":0},0,null,null,null,{"$f":"IFERROR(VLOOKUP(D539,Staffing,2,FALSE),\"\")","v":""},{"$f":"IFERROR(ROUND(E539*F539,2),\"\")","v":""}]
[0,0,null,null,null,"",{"$f":"IFERROR(ROUND(E540*F540,2),\"\")","v":""}]
[0,0,null,null,null,"",""]
[0,0,null,null,null,"",""]
[0,0,null,null,null,"",""]
[0,0,null,null,null,"",""]
[0,0,null,null,null,"",""]
[0,0,null,null,null,"",""]
[0,0,null,null,null,"",""]
[0,0,null,null,null,"",""]
[0,0,null,null,null,"",""]
[0,0,null,null,null,"",""]
[0,0,null,null,null,"",""]
[0,0,null,null,null,"",""]
[0,0,null,null,null,"",""]
[0,0,null,null,null,"",""]
[0,0,null,null,null,"",""]
[0,0,null,null,null,"",""]
[0,0,null,null,null,"",""]
[0,0,null,null,null,"",""]
[0,0,null,null,null,"",""]
[0,0,null,null,null,"",""]
[0,0,null,null,null,"",""]
[0,0,null,null,null,"",""]
[0,0,null,null,null,"",""]
[0,0,null,null,null,"",""]
[0,0,null,null,null,"",""]
[0,0,null,null,null,"",""]
[0,0,null,null,null,"",""]
[0,0,null,null,null,"",""]
[{"$f":"'Labor Summary (Office)'!A569","v":0},{"$f":"'Labor Summary (Office)'!B569","v":0},null,{"$f":"IF(A569=0,\"\",A569)","v":""},null,"Subtotal Line 18",null,{"$f":"ROUND(SUM(G539:G568),2)","v":0}]
[{"$f":"A$600","v":0},{"$f":"B$600","v":0},null,null,null,{"$f":"IFERROR(VLOOKUP(D570,Staffing,2,FALSE),\"\")","v":""},{"$f":"IFERROR(ROUND(E570*F570,2),\"\")","v":""}]
[{"$f":"A$600","v":0},0,null,null,null,"",{"$f":"IFERROR(ROUND(E571*F571,2),\"\")","v":""}]
[0,0,null,null,null,"",""]
[0,0,null,null,null,"",""]
[0,0,null,null,null,"",""]
[0,0,null,null,null,"",""]
[0,0,null,null,null,"",""]
[0,0,null,null,null,"",""]
[0,0,null,null,null,"",""]
[0,0,null,null,null,"",""]
[0,0,null,null,null,"",""]
[0,0,null,null,null,"",""]
[0,0,null,null,null,"",""]
[0,0,null,null,null,"",""]
[0,0,null,null,null,"",""]
[0,0,null,null,null,"",""]
[0,0,null,null,null,"",""]
[0,0,null,null,null,"",""]
[0,0,null,null,null,"",""]
[0,0,null,null,null,"",""]
[0,0,null,null,null,"",""]
[0,0,null,null,null,"",""]
[0,0,null,null,null,"",""]
[0,0,null,null,null,"",""]
[0,0,null,null,null,"",""]
[0,0,null,null,null,"",""]
[0,0,null,null,null,"",""]
[0,0,null,null,null,"",""]
[0,0,null,null,null,"",""]
[0,0,null,null,null,"",""]
[{"$f":"'Labor Summary (Office)'!A600","v":0},{"$f":"'Labor Summary (Office)'!B600","v":0},null,{"$f":"IF(A600=0,\"\",A600)","v":""},null,"Subtotal Line 19",null,{"$f":"ROUND(SUM(G570:G599),2)","v":0}]
[{"$f":"A$631","v":0},0,null,null,null,{"$f":"IFERROR(VLOOKUP(D601,Staffing,2,FALSE),\"\")","v":""},{"$f":"IFERROR(ROUND(E601*F601,2),\"\")","v":""}]
[0,0,null,null,null,"",{"$f":"IFERROR(ROUND(E602*F602,2),\"\")","v":""}]
[0,0,null,null,null,"",""]
[0,0,null,null,null,"",""]
[0,0,null,null,null,"",""]
[0,0,null,null,null,"",""]
[0,0,null,null,null,"",""]
[0,0,null,null,null,"",""]
[0,0,null,null,null,"",""]
[0,0,null,null,null,"",""]
[0,0,null,null,null,"",""]
[0,0,null,null,null,"",""]
[0,0,null,null,null,"",""]
[0,0,null,null,null,"",""]
[0,0,null,null,null,"",""]
[0,0,null,null,null,"",""]
[0,0,null,null,null,"",""]
[0,0,null,null,null,"",""]
[0,0,null,null,null,"",""]
[0,0,null,null,null,"",""]
[0,0,null,null,null,"",""]
[0,0,null,null,null,"",""]
[0,0,null,null,null,"",""]
[0,0,null,null,null,"",""]
[0,0,null,null,null,"",""]
[0,0,null,null,null,"",""]
[0,0,null,null,null,"",""]
[0,0,null,null,null,"",""]
[0,0,null,null,null,"",""]
[0,0,null,null,null,"",""]
[{"$f":"'Labor Summary (Office)'!A631","v":0},{"$f":"'Labor Summary (Office)'!B631","v":0},null,{"$f":"IF(A631=0,\"\",A631)","v":""},null,"Subtotal Line 20",null,{"$f":"ROUND(SUM(G601:G630),2)","v":0}]
[{"$f":"A$662","v":0},0,null,null,null,{"$f":"IFERROR(VLOOKUP(D632,Staffing,2,FALSE),\"\")","v":""},{"$f":"IFERROR(ROUND(E632*F632,2),\"\")","v":""}]
[0,0,null,null,null,"",{"$f":"IFERROR(ROUND(E633*F633,2),\"\")","v":""}]
[0,0,null,null,null,"",""]
[0,0,null,null,null,"",""]
[0,0,null,null,null,"",""]
[0,0,null,null,null,"",""]
[0,0,null,null,null,"",""]
[0,0,null,null,null,"",""]
[0,0,null,null,null,"",""]
[0,0,null,null,null,"",""]
[0,0,null,null,null,"",""]
[0,0,null,null,null,"",""]
[0,0,null,null,null,"",""]
[0,0,null,null,null,"",""]
[0,0,null,null,null,"",""]
[0,0,null,null,null,"",""]
[0,0,null,null,null,"",""]
[0,0,null,null,null,"",""]
[0,0,null,null,null,"",""]
[0,0,null,null,null,"",""]
[0,0,null,null,null,"",""]
[0,0,null,null,null,"",""]
[0,0,null,null,null,"",""]
[0,0,null,null,null,"",""]
[0,0,null,null,null,"",""]
[0,0,null,null,null,"",""]
[0,0,null,null,null,"",""]
[0,0,null,null,null,"",""]
[0,0,null,null,null,"",""]
[0,0,null,null,null,"",""]
[{"$f":"'Labor Summary (Office)'!A662","v":0},{"$f":"'Labor Summary (Office)'!B662","v":0},null,{"$f":"IF(A662=0,\"\",A662)","v":""},null,"Subtotal Line 21",null,{"$f":"ROUND(SUM(G632:G661),2)","v":0}]
[{"$f":"A$693","v":0},0,null,null,null,{"$f":"IFERROR(VLOOKUP(D663,Staffing,2,FALSE),\"\")","v":""},{"$f":"IFERROR(ROUND(E663*F663,2),\"\")","v":""}]
[0,0,null,null,null,"",{"$f":"IFERROR(ROUND(E664*F664,2),\"\")","v":""}]
[0,0,null,null,null,"",""]
[0,0,null,null,null,"",""]
[0,0,null,null,null,"",""]
[0,0,null,null,null,"",""]
[0,0,null,null,null,"",""]
[0,0,null,null,null,"",""]
[0,0,null,null,null,"",""]
[0,0,null,null,null,"",""]
[0,0,null,null,null,"",""]
[0,0,null,null,null,"",""]
[0,0,null,null,null,"",""]
[0,0,null,null,null,"",""]
[0,0,null,null,null,"",""]
[0,0,null,null,null,"",""]
[0,0,null,null,null,"",""]
[0,0,null,null,null,"",""]
[0,0,null,null,null,"",""]
[0,0,null,null,null,"",""]
[0,0,null,null,null,"",""]
[0,0,null,null,null,"",""]
[0,0,null,null,null,"",""]
[0,0,null,null,null,"",""]
[0,0,null,null,null,"",""]
[0,0,null,null,null,"",""]
[0,0,null,null,null,"",""]
[0,0,null,null,null,"",""]
[0,0,null,null,null,"",""]
[0,0,null,null,null,"",""]
[{"$f":"'Labor Summary (Office)'!A693","v":0},{"$f":"'Labor Summary (Office)'!B693","v":0},null,{"$f":"IF(A693=0,\"\",A693)","v":""},null,"Subtotal Line 22",null,{"$f":"ROUND(SUM(G663:G692),2)","v":0}]
[{"$f":"A$724","v":0},0,null,null,null,{"$f":"IFERROR(VLOOKUP(D694,Staffing,2,FALSE),\"\")","v":""},{"$f":"IFERROR(ROUND(E694*F694,2),\"\")","v":""}]
[0,0,null,null,null,"",{"$f":"IFERROR(ROUND(E695*F695,2),\"\")","v":""}]
[0,0,null,null,null,"",""]
[0,0,null,null,null,"",""]
[0,0,null,null,null,"",""]
[0,0,null,null,null,"",""]
[0,0,null,null,null,"",""]
[0,0,null,null,null,"",""]
[0,0,null,null,null,"",""]
[0,0,null,null,null,"",""]
[0,0,null,null,null,"",""]
[0,0,null,null,null,"",""]
[0,0,null,null,null,"",""]
[0,0,null,null,null,"",""]
[0,0,null,null,null,"",""]
[0,0,null,null,null,"",""]
[0,0,null,null,null,"",""]
[0,0,null,null,null,"",""]
[0,0,null,null,null,"",""]
[0,0,null,null,null,"",""]
[0,0,null,null,null,"",""]
[0,0,null,null,null,"",""]
[0,0,null,null,null,"",""]
[0,0,null,null,null,"",""]
[0,0,null,null,null,"",""]
[0,0,null,null,null,"",""]
[0,0,null,null,null,"",""]
[0,0,null,null,null,"",""]
[0,0,null,null,null,"",""]
[0,0,null,null,null,"",""]
[{"$f":"'Labor Summary (Office)'!A724","v":0},{"$f":"'Labor Summary (Office)'!B724","v":0},null,{"$f":"IF(A724=0,\"\",A724)","v":""},null,"Subtotal Line 23",null,{"$f":"ROUND(SUM(G694:G723),2)","v":0}]
[{"$f":"A$755","v":0},0,null,null,null,{"$f":"IFERROR(VLOOKUP(D725,Staffing,2,FALSE),\"\")","v":""},{"$f":"IFERROR(ROUND(E725*F725,2),\"\")","v":""}]
[0,0,null,null,null,"",{"$f":"IFERROR(ROUND(E726*F726,2),\"\")","v":""}]
[0,0,null,null,null,"",""]
[0,0,null,null,null,"",""]
[0,0,null,null,null,"",""]
[0,0,null,null,null,"",""]
[0,0,null,null,null,"",""]
[0,0,null,null,null,"",""]
[0,0,null,null,null,"",""]
[0,0,null,null,null,"",""]
[0,0,null,null,null,"",""]
[0,0,null,null,null,"",""]
[0,0,null,null,null,"",""]
[0,0,null,null,null,"",""]
[0,0,null,null,null,"",""]
[0,0,null,null,null,"",""]
[0,0,null,null,null,"",""]
[0,0,null,null,null,"",""]
[0,0,null,null,null,"",""]
[0,0,null,null,null,"",""]
[0,0,null,null,null,"",""]
[0,0,null,null,null,"",""]
[0,0,null,null,null,"",""]
[0,0,null,null,null,"",""]
[0,0,null,null,null,"",""]
[0,0,null,null,null,"",""]
[0,0,null,null,null,"",""]
[0,0,null,null,null,"",""]
[0,0,null,null,null,"",""]
[0,0,null,null,null,"",""]
[{"$f":"'Labor Summary (Office)'!A755","v":0},{"$f":"'Labor Summary (Office)'!B755","v":0},null,{"$f":"IF(A755=0,\"\",A755)","v":""},null,"Subtotal Line 24",null,{"$f":"ROUND(SUM(G725:G754),2)","v":0}]
[{"$f":"A$786","v":0},0,null,null,null,{"$f":"IFERROR(VLOOKUP(D756,Staffing,2,FALSE),\"\")","v":""},{"$f":"IFERROR(ROUND(E756*F756,2),\"\")","v":""}]
[0,0,null,null,null,"",{"$f":"IFERROR(ROUND(E757*F757,2),\"\")","v":""}]
[0,0,null,null,null,"",""]
[0,0,null,null,null,"",""]
[0,0,null,null,null,"",""]
[0,0,null,null,null,"",""]
[0,0,null,null,null,"",""]
[0,0,null,null,null,"",""]
[0,0,null,null,null,"",""]
[0,0,null,null,null,"",""]
[0,0,null,null,null,"",""]
[0,0,null,null,null,"",""]
[0,0,null,null,null,"",""]
[0,0,null,null,null,"",""]
[0,0,null,null,null,"",""]
[0,0,null,null,null,"",""]
[0,0,null,null,null,"",""]
[0,0,null,null,null,"",""]
[0,0,null,null,null,"",""]
[0,0,null,null,null,"",""]
[0,0,null,null,null,"",""]
[0,0,null,null,null,"",""]
[0,0,null,null,null,"",""]
[0,0,null,null,null,"",""]
[0,0,null,null,null,"",""]
[0,0,null,null,null,"",""]
[0,0,null,null,null,"",""]
[0,0,null,null,null,"",""]
[0,0,null,null,null,"",""]
[0,0,null,null,null,"",""]
[{"$f":"'Labor Summary (Office)'!A786","v":0},{"$f":"'Labor Summary (Office)'!B786","v":0},null,{"$f":"IF(A786=0,\"\",A786)","v":""},null,"Subtotal Line 25",null,{"$f":"ROUND(SUM(G756:G785),2)","v":0}]
[{"$f":"A$817","v":0},0,null,null,null,{"$f":"IFERROR(VLOOKUP(D787,Staffing,2,FALSE),\"\")","v":""},{"$f":"IFERROR(ROUND(E787*F787,2),\"\")","v":""}]
[0,0,null,null,null,"",{"$f":"IFERROR(ROUND(E788*F788,2),\"\")","v":""}]
[0,0,null,null,null,"",""]
[0,0,null,null,null,"",""]
[0,0,null,null,null,"",""]
[0,0,null,null,null,"",""]
[0,0,null,null,null,"",""]
[0,0,null,null,null,"",""]
[0,0,null,null,null,"",""]
[0,0,null,null,null,"",""]
[0,0,null,null,null,"",""]
[0,0,null,null,null,"",""]
[0,0,null,null,null,"",""]
[0,0,null,null,null,"",""]
[0,0,null,null,null,"",""]
[0,0,null,null,null,"",""]
[0,0,null,null,null,"",""]
[0,0,null,null,null,"",""]
[0,0,null,null,null,"",""]
[0,0,null,null,null,"",""]
[0,0,null,null,null,"",""]
[0,0,null,null,null,"",""]
[0,0,null,null,null,"",""]
[0,0,null,null,null,"",""]
[0,0,null,null,null,"",""]
[0,0,null,null,null,"",""]
[0,0,null,null,null,"",""]
[0,0,null,null,null,"",""]
[0,0,null,null,null,"",""]
[0,0,null,null,null,"",""]
[{"$f":"'Labor Summary (Office)'!A817","v":0},{"$f":"'Labor Summary (Office)'!B817","v":0},null,{"$f":"IF(A817=0,\"\",A817)","v":""},null,"Subtotal Line 26",null,{"$f":"ROUND(SUM(G787:G816),2)","v":0}]
[{"$f":"A$848","v":0},0,null,null,null,{"$f":"IFERROR(VLOOKUP(D818,Staffing,2,FALSE),\"\")","v":""},{"$f":"IFERROR(ROUND(E818*F818,2),\"\")","v":""}]
[0,0,null,null,null,"",{"$f":"IFERROR(ROUND(E819*F819,2),\"\")","v":""}]
[0,0,null,null,null,"",""]
[0,0,null,null,null,"",""]
[0,0,null,null,null,"",""]
[0,0,null,null,null,"",""]
[0,0,null,null,null,"",""]
[0,0,null,null,null,"",""]
[0,0,null,null,null,"",""]
[0,0,null,null,null,"",""]
[0,0,null,null,null,"",""]
[0,0,null,null,null,"",""]
[0,0,null,null,null,"",""]
[0,0,null,null,null,"",""]
[0,0,null,null,null,"",""]
[0,0,null,null,null,"",""]
[0,0,null,null,null,"",""]
[0,0,null,null,null,"",""]
[0,0,null,null,null,"",""]
[0,0,null,null,null,"",""]
[0,0,null,null,null,"",""]
[0,0,null,null,null,"",""]
[0,0,null,null,null,"",""]
[0,0,null,null,null,"",""]
[0,0,null,null,null,"",""]
[0,0,null,null,null,"",""]
[0,0,null,null,null,"",""]
[0,0,null,null,null,"",""]
[0,0,null,null,null,"",""]
[0,0,null,null,null,"",""]
[{"$f":"'Labor Summary (Office)'!A848","v":0},{"$f":"'Labor Summary (Office)'!B848","v":0},null,{"$f":"IF(A848=0,\"\",A848)","v":""},null,"Subtotal Line 27",null,{"$f":"ROUND(SUM(G818:G847),2)","v":0}]
[{"$f":"A$879","v":0},0,null,null,null,{"$f":"IFERROR(VLOOKUP(D849,Staffing,2,FALSE),\"\")","v":""},{"$f":"IFERROR(ROUND(E849*F849,2),\"\")","v":""}]
[0,0,null,null,null,"",{"$f":"IFERROR(ROUND(E850*F850,2),\"\")","v":""}]
[0,0,null,null,null,"",""]
[0,0,null,null,null,"",""]
[0,0,null,null,null,"",""]
[0,0,null,null,null,"",""]
[0,0,null,null,null,"",""]
[0,0,null,null,null,"",""]
[0,0,null,null,null,"",""]
[0,0,null,null,null,"",""]
[0,0,null,null,null,"",""]
[0,0,null,null,null,"",""]
[0,0,null,null,null,"",""]
[0,0,null,null,null,"",""]
[0,0,null,null,null,"",""]
[0,0,null,null,null,"",""]
[0,0,null,null,null,"",""]
[0,0,null,null,null,"",""]
[0,0,null,null,null,"",""]
[0,0,null,null,null,"",""]
[0,0,null,null,null,"",""]
[0,0,null,null,null,"",""]
[0,0,null,null,null,"",""]
[0,0,null,null,null,"",""]
[0,0,null,null,null,"",""]
[0,0,null,null,null,"",""]
[0,0,null,null,null,"",""]
[0,0,null,null,null,"",""]
[0,0,null,null,null,"",""]
[0,0,null,null,null,"",""]
[{"$f":"'Labor Summary (Office)'!A879","v":0},{"$f":"'Labor Summary (Office)'!B879","v":0},null,{"$f":"IF(A879=0,\"\",A879)","v":""},null,"Subtotal Line 28",null,{"$f":"ROUND(SUM(G849:G878),2)","v":0}]
[{"$f":"A$910","v":0},0,null,null,null,{"$f":"IFERROR(VLOOKUP(D880,Staffing,2,FALSE),\"\")","v":""},{"$f":"IFERROR(ROUND(E880*F880,2),\"\")","v":""}]
[0,0,null,null,null,"",{"$f":"IFERROR(ROUND(E881*F881,2),\"\")","v":""}]
[0,0,null,null,null,"",""]
[0,0,null,null,null,"",""]
[0,0,null,null,null,"",""]
[0,0,null,null,null,"",""]
[0,0,null,null,null,"",""]
[0,0,null,null,null,"",""]
[0,0,null,null,null,"",""]
[0,0,null,null,null,"",""]
[0,0,null,null,null,"",""]
[0,0,null,null,null,"",""]
[0,0,null,null,null,"",""]
[0,0,null,null,null,"",""]
[0,0,null,null,null,"",""]
[0,0,null,null,null,"",""]
[0,0,null,null,null,"",""]
[0,0,null,null,null,"",""]
[0,0,null,null,null,"",""]
[0,0,null,null,null,"",""]
[0,0,null,null,null,"",""]
[0,0,null,null,null,"",""]
[0,0,null,null,null,"",""]
[0,0,null,null,null,"",""]
[0,0,null,null,null,"",""]
[0,0,null,null,null,"",""]
[0,0,null,null,null,"",""]
[0,0,null,null,null,"",""]
[0,0,null,null,null,"",""]
[0,0,null,null,null,"",""]
[{"$f":"'Labor Summary (Office)'!A910","v":0},{"$f":"'Labor Summary (Office)'!B910","v":0},null,{"$f":"IF(A910=0,\"\",A910)","v":""},null,"Subtotal Line 29",null,{"$f":"ROUND(SUM(G880:G909),2)","v":0}]
[{"$f":"A$941","v":0},0,null,null,null,{"$f":"IFERROR(VLOOKUP(D911,Staffing,2,FALSE),\"\")","v":""},{"$f":"IFERROR(ROUND(E911*F911,2),\"\")","v":""}]
[0,0,null,null,null,"",{"$f":"IFERROR(ROUND(E912*F912,2),\"\")","v":""}]
[0,0,null,null,null,"",""]
[0,0,null,null,null,"",""]
[0,0,null,null,null,"",""]
[0,0,null,null,null,"",""]
[0,0,null,null,null,"",""]
[0,0,null,null,null,"",""]
[0,0,null,null,null,"",""]
[0,0,null,null,null,"",""]
[0,0,null,null,null,"",""]
[0,0,null,null,null,"",""]
[0,0,null,null,null,"",""]
[0,0,null,null,null,"",""]
[0,0,null,null,null,"",""]
[0,0,null,null,null,"",""]
[0,0,null,null,null,"",""]
[0,0,null,null,null,"",""]
[0,0,null,null,null,"",""]
[0,0,null,null,null,"",""]
[0,0,null,null,null,"",""]
[0,0,null,null,null,"",""]
[0,0,null,null,null,"",""]
[0,0,null,null,null,"",""]
[0,0,null,null,null,"",""]
[0,0,null,null,null,"",""]
[0,0,null,null,null,"",""]
[0,0,null,null,null,"",""]
[0,0,null,null,null,"",""]
[0,0,null,null,null,"",""]
[{"$f":"'Labor Summary (Office)'!A941","v":0},{"$f":"'Labor Summary (Office)'!B941","v":0},null,{"$f":"IF(A941=0,\"\",A941)","v":""},null,"Subtotal Line 30",null,{"$f":"ROUND(SUM(G911:G940),2)","v":0}]
[{"$f":"A$972","v":0},0,null,null,null,{"$f":"IFERROR(VLOOKUP(D942,Staffing,2,FALSE),\"\")","v":""},{"$f":"IFERROR(ROUND(E942*F942,2),\"\")","v":""}]
[0,0,null,null,null,"",{"$f":"IFERROR(ROUND(E943*F943,2),\"\")","v":""}]
[0,0,null,null,null,"",""]
[0,0,null,null,null,"",""]
[0,0,null,null,null,"",""]
[0,0,null,null,null,"",""]
[0,0,null,null,null,"",""]
[0,0,null,null,null,"",""]
[0,0,null,null,null,"",""]
[0,0,null,null,null,"",""]
[0,0,null,null,null,"",""]
[0,0,null,null,null,"",""]
[0,0,null,null,null,"",""]
[0,0,null,null,null,"",""]
[0,0,null,null,null,"",""]
[0,0,null,null,null,"",""]
[0,0,null,null,null,"",""]
[0,0,null,null,null,"",""]
[0,0,null,null,null,"",""]
[0,0,null,null,null,"",""]
[0,0,null,null,null,"",""]
[0,0,null,null,null,"",""]
[0,0,null,null,null,"",""]
[0,0,null,null,null,"",""]
[0,0,null,null,null,"",""]
[0,0,null,null,null,"",""]
[0,0,null,null,null,"",""]
[0,0,null,null,null,"",""]
[0,0,null,null,null,"",""]
[0,0,null,null,null,"",""]
[{"$f":"'Labor Summary (Office)'!A972","v":0},{"$f":"'Labor Summary (Office)'!B972","v":0},null,{"$f":"IF(A972=0,\"\",A972)","v":""},null,"Subtotal Line 31",null,{"$f":"ROUND(SUM(G942:G971),2)","v":0}]
[{"$f":"A$1003","v":0},0,null,null,null,{"$f":"IFERROR(VLOOKUP(D973,Staffing,2,FALSE),\"\")","v":""},{"$f":"IFERROR(ROUND(E973*F973,2),\"\")","v":""}]
[0,0,null,null,null,"",{"$f":"IFERROR(ROUND(E974*F974,2),\"\")","v":""}]
[0,0,null,null,null,"",""]
[0,0,null,null,null,"",""]
[0,0,null,null,null,"",""]
[0,0,null,null,null,"",""]
[0,0,null,null,null,"",""]
[0,0,null,null,null,"",""]
[0,0,null,null,null,"",""]
[0,0,null,null,null,"",""]
[0,0,null,null,null,"",""]
[0,0,null,null,null,"",""]
[0,0,null,null,null,"",""]
[0,0,null,null,null,"",""]
[0,0,null,null,null,"",""]
[0,0,null,null,null,"",""]
[0,0,null,null,null,"",""]
[0,0,null,null,null,"",""]
[0,0,null,null,null,"",""]
[0,0,null,null,null,"",""]
[0,0,null,null,null,"",""]
[0,0,null,null,null,"",""]
[0,0,null,null,null,"",""]
[0,0,null,null,null,"",""]
[0,0,null,null,null,"",""]
[0,0,null,null,null,"",""]
[0,0,null,null,null,"",""]
[0,0,null,null,null,"",""]
[0,0,null,null,null,"",""]
[0,0,null,null,null,"",""]
[{"$f":"'Labor Summary (Office)'!A1003","v":0},{"$f":"'Labor Summary (Office)'!B1003","v":0},null,{"$f":"IF(A1003=0,\"\",A1003)","v":""},null,"Subtotal Line 32",null,{"$f":"ROUND(SUM(G973:G1002),2)","v":0}]
[{"$f":"A$1034","v":0},0,null,null,null,{"$f":"IFERROR(VLOOKUP(D1004,Staffing,2,FALSE),\"\")","v":""},{"$f":"IFERROR(ROUND(E1004*F1004,2),\"\")","v":""}]
[0,0,null,null,null,"",{"$f":"IFERROR(ROUND(E1005*F1005,2),\"\")","v":""}]
[0,0,null,null,null,"",""]
[0,0,null,null,null,"",""]
[0,0,null,null,null,"",""]
[0,0,null,null,null,"",""]
[0,0,null,null,null,"",""]
[0,0,null,null,null,"",""]
[0,0,null,null,null,"",""]
[0,0,null,null,null,"",""]
[0,0,null,null,null,"",""]
[0,0,null,null,null,"",""]
[0,0,null,null,null,"",""]
[0,0,null,null,null,"",""]
[0,0,null,null,null,"",""]
[0,0,null,null,null,"",""]
[0,0,null,null,null,"",""]
[0,0,null,null,null,"",""]
[0,0,null,null,null,"",""]
[0,0,null,null,null,"",""]
[0,0,null,null,null,"",""]
[0,0,null,null,null,"",""]
[0,0,null,null,null,"",""]
[0,0,null,null,null,"",""]
[0,0,null,null,null,"",""]
[0,0,null,null,null,"",""]
[0,0,null,null,null,"",""]
[0,0,null,null,null,"",""]
[0,0,null,null,null,"",""]
[0,0,null,null,null,"",""]
[{"$f":"'Labor Summary (Office)'!A1034","v":0},{"$f":"'Labor Summary (Office)'!B1034","v":0},null,{"$f":"IF(A1034=0,\"\",A1034)","v":""},null,"Subtotal Line 33",null,{"$f":"ROUND(SUM(G1004:G1033),2)","v":0}]
[{"$f":"A$1065","v":0},0,null,null,null,{"$f":"IFERROR(VLOOKUP(D1035,Staffing,2,FALSE),\"\")","v":""},{"$f":"IFERROR(ROUND(E1035*F1035,2),\"\")","v":""}]
[0,0,null,null,null,"",{"$f":"IFERROR(ROUND(E1036*F1036,2),\"\")","v":""}]
[0,0,null,null,null,"",""]
[0,0,null,null,null,"",""]
[0,0,null,null,null,"",""]
[0,0,null,null,null,"",""]
[0,0,null,null,null,"",""]
[0,0,null,null,null,"",""]
[0,0,null,null,null,"",""]
[0,0,null,null,null,"",""]
[0,0,null,null,null,"",""]
[0,0,null,null,null,"",""]
[0,0,null,null,null,"",""]
[0,0,null,null,null,"",""]
[0,0,null,null,null,"",""]
[0,0,null,null,null,"",""]
[0,0,null,null,null,"",""]
[0,0,null,null,null,"",""]
[0,0,null,null,null,"",""]
[0,0,null,null,null,"",""]
[0,0,null,null,null,"",""]
[0,0,null,null,null,"",""]
[0,0,null,null,null,"",""]
[0,0,null,null,null,"",""]
[0,0,null,null,null,"",""]
[0,0,null,null,null,"",""]
[0,0,null,null,null,"",""]
[0,0,null,null,null,"",""]
[0,0,null,null,null,"",""]
[0,0,null,null,null,"",""]
[{"$f":"'Labor Summary (Office)'!A1065","v":0},{"$f":"'Labor Summary (Office)'!B1065","v":0},null,{"$f":"IF(A1065=0,\"\",A1065)","v":""},null,"Subtotal Line 34",null,{"$f":"ROUND(SUM(G1035:G1064),2)","v":0}]
[{"$f":"A$1096","v":0},0,null,null,null,{"$f":"IFERROR(VLOOKUP(D1066,Staffing,2,FALSE),\"\")","v":""},{"$f":"IFERROR(ROUND(E1066*F1066,2),\"\")","v":""}]
[0,0,null,null,null,"",{"$f":"IFERROR(ROUND(E1067*F1067,2),\"\")","v":""}]
[0,0,null,null,null,"",""]
[0,0,null,null,null,"",""]
[0,0,null,null,null,"",""]
[0,0,null,null,null,"",""]
[0,0,null,null,null,"",""]
[0,0,null,null,null,"",""]
[0,0,null,null,null,"",""]
[0,0,null,null,null,"",""]
[0,0,null,null,null,"",""]
[0,0,null,null,null,"",""]
[0,0,null,null,null,"",""]
[0,0,null,null,null,"",""]
[0,0,null,null,null,"",""]
[0,0,null,null,null,"",""]
[0,0,null,null,null,"",""]
[0,0,null,null,null,"",""]
[0,0,null,null,null,"",""]
[0,0,null,null,null,"",""]
[0,0,null,null,null,"",""]
[0,0,null,null,null,"",""]
[0,0,null,null,null,"",""]
[0,0,null,null,null,"",""]
[0,0,null,null,null,"",""]
[0,0,null,null,null,"",""]
[0,0,null,null,null,"",""]
[0,0,null,null,null,"",""]
[0,0,null,null,null,"",""]
[0,0,null,null,null,"",""]
[{"$f":"'Labor Summary (Office)'!A1096","v":0},{"$f":"'Labor Summary (Office)'!B1096","v":0},null,{"$f":"IF(A1096=0,\"\",A1096)","v":""},null,"Subtotal Line 35",null,{"$f":"ROUND(SUM(G1066:G1095),2)","v":0}]
[{"$f":"A$1127","v":0},0,null,null,null,{"$f":"IFERROR(VLOOKUP(D1097,Staffing,2,FALSE),\"\")","v":""},{"$f":"IFERROR(ROUND(E1097*F1097,2),\"\")","v":""}]
[0,0,null,null,null,"",{"$f":"IFERROR(ROUND(E1098*F1098,2),\"\")","v":""}]
[0,0,null,null,null,"",""]
[0,0,null,null,null,"",""]
[0,0,null,null,null,"",""]
[0,0,null,null,null,"",""]
[0,0,null,null,null,"",""]
[0,0,null,null,null,"",""]
[0,0,null,null,null,"",""]
[0,0,null,null,null,"",""]
[0,0,null,null,null,"",""]
[0,0,null,null,null,"",""]
[0,0,null,null,null,"",""]
[0,0,null,null,null,"",""]
[0,0,null,null,null,"",""]
[0,0,null,null,null,"",""]
[0,0,null,null,null,"",""]
[0,0,null,null,null,"",""]
[0,0,null,null,null,"",""]
[0,0,null,null,null,"",""]
[0,0,null,null,null,"",""]
[0,0,null,null,null,"",""]
[0,0,null,null,null,"",""]
[0,0,null,null,null,"",""]
[0,0,null,null,null,"",""]
[0,0,null,null,null,"",""]
[0,0,null,null,null,"",""]
[0,0,null,null,null,"",""]
[0,0,null,null,null,"",""]
[0,0,null,null,null,"",""]
[{"$f":"'Labor Summary (Office)'!A1127","v":0},{"$f":"'Labor Summary (Office)'!B1127","v":0},null,{"$f":"IF(A1127=0,\"\",A1127)","v":""},null,"Subtotal Line 36",null,{"$f":"ROUND(SUM(G1097:G1126),2)","v":0}]
[{"$f":"A$1158","v":0},0,null,null,null,{"$f":"IFERROR(VLOOKUP(D1128,Staffing,2,FALSE),\"\")","v":""},{"$f":"IFERROR(ROUND(E1128*F1128,2),\"\")","v":""}]
[0,0,null,null,null,"",{"$f":"IFERROR(ROUND(E1129*F1129,2),\"\")","v":""}]
[0,0,null,null,null,"",""]
[0,0,null,null,null,"",""]
[0,0,null,null,null,"",""]
[0,0,null,null,null,"",""]
[0,0,null,null,null,"",""]
[0,0,null,null,null,"",""]
[0,0,null,null,null,"",""]
[0,0,null,null,null,"",""]
[0,0,null,null,null,"",""]
[0,0,null,null,null,"",""]
[0,0,null,null,null,"",""]
[0,0,null,null,null,"",""]
[0,0,null,null,null,"",""]
[0,0,null,null,null,"",""]
[0,0,null,null,null,"",""]
[0,0,null,null,null,"",""]
[0,0,null,null,null,"",""]
[0,0,null,null,null,"",""]
[0,0,null,null,null,"",""]
[0,0,null,null,null,"",""]
[0,0,null,null,null,"",""]
[0,0,null,null,null,"",""]
[0,0,null,null,null,"",""]
[0,0,null,null,null,"",""]
[0,0,null,null,null,"",""]
[0,0,null,null,null,"",""]
[0,0,null,null,null,"",""]
[0,0,null,null,null,"",""]
[{"$f":"'Labor Summary (Office)'!A1158","v":0},{"$f":"'Labor Summary (Office)'!B1158","v":0},null,{"$f":"IF(A1158=0,\"\",A1158)","v":""},null,"Subtotal Line 37",null,{"$f":"ROUND(SUM(G1128:G1157),2)","v":0}]
[{"$f":"A$1189","v":0},0,null,null,null,{"$f":"IFERROR(VLOOKUP(D1159,Staffing,2,FALSE),\"\")","v":""},{"$f":"IFERROR(ROUND(E1159*F1159,2),\"\")","v":""}]
[0,0,null,null,null,"",{"$f":"IFERROR(ROUND(E1160*F1160,2),\"\")","v":""}]
[0,0,null,null,null,"",""]
[0,0,null,null,null,"",""]
[0,0,null,null,null,"",""]
[0,0,null,null,null,"",""]
[0,0,null,null,null,"",""]
[0,0,null,null,null,"",""]
[0,0,null,null,null,"",""]
[0,0,null,null,null,"",""]
[0,0,null,null,null,"",""]
[0,0,null,null,null,"",""]
[0,0,null,null,null,"",""]
[0,0,null,null,null,"",""]
[0,0,null,null,null,"",""]
[0,0,null,null,null,"",""]
[0,0,null,null,null,"",""]
[0,0,null,null,null,"",""]
[0,0,null,null,null,"",""]
[0,0,null,null,null,"",""]
[0,0,null,null,null,"",""]
[0,0,null,null,null,"",""]
[0,0,null,null,null,"",""]
[0,0,null,null,null,"",""]
[0,0,null,null,null,"",""]
[0,0,null,null,null,"",""]
[0,0,null,null,null,"",""]
[0,0,null,null,null,"",""]
[0,0,null,null,null,"",""]
[0,0,null,null,null,"",""]
[{"$f":"'Labor Summary (Office)'!A1189","v":0},{"$f":"'Labor Summary (Office)'!B1189","v":0},null,{"$f":"IF(A1189=0,\"\",A1189)","v":""},null,"Subtotal Line 38",null,{"$f":"ROUND(SUM(G1159:G1188),2)","v":0}]
[{"$f":"A$1220","v":0},0,null,null,null,{"$f":"IFERROR(VLOOKUP(D1190,Staffing,2,FALSE),\"\")","v":""},{"$f":"IFERROR(ROUND(E1190*F1190,2),\"\")","v":""}]
[0,0,null,null,null,"",{"$f":"IFERROR(ROUND(E1191*F1191,2),\"\")","v":""}]
[0,0,null,null,null,"",""]
[0,0,null,null,null,"",""]
[0,0,null,null,null,"",""]
[0,0,null,null,null,"",""]
[0,0,null,null,null,"",""]
[0,0,null,null,null,"",""]
[0,0,null,null,null,"",""]
[0,0,null,null,null,"",""]
[0,0,null,null,null,"",""]
[0,0,null,null,null,"",""]
[0,0,null,null,null,"",""]
[0,0,null,null,null,"",""]
[0,0,null,null,null,"",""]
[0,0,null,null,null,"",""]
[0,0,null,null,null,"",""]
[0,0,null,null,null,"",""]
[0,0,null,null,null,"",""]
[0,0,null,null,null,"",""]
[0,0,null,null,null,"",""]
[0,0,null,null,null,"",""]
[0,0,null,null,null,"",""]
[0,0,null,null,null,"",""]
[0,0,null,null,null,"",""]
[0,0,null,null,null,"",""]
[0,0,null,null,null,"",""]
[0,0,null,null,null,"",""]
[0,0,null,null,null,"",""]
[0,0,null,null,null,"",""]
[{"$f":"'Labor Summary (Office)'!A1220","v":0},{"$f":"'Labor Summary (Office)'!B1220","v":0},null,{"$f":"IF(A1220=0,\"\",A1220)","v":""},null,"Subtotal Line 39",null,{"$f":"ROUND(SUM(G1190:G1219),2)","v":0}]
[{"$f":"A$1251","v":0},0,null,null,null,{"$f":"IFERROR(VLOOKUP(D1221,Staffing,2,FALSE),\"\")","v":""},{"$f":"IFERROR(ROUND(E1221*F1221,2),\"\")","v":""}]
[0,0,null,null,null,"",{"$f":"IFERROR(ROUND(E1222*F1222,2),\"\")","v":""}]
[0,0,null,null,null,"",""]
[0,0,null,null,null,"",""]
[0,0,null,null,null,"",""]
[0,0,null,null,null,"",""]
[0,0,null,null,null,"",""]
[0,0,null,null,null,"",""]
[0,0,null,null,null,"",""]
[0,0,null,null,null,"",""]
[0,0,null,null,null,"",""]
[0,0,null,null,null,"",""]
[0,0,null,null,null,"",""]
[0,0,null,null,null,"",""]
[0,0,null,null,null,"",""]
[0,0,null,null,null,"",""]
[0,0,null,null,null,"",""]
[0,0,null,null,null,"",""]
[0,0,null,null,null,"",""]
[0,0,null,null,null,"",""]
[0,0,null,null,null,"",""]
[0,0,null,null,null,"",""]
[0,0,null,null,null,"",""]
[0,0,null,null,null,"",""]
[0,0,null,null,null,"",""]
[0,0,null,null,null,"",""]
[0,0,null,null,null,"",""]
[0,0,null,null,null,"",""]
[0,0,null,null,null,"",""]
[0,0,null,null,null,"",""]
[{"$f":"'Labor Summary (Office)'!A1251","v":0},{"$f":"'Labor Summary (Office)'!B1251","v":0},null,{"$f":"IF(A1251=0,\"\",A1251)","v":""},null,"Subtotal Line 40",null,{"$f":"ROUND(SUM(G1221:G1250),2)","v":0}]
[{"$f":"A$1282","v":0},0,null,null,null,{"$f":"IFERROR(VLOOKUP(D1252,Staffing,2,FALSE),\"\")","v":""},{"$f":"IFERROR(ROUND(E1252*F1252,2),\"\")","v":""}]
[0,0,null,null,null,"",{"$f":"IFERROR(ROUND(E1253*F1253,2),\"\")","v":""}]
[0,0,null,null,null,"",""]
[0,0,null,null,null,"",""]
[0,0,null,null,null,"",""]
[0,0,null,null,null,"",""]
[0,0,null,null,null,"",""]
[0,0,null,null,null,"",""]
[0,0,null,null,null,"",""]
[0,0,null,null,null,"",""]
[0,0,null,null,null,"",""]
[0,0,null,null,null,"",""]
[0,0,null,null,null,"",""]
[0,0,null,null,null,"",""]
[0,0,null,null,null,"",""]
[0,0,null,null,null,"",""]
[0,0,null,null,null,"",""]
[0,0,null,null,null,"",""]
[0,0,null,null,null,"",""]
[0,0,null,null,null,"",""]
[0,0,null,null,null,"",""]
[0,0,null,null,null,"",""]
[0,0,null,null,null,"",""]
[0,0,null,null,null,"",""]
[0,0,null,null,null,"",""]
[0,0,null,null,null,"",""]
[0,0,null,null,null,"",""]
[0,0,null,null,null,"",""]
[0,0,null,null,null,"",""]
[0,0,null,null,null,"",""]
[{"$f":"'Labor Summary (Office)'!A1282","v":0},{"$f":"'Labor Summary (Office)'!B1282","v":0},null,{"$f":"IF(A1282=0,\"\",A1282)","v":""},null,"Subtotal Line 41",null,{"$f":"ROUND(SUM(G1252:G1281),2)","v":0}]
[{"$f":"A$1313","v":0},0,null,null,null,{"$f":"IFERROR(VLOOKUP(D1283,Staffing,2,FALSE),\"\")","v":""},{"$f":"IFERROR(ROUND(E1283*F1283,2),\"\")","v":""}]
[0,0,null,null,null,"",{"$f":"IFERROR(ROUND(E1284*F1284,2),\"\")","v":""}]
[0,0,null,null,null,"",""]
[0,0,null,null,null,"",""]
[0,0,null,null,null,"",""]
[0,0,null,null,null,"",""]
[0,0,null,null,null,"",""]
[0,0,null,null,null,"",""]
[0,0,null,null,null,"",""]
[0,0,null,null,null,"",""]
[0,0,null,null,null,"",""]
[0,0,null,null,null,"",""]
[0,0,null,null,null,"",""]
[0,0,null,null,null,"",""]
[0,0,null,null,null,"",""]
[0,0,null,null,null,"",""]
[0,0,null,null,null,"",""]
[0,0,null,null,null,"",""]
[0,0,null,null,null,"",""]
[0,0,null,null,null,"",""]
[0,0,null,null,null,"",""]
[0,0,null,null,null,"",""]
[0,0,null,null,null,"",""]
[0,0,null,null,null,"",""]
[0,0,null,null,null,"",""]
[0,0,null,null,null,"",""]
[0,0,null,null,null,"",""]
[0,0,null,null,null,"",""]
[0,0,null,null,null,"",""]
[0,0,null,null,null,"",""]
[{"$f":"'Labor Summary (Office)'!A1313","v":0},{"$f":"'Labor Summary (Office)'!B1313","v":0},null,{"$f":"IF(A1313=0,\"\",A1313)","v":""},null,"Subtotal Line 42",null,{"$f":"ROUND(SUM(G1283:G1312),2)","v":0}]
[{"$f":"A$1344","v":0},0,null,null,null,{"$f":"IFERROR(VLOOKUP(D1314,Staffing,2,FALSE),\"\")","v":""},{"$f":"IFERROR(ROUND(E1314*F1314,2),\"\")","v":""}]
[0,0,null,null,null,"",{"$f":"IFERROR(ROUND(E1315*F1315,2),\"\")","v":""}]
[0,0,null,null,null,"",""]
[0,0,null,null,null,"",""]
[0,0,null,null,null,"",""]
[0,0,null,null,null,"",""]
[0,0,null,null,null,"",""]
[0,0,null,null,null,"",""]
[0,0,null,null,null,"",""]
[0,0,null,null,null,"",""]
[0,0,null,null,null,"",""]
[0,0,null,null,null,"",""]
[0,0,null,null,null,"",""]
[0,0,null,null,null,"",""]
[0,0,null,null,null,"",""]
[0,0,null,null,null,"",""]
[0,0,null,null,null,"",""]
[0,0,null,null,null,"",""]
[0,0,null,null,null,"",""]
[0,0,null,null,null,"",""]
[0,0,null,null,null,"",""]
[0,0,null,null,null,"",""]
[0,0,null,null,null,"",""]
[0,0,null,null,null,"",""]
[0,0,null,null,null,"",""]
[0,0,null,null,null,"",""]
[0,0,null,null,null,"",""]
[0,0,null,null,null,"",""]
[0,0,null,null,null,"",""]
[0,0,null,null,null,"",""]
[{"$f":"'Labor Summary (Office)'!A1344","v":0},{"$f":"'Labor Summary (Office)'!B1344","v":0},null,{"$f":"IF(A1344=0,\"\",A1344)","v":""},null,"Subtotal Line 43",null,{"$f":"ROUND(SUM(G1314:G1343),2)","v":0}]
[{"$f":"A$1375","v":0},0,null,null,null,{"$f":"IFERROR(VLOOKUP(D1345,Staffing,2,FALSE),\"\")","v":""},{"$f":"IFERROR(ROUND(E1345*F1345,2),\"\")","v":""}]
[0,0,null,null,null,"",{"$f":"IFERROR(ROUND(E1346*F1346,2),\"\")","v":""}]
[0,0,null,null,null,"",""]
[0,0,null,null,null,"",""]
[0,0,null,null,null,"",""]
[0,0,null,null,null,"",""]
[0,0,null,null,null,"",""]
[0,0,null,null,null,"",""]
[0,0,null,null,null,"",""]
[0,0,null,null,null,"",""]
[0,0,null,null,null,"",""]
[0,0,null,null,null,"",""]
[0,0,null,null,null,"",""]
[0,0,null,null,null,"",""]
[0,0,null,null,null,"",""]
[0,0,null,null,null,"",""]
[0,0,null,null,null,"",""]
[0,0,null,null,null,"",""]
[0,0,null,null,null,"",""]
[0,0,null,null,null,"",""]
[0,0,null,null,null,"",""]
[0,0,null,null,null,"",""]
[0,0,null,null,null,"",""]
[0,0,null,null,null,"",""]
[0,0,null,null,null,"",""]
[0,0,null,null,null,"",""]
[0,0,null,null,null,"",""]
[0,0,null,null,null,"",""]
[0,0,null,null,null,"",""]
[0,0,null,null,null,"",""]
[{"$f":"'Labor Summary (Office)'!A1375","v":0},{"$f":"'Labor Summary (Office)'!B1375","v":0},null,{"$f":"IF(A1375=0,\"\",A1375)","v":""},null,"Subtotal Line 44",null,{"$f":"ROUND(SUM(G1345:G1374),2)","v":0}]
[{"$f":"A$1406","v":0},0,null,null,null,{"$f":"IFERROR(VLOOKUP(D1376,Staffing,2,FALSE),\"\")","v":""},{"$f":"IFERROR(ROUND(E1376*F1376,2),\"\")","v":""}]
[0,0,null,null,null,"",{"$f":"IFERROR(ROUND(E1377*F1377,2),\"\")","v":""}]
[0,0,null,null,null,"",""]
[0,0,null,null,null,"",""]
[0,0,null,null,null,"",""]
[0,0,null,null,null,"",""]
[0,0,null,null,null,"",""]
[0,0,null,null,null,"",""]
[0,0,null,null,null,"",""]
[0,0,null,null,null,"",""]
[0,0,null,null,null,"",""]
[0,0,null,null,null,"",""]
[0,0,null,null,null,"",""]
[0,0,null,null,null,"",""]
[0,0,null,null,null,"",""]
[0,0,null,null,null,"",""]
[0,0,null,null,null,"",""]
[0,0,null,null,null,"",""]
[0,0,null,null,null,"",""]
[0,0,null,null,null,"",""]
[0,0,null,null,null,"",""]
[0,0,null,null,null,"",""]
[0,0,null,null,null,"",""]
[0,0,null,null,null,"",""]
[0,0,null,null,null,"",""]
[0,0,null,null,null,"",""]
[0,0,null,null,null,"",""]
[0,0,null,null,null,"",""]
[0,0,null,null,null,"",""]
[0,0,null,null,null,"",""]
[{"$f":"'Labor Summary (Office)'!A1406","v":0},{"$f":"'Labor Summary (Office)'!B1406","v":0},null,{"$f":"IF(A1406=0,\"\",A1406)","v":""},null,"Subtotal Line 45",null,{"$f":"ROUND(SUM(G1376:G1405),2)","v":0}]
[{"$f":"A$1437","v":0},0,null,null,null,{"$f":"IFERROR(VLOOKUP(D1407,Staffing,2,FALSE),\"\")","v":""},{"$f":"IFERROR(ROUND(E1407*F1407,2),\"\")","v":""}]
[0,0,null,null,null,"",{"$f":"IFERROR(ROUND(E1408*F1408,2),\"\")","v":""}]
[0,0,null,null,null,"",""]
[0,0,null,null,null,"",""]
[0,0,null,null,null,"",""]
[0,0,null,null,null,"",""]
[0,0,null,null,null,"",""]
[0,0,null,null,null,"",""]
[0,0,null,null,null,"",""]
[0,0,null,null,null,"",""]
[0,0,null,null,null,"",""]
[0,0,null,null,null,"",""]
[0,0,null,null,null,"",""]
[0,0,null,null,null,"",""]
[0,0,null,null,null,"",""]
[0,0,null,null,null,"",""]
[0,0,null,null,null,"",""]
[0,0,null,null,null,"",""]
[0,0,null,null,null,"",""]
[0,0,null,null,null,"",""]
[0,0,null,null,null,"",""]
[0,0,null,null,null,"",""]
[0,0,null,null,null,"",""]
[0,0,null,null,null,"",""]
[0,0,null,null,null,"",""]
[0,0,null,null,null,"",""]
[0,0,null,null,null,"",""]
[0,0,null,null,null,"",""]
[0,0,null,null,null,"",""]
[0,0,null,null,null,"",""]
[{"$f":"'Labor Summary (Office)'!A1437","v":0},{"$f":"'Labor Summary (Office)'!B1437","v":0},null,{"$f":"IF(A1437=0,\"\",A1437)","v":""},null,"Subtotal Line 46",null,{"$f":"ROUND(SUM(G1407:G1436),2)","v":0}]
[{"$f":"A$1468","v":0},0,null,null,null,{"$f":"IFERROR(VLOOKUP(D1438,Staffing,2,FALSE),\"\")","v":""},{"$f":"IFERROR(ROUND(E1438*F1438,2),\"\")","v":""}]
[0,0,null,null,null,"",{"$f":"IFERROR(ROUND(E1439*F1439,2),\"\")","v":""}]
[0,0,null,null,null,"",""]
[0,0,null,null,null,"",""]
[0,0,null,null,null,"",""]
[0,0,null,null,null,"",""]
[0,0,null,null,null,"",""]
[0,0,null,null,null,"",""]
[0,0,null,null,null,"",""]
[0,0,null,null,null,"",""]
[0,0,null,null,null,"",""]
[0,0,null,null,null,"",""]
[0,0,null,null,null,"",""]
[0,0,null,null,null,"",""]
[0,0,null,null,null,"",""]
[0,0,null,null,null,"",""]
[0,0,null,null,null,"",""]
[0,0,null,null,null,"",""]
[0,0,null,null,null,"",""]
[0,0,null,null,null,"",""]
[0,0,null,null,null,"",""]
[0,0,null,null,null,"",""]
[0,0,null,null,null,"",""]
[0,0,null,null,null,"",""]
[0,0,null,null,null,"",""]
[0,0,null,null,null,"",""]
[0,0,null,null,null,"",""]
[0,0,null,null,null,"",""]
[0,0,null,null,null,"",""]
[0,0,null,null,null,"",""]
[{"$f":"'Labor Summary (Office)'!A1468","v":0},{"$f":"'Labor Summary (Office)'!B1468","v":0},null,{"$f":"IF(A1468=0,\"\",A1468)","v":""},null,"Subtotal Line 47",null,{"$f":"ROUND(SUM(G1438:G1467),2)","v":0}]
[{"$f":"A$1499","v":0},0,null,null,null,{"$f":"IFERROR(VLOOKUP(D1469,Staffing,2,FALSE),\"\")","v":""},{"$f":"IFERROR(ROUND(E1469*F1469,2),\"\")","v":""}]
[0,0,null,null,null,"",{"$f":"IFERROR(ROUND(E1470*F1470,2),\"\")","v":""}]
[0,0,null,null,null,"",""]
[0,0,null,null,null,"",""]
[0,0,null,null,null,"",""]
[0,0,null,null,null,"",""]
[0,0,null,null,null,"",""]
[0,0,null,null,null,"",""]
[0,0,null,null,null,"",""]
[0,0,null,null,null,"",""]
[0,0,null,null,null,"",""]
[0,0,null,null,null,"",""]
[0,0,null,null,null,"",""]
[0,0,null,null,null,"",""]
[0,0,null,null,null,"",""]
[0,0,null,null,null,"",""]
[0,0,null,null,null,"",""]
[0,0,null,null,null,"",""]
[0,0,null,null,null,"",""]
[0,0,null,null,null,"",""]
[0,0,null,null,null,"",""]
[0,0,null,null,null,"",""]
[0,0,null,null,null,"",""]
[0,0,null,null,null,"",""]
[0,0,null,null,null,"",""]
[0,0,null,null,null,"",""]
[0,0,null,null,null,"",""]
[0,0,null,null,null,"",""]
[0,0,null,null,null,"",""]
[0,0,null,null,null,"",""]
[{"$f":"'Labor Summary (Office)'!A1499","v":0},{"$f":"'Labor Summary (Office)'!B1499","v":0},null,{"$f":"IF(A1499=0,\"\",A1499)","v":""},null,"Subtotal Line 48",null,{"$f":"ROUND(SUM(G1469:G1498),2)","v":0}]
[{"$f":"A$1530","v":0},0,null,null,null,{"$f":"IFERROR(VLOOKUP(D1500,Staffing,2,FALSE),\"\")","v":""},{"$f":"IFERROR(ROUND(E1500*F1500,2),\"\")","v":""}]
[0,0,null,null,null,"",{"$f":"IFERROR(ROUND(E1501*F1501,2),\"\")","v":""}]
[0,0,null,null,null,"",""]
[0,0,null,null,null,"",""]
[0,0,null,null,null,"",""]
[0,0,null,null,null,"",""]
[0,0,null,null,null,"",""]
[0,0,null,null,null,"",""]
[0,0,null,null,null,"",""]
[0,0,null,null,null,"",""]
[0,0,null,null,null,"",""]
[0,0,null,null,null,"",""]
[0,0,null,null,null,"",""]
[0,0,null,null,null,"",""]
[0,0,null,null,null,"",""]
[0,0,null,null,null,"",""]
[0,0,null,null,null,"",""]
[0,0,null,null,null,"",""]
[0,0,null,null,null,"",""]
[0,0,null,null,null,"",""]
[0,0,null,null,null,"",""]
[0,0,null,null,null,"",""]
[0,0,null,null,null,"",""]
[0,0,null,null,null,"",""]
[0,0,null,null,null,"",""]
[0,0,null,null,null,"",""]
[0,0,null,null,null,"",""]
[0,0,null,null,null,"",""]
[0,0,null,null,null,"",""]
[0,0,null,null,null,"",""]
[{"$f":"'Labor Summary (Office)'!A1530","v":0},{"$f":"'Labor Summary (Office)'!B1530","v":0},null,{"$f":"IF(A1530=0,\"\",A1530)","v":""},null,"Subtotal Line 49",null,{"$f":"ROUND(SUM(G1500:G1529),2)","v":0}]
[{"$f":"A$1561","v":0},0,null,null,null,{"$f":"IFERROR(VLOOKUP(D1531,Staffing,2,FALSE),\"\")","v":""},{"$f":"IFERROR(ROUND(E1531*F1531,2),\"\")","v":""}]
[0,0,null,null,null,"",{"$f":"IFERROR(ROUND(E1532*F1532,2),\"\")","v":""}]
[0,0,null,null,null,"",""]
[0,0,null,null,null,"",""]
[0,0,null,null,null,"",""]
[0,0,null,null,null,"",""]
[0,0,null,null,null,"",""]
[0,0,null,null,null,"",""]
[0,0,null,null,null,"",""]
[0,0,null,null,null,"",""]
[0,0,null,null,null,"",""]
[0,0,null,null,null,"",""]
[0,0,null,null,null,"",""]
[0,0,null,null,null,"",""]
[0,0,null,null,null,"",""]
[0,0,null,null,null,"",""]
[0,0,null,null,null,"",""]
[0,0,null,null,null,"",""]
[0,0,null,null,null,"",""]
[0,0,null,null,null,"",""]
[0,0,null,null,null,"",""]
[0,0,null,null,null,"",""]
[0,0,null,null,null,"",""]
[0,0,null,null,null,"",""]
[0,0,null,null,null,"",""]
[0,0,null,null,null,"",""]
[0,0,null,null,null,"",""]
[0,0,null,null,null,"",""]
[0,0,null,null,null,"",""]
[0,0,null,null,null,"",""]
[{"$f":"'Labor Summary (Office)'!A1561","v":0},{"$f":"'Labor Summary (Office)'!B1561","v":0},null,{"$f":"IF(A1561=0,\"\",A1561)","v":""},null,"Subtotal Line 50",null,{"$f":"ROUND(SUM(G1531:G1560),2)","v":0}]
[null,null,null,"Total","Total Labor (Field)",null,null,{"$f":"ROUND(SUM(H12:H1561),2)","v":0}]
[]
[]
[]
[]
[]
[]
[]
[]
[]
[]
[]
[]
[]
[]
[]
[]
[]
[]
[]
[]
[]
[]
[]
[]
[]
[]
[]
[]
[]
[]
[]
[]
[]
[]
[]
[]
[]
[]
[]
[]
[]
[]
[]
[]
[]
[]
[]
[]
[]
[]
[]
[]
[]
[]
[]
[]
[]
[]
[]
[]
[]
[]
[]
[]
[]
[]
[]
[]
[]
[]
[]
[]
[]
[]
[]
[]
[]
[]
[]
[]
[]
[]
[]
[]
[]
[]
[]
[]
[]
[]
[]
[]
[]
[]
[]
[]
[]
[]
[]
[]
[]
[]
[]
[]
[]
[]
[]
[]
[]
[]
[]
[]
[]
[]
[]
[]
[]
[]
[]
[]
[]
[]
[]
[]
[]
[]
[]
[]
[]
[]
[]
[]
[]
[]
[]
[]
[]
[]
[]
[]
[]
[]
[]
[]
[]
[]
[]
[]
[]
[]
[]
[]
[]
[]
[]
[]
[]
[]
[]
[]
[]
[]
[]
[]
[]
[]
[]
[]
[]
[]
[]
[]
[]
[]
[]
[]
[]
[]
[]
[]
[]
[]
[]
[]
[]
[]
[{"$f":"'WA Financial Status Summary'!D23","v":0}]

{"sheet":"Unit Cost Summary","index":9,"n_rows":1748,"n_cols":12,"rows_kept":1748,"cut":false,"hidden":false,"merged":[[1436,3,1436,5],[1467,3,1467,5],[1498,3,1498,5],[1529,3,1529,5],[1560,3,1560,5],[1281,3,1281,5],[1312,3,1312,5],[1343,3,1343,5],[1374,3,1374,5],[1405,3,1405,5],[1126,3,1126,5],[1157,3,1157,5],[1188,3,1188,5],[1219,3,1219,5],[1250,3,1250,5],[7,0,7,1],[9,0,9,7],[2,0,2,7],[4,0,4,7],[5,0,5,7],[6,0,6,1],[6,2,6,3],[7,2,7,3],[6,6,6,7],[7,6,7,7],[6,4,6,5],[7,4,7,5],[227,3,227,5],[196,3,196,5],[258,3,258,5],[289,3,289,5],[320,3,320,5],[351,3,351,5],[382,3,382,5],[413,3,413,5],[444,3,444,5],[475,3,475,5],[506,3,506,5],[537,3,537,5],[568,3,568,5],[599,3,599,5],[630,3,630,5],[661,3,661,5],[692,3,692,5],[723,3,723,5],[754,3,754,5],[785,3,785,5],[816,3,816,5],[847,3,847,5],[878,3,878,5],[909,3,909,5],[940,3,940,5],[971,3,971,5],[1002,3,1002,5],[1033,3,1033,5],[1064,3,1064,5],[1095,3,1095,5],[165,3,165,5],[41,3,41,5],[72,3,72,5],[103,3,103,5],[134,3,134,5]]}
[null,null,null,null,null,null,"Provider Invoice #",{"$f":"Invoice!G1","v":0},null,null,null,"Monthly Submittal Cell"]
[null,null,null,null,null,null,"Combined Invoice Template Log #",{"$f":"Invoice!G2","v":0},null,null,"Instructions","Click link to see instructions for this tab"]
[]
[]
["UNIT COST SUMMARY"]
["SR-UC Payment Method"]
["Provider Name:  ",null,{"$f":"Invoice!C7","v":0},null,"Legacy Contract No.  ",null,{"$f":"Invoice!F7","v":0}]
["Provider ID No.  ",null,{"$f":"Invoice!C8","v":0},null,"Legacy WA No.",null,{"$f":"Invoice!F10","v":0}]
[]
["Unit Cost Breakdown:"]
["Project\n(CSJ or Detail No.)","Source\n(Legacy FC)","Type of Unit","Quantity","Unit Cost","Total Unit Cost","Line Total by  Project/Source","Total of All UCs (see cell H1562)"]
[{"$f":"A$42","v":0},{"$f":"B$42","v":0},null,null,{"$f":"IFERROR(VLOOKUP(C12,Units_,2,FALSE),\"\")","v":""},{"$f":"IFERROR(ROUND(D12*E12,2),\"\")","v":""}]
[{"$f":"A$42","v":0},{"$f":"B$42","v":0},null,null,{"$f":"IFERROR(VLOOKUP(C13,Units_,2,FALSE),\"\")","v":""},{"$f":"IFERROR(ROUND(D13*E13,2),\"\")","v":""}]
[{"$f":"A$42","v":0},0,null,null,"",""]
[0,0,null,null,"",""]
[0,0,null,null,"",""]
[0,0,null,null,"",""]
[0,0,null,null,"",""]
[0,0,null,null,"",""]
[0,0,null,null,"",""]
[0,0,null,null,"",""]
[0,0,null,null,"",""]
[0,0,null,null,"",""]
[0,0,null,null,"",""]
[0,0,null,null,"",""]
[0,0,null,null,"",""]
[{"$f":"A$42","v":0},{"$f":"B$42","v":0},null,null,"",""]
[0,0,null,null,"",""]
[0,0,null,null,"",""]
[{"$f":"A$42","v":0},0,null,null,"",""]
[0,0,null,null,"",""]
[0,0,null,null,"",""]
[0,0,null,null,"",""]
[0,0,null,null,"",""]
[0,0,null,null,"",""]
[0,0,null,null,"",""]
[0,0,null,null,"",""]
[0,0,null,null,"",""]
[0,0,null,null,"",""]
[0,0,null,null,"",""]
[0,0,null,null,"",""]
[{"$f":"'Labor Summary (Office)'!A42","v":0},{"$f":"'Labor Summary (Office)'!B42","v":0},{"$f":"IF(G42>0,\"total\",\"\")","v":""},"Subtotal Line 1",null,null,{"$f":"ROUND(SUM(F12:F41),2)","v":0}]
[{"$f":"A$73","v":0},{"$f":"B$73","v":0},null,null,{"$f":"IFERROR(VLOOKUP(C43,Units_,2,FALSE),\"\")","v":""},{"$f":"IFERROR(ROUND(D43*E43,2),\"\")","v":""}]
[{"$f":"A$73","v":0},0,null,null,"",{"$f":"IFERROR(ROUND(D44*E44,2),\"\")","v":""}]
[0,0,null,null,"",""]
[0,0,null,null,"",""]
[0,0,null,null,"",""]
[0,0,null,null,"",""]
[0,0,null,null,"",""]
[0,0,null,null,"",""]
[0,0,null,null,"",""]
[0,0,null,null,"",""]
[0,0,null,null,"",""]
[0,0,null,null,"",""]
[0,0,null,null,"",""]
[0,0,null,null,"",""]
[0,0,null,null,"",""]
[{"$f":"A$73","v":0},{"$f":"B$73","v":0},null,null,"",""]
[0,0,null,null,"",""]
[{"$f":"A$73","v":0},0,null,null,"",""]
[0,0,null,null,"",""]
[0,0,null,null,"",""]
[0,0,null,null,"",""]
[0,0,null,null,"",""]
[0,0,null,null,"",""]
[0,0,null,null,"",""]
[0,0,null,null,"",""]
[0,0,null,null,"",""]
[0,0,null,null,"",""]
[0,0,null,null,"",""]
[0,0,null,null,"",""]
[0,0,null,null,"",""]
[{"$f":"'Labor Summary (Office)'!A73","v":0},{"$f":"'Labor Summary (Office)'!B73","v":0},{"$f":"IF(G73>0,\"total\",\"\")","v":""},"Subtotal Line 2",null,null,{"$f":"ROUND(SUM(F43:F72),2)","v":0}]
[{"$f":"A$104","v":0},{"$f":"B$104","v":0},null,null,{"$f":"IFERROR(VLOOKUP(C74,Units_,2,FALSE),\"\")","v":""},{"$f":"IFERROR(ROUND(D74*E74,2),\"\")","v":""}]
[{"$f":"A$104","v":0},0,null,null,"",{"$f":"IFERROR(ROUND(D75*E75,2),\"\")","v":""}]
[0,0,null,null,"",""]
[0,0,null,null,"",""]
[0,0,null,null,"",""]
[0,0,null,null,"",""]
[0,0,null,null,"",""]
[0,0,null,null,"",""]
[0,0,null,null,"",""]
[0,0,null,null,"",""]
[0,0,null,null,"",""]
[0,0,null,null,"",""]
[0,0,null,null,"",""]
[0,0,null,null,"",""]
[0,0,null,null,"",""]
[{"$f":"A$104","v":0},{"$f":"B$104","v":0},null,null,"",""]
[0,0,null,null,"",""]
[{"$f":"A$104","v":0},0,null,null,"",""]
[0,0,null,null,"",""]
[0,0,null,null,"",""]
[0,0,null,null,"",""]
[0,0,null,null,"",""]
[0,0,null,null,"",""]
[0,0,null,null,"",""]
[0,0,null,null,"",""]
[0,0,null,null,"",""]
[0,0,null,null,"",""]
[0,0,null,null,"",""]
[0,0,null,null,"",""]
[0,0,null,null,"",""]
[{"$f":"'Labor Summary (Office)'!A104","v":0},{"$f":"'Labor Summary (Office)'!B104","v":0},{"$f":"IF(G104>0,\"total\",\"\")","v":""},"Subtotal Line 3",null,null,{"$f":"ROUND(SUM(F74:F103),2)","v":0}]
[{"$f":"A$135","v":0},{"$f":"B$135","v":0},null,null,{"$f":"IFERROR(VLOOKUP(C105,Units_,2,FALSE),\"\")","v":""},{"$f":"IFERROR(ROUND(D105*E105,2),\"\")","v":""}]
[{"$f":"A$135","v":0},0,null,null,"",{"$f":"IFERROR(ROUND(D106*E106,2),\"\")","v":""}]
[0,0,null,null,"",""]
[0,0,null,null,"",""]
[0,0,null,null,"",""]
[0,0,null,null,"",""]
[0,0,null,null,"",""]
[0,0,null,null,"",""]
[0,0,null,null,"",""]
[0,0,null,null,"",""]
[0,0,null,null,"",""]
[0,0,null,null,"",""]
[0,0,null,null,"",""]
[0,0,null,null,"",""]
[0,0,null,null,"",""]
[{"$f":"A$135","v":0},{"$f":"B$135","v":0},null,null,"",""]
[0,0,null,null,"",""]
[{"$f":"A$135","v":0},0,null,null,"",""]
[0,0,null,null,"",""]
[0,0,null,null,"",""]
[0,0,null,null,"",""]
[0,0,null,null,"",""]
[0,0,null,null,"",""]
[0,0,null,null,"",""]
[0,0,null,null,"",""]
[0,0,null,null,"",""]
[0,0,null,null,"",""]
[0,0,null,null,"",""]
[0,0,null,null,"",""]
[0,0,null,null,"",""]
[{"$f":"'Labor Summary (Office)'!A135","v":0},{"$f":"'Labor Summary (Office)'!B135","v":0},{"$f":"IF(G135>0,\"total\",\"\")","v":""},"Subtotal Line 4",null,null,{"$f":"ROUND(SUM(F105:F134),2)","v":0}]
[{"$f":"A$166","v":0},{"$f":"B$166","v":0},null,null,{"$f":"IFERROR(VLOOKUP(C136,Units_,2,FALSE),\"\")","v":""},{"$f":"IFERROR(ROUND(D136*E136,2),\"\")","v":""}]
[{"$f":"A$166","v":0},0,null,null,"",{"$f":"IFERROR(ROUND(D137*E137,2),\"\")","v":""}]
[0,0,null,null,"",""]
[0,0,null,null,"",""]
[0,0,null,null,"",""]
[0,0,null,null,"",""]
[0,0,null,null,"",""]
[0,0,null,null,"",""]
[0,0,null,null,"",""]
[0,0,null,null,"",""]
[0,0,null,null,"",""]
[0,0,null,null,"",""]
[0,0,null,null,"",""]
[0,0,null,null,"",""]
[0,0,null,null,"",""]
[{"$f":"A$166","v":0},{"$f":"B$166","v":0},null,null,"",""]
[0,0,null,null,"",""]
[{"$f":"A$166","v":0},0,null,null,"",""]
[0,0,null,null,"",""]
[0,0,null,null,"",""]
[0,0,null,null,"",""]
[0,0,null,null,"",""]
[0,0,null,null,"",""]
[0,0,null,null,"",""]
[0,0,null,null,"",""]
[0,0,null,null,"",""]
[0,0,null,null,"",""]
[0,0,null,null,"",""]
[0,0,null,null,"",""]
[0,0,null,null,"",""]
[{"$f":"'Labor Summary (Office)'!A166","v":0},{"$f":"'Labor Summary (Office)'!B166","v":0},{"$f":"IF(G166>0,\"total\",\"\")","v":""},"Subtotal Line 5",null,null,{"$f":"ROUND(SUM(F136:F165),2)","v":0}]
[{"$f":"A$197","v":0},{"$f":"B$197","v":0},null,null,{"$f":"IFERROR(VLOOKUP(C167,Units_,2,FALSE),\"\")","v":""},{"$f":"IFERROR(ROUND(D167*E167,2),\"\")","v":""}]
[{"$f":"A$197","v":0},0,null,null,"",{"$f":"IFERROR(ROUND(D168*E168,2),\"\")","v":""}]
[0,0,null,null,"",""]
[0,0,null,null,"",""]
[0,0,null,null,"",""]
[0,0,null,null,"",""]
[0,0,null,null,"",""]
[0,0,null,null,"",""]
[0,0,null,null,"",""]
[0,0,null,null,"",""]
[0,0,null,null,"",""]
[0,0,null,null,"",""]
[0,0,null,null,"",""]
[0,0,null,null,"",""]
[0,0,null,null,"",""]
[{"$f":"A$197","v":0},{"$f":"B$197","v":0},null,null,"",""]
[0,0,null,null,"",""]
[{"$f":"A$197","v":0},0,null,null,"",""]
[0,0,null,null,"",""]
[0,0,null,null,"",""]
[0,0,null,null,"",""]
[0,0,null,null,"",""]
[0,0,null,null,"",""]
[0,0,null,null,"",""]
[0,0,null,null,"",""]
[0,0,null,null,"",""]
[0,0,null,null,"",""]
[0,0,null,null,"",""]
[0,0,null,null,"",""]
[0,0,null,null,"",""]
[{"$f":"'Labor Summary (Office)'!A197","v":0},{"$f":"'Labor Summary (Office)'!B197","v":0},{"$f":"IF(G197>0,\"total\",\"\")","v":""},"Subtotal Line 6",null,null,{"$f":"ROUND(SUM(F167:F196),2)","v":0}]
[{"$f":"A$228","v":0},{"$f":"B$228","v":0},null,null,{"$f":"IFERROR(VLOOKUP(C198,Units_,2,FALSE),\"\")","v":""},{"$f":"IFERROR(ROUND(D198*E198,2),\"\")","v":""}]
[{"$f":"A$228","v":0},0,null,null,"",{"$f":"IFERROR(ROUND(D199*E199,2),\"\")","v":""}]
[0,0,null,null,"",""]
[0,0,null,null,"",""]
[0,0,null,null,"",""]
[0,0,null,null,"",""]
[0,0,null,null,"",""]
[0,0,null,null,"",""]
[0,0,null,null,"",""]
[0,0,null,null,"",""]
[0,0,null,null,"",""]
[0,0,null,null,"",""]
[0,0,null,null,"",""]
[0,0,null,null,"",""]
[0,0,null,null,"",""]
[{"$f":"A$228","v":0},{"$f":"B$228","v":0},null,null,"",""]
[0,0,null,null,"",""]
[{"$f":"A$228","v":0},0,null,null,"",""]
[0,0,null,null,"",""]
[0,0,null,null,"",""]
[0,0,null,null,"",""]
[0,0,null,null,"",""]
[0,0,null,null,"",""]
[0,0,null,null,"",""]
[0,0,null,null,"",""]
[0,0,null,null,"",""]
[0,0,null,null,"",""]
[0,0,null,null,"",""]
[0,0,null,null,"",""]
[0,0,null,null,"",""]
[{"$f":"'Labor Summary (Office)'!A228","v":0},{"$f":"'Labor Summary (Office)'!B228","v":0},{"$f":"IF(G228>0,\"total\",\"\")","v":""},"Subtotal Line 7",null,null,{"$f":"ROUND(SUM(F198:F227),2)","v":0}]
[{"$f":"A$259","v":0},{"$f":"B$259","v":0},null,null,{"$f":"IFERROR(VLOOKUP(C229,Units_,2,FALSE),\"\")","v":""},{"$f":"IFERROR(ROUND(D229*E229,2),\"\")","v":""}]
[{"$f":"A$259","v":0},0,null,null,"",{"$f":"IFERROR(ROUND(D230*E230,2),\"\")","v":""}]
[0,0,null,null,"",""]
[0,0,null,null,"",""]
[0,0,null,null,"",""]
[0,0,null,null,"",""]
[0,0,null,null,"",""]
[0,0,null,null,"",""]
[0,0,null,null,"",""]
[0,0,null,null,"",""]
[0,0,null,null,"",""]
[0,0,null,null,"",""]
[0,0,null,null,"",""]
[0,0,null,null,"",""]
[0,0,null,null,"",""]
[{"$f":"A$259","v":0},{"$f":"B$259","v":0},null,null,"",""]
[0,0,null,null,"",""]
[{"$f":"A$259","v":0},0,null,null,"",""]
[0,0,null,null,"",""]
[0,0,null,null,"",""]
[0,0,null,null,"",""]
[0,0,null,null,"",""]
[0,0,null,null,"",""]
[0,0,null,null,"",""]
[0,0,null,null,"",""]
[0,0,null,null,"",""]
[0,0,null,null,"",""]
[0,0,null,null,"",""]
[0,0,null,null,"",""]
[0,0,null,null,"",""]
[{"$f":"'Labor Summary (Office)'!A259","v":0},{"$f":"'Labor Summary (Office)'!B259","v":0},{"$f":"IF(G259>0,\"total\",\"\")","v":""},"Subtotal Line 8",null,null,{"$f":"ROUND(SUM(F229:F258),2)","v":0}]
[{"$f":"A$290","v":0},{"$f":"B$290","v":0},null,null,{"$f":"IFERROR(VLOOKUP(C260,Units_,2,FALSE),\"\")","v":""},{"$f":"IFERROR(ROUND(D260*E260,2),\"\")","v":""}]
[{"$f":"A$290","v":0},0,null,null,"",{"$f":"IFERROR(ROUND(D261*E261,2),\"\")","v":""}]
[0,0,null,null,"",""]
[0,0,null,null,"",""]
[0,0,null,null,"",""]
[0,0,null,null,"",""]
[0,0,null,null,"",""]
[0,0,null,null,"",""]
[0,0,null,null,"",""]
[0,0,null,null,"",""]
[0,0,null,null,"",""]
[0,0,null,null,"",""]
[0,0,null,null,"",""]
[0,0,null,null,"",""]
[0,0,null,null,"",""]
[{"$f":"A$290","v":0},{"$f":"B$290","v":0},null,null,"",""]
[0,0,null,null,"",""]
[{"$f":"A$290","v":0},0,null,null,"",""]
[0,0,null,null,"",""]
[0,0,null,null,"",""]
[0,0,null,null,"",""]
[0,0,null,null,"",""]
[0,0,null,null,"",""]
[0,0,null,null,"",""]
[0,0,null,null,"",""]
[0,0,null,null,"",""]
[0,0,null,null,"",""]
[0,0,null,null,"",""]
[0,0,null,null,"",""]
[0,0,null,null,"",""]
[{"$f":"'Labor Summary (Office)'!A290","v":0},{"$f":"'Labor Summary (Office)'!B290","v":0},{"$f":"IF(G290>0,\"total\",\"\")","v":""},"Subtotal Line 9",null,null,{"$f":"ROUND(SUM(F260:F289),2)","v":0}]
[{"$f":"A$321","v":0},{"$f":"B$321","v":0},null,null,{"$f":"IFERROR(VLOOKUP(C291,Units_,2,FALSE),\"\")","v":""},{"$f":"IFERROR(ROUND(D291*E291,2),\"\")","v":""}]
[{"$f":"A$321","v":0},0,null,null,"",{"$f":"IFERROR(ROUND(D292*E292,2),\"\")","v":""}]
[0,0,null,null,"",""]
[0,0,null,null,"",""]
[0,0,null,null,"",""]
[0,0,null,null,"",""]
[0,0,null,null,"",""]
[0,0,null,null,"",""]
[0,0,null,null,"",""]
[0,0,null,null,"",""]
[0,0,null,null,"",""]
[0,0,null,null,"",""]
[0,0,null,null,"",""]
[0,0,null,null,"",""]
[0,0,null,null,"",""]
[{"$f":"A$321","v":0},{"$f":"B$321","v":0},null,null,"",""]
[0,0,null,null,"",""]
[{"$f":"A$321","v":0},0,null,null,"",""]
[0,0,null,null,"",""]
[0,0,null,null,"",""]
[0,0,null,null,"",""]
[0,0,null,null,"",""]
[0,0,null,null,"",""]
[0,0,null,null,"",""]
[0,0,null,null,"",""]
[0,0,null,null,"",""]
[0,0,null,null,"",""]
[0,0,null,null,"",""]
[0,0,null,null,"",""]
[0,0,null,null,"",""]
[{"$f":"'Labor Summary (Office)'!A321","v":0},{"$f":"'Labor Summary (Office)'!B321","v":0},{"$f":"IF(G321>0,\"total\",\"\")","v":""},"Subtotal Line 10",null,null,{"$f":"ROUND(SUM(F291:F320),2)","v":0}]
[{"$f":"A$352","v":0},{"$f":"B$352","v":0},null,null,{"$f":"IFERROR(VLOOKUP(C322,Units_,2,FALSE),\"\")","v":""},{"$f":"IFERROR(ROUND(D322*E322,2),\"\")","v":""}]
[{"$f":"A$352","v":0},0,null,null,"",{"$f":"IFERROR(ROUND(D323*E323,2),\"\")","v":""}]
[0,0,null,null,"",""]
[0,0,null,null,"",""]
[0,0,null,null,"",""]
[0,0,null,null,"",""]
[0,0,null,null,"",""]
[0,0,null,null,"",""]
[0,0,null,null,"",""]
[0,0,null,null,"",""]
[0,0,null,null,"",""]
[0,0,null,null,"",""]
[0,0,null,null,"",""]
[0,0,null,null,"",""]
[0,0,null,null,"",""]
[{"$f":"A$352","v":0},{"$f":"B$352","v":0},null,null,"",""]
[0,0,null,null,"",""]
[{"$f":"A$352","v":0},0,null,null,"",""]
[0,0,null,null,"",""]
[0,0,null,null,"",""]
[0,0,null,null,"",""]
[0,0,null,null,"",""]
[0,0,null,null,"",""]
[0,0,null,null,"",""]
[0,0,null,null,"",""]
[0,0,null,null,"",""]
[0,0,null,null,"",""]
[0,0,null,null,"",""]
[0,0,null,null,"",""]
[0,0,null,null,"",""]
[{"$f":"'Labor Summary (Office)'!A352","v":0},{"$f":"'Labor Summary (Office)'!B352","v":0},{"$f":"IF(G352>0,\"total\",\"\")","v":""},"Subtotal Line 11",null,null,{"$f":"ROUND(SUM(F322:F351),2)","v":0}]
[{"$f":"A$383","v":0},{"$f":"B$383","v":0},null,null,{"$f":"IFERROR(VLOOKUP(C353,Units_,2,FALSE),\"\")","v":""},{"$f":"IFERROR(ROUND(D353*E353,2),\"\")","v":""}]
[{"$f":"A$383","v":0},0,null,null,"",{"$f":"IFERROR(ROUND(D354*E354,2),\"\")","v":""}]
[0,0,null,null,"",""]
[0,0,null,null,"",""]
[0,0,null,null,"",""]
[0,0,null,null,"",""]
[0,0,null,null,"",""]
[0,0,null,null,"",""]
[0,0,null,null,"",""]
[0,0,null,null,"",""]
[0,0,null,null,"",""]
[0,0,null,null,"",""]
[0,0,null,null,"",""]
[0,0,null,null,"",""]
[0,0,null,null,"",""]
[{"$f":"A$383","v":0},{"$f":"B$383","v":0},null,null,"",""]
[0,0,null,null,"",""]
[{"$f":"A$383","v":0},0,null,null,"",""]
[0,0,null,null,"",""]
[0,0,null,null,"",""]
[0,0,null,null,"",""]
[0,0,null,null,"",""]
[0,0,null,null,"",""]
[0,0,null,null,"",""]
[0,0,null,null,"",""]
[0,0,null,null,"",""]
[0,0,null,null,"",""]
[0,0,null,null,"",""]
[0,0,null,null,"",""]
[0,0,null,null,"",""]
[{"$f":"'Labor Summary (Office)'!A383","v":0},{"$f":"'Labor Summary (Office)'!B383","v":0},{"$f":"IF(G383>0,\"total\",\"\")","v":""},"Subtotal Line 12",null,null,{"$f":"ROUND(SUM(F353:F382),2)","v":0}]
[{"$f":"A$414","v":0},{"$f":"B$414","v":0},null,null,{"$f":"IFERROR(VLOOKUP(C384,Units_,2,FALSE),\"\")","v":""},{"$f":"IFERROR(ROUND(D384*E384,2),\"\")","v":""}]
[{"$f":"A$414","v":0},0,null,null,"",{"$f":"IFERROR(ROUND(D385*E385,2),\"\")","v":""}]
[0,0,null,null,"",""]
[0,0,null,null,"",""]
[0,0,null,null,"",""]
[0,0,null,null,"",""]
[0,0,null,null,"",""]
[0,0,null,null,"",""]
[0,0,null,null,"",""]
[0,0,null,null,"",""]
[0,0,null,null,"",""]
[0,0,null,null,"",""]
[0,0,null,null,"",""]
[0,0,null,null,"",""]
[0,0,null,null,"",""]
[{"$f":"A$414","v":0},{"$f":"B$414","v":0},null,null,"",""]
[0,0,null,null,"",""]
[{"$f":"A$414","v":0},0,null,null,"",""]
[0,0,null,null,"",""]
[0,0,null,null,"",""]
[0,0,null,null,"",""]
[0,0,null,null,"",""]
[0,0,null,null,"",""]
[0,0,null,null,"",""]
[0,0,null,null,"",""]
[0,0,null,null,"",""]
[0,0,null,null,"",""]
[0,0,null,null,"",""]
[0,0,null,null,"",""]
[0,0,null,null,"",""]
[{"$f":"'Labor Summary (Office)'!A414","v":0},{"$f":"'Labor Summary (Office)'!B414","v":0},{"$f":"IF(G414>0,\"total\",\"\")","v":""},"Subtotal Line 13",null,null,{"$f":"ROUND(SUM(F384:F413),2)","v":0}]
[{"$f":"A$445","v":0},{"$f":"B$445","v":0},null,null,{"$f":"IFERROR(VLOOKUP(C415,Units_,2,FALSE),\"\")","v":""},{"$f":"IFERROR(ROUND(D415*E415,2),\"\")","v":""}]
[{"$f":"A$445","v":0},0,null,null,"",{"$f":"IFERROR(ROUND(D416*E416,2),\"\")","v":""}]
[0,0,null,null,"",""]
[0,0,null,null,"",""]
[0,0,null,null,"",""]
[0,0,null,null,"",""]
[0,0,null,null,"",""]
[0,0,null,null,"",""]
[0,0,null,null,"",""]
[0,0,null,null,"",""]
[0,0,null,null,"",""]
[0,0,null,null,"",""]
[0,0,null,null,"",""]
[0,0,null,null,"",""]
[0,0,null,null,"",""]
[{"$f":"A$445","v":0},{"$f":"B$445","v":0},null,null,"",""]
[0,0,null,null,"",""]
[{"$f":"A$445","v":0},0,null,null,"",""]
[0,0,null,null,"",""]
[0,0,null,null,"",""]
[0,0,null,null,"",""]
[0,0,null,null,"",""]
[0,0,null,null,"",""]
[0,0,null,null,"",""]
[0,0,null,null,"",""]
[0,0,null,null,"",""]
[0,0,null,null,"",""]
[0,0,null,null,"",""]
[0,0,null,null,"",""]
[0,0,null,null,"",""]
[{"$f":"'Labor Summary (Office)'!A445","v":0},{"$f":"'Labor Summary (Office)'!B445","v":0},{"$f":"IF(G445>0,\"total\",\"\")","v":""},"Subtotal Line 14",null,null,{"$f":"ROUND(SUM(F415:F444),2)","v":0}]
[{"$f":"A$476","v":0},{"$f":"B$476","v":0},null,null,{"$f":"IFERROR(VLOOKUP(C446,Units_,2,FALSE),\"\")","v":""},{"$f":"IFERROR(ROUND(D446*E446,2),\"\")","v":""}]
[{"$f":"A$476","v":0},0,null,null,"",{"$f":"IFERROR(ROUND(D447*E447,2),\"\")","v":""}]
[0,0,null,null,"",""]
[0,0,null,null,"",""]
[0,0,null,null,"",""]
[0,0,null,null,"",""]
[0,0,null,null,"",""]
[0,0,null,null,"",""]
[0,0,null,null,"",""]
[0,0,null,null,"",""]
[0,0,null,null,"",""]
[0,0,null,null,"",""]
[0,0,null,null,"",""]
[0,0,null,null,"",""]
[0,0,null,null,"",""]
[{"$f":"A$476","v":0},{"$f":"B$476","v":0},null,null,"",""]
[0,0,null,null,"",""]
[{"$f":"A$476","v":0},0,null,null,"",""]
[0,0,null,null,"",""]
[0,0,null,null,"",""]
[0,0,null,null,"",""]
[0,0,null,null,"",""]
[0,0,null,null,"",""]
[0,0,null,null,"",""]
[0,0,null,null,"",""]
[0,0,null,null,"",""]
[0,0,null,null,"",""]
[0,0,null,null,"",""]
[0,0,null,null,"",""]
[0,0,null,null,"",""]
[{"$f":"'Labor Summary (Office)'!A476","v":0},{"$f":"'Labor Summary (Office)'!B476","v":0},{"$f":"IF(G476>0,\"total\",\"\")","v":""},"Subtotal Line 15",null,null,{"$f":"ROUND(SUM(F446:F475),2)","v":0}]
[{"$f":"A$507","v":0},{"$f":"B$507","v":0},null,null,{"$f":"IFERROR(VLOOKUP(C477,Units_,2,FALSE),\"\")","v":""},{"$f":"IFERROR(ROUND(D477*E477,2),\"\")","v":""}]
[{"$f":"A$507","v":0},0,null,null,"",{"$f":"IFERROR(ROUND(D478*E478,2),\"\")","v":""}]
[0,0,null,null,"",""]
[0,0,null,null,"",""]
[0,0,null,null,"",""]
[0,0,null,null,"",""]
[0,0,null,null,"",""]
[0,0,null,null,"",""]
[0,0,null,null,"",""]
[0,0,null,null,"",""]
[0,0,null,null,"",""]
[0,0,null,null,"",""]
[0,0,null,null,"",""]
[0,0,null,null,"",""]
[0,0,null,null,"",""]
[{"$f":"A$507","v":0},{"$f":"B$507","v":0},null,null,"",""]
[0,0,null,null,"",""]
[{"$f":"A$507","v":0},0,null,null,"",""]
[0,0,null,null,"",""]
[0,0,null,null,"",""]
[0,0,null,null,"",""]
[0,0,null,null,"",""]
[0,0,null,null,"",""]
[0,0,null,null,"",""]
[0,0,null,null,"",""]
[0,0,null,null,"",""]
[0,0,null,null,"",""]
[0,0,null,null,"",""]
[0,0,null,null,"",""]
[0,0,null,null,"",""]
[{"$f":"'Labor Summary (Office)'!A507","v":0},{"$f":"'Labor Summary (Office)'!B507","v":0},{"$f":"IF(G507>0,\"total\",\"\")","v":""},"Subtotal Line 16",null,null,{"$f":"ROUND(SUM(F477:F506),2)","v":0}]
[{"$f":"A$538","v":0},{"$f":"B$538","v":0},null,null,{"$f":"IFERROR(VLOOKUP(C508,Units_,2,FALSE),\"\")","v":""},{"$f":"IFERROR(ROUND(D508*E508,2),\"\")","v":""}]
[{"$f":"A$538","v":0},0,null,null,"",{"$f":"IFERROR(ROUND(D509*E509,2),\"\")","v":""}]
[0,0,null,null,"",""]
[0,0,null,null,"",""]
[0,0,null,null,"",""]
[0,0,null,null,"",""]
[0,0,null,null,"",""]
[0,0,null,null,"",""]
[0,0,null,null,"",""]
[0,0,null,null,"",""]
[0,0,null,null,"",""]
[0,0,null,null,"",""]
[0,0,null,null,"",""]
[0,0,null,null,"",""]
[0,0,null,null,"",""]
[{"$f":"A$538","v":0},{"$f":"B$538","v":0},null,null,"",""]
[0,0,null,null,"",""]
[{"$f":"A$538","v":0},0,null,null,"",""]
[0,0,null,null,"",""]
[0,0,null,null,"",""]
[0,0,null,null,"",""]
[0,0,null,null,"",""]
[0,0,null,null,"",""]
[0,0,null,null,"",""]
[0,0,null,null,"",""]
[0,0,null,null,"",""]
[0,0,null,null,"",""]
[0,0,null,null,"",""]
[0,0,null,null,"",""]
[0,0,null,null,"",""]
[{"$f":"'Labor Summary (Office)'!A538","v":0},{"$f":"'Labor Summary (Office)'!B538","v":0},{"$f":"IF(G538>0,\"total\",\"\")","v":""},"Subtotal Line 17",null,null,{"$f":"ROUND(SUM(F508:F537),2)","v":0}]
[{"$f":"A$569","v":0},{"$f":"B$569","v":0},null,null,{"$f":"IFERROR(VLOOKUP(C539,Units_,2,FALSE),\"\")","v":""},{"$f":"IFERROR(ROUND(D539*E539,2),\"\")","v":""}]
[{"$f":"A$569","v":0},0,null,null,"",{"$f":"IFERROR(ROUND(D540*E540,2),\"\")","v":""}]
[0,0,null,null,"",""]
[0,0,null,null,"",""]
[0,0,null,null,"",""]
[0,0,null,null,"",""]
[0,0,null,null,"",""]
[0,0,null,null,"",""]
[0,0,null,null,"",""]
[0,0,null,null,"",""]
[0,0,null,null,"",""]
[0,0,null,null,"",""]
[0,0,null,null,"",""]
[0,0,null,null,"",""]
[0,0,null,null,"",""]
[{"$f":"A$569","v":0},{"$f":"B$569","v":0},null,null,"",""]
[0,0,null,null,"",""]
[{"$f":"A$569","v":0},0,null,null,"",""]
[0,0,null,null,"",""]
[0,0,null,null,"",""]
[0,0,null,null,"",""]
[0,0,null,null,"",""]
[0,0,null,null,"",""]
[0,0,null,null,"",""]
[0,0,null,null,"",""]
[0,0,null,null,"",""]
[0,0,null,null,"",""]
[0,0,null,null,"",""]
[0,0,null,null,"",""]
[0,0,null,null,"",""]
[{"$f":"'Labor Summary (Office)'!A569","v":0},{"$f":"'Labor Summary (Office)'!B569","v":0},{"$f":"IF(G569>0,\"total\",\"\")","v":""},"Subtotal Line 18",null,null,{"$f":"ROUND(SUM(F539:F568),2)","v":0}]
[{"$f":"A$600","v":0},{"$f":"B$600","v":0},null,null,{"$f":"IFERROR(VLOOKUP(C570,Units_,2,FALSE),\"\")","v":""},{"$f":"IFERROR(ROUND(D570*E570,2),\"\")","v":""}]
[{"$f":"A$600","v":0},0,null,null,"",{"$f":"IFERROR(ROUND(D571*E571,2),\"\")","v":""}]
[0,0,null,null,"",""]
[0,0,null,null,"",""]
[0,0,null,null,"",""]
[0,0,null,null,"",""]
[0,0,null,null,"",""]
[0,0,null,null,"",""]
[0,0,null,null,"",""]
[0,0,null,null,"",""]
[0,0,null,null,"",""]
[0,0,null,null,"",""]
[0,0,null,null,"",""]
[0,0,null,null,"",""]
[0,0,null,null,"",""]
[{"$f":"A$600","v":0},{"$f":"B$600","v":0},null,null,"",""]
[0,0,null,null,"",""]
[{"$f":"A$600","v":0},0,null,null,"",""]
[0,0,null,null,"",""]
[0,0,null,null,"",""]
[0,0,null,null,"",""]
[0,0,null,null,"",""]
[0,0,null,null,"",""]
[0,0,null,null,"",""]
[0,0,null,null,"",""]
[0,0,null,null,"",""]
[0,0,null,null,"",""]
[0,0,null,null,"",""]
[0,0,null,null,"",""]
[0,0,null,null,"",""]
[{"$f":"'Labor Summary (Office)'!A600","v":0},{"$f":"'Labor Summary (Office)'!B600","v":0},{"$f":"IF(G600>0,\"total\",\"\")","v":""},"Subtotal Line 19",null,null,{"$f":"ROUND(SUM(F570:F599),2)","v":0}]
[{"$f":"A$631","v":0},{"$f":"B$631","v":0},null,null,{"$f":"IFERROR(VLOOKUP(C601,Units_,2,FALSE),\"\")","v":""},{"$f":"IFERROR(ROUND(D601*E601,2),\"\")","v":""}]
[{"$f":"A$631","v":0},0,null,null,"",{"$f":"IFERROR(ROUND(D602*E602,2),\"\")","v":""}]
[0,0,null,null,"",""]
[0,0,null,null,"",""]
[0,0,null,null,"",""]
[0,0,null,null,"",""]
[0,0,null,null,"",""]
[0,0,null,null,"",""]
[0,0,null,null,"",""]
[0,0,null,null,"",""]
[0,0,null,null,"",""]
[0,0,null,null,"",""]
[0,0,null,null,"",""]
[0,0,null,null,"",""]
[0,0,null,null,"",""]
[{"$f":"A$631","v":0},{"$f":"B$631","v":0},null,null,"",""]
[0,0,null,null,"",""]
[{"$f":"A$631","v":0},0,null,null,"",""]
[0,0,null,null,"",""]
[0,0,null,null,"",""]
[0,0,null,null,"",""]
[0,0,null,null,"",""]
[0,0,null,null,"",""]
[0,0,null,null,"",""]
[0,0,null,null,"",""]
[0,0,null,null,"",""]
[0,0,null,null,"",""]
[0,0,null,null,"",""]
[0,0,null,null,"",""]
[0,0,null,null,"",""]
[{"$f":"'Labor Summary (Office)'!A631","v":0},{"$f":"'Labor Summary (Office)'!B631","v":0},{"$f":"IF(G631>0,\"total\",\"\")","v":""},"Subtotal Line 20",null,null,{"$f":"ROUND(SUM(F601:F630),2)","v":0}]
[{"$f":"A$662","v":0},{"$f":"B$662","v":0},null,null,{"$f":"IFERROR(VLOOKUP(C632,Units_,2,FALSE),\"\")","v":""},{"$f":"IFERROR(ROUND(D632*E632,2),\"\")","v":""}]
[{"$f":"A$662","v":0},0,null,null,"",{"$f":"IFERROR(ROUND(D633*E633,2),\"\")","v":""}]
[0,0,null,null,"",""]
[0,0,null,null,"",""]
[0,0,null,null,"",""]
[0,0,null,null,"",""]
[0,0,null,null,"",""]
[0,0,null,null,"",""]
[0,0,null,null,"",""]
[0,0,null,null,"",""]
[0,0,null,null,"",""]
[0,0,null,null,"",""]
[0,0,null,null,"",""]
[0,0,null,null,"",""]
[0,0,null,null,"",""]
[{"$f":"A$662","v":0},{"$f":"B$662","v":0},null,null,"",""]
[0,0,null,null,"",""]
[{"$f":"A$662","v":0},0,null,null,"",""]
[0,0,null,null,"",""]
[0,0,null,null,"",""]
[0,0,null,null,"",""]
[0,0,null,null,"",""]
[0,0,null,null,"",""]
[0,0,null,null,"",""]
[0,0,null,null,"",""]
[0,0,null,null,"",""]
[0,0,null,null,"",""]
[0,0,null,null,"",""]
[0,0,null,null,"",""]
[0,0,null,null,"",""]
[{"$f":"'Labor Summary (Office)'!A662","v":0},{"$f":"'Labor Summary (Office)'!B662","v":0},{"$f":"IF(G662>0,\"total\",\"\")","v":""},"Subtotal Line 21",null,null,{"$f":"ROUND(SUM(F632:F661),2)","v":0}]
[{"$f":"A$693","v":0},{"$f":"B$693","v":0},null,null,{"$f":"IFERROR(VLOOKUP(C663,Units_,2,FALSE),\"\")","v":""},{"$f":"IFERROR(ROUND(D663*E663,2),\"\")","v":""}]
[{"$f":"A$693","v":0},0,null,null,"",{"$f":"IFERROR(ROUND(D664*E664,2),\"\")","v":""}]
[0,0,null,null,"",""]
[0,0,null,null,"",""]
[0,0,null,null,"",""]
[0,0,null,null,"",""]
[0,0,null,null,"",""]
[0,0,null,null,"",""]
[0,0,null,null,"",""]
[0,0,null,null,"",""]
[0,0,null,null,"",""]
[0,0,null,null,"",""]
[0,0,null,null,"",""]
[0,0,null,null,"",""]
[0,0,null,null,"",""]
[{"$f":"A$693","v":0},{"$f":"B$693","v":0},null,null,"",""]
[0,0,null,null,"",""]
[{"$f":"A$693","v":0},0,null,null,"",""]
[0,0,null,null,"",""]
[0,0,null,null,"",""]
[0,0,null,null,"",""]
[0,0,null,null,"",""]
[0,0,null,null,"",""]
[0,0,null,null,"",""]
[0,0,null,null,"",""]
[0,0,null,null,"",""]
[0,0,null,null,"",""]
[0,0,null,null,"",""]
[0,0,null,null,"",""]
[0,0,null,null,"",""]
[{"$f":"'Labor Summary (Office)'!A693","v":0},{"$f":"'Labor Summary (Office)'!B693","v":0},{"$f":"IF(G693>0,\"total\",\"\")","v":""},"Subtotal Line 22",null,null,{"$f":"ROUND(SUM(F663:F692),2)","v":0}]
[{"$f":"A$724","v":0},{"$f":"B$724","v":0},null,null,{"$f":"IFERROR(VLOOKUP(C694,Units_,2,FALSE),\"\")","v":""},{"$f":"IFERROR(ROUND(D694*E694,2),\"\")","v":""}]
[{"$f":"A$724","v":0},0,null,null,"",{"$f":"IFERROR(ROUND(D695*E695,2),\"\")","v":""}]
[0,0,null,null,"",""]
[0,0,null,null,"",""]
[0,0,null,null,"",""]
[0,0,null,null,"",""]
[0,0,null,null,"",""]
[0,0,null,null,"",""]
[0,0,null,null,"",""]
[0,0,null,null,"",""]
[0,0,null,null,"",""]
[0,0,null,null,"",""]
[0,0,null,null,"",""]
[0,0,null,null,"",""]
[0,0,null,null,"",""]
[{"$f":"A$724","v":0},{"$f":"B$724","v":0},null,null,"",""]
[0,0,null,null,"",""]
[{"$f":"A$724","v":0},0,null,null,"",""]
[0,0,null,null,"",""]
[0,0,null,null,"",""]
[0,0,null,null,"",""]
[0,0,null,null,"",""]
[0,0,null,null,"",""]
[0,0,null,null,"",""]
[0,0,null,null,"",""]
[0,0,null,null,"",""]
[0,0,null,null,"",""]
[0,0,null,null,"",""]
[0,0,null,null,"",""]
[0,0,null,null,"",""]
[{"$f":"'Labor Summary (Office)'!A724","v":0},{"$f":"'Labor Summary (Office)'!B724","v":0},{"$f":"IF(G724>0,\"total\",\"\")","v":""},"Subtotal Line 23",null,null,{"$f":"ROUND(SUM(F694:F723),2)","v":0}]
[{"$f":"A$755","v":0},{"$f":"B$755","v":0},null,null,{"$f":"IFERROR(VLOOKUP(C725,Units_,2,FALSE),\"\")","v":""},{"$f":"IFERROR(ROUND(D725*E725,2),\"\")","v":""}]
[{"$f":"A$755","v":0},0,null,null,"",{"$f":"IFERROR(ROUND(D726*E726,2),\"\")","v":""}]
[0,0,null,null,"",""]
[0,0,null,null,"",""]
[0,0,null,null,"",""]
[0,0,null,null,"",""]
[0,0,null,null,"",""]
[0,0,null,null,"",""]
[0,0,null,null,"",""]
[0,0,null,null,"",""]
[0,0,null,null,"",""]
[0,0,null,null,"",""]
[0,0,null,null,"",""]
[0,0,null,null,"",""]
[0,0,null,null,"",""]
[{"$f":"A$755","v":0},{"$f":"B$755","v":0},null,null,"",""]
[0,0,null,null,"",""]
[{"$f":"A$755","v":0},0,null,null,"",""]
[0,0,null,null,"",""]
[0,0,null,null,"",""]
[0,0,null,null,"",""]
[0,0,null,null,"",""]
[0,0,null,null,"",""]
[0,0,null,null,"",""]
[0,0,null,null,"",""]
[0,0,null,null,"",""]
[0,0,null,null,"",""]
[0,0,null,null,"",""]
[0,0,null,null,"",""]
[0,0,null,null,"",""]
[{"$f":"'Labor Summary (Office)'!A755","v":0},{"$f":"'Labor Summary (Office)'!B755","v":0},{"$f":"IF(G755>0,\"total\",\"\")","v":""},"Subtotal Line 24",null,null,{"$f":"ROUND(SUM(F725:F754),2)","v":0}]
[{"$f":"A$786","v":0},{"$f":"B$786","v":0},null,null,{"$f":"IFERROR(VLOOKUP(C756,Units_,2,FALSE),\"\")","v":""},{"$f":"IFERROR(ROUND(D756*E756,2),\"\")","v":""}]
[{"$f":"A$786","v":0},0,null,null,"",{"$f":"IFERROR(ROUND(D757*E757,2),\"\")","v":""}]
[0,0,null,null,"",""]
[0,0,null,null,"",""]
[0,0,null,null,"",""]
[0,0,null,null,"",""]
[0,0,null,null,"",""]
[0,0,null,null,"",""]
[0,0,null,null,"",""]
[0,0,null,null,"",""]
[0,0,null,null,"",""]
[0,0,null,null,"",""]
[0,0,null,null,"",""]
[0,0,null,null,"",""]
[0,0,null,null,"",""]
[{"$f":"A$786","v":0},{"$f":"B$786","v":0},null,null,"",""]
[0,0,null,null,"",""]
[{"$f":"A$786","v":0},0,null,null,"",""]
[0,0,null,null,"",""]
[0,0,null,null,"",""]
[0,0,null,null,"",""]
[0,0,null,null,"",""]
[0,0,null,null,"",""]
[0,0,null,null,"",""]
[0,0,null,null,"",""]
[0,0,null,null,"",""]
[0,0,null,null,"",""]
[0,0,null,null,"",""]
[0,0,null,null,"",""]
[0,0,null,null,"",""]
[{"$f":"'Labor Summary (Office)'!A786","v":0},{"$f":"'Labor Summary (Office)'!B786","v":0},{"$f":"IF(G786>0,\"total\",\"\")","v":""},"Subtotal Line 25",null,null,{"$f":"ROUND(SUM(F756:F785),2)","v":0}]
[{"$f":"A$817","v":0},{"$f":"B$817","v":0},null,null,{"$f":"IFERROR(VLOOKUP(C787,Units_,2,FALSE),\"\")","v":""},{"$f":"IFERROR(ROUND(D787*E787,2),\"\")","v":""}]
[{"$f":"A$817","v":0},0,null,null,"",{"$f":"IFERROR(ROUND(D788*E788,2),\"\")","v":""}]
[0,0,null,null,"",""]
[0,0,null,null,"",""]
[0,0,null,null,"",""]
[0,0,null,null,"",""]
[0,0,null,null,"",""]
[0,0,null,null,"",""]
[0,0,null,null,"",""]
[0,0,null,null,"",""]
[0,0,null,null,"",""]
[0,0,null,null,"",""]
[0,0,null,null,"",""]
[0,0,null,null,"",""]
[0,0,null,null,"",""]
[{"$f":"A$817","v":0},{"$f":"B$817","v":0},null,null,"",""]
[0,0,null,null,"",""]
[{"$f":"A$817","v":0},0,null,null,"",""]
[0,0,null,null,"",""]
[0,0,null,null,"",""]
[0,0,null,null,"",""]
[0,0,null,null,"",""]
[0,0,null,null,"",""]
[0,0,null,null,"",""]
[0,0,null,null,"",""]
[0,0,null,null,"",""]
[0,0,null,null,"",""]
[0,0,null,null,"",""]
[0,0,null,null,"",""]
[0,0,null,null,"",""]
[{"$f":"'Labor Summary (Office)'!A817","v":0},{"$f":"'Labor Summary (Office)'!B817","v":0},{"$f":"IF(G817>0,\"total\",\"\")","v":""},"Subtotal Line 26",null,null,{"$f":"ROUND(SUM(F787:F816),2)","v":0}]
[{"$f":"A$848","v":0},{"$f":"B$848","v":0},null,null,{"$f":"IFERROR(VLOOKUP(C818,Units_,2,FALSE),\"\")","v":""},{"$f":"IFERROR(ROUND(D818*E818,2),\"\")","v":""}]
[{"$f":"A$848","v":0},0,null,null,"",{"$f":"IFERROR(ROUND(D819*E819,2),\"\")","v":""}]
[0,0,null,null,"",""]
[0,0,null,null,"",""]
[0,0,null,null,"",""]
[0,0,null,null,"",""]
[0,0,null,null,"",""]
[0,0,null,null,"",""]
[0,0,null,null,"",""]
[0,0,null,null,"",""]
[0,0,null,null,"",""]
[0,0,null,null,"",""]
[0,0,null,null,"",""]
[0,0,null,null,"",""]
[0,0,null,null,"",""]
[{"$f":"A$848","v":0},{"$f":"B$848","v":0},null,null,"",""]
[0,0,null,null,"",""]
[{"$f":"A$848","v":0},0,null,null,"",""]
[0,0,null,null,"",""]
[0,0,null,null,"",""]
[0,0,null,null,"",""]
[0,0,null,null,"",""]
[0,0,null,null,"",""]
[0,0,null,null,"",""]
[0,0,null,null,"",""]
[0,0,null,null,"",""]
[0,0,null,null,"",""]
[0,0,null,null,"",""]
[0,0,null,null,"",""]
[0,0,null,null,"",""]
[{"$f":"'Labor Summary (Office)'!A848","v":0},{"$f":"'Labor Summary (Office)'!B848","v":0},{"$f":"IF(G848>0,\"total\",\"\")","v":""},"Subtotal Line 27",null,null,{"$f":"ROUND(SUM(F818:F847),2)","v":0}]
[{"$f":"A$879","v":0},{"$f":"B$879","v":0},null,null,{"$f":"IFERROR(VLOOKUP(C849,Units_,2,FALSE),\"\")","v":""},{"$f":"IFERROR(ROUND(D849*E849,2),\"\")","v":""}]
[{"$f":"A$879","v":0},0,null,null,"",{"$f":"IFERROR(ROUND(D850*E850,2),\"\")","v":""}]
[0,0,null,null,"",""]
[0,0,null,null,"",""]
[0,0,null,null,"",""]
[0,0,null,null,"",""]
[0,0,null,null,"",""]
[0,0,null,null,"",""]
[0,0,null,null,"",""]
[0,0,null,null,"",""]
[0,0,null,null,"",""]
[0,0,null,null,"",""]
[0,0,null,null,"",""]
[0,0,null,null,"",""]
[0,0,null,null,"",""]
[{"$f":"A$879","v":0},{"$f":"B$879","v":0},null,null,"",""]
[0,0,null,null,"",""]
[{"$f":"A$879","v":0},0,null,null,"",""]
[0,0,null,null,"",""]
[0,0,null,null,"",""]
[0,0,null,null,"",""]
[0,0,null,null,"",""]
[0,0,null,null,"",""]
[0,0,null,null,"",""]
[0,0,null,null,"",""]
[0,0,null,null,"",""]
[0,0,null,null,"",""]
[0,0,null,null,"",""]
[0,0,null,null,"",""]
[0,0,null,null,"",""]
[{"$f":"'Labor Summary (Office)'!A879","v":0},{"$f":"'Labor Summary (Office)'!B879","v":0},{"$f":"IF(G879>0,\"total\",\"\")","v":""},"Subtotal Line 28",null,null,{"$f":"ROUND(SUM(F849:F878),2)","v":0}]
[{"$f":"A$910","v":0},0,null,null,{"$f":"IFERROR(VLOOKUP(C880,Units_,2,FALSE),\"\")","v":""},{"$f":"IFERROR(ROUND(D880*E880,2),\"\")","v":""}]
[0,0,null,null,"",{"$f":"IFERROR(ROUND(D881*E881,2),\"\")","v":""}]
[0,0,null,null,"",""]
[0,0,null,null,"",""]
[0,0,null,null,"",""]
[0,0,null,null,"",""]
[0,0,null,null,"",""]
[0,0,null,null,"",""]
[0,0,null,null,"",""]
[0,0,null,null,"",""]
[0,0,null,null,"",""]
[0,0,null,null,"",""]
[0,0,null,null,"",""]
[0,0,null,null,"",""]
[0,0,null,null,"",""]
[0,0,null,null,"",""]
[0,0,null,null,"",""]
[0,0,null,null,"",""]
[0,0,null,null,"",""]
[0,0,null,null,"",""]
[0,0,null,null,"",""]
[0,0,null,null,"",""]
[0,0,null,null,"",""]
[0,0,null,null,"",""]
[0,0,null,null,"",""]
[0,0,null,null,"",""]
[0,0,null,null,"",""]
[0,0,null,null,"",""]
[0,0,null,null,"",""]
[0,0,null,null,"",""]
[{"$f":"'Labor Summary (Office)'!A910","v":0},{"$f":"'Labor Summary (Office)'!B910","v":0},{"$f":"IF(G910>0,\"total\",\"\")","v":""},"Subtotal Line 29",null,null,{"$f":"ROUND(SUM(F880:F909),2)","v":0}]
[{"$f":"A$941","v":0},{"$f":"B$941","v":0},null,null,{"$f":"IFERROR(VLOOKUP(C911,Units_,2,FALSE),\"\")","v":""},{"$f":"IFERROR(ROUND(D911*E911,2),\"\")","v":""}]
[{"$f":"A$941","v":0},0,null,null,"",{"$f":"IFERROR(ROUND(D912*E912,2),\"\")","v":""}]
[0,0,null,null,"",""]
[0,0,null,null,"",""]
[0,0,null,null,"",""]
[0,0,null,null,"",""]
[0,0,null,null,"",""]
[0,0,null,null,"",""]
[0,0,null,null,"",""]
[0,0,null,null,"",""]
[0,0,null,null,"",""]
[0,0,null,null,"",""]
[0,0,null,null,"",""]
[0,0,null,null,"",""]
[0,0,null,null,"",""]
[{"$f":"A$941","v":0},{"$f":"B$941","v":0},null,null,"",""]
[0,0,null,null,"",""]
[{"$f":"A$941","v":0},0,null,null,"",""]
[0,0,null,null,"",""]
[0,0,null,null,"",""]
[0,0,null,null,"",""]
[0,0,null,null,"",""]
[0,0,null,null,"",""]
[0,0,null,null,"",""]
[0,0,null,null,"",""]
[0,0,null,null,"",""]
[0,0,null,null,"",""]
[0,0,null,null,"",""]
[0,0,null,null,"",""]
[0,0,null,null,"",""]
[{"$f":"'Labor Summary (Office)'!A941","v":0},{"$f":"'Labor Summary (Office)'!B941","v":0},{"$f":"IF(G941>0,\"total\",\"\")","v":""},"Subtotal Line 30",null,null,{"$f":"ROUND(SUM(F911:F940),2)","v":0}]
[{"$f":"A$972","v":0},{"$f":"B$972","v":0},null,null,{"$f":"IFERROR(VLOOKUP(C942,Units_,2,FALSE),\"\")","v":""},{"$f":"IFERROR(ROUND(D942*E942,2),\"\")","v":""}]
[{"$f":"A$972","v":0},0,null,null,"",{"$f":"IFERROR(ROUND(D943*E943,2),\"\")","v":""}]
[0,0,null,null,"",""]
[0,0,null,null,"",""]
[0,0,null,null,"",""]
[0,0,null,null,"",""]
[0,0,null,null,"",""]
[0,0,null,null,"",""]
[0,0,null,null,"",""]
[0,0,null,null,"",""]
[0,0,null,null,"",""]
[0,0,null,null,"",""]
[0,0,null,null,"",""]
[0,0,null,null,"",""]
[0,0,null,null,"",""]
[{"$f":"A$972","v":0},{"$f":"B$972","v":0},null,null,"",""]
[0,0,null,null,"",""]
[{"$f":"A$972","v":0},0,null,null,"",""]
[0,0,null,null,"",""]
[0,0,null,null,"",""]
[0,0,null,null,"",""]
[0,0,null,null,"",""]
[0,0,null,null,"",""]
[0,0,null,null,"",""]
[0,0,null,null,"",""]
[0,0,null,null,"",""]
[0,0,null,null,"",""]
[0,0,null,null,"",""]
[0,0,null,null,"",""]
[0,0,null,null,"",""]
[{"$f":"'Labor Summary (Office)'!A972","v":0},{"$f":"'Labor Summary (Office)'!B972","v":0},{"$f":"IF(G972>0,\"total\",\"\")","v":""},"Subtotal Line 31",null,null,{"$f":"ROUND(SUM(F942:F971),2)","v":0}]
[{"$f":"A$1003","v":0},{"$f":"B$1003","v":0},null,null,{"$f":"IFERROR(VLOOKUP(C973,Units_,2,FALSE),\"\")","v":""},{"$f":"IFERROR(ROUND(D973*E973,2),\"\")","v":""}]
[{"$f":"A$1003","v":0},0,null,null,"",{"$f":"IFERROR(ROUND(D974*E974,2),\"\")","v":""}]
[0,0,null,null,"",""]
[0,0,null,null,"",""]
[0,0,null,null,"",""]
[0,0,null,null,"",""]
[0,0,null,null,"",""]
[0,0,null,null,"",""]
[0,0,null,null,"",""]
[0,0,null,null,"",""]
[0,0,null,null,"",""]
[0,0,null,null,"",""]
[0,0,null,null,"",""]
[0,0,null,null,"",""]
[0,0,null,null,"",""]
[{"$f":"A$1003","v":0},{"$f":"B$1003","v":0},null,null,"",""]
[0,0,null,null,"",""]
[{"$f":"A$1003","v":0},0,null,null,"",""]
[0,0,null,null,"",""]
[0,0,null,null,"",""]
[0,0,null,null,"",""]
[0,0,null,null,"",""]
[0,0,null,null,"",""]
[0,0,null,null,"",""]
[0,0,null,null,"",""]
[0,0,null,null,"",""]
[0,0,null,null,"",""]
[0,0,null,null,"",""]
[0,0,null,null,"",""]
[0,0,null,null,"",""]
[{"$f":"'Labor Summary (Office)'!A1003","v":0},{"$f":"'Labor Summary (Office)'!B1003","v":0},{"$f":"IF(G1003>0,\"total\",\"\")","v":""},"Subtotal Line 32",null,null,{"$f":"ROUND(SUM(F973:F1002),2)","v":0}]
[{"$f":"A$1034","v":0},{"$f":"B$1034","v":0},null,null,{"$f":"IFERROR(VLOOKUP(C1004,Units_,2,FALSE),\"\")","v":""},{"$f":"IFERROR(ROUND(D1004*E1004,2),\"\")","v":""}]
[{"$f":"A$1034","v":0},0,null,null,"",{"$f":"IFERROR(ROUND(D1005*E1005,2),\"\")","v":""}]
[0,0,null,null,"",""]
[0,0,null,null,"",""]
[0,0,null,null,"",""]
[0,0,null,null,"",""]
[0,0,null,null,"",""]
[0,0,null,null,"",""]
[0,0,null,null,"",""]
[0,0,null,null,"",""]
[0,0,null,null,"",""]
[0,0,null,null,"",""]
[0,0,null,null,"",""]
[0,0,null,null,"",""]
[0,0,null,null,"",""]
[{"$f":"A$1034","v":0},{"$f":"B$1034","v":0},null,null,"",""]
[0,0,null,null,"",""]
[{"$f":"A$1034","v":0},0,null,null,"",""]
[0,0,null,null,"",""]
[0,0,null,null,"",""]
[0,0,null,null,"",""]
[0,0,null,null,"",""]
[0,0,null,null,"",""]
[0,0,null,null,"",""]
[0,0,null,null,"",""]
[0,0,null,null,"",""]
[0,0,null,null,"",""]
[0,0,null,null,"",""]
[0,0,null,null,"",""]
[0,0,null,null,"",""]
[{"$f":"'Labor Summary (Office)'!A1034","v":0},{"$f":"'Labor Summary (Office)'!B1034","v":0},{"$f":"IF(G1034>0,\"total\",\"\")","v":""},"Subtotal Line 33",null,null,{"$f":"ROUND(SUM(F1004:F1033),2)","v":0}]
[{"$f":"A$1065","v":0},{"$f":"B$1065","v":0},null,null,{"$f":"IFERROR(VLOOKUP(C1035,Units_,2,FALSE),\"\")","v":""},{"$f":"IFERROR(ROUND(D1035*E1035,2),\"\")","v":""}]
[{"$f":"A$1065","v":0},0,null,null,"",{"$f":"IFERROR(ROUND(D1036*E1036,2),\"\")","v":""}]
[0,0,null,null,"",""]
[0,0,null,null,"",""]
[0,0,null,null,"",""]
[0,0,null,null,"",""]
[0,0,null,null,"",""]
[0,0,null,null,"",""]
[0,0,null,null,"",""]
[0,0,null,null,"",""]
[0,0,null,null,"",""]
[0,0,null,null,"",""]
[0,0,null,null,"",""]
[0,0,null,null,"",""]
[0,0,null,null,"",""]
[{"$f":"A$1065","v":0},{"$f":"B$1065","v":0},null,null,"",""]
[0,0,null,null,"",""]
[{"$f":"A$1065","v":0},0,null,null,"",""]
[0,0,null,null,"",""]
[0,0,null,null,"",""]
[0,0,null,null,"",""]
[0,0,null,null,"",""]
[0,0,null,null,"",""]
[0,0,null,null,"",""]
[0,0,null,null,"",""]
[0,0,null,null,"",""]
[0,0,null,null,"",""]
[0,0,null,null,"",""]
[0,0,null,null,"",""]
[0,0,null,null,"",""]
[{"$f":"'Labor Summary (Office)'!A1065","v":0},{"$f":"'Labor Summary (Office)'!B1065","v":0},{"$f":"IF(G1065>0,\"total\",\"\")","v":""},"Subtotal Line 34",null,null,{"$f":"ROUND(SUM(F1035:F1064),2)","v":0}]
[{"$f":"A$1096","v":0},{"$f":"B$1096","v":0},null,null,{"$f":"IFERROR(VLOOKUP(C1066,Units_,2,FALSE),\"\")","v":""},{"$f":"IFERROR(ROUND(D1066*E1066,2),\"\")","v":""}]
[{"$f":"A$1096","v":0},0,null,null,"",{"$f":"IFERROR(ROUND(D1067*E1067,2),\"\")","v":""}]
[0,0,null,null,"",""]
[0,0,null,null,"",""]
[0,0,null,null,"",""]
[0,0,null,null,"",""]
[0,0,null,null,"",""]
[0,0,null,null,"",""]
[0,0,null,null,"",""]
[0,0,null,null,"",""]
[0,0,null,null,"",""]
[0,0,null,null,"",""]
[0,0,null,null,"",""]
[0,0,null,null,"",""]
[0,0,null,null,"",""]
[{"$f":"A$1096","v":0},{"$f":"B$1096","v":0},null,null,"",""]
[0,0,null,null,"",""]
[{"$f":"A$1096","v":0},0,null,null,"",""]
[0,0,null,null,"",""]
[0,0,null,null,"",""]
[0,0,null,null,"",""]
[0,0,null,null,"",""]
[0,0,null,null,"",""]
[0,0,null,null,"",""]
[0,0,null,null,"",""]
[0,0,null,null,"",""]
[0,0,null,null,"",""]
[0,0,null,null,"",""]
[0,0,null,null,"",""]
[0,0,null,null,"",""]
[{"$f":"'Labor Summary (Office)'!A1096","v":0},{"$f":"'Labor Summary (Office)'!B1096","v":0},{"$f":"IF(G1096>0,\"total\",\"\")","v":""},"Subtotal Line 35",null,null,{"$f":"ROUND(SUM(F1066:F1095),2)","v":0}]
[{"$f":"A$1127","v":0},{"$f":"B$1127","v":0},null,null,{"$f":"IFERROR(VLOOKUP(C1097,Units_,2,FALSE),\"\")","v":""},{"$f":"IFERROR(ROUND(D1097*E1097,2),\"\")","v":""}]
[{"$f":"A$1127","v":0},0,null,null,"",{"$f":"IFERROR(ROUND(D1098*E1098,2),\"\")","v":""}]
[0,0,null,null,"",""]
[0,0,null,null,"",""]
[0,0,null,null,"",""]
[0,0,null,null,"",""]
[0,0,null,null,"",""]
[0,0,null,null,"",""]
[0,0,null,null,"",""]
[0,0,null,null,"",""]
[0,0,null,null,"",""]
[0,0,null,null,"",""]
[0,0,null,null,"",""]
[0,0,null,null,"",""]
[0,0,null,null,"",""]
[{"$f":"A$1127","v":0},{"$f":"B$1127","v":0},null,null,"",""]
[0,0,null,null,"",""]
[{"$f":"A$1127","v":0},0,null,null,"",""]
[0,0,null,null,"",""]
[0,0,null,null,"",""]
[0,0,null,null,"",""]
[0,0,null,null,"",""]
[0,0,null,null,"",""]
[0,0,null,null,"",""]
[0,0,null,null,"",""]
[0,0,null,null,"",""]
[0,0,null,null,"",""]
[0,0,null,null,"",""]
[0,0,null,null,"",""]
[0,0,null,null,"",""]
[{"$f":"'Labor Summary (Office)'!A1127","v":0},{"$f":"'Labor Summary (Office)'!B1127","v":0},{"$f":"IF(G1127>0,\"total\",\"\")","v":""},"Subtotal Line 36",null,null,{"$f":"ROUND(SUM(F1097:F1126),2)","v":0}]
[{"$f":"A$1158","v":0},{"$f":"B$1158","v":0},null,null,{"$f":"IFERROR(VLOOKUP(C1128,Units_,2,FALSE),\"\")","v":""},{"$f":"IFERROR(ROUND(D1128*E1128,2),\"\")","v":""}]
[{"$f":"A$1158","v":0},0,null,null,"",{"$f":"IFERROR(ROUND(D1129*E1129,2),\"\")","v":""}]
[0,0,null,null,"",""]
[0,0,null,null,"",""]
[0,0,null,null,"",""]
[0,0,null,null,"",""]
[0,0,null,null,"",""]
[0,0,null,null,"",""]
[0,0,null,null,"",""]
[0,0,null,null,"",""]
[0,0,null,null,"",""]
[0,0,null,null,"",""]
[0,0,null,null,"",""]
[0,0,null,null,"",""]
[0,0,null,null,"",""]
[{"$f":"A$1158","v":0},{"$f":"B$1158","v":0},null,null,"",""]
[0,0,null,null,"",""]
[{"$f":"A$1158","v":0},0,null,null,"",""]
[0,0,null,null,"",""]
[0,0,null,null,"",""]
[0,0,null,null,"",""]
[0,0,null,null,"",""]
[0,0,null,null,"",""]
[0,0,null,null,"",""]
[0,0,null,null,"",""]
[0,0,null,null,"",""]
[0,0,null,null,"",""]
[0,0,null,null,"",""]
[0,0,null,null,"",""]
[0,0,null,null,"",""]
[{"$f":"'Labor Summary (Office)'!A1158","v":0},{"$f":"'Labor Summary (Office)'!B1158","v":0},{"$f":"IF(G1158>0,\"total\",\"\")","v":""},"Subtotal Line 37",null,null,{"$f":"ROUND(SUM(F1128:F1157),2)","v":0}]
[{"$f":"A$1189","v":0},{"$f":"B$1189","v":0},null,null,{"$f":"IFERROR(VLOOKUP(C1159,Units_,2,FALSE),\"\")","v":""},{"$f":"IFERROR(ROUND(D1159*E1159,2),\"\")","v":""}]
[{"$f":"A$1189","v":0},0,null,null,"",{"$f":"IFERROR(ROUND(D1160*E1160,2),\"\")","v":""}]
[0,0,null,null,"",""]
[0,0,null,null,"",""]
[0,0,null,null,"",""]
[0,0,null,null,"",""]
[0,0,null,null,"",""]
[0,0,null,null,"",""]
[0,0,null,null,"",""]
[0,0,null,null,"",""]
[0,0,null,null,"",""]
[0,0,null,null,"",""]
[0,0,null,null,"",""]
[0,0,null,null,"",""]
[0,0,null,null,"",""]
[{"$f":"A$1189","v":0},{"$f":"B$1189","v":0},null,null,"",""]
[0,0,null,null,"",""]
[{"$f":"A$1189","v":0},0,null,null,"",""]
[0,0,null,null,"",""]
[0,0,null,null,"",""]
[0,0,null,null,"",""]
[0,0,null,null,"",""]
[0,0,null,null,"",""]
[0,0,null,null,"",""]
[0,0,null,null,"",""]
[0,0,null,null,"",""]
[0,0,null,null,"",""]
[0,0,null,null,"",""]
[0,0,null,null,"",""]
[0,0,null,null,"",""]
[{"$f":"'Labor Summary (Office)'!A1189","v":0},{"$f":"'Labor Summary (Office)'!B1189","v":0},{"$f":"IF(G1189>0,\"total\",\"\")","v":""},"Subtotal Line 38",null,null,{"$f":"ROUND(SUM(F1159:F1188),2)","v":0}]
[{"$f":"A$1220","v":0},{"$f":"B$1220","v":0},null,null,{"$f":"IFERROR(VLOOKUP(C1190,Units_,2,FALSE),\"\")","v":""},{"$f":"IFERROR(ROUND(D1190*E1190,2),\"\")","v":""}]
[{"$f":"A$1220","v":0},0,null,null,"",{"$f":"IFERROR(ROUND(D1191*E1191,2),\"\")","v":""}]
[0,0,null,null,"",""]
[0,0,null,null,"",""]
[0,0,null,null,"",""]
[0,0,null,null,"",""]
[0,0,null,null,"",""]
[0,0,null,null,"",""]
[0,0,null,null,"",""]
[0,0,null,null,"",""]
[0,0,null,null,"",""]
[0,0,null,null,"",""]
[0,0,null,null,"",""]
[0,0,null,null,"",""]
[0,0,null,null,"",""]
[{"$f":"A$1220","v":0},{"$f":"B$1220","v":0},null,null,"",""]
[0,0,null,null,"",""]
[{"$f":"A$1220","v":0},0,null,null,"",""]
[0,0,null,null,"",""]
[0,0,null,null,"",""]
[0,0,null,null,"",""]
[0,0,null,null,"",""]
[0,0,null,null,"",""]
[0,0,null,null,"",""]
[0,0,null,null,"",""]
[0,0,null,null,"",""]
[0,0,null,null,"",""]
[0,0,null,null,"",""]
[0,0,null,null,"",""]
[0,0,null,null,"",""]
[{"$f":"'Labor Summary (Office)'!A1220","v":0},{"$f":"'Labor Summary (Office)'!B1220","v":0},{"$f":"IF(G1220>0,\"total\",\"\")","v":""},"Subtotal Line 39",null,null,{"$f":"ROUND(SUM(F1190:F1219),2)","v":0}]
[{"$f":"A$1251","v":0},{"$f":"B$1251","v":0},null,null,{"$f":"IFERROR(VLOOKUP(C1221,Units_,2,FALSE),\"\")","v":""},{"$f":"IFERROR(ROUND(D1221*E1221,2),\"\")","v":""}]
[{"$f":"A$1251","v":0},0,null,null,"",{"$f":"IFERROR(ROUND(D1222*E1222,2),\"\")","v":""}]
[0,0,null,null,"",""]
[0,0,null,null,"",""]
[0,0,null,null,"",""]
[0,0,null,null,"",""]
[0,0,null,null,"",""]
[0,0,null,null,"",""]
[0,0,null,null,"",""]
[0,0,null,null,"",""]
[0,0,null,null,"",""]
[0,0,null,null,"",""]
[0,0,null,null,"",""]
[0,0,null,null,"",""]
[0,0,null,null,"",""]
[{"$f":"A$1251","v":0},{"$f":"B$1251","v":0},null,null,"",""]
[0,0,null,null,"",""]
[{"$f":"A$1251","v":0},0,null,null,"",""]
[0,0,null,null,"",""]
[0,0,null,null,"",""]
[0,0,null,null,"",""]
[0,0,null,null,"",""]
[0,0,null,null,"",""]
[0,0,null,null,"",""]
[0,0,null,null,"",""]
[0,0,null,null,"",""]
[0,0,null,null,"",""]
[0,0,null,null,"",""]
[0,0,null,null,"",""]
[0,0,null,null,"",""]
[{"$f":"'Labor Summary (Office)'!A1251","v":0},{"$f":"'Labor Summary (Office)'!B1251","v":0},{"$f":"IF(G1251>0,\"total\",\"\")","v":""},"Subtotal Line 40",null,null,{"$f":"ROUND(SUM(F1221:F1250),2)","v":0}]
[{"$f":"A$1282","v":0},{"$f":"B$1282","v":0},null,null,{"$f":"IFERROR(VLOOKUP(C1252,Units_,2,FALSE),\"\")","v":""},{"$f":"IFERROR(ROUND(D1252*E1252,2),\"\")","v":""}]
[{"$f":"A$1282","v":0},0,null,null,"",{"$f":"IFERROR(ROUND(D1253*E1253,2),\"\")","v":""}]
[0,0,null,null,"",""]
[0,0,null,null,"",""]
[0,0,null,null,"",""]
[0,0,null,null,"",""]
[0,0,null,null,"",""]
[0,0,null,null,"",""]
[0,0,null,null,"",""]
[0,0,null,null,"",""]
[0,0,null,null,"",""]
[0,0,null,null,"",""]
[0,0,null,null,"",""]
[0,0,null,null,"",""]
[0,0,null,null,"",""]
[{"$f":"A$1282","v":0},{"$f":"B$1282","v":0},null,null,"",""]
[0,0,null,null,"",""]
[{"$f":"A$1282","v":0},0,null,null,"",""]
[0,0,null,null,"",""]
[0,0,null,null,"",""]
[0,0,null,null,"",""]
[0,0,null,null,"",""]
[0,0,null,null,"",""]
[0,0,null,null,"",""]
[0,0,null,null,"",""]
[0,0,null,null,"",""]
[0,0,null,null,"",""]
[0,0,null,null,"",""]
[0,0,null,null,"",""]
[0,0,null,null,"",""]
[{"$f":"'Labor Summary (Office)'!A1282","v":0},{"$f":"'Labor Summary (Office)'!B1282","v":0},{"$f":"IF(G1282>0,\"total\",\"\")","v":""},"Subtotal Line 41",null,null,{"$f":"ROUND(SUM(F1252:F1281),2)","v":0}]
[{"$f":"A$1313","v":0},{"$f":"B$1313","v":0},null,null,{"$f":"IFERROR(VLOOKUP(C1283,Units_,2,FALSE),\"\")","v":""},{"$f":"IFERROR(ROUND(D1283*E1283,2),\"\")","v":""}]
[{"$f":"A$1313","v":0},0,null,null,"",{"$f":"IFERROR(ROUND(D1284*E1284,2),\"\")","v":""}]
[0,0,null,null,"",""]
[0,0,null,null,"",""]
[0,0,null,null,"",""]
[0,0,null,null,"",""]
[0,0,null,null,"",""]
[0,0,null,null,"",""]
[0,0,null,null,"",""]
[0,0,null,null,"",""]
[0,0,null,null,"",""]
[0,0,null,null,"",""]
[0,0,null,null,"",""]
[0,0,null,null,"",""]
[0,0,null,null,"",""]
[{"$f":"A$1313","v":0},{"$f":"B$1313","v":0},null,null,"",""]
[0,0,null,null,"",""]
[{"$f":"A$1313","v":0},0,null,null,"",""]
[0,0,null,null,"",""]
[0,0,null,null,"",""]
[0,0,null,null,"",""]
[0,0,null,null,"",""]
[0,0,null,null,"",""]
[0,0,null,null,"",""]
[0,0,null,null,"",""]
[0,0,null,null,"",""]
[0,0,null,null,"",""]
[0,0,null,null,"",""]
[0,0,null,null,"",""]
[0,0,null,null,"",""]
[{"$f":"'Labor Summary (Office)'!A1313","v":0},{"$f":"'Labor Summary (Office)'!B1313","v":0},{"$f":"IF(G1313>0,\"total\",\"\")","v":""},"Subtotal Line 42",null,null,{"$f":"ROUND(SUM(F1283:F1312),2)","v":0}]
[{"$f":"A$1344","v":0},{"$f":"B$1344","v":0},null,null,{"$f":"IFERROR(VLOOKUP(C1314,Units_,2,FALSE),\"\")","v":""},{"$f":"IFERROR(ROUND(D1314*E1314,2),\"\")","v":""}]
[{"$f":"A$1344","v":0},0,null,null,"",{"$f":"IFERROR(ROUND(D1315*E1315,2),\"\")","v":""}]
[0,0,null,null,"",""]
[0,0,null,null,"",""]
[0,0,null,null,"",""]
[0,0,null,null,"",""]
[0,0,null,null,"",""]
[0,0,null,null,"",""]
[0,0,null,null,"",""]
[0,0,null,null,"",""]
[0,0,null,null,"",""]
[0,0,null,null,"",""]
[0,0,null,null,"",""]
[0,0,null,null,"",""]
[0,0,null,null,"",""]
[{"$f":"A$1344","v":0},{"$f":"B$1344","v":0},null,null,"",""]
[0,0,null,null,"",""]
[{"$f":"A$1344","v":0},0,null,null,"",""]
[0,0,null,null,"",""]
[0,0,null,null,"",""]
[0,0,null,null,"",""]
[0,0,null,null,"",""]
[0,0,null,null,"",""]
[0,0,null,null,"",""]
[0,0,null,null,"",""]
[0,0,null,null,"",""]
[0,0,null,null,"",""]
[0,0,null,null,"",""]
[0,0,null,null,"",""]
[0,0,null,null,"",""]
[{"$f":"'Labor Summary (Office)'!A1344","v":0},{"$f":"'Labor Summary (Office)'!B1344","v":0},{"$f":"IF(G1344>0,\"total\",\"\")","v":""},"Subtotal Line 43",null,null,{"$f":"ROUND(SUM(F1314:F1343),2)","v":0}]
[{"$f":"A$1375","v":0},{"$f":"B$1375","v":0},null,null,{"$f":"IFERROR(VLOOKUP(C1345,Units_,2,FALSE),\"\")","v":""},{"$f":"IFERROR(ROUND(D1345*E1345,2),\"\")","v":""}]
[{"$f":"A$1375","v":0},0,null,null,"",{"$f":"IFERROR(ROUND(D1346*E1346,2),\"\")","v":""}]
[0,0,null,null,"",""]
[0,0,null,null,"",""]
[0,0,null,null,"",""]
[0,0,null,null,"",""]
[0,0,null,null,"",""]
[0,0,null,null,"",""]
[0,0,null,null,"",""]
[0,0,null,null,"",""]
[0,0,null,null,"",""]
[0,0,null,null,"",""]
[0,0,null,null,"",""]
[0,0,null,null,"",""]
[0,0,null,null,"",""]
[{"$f":"A$1375","v":0},{"$f":"B$1375","v":0},null,null,"",""]
[0,0,null,null,"",""]
[{"$f":"A$1375","v":0},0,null,null,"",""]
[0,0,null,null,"",""]
[0,0,null,null,"",""]
[0,0,null,null,"",""]
[0,0,null,null,"",""]
[0,0,null,null,"",""]
[0,0,null,null,"",""]
[0,0,null,null,"",""]
[0,0,null,null,"",""]
[0,0,null,null,"",""]
[0,0,null,null,"",""]
[0,0,null,null,"",""]
[0,0,null,null,"",""]
[{"$f":"'Labor Summary (Office)'!A1375","v":0},{"$f":"'Labor Summary (Office)'!B1375","v":0},{"$f":"IF(G1375>0,\"total\",\"\")","v":""},"Subtotal Line 44",null,null,{"$f":"ROUND(SUM(F1345:F1374),2)","v":0}]
[{"$f":"A$1406","v":0},{"$f":"B$1406","v":0},null,null,{"$f":"IFERROR(VLOOKUP(C1376,Units_,2,FALSE),\"\")","v":""},{"$f":"IFERROR(ROUND(D1376*E1376,2),\"\")","v":""}]
[{"$f":"A$1406","v":0},0,null,null,"",{"$f":"IFERROR(ROUND(D1377*E1377,2),\"\")","v":""}]
[0,0,null,null,"",""]
[0,0,null,null,"",""]
[0,0,null,null,"",""]
[0,0,null,null,"",""]
[0,0,null,null,"",""]
[0,0,null,null,"",""]
[0,0,null,null,"",""]
[0,0,null,null,"",""]
[0,0,null,null,"",""]
[0,0,null,null,"",""]
[0,0,null,null,"",""]
[0,0,null,null,"",""]
[0,0,null,null,"",""]
[{"$f":"A$1406","v":0},{"$f":"B$1406","v":0},null,null,"",""]
[0,0,null,null,"",""]
[{"$f":"A$1406","v":0},0,null,null,"",""]
[0,0,null,null,"",""]
[0,0,null,null,"",""]
[0,0,null,null,"",""]
[0,0,null,null,"",""]
[0,0,null,null,"",""]
[0,0,null,null,"",""]
[0,0,null,null,"",""]
[0,0,null,null,"",""]
[0,0,null,null,"",""]
[0,0,null,null,"",""]
[0,0,null,null,"",""]
[0,0,null,null,"",""]
[{"$f":"'Labor Summary (Office)'!A1406","v":0},{"$f":"'Labor Summary (Office)'!B1406","v":0},{"$f":"IF(G1406>0,\"total\",\"\")","v":""},"Subtotal Line 45",null,null,{"$f":"ROUND(SUM(F1376:F1405),2)","v":0}]
[{"$f":"A$1437","v":0},{"$f":"B$1437","v":0},null,null,{"$f":"IFERROR(VLOOKUP(C1407,Units_,2,FALSE),\"\")","v":""},{"$f":"IFERROR(ROUND(D1407*E1407,2),\"\")","v":""}]
[{"$f":"A$1437","v":0},0,null,null,"",{"$f":"IFERROR(ROUND(D1408*E1408,2),\"\")","v":""}]
[0,0,null,null,"",""]
[0,0,null,null,"",""]
[0,0,null,null,"",""]
[0,0,null,null,"",""]
[0,0,null,null,"",""]
[0,0,null,null,"",""]
[0,0,null,null,"",""]
[0,0,null,null,"",""]
[0,0,null,null,"",""]
[0,0,null,null,"",""]
[0,0,null,null,"",""]
[0,0,null,null,"",""]
[0,0,null,null,"",""]
[{"$f":"A$1437","v":0},{"$f":"B$1437","v":0},null,null,"",""]
[0,0,null,null,"",""]
[{"$f":"A$1437","v":0},0,null,null,"",""]
[0,0,null,null,"",""]
[0,0,null,null,"",""]
[0,0,null,null,"",""]
[0,0,null,null,"",""]
[0,0,null,null,"",""]
[0,0,null,null,"",""]
[0,0,null,null,"",""]
[0,0,null,null,"",""]
[0,0,null,null,"",""]
[0,0,null,null,"",""]
[0,0,null,null,"",""]
[0,0,null,null,"",""]
[{"$f":"'Labor Summary (Office)'!A1437","v":0},{"$f":"'Labor Summary (Office)'!B1437","v":0},{"$f":"IF(G1437>0,\"total\",\"\")","v":""},"Subtotal Line 46",null,null,{"$f":"ROUND(SUM(F1407:F1436),2)","v":0}]
[{"$f":"A$1468","v":0},{"$f":"B$1468","v":0},null,null,{"$f":"IFERROR(VLOOKUP(C1438,Units_,2,FALSE),\"\")","v":""},{"$f":"IFERROR(ROUND(D1438*E1438,2),\"\")","v":""}]
[{"$f":"A$1468","v":0},0,null,null,"",{"$f":"IFERROR(ROUND(D1439*E1439,2),\"\")","v":""}]
[0,0,null,null,"",""]
[0,0,null,null,"",""]
[0,0,null,null,"",""]
[0,0,null,null,"",""]
[0,0,null,null,"",""]
[0,0,null,null,"",""]
[0,0,null,null,"",""]
[0,0,null,null,"",""]
[0,0,null,null,"",""]
[0,0,null,null,"",""]
[0,0,null,null,"",""]
[0,0,null,null,"",""]
[0,0,null,null,"",""]
[{"$f":"A$1468","v":0},{"$f":"B$1468","v":0},null,null,"",""]
[0,0,null,null,"",""]
[{"$f":"A$1468","v":0},0,null,null,"",""]
[0,0,null,null,"",""]
[0,0,null,null,"",""]
[0,0,null,null,"",""]
[0,0,null,null,"",""]
[0,0,null,null,"",""]
[0,0,null,null,"",""]
[0,0,null,null,"",""]
[0,0,null,null,"",""]
[0,0,null,null,"",""]
[0,0,null,null,"",""]
[0,0,null,null,"",""]
[0,0,null,null,"",""]
[{"$f":"'Labor Summary (Office)'!A1468","v":0},{"$f":"'Labor Summary (Office)'!B1468","v":0},{"$f":"IF(G1468>0,\"total\",\"\")","v":""},"Subtotal Line 47",null,null,{"$f":"ROUND(SUM(F1438:F1467),2)","v":0}]
[{"$f":"A$1499","v":0},{"$f":"B$1499","v":0},null,null,{"$f":"IFERROR(VLOOKUP(C1469,Units_,2,FALSE),\"\")","v":""},{"$f":"IFERROR(ROUND(D1469*E1469,2),\"\")","v":""}]
[{"$f":"A$1499","v":0},0,null,null,"",{"$f":"IFERROR(ROUND(D1470*E1470,2),\"\")","v":""}]
[0,0,null,null,"",""]
[0,0,null,null,"",""]
[0,0,null,null,"",""]
[0,0,null,null,"",""]
[0,0,null,null,"",""]
[0,0,null,null,"",""]
[0,0,null,null,"",""]
[0,0,null,null,"",""]
[0,0,null,null,"",""]
[0,0,null,null,"",""]
[0,0,null,null,"",""]
[0,0,null,null,"",""]
[0,0,null,null,"",""]
[{"$f":"A$1499","v":0},{"$f":"B$1499","v":0},null,null,"",""]
[0,0,null,null,"",""]
[{"$f":"A$1499","v":0},0,null,null,"",""]
[0,0,null,null,"",""]
[0,0,null,null,"",""]
[0,0,null,null,"",""]
[0,0,null,null,"",""]
[0,0,null,null,"",""]
[0,0,null,null,"",""]
[0,0,null,null,"",""]
[0,0,null,null,"",""]
[0,0,null,null,"",""]
[0,0,null,null,"",""]
[0,0,null,null,"",""]
[0,0,null,null,"",""]
[{"$f":"'Labor Summary (Office)'!A1499","v":0},{"$f":"'Labor Summary (Office)'!B1499","v":0},{"$f":"IF(G1499>0,\"total\",\"\")","v":""},"Subtotal Line 48",null,null,{"$f":"ROUND(SUM(F1469:F1498),2)","v":0}]
[{"$f":"A$1530","v":0},{"$f":"B$1530","v":0},null,null,{"$f":"IFERROR(VLOOKUP(C1500,Units_,2,FALSE),\"\")","v":""},{"$f":"IFERROR(ROUND(D1500*E1500,2),\"\")","v":""}]
[{"$f":"A$1530","v":0},0,null,null,"",{"$f":"IFERROR(ROUND(D1501*E1501,2),\"\")","v":""}]
[0,0,null,null,"",""]
[0,0,null,null,"",""]
[0,0,null,null,"",""]
[0,0,null,null,"",""]
[0,0,null,null,"",""]
[0,0,null,null,"",""]
[0,0,null,null,"",""]
[0,0,null,null,"",""]
[0,0,null,null,"",""]
[0,0,null,null,"",""]
[0,0,null,null,"",""]
[0,0,null,null,"",""]
[0,0,null,null,"",""]
[{"$f":"A$1530","v":0},{"$f":"B$1530","v":0},null,null,"",""]
[0,0,null,null,"",""]
[{"$f":"A$1530","v":0},0,null,null,"",""]
[0,0,null,null,"",""]
[0,0,null,null,"",""]
[0,0,null,null,"",""]
[0,0,null,null,"",""]
[0,0,null,null,"",""]
[0,0,null,null,"",""]
[0,0,null,null,"",""]
[0,0,null,null,"",""]
[0,0,null,null,"",""]
[0,0,null,null,"",""]
[0,0,null,null,"",""]
[0,0,null,null,"",""]
[{"$f":"'Labor Summary (Office)'!A1530","v":0},{"$f":"'Labor Summary (Office)'!B1530","v":0},{"$f":"IF(G1530>0,\"total\",\"\")","v":""},"Subtotal Line 49",null,null,{"$f":"ROUND(SUM(F1500:F1529),2)","v":0}]
[{"$f":"A$1561","v":0},{"$f":"B$1561","v":0},null,null,{"$f":"IFERROR(VLOOKUP(C1531,Units_,2,FALSE),\"\")","v":""},{"$f":"IFERROR(ROUND(D1531*E1531,2),\"\")","v":""}]
[{"$f":"A$1561","v":0},0,null,null,"",{"$f":"IFERROR(ROUND(D1532*E1532,2),\"\")","v":""}]
[0,0,null,null,"",""]
[0,0,null,null,"",""]
[0,0,null,null,"",""]
[0,0,null,null,"",""]
[0,0,null,null,"",""]
[0,0,null,null,"",""]
[0,0,null,null,"",""]
[0,0,null,null,"",""]
[0,0,null,null,"",""]
[0,0,null,null,"",""]
[0,0,null,null,"",""]
[0,0,null,null,"",""]
[0,0,null,null,"",""]
[{"$f":"A$1561","v":0},{"$f":"B$1561","v":0},null,null,"",""]
[0,0,null,null,"",""]
[{"$f":"A$1561","v":0},0,null,null,"",""]
[0,0,null,null,"",""]
[0,0,null,null,"",""]
[0,0,null,null,"",""]
[0,0,null,null,"",""]
[0,0,null,null,"",""]
[0,0,null,null,"",""]
[0,0,null,null,"",""]
[0,0,null,null,"",""]
[0,0,null,null,"",""]
[0,0,null,null,"",""]
[0,0,null,null,"",""]
[0,0,null,null,"",""]
[{"$f":"'Labor Summary (Office)'!A1561","v":0},{"$f":"'Labor Summary (Office)'!B1561","v":0},{"$f":"IF(G1561>0,\"total\",\"\")","v":""},"Subtotal Line 50",null,null,{"$f":"ROUND(SUM(F1531:F1560),2)","v":0}]
[null,null,"Total",null,null,null,"Total Unit Costs",{"$f":"ROUND(SUM(G12:G1561),2)","v":0}]
[]
[]
[]
[]
[]
[]
[]
[]
[]
[]
[]
[]
[]
[]
[]
[]
[]
[]
[]
[]
[]
[]
[]
[]
[]
[]
[]
[]
[]
[]
[]
[]
[]
[]
[]
[]
[]
[]
[]
[]
[]
[]
[]
[]
[]
[]
[]
[]
[]
[]
[]
[]
[]
[]
[]
[]
[]
[]
[]
[]
[]
[]
[]
[]
[]
[]
[]
[]
[]
[]
[]
[]
[]
[]
[]
[]
[]
[]
[]
[]
[]
[]
[]
[]
[]
[]
[]
[]
[]
[]
[]
[]
[]
[]
[]
[]
[]
[]
[]
[]
[]
[]
[]
[]
[]
[]
[]
[]
[]
[]
[]
[]
[]
[]
[]
[]
[]
[]
[]
[]
[]
[]
[]
[]
[]
[]
[]
[]
[]
[]
[]
[]
[]
[]
[]
[]
[]
[]
[]
[]
[]
[]
[]
[]
[]
[]
[]
[]
[]
[]
[]
[]
[]
[]
[]
[]
[]
[]
[]
[]
[]
[]
[]
[]
[]
[]
[]
[]
[]
[]
[]
[]
[]
[]
[]
[]
[]
[]
[]
[]
[]
[]
[]
[]
[]
[{"$f":"'WA Financial Status Summary'!D23","v":0}]

{"sheet":"ODE","index":10,"n_rows":1747,"n_cols":12,"rows_kept":1747,"cut":false,"hidden":false,"merged":[[1,9,1,10],[475,3,475,6],[444,3,444,6],[630,3,630,6],[599,3,599,6],[568,3,568,6],[537,3,537,6],[506,3,506,6],[413,3,413,6],[382,3,382,6],[351,3,351,6],[320,3,320,6],[289,3,289,6],[258,3,258,6],[227,3,227,6],[196,3,196,6],[785,3,785,6],[754,3,754,6],[723,3,723,6],[692,3,692,6],[661,3,661,6],[1560,3,1560,6],[1529,3,1529,6],[1498,3,1498,6],[1467,3,1467,6],[1436,3,1436,6],[1405,3,1405,6],[1374,3,1374,6],[1343,3,1343,6],[1312,3,1312,6],[1281,3,1281,6],[1250,3,1250,6],[1219,3,1219,6],[1188,3,1188,6],[1157,3,1157,6],[1126,3,1126,6],[1095,3,1095,6],[1064,3,1064,6],[1033,3,1033,6],[1002,3,1002,6],[971,3,971,6],[909,3,909,6],[940,3,940,6],[878,3,878,6],[847,3,847,6],[816,3,816,6],[165,3,165,6],[7,0,7,1],[7,2,7,3],[7,4,7,5],[9,0,9,8],[7,6,7,8],[134,3,134,6],[103,3,103,6],[72,3,72,6],[41,3,41,6],[2,0,2,8],[3,0,3,8],[5,0,5,8],[6,0,6,1],[6,2,6,3],[6,4,6,5],[6,6,6,8],[4,0,4,8]]}
[null,null,null,null,null,null,null,"Provider Invoice No.  ",{"$f":"Invoice!G1","v":0},null,null,"Monthly Submittal Cell"]
[null,null,null,null,null,null,null,"Combined Invoice Template Log No.  ",{"$f":"Invoice!G2","v":0},"Instructions",null,"Click link to see instructions for this tab"]
[]
[]
["OTHER DIRECT EXPENSES"]
["SR-UC Payment Method"]
["Provider Name:  ",null,{"$f":"Invoice!C7","v":0},null,"Legacy Contract No.  ",null,{"$f":"Invoice!F7","v":0}]
["Provider ID No.  ",null,{"$f":"Invoice!C8","v":0},null,"Legacy WA No.",null,{"$f":"Invoice!F10","v":0}]
[]
["ODE Breakdown:"]
["Project\n(CSJ/Detail No.)","Source\n(Legacy FC)","Type of Expense\n","Quantity","Actual Rate","Fixed Rate","Total Amount Billed","Subtotals","Receipt or Usage Log Attached \nY/N or\nN/A"]
[{"$f":"A$42","v":0},{"$f":"B$42","v":0},null,null,null,{"$f":"IFERROR(VLOOKUP(C12,Expenses_,2,FALSE),\"\")","v":""},{"$f":"IFERROR(ROUND(IF(E12=0,F12*D12,IF(F12=0,D12*E12,)),2),\"\")","v":""}]
[{"$f":"A$42","v":0},0,null,null,null,"",""]
[0,0,null,null,null,"",""]
[0,0,null,null,null,"",""]
[0,0,null,null,null,"",""]
[0,0,null,null,null,"",""]
[0,0,null,null,null,"",""]
[0,0,null,null,null,"",""]
[0,0,null,null,null,"",""]
[0,0,null,null,null,"",""]
[0,0,null,null,null,"",""]
[0,0,null,null,null,"",""]
[0,0,null,null,null,"",""]
[0,0,null,null,null,"",""]
[0,0,null,null,null,"",""]
[{"$f":"A$42","v":0},{"$f":"B$42","v":0},null,null,null,"",""]
[0,0,null,null,null,"",""]
[{"$f":"A$42","v":0},0,null,null,null,"",""]
[0,0,null,null,null,"",""]
[0,0,null,null,null,"",""]
[0,0,null,null,null,"",""]
[0,0,null,null,null,"",""]
[0,0,null,null,null,"",""]
[0,0,null,null,null,"",""]
[0,0,null,null,null,"",""]
[0,0,null,null,null,"",""]
[0,0,null,null,null,"",""]
[0,0,null,null,null,"",""]
[0,0,null,null,null,"",""]
[0,0,null,null,null,"",""]
[{"$f":"'Labor Summary (Office)'!A42","v":0},{"$f":"'Labor Summary (Office)'!B42","v":0},{"$f":"IF(A42=0,\"\",A42)","v":""},"Subtotal Line 1",null,null,null,{"$f":"ROUND(SUM(G12:G41),2)","v":0}]
[{"$f":"A$73","v":0},{"$f":"B$73","v":0},null,null,null,{"$f":"IFERROR(VLOOKUP(C43,Expenses_,2,FALSE),\"\")","v":""},{"$f":"IFERROR(ROUND(IF(E43=0,F43*D43,IF(F43=0,D43*E43,)),2),\"\")","v":""}]
[{"$f":"A$73","v":0},0,null,null,null,"",""]
[0,0,null,null,null,"",""]
[0,0,null,null,null,"",""]
[0,0,null,null,null,"",""]
[0,0,null,null,null,"",""]
[0,0,null,null,null,"",""]
[0,0,null,null,null,"",""]
[0,0,null,null,null,"",""]
[0,0,null,null,null,"",""]
[0,0,null,null,null,"",""]
[0,0,null,null,null,"",""]
[0,0,null,null,null,"",""]
[0,0,null,null,null,"",""]
[0,0,null,null,null,"",""]
[{"$f":"A$73","v":0},{"$f":"B$73","v":0},null,null,null,"",""]
[0,0,null,null,null,"",""]
[{"$f":"A$73","v":0},0,null,null,null,"",""]
[0,0,null,null,null,"",""]
[0,0,null,null,null,"",""]
[0,0,null,null,null,"",""]
[0,0,null,null,null,"",""]
[0,0,null,null,null,"",""]
[0,0,null,null,null,"",""]
[0,0,null,null,null,"",""]
[0,0,null,null,null,"",""]
[0,0,null,null,null,"",""]
[0,0,null,null,null,"",""]
[0,0,null,null,null,"",""]
[0,0,null,null,null,"",""]
[{"$f":"'Labor Summary (Office)'!A73","v":0},{"$f":"'Labor Summary (Office)'!B73","v":0},{"$f":"IF(A73=0,\"\",A73)","v":""},"Subtotal Line 2",null,null,null,{"$f":"ROUND(SUM(G43:G72),2)","v":0}]
[{"$f":"A$104","v":0},{"$f":"B$104","v":0},null,null,null,{"$f":"IFERROR(VLOOKUP(C74,Expenses_,2,FALSE),\"\")","v":""},{"$f":"IFERROR(ROUND(IF(E74=0,F74*D74,IF(F74=0,D74*E74,)),2),\"\")","v":""}]
[{"$f":"A$104","v":0},0,null,null,null,"",""]
[0,0,null,null,null,"",""]
[0,0,null,null,null,"",""]
[0,0,null,null,null,"",""]
[0,0,null,null,null,"",""]
[0,0,null,null,null,"",""]
[0,0,null,null,null,"",""]
[0,0,null,null,null,"",""]
[0,0,null,null,null,"",""]
[0,0,null,null,null,"",""]
[0,0,null,null,null,"",""]
[0,0,null,null,null,"",""]
[0,0,null,null,null,"",""]
[0,0,null,null,null,"",""]
[{"$f":"A$104","v":0},{"$f":"B$104","v":0},null,null,null,"",""]
[0,0,null,null,null,"",""]
[{"$f":"A$104","v":0},0,null,null,null,"",""]
[0,0,null,null,null,"",""]
[0,0,null,null,null,"",""]
[0,0,null,null,null,"",""]
[0,0,null,null,null,"",""]
[0,0,null,null,null,"",""]
[0,0,null,null,null,"",""]
[0,0,null,null,null,"",""]
[0,0,null,null,null,"",""]
[0,0,null,null,null,"",""]
[0,0,null,null,null,"",""]
[0,0,null,null,null,"",""]
[0,0,null,null,null,"",""]
[{"$f":"'Labor Summary (Office)'!A104","v":0},{"$f":"'Labor Summary (Office)'!B104","v":0},{"$f":"IF(A104=0,\"\",A104)","v":""},"Subtotal Line 3",null,null,null,{"$f":"ROUND(SUM(G74:G103),2)","v":0}]
[{"$f":"A$135","v":0},{"$f":"B$135","v":0},null,null,null,{"$f":"IFERROR(VLOOKUP(C105,Expenses_,2,FALSE),\"\")","v":""},{"$f":"IFERROR(ROUND(IF(E105=0,F105*D105,IF(F105=0,D105*E105,)),2),\"\")","v":""}]
[{"$f":"A$135","v":0},0,null,null,null,"",""]
[0,0,null,null,null,"",""]
[0,0,null,null,null,"",""]
[0,0,null,null,null,"",""]
[0,0,null,null,null,"",""]
[0,0,null,null,null,"",""]
[0,0,null,null,null,"",""]
[0,0,null,null,null,"",""]
[0,0,null,null,null,"",""]
[0,0,null,null,null,"",""]
[0,0,null,null,null,"",""]
[0,0,null,null,null,"",""]
[0,0,null,null,null,"",""]
[0,0,null,null,null,"",""]
[{"$f":"A$135","v":0},{"$f":"B$135","v":0},null,null,null,"",""]
[0,0,null,null,null,"",""]
[{"$f":"A$135","v":0},0,null,null,null,"",""]
[0,0,null,null,null,"",""]
[0,0,null,null,null,"",""]
[0,0,null,null,null,"",""]
[0,0,null,null,null,"",""]
[0,0,null,null,null,"",""]
[0,0,null,null,null,"",""]
[0,0,null,null,null,"",""]
[0,0,null,null,null,"",""]
[0,0,null,null,null,"",""]
[0,0,null,null,null,"",""]
[0,0,null,null,null,"",""]
[0,0,null,null,null,"",""]
[{"$f":"'Labor Summary (Office)'!A135","v":0},{"$f":"'Labor Summary (Office)'!B135","v":0},{"$f":"IF(A135=0,\"\",A135)","v":""},"Subtotal Line 4",null,null,null,{"$f":"ROUND(SUM(G105:G134),2)","v":0}]
[{"$f":"A$166","v":0},{"$f":"B$166","v":0},null,null,null,{"$f":"IFERROR(VLOOKUP(C136,Expenses_,2,FALSE),\"\")","v":""},{"$f":"IFERROR(ROUND(IF(E136=0,F136*D136,IF(F136=0,D136*E136,)),2),\"\")","v":""}]
[{"$f":"A$166","v":0},0,null,null,null,"",""]
[0,0,null,null,null,"",""]
[0,0,null,null,null,"",""]
[0,0,null,null,null,"",""]
[0,0,null,null,null,"",""]
[0,0,null,null,null,"",""]
[0,0,null,null,null,"",""]
[0,0,null,null,null,"",""]
[0,0,null,null,null,"",""]
[0,0,null,null,null,"",""]
[0,0,null,null,null,"",""]
[0,0,null,null,null,"",""]
[0,0,null,null,null,"",""]
[0,0,null,null,null,"",""]
[{"$f":"A$166","v":0},0,null,null,null,"",""]
[0,0,null,null,null,"",""]
[{"$f":"A$166","v":0},0,null,null,null,"",""]
[0,0,null,null,null,"",""]
[0,0,null,null,null,"",""]
[0,0,null,null,null,"",""]
[0,0,null,null,null,"",""]
[0,0,null,null,null,"",""]
[0,0,null,null,null,"",""]
[0,0,null,null,null,"",""]
[0,0,null,null,null,"",""]
[0,0,null,null,null,"",""]
[0,0,null,null,null,"",""]
[0,0,null,null,null,"",""]
[0,0,null,null,null,"",""]
[{"$f":"'Labor Summary (Office)'!A166","v":0},{"$f":"'Labor Summary (Office)'!B166","v":0},{"$f":"IF(A166=0,\"\",A166)","v":""},"Subtotal Line 5",null,null,null,{"$f":"ROUND(SUM(G136:G165),2)","v":0}]
[{"$f":"A$197","v":0},{"$f":"B$197","v":0},null,null,null,{"$f":"IFERROR(VLOOKUP(C167,Expenses_,2,FALSE),\"\")","v":""},{"$f":"IFERROR(ROUND(IF(E167=0,F167*D167,IF(F167=0,D167*E167,)),2),\"\")","v":""}]
[{"$f":"A$197","v":0},0,null,null,null,"",""]
[0,0,null,null,null,"",""]
[0,0,null,null,null,"",""]
[0,0,null,null,null,"",""]
[0,0,null,null,null,"",""]
[0,0,null,null,null,"",""]
[0,0,null,null,null,"",""]
[0,0,null,null,null,"",""]
[0,0,null,null,null,"",""]
[0,0,null,null,null,"",""]
[0,0,null,null,null,"",""]
[0,0,null,null,null,"",""]
[0,0,null,null,null,"",""]
[0,0,null,null,null,"",""]
[{"$f":"A$197","v":0},0,null,null,null,"",""]
[0,0,null,null,null,"",""]
[{"$f":"A$197","v":0},0,null,null,null,"",""]
[0,0,null,null,null,"",""]
[0,0,null,null,null,"",""]
[0,0,null,null,null,"",""]
[0,0,null,null,null,"",""]
[0,0,null,null,null,"",""]
[0,0,null,null,null,"",""]
[0,0,null,null,null,"",""]
[0,0,null,null,null,"",""]
[0,0,null,null,null,"",""]
[0,0,null,null,null,"",""]
[0,0,null,null,null,"",""]
[0,0,null,null,null,"",""]
[{"$f":"'Labor Summary (Office)'!A197","v":0},{"$f":"'Labor Summary (Office)'!B197","v":0},{"$f":"IF(A197=0,\"\",A197)","v":""},"Subtotal Line 6",null,null,null,{"$f":"ROUND(SUM(G167:G196),2)","v":0}]
[{"$f":"A$228","v":0},{"$f":"B$228","v":0},null,null,null,{"$f":"IFERROR(VLOOKUP(C198,Expenses_,2,FALSE),\"\")","v":""},{"$f":"IFERROR(ROUND(IF(E198=0,F198*D198,IF(F198=0,D198*E198,)),2),\"\")","v":""}]
[{"$f":"A$228","v":0},0,null,null,null,"",""]
[0,0,null,null,null,"",""]
[0,0,null,null,null,"",""]
[0,0,null,null,null,"",""]
[0,0,null,null,null,"",""]
[0,0,null,null,null,"",""]
[0,0,null,null,null,"",""]
[0,0,null,null,null,"",""]
[0,0,null,null,null,"",""]
[0,0,null,null,null,"",""]
[0,0,null,null,null,"",""]
[0,0,null,null,null,"",""]
[0,0,null,null,null,"",""]
[0,0,null,null,null,"",""]
[{"$f":"A$228","v":0},0,null,null,null,"",""]
[0,0,null,null,null,"",""]
[{"$f":"A$228","v":0},0,null,null,null,"",""]
[0,0,null,null,null,"",""]
[0,0,null,null,null,"",""]
[0,0,null,null,null,"",""]
[0,0,null,null,null,"",""]
[0,0,null,null,null,"",""]
[0,0,null,null,null,"",""]
[0,0,null,null,null,"",""]
[0,0,null,null,null,"",""]
[0,0,null,null,null,"",""]
[0,0,null,null,null,"",""]
[0,0,null,null,null,"",""]
[0,0,null,null,null,"",""]
[{"$f":"'Labor Summary (Office)'!A228","v":0},{"$f":"'Labor Summary (Office)'!B228","v":0},{"$f":"IF(A228=0,\"\",A228)","v":""},"Subtotal Line 7",null,null,null,{"$f":"ROUND(SUM(G198:G227),2)","v":0}]
[{"$f":"A$259","v":0},{"$f":"B$259","v":0},null,null,null,{"$f":"IFERROR(VLOOKUP(C229,Expenses_,2,FALSE),\"\")","v":""},{"$f":"IFERROR(ROUND(IF(E229=0,F229*D229,IF(F229=0,D229*E229,)),2),\"\")","v":""}]
[{"$f":"A$259","v":0},0,null,null,null,"",""]
[0,0,null,null,null,"",""]
[0,0,null,null,null,"",""]
[0,0,null,null,null,"",""]
[0,0,null,null,null,"",""]
[0,0,null,null,null,"",""]
[0,0,null,null,null,"",""]
[0,0,null,null,null,"",""]
[0,0,null,null,null,"",""]
[0,0,null,null,null,"",""]
[0,0,null,null,null,"",""]
[0,0,null,null,null,"",""]
[0,0,null,null,null,"",""]
[0,0,null,null,null,"",""]
[{"$f":"A$259","v":0},0,null,null,null,"",""]
[0,0,null,null,null,"",""]
[{"$f":"A$259","v":0},0,null,null,null,"",""]
[0,0,null,null,null,"",""]
[0,0,null,null,null,"",""]
[0,0,null,null,null,"",""]
[0,0,null,null,null,"",""]
[0,0,null,null,null,"",""]
[0,0,null,null,null,"",""]
[0,0,null,null,null,"",""]
[0,0,null,null,null,"",""]
[0,0,null,null,null,"",""]
[0,0,null,null,null,"",""]
[0,0,null,null,null,"",""]
[0,0,null,null,null,"",""]
[{"$f":"'Labor Summary (Office)'!A259","v":0},{"$f":"'Labor Summary (Office)'!B259","v":0},{"$f":"IF(A259=0,\"\",A259)","v":""},"Subtotal Line 8",null,null,null,{"$f":"ROUND(SUM(G229:G258),2)","v":0}]
[{"$f":"A$290","v":0},{"$f":"B$290","v":0},null,null,null,{"$f":"IFERROR(VLOOKUP(C260,Expenses_,2,FALSE),\"\")","v":""},{"$f":"IFERROR(ROUND(IF(E260=0,F260*D260,IF(F260=0,D260*E260,)),2),\"\")","v":""}]
[{"$f":"A$290","v":0},0,null,null,null,"",""]
[0,0,null,null,null,"",""]
[0,0,null,null,null,"",""]
[0,0,null,null,null,"",""]
[0,0,null,null,null,"",""]
[0,0,null,null,null,"",""]
[0,0,null,null,null,"",""]
[0,0,null,null,null,"",""]
[0,0,null,null,null,"",""]
[0,0,null,null,null,"",""]
[0,0,null,null,null,"",""]
[0,0,null,null,null,"",""]
[0,0,null,null,null,"",""]
[0,0,null,null,null,"",""]
[{"$f":"A$290","v":0},0,null,null,null,"",""]
[0,0,null,null,null,"",""]
[{"$f":"A$290","v":0},0,null,null,null,"",""]
[0,0,null,null,null,"",""]
[0,0,null,null,null,"",""]
[0,0,null,null,null,"",""]
[0,0,null,null,null,"",""]
[0,0,null,null,null,"",""]
[0,0,null,null,null,"",""]
[0,0,null,null,null,"",""]
[0,0,null,null,null,"",""]
[0,0,null,null,null,"",""]
[0,0,null,null,null,"",""]
[0,0,null,null,null,"",""]
[0,0,null,null,null,"",""]
[{"$f":"'Labor Summary (Office)'!A290","v":0},{"$f":"'Labor Summary (Office)'!B290","v":0},{"$f":"IF(A290=0,\"\",A290)","v":""},"Subtotal Line 9",null,null,null,{"$f":"ROUND(SUM(G260:G289),2)","v":0}]
[{"$f":"A$321","v":0},{"$f":"B$321","v":0},null,null,null,{"$f":"IFERROR(VLOOKUP(C291,Expenses_,2,FALSE),\"\")","v":""},{"$f":"IFERROR(ROUND(IF(E291=0,F291*D291,IF(F291=0,D291*E291,)),2),\"\")","v":""}]
[{"$f":"A$321","v":0},0,null,null,null,"",""]
[0,0,null,null,null,"",""]
[0,0,null,null,null,"",""]
[0,0,null,null,null,"",""]
[0,0,null,null,null,"",""]
[0,0,null,null,null,"",""]
[0,0,null,null,null,"",""]
[0,0,null,null,null,"",""]
[0,0,null,null,null,"",""]
[0,0,null,null,null,"",""]
[0,0,null,null,null,"",""]
[0,0,null,null,null,"",""]
[0,0,null,null,null,"",""]
[0,0,null,null,null,"",""]
[{"$f":"A$321","v":0},0,null,null,null,"",""]
[0,0,null,null,null,"",""]
[{"$f":"A$321","v":0},0,null,null,null,"",""]
[0,0,null,null,null,"",""]
[0,0,null,null,null,"",""]
[0,0,null,null,null,"",""]
[0,0,null,null,null,"",""]
[0,0,null,null,null,"",""]
[0,0,null,null,null,"",""]
[0,0,null,null,null,"",""]
[0,0,null,null,null,"",""]
[0,0,null,null,null,"",""]
[0,0,null,null,null,"",""]
[0,0,null,null,null,"",""]
[0,0,null,null,null,"",""]
[{"$f":"'Labor Summary (Office)'!A321","v":0},{"$f":"'Labor Summary (Office)'!B321","v":0},{"$f":"IF(A321=0,\"\",A321)","v":""},"Subtotal Line 10",null,null,null,{"$f":"ROUND(SUM(G291:G320),2)","v":0}]
[{"$f":"A$352","v":0},{"$f":"B$352","v":0},null,null,null,{"$f":"IFERROR(VLOOKUP(C322,Expenses_,2,FALSE),\"\")","v":""},{"$f":"IFERROR(ROUND(IF(E322=0,F322*D322,IF(F322=0,D322*E322,)),2),\"\")","v":""}]
[{"$f":"A$352","v":0},0,null,null,null,"",""]
[0,0,null,null,null,"",""]
[0,0,null,null,null,"",""]
[0,0,null,null,null,"",""]
[0,0,null,null,null,"",""]
[0,0,null,null,null,"",""]
[0,0,null,null,null,"",""]
[0,0,null,null,null,"",""]
[0,0,null,null,null,"",""]
[0,0,null,null,null,"",""]
[0,0,null,null,null,"",""]
[0,0,null,null,null,"",""]
[0,0,null,null,null,"",""]
[0,0,null,null,null,"",""]
[{"$f":"A$352","v":0},0,null,null,null,"",""]
[0,0,null,null,null,"",""]
[{"$f":"A$352","v":0},0,null,null,null,"",""]
[0,0,null,null,null,"",""]
[0,0,null,null,null,"",""]
[0,0,null,null,null,"",""]
[0,0,null,null,null,"",""]
[0,0,null,null,null,"",""]
[0,0,null,null,null,"",""]
[0,0,null,null,null,"",""]
[0,0,null,null,null,"",""]
[0,0,null,null,null,"",""]
[0,0,null,null,null,"",""]
[0,0,null,null,null,"",""]
[0,0,null,null,null,"",""]
[{"$f":"'Labor Summary (Office)'!A352","v":0},{"$f":"'Labor Summary (Office)'!B352","v":0},{"$f":"IF(A352=0,\"\",A352)","v":""},"Subtotal Line 11",null,null,null,{"$f":"ROUND(SUM(G322:G351),2)","v":0}]
[{"$f":"A$383","v":0},{"$f":"B$383","v":0},null,null,null,{"$f":"IFERROR(VLOOKUP(C353,Expenses_,2,FALSE),\"\")","v":""},{"$f":"IFERROR(ROUND(IF(E353=0,F353*D353,IF(F353=0,D353*E353,)),2),\"\")","v":""}]
[{"$f":"A$383","v":0},0,null,null,null,"",""]
[0,0,null,null,null,"",""]
[0,0,null,null,null,"",""]
[0,0,null,null,null,"",""]
[0,0,null,null,null,"",""]
[0,0,null,null,null,"",""]
[0,0,null,null,null,"",""]
[0,0,null,null,null,"",""]
[0,0,null,null,null,"",""]
[0,0,null,null,null,"",""]
[0,0,null,null,null,"",""]
[0,0,null,null,null,"",""]
[0,0,null,null,null,"",""]
[0,0,null,null,null,"",""]
[{"$f":"A$383","v":0},0,null,null,null,"",""]
[0,0,null,null,null,"",""]
[{"$f":"A$383","v":0},0,null,null,null,"",""]
[0,0,null,null,null,"",""]
[0,0,null,null,null,"",""]
[0,0,null,null,null,"",""]
[0,0,null,null,null,"",""]
[0,0,null,null,null,"",""]
[0,0,null,null,null,"",""]
[0,0,null,null,null,"",""]
[0,0,null,null,null,"",""]
[0,0,null,null,null,"",""]
[0,0,null,null,null,"",""]
[0,0,null,null,null,"",""]
[0,0,null,null,null,"",""]
[{"$f":"'Labor Summary (Office)'!A383","v":0},{"$f":"'Labor Summary (Office)'!B383","v":0},{"$f":"IF(A383=0,\"\",A383)","v":""},"Subtotal Line 12",null,null,null,{"$f":"ROUND(SUM(G353:G382),2)","v":0}]
[{"$f":"A$414","v":0},{"$f":"B$414","v":0},null,null,null,{"$f":"IFERROR(VLOOKUP(C384,Expenses_,2,FALSE),\"\")","v":""},{"$f":"IFERROR(ROUND(IF(E384=0,F384*D384,IF(F384=0,D384*E384,)),2),\"\")","v":""}]
[{"$f":"A$414","v":0},0,null,null,null,"",""]
[0,0,null,null,null,"",""]
[0,0,null,null,null,"",""]
[0,0,null,null,null,"",""]
[0,0,null,null,null,"",""]
[0,0,null,null,null,"",""]
[0,0,null,null,null,"",""]
[0,0,null,null,null,"",""]
[0,0,null,null,null,"",""]
[0,0,null,null,null,"",""]
[0,0,null,null,null,"",""]
[0,0,null,null,null,"",""]
[0,0,null,null,null,"",""]
[0,0,null,null,null,"",""]
[{"$f":"A$414","v":0},0,null,null,null,"",""]
[0,0,null,null,null,"",""]
[{"$f":"A$414","v":0},0,null,null,null,"",""]
[0,0,null,null,null,"",""]
[0,0,null,null,null,"",""]
[0,0,null,null,null,"",""]
[0,0,null,null,null,"",""]
[0,0,null,null,null,"",""]
[0,0,null,null,null,"",""]
[0,0,null,null,null,"",""]
[0,0,null,null,null,"",""]
[0,0,null,null,null,"",""]
[0,0,null,null,null,"",""]
[0,0,null,null,null,"",""]
[0,0,null,null,null,"",""]
[{"$f":"'Labor Summary (Office)'!A414","v":0},{"$f":"'Labor Summary (Office)'!B414","v":0},{"$f":"IF(A414=0,\"\",A414)","v":""},"Subtotal Line 13",null,null,null,{"$f":"ROUND(SUM(G384:G413),2)","v":0}]
[{"$f":"A$445","v":0},{"$f":"B$445","v":0},null,null,null,{"$f":"IFERROR(VLOOKUP(C415,Expenses_,2,FALSE),\"\")","v":""},{"$f":"IFERROR(ROUND(IF(E415=0,F415*D415,IF(F415=0,D415*E415,)),2),\"\")","v":""}]
[{"$f":"A$445","v":0},0,null,null,null,"",""]
[0,0,null,null,null,"",""]
[0,0,null,null,null,"",""]
[0,0,null,null,null,"",""]
[0,0,null,null,null,"",""]
[0,0,null,null,null,"",""]
[0,0,null,null,null,"",""]
[0,0,null,null,null,"",""]
[0,0,null,null,null,"",""]
[0,0,null,null,null,"",""]
[0,0,null,null,null,"",""]
[0,0,null,null,null,"",""]
[0,0,null,null,null,"",""]
[0,0,null,null,null,"",""]
[{"$f":"A$445","v":0},0,null,null,null,"",""]
[0,0,null,null,null,"",""]
[{"$f":"A$445","v":0},0,null,null,null,"",""]
[0,0,null,null,null,"",""]
[0,0,null,null,null,"",""]
[0,0,null,null,null,"",""]
[0,0,null,null,null,"",""]
[0,0,null,null,null,"",""]
[0,0,null,null,null,"",""]
[0,0,null,null,null,"",""]
[0,0,null,null,null,"",""]
[0,0,null,null,null,"",""]
[0,0,null,null,null,"",""]
[0,0,null,null,null,"",""]
[0,0,null,null,null,"",""]
[{"$f":"'Labor Summary (Office)'!A445","v":0},{"$f":"'Labor Summary (Office)'!B445","v":0},{"$f":"IF(A445=0,\"\",A445)","v":""},"Subtotal Line 14",null,null,null,{"$f":"ROUND(SUM(G415:G444),2)","v":0}]
[{"$f":"A$476","v":0},{"$f":"B$476","v":0},null,null,null,{"$f":"IFERROR(VLOOKUP(C446,Expenses_,2,FALSE),\"\")","v":""},{"$f":"IFERROR(ROUND(IF(E446=0,F446*D446,IF(F446=0,D446*E446,)),2),\"\")","v":""}]
[{"$f":"A$476","v":0},0,null,null,null,"",""]
[0,0,null,null,null,"",""]
[0,0,null,null,null,"",""]
[0,0,null,null,null,"",""]
[0,0,null,null,null,"",""]
[0,0,null,null,null,"",""]
[0,0,null,null,null,"",""]
[0,0,null,null,null,"",""]
[0,0,null,null,null,"",""]
[0,0,null,null,null,"",""]
[0,0,null,null,null,"",""]
[0,0,null,null,null,"",""]
[0,0,null,null,null,"",""]
[0,0,null,null,null,"",""]
[{"$f":"A$476","v":0},0,null,null,null,"",""]
[0,0,null,null,null,"",""]
[{"$f":"A$476","v":0},0,null,null,null,"",""]
[0,0,null,null,null,"",""]
[0,0,null,null,null,"",""]
[0,0,null,null,null,"",""]
[0,0,null,null,null,"",""]
[0,0,null,null,null,"",""]
[0,0,null,null,null,"",""]
[0,0,null,null,null,"",""]
[0,0,null,null,null,"",""]
[0,0,null,null,null,"",""]
[0,0,null,null,null,"",""]
[0,0,null,null,null,"",""]
[0,0,null,null,null,"",""]
[{"$f":"'Labor Summary (Office)'!A476","v":0},{"$f":"'Labor Summary (Office)'!B476","v":0},{"$f":"IF(A476=0,\"\",A476)","v":""},"Subtotal Line 15",null,null,null,{"$f":"ROUND(SUM(G446:G475),2)","v":0}]
[{"$f":"A$507","v":0},{"$f":"B$507","v":0},null,null,null,{"$f":"IFERROR(VLOOKUP(C477,Expenses_,2,FALSE),\"\")","v":""},{"$f":"IFERROR(ROUND(IF(E477=0,F477*D477,IF(F477=0,D477*E477,)),2),\"\")","v":""}]
[{"$f":"A$507","v":0},0,null,null,null,"",""]
[0,0,null,null,null,"",""]
[0,0,null,null,null,"",""]
[0,0,null,null,null,"",""]
[0,0,null,null,null,"",""]
[0,0,null,null,null,"",""]
[0,0,null,null,null,"",""]
[0,0,null,null,null,"",""]
[0,0,null,null,null,"",""]
[0,0,null,null,null,"",""]
[0,0,null,null,null,"",""]
[0,0,null,null,null,"",""]
[0,0,null,null,null,"",""]
[0,0,null,null,null,"",""]
[{"$f":"A$507","v":0},0,null,null,null,"",""]
[0,0,null,null,null,"",""]
[{"$f":"A$507","v":0},0,null,null,null,"",""]
[0,0,null,null,null,"",""]
[0,0,null,null,null,"",""]
[0,0,null,null,null,"",""]
[0,0,null,null,null,"",""]
[0,0,null,null,null,"",""]
[0,0,null,null,null,"",""]
[0,0,null,null,null,"",""]
[0,0,null,null,null,"",""]
[0,0,null,null,null,"",""]
[0,0,null,null,null,"",""]
[0,0,null,null,null,"",""]
[0,0,null,null,null,"",""]
[{"$f":"'Labor Summary (Office)'!A507","v":0},{"$f":"'Labor Summary (Office)'!B507","v":0},{"$f":"IF(A507=0,\"\",A507)","v":""},"Subtotal Line 16",null,null,null,{"$f":"ROUND(SUM(G477:G506),2)","v":0}]
[{"$f":"A$538","v":0},{"$f":"B$538","v":0},null,null,null,{"$f":"IFERROR(VLOOKUP(C508,Expenses_,2,FALSE),\"\")","v":""},{"$f":"IFERROR(ROUND(IF(E508=0,F508*D508,IF(F508=0,D508*E508,)),2),\"\")","v":""}]
[{"$f":"A$538","v":0},0,null,null,null,"",""]
[0,0,null,null,null,"",""]
[0,0,null,null,null,"",""]
[0,0,null,null,null,"",""]
[0,0,null,null,null,"",""]
[0,0,null,null,null,"",""]
[0,0,null,null,null,"",""]
[0,0,null,null,null,"",""]
[0,0,null,null,null,"",""]
[0,0,null,null,null,"",""]
[0,0,null,null,null,"",""]
[0,0,null,null,null,"",""]
[0,0,null,null,null,"",""]
[0,0,null,null,null,"",""]
[{"$f":"A$538","v":0},0,null,null,null,"",""]
[0,0,null,null,null,"",""]
[{"$f":"A$538","v":0},0,null,null,null,"",""]
[0,0,null,null,null,"",""]
[0,0,null,null,null,"",""]
[0,0,null,null,null,"",""]
[0,0,null,null,null,"",""]
[0,0,null,null,null,"",""]
[0,0,null,null,null,"",""]
[0,0,null,null,null,"",""]
[0,0,null,null,null,"",""]
[0,0,null,null,null,"",""]
[0,0,null,null,null,"",""]
[0,0,null,null,null,"",""]
[0,0,null,null,null,"",""]
[{"$f":"'Labor Summary (Office)'!A538","v":0},{"$f":"'Labor Summary (Office)'!B538","v":0},{"$f":"IF(A538=0,\"\",A538)","v":""},"Subtotal Line 17",null,null,null,{"$f":"ROUND(SUM(G508:G537),2)","v":0}]
[{"$f":"A$569","v":0},{"$f":"B$569","v":0},null,null,null,{"$f":"IFERROR(VLOOKUP(C539,Expenses_,2,FALSE),\"\")","v":""},{"$f":"IFERROR(ROUND(IF(E539=0,F539*D539,IF(F539=0,D539*E539,)),2),\"\")","v":""}]
[{"$f":"A$569","v":0},0,null,null,null,"",""]
[0,0,null,null,null,"",""]
[0,0,null,null,null,"",""]
[0,0,null,null,null,"",""]
[0,0,null,null,null,"",""]
[0,0,null,null,null,"",""]
[0,0,null,null,null,"",""]
[0,0,null,null,null,"",""]
[0,0,null,null,null,"",""]
[0,0,null,null,null,"",""]
[0,0,null,null,null,"",""]
[0,0,null,null,null,"",""]
[0,0,null,null,null,"",""]
[0,0,null,null,null,"",""]
[{"$f":"A$569","v":0},0,null,null,null,"",""]
[0,0,null,null,null,"",""]
[{"$f":"A$569","v":0},0,null,null,null,"",""]
[0,0,null,null,null,"",""]
[0,0,null,null,null,"",""]
[0,0,null,null,null,"",""]
[0,0,null,null,null,"",""]
[0,0,null,null,null,"",""]
[0,0,null,null,null,"",""]
[0,0,null,null,null,"",""]
[0,0,null,null,null,"",""]
[0,0,null,null,null,"",""]
[0,0,null,null,null,"",""]
[0,0,null,null,null,"",""]
[0,0,null,null,null,"",""]
[{"$f":"'Labor Summary (Office)'!A569","v":0},{"$f":"'Labor Summary (Office)'!B569","v":0},{"$f":"IF(A569=0,\"\",A569)","v":""},"Subtotal Line 18",null,null,null,{"$f":"ROUND(SUM(G539:G568),2)","v":0}]
[{"$f":"A$600","v":0},{"$f":"B$600","v":0},null,null,null,{"$f":"IFERROR(VLOOKUP(C570,Expenses_,2,FALSE),\"\")","v":""},{"$f":"IFERROR(ROUND(IF(E570=0,F570*D570,IF(F570=0,D570*E570,)),2),\"\")","v":""}]
[{"$f":"A$600","v":0},0,null,null,null,"",""]
[0,0,null,null,null,"",""]
[0,0,null,null,null,"",""]
[0,0,null,null,null,"",""]
[0,0,null,null,null,"",""]
[0,0,null,null,null,"",""]
[0,0,null,null,null,"",""]
[0,0,null,null,null,"",""]
[0,0,null,null,null,"",""]
[0,0,null,null,null,"",""]
[0,0,null,null,null,"",""]
[0,0,null,null,null,"",""]
[0,0,null,null,null,"",""]
[0,0,null,null,null,"",""]
[{"$f":"A$600","v":0},0,null,null,null,"",""]
[0,0,null,null,null,"",""]
[{"$f":"A$600","v":0},0,null,null,null,"",""]
[0,0,null,null,null,"",""]
[0,0,null,null,null,"",""]
[0,0,null,null,null,"",""]
[0,0,null,null,null,"",""]
[0,0,null,null,null,"",""]
[0,0,null,null,null,"",""]
[0,0,null,null,null,"",""]
[0,0,null,null,null,"",""]
[0,0,null,null,null,"",""]
[0,0,null,null,null,"",""]
[0,0,null,null,null,"",""]
[0,0,null,null,null,"",""]
[{"$f":"'Labor Summary (Office)'!A600","v":0},{"$f":"'Labor Summary (Office)'!B600","v":0},{"$f":"IF(A600=0,\"\",A600)","v":""},"Subtotal Line 19",null,null,null,{"$f":"ROUND(SUM(G570:G599),2)","v":0}]
[{"$f":"A$631","v":0},{"$f":"B$631","v":0},null,null,null,{"$f":"IFERROR(VLOOKUP(C601,Expenses_,2,FALSE),\"\")","v":""},{"$f":"IFERROR(ROUND(IF(E601=0,F601*D601,IF(F601=0,D601*E601,)),2),\"\")","v":""}]
[{"$f":"A$631","v":0},0,null,null,null,"",""]
[0,0,null,null,null,"",""]
[0,0,null,null,null,"",""]
[0,0,null,null,null,"",""]
[0,0,null,null,null,"",""]
[0,0,null,null,null,"",""]
[0,0,null,null,null,"",""]
[0,0,null,null,null,"",""]
[0,0,null,null,null,"",""]
[0,0,null,null,null,"",""]
[0,0,null,null,null,"",""]
[0,0,null,null,null,"",""]
[0,0,null,null,null,"",""]
[0,0,null,null,null,"",""]
[{"$f":"A$631","v":0},0,null,null,null,"",""]
[0,0,null,null,null,"",""]
[{"$f":"A$631","v":0},0,null,null,null,"",""]
[0,0,null,null,null,"",""]
[0,0,null,null,null,"",""]
[0,0,null,null,null,"",""]
[0,0,null,null,null,"",""]
[0,0,null,null,null,"",""]
[0,0,null,null,null,"",""]
[0,0,null,null,null,"",""]
[0,0,null,null,null,"",""]
[0,0,null,null,null,"",""]
[0,0,null,null,null,"",""]
[0,0,null,null,null,"",""]
[0,0,null,null,null,"",""]
[{"$f":"'Labor Summary (Office)'!A631","v":0},{"$f":"'Labor Summary (Office)'!B631","v":0},{"$f":"IF(A631=0,\"\",A631)","v":""},"Subtotal Line 20",null,null,null,{"$f":"ROUND(SUM(G601:G630),2)","v":0}]
[{"$f":"A$662","v":0},{"$f":"B$662","v":0},null,null,null,{"$f":"IFERROR(VLOOKUP(C632,Expenses_,2,FALSE),\"\")","v":""},{"$f":"IFERROR(ROUND(IF(E632=0,F632*D632,IF(F632=0,D632*E632,)),2),\"\")","v":""}]
[{"$f":"A$662","v":0},0,null,null,null,"",""]
[0,0,null,null,null,"",""]
[0,0,null,null,null,"",""]
[0,0,null,null,null,"",""]
[0,0,null,null,null,"",""]
[0,0,null,null,null,"",""]
[0,0,null,null,null,"",""]
[0,0,null,null,null,"",""]
[0,0,null,null,null,"",""]
[0,0,null,null,null,"",""]
[0,0,null,null,null,"",""]
[0,0,null,null,null,"",""]
[0,0,null,null,null,"",""]
[0,0,null,null,null,"",""]
[{"$f":"A$662","v":0},0,null,null,null,"",""]
[0,0,null,null,null,"",""]
[{"$f":"A$662","v":0},0,null,null,null,"",""]
[0,0,null,null,null,"",""]
[0,0,null,null,null,"",""]
[0,0,null,null,null,"",""]
[0,0,null,null,null,"",""]
[0,0,null,null,null,"",""]
[0,0,null,null,null,"",""]
[0,0,null,null,null,"",""]
[0,0,null,null,null,"",""]
[0,0,null,null,null,"",""]
[0,0,null,null,null,"",""]
[0,0,null,null,null,"",""]
[0,0,null,null,null,"",""]
[{"$f":"'Labor Summary (Office)'!A662","v":0},{"$f":"'Labor Summary (Office)'!B662","v":0},{"$f":"IF(A662=0,\"\",A662)","v":""},"Subtotal Line 21",null,null,null,{"$f":"ROUND(SUM(G632:G661),2)","v":0}]
[{"$f":"A$693","v":0},{"$f":"B$693","v":0},null,null,null,{"$f":"IFERROR(VLOOKUP(C663,Expenses_,2,FALSE),\"\")","v":""},{"$f":"IFERROR(ROUND(IF(E663=0,F663*D663,IF(F663=0,D663*E663,)),2),\"\")","v":""}]
[{"$f":"A$693","v":0},0,null,null,null,"",""]
[0,0,null,null,null,"",""]
[0,0,null,null,null,"",""]
[0,0,null,null,null,"",""]
[0,0,null,null,null,"",""]
[0,0,null,null,null,"",""]
[0,0,null,null,null,"",""]
[0,0,null,null,null,"",""]
[0,0,null,null,null,"",""]
[0,0,null,null,null,"",""]
[0,0,null,null,null,"",""]
[0,0,null,null,null,"",""]
[0,0,null,null,null,"",""]
[0,0,null,null,null,"",""]
[{"$f":"A$693","v":0},0,null,null,null,"",""]
[0,0,null,null,null,"",""]
[{"$f":"A$693","v":0},0,null,null,null,"",""]
[0,0,null,null,null,"",""]
[0,0,null,null,null,"",""]
[0,0,null,null,null,"",""]
[0,0,null,null,null,"",""]
[0,0,null,null,null,"",""]
[0,0,null,null,null,"",""]
[0,0,null,null,null,"",""]
[0,0,null,null,null,"",""]
[0,0,null,null,null,"",""]
[0,0,null,null,null,"",""]
[0,0,null,null,null,"",""]
[0,0,null,null,null,"",""]
[{"$f":"'Labor Summary (Office)'!A693","v":0},{"$f":"'Labor Summary (Office)'!B693","v":0},{"$f":"IF(A693=0,\"\",A693)","v":""},"Subtotal Line 22",null,null,null,{"$f":"ROUND(SUM(G663:G692),2)","v":0}]
[{"$f":"A$724","v":0},{"$f":"B$724","v":0},null,null,null,{"$f":"IFERROR(VLOOKUP(C694,Expenses_,2,FALSE),\"\")","v":""},{"$f":"IFERROR(ROUND(IF(E694=0,F694*D694,IF(F694=0,D694*E694,)),2),\"\")","v":""}]
[{"$f":"A$724","v":0},0,null,null,null,"",""]
[0,0,null,null,null,"",""]
[0,0,null,null,null,"",""]
[0,0,null,null,null,"",""]
[0,0,null,null,null,"",""]
[0,0,null,null,null,"",""]
[0,0,null,null,null,"",""]
[0,0,null,null,null,"",""]
[0,0,null,null,null,"",""]
[0,0,null,null,null,"",""]
[0,0,null,null,null,"",""]
[0,0,null,null,null,"",""]
[0,0,null,null,null,"",""]
[0,0,null,null,null,"",""]
[{"$f":"A$724","v":0},0,null,null,null,"",""]
[0,0,null,null,null,"",""]
[{"$f":"A$724","v":0},0,null,null,null,"",""]
[0,0,null,null,null,"",""]
[0,0,null,null,null,"",""]
[0,0,null,null,null,"",""]
[0,0,null,null,null,"",""]
[0,0,null,null,null,"",""]
[0,0,null,null,null,"",""]
[0,0,null,null,null,"",""]
[0,0,null,null,null,"",""]
[0,0,null,null,null,"",""]
[0,0,null,null,null,"",""]
[0,0,null,null,null,"",""]
[0,0,null,null,null,"",""]
[{"$f":"'Labor Summary (Office)'!A724","v":0},{"$f":"'Labor Summary (Office)'!B724","v":0},{"$f":"IF(A724=0,\"\",A724)","v":""},"Subtotal Line 23",null,null,null,{"$f":"ROUND(SUM(G694:G723),2)","v":0}]
[{"$f":"A$755","v":0},{"$f":"B$755","v":0},null,null,null,{"$f":"IFERROR(VLOOKUP(C725,Expenses_,2,FALSE),\"\")","v":""},{"$f":"IFERROR(ROUND(IF(E725=0,F725*D725,IF(F725=0,D725*E725,)),2),\"\")","v":""}]
[{"$f":"A$755","v":0},0,null,null,null,"",""]
[0,0,null,null,null,"",""]
[0,0,null,null,null,"",""]
[0,0,null,null,null,"",""]
[0,0,null,null,null,"",""]
[0,0,null,null,null,"",""]
[0,0,null,null,null,"",""]
[0,0,null,null,null,"",""]
[0,0,null,null,null,"",""]
[0,0,null,null,null,"",""]
[0,0,null,null,null,"",""]
[0,0,null,null,null,"",""]
[0,0,null,null,null,"",""]
[0,0,null,null,null,"",""]
[{"$f":"A$755","v":0},0,null,null,null,"",""]
[0,0,null,null,null,"",""]
[{"$f":"A$755","v":0},0,null,null,null,"",""]
[0,0,null,null,null,"",""]
[0,0,null,null,null,"",""]
[0,0,null,null,null,"",""]
[0,0,null,null,null,"",""]
[0,0,null,null,null,"",""]
[0,0,null,null,null,"",""]
[0,0,null,null,null,"",""]
[0,0,null,null,null,"",""]
[0,0,null,null,null,"",""]
[0,0,null,null,null,"",""]
[0,0,null,null,null,"",""]
[0,0,null,null,null,"",""]
[{"$f":"'Labor Summary (Office)'!A755","v":0},{"$f":"'Labor Summary (Office)'!B755","v":0},{"$f":"IF(A755=0,\"\",A755)","v":""},"Subtotal Line 24",null,null,null,{"$f":"ROUND(SUM(G725:G754),2)","v":0}]
[{"$f":"A$786","v":0},{"$f":"B$786","v":0},null,null,null,{"$f":"IFERROR(VLOOKUP(C756,Expenses_,2,FALSE),\"\")","v":""},{"$f":"IFERROR(ROUND(IF(E756=0,F756*D756,IF(F756=0,D756*E756,)),2),\"\")","v":""}]
[{"$f":"A$786","v":0},0,null,null,null,"",""]
[0,0,null,null,null,"",""]
[0,0,null,null,null,"",""]
[0,0,null,null,null,"",""]
[0,0,null,null,null,"",""]
[0,0,null,null,null,"",""]
[0,0,null,null,null,"",""]
[0,0,null,null,null,"",""]
[0,0,null,null,null,"",""]
[0,0,null,null,null,"",""]
[0,0,null,null,null,"",""]
[0,0,null,null,null,"",""]
[0,0,null,null,null,"",""]
[0,0,null,null,null,"",""]
[{"$f":"A$786","v":0},0,null,null,null,"",""]
[0,0,null,null,null,"",""]
[{"$f":"A$786","v":0},0,null,null,null,"",""]
[0,0,null,null,null,"",""]
[0,0,null,null,null,"",""]
[0,0,null,null,null,"",""]
[0,0,null,null,null,"",""]
[0,0,null,null,null,"",""]
[0,0,null,null,null,"",""]
[0,0,null,null,null,"",""]
[0,0,null,null,null,"",""]
[0,0,null,null,null,"",""]
[0,0,null,null,null,"",""]
[0,0,null,null,null,"",""]
[0,0,null,null,null,"",""]
[{"$f":"'Labor Summary (Office)'!A786","v":0},{"$f":"'Labor Summary (Office)'!B786","v":0},{"$f":"IF(A786=0,\"\",A786)","v":""},"Subtotal Line 25",null,null,null,{"$f":"ROUND(SUM(G756:G785),2)","v":0}]
[{"$f":"A$817","v":0},{"$f":"B$817","v":0},null,null,null,{"$f":"IFERROR(VLOOKUP(C787,Expenses_,2,FALSE),\"\")","v":""},{"$f":"IFERROR(ROUND(IF(E787=0,F787*D787,IF(F787=0,D787*E787,)),2),\"\")","v":""}]
[0,0,null,null,null,"",""]
[0,0,null,null,null,"",""]
[0,0,null,null,null,"",""]
[0,0,null,null,null,"",""]
[0,0,null,null,null,"",""]
[0,0,null,null,null,"",""]
[0,0,null,null,null,"",""]
[0,0,null,null,null,"",""]
[0,0,null,null,null,"",""]
[0,0,null,null,null,"",""]
[0,0,null,null,null,"",""]
[0,0,null,null,null,"",""]
[0,0,null,null,null,"",""]
[0,0,null,null,null,"",""]
[{"$f":"A$817","v":0},{"$f":"B$817","v":0},null,null,null,"",""]
[0,0,null,null,null,"",""]
[{"$f":"A$817","v":0},0,null,null,null,"",""]
[0,0,null,null,null,"",""]
[0,0,null,null,null,"",""]
[0,0,null,null,null,"",""]
[0,0,null,null,null,"",""]
[0,0,null,null,null,"",""]
[0,0,null,null,null,"",""]
[0,0,null,null,null,"",""]
[0,0,null,null,null,"",""]
[0,0,null,null,null,"",""]
[0,0,null,null,null,"",""]
[0,0,null,null,null,"",""]
[0,0,null,null,null,"",""]
[{"$f":"'Labor Summary (Office)'!A817","v":0},{"$f":"'Labor Summary (Office)'!B817","v":0},{"$f":"IF(A817=0,\"\",A817)","v":""},"Subtotal Line 26",null,null,null,{"$f":"ROUND(SUM(G787:G816),2)","v":0}]
[{"$f":"A$848","v":0},{"$f":"B$848","v":0},null,null,null,{"$f":"IFERROR(VLOOKUP(C818,Expenses_,2,FALSE),\"\")","v":""},{"$f":"IFERROR(ROUND(IF(E818=0,F818*D818,IF(F818=0,D818*E818,)),2),\"\")","v":""}]
[{"$f":"A$848","v":0},0,null,null,null,"",""]
[0,0,null,null,null,"",""]
[0,0,null,null,null,"",""]
[0,0,null,null,null,"",""]
[0,0,null,null,null,"",""]
[0,0,null,null,null,"",""]
[0,0,null,null,null,"",""]
[0,0,null,null,null,"",""]
[0,0,null,null,null,"",""]
[0,0,null,null,null,"",""]
[0,0,null,null,null,"",""]
[0,0,null,null,null,"",""]
[0,0,null,null,null,"",""]
[0,0,null,null,null,"",""]
[{"$f":"A$848","v":0},{"$f":"B$848","v":0},null,null,null,"",""]
[0,0,null,null,null,"",""]
[{"$f":"A$848","v":0},0,null,null,null,"",""]
[0,0,null,null,null,"",""]
[0,0,null,null,null,"",""]
[0,0,null,null,null,"",""]
[0,0,null,null,null,"",""]
[0,0,null,null,null,"",""]
[0,0,null,null,null,"",""]
[0,0,null,null,null,"",""]
[0,0,null,null,null,"",""]
[0,0,null,null,null,"",""]
[0,0,null,null,null,"",""]
[0,0,null,null,null,"",""]
[0,0,null,null,null,"",""]
[{"$f":"'Labor Summary (Office)'!A848","v":0},{"$f":"'Labor Summary (Office)'!B848","v":0},{"$f":"IF(A848=0,\"\",A848)","v":""},"Subtotal Line 27",null,null,null,{"$f":"ROUND(SUM(G818:G847),2)","v":0}]
[{"$f":"A$879","v":0},{"$f":"B$879","v":0},null,null,null,{"$f":"IFERROR(VLOOKUP(C849,Expenses_,2,FALSE),\"\")","v":""},{"$f":"IFERROR(ROUND(IF(E849=0,F849*D849,IF(F849=0,D849*E849,)),2),\"\")","v":""}]
[{"$f":"A$879","v":0},0,null,null,null,"",""]
[0,0,null,null,null,"",""]
[0,0,null,null,null,"",""]
[0,0,null,null,null,"",""]
[0,0,null,null,null,"",""]
[0,0,null,null,null,"",""]
[0,0,null,null,null,"",""]
[0,0,null,null,null,"",""]
[0,0,null,null,null,"",""]
[0,0,null,null,null,"",""]
[0,0,null,null,null,"",""]
[0,0,null,null,null,"",""]
[0,0,null,null,null,"",""]
[0,0,null,null,null,"",""]
[{"$f":"A$879","v":0},{"$f":"B$879","v":0},null,null,null,"",""]
[0,0,null,null,null,"",""]
[{"$f":"A$879","v":0},0,null,null,null,"",""]
[0,0,null,null,null,"",""]
[0,0,null,null,null,"",""]
[0,0,null,null,null,"",""]
[0,0,null,null,null,"",""]
[0,0,null,null,null,"",""]
[0,0,null,null,null,"",""]
[0,0,null,null,null,"",""]
[0,0,null,null,null,"",""]
[0,0,null,null,null,"",""]
[0,0,null,null,null,"",""]
[0,0,null,null,null,"",""]
[0,0,null,null,null,"",""]
[{"$f":"'Labor Summary (Office)'!A879","v":0},{"$f":"'Labor Summary (Office)'!B879","v":0},{"$f":"IF(A879=0,\"\",A879)","v":""},"Subtotal Line 28",null,null,null,{"$f":"ROUND(SUM(G849:G878),2)","v":0}]
[{"$f":"A$910","v":0},0,null,null,null,{"$f":"IFERROR(VLOOKUP(C880,Expenses_,2,FALSE),\"\")","v":""},{"$f":"IFERROR(ROUND(IF(E880=0,F880*D880,IF(F880=0,D880*E880,)),2),\"\")","v":""}]
[0,0,null,null,null,"",""]
[0,0,null,null,null,"",""]
[0,0,null,null,null,"",""]
[0,0,null,null,null,"",""]
[0,0,null,null,null,"",""]
[0,0,null,null,null,"",""]
[0,0,null,null,null,"",""]
[0,0,null,null,null,"",""]
[0,0,null,null,null,"",""]
[0,0,null,null,null,"",""]
[0,0,null,null,null,"",""]
[0,0,null,null,null,"",""]
[0,0,null,null,null,"",""]
[0,0,null,null,null,"",""]
[0,0,null,null,null,"",""]
[0,0,null,null,null,"",""]
[0,0,null,null,null,"",""]
[0,0,null,null,null,"",""]
[0,0,null,null,null,"",""]
[0,0,null,null,null,"",""]
[0,0,null,null,null,"",""]
[0,0,null,null,null,"",""]
[0,0,null,null,null,"",""]
[0,0,null,null,null,"",""]
[0,0,null,null,null,"",""]
[0,0,null,null,null,"",""]
[0,0,null,null,null,"",""]
[0,0,null,null,null,"",""]
[0,0,null,null,null,"",""]
[{"$f":"'Labor Summary (Office)'!A910","v":0},{"$f":"'Labor Summary (Office)'!B910","v":0},{"$f":"IF(A910=0,\"\",A910)","v":""},"Subtotal Line 29",null,null,null,{"$f":"ROUND(SUM(G880:G909),2)","v":0}]
[{"$f":"A$941","v":0},{"$f":"B$941","v":0},null,null,null,{"$f":"IFERROR(VLOOKUP(C911,Expenses_,2,FALSE),\"\")","v":""},{"$f":"IFERROR(ROUND(IF(E911=0,F911*D911,IF(F911=0,D911*E911,)),2),\"\")","v":""}]
[{"$f":"A$941","v":0},0,null,null,null,"",""]
[0,0,null,null,null,"",""]
[0,0,null,null,null,"",""]
[0,0,null,null,null,"",""]
[0,0,null,null,null,"",""]
[0,0,null,null,null,"",""]
[0,0,null,null,null,"",""]
[0,0,null,null,null,"",""]
[0,0,null,null,null,"",""]
[0,0,null,null,null,"",""]
[0,0,null,null,null,"",""]
[0,0,null,null,null,"",""]
[0,0,null,null,null,"",""]
[0,0,null,null,null,"",""]
[{"$f":"A$941","v":0},{"$f":"B$941","v":0},null,null,null,"",""]
[0,0,null,null,null,"",""]
[{"$f":"A$941","v":0},0,null,null,null,"",""]
[0,0,null,null,null,"",""]
[0,0,null,null,null,"",""]
[0,0,null,null,null,"",""]
[0,0,null,null,null,"",""]
[0,0,null,null,null,"",""]
[0,0,null,null,null,"",""]
[0,0,null,null,null,"",""]
[0,0,null,null,null,"",""]
[0,0,null,null,null,"",""]
[0,0,null,null,null,"",""]
[0,0,null,null,null,"",""]
[0,0,null,null,null,"",""]
[{"$f":"'Labor Summary (Office)'!A941","v":0},{"$f":"'Labor Summary (Office)'!B941","v":0},{"$f":"IF(A941=0,\"\",A941)","v":""},"Subtotal Line 30",null,null,null,{"$f":"ROUND(SUM(G911:G940),2)","v":0}]
[{"$f":"A$972","v":0},{"$f":"B$972","v":0},null,null,null,{"$f":"IFERROR(VLOOKUP(C942,Expenses_,2,FALSE),\"\")","v":""},{"$f":"IFERROR(ROUND(IF(E942=0,F942*D942,IF(F942=0,D942*E942,)),2),\"\")","v":""}]
[{"$f":"A$972","v":0},0,null,null,null,"",""]
[0,0,null,null,null,"",""]
[0,0,null,null,null,"",""]
[0,0,null,null,null,"",""]
[0,0,null,null,null,"",""]
[0,0,null,null,null,"",""]
[0,0,null,null,null,"",""]
[0,0,null,null,null,"",""]
[0,0,null,null,null,"",""]
[0,0,null,null,null,"",""]
[0,0,null,null,null,"",""]
[0,0,null,null,null,"",""]
[0,0,null,null,null,"",""]
[0,0,null,null,null,"",""]
[{"$f":"A$972","v":0},{"$f":"B$972","v":0},null,null,null,"",""]
[0,0,null,null,null,"",""]
[{"$f":"A$972","v":0},0,null,null,null,"",""]
[0,0,null,null,null,"",""]
[0,0,null,null,null,"",""]
[0,0,null,null,null,"",""]
[0,0,null,null,null,"",""]
[0,0,null,null,null,"",""]
[0,0,null,null,null,"",""]
[0,0,null,null,null,"",""]
[0,0,null,null,null,"",""]
[0,0,null,null,null,"",""]
[0,0,null,null,null,"",""]
[0,0,null,null,null,"",""]
[0,0,null,null,null,"",""]
[{"$f":"'Labor Summary (Office)'!A972","v":0},{"$f":"'Labor Summary (Office)'!B972","v":0},{"$f":"IF(A972=0,\"\",A972)","v":""},"Subtotal Line 31",null,null,null,{"$f":"ROUND(SUM(G942:G971),2)","v":0}]
[{"$f":"A$1003","v":0},{"$f":"B$1003","v":0},null,null,null,{"$f":"IFERROR(VLOOKUP(C973,Expenses_,2,FALSE),\"\")","v":""},{"$f":"IFERROR(ROUND(IF(E973=0,F973*D973,IF(F973=0,D973*E973,)),2),\"\")","v":""}]
[{"$f":"A$1003","v":0},0,null,null,null,"",""]
[0,0,null,null,null,"",""]
[0,0,null,null,null,"",""]
[0,0,null,null,null,"",""]
[0,0,null,null,null,"",""]
[0,0,null,null,null,"",""]
[0,0,null,null,null,"",""]
[0,0,null,null,null,"",""]
[0,0,null,null,null,"",""]
[0,0,null,null,null,"",""]
[0,0,null,null,null,"",""]
[0,0,null,null,null,"",""]
[0,0,null,null,null,"",""]
[0,0,null,null,null,"",""]
[{"$f":"A$1003","v":0},{"$f":"B$1003","v":0},null,null,null,"",""]
[0,0,null,null,null,"",""]
[{"$f":"A$1003","v":0},0,null,null,null,"",""]
[0,0,null,null,null,"",""]
[0,0,null,null,null,"",""]
[0,0,null,null,null,"",""]
[0,0,null,null,null,"",""]
[0,0,null,null,null,"",""]
[0,0,null,null,null,"",""]
[0,0,null,null,null,"",""]
[0,0,null,null,null,"",""]
[0,0,null,null,null,"",""]
[0,0,null,null,null,"",""]
[0,0,null,null,null,"",""]
[0,0,null,null,null,"",""]
[{"$f":"'Labor Summary (Office)'!A1003","v":0},{"$f":"'Labor Summary (Office)'!B1003","v":0},{"$f":"IF(A1003=0,\"\",A1003)","v":""},"Subtotal Line 32",null,null,null,{"$f":"ROUND(SUM(G973:G1002),2)","v":0}]
[{"$f":"A$1034","v":0},{"$f":"B$1034","v":0},null,null,null,{"$f":"IFERROR(VLOOKUP(C1004,Expenses_,2,FALSE),\"\")","v":""},{"$f":"IFERROR(ROUND(IF(E1004=0,F1004*D1004,IF(F1004=0,D1004*E1004,)),2),\"\")","v":""}]
[{"$f":"A$1034","v":0},0,null,null,null,"",""]
[0,0,null,null,null,"",""]
[0,0,null,null,null,"",""]
[0,0,null,null,null,"",""]
[0,0,null,null,null,"",""]
[0,0,null,null,null,"",""]
[0,0,null,null,null,"",""]
[0,0,null,null,null,"",""]
[0,0,null,null,null,"",""]
[0,0,null,null,null,"",""]
[0,0,null,null,null,"",""]
[0,0,null,null,null,"",""]
[0,0,null,null,null,"",""]
[0,0,null,null,null,"",""]
[{"$f":"A$1034","v":0},{"$f":"B$1034","v":0},null,null,null,"",""]
[0,0,null,null,null,"",""]
[{"$f":"A$1034","v":0},0,null,null,null,"",""]
[0,0,null,null,null,"",""]
[0,0,null,null,null,"",""]
[0,0,null,null,null,"",""]
[0,0,null,null,null,"",""]
[0,0,null,null,null,"",""]
[0,0,null,null,null,"",""]
[0,0,null,null,null,"",""]
[0,0,null,null,null,"",""]
[0,0,null,null,null,"",""]
[0,0,null,null,null,"",""]
[0,0,null,null,null,"",""]
[0,0,null,null,null,"",""]
[{"$f":"'Labor Summary (Office)'!A1034","v":0},{"$f":"'Labor Summary (Office)'!B1034","v":0},{"$f":"IF(A1034=0,\"\",A1034)","v":""},"Subtotal Line 33",null,null,null,{"$f":"ROUND(SUM(G1004:G1033),2)","v":0}]
[{"$f":"A$1065","v":0},{"$f":"B$1065","v":0},null,null,null,{"$f":"IFERROR(VLOOKUP(C1035,Expenses_,2,FALSE),\"\")","v":""},{"$f":"IFERROR(ROUND(IF(E1035=0,F1035*D1035,IF(F1035=0,D1035*E1035,)),2),\"\")","v":""}]
[{"$f":"A$1065","v":0},0,null,null,null,"",""]
[0,0,null,null,null,"",""]
[0,0,null,null,null,"",""]
[0,0,null,null,null,"",""]
[0,0,null,null,null,"",""]
[0,0,null,null,null,"",""]
[0,0,null,null,null,"",""]
[0,0,null,null,null,"",""]
[0,0,null,null,null,"",""]
[0,0,null,null,null,"",""]
[0,0,null,null,null,"",""]
[0,0,null,null,null,"",""]
[0,0,null,null,null,"",""]
[0,0,null,null,null,"",""]
[{"$f":"A$1065","v":0},{"$f":"B$1065","v":0},null,null,null,"",""]
[0,0,null,null,null,"",""]
[{"$f":"A$1065","v":0},0,null,null,null,"",""]
[0,0,null,null,null,"",""]
[0,0,null,null,null,"",""]
[0,0,null,null,null,"",""]
[0,0,null,null,null,"",""]
[0,0,null,null,null,"",""]
[0,0,null,null,null,"",""]
[0,0,null,null,null,"",""]
[0,0,null,null,null,"",""]
[0,0,null,null,null,"",""]
[0,0,null,null,null,"",""]
[0,0,null,null,null,"",""]
[0,0,null,null,null,"",""]
[{"$f":"'Labor Summary (Office)'!A1065","v":0},{"$f":"'Labor Summary (Office)'!B1065","v":0},{"$f":"IF(A1065=0,\"\",A1065)","v":""},"Subtotal Line 34",null,null,null,{"$f":"ROUND(SUM(G1035:G1064),2)","v":0}]
[{"$f":"A$1096","v":0},{"$f":"B$1096","v":0},null,null,null,{"$f":"IFERROR(VLOOKUP(C1066,Expenses_,2,FALSE),\"\")","v":""},{"$f":"IFERROR(ROUND(IF(E1066=0,F1066*D1066,IF(F1066=0,D1066*E1066,)),2),\"\")","v":""}]
[{"$f":"A$1096","v":0},0,null,null,null,"",""]
[0,0,null,null,null,"",""]
[0,0,null,null,null,"",""]
[0,0,null,null,null,"",""]
[0,0,null,null,null,"",""]
[0,0,null,null,null,"",""]
[0,0,null,null,null,"",""]
[0,0,null,null,null,"",""]
[0,0,null,null,null,"",""]
[0,0,null,null,null,"",""]
[0,0,null,null,null,"",""]
[0,0,null,null,null,"",""]
[0,0,null,null,null,"",""]
[0,0,null,null,null,"",""]
[{"$f":"A$1096","v":0},{"$f":"B$1096","v":0},null,null,null,"",""]
[0,0,null,null,null,"",""]
[{"$f":"A$1096","v":0},0,null,null,null,"",""]
[0,0,null,null,null,"",""]
[0,0,null,null,null,"",""]
[0,0,null,null,null,"",""]
[0,0,null,null,null,"",""]
[0,0,null,null,null,"",""]
[0,0,null,null,null,"",""]
[0,0,null,null,null,"",""]
[0,0,null,null,null,"",""]
[0,0,null,null,null,"",""]
[0,0,null,null,null,"",""]
[0,0,null,null,null,"",""]
[0,0,null,null,null,"",""]
[{"$f":"'Labor Summary (Office)'!A1096","v":0},{"$f":"'Labor Summary (Office)'!B1096","v":0},{"$f":"IF(A1096=0,\"\",A1096)","v":""},"Subtotal Line 35",null,null,null,{"$f":"ROUND(SUM(G1066:G1095),2)","v":0}]
[{"$f":"A$1127","v":0},{"$f":"B$1127","v":0},null,null,null,{"$f":"IFERROR(VLOOKUP(C1097,Expenses_,2,FALSE),\"\")","v":""},{"$f":"IFERROR(ROUND(IF(E1097=0,F1097*D1097,IF(F1097=0,D1097*E1097,)),2),\"\")","v":""}]
[{"$f":"A$1127","v":0},0,null,null,null,"",""]
[0,0,null,null,null,"",""]
[0,0,null,null,null,"",""]
[0,0,null,null,null,"",""]
[0,0,null,null,null,"",""]
[0,0,null,null,null,"",""]
[0,0,null,null,null,"",""]
[0,0,null,null,null,"",""]
[0,0,null,null,null,"",""]
[0,0,null,null,null,"",""]
[0,0,null,null,null,"",""]
[0,0,null,null,null,"",""]
[0,0,null,null,null,"",""]
[0,0,null,null,null,"",""]
[{"$f":"A$1127","v":0},{"$f":"B$1127","v":0},null,null,null,"",""]
[0,0,null,null,null,"",""]
[{"$f":"A$1127","v":0},0,null,null,null,"",""]
[0,0,null,null,null,"",""]
[0,0,null,null,null,"",""]
[0,0,null,null,null,"",""]
[0,0,null,null,null,"",""]
[0,0,null,null,null,"",""]
[0,0,null,null,null,"",""]
[0,0,null,null,null,"",""]
[0,0,null,null,null,"",""]
[0,0,null,null,null,"",""]
[0,0,null,null,null,"",""]
[0,0,null,null,null,"",""]
[0,0,null,null,null,"",""]
[{"$f":"'Labor Summary (Office)'!A1127","v":0},{"$f":"'Labor Summary (Office)'!B1127","v":0},{"$f":"IF(A1127=0,\"\",A1127)","v":""},"Subtotal Line 36",null,null,null,{"$f":"ROUND(SUM(G1097:G1126),2)","v":0}]
[{"$f":"A$1158","v":0},{"$f":"B$1158","v":0},null,null,null,{"$f":"IFERROR(VLOOKUP(C1128,Expenses_,2,FALSE),\"\")","v":""},{"$f":"IFERROR(ROUND(IF(E1128=0,F1128*D1128,IF(F1128=0,D1128*E1128,)),2),\"\")","v":""}]
[{"$f":"A$1158","v":0},0,null,null,null,"",""]
[0,0,null,null,null,"",""]
[0,0,null,null,null,"",""]
[0,0,null,null,null,"",""]
[0,0,null,null,null,"",""]
[0,0,null,null,null,"",""]
[0,0,null,null,null,"",""]
[0,0,null,null,null,"",""]
[0,0,null,null,null,"",""]
[0,0,null,null,null,"",""]
[0,0,null,null,null,"",""]
[0,0,null,null,null,"",""]
[0,0,null,null,null,"",""]
[0,0,null,null,null,"",""]
[{"$f":"A$1158","v":0},{"$f":"B$1158","v":0},null,null,null,"",""]
[0,0,null,null,null,"",""]
[{"$f":"A$1158","v":0},0,null,null,null,"",""]
[0,0,null,null,null,"",""]
[0,0,null,null,null,"",""]
[0,0,null,null,null,"",""]
[0,0,null,null,null,"",""]
[0,0,null,null,null,"",""]
[0,0,null,null,null,"",""]
[0,0,null,null,null,"",""]
[0,0,null,null,null,"",""]
[0,0,null,null,null,"",""]
[0,0,null,null,null,"",""]
[0,0,null,null,null,"",""]
[0,0,null,null,null,"",""]
[{"$f":"'Labor Summary (Office)'!A1158","v":0},{"$f":"'Labor Summary (Office)'!B1158","v":0},{"$f":"IF(A1158=0,\"\",A1158)","v":""},"Subtotal Line 37",null,null,null,{"$f":"ROUND(SUM(G1128:G1157),2)","v":0}]
[{"$f":"A$1189","v":0},{"$f":"B$1189","v":0},null,null,null,{"$f":"IFERROR(VLOOKUP(C1159,Expenses_,2,FALSE),\"\")","v":""},{"$f":"IFERROR(ROUND(IF(E1159=0,F1159*D1159,IF(F1159=0,D1159*E1159,)),2),\"\")","v":""}]
[{"$f":"A$1189","v":0},0,null,null,null,"",""]
[0,0,null,null,null,"",""]
[0,0,null,null,null,"",""]
[0,0,null,null,null,"",""]
[0,0,null,null,null,"",""]
[0,0,null,null,null,"",""]
[0,0,null,null,null,"",""]
[0,0,null,null,null,"",""]
[0,0,null,null,null,"",""]
[0,0,null,null,null,"",""]
[0,0,null,null,null,"",""]
[0,0,null,null,null,"",""]
[0,0,null,null,null,"",""]
[0,0,null,null,null,"",""]
[{"$f":"A$1189","v":0},{"$f":"B$1189","v":0},null,null,null,"",""]
[0,0,null,null,null,"",""]
[{"$f":"A$1189","v":0},0,null,null,null,"",""]
[0,0,null,null,null,"",""]
[0,0,null,null,null,"",""]
[0,0,null,null,null,"",""]
[0,0,null,null,null,"",""]
[0,0,null,null,null,"",""]
[0,0,null,null,null,"",""]
[0,0,null,null,null,"",""]
[0,0,null,null,null,"",""]
[0,0,null,null,null,"",""]
[0,0,null,null,null,"",""]
[0,0,null,null,null,"",""]
[0,0,null,null,null,"",""]
[{"$f":"'Labor Summary (Office)'!A1189","v":0},{"$f":"'Labor Summary (Office)'!B1189","v":0},{"$f":"IF(A1189=0,\"\",A1189)","v":""},"Subtotal Line 38",null,null,null,{"$f":"ROUND(SUM(G1159:G1188),2)","v":0}]
[{"$f":"A$1220","v":0},{"$f":"B$1220","v":0},null,null,null,{"$f":"IFERROR(VLOOKUP(C1190,Expenses_,2,FALSE),\"\")","v":""},{"$f":"IFERROR(ROUND(IF(E1190=0,F1190*D1190,IF(F1190=0,D1190*E1190,)),2),\"\")","v":""}]
[{"$f":"A$1220","v":0},0,null,null,null,"",""]
[0,0,null,null,null,"",""]
[0,0,null,null,null,"",""]
[0,0,null,null,null,"",""]
[0,0,null,null,null,"",""]
[0,0,null,null,null,"",""]
[0,0,null,null,null,"",""]
[0,0,null,null,null,"",""]
[0,0,null,null,null,"",""]
[0,0,null,null,null,"",""]
[0,0,null,null,null,"",""]
[0,0,null,null,null,"",""]
[0,0,null,null,null,"",""]
[0,0,null,null,null,"",""]
[{"$f":"A$1220","v":0},{"$f":"B$1220","v":0},null,null,null,"",""]
[0,0,null,null,null,"",""]
[{"$f":"A$1220","v":0},0,null,null,null,"",""]
[0,0,null,null,null,"",""]
[0,0,null,null,null,"",""]
[0,0,null,null,null,"",""]
[0,0,null,null,null,"",""]
[0,0,null,null,null,"",""]
[0,0,null,null,null,"",""]
[0,0,null,null,null,"",""]
[0,0,null,null,null,"",""]
[0,0,null,null,null,"",""]
[0,0,null,null,null,"",""]
[0,0,null,null,null,"",""]
[0,0,null,null,null,"",""]
[{"$f":"'Labor Summary (Office)'!A1220","v":0},{"$f":"'Labor Summary (Office)'!B1220","v":0},{"$f":"IF(A1220=0,\"\",A1220)","v":""},"Subtotal Line 39",null,null,null,{"$f":"ROUND(SUM(G1190:G1219),2)","v":0}]
[{"$f":"A$1251","v":0},{"$f":"B$1251","v":0},null,null,null,{"$f":"IFERROR(VLOOKUP(C1221,Expenses_,2,FALSE),\"\")","v":""},{"$f":"IFERROR(ROUND(IF(E1221=0,F1221*D1221,IF(F1221=0,D1221*E1221,)),2),\"\")","v":""}]
[{"$f":"A$1251","v":0},0,null,null,null,"",""]
[0,0,null,null,null,"",""]
[0,0,null,null,null,"",""]
[0,0,null,null,null,"",""]
[0,0,null,null,null,"",""]
[0,0,null,null,null,"",""]
[0,0,null,null,null,"",""]
[0,0,null,null,null,"",""]
[0,0,null,null,null,"",""]
[0,0,null,null,null,"",""]
[0,0,null,null,null,"",""]
[0,0,null,null,null,"",""]
[0,0,null,null,null,"",""]
[0,0,null,null,null,"",""]
[{"$f":"A$1251","v":0},{"$f":"B$1251","v":0},null,null,null,"",""]
[0,0,null,null,null,"",""]
[{"$f":"A$1251","v":0},0,null,null,null,"",""]
[0,0,null,null,null,"",""]
[0,0,null,null,null,"",""]
[0,0,null,null,null,"",""]
[0,0,null,null,null,"",""]
[0,0,null,null,null,"",""]
[0,0,null,null,null,"",""]
[0,0,null,null,null,"",""]
[0,0,null,null,null,"",""]
[0,0,null,null,null,"",""]
[0,0,null,null,null,"",""]
[0,0,null,null,null,"",""]
[0,0,null,null,null,"",""]
[{"$f":"'Labor Summary (Office)'!A1251","v":0},{"$f":"'Labor Summary (Office)'!B1251","v":0},{"$f":"IF(A1251=0,\"\",A1251)","v":""},"Subtotal Line 40",null,null,null,{"$f":"ROUND(SUM(G1221:G1250),2)","v":0}]
[{"$f":"A$1282","v":0},{"$f":"B$1282","v":0},null,null,null,{"$f":"IFERROR(VLOOKUP(C1252,Expenses_,2,FALSE),\"\")","v":""},{"$f":"IFERROR(ROUND(IF(E1252=0,F1252*D1252,IF(F1252=0,D1252*E1252,)),2),\"\")","v":""}]
[{"$f":"A$1282","v":0},0,null,null,null,"",""]
[0,0,null,null,null,"",""]
[0,0,null,null,null,"",""]
[0,0,null,null,null,"",""]
[0,0,null,null,null,"",""]
[0,0,null,null,null,"",""]
[0,0,null,null,null,"",""]
[0,0,null,null,null,"",""]
[0,0,null,null,null,"",""]
[0,0,null,null,null,"",""]
[0,0,null,null,null,"",""]
[0,0,null,null,null,"",""]
[0,0,null,null,null,"",""]
[0,0,null,null,null,"",""]
[{"$f":"A$1282","v":0},{"$f":"B$1282","v":0},null,null,null,"",""]
[0,0,null,null,null,"",""]
[{"$f":"A$1282","v":0},0,null,null,null,"",""]
[0,0,null,null,null,"",""]
[0,0,null,null,null,"",""]
[0,0,null,null,null,"",""]
[0,0,null,null,null,"",""]
[0,0,null,null,null,"",""]
[0,0,null,null,null,"",""]
[0,0,null,null,null,"",""]
[0,0,null,null,null,"",""]
[0,0,null,null,null,"",""]
[0,0,null,null,null,"",""]
[0,0,null,null,null,"",""]
[0,0,null,null,null,"",""]
[{"$f":"'Labor Summary (Office)'!A1282","v":0},{"$f":"'Labor Summary (Office)'!B1282","v":0},{"$f":"IF(A1282=0,\"\",A1282)","v":""},"Subtotal Line 41",null,null,null,{"$f":"ROUND(SUM(G1252:G1281),2)","v":0}]
[{"$f":"A$1313","v":0},{"$f":"B$1313","v":0},null,null,null,{"$f":"IFERROR(VLOOKUP(C1283,Expenses_,2,FALSE),\"\")","v":""},{"$f":"IFERROR(ROUND(IF(E1283=0,F1283*D1283,IF(F1283=0,D1283*E1283,)),2),\"\")","v":""}]
[{"$f":"A$1313","v":0},0,null,null,null,"",""]
[0,0,null,null,null,"",""]
[0,0,null,null,null,"",""]
[0,0,null,null,null,"",""]
[0,0,null,null,null,"",""]
[0,0,null,null,null,"",""]
[0,0,null,null,null,"",""]
[0,0,null,null,null,"",""]
[0,0,null,null,null,"",""]
[0,0,null,null,null,"",""]
[0,0,null,null,null,"",""]
[0,0,null,null,null,"",""]
[0,0,null,null,null,"",""]
[0,0,null,null,null,"",""]
[{"$f":"A$1313","v":0},{"$f":"B$1313","v":0},null,null,null,"",""]
[0,0,null,null,null,"",""]
[{"$f":"A$1313","v":0},0,null,null,null,"",""]
[0,0,null,null,null,"",""]
[0,0,null,null,null,"",""]
[0,0,null,null,null,"",""]
[0,0,null,null,null,"",""]
[0,0,null,null,null,"",""]
[0,0,null,null,null,"",""]
[0,0,null,null,null,"",""]
[0,0,null,null,null,"",""]
[0,0,null,null,null,"",""]
[0,0,null,null,null,"",""]
[0,0,null,null,null,"",""]
[0,0,null,null,null,"",""]
[{"$f":"'Labor Summary (Office)'!A1313","v":0},{"$f":"'Labor Summary (Office)'!B1313","v":0},{"$f":"IF(A1313=0,\"\",A1313)","v":""},"Subtotal Line 42",null,null,null,{"$f":"ROUND(SUM(G1283:G1312),2)","v":0}]
[{"$f":"A$1344","v":0},{"$f":"B$1344","v":0},null,null,null,{"$f":"IFERROR(VLOOKUP(C1314,Expenses_,2,FALSE),\"\")","v":""},{"$f":"IFERROR(ROUND(IF(E1314=0,F1314*D1314,IF(F1314=0,D1314*E1314,)),2),\"\")","v":""}]
[{"$f":"A$1344","v":0},0,null,null,null,"",""]
[0,0,null,null,null,"",""]
[0,0,null,null,null,"",""]
[0,0,null,null,null,"",""]
[0,0,null,null,null,"",""]
[0,0,null,null,null,"",""]
[0,0,null,null,null,"",""]
[0,0,null,null,null,"",""]
[0,0,null,null,null,"",""]
[0,0,null,null,null,"",""]
[0,0,null,null,null,"",""]
[0,0,null,null,null,"",""]
[0,0,null,null,null,"",""]
[0,0,null,null,null,"",""]
[{"$f":"A$1344","v":0},{"$f":"B$1344","v":0},null,null,null,"",""]
[0,0,null,null,null,"",""]
[{"$f":"A$1344","v":0},0,null,null,null,"",""]
[0,0,null,null,null,"",""]
[0,0,null,null,null,"",""]
[0,0,null,null,null,"",""]
[0,0,null,null,null,"",""]
[0,0,null,null,null,"",""]
[0,0,null,null,null,"",""]
[0,0,null,null,null,"",""]
[0,0,null,null,null,"",""]
[0,0,null,null,null,"",""]
[0,0,null,null,null,"",""]
[0,0,null,null,null,"",""]
[0,0,null,null,null,"",""]
[{"$f":"'Labor Summary (Office)'!A1344","v":0},{"$f":"'Labor Summary (Office)'!B1344","v":0},{"$f":"IF(A1344=0,\"\",A1344)","v":""},"Subtotal Line 43",null,null,null,{"$f":"ROUND(SUM(G1314:G1343),2)","v":0}]
[{"$f":"A$1375","v":0},{"$f":"B$1375","v":0},null,null,null,{"$f":"IFERROR(VLOOKUP(C1345,Expenses_,2,FALSE),\"\")","v":""},{"$f":"IFERROR(ROUND(IF(E1345=0,F1345*D1345,IF(F1345=0,D1345*E1345,)),2),\"\")","v":""}]
[{"$f":"A$1375","v":0},0,null,null,null,"",""]
[0,0,null,null,null,"",""]
[0,0,null,null,null,"",""]
[0,0,null,null,null,"",""]
[0,0,null,null,null,"",""]
[0,0,null,null,null,"",""]
[0,0,null,null,null,"",""]
[0,0,null,null,null,"",""]
[0,0,null,null,null,"",""]
[0,0,null,null,null,"",""]
[0,0,null,null,null,"",""]
[0,0,null,null,null,"",""]
[0,0,null,null,null,"",""]
[0,0,null,null,null,"",""]
[{"$f":"A$1375","v":0},{"$f":"B$1375","v":0},null,null,null,"",""]
[0,0,null,null,null,"",""]
[{"$f":"A$1375","v":0},0,null,null,null,"",""]
[0,0,null,null,null,"",""]
[0,0,null,null,null,"",""]
[0,0,null,null,null,"",""]
[0,0,null,null,null,"",""]
[0,0,null,null,null,"",""]
[0,0,null,null,null,"",""]
[0,0,null,null,null,"",""]
[0,0,null,null,null,"",""]
[0,0,null,null,null,"",""]
[0,0,null,null,null,"",""]
[0,0,null,null,null,"",""]
[0,0,null,null,null,"",""]
[{"$f":"'Labor Summary (Office)'!A1375","v":0},{"$f":"'Labor Summary (Office)'!B1375","v":0},{"$f":"IF(A1375=0,\"\",A1375)","v":""},"Subtotal Line 44",null,null,null,{"$f":"ROUND(SUM(G1345:G1374),2)","v":0}]
[{"$f":"A$1406","v":0},{"$f":"B$1406","v":0},null,null,null,{"$f":"IFERROR(VLOOKUP(C1376,Expenses_,2,FALSE),\"\")","v":""},{"$f":"IFERROR(ROUND(IF(E1376=0,F1376*D1376,IF(F1376=0,D1376*E1376,)),2),\"\")","v":""}]
[{"$f":"A$1406","v":0},0,null,null,null,"",""]
[0,0,null,null,null,"",""]
[0,0,null,null,null,"",""]
[0,0,null,null,null,"",""]
[0,0,null,null,null,"",""]
[0,0,null,null,null,"",""]
[0,0,null,null,null,"",""]
[0,0,null,null,null,"",""]
[0,0,null,null,null,"",""]
[0,0,null,null,null,"",""]
[0,0,null,null,null,"",""]
[0,0,null,null,null,"",""]
[0,0,null,null,null,"",""]
[0,0,null,null,null,"",""]
[{"$f":"A$1406","v":0},{"$f":"B$1406","v":0},null,null,null,"",""]
[0,0,null,null,null,"",""]
[{"$f":"A$1406","v":0},0,null,null,null,"",""]
[0,0,null,null,null,"",""]
[0,0,null,null,null,"",""]
[0,0,null,null,null,"",""]
[0,0,null,null,null,"",""]
[0,0,null,null,null,"",""]
[0,0,null,null,null,"",""]
[0,0,null,null,null,"",""]
[0,0,null,null,null,"",""]
[0,0,null,null,null,"",""]
[0,0,null,null,null,"",""]
[0,0,null,null,null,"",""]
[0,0,null,null,null,"",""]
[{"$f":"'Labor Summary (Office)'!A1406","v":0},{"$f":"'Labor Summary (Office)'!B1406","v":0},{"$f":"IF(A1406=0,\"\",A1406)","v":""},"Subtotal Line 45",null,null,null,{"$f":"ROUND(SUM(G1376:G1405),2)","v":0}]
[{"$f":"A$1437","v":0},{"$f":"B$1437","v":0},null,null,null,{"$f":"IFERROR(VLOOKUP(C1407,Expenses_,2,FALSE),\"\")","v":""},{"$f":"IFERROR(ROUND(IF(E1407=0,F1407*D1407,IF(F1407=0,D1407*E1407,)),2),\"\")","v":""}]
[{"$f":"A$1437","v":0},0,null,null,null,"",""]
[0,0,null,null,null,"",""]
[0,0,null,null,null,"",""]
[0,0,null,null,null,"",""]
[0,0,null,null,null,"",""]
[0,0,null,null,null,"",""]
[0,0,null,null,null,"",""]
[0,0,null,null,null,"",""]
[0,0,null,null,null,"",""]
[0,0,null,null,null,"",""]
[0,0,null,null,null,"",""]
[0,0,null,null,null,"",""]
[0,0,null,null,null,"",""]
[0,0,null,null,null,"",""]
[{"$f":"A$1437","v":0},{"$f":"B$1437","v":0},null,null,null,"",""]
[0,0,null,null,null,"",""]
[{"$f":"A$1437","v":0},0,null,null,null,"",""]
[0,0,null,null,null,"",""]
[0,0,null,null,null,"",""]
[0,0,null,null,null,"",""]
[0,0,null,null,null,"",""]
[0,0,null,null,null,"",""]
[0,0,null,null,null,"",""]
[0,0,null,null,null,"",""]
[0,0,null,null,null,"",""]
[0,0,null,null,null,"",""]
[0,0,null,null,null,"",""]
[0,0,null,null,null,"",""]
[0,0,null,null,null,"",""]
[{"$f":"'Labor Summary (Office)'!A1437","v":0},{"$f":"'Labor Summary (Office)'!B1437","v":0},{"$f":"IF(A1437=0,\"\",A1437)","v":""},"Subtotal Line 46",null,null,null,{"$f":"ROUND(SUM(G1407:G1436),2)","v":0}]
[{"$f":"A$1468","v":0},{"$f":"B$1468","v":0},null,null,null,{"$f":"IFERROR(VLOOKUP(C1438,Expenses_,2,FALSE),\"\")","v":""},{"$f":"IFERROR(ROUND(IF(E1438=0,F1438*D1438,IF(F1438=0,D1438*E1438,)),2),\"\")","v":""}]
[{"$f":"A$1468","v":0},0,null,null,null,"",""]
[0,0,null,null,null,"",""]
[0,0,null,null,null,"",""]
[0,0,null,null,null,"",""]
[0,0,null,null,null,"",""]
[0,0,null,null,null,"",""]
[0,0,null,null,null,"",""]
[0,0,null,null,null,"",""]
[0,0,null,null,null,"",""]
[0,0,null,null,null,"",""]
[0,0,null,null,null,"",""]
[0,0,null,null,null,"",""]
[0,0,null,null,null,"",""]
[0,0,null,null,null,"",""]
[{"$f":"A$1468","v":0},{"$f":"B$1468","v":0},null,null,null,"",""]
[0,0,null,null,null,"",""]
[{"$f":"A$1468","v":0},0,null,null,null,"",""]
[0,0,null,null,null,"",""]
[0,0,null,null,null,"",""]
[0,0,null,null,null,"",""]
[0,0,null,null,null,"",""]
[0,0,null,null,null,"",""]
[0,0,null,null,null,"",""]
[0,0,null,null,null,"",""]
[0,0,null,null,null,"",""]
[0,0,null,null,null,"",""]
[0,0,null,null,null,"",""]
[0,0,null,null,null,"",""]
[0,0,null,null,null,"",""]
[{"$f":"'Labor Summary (Office)'!A1468","v":0},{"$f":"'Labor Summary (Office)'!B1468","v":0},{"$f":"IF(A1468=0,\"\",A1468)","v":""},"Subtotal Line 47",null,null,null,{"$f":"ROUND(SUM(G1438:G1467),2)","v":0}]
[{"$f":"A$1499","v":0},{"$f":"B$1499","v":0},null,null,null,{"$f":"IFERROR(VLOOKUP(C1469,Expenses_,2,FALSE),\"\")","v":""},{"$f":"IFERROR(ROUND(IF(E1469=0,F1469*D1469,IF(F1469=0,D1469*E1469,)),2),\"\")","v":""}]
[{"$f":"A$1499","v":0},0,null,null,null,"",""]
[0,0,null,null,null,"",""]
[0,0,null,null,null,"",""]
[0,0,null,null,null,"",""]
[0,0,null,null,null,"",""]
[0,0,null,null,null,"",""]
[0,0,null,null,null,"",""]
[0,0,null,null,null,"",""]
[0,0,null,null,null,"",""]
[0,0,null,null,null,"",""]
[0,0,null,null,null,"",""]
[0,0,null,null,null,"",""]
[0,0,null,null,null,"",""]
[0,0,null,null,null,"",""]
[{"$f":"A$1499","v":0},{"$f":"B$1499","v":0},null,null,null,"",""]
[0,0,null,null,null,"",""]
[{"$f":"A$1499","v":0},0,null,null,null,"",""]
[0,0,null,null,null,"",""]
[0,0,null,null,null,"",""]
[0,0,null,null,null,"",""]
[0,0,null,null,null,"",""]
[0,0,null,null,null,"",""]
[0,0,null,null,null,"",""]
[0,0,null,null,null,"",""]
[0,0,null,null,null,"",""]
[0,0,null,null,null,"",""]
[0,0,null,null,null,"",""]
[0,0,null,null,null,"",""]
[0,0,null,null,null,"",""]
[{"$f":"'Labor Summary (Office)'!A1499","v":0},{"$f":"'Labor Summary (Office)'!B1499","v":0},{"$f":"IF(A1499=0,\"\",A1499)","v":""},"Subtotal Line 48",null,null,null,{"$f":"ROUND(SUM(G1469:G1498),2)","v":0}]
[{"$f":"A$1530","v":0},{"$f":"B$1530","v":0},null,null,null,{"$f":"IFERROR(VLOOKUP(C1500,Expenses_,2,FALSE),\"\")","v":""},{"$f":"IFERROR(ROUND(IF(E1500=0,F1500*D1500,IF(F1500=0,D1500*E1500,)),2),\"\")","v":""}]
[{"$f":"A$1530","v":0},0,null,null,null,"",""]
[0,0,null,null,null,"",""]
[0,0,null,null,null,"",""]
[0,0,null,null,null,"",""]
[0,0,null,null,null,"",""]
[0,0,null,null,null,"",""]
[0,0,null,null,null,"",""]
[0,0,null,null,null,"",""]
[0,0,null,null,null,"",""]
[0,0,null,null,null,"",""]
[0,0,null,null,null,"",""]
[0,0,null,null,null,"",""]
[0,0,null,null,null,"",""]
[0,0,null,null,null,"",""]
[{"$f":"A$1530","v":0},{"$f":"B$1530","v":0},null,null,null,"",""]
[0,0,null,null,null,"",""]
[{"$f":"A$1530","v":0},0,null,null,null,"",""]
[0,0,null,null,null,"",""]
[0,0,null,null,null,"",""]
[0,0,null,null,null,"",""]
[0,0,null,null,null,"",""]
[0,0,null,null,null,"",""]
[0,0,null,null,null,"",""]
[0,0,null,null,null,"",""]
[0,0,null,null,null,"",""]
[0,0,null,null,null,"",""]
[0,0,null,null,null,"",""]
[0,0,null,null,null,"",""]
[0,0,null,null,null,"",""]
[{"$f":"'Labor Summary (Office)'!A1530","v":0},{"$f":"'Labor Summary (Office)'!B1530","v":0},{"$f":"IF(A1530=0,\"\",A1530)","v":""},"Subtotal Line 49",null,null,null,{"$f":"ROUND(SUM(G1500:G1529),2)","v":0}]
[{"$f":"A$1561","v":0},{"$f":"B$1561","v":0},null,null,null,{"$f":"IFERROR(VLOOKUP(C1531,Expenses_,2,FALSE),\"\")","v":""},{"$f":"IFERROR(ROUND(IF(E1531=0,F1531*D1531,IF(F1531=0,D1531*E1531,)),2),\"\")","v":""}]
[{"$f":"A$1561","v":0},0,null,null,null,"",""]
[0,0,null,null,null,"",""]
[0,0,null,null,null,"",""]
[0,0,null,null,null,"",""]
[0,0,null,null,null,"",""]
[0,0,null,null,null,"",""]
[0,0,null,null,null,"",""]
[0,0,null,null,null,"",""]
[0,0,null,null,null,"",""]
[0,0,null,null,null,"",""]
[0,0,null,null,null,"",""]
[0,0,null,null,null,"",""]
[0,0,null,null,null,"",""]
[0,0,null,null,null,"",""]
[{"$f":"A$1561","v":0},{"$f":"B$1561","v":0},null,null,null,"",""]
[0,0,null,null,null,"",""]
[{"$f":"A$1561","v":0},0,null,null,null,"",""]
[0,0,null,null,null,"",""]
[0,0,null,null,null,"",""]
[0,0,null,null,null,"",""]
[0,0,null,null,null,"",""]
[0,0,null,null,null,"",""]
[0,0,null,null,null,"",""]
[0,0,null,null,null,"",""]
[0,0,null,null,null,"",""]
[0,0,null,null,null,"",""]
[0,0,null,null,null,"",""]
[0,0,null,null,null,"",""]
[0,0,null,null,null,"",""]
[{"$f":"'Labor Summary (Office)'!A1561","v":0},{"$f":"'Labor Summary (Office)'!B1561","v":0},{"$f":"IF(A1561=0,\"\",A1561)","v":""},"Subtotal Line 50",null,null,null,{"$f":"ROUND(SUM(G1531:G1560),2)","v":0}]
["Total ODEs",null,"Total",null,null,null,null,{"$f":"ROUND(SUM(H12:H1561),2)","v":0}]
[]
[]
[]
[]
[]
[]
[]
[]
[]
[]
[]
[]
[]
[]
[]
[]
[]
[]
[]
[]
[]
[]
[]
[]
[]
[]
[]
[]
[]
[]
[]
[]
[]
[]
[]
[]
[]
[]
[]
[]
[]
[]
[]
[]
[]
[]
[]
[]
[]
[]
[]
[]
[]
[]
[]
[]
[]
[]
[]
[]
[]
[]
[]
[]
[]
[]
[]
[]
[]
[]
[]
[]
[]
[]
[]
[]
[]
[]
[]
[]
[]
[]
[]
[]
[]
[]
[]
[]
[]
[]
[]
[]
[]
[]
[]
[]
[]
[]
[]
[]
[]
[]
[]
[]
[]
[]
[]
[]
[]
[]
[]
[]
[]
[]
[]
[]
[]
[]
[]
[]
[]
[]
[]
[]
[]
[]
[]
[]
[]
[]
[]
[]
[]
[]
[]
[]
[]
[]
[]
[]
[]
[]
[]
[]
[]
[]
[]
[]
[]
[]
[]
[]
[]
[]
[]
[]
[]
[]
[]
[]
[]
[]
[]
[]
[]
[]
[]
[]
[]
[]
[]
[]
[]
[]
[]
[]
[]
[]
[]
[]
[]
[]
[]
[]
[{"$f":"'WA Financial Status Summary'!D23","v":0}]

{"sheet":"TE Summary","index":11,"n_rows":1753,"n_cols":19,"rows_kept":1753,"cut":false,"hidden":false,"merged":[[1563,16,1563,17],[8,10,9,11],[4,0,4,8],[8,0,8,1],[8,2,8,3],[8,4,8,5],[8,6,8,8],[9,0,9,1],[9,2,9,3],[9,4,9,5],[9,6,9,8],[11,0,11,5],[10,0,10,5],[10,6,10,18],[74,16,74,17],[198,16,198,17],[229,16,229,17],[260,16,260,17],[291,16,291,17],[1,9,1,10],[322,16,322,17],[353,16,353,17],[384,16,384,17],[415,16,415,17],[446,16,446,17],[477,16,477,17],[508,16,508,17],[601,16,601,17],[539,16,539,17],[570,16,570,17],[632,16,632,17],[663,16,663,17],[694,16,694,17],[725,16,725,17],[756,16,756,17],[787,16,787,17],[818,16,818,17],[849,16,849,17],[880,16,880,17],[911,16,911,17],[942,16,942,17],[1221,16,1221,17],[1252,16,1252,17],[973,16,973,17],[1035,16,1035,17],[1004,16,1004,17],[1066,16,1066,17],[1097,16,1097,17],[7,0,7,8],[6,0,6,8],[136,16,136,17],[167,16,167,17],[43,16,43,17],[105,16,105,17],[1562,16,1562,17],[11,6,11,8],[11,9,11,10],[11,11,11,12],[1531,16,1531,17],[1438,16,1438,17],[1469,16,1469,17],[1500,16,1500,17],[1283,16,1283,17],[1314,16,1314,17],[1345,16,1345,17],[1376,16,1376,17],[1407,16,1407,17],[1159,16,1159,17],[1128,16,1128,17],[1190,16,1190,17]]}
[null,null,null,null,null,null,null,null,null,null,null,"Monthly Submittal Cell"]
[null,null,null,null,null,null,null,null,null,"Instructions",null,"Click link to see instructions for this tab"]
[null,null,null,null,null,null,null,"Provider Invoice No.  ",{"$f":"Invoice!G1","v":0}]
[null,null,null,null,null,null,null,"Combined Invoice Template Log No.  ",{"$f":"Invoice!G2","v":0}]
[]
[]
["TRAVEL EXPENSE SUMMARY"]
["SR - UC Payment Method"]
[{"$f":"Invoice!A7","v":"Provider Name:  "},null,{"$f":"Invoice!C7","v":0},null,{"$f":"Invoice!E7","v":"Legacy Contract No.  "},null,{"$f":"Invoice!F7","v":0},null,null,null,"Current State Mileage Reimbursement Rate ",null,0.57499999999999996]
[{"$f":"Invoice!A8","v":"Provider ID No.  "},null,{"$f":"Invoice!C8","v":0},null,{"$f":"Invoice!E10","v":"Legacy WA No."},null,{"$f":"Invoice!F10","v":0}]
["Travel Expense Breakdown:"]
[null,null,null,null,null,null,"Lodging (Per Night Per Person)",null,null,"Meals (Per Diem)",null,"Mileage (Per Trip or Per Day)",null,"Rental Car","Rental Car Fuel","Parking Fees","Toll Charges","Taxi/Cab Fare"]
["Project\n(CSJ or Detail No.)","Source (Legacy FC)","Employee Name\n","Start Date","End Date","Air Travel (Round Trip Per Person)","Amount","Taxes","Total","Day No.","Amount","No. of Miles","Amount","Per Trip or Per Day (Tax, Fees Incl.)","Per Day or Per Trip","Per Day or Per Trip","Per Day or Per Trip","Amount","Line Total"]
[{"$f":"'Labor Summary (Office)'!A12","v":0},{"$f":"'Labor Summary (Office)'!B12","v":0},null,null,null,null,null,null,{"$f":"H14+G14","v":0},null,null,null,{"$f":"ROUND(L14*$M$9,2)","v":0},null,null,null,null,null,{"$f":"ROUND(F14+I14+K14+M14+N14+O14+P14+Q14+R14,2)","v":0}]
[{"$f":"'Labor Summary (Office)'!A13","v":0},{"$f":"'Labor Summary (Office)'!B13","v":0},null,null,null,null,null,null,{"$f":"H15+G15","v":0},null,null,null,{"$f":"ROUND(L15*$M$9,2)","v":0},null,null,null,null,null,{"$f":"ROUND(F15+I15+K15+M15+N15+O15+P15+Q15+R15,2)","v":0}]
[{"$f":"'Labor Summary (Office)'!A14","v":0},{"$f":"'Labor Summary (Office)'!B14","v":0},null,null,null,null,null,null,0,null,null,null,0,null,null,null,null,null,0]
[{"$f":"'Labor Summary (Office)'!A15","v":0},{"$f":"'Labor Summary (Office)'!B15","v":0},null,null,null,null,null,null,0,null,null,null,0,null,null,null,null,null,0]
[{"$f":"'Labor Summary (Office)'!A16","v":0},{"$f":"'Labor Summary (Office)'!B16","v":0},null,null,null,null,null,null,0,null,null,null,0,null,null,null,null,null,0]
[{"$f":"'Labor Summary (Office)'!A17","v":0},{"$f":"'Labor Summary (Office)'!B17","v":0},null,null,null,null,null,null,0,null,null,null,0,null,null,null,null,null,0]
[{"$f":"'Labor Summary (Office)'!A18","v":0},{"$f":"'Labor Summary (Office)'!B18","v":0},null,null,null,null,null,null,0,null,null,null,0,null,null,null,null,null,0]
[{"$f":"'Labor Summary (Office)'!A19","v":0},{"$f":"'Labor Summary (Office)'!B19","v":0},null,null,null,null,null,null,0,null,null,null,0,null,null,null,null,null,0]
[{"$f":"'Labor Summary (Office)'!A20","v":0},{"$f":"'Labor Summary (Office)'!B20","v":0},null,null,null,null,null,null,0,null,null,null,0,null,null,null,null,null,0]
[{"$f":"'Labor Summary (Office)'!A21","v":0},{"$f":"'Labor Summary (Office)'!B21","v":0},null,null,null,null,null,null,0,null,null,null,0,null,null,null,null,null,0]
[{"$f":"'Labor Summary (Office)'!A22","v":0},{"$f":"'Labor Summary (Office)'!B22","v":0},null,null,null,null,null,null,0,null,null,null,0,null,null,null,null,null,0]
[{"$f":"'Labor Summary (Office)'!A23","v":0},{"$f":"'Labor Summary (Office)'!B23","v":0},null,null,null,null,null,null,0,null,null,null,0,null,null,null,null,null,0]
[{"$f":"'Labor Summary (Office)'!A24","v":0},{"$f":"'Labor Summary (Office)'!B24","v":0},null,null,null,null,null,null,0,null,null,null,0,null,null,null,null,null,0]
[{"$f":"'Labor Summary (Office)'!A25","v":0},{"$f":"'Labor Summary (Office)'!B25","v":0},null,null,null,null,null,null,0,null,null,null,0,null,null,null,null,null,0]
[{"$f":"'Labor Summary (Office)'!A26","v":0},{"$f":"'Labor Summary (Office)'!B26","v":0},null,null,null,null,null,null,0,null,null,null,0,null,null,null,null,null,0]
[{"$f":"'Labor Summary (Office)'!A27","v":0},{"$f":"'Labor Summary (Office)'!B27","v":0},null,null,null,null,null,null,0,null,null,null,0,null,null,null,null,null,0]
[{"$f":"'Labor Summary (Office)'!A28","v":0},{"$f":"'Labor Summary (Office)'!B28","v":0},null,null,null,null,null,null,0,null,null,null,0,null,null,null,null,null,0]
[{"$f":"'Labor Summary (Office)'!A29","v":0},{"$f":"'Labor Summary (Office)'!B29","v":0},null,null,null,null,null,null,0,null,null,null,0,null,null,null,null,null,0]
[{"$f":"'Labor Summary (Office)'!A30","v":0},{"$f":"'Labor Summary (Office)'!B30","v":0},null,null,null,null,null,null,0,null,null,null,0,null,null,null,null,null,0]
[{"$f":"'Labor Summary (Office)'!A31","v":0},{"$f":"'Labor Summary (Office)'!B31","v":0},null,null,null,null,null,null,0,null,null,null,0,null,null,null,null,null,0]
[{"$f":"'Labor Summary (Office)'!A32","v":0},{"$f":"'Labor Summary (Office)'!B32","v":0},null,null,null,null,null,null,0,null,null,null,0,null,null,null,null,null,0]
[{"$f":"'Labor Summary (Office)'!A33","v":0},{"$f":"'Labor Summary (Office)'!B33","v":0},null,null,null,null,null,null,0,null,null,null,0,null,null,null,null,null,0]
[{"$f":"'Labor Summary (Office)'!A34","v":0},{"$f":"'Labor Summary (Office)'!B34","v":0},null,null,null,null,null,null,0,null,null,null,0,null,null,null,null,null,0]
[{"$f":"'Labor Summary (Office)'!A35","v":0},{"$f":"'Labor Summary (Office)'!B35","v":0},null,null,null,null,null,null,0,null,null,null,0,null,null,null,null,null,0]
[{"$f":"'Labor Summary (Office)'!A36","v":0},{"$f":"'Labor Summary (Office)'!B36","v":0},null,null,null,null,null,null,0,null,null,null,0,null,null,null,null,null,0]
[{"$f":"'Labor Summary (Office)'!A37","v":0},{"$f":"'Labor Summary (Office)'!B37","v":0},null,null,null,null,null,null,0,null,null,null,0,null,null,null,null,null,0]
[{"$f":"'Labor Summary (Office)'!A38","v":0},{"$f":"'Labor Summary (Office)'!B38","v":0},null,null,null,null,null,null,0,null,null,null,0,null,null,null,null,null,0]
[{"$f":"'Labor Summary (Office)'!A39","v":0},{"$f":"'Labor Summary (Office)'!B39","v":0},null,null,null,null,null,null,0,null,null,null,0,null,null,null,null,null,0]
[{"$f":"'Labor Summary (Office)'!A40","v":0},{"$f":"'Labor Summary (Office)'!B40","v":0},null,null,null,null,null,null,0,null,null,null,0,null,null,null,null,null,0]
[{"$f":"'Labor Summary (Office)'!A41","v":0},{"$f":"'Labor Summary (Office)'!B41","v":0},null,null,null,null,null,null,0,null,null,null,0,null,null,null,null,null,0]
[{"$f":"'Labor Summary (Office)'!A42","v":0},{"$f":"'Labor Summary (Office)'!B42","v":0},{"$f":"IF(A44=0,\"\",A44)","v":""},null,null,null,null,null,null,null,null,null,null,null,null,null,"Subtotal Line 1",null,{"$f":"ROUND(SUM(S14:S43),2)","v":0}]
[{"$f":"'Labor Summary (Office)'!A43","v":0},{"$f":"'Labor Summary (Office)'!B43","v":0},null,null,null,null,null,null,0,null,null,null,{"$f":"ROUND(L45*$M$9,2)","v":0},null,null,null,null,null,{"$f":"ROUND(F45+I45+K45+M45+N45+O45+P45+Q45+R45,2)","v":0}]
[{"$f":"'Labor Summary (Office)'!A44","v":0},{"$f":"'Labor Summary (Office)'!B44","v":0},null,null,null,null,null,null,0,null,null,null,{"$f":"ROUND(L46*$M$9,2)","v":0},null,null,null,null,null,{"$f":"ROUND(F46+I46+K46+M46+N46+O46+P46+Q46+R46,2)","v":0}]
[{"$f":"'Labor Summary (Office)'!A45","v":0},{"$f":"'Labor Summary (Office)'!B45","v":0},null,null,null,null,null,null,0,null,null,null,0,null,null,null,null,null,0]
[{"$f":"'Labor Summary (Office)'!A46","v":0},{"$f":"'Labor Summary (Office)'!B46","v":0},null,null,null,null,null,null,0,null,null,null,0,null,null,null,null,null,0]
[{"$f":"'Labor Summary (Office)'!A47","v":0},{"$f":"'Labor Summary (Office)'!B47","v":0},null,null,null,null,null,null,0,null,null,null,0,null,null,null,null,null,0]
[{"$f":"'Labor Summary (Office)'!A48","v":0},{"$f":"'Labor Summary (Office)'!B48","v":0},null,null,null,null,null,null,0,null,null,null,0,null,null,null,null,null,0]
[{"$f":"'Labor Summary (Office)'!A49","v":0},{"$f":"'Labor Summary (Office)'!B49","v":0},null,null,null,null,null,null,0,null,null,null,0,null,null,null,null,null,0]
[{"$f":"'Labor Summary (Office)'!A50","v":0},{"$f":"'Labor Summary (Office)'!B50","v":0},null,null,null,null,null,null,0,null,null,null,0,null,null,null,null,null,0]
[{"$f":"'Labor Summary (Office)'!A51","v":0},{"$f":"'Labor Summary (Office)'!B51","v":0},null,null,null,null,null,null,0,null,null,null,0,null,null,null,null,null,0]
[{"$f":"'Labor Summary (Office)'!A52","v":0},{"$f":"'Labor Summary (Office)'!B52","v":0},null,null,null,null,null,null,0,null,null,null,0,null,null,null,null,null,0]
[{"$f":"'Labor Summary (Office)'!A53","v":0},{"$f":"'Labor Summary (Office)'!B53","v":0},null,null,null,null,null,null,0,null,null,null,0,null,null,null,null,null,0]
[{"$f":"'Labor Summary (Office)'!A54","v":0},{"$f":"'Labor Summary (Office)'!B54","v":0},null,null,null,null,null,null,0,null,null,null,0,null,null,null,null,null,0]
[{"$f":"'Labor Summary (Office)'!A55","v":0},{"$f":"'Labor Summary (Office)'!B55","v":0},null,null,null,null,null,null,0,null,null,null,0,null,null,null,null,null,0]
[{"$f":"'Labor Summary (Office)'!A56","v":0},{"$f":"'Labor Summary (Office)'!B56","v":0},null,null,null,null,null,null,0,null,null,null,0,null,null,null,null,null,0]
[{"$f":"'Labor Summary (Office)'!A57","v":0},{"$f":"'Labor Summary (Office)'!B57","v":0},null,null,null,null,null,null,0,null,null,null,0,null,null,null,null,null,0]
[{"$f":"'Labor Summary (Office)'!A58","v":0},{"$f":"'Labor Summary (Office)'!B58","v":0},null,null,null,null,null,null,0,null,null,null,0,null,null,null,null,null,0]
[{"$f":"'Labor Summary (Office)'!A59","v":0},{"$f":"'Labor Summary (Office)'!B59","v":0},null,null,null,null,null,null,0,null,null,null,0,null,null,null,null,null,0]
[{"$f":"'Labor Summary (Office)'!A60","v":0},{"$f":"'Labor Summary (Office)'!B60","v":0},null,null,null,null,null,null,0,null,null,null,0,null,null,null,null,null,0]
[{"$f":"'Labor Summary (Office)'!A61","v":0},{"$f":"'Labor Summary (Office)'!B61","v":0},null,null,null,null,null,null,0,null,null,null,0,null,null,null,null,null,0]
[{"$f":"'Labor Summary (Office)'!A62","v":0},{"$f":"'Labor Summary (Office)'!B62","v":0},null,null,null,null,null,null,0,null,null,null,0,null,null,null,null,null,0]
[{"$f":"'Labor Summary (Office)'!A63","v":0},{"$f":"'Labor Summary (Office)'!B63","v":0},null,null,null,null,null,null,0,null,null,null,0,null,null,null,null,null,0]
[{"$f":"'Labor Summary (Office)'!A64","v":0},{"$f":"'Labor Summary (Office)'!B64","v":0},null,null,null,null,null,null,0,null,null,null,0,null,null,null,null,null,0]
[{"$f":"'Labor Summary (Office)'!A65","v":0},{"$f":"'Labor Summary (Office)'!B65","v":0},null,null,null,null,null,null,0,null,null,null,0,null,null,null,null,null,0]
[{"$f":"'Labor Summary (Office)'!A66","v":0},{"$f":"'Labor Summary (Office)'!B66","v":0},null,null,null,null,null,null,0,null,null,null,0,null,null,null,null,null,0]
[{"$f":"'Labor Summary (Office)'!A67","v":0},{"$f":"'Labor Summary (Office)'!B67","v":0},null,null,null,null,null,null,0,null,null,null,0,null,null,null,null,null,0]
[{"$f":"'Labor Summary (Office)'!A68","v":0},{"$f":"'Labor Summary (Office)'!B68","v":0},null,null,null,null,null,null,0,null,null,null,0,null,null,null,null,null,0]
[{"$f":"'Labor Summary (Office)'!A69","v":0},{"$f":"'Labor Summary (Office)'!B69","v":0},null,null,null,null,null,null,0,null,null,null,0,null,null,null,null,null,0]
[{"$f":"'Labor Summary (Office)'!A70","v":0},{"$f":"'Labor Summary (Office)'!B70","v":0},null,null,null,null,null,null,0,null,null,null,0,null,null,null,null,null,0]
[{"$f":"'Labor Summary (Office)'!A71","v":0},{"$f":"'Labor Summary (Office)'!B71","v":0},null,null,null,null,null,null,0,null,null,null,0,null,null,null,null,null,0]
[{"$f":"'Labor Summary (Office)'!A72","v":0},{"$f":"'Labor Summary (Office)'!B72","v":0},null,null,null,null,null,null,0,null,null,null,0,null,null,null,null,null,0]
[{"$f":"'Labor Summary (Office)'!A73","v":0},{"$f":"'Labor Summary (Office)'!B73","v":0},{"$f":"IF(A75=0,\"\",A75)","v":""},null,null,null,null,null,null,null,null,null,null,null,null,null,"Subtotal Line 2",null,{"$f":"ROUND(SUM(S45:S74),2)","v":0}]
[{"$f":"'Labor Summary (Office)'!A74","v":0},{"$f":"'Labor Summary (Office)'!B74","v":0},null,null,null,null,null,null,0,null,null,null,{"$f":"ROUND(L76*$M$9,2)","v":0},null,null,null,null,null,{"$f":"ROUND(F76+I76+K76+M76+N76+O76+P76+Q76+R76,2)","v":0}]
[{"$f":"'Labor Summary (Office)'!A75","v":0},{"$f":"'Labor Summary (Office)'!B75","v":0},null,null,null,null,null,null,0,null,null,null,{"$f":"ROUND(L77*$M$9,2)","v":0},null,null,null,null,null,{"$f":"ROUND(F77+I77+K77+M77+N77+O77+P77+Q77+R77,2)","v":0}]
[{"$f":"'Labor Summary (Office)'!A76","v":0},{"$f":"'Labor Summary (Office)'!B76","v":0},null,null,null,null,null,null,0,null,null,null,0,null,null,null,null,null,0]
[{"$f":"'Labor Summary (Office)'!A77","v":0},{"$f":"'Labor Summary (Office)'!B77","v":0},null,null,null,null,null,null,{"$f":"H79+G79","v":0},null,null,null,0,null,null,null,null,null,0]
[{"$f":"'Labor Summary (Office)'!A78","v":0},{"$f":"'Labor Summary (Office)'!B78","v":0},null,null,null,null,null,null,0,null,null,null,0,null,null,null,null,null,0]
[{"$f":"'Labor Summary (Office)'!A79","v":0},{"$f":"'Labor Summary (Office)'!B79","v":0},null,null,null,null,null,null,0,null,null,null,0,null,null,null,null,null,0]
[{"$f":"'Labor Summary (Office)'!A80","v":0},{"$f":"'Labor Summary (Office)'!B80","v":0},null,null,null,null,null,null,0,null,null,null,0,null,null,null,null,null,0]
[{"$f":"'Labor Summary (Office)'!A81","v":0},{"$f":"'Labor Summary (Office)'!B81","v":0},null,null,null,null,null,null,0,null,null,null,0,null,null,null,null,null,0]
[{"$f":"'Labor Summary (Office)'!A82","v":0},{"$f":"'Labor Summary (Office)'!B82","v":0},null,null,null,null,null,null,0,null,null,null,0,null,null,null,null,null,0]
[{"$f":"'Labor Summary (Office)'!A83","v":0},{"$f":"'Labor Summary (Office)'!B83","v":0},null,null,null,null,null,null,0,null,null,null,0,null,null,null,null,null,0]
[{"$f":"'Labor Summary (Office)'!A84","v":0},{"$f":"'Labor Summary (Office)'!B84","v":0},null,null,null,null,null,null,0,null,null,null,0,null,null,null,null,null,0]
[{"$f":"'Labor Summary (Office)'!A85","v":0},{"$f":"'Labor Summary (Office)'!B85","v":0},null,null,null,null,null,null,0,null,null,null,0,null,null,null,null,null,0]
[{"$f":"'Labor Summary (Office)'!A86","v":0},{"$f":"'Labor Summary (Office)'!B86","v":0},null,null,null,null,null,null,0,null,null,null,0,null,null,null,null,null,0]
[{"$f":"'Labor Summary (Office)'!A87","v":0},{"$f":"'Labor Summary (Office)'!B87","v":0},null,null,null,null,null,null,0,null,null,null,0,null,null,null,null,null,0]
[{"$f":"'Labor Summary (Office)'!A88","v":0},{"$f":"'Labor Summary (Office)'!B88","v":0},null,null,null,null,null,null,0,null,null,null,0,null,null,null,null,null,0]
[{"$f":"'Labor Summary (Office)'!A89","v":0},{"$f":"'Labor Summary (Office)'!B89","v":0},null,null,null,null,null,null,0,null,null,null,0,null,null,null,null,null,0]
[{"$f":"'Labor Summary (Office)'!A90","v":0},{"$f":"'Labor Summary (Office)'!B90","v":0},null,null,null,null,null,null,0,null,null,null,0,null,null,null,null,null,0]
[{"$f":"'Labor Summary (Office)'!A91","v":0},{"$f":"'Labor Summary (Office)'!B91","v":0},null,null,null,null,null,null,0,null,null,null,0,null,null,null,null,null,0]
[{"$f":"'Labor Summary (Office)'!A92","v":0},{"$f":"'Labor Summary (Office)'!B92","v":0},null,null,null,null,null,null,0,null,null,null,0,null,null,null,null,null,0]
[{"$f":"'Labor Summary (Office)'!A93","v":0},{"$f":"'Labor Summary (Office)'!B93","v":0},null,null,null,null,null,null,0,null,null,null,0,null,null,null,null,null,0]
[{"$f":"'Labor Summary (Office)'!A94","v":0},{"$f":"'Labor Summary (Office)'!B94","v":0},null,null,null,null,null,null,0,null,null,null,0,null,null,null,null,null,0]
[{"$f":"'Labor Summary (Office)'!A95","v":0},{"$f":"'Labor Summary (Office)'!B95","v":0},null,null,null,null,null,null,0,null,null,null,0,null,null,null,null,null,0]
[{"$f":"'Labor Summary (Office)'!A96","v":0},{"$f":"'Labor Summary (Office)'!B96","v":0},null,null,null,null,null,null,0,null,null,null,0,null,null,null,null,null,0]
[{"$f":"'Labor Summary (Office)'!A97","v":0},{"$f":"'Labor Summary (Office)'!B97","v":0},null,null,null,null,null,null,0,null,null,null,0,null,null,null,null,null,0]
[{"$f":"'Labor Summary (Office)'!A98","v":0},{"$f":"'Labor Summary (Office)'!B98","v":0},null,null,null,null,null,null,0,null,null,null,0,null,null,null,null,null,0]
[{"$f":"'Labor Summary (Office)'!A99","v":0},{"$f":"'Labor Summary (Office)'!B99","v":0},null,null,null,null,null,null,0,null,null,null,0,null,null,null,null,null,0]
[{"$f":"'Labor Summary (Office)'!A100","v":0},{"$f":"'Labor Summary (Office)'!B100","v":0},null,null,null,null,null,null,0,null,null,null,0,null,null,null,null,null,0]
[{"$f":"'Labor Summary (Office)'!A101","v":0},{"$f":"'Labor Summary (Office)'!B101","v":0},null,null,null,null,null,null,0,null,null,null,0,null,null,null,null,null,0]
[{"$f":"'Labor Summary (Office)'!A102","v":0},{"$f":"'Labor Summary (Office)'!B102","v":0},null,null,null,null,null,null,0,null,null,null,0,null,null,null,null,null,0]
[{"$f":"'Labor Summary (Office)'!A103","v":0},{"$f":"'Labor Summary (Office)'!B103","v":0},null,null,null,null,null,null,0,null,null,null,0,null,null,null,null,null,0]
[{"$f":"'Labor Summary (Office)'!A104","v":0},{"$f":"'Labor Summary (Office)'!B104","v":0},{"$f":"IF(A106=0,\"\",A106)","v":""},null,null,null,null,null,null,null,null,null,null,null,null,null,"Subtotal Line 3",null,{"$f":"ROUND(SUM(S76:S105),2)","v":0}]
[{"$f":"'Labor Summary (Office)'!A105","v":0},{"$f":"'Labor Summary (Office)'!B105","v":0},null,null,null,null,null,null,0,null,null,null,{"$f":"ROUND(L107*$M$9,2)","v":0},null,null,null,null,null,{"$f":"ROUND(F107+I107+K107+M107+N107+O107+P107+Q107+R107,2)","v":0}]
[{"$f":"'Labor Summary (Office)'!A106","v":0},{"$f":"'Labor Summary (Office)'!B106","v":0},null,null,null,null,null,null,0,null,null,null,{"$f":"ROUND(L108*$M$9,2)","v":0},null,null,null,null,null,{"$f":"ROUND(F108+I108+K108+M108+N108+O108+P108+Q108+R108,2)","v":0}]
[{"$f":"'Labor Summary (Office)'!A107","v":0},{"$f":"'Labor Summary (Office)'!B107","v":0},null,null,null,null,null,null,0,null,null,null,0,null,null,null,null,null,0]
[{"$f":"'Labor Summary (Office)'!A108","v":0},{"$f":"'Labor Summary (Office)'!B108","v":0},null,null,null,null,null,null,0,null,null,null,0,null,null,null,null,null,0]
[{"$f":"'Labor Summary (Office)'!A109","v":0},{"$f":"'Labor Summary (Office)'!B109","v":0},null,null,null,null,null,null,0,null,null,null,0,null,null,null,null,null,0]
[{"$f":"'Labor Summary (Office)'!A110","v":0},{"$f":"'Labor Summary (Office)'!B110","v":0},null,null,null,null,null,null,0,null,null,null,0,null,null,null,null,null,0]
[{"$f":"'Labor Summary (Office)'!A111","v":0},{"$f":"'Labor Summary (Office)'!B111","v":0},null,null,null,null,null,null,0,null,null,null,0,null,null,null,null,null,0]
[{"$f":"'Labor Summary (Office)'!A112","v":0},{"$f":"'Labor Summary (Office)'!B112","v":0},null,null,null,null,null,null,0,null,null,null,0,null,null,null,null,null,0]
[{"$f":"'Labor Summary (Office)'!A113","v":0},{"$f":"'Labor Summary (Office)'!B113","v":0},null,null,null,null,null,null,0,null,null,null,0,null,null,null,null,null,0]
[{"$f":"'Labor Summary (Office)'!A114","v":0},{"$f":"'Labor Summary (Office)'!B114","v":0},null,null,null,null,null,null,0,null,null,null,0,null,null,null,null,null,0]
[{"$f":"'Labor Summary (Office)'!A115","v":0},{"$f":"'Labor Summary (Office)'!B115","v":0},null,null,null,null,null,null,0,null,null,null,0,null,null,null,null,null,0]
[{"$f":"'Labor Summary (Office)'!A116","v":0},{"$f":"'Labor Summary (Office)'!B116","v":0},null,null,null,null,null,null,0,null,null,null,0,null,null,null,null,null,0]
[{"$f":"'Labor Summary (Office)'!A117","v":0},{"$f":"'Labor Summary (Office)'!B117","v":0},null,null,null,null,null,null,0,null,null,null,0,null,null,null,null,null,0]
[{"$f":"'Labor Summary (Office)'!A118","v":0},{"$f":"'Labor Summary (Office)'!B118","v":0},null,null,null,null,null,null,0,null,null,null,0,null,null,null,null,null,0]
[{"$f":"'Labor Summary (Office)'!A119","v":0},{"$f":"'Labor Summary (Office)'!B119","v":0},null,null,null,null,null,null,0,null,null,null,0,null,null,null,null,null,0]
[{"$f":"'Labor Summary (Office)'!A120","v":0},{"$f":"'Labor Summary (Office)'!B120","v":0},null,null,null,null,null,null,0,null,null,null,0,null,null,null,null,null,0]
[{"$f":"'Labor Summary (Office)'!A121","v":0},{"$f":"'Labor Summary (Office)'!B121","v":0},null,null,null,null,null,null,0,null,null,null,0,null,null,null,null,null,0]
[{"$f":"'Labor Summary (Office)'!A122","v":0},{"$f":"'Labor Summary (Office)'!B122","v":0},null,null,null,null,null,null,0,null,null,null,0,null,null,null,null,null,0]
[{"$f":"'Labor Summary (Office)'!A123","v":0},{"$f":"'Labor Summary (Office)'!B123","v":0},null,null,null,null,null,null,0,null,null,null,0,null,null,null,null,null,0]
[{"$f":"'Labor Summary (Office)'!A124","v":0},{"$f":"'Labor Summary (Office)'!B124","v":0},null,null,null,null,null,null,0,null,null,null,0,null,null,null,null,null,0]
[{"$f":"'Labor Summary (Office)'!A125","v":0},{"$f":"'Labor Summary (Office)'!B125","v":0},null,null,null,null,null,null,0,null,null,null,0,null,null,null,null,null,0]
[{"$f":"'Labor Summary (Office)'!A126","v":0},{"$f":"'Labor Summary (Office)'!B126","v":0},null,null,null,null,null,null,0,null,null,null,0,null,null,null,null,null,0]
[{"$f":"'Labor Summary (Office)'!A127","v":0},{"$f":"'Labor Summary (Office)'!B127","v":0},null,null,null,null,null,null,0,null,null,null,0,null,null,null,null,null,0]
[{"$f":"'Labor Summary (Office)'!A128","v":0},{"$f":"'Labor Summary (Office)'!B128","v":0},null,null,null,null,null,null,0,null,null,null,0,null,null,null,null,null,0]
[{"$f":"'Labor Summary (Office)'!A129","v":0},{"$f":"'Labor Summary (Office)'!B129","v":0},null,null,null,null,null,null,0,null,null,null,0,null,null,null,null,null,0]
[{"$f":"'Labor Summary (Office)'!A130","v":0},{"$f":"'Labor Summary (Office)'!B130","v":0},null,null,null,null,null,null,0,null,null,null,0,null,null,null,null,null,0]
[{"$f":"'Labor Summary (Office)'!A131","v":0},{"$f":"'Labor Summary (Office)'!B131","v":0},null,null,null,null,null,null,0,null,null,null,0,null,null,null,null,null,0]
[{"$f":"'Labor Summary (Office)'!A132","v":0},{"$f":"'Labor Summary (Office)'!B132","v":0},null,null,null,null,null,null,0,null,null,null,0,null,null,null,null,null,0]
[{"$f":"'Labor Summary (Office)'!A133","v":0},{"$f":"'Labor Summary (Office)'!B133","v":0},null,null,null,null,null,null,0,null,null,null,0,null,null,null,null,null,0]
[{"$f":"'Labor Summary (Office)'!A134","v":0},{"$f":"'Labor Summary (Office)'!B134","v":0},null,null,null,null,null,null,0,null,null,null,0,null,null,null,null,null,0]
[{"$f":"'Labor Summary (Office)'!A135","v":0},{"$f":"'Labor Summary (Office)'!B135","v":0},{"$f":"IF(A137=0,\"\",A137)","v":""},null,null,null,null,null,null,null,null,null,null,null,null,null,"Subtotal Line 4",null,{"$f":"ROUND(SUM(S107:S136),2)","v":0}]
[{"$f":"'Labor Summary (Office)'!A136","v":0},{"$f":"'Labor Summary (Office)'!B136","v":0},null,null,null,null,null,null,0,null,null,null,{"$f":"ROUND(L138*$M$9,2)","v":0},null,null,null,null,null,{"$f":"ROUND(F138+I138+K138+M138+N138+O138+P138+Q138+R138,2)","v":0}]
[{"$f":"'Labor Summary (Office)'!A137","v":0},{"$f":"'Labor Summary (Office)'!B137","v":0},null,null,null,null,null,null,0,null,null,null,{"$f":"ROUND(L139*$M$9,2)","v":0},null,null,null,null,null,{"$f":"ROUND(F139+I139+K139+M139+N139+O139+P139+Q139+R139,2)","v":0}]
[{"$f":"'Labor Summary (Office)'!A138","v":0},{"$f":"'Labor Summary (Office)'!B138","v":0},null,null,null,null,null,null,0,null,null,null,0,null,null,null,null,null,0]
[{"$f":"'Labor Summary (Office)'!A139","v":0},{"$f":"'Labor Summary (Office)'!B139","v":0},null,null,null,null,null,null,0,null,null,null,0,null,null,null,null,null,0]
[{"$f":"'Labor Summary (Office)'!A140","v":0},{"$f":"'Labor Summary (Office)'!B140","v":0},null,null,null,null,null,null,0,null,null,null,0,null,null,null,null,null,0]
[{"$f":"'Labor Summary (Office)'!A141","v":0},{"$f":"'Labor Summary (Office)'!B141","v":0},null,null,null,null,null,null,{"$f":"H143+G143","v":0},null,null,null,0,null,null,null,null,null,0]
[{"$f":"'Labor Summary (Office)'!A142","v":0},{"$f":"'Labor Summary (Office)'!B142","v":0},null,null,null,null,null,null,0,null,null,null,0,null,null,null,null,null,0]
[{"$f":"'Labor Summary (Office)'!A143","v":0},{"$f":"'Labor Summary (Office)'!B143","v":0},null,null,null,null,null,null,0,null,null,null,0,null,null,null,null,null,0]
[{"$f":"'Labor Summary (Office)'!A144","v":0},{"$f":"'Labor Summary (Office)'!B144","v":0},null,null,null,null,null,null,0,null,null,null,0,null,null,null,null,null,0]
[{"$f":"'Labor Summary (Office)'!A145","v":0},{"$f":"'Labor Summary (Office)'!B145","v":0},null,null,null,null,null,null,0,null,null,null,0,null,null,null,null,null,0]
[{"$f":"'Labor Summary (Office)'!A146","v":0},{"$f":"'Labor Summary (Office)'!B146","v":0},null,null,null,null,null,null,0,null,null,null,0,null,null,null,null,null,0]
[{"$f":"'Labor Summary (Office)'!A147","v":0},{"$f":"'Labor Summary (Office)'!B147","v":0},null,null,null,null,null,null,0,null,null,null,0,null,null,null,null,null,0]
[{"$f":"'Labor Summary (Office)'!A148","v":0},{"$f":"'Labor Summary (Office)'!B148","v":0},null,null,null,null,null,null,0,null,null,null,0,null,null,null,null,null,0]
[{"$f":"'Labor Summary (Office)'!A149","v":0},{"$f":"'Labor Summary (Office)'!B149","v":0},null,null,null,null,null,null,0,null,null,null,0,null,null,null,null,null,0]
[{"$f":"'Labor Summary (Office)'!A150","v":0},{"$f":"'Labor Summary (Office)'!B150","v":0},null,null,null,null,null,null,0,null,null,null,0,null,null,null,null,null,0]
[{"$f":"'Labor Summary (Office)'!A151","v":0},{"$f":"'Labor Summary (Office)'!B151","v":0},null,null,null,null,null,null,0,null,null,null,0,null,null,null,null,null,0]
[{"$f":"'Labor Summary (Office)'!A152","v":0},{"$f":"'Labor Summary (Office)'!B152","v":0},null,null,null,null,null,null,0,null,null,null,0,null,null,null,null,null,0]
[{"$f":"'Labor Summary (Office)'!A153","v":0},{"$f":"'Labor Summary (Office)'!B153","v":0},null,null,null,null,null,null,0,null,null,null,0,null,null,null,null,null,0]
[{"$f":"'Labor Summary (Office)'!A154","v":0},{"$f":"'Labor Summary (Office)'!B154","v":0},null,null,null,null,null,null,0,null,null,null,0,null,null,null,null,null,0]
[{"$f":"'Labor Summary (Office)'!A155","v":0},{"$f":"'Labor Summary (Office)'!B155","v":0},null,null,null,null,null,null,0,null,null,null,0,null,null,null,null,null,0]
[{"$f":"'Labor Summary (Office)'!A156","v":0},{"$f":"'Labor Summary (Office)'!B156","v":0},null,null,null,null,null,null,0,null,null,null,0,null,null,null,null,null,0]
[{"$f":"'Labor Summary (Office)'!A157","v":0},{"$f":"'Labor Summary (Office)'!B157","v":0},null,null,null,null,null,null,0,null,null,null,0,null,null,null,null,null,0]
[{"$f":"'Labor Summary (Office)'!A158","v":0},{"$f":"'Labor Summary (Office)'!B158","v":0},null,null,null,null,null,null,0,null,null,null,0,null,null,null,null,null,0]
[{"$f":"'Labor Summary (Office)'!A159","v":0},{"$f":"'Labor Summary (Office)'!B159","v":0},null,null,null,null,null,null,0,null,null,null,0,null,null,null,null,null,0]
[{"$f":"'Labor Summary (Office)'!A160","v":0},{"$f":"'Labor Summary (Office)'!B160","v":0},null,null,null,null,null,null,0,null,null,null,0,null,null,null,null,null,0]
[{"$f":"'Labor Summary (Office)'!A161","v":0},{"$f":"'Labor Summary (Office)'!B161","v":0},null,null,null,null,null,null,0,null,null,null,0,null,null,null,null,null,0]
[{"$f":"'Labor Summary (Office)'!A162","v":0},{"$f":"'Labor Summary (Office)'!B162","v":0},null,null,null,null,null,null,0,null,null,null,0,null,null,null,null,null,0]
[{"$f":"'Labor Summary (Office)'!A163","v":0},{"$f":"'Labor Summary (Office)'!B163","v":0},null,null,null,null,null,null,0,null,null,null,0,null,null,null,null,null,0]
[{"$f":"'Labor Summary (Office)'!A164","v":0},{"$f":"'Labor Summary (Office)'!B164","v":0},null,null,null,null,null,null,0,null,null,null,0,null,null,null,null,null,0]
[{"$f":"'Labor Summary (Office)'!A165","v":0},{"$f":"'Labor Summary (Office)'!B165","v":0},null,null,null,null,null,null,0,null,null,null,0,null,null,null,null,null,0]
[{"$f":"'Labor Summary (Office)'!A166","v":0},{"$f":"'Labor Summary (Office)'!B166","v":0},{"$f":"IF(A168=0,\"\",A168)","v":""},null,null,null,null,null,null,null,null,null,null,null,null,null,"Subtotal Line 5",null,{"$f":"ROUND(SUM(S138:S167),2)","v":0}]
[{"$f":"'Labor Summary (Office)'!A167","v":0},{"$f":"'Labor Summary (Office)'!B167","v":0},null,null,null,null,null,null,0,null,null,null,{"$f":"ROUND(L169*$M$9,2)","v":0},null,null,null,null,null,{"$f":"ROUND(F169+I169+K169+M169+N169+O169+P169+Q169+R169,2)","v":0}]
[{"$f":"'Labor Summary (Office)'!A168","v":0},{"$f":"'Labor Summary (Office)'!B168","v":0},null,null,null,null,null,null,0,null,null,null,{"$f":"ROUND(L170*$M$9,2)","v":0},null,null,null,null,null,{"$f":"ROUND(F170+I170+K170+M170+N170+O170+P170+Q170+R170,2)","v":0}]
[{"$f":"'Labor Summary (Office)'!A169","v":0},{"$f":"'Labor Summary (Office)'!B169","v":0},null,null,null,null,null,null,0,null,null,null,0,null,null,null,null,null,0]
[{"$f":"'Labor Summary (Office)'!A170","v":0},{"$f":"'Labor Summary (Office)'!B170","v":0},null,null,null,null,null,null,0,null,null,null,0,null,null,null,null,null,0]
[{"$f":"'Labor Summary (Office)'!A171","v":0},{"$f":"'Labor Summary (Office)'!B171","v":0},null,null,null,null,null,null,0,null,null,null,0,null,null,null,null,null,0]
[{"$f":"'Labor Summary (Office)'!A172","v":0},{"$f":"'Labor Summary (Office)'!B172","v":0},null,null,null,null,null,null,0,null,null,null,0,null,null,null,null,null,0]
[{"$f":"'Labor Summary (Office)'!A173","v":0},{"$f":"'Labor Summary (Office)'!B173","v":0},null,null,null,null,null,null,0,null,null,null,0,null,null,null,null,null,0]
[{"$f":"'Labor Summary (Office)'!A174","v":0},{"$f":"'Labor Summary (Office)'!B174","v":0},null,null,null,null,null,null,0,null,null,null,0,null,null,null,null,null,0]
[{"$f":"'Labor Summary (Office)'!A175","v":0},{"$f":"'Labor Summary (Office)'!B175","v":0},null,null,null,null,null,null,0,null,null,null,0,null,null,null,null,null,0]
[{"$f":"'Labor Summary (Office)'!A176","v":0},{"$f":"'Labor Summary (Office)'!B176","v":0},null,null,null,null,null,null,0,null,null,null,0,null,null,null,null,null,0]
[{"$f":"'Labor Summary (Office)'!A177","v":0},{"$f":"'Labor Summary (Office)'!B177","v":0},null,null,null,null,null,null,0,null,null,null,0,null,null,null,null,null,0]
[{"$f":"'Labor Summary (Office)'!A178","v":0},{"$f":"'Labor Summary (Office)'!B178","v":0},null,null,null,null,null,null,0,null,null,null,0,null,null,null,null,null,0]
[{"$f":"'Labor Summary (Office)'!A179","v":0},{"$f":"'Labor Summary (Office)'!B179","v":0},null,null,null,null,null,null,0,null,null,null,0,null,null,null,null,null,0]
[{"$f":"'Labor Summary (Office)'!A180","v":0},{"$f":"'Labor Summary (Office)'!B180","v":0},null,null,null,null,null,null,0,null,null,null,0,null,null,null,null,null,0]
[{"$f":"'Labor Summary (Office)'!A181","v":0},{"$f":"'Labor Summary (Office)'!B181","v":0},null,null,null,null,null,null,0,null,null,null,0,null,null,null,null,null,0]
[{"$f":"'Labor Summary (Office)'!A182","v":0},{"$f":"'Labor Summary (Office)'!B182","v":0},null,null,null,null,null,null,0,null,null,null,0,null,null,null,null,null,0]
[{"$f":"'Labor Summary (Office)'!A183","v":0},{"$f":"'Labor Summary (Office)'!B183","v":0},null,null,null,null,null,null,0,null,null,null,0,null,null,null,null,null,0]
[{"$f":"'Labor Summary (Office)'!A184","v":0},{"$f":"'Labor Summary (Office)'!B184","v":0},null,null,null,null,null,null,0,null,null,null,0,null,null,null,null,null,0]
[{"$f":"'Labor Summary (Office)'!A185","v":0},{"$f":"'Labor Summary (Office)'!B185","v":0},null,null,null,null,null,null,0,null,null,null,0,null,null,null,null,null,0]
[{"$f":"'Labor Summary (Office)'!A186","v":0},{"$f":"'Labor Summary (Office)'!B186","v":0},null,null,null,null,null,null,0,null,null,null,0,null,null,null,null,null,0]
[{"$f":"'Labor Summary (Office)'!A187","v":0},{"$f":"'Labor Summary (Office)'!B187","v":0},null,null,null,null,null,null,0,null,null,null,0,null,null,null,null,null,0]
[{"$f":"'Labor Summary (Office)'!A188","v":0},{"$f":"'Labor Summary (Office)'!B188","v":0},null,null,null,null,null,null,0,null,null,null,0,null,null,null,null,null,0]
[{"$f":"'Labor Summary (Office)'!A189","v":0},{"$f":"'Labor Summary (Office)'!B189","v":0},null,null,null,null,null,null,0,null,null,null,0,null,null,null,null,null,0]
[{"$f":"'Labor Summary (Office)'!A190","v":0},{"$f":"'Labor Summary (Office)'!B190","v":0},null,null,null,null,null,null,0,null,null,null,0,null,null,null,null,null,0]
[{"$f":"'Labor Summary (Office)'!A191","v":0},{"$f":"'Labor Summary (Office)'!B191","v":0},null,null,null,null,null,null,0,null,null,null,0,null,null,null,null,null,0]
[{"$f":"'Labor Summary (Office)'!A192","v":0},{"$f":"'Labor Summary (Office)'!B192","v":0},null,null,null,null,null,null,0,null,null,null,0,null,null,null,null,null,0]
[{"$f":"'Labor Summary (Office)'!A193","v":0},{"$f":"'Labor Summary (Office)'!B193","v":0},null,null,null,null,null,null,0,null,null,null,0,null,null,null,null,null,0]
[{"$f":"'Labor Summary (Office)'!A194","v":0},{"$f":"'Labor Summary (Office)'!B194","v":0},null,null,null,null,null,null,0,null,null,null,0,null,null,null,null,null,0]
[{"$f":"'Labor Summary (Office)'!A195","v":0},{"$f":"'Labor Summary (Office)'!B195","v":0},null,null,null,null,null,null,0,null,null,null,0,null,null,null,null,null,0]
[{"$f":"'Labor Summary (Office)'!A196","v":0},{"$f":"'Labor Summary (Office)'!B196","v":0},null,null,null,null,null,null,0,null,null,null,0,null,null,null,null,null,0]
[{"$f":"'Labor Summary (Office)'!A197","v":0},{"$f":"'Labor Summary (Office)'!B197","v":0},{"$f":"IF(A199=0,\"\",A199)","v":""},null,null,null,null,null,null,null,null,null,null,null,null,null,"Subtotal Line 6",null,{"$f":"ROUND(SUM(S169:S198),2)","v":0}]
[{"$f":"'Labor Summary (Office)'!A198","v":0},{"$f":"'Labor Summary (Office)'!B198","v":0},null,null,null,null,null,null,0,null,null,null,{"$f":"ROUND(L200*$M$9,2)","v":0},null,null,null,null,null,{"$f":"ROUND(F200+I200+K200+M200+N200+O200+P200+Q200+R200,2)","v":0}]
[{"$f":"'Labor Summary (Office)'!A199","v":0},{"$f":"'Labor Summary (Office)'!B199","v":0},null,null,null,null,null,null,0,null,null,null,{"$f":"ROUND(L201*$M$9,2)","v":0},null,null,null,null,null,{"$f":"ROUND(F201+I201+K201+M201+N201+O201+P201+Q201+R201,2)","v":0}]
[{"$f":"'Labor Summary (Office)'!A200","v":0},{"$f":"'Labor Summary (Office)'!B200","v":0},null,null,null,null,null,null,0,null,null,null,0,null,null,null,null,null,0]
[{"$f":"'Labor Summary (Office)'!A201","v":0},{"$f":"'Labor Summary (Office)'!B201","v":0},null,null,null,null,null,null,0,null,null,null,0,null,null,null,null,null,0]
[{"$f":"'Labor Summary (Office)'!A202","v":0},{"$f":"'Labor Summary (Office)'!B202","v":0},null,null,null,null,null,null,0,null,null,null,0,null,null,null,null,null,0]
[{"$f":"'Labor Summary (Office)'!A203","v":0},{"$f":"'Labor Summary (Office)'!B203","v":0},null,null,null,null,null,null,0,null,null,null,0,null,null,null,null,null,0]
[{"$f":"'Labor Summary (Office)'!A204","v":0},{"$f":"'Labor Summary (Office)'!B204","v":0},null,null,null,null,null,null,0,null,null,null,0,null,null,null,null,null,0]
[{"$f":"'Labor Summary (Office)'!A205","v":0},{"$f":"'Labor Summary (Office)'!B205","v":0},null,null,null,null,null,null,{"$f":"H207+G207","v":0},null,null,null,0,null,null,null,null,null,0]
[{"$f":"'Labor Summary (Office)'!A206","v":0},{"$f":"'Labor Summary (Office)'!B206","v":0},null,null,null,null,null,null,0,null,null,null,0,null,null,null,null,null,0]
[{"$f":"'Labor Summary (Office)'!A207","v":0},{"$f":"'Labor Summary (Office)'!B207","v":0},null,null,null,null,null,null,0,null,null,null,0,null,null,null,null,null,0]
[{"$f":"'Labor Summary (Office)'!A208","v":0},{"$f":"'Labor Summary (Office)'!B208","v":0},null,null,null,null,null,null,0,null,null,null,0,null,null,null,null,null,0]
[{"$f":"'Labor Summary (Office)'!A209","v":0},{"$f":"'Labor Summary (Office)'!B209","v":0},null,null,null,null,null,null,0,null,null,null,0,null,null,null,null,null,0]
[{"$f":"'Labor Summary (Office)'!A210","v":0},{"$f":"'Labor Summary (Office)'!B210","v":0},null,null,null,null,null,null,0,null,null,null,0,null,null,null,null,null,0]
[{"$f":"'Labor Summary (Office)'!A211","v":0},{"$f":"'Labor Summary (Office)'!B211","v":0},null,null,null,null,null,null,0,null,null,null,0,null,null,null,null,null,0]
[{"$f":"'Labor Summary (Office)'!A212","v":0},{"$f":"'Labor Summary (Office)'!B212","v":0},null,null,null,null,null,null,0,null,null,null,0,null,null,null,null,null,0]
[{"$f":"'Labor Summary (Office)'!A213","v":0},{"$f":"'Labor Summary (Office)'!B213","v":0},null,null,null,null,null,null,0,null,null,null,0,null,null,null,null,null,0]
[{"$f":"'Labor Summary (Office)'!A214","v":0},{"$f":"'Labor Summary (Office)'!B214","v":0},null,null,null,null,null,null,0,null,null,null,0,null,null,null,null,null,0]
[{"$f":"'Labor Summary (Office)'!A215","v":0},{"$f":"'Labor Summary (Office)'!B215","v":0},null,null,null,null,null,null,0,null,null,null,0,null,null,null,null,null,0]
[{"$f":"'Labor Summary (Office)'!A216","v":0},{"$f":"'Labor Summary (Office)'!B216","v":0},null,null,null,null,null,null,0,null,null,null,0,null,null,null,null,null,0]
[{"$f":"'Labor Summary (Office)'!A217","v":0},{"$f":"'Labor Summary (Office)'!B217","v":0},null,null,null,null,null,null,0,null,null,null,0,null,null,null,null,null,0]
[{"$f":"'Labor Summary (Office)'!A218","v":0},{"$f":"'Labor Summary (Office)'!B218","v":0},null,null,null,null,null,null,0,null,null,null,0,null,null,null,null,null,0]
[{"$f":"'Labor Summary (Office)'!A219","v":0},{"$f":"'Labor Summary (Office)'!B219","v":0},null,null,null,null,null,null,0,null,null,null,0,null,null,null,null,null,0]
[{"$f":"'Labor Summary (Office)'!A220","v":0},{"$f":"'Labor Summary (Office)'!B220","v":0},null,null,null,null,null,null,0,null,null,null,0,null,null,null,null,null,0]
[{"$f":"'Labor Summary (Office)'!A221","v":0},{"$f":"'Labor Summary (Office)'!B221","v":0},null,null,null,null,null,null,0,null,null,null,0,null,null,null,null,null,0]
[{"$f":"'Labor Summary (Office)'!A222","v":0},{"$f":"'Labor Summary (Office)'!B222","v":0},null,null,null,null,null,null,0,null,null,null,0,null,null,null,null,null,0]
[{"$f":"'Labor Summary (Office)'!A223","v":0},{"$f":"'Labor Summary (Office)'!B223","v":0},null,null,null,null,null,null,0,null,null,null,0,null,null,null,null,null,0]
[{"$f":"'Labor Summary (Office)'!A224","v":0},{"$f":"'Labor Summary (Office)'!B224","v":0},null,null,null,null,null,null,0,null,null,null,0,null,null,null,null,null,0]
[{"$f":"'Labor Summary (Office)'!A225","v":0},{"$f":"'Labor Summary (Office)'!B225","v":0},null,null,null,null,null,null,0,null,null,null,0,null,null,null,null,null,0]
[{"$f":"'Labor Summary (Office)'!A226","v":0},{"$f":"'Labor Summary (Office)'!B226","v":0},null,null,null,null,null,null,0,null,null,null,0,null,null,null,null,null,0]
[{"$f":"'Labor Summary (Office)'!A227","v":0},{"$f":"'Labor Summary (Office)'!B227","v":0},null,null,null,null,null,null,0,null,null,null,0,null,null,null,null,null,0]
[{"$f":"'Labor Summary (Office)'!A228","v":0},{"$f":"'Labor Summary (Office)'!B228","v":0},{"$f":"IF(A230=0,\"\",A230)","v":""},null,null,null,null,null,null,null,null,null,null,null,null,null,"Subtotal Line 7",null,{"$f":"ROUND(SUM(S200:S229),2)","v":0}]
[{"$f":"'Labor Summary (Office)'!A229","v":0},{"$f":"'Labor Summary (Office)'!B229","v":0},null,null,null,null,null,null,0,null,null,null,{"$f":"ROUND(L231*$M$9,2)","v":0},null,null,null,null,null,{"$f":"ROUND(F231+I231+K231+M231+N231+O231+P231+Q231+R231,2)","v":0}]
[{"$f":"'Labor Summary (Office)'!A230","v":0},{"$f":"'Labor Summary (Office)'!B230","v":0},null,null,null,null,null,null,0,null,null,null,{"$f":"ROUND(L232*$M$9,2)","v":0},null,null,null,null,null,{"$f":"ROUND(F232+I232+K232+M232+N232+O232+P232+Q232+R232,2)","v":0}]
[{"$f":"'Labor Summary (Office)'!A231","v":0},{"$f":"'Labor Summary (Office)'!B231","v":0},null,null,null,null,null,null,0,null,null,null,0,null,null,null,null,null,0]
[{"$f":"'Labor Summary (Office)'!A232","v":0},{"$f":"'Labor Summary (Office)'!B232","v":0},null,null,null,null,null,null,0,null,null,null,0,null,null,null,null,null,0]
[{"$f":"'Labor Summary (Office)'!A233","v":0},{"$f":"'Labor Summary (Office)'!B233","v":0},null,null,null,null,null,null,0,null,null,null,0,null,null,null,null,null,0]
[{"$f":"'Labor Summary (Office)'!A234","v":0},{"$f":"'Labor Summary (Office)'!B234","v":0},null,null,null,null,null,null,0,null,null,null,0,null,null,null,null,null,0]
[{"$f":"'Labor Summary (Office)'!A235","v":0},{"$f":"'Labor Summary (Office)'!B235","v":0},null,null,null,null,null,null,0,null,null,null,0,null,null,null,null,null,0]
[{"$f":"'Labor Summary (Office)'!A236","v":0},{"$f":"'Labor Summary (Office)'!B236","v":0},null,null,null,null,null,null,0,null,null,null,0,null,null,null,null,null,0]
[{"$f":"'Labor Summary (Office)'!A237","v":0},{"$f":"'Labor Summary (Office)'!B237","v":0},null,null,null,null,null,null,0,null,null,null,0,null,null,null,null,null,0]
[{"$f":"'Labor Summary (Office)'!A238","v":0},{"$f":"'Labor Summary (Office)'!B238","v":0},null,null,null,null,null,null,0,null,null,null,0,null,null,null,null,null,0]
[{"$f":"'Labor Summary (Office)'!A239","v":0},{"$f":"'Labor Summary (Office)'!B239","v":0},null,null,null,null,null,null,0,null,null,null,0,null,null,null,null,null,0]
[{"$f":"'Labor Summary (Office)'!A240","v":0},{"$f":"'Labor Summary (Office)'!B240","v":0},null,null,null,null,null,null,0,null,null,null,0,null,null,null,null,null,0]
[{"$f":"'Labor Summary (Office)'!A241","v":0},{"$f":"'Labor Summary (Office)'!B241","v":0},null,null,null,null,null,null,0,null,null,null,0,null,null,null,null,null,0]
[{"$f":"'Labor Summary (Office)'!A242","v":0},{"$f":"'Labor Summary (Office)'!B242","v":0},null,null,null,null,null,null,0,null,null,null,0,null,null,null,null,null,0]
[{"$f":"'Labor Summary (Office)'!A243","v":0},{"$f":"'Labor Summary (Office)'!B243","v":0},null,null,null,null,null,null,0,null,null,null,0,null,null,null,null,null,0]
[{"$f":"'Labor Summary (Office)'!A244","v":0},{"$f":"'Labor Summary (Office)'!B244","v":0},null,null,null,null,null,null,0,null,null,null,0,null,null,null,null,null,0]
[{"$f":"'Labor Summary (Office)'!A245","v":0},{"$f":"'Labor Summary (Office)'!B245","v":0},null,null,null,null,null,null,0,null,null,null,0,null,null,null,null,null,0]
[{"$f":"'Labor Summary (Office)'!A246","v":0},{"$f":"'Labor Summary (Office)'!B246","v":0},null,null,null,null,null,null,0,null,null,null,0,null,null,null,null,null,0]
[{"$f":"'Labor Summary (Office)'!A247","v":0},{"$f":"'Labor Summary (Office)'!B247","v":0},null,null,null,null,null,null,0,null,null,null,0,null,null,null,null,null,0]
[{"$f":"'Labor Summary (Office)'!A248","v":0},{"$f":"'Labor Summary (Office)'!B248","v":0},null,null,null,null,null,null,0,null,null,null,0,null,null,null,null,null,0]
[{"$f":"'Labor Summary (Office)'!A249","v":0},{"$f":"'Labor Summary (Office)'!B249","v":0},null,null,null,null,null,null,0,null,null,null,0,null,null,null,null,null,0]
[{"$f":"'Labor Summary (Office)'!A250","v":0},{"$f":"'Labor Summary (Office)'!B250","v":0},null,null,null,null,null,null,0,null,null,null,0,null,null,null,null,null,0]
[{"$f":"'Labor Summary (Office)'!A251","v":0},{"$f":"'Labor Summary (Office)'!B251","v":0},null,null,null,null,null,null,0,null,null,null,0,null,null,null,null,null,0]
[{"$f":"'Labor Summary (Office)'!A252","v":0},{"$f":"'Labor Summary (Office)'!B252","v":0},null,null,null,null,null,null,0,null,null,null,0,null,null,null,null,null,0]
[{"$f":"'Labor Summary (Office)'!A253","v":0},{"$f":"'Labor Summary (Office)'!B253","v":0},null,null,null,null,null,null,0,null,null,null,0,null,null,null,null,null,0]
[{"$f":"'Labor Summary (Office)'!A254","v":0},{"$f":"'Labor Summary (Office)'!B254","v":0},null,null,null,null,null,null,0,null,null,null,0,null,null,null,null,null,0]
[{"$f":"'Labor Summary (Office)'!A255","v":0},{"$f":"'Labor Summary (Office)'!B255","v":0},null,null,null,null,null,null,0,null,null,null,0,null,null,null,null,null,0]
[{"$f":"'Labor Summary (Office)'!A256","v":0},{"$f":"'Labor Summary (Office)'!B256","v":0},null,null,null,null,null,null,0,null,null,null,0,null,null,null,null,null,0]
[{"$f":"'Labor Summary (Office)'!A257","v":0},{"$f":"'Labor Summary (Office)'!B257","v":0},null,null,null,null,null,null,0,null,null,null,0,null,null,null,null,null,0]
[{"$f":"'Labor Summary (Office)'!A258","v":0},{"$f":"'Labor Summary (Office)'!B258","v":0},null,null,null,null,null,null,0,null,null,null,0,null,null,null,null,null,0]
[{"$f":"'Labor Summary (Office)'!A259","v":0},{"$f":"'Labor Summary (Office)'!B259","v":0},{"$f":"IF(A261=0,\"\",A261)","v":""},null,null,null,null,null,null,null,null,null,null,null,null,null,"Subtotal Line 8",null,{"$f":"ROUND(SUM(S231:S260),2)","v":0}]
[{"$f":"'Labor Summary (Office)'!A260","v":0},{"$f":"'Labor Summary (Office)'!B260","v":0},null,null,null,null,null,null,0,null,null,null,{"$f":"ROUND(L262*$M$9,2)","v":0},null,null,null,null,null,{"$f":"ROUND(F262+I262+K262+M262+N262+O262+P262+Q262+R262,2)","v":0}]
[{"$f":"'Labor Summary (Office)'!A261","v":0},{"$f":"'Labor Summary (Office)'!B261","v":0},null,null,null,null,null,null,0,null,null,null,{"$f":"ROUND(L263*$M$9,2)","v":0},null,null,null,null,null,{"$f":"ROUND(F263+I263+K263+M263+N263+O263+P263+Q263+R263,2)","v":0}]
[{"$f":"'Labor Summary (Office)'!A262","v":0},{"$f":"'Labor Summary (Office)'!B262","v":0},null,null,null,null,null,null,0,null,null,null,0,null,null,null,null,null,0]
[{"$f":"'Labor Summary (Office)'!A263","v":0},{"$f":"'Labor Summary (Office)'!B263","v":0},null,null,null,null,null,null,0,null,null,null,0,null,null,null,null,null,0]
[{"$f":"'Labor Summary (Office)'!A264","v":0},{"$f":"'Labor Summary (Office)'!B264","v":0},null,null,null,null,null,null,0,null,null,null,0,null,null,null,null,null,0]
[{"$f":"'Labor Summary (Office)'!A265","v":0},{"$f":"'Labor Summary (Office)'!B265","v":0},null,null,null,null,null,null,0,null,null,null,0,null,null,null,null,null,0]
[{"$f":"'Labor Summary (Office)'!A266","v":0},{"$f":"'Labor Summary (Office)'!B266","v":0},null,null,null,null,null,null,0,null,null,null,0,null,null,null,null,null,0]
[{"$f":"'Labor Summary (Office)'!A267","v":0},{"$f":"'Labor Summary (Office)'!B267","v":0},null,null,null,null,null,null,0,null,null,null,0,null,null,null,null,null,0]
[{"$f":"'Labor Summary (Office)'!A268","v":0},{"$f":"'Labor Summary (Office)'!B268","v":0},null,null,null,null,null,null,0,null,null,null,0,null,null,null,null,null,0]
[{"$f":"'Labor Summary (Office)'!A269","v":0},{"$f":"'Labor Summary (Office)'!B269","v":0},null,null,null,null,null,null,{"$f":"H271+G271","v":0},null,null,null,0,null,null,null,null,null,0]
[{"$f":"'Labor Summary (Office)'!A270","v":0},{"$f":"'Labor Summary (Office)'!B270","v":0},null,null,null,null,null,null,0,null,null,null,0,null,null,null,null,null,0]
[{"$f":"'Labor Summary (Office)'!A271","v":0},{"$f":"'Labor Summary (Office)'!B271","v":0},null,null,null,null,null,null,0,null,null,null,0,null,null,null,null,null,0]
[{"$f":"'Labor Summary (Office)'!A272","v":0},{"$f":"'Labor Summary (Office)'!B272","v":0},null,null,null,null,null,null,0,null,null,null,0,null,null,null,null,null,0]
[{"$f":"'Labor Summary (Office)'!A273","v":0},{"$f":"'Labor Summary (Office)'!B273","v":0},null,null,null,null,null,null,0,null,null,null,0,null,null,null,null,null,0]
[{"$f":"'Labor Summary (Office)'!A274","v":0},{"$f":"'Labor Summary (Office)'!B274","v":0},null,null,null,null,null,null,0,null,null,null,0,null,null,null,null,null,0]
[{"$f":"'Labor Summary (Office)'!A275","v":0},{"$f":"'Labor Summary (Office)'!B275","v":0},null,null,null,null,null,null,0,null,null,null,0,null,null,null,null,null,0]
[{"$f":"'Labor Summary (Office)'!A276","v":0},{"$f":"'Labor Summary (Office)'!B276","v":0},null,null,null,null,null,null,0,null,null,null,0,null,null,null,null,null,0]
[{"$f":"'Labor Summary (Office)'!A277","v":0},{"$f":"'Labor Summary (Office)'!B277","v":0},null,null,null,null,null,null,0,null,null,null,0,null,null,null,null,null,0]
[{"$f":"'Labor Summary (Office)'!A278","v":0},{"$f":"'Labor Summary (Office)'!B278","v":0},null,null,null,null,null,null,0,null,null,null,0,null,null,null,null,null,0]
[{"$f":"'Labor Summary (Office)'!A279","v":0},{"$f":"'Labor Summary (Office)'!B279","v":0},null,null,null,null,null,null,0,null,null,null,0,null,null,null,null,null,0]
[{"$f":"'Labor Summary (Office)'!A280","v":0},{"$f":"'Labor Summary (Office)'!B280","v":0},null,null,null,null,null,null,0,null,null,null,0,null,null,null,null,null,0]
[{"$f":"'Labor Summary (Office)'!A281","v":0},{"$f":"'Labor Summary (Office)'!B281","v":0},null,null,null,null,null,null,0,null,null,null,0,null,null,null,null,null,0]
[{"$f":"'Labor Summary (Office)'!A282","v":0},{"$f":"'Labor Summary (Office)'!B282","v":0},null,null,null,null,null,null,0,null,null,null,0,null,null,null,null,null,0]
[{"$f":"'Labor Summary (Office)'!A283","v":0},{"$f":"'Labor Summary (Office)'!B283","v":0},null,null,null,null,null,null,0,null,null,null,0,null,null,null,null,null,0]
[{"$f":"'Labor Summary (Office)'!A284","v":0},{"$f":"'Labor Summary (Office)'!B284","v":0},null,null,null,null,null,null,0,null,null,null,0,null,null,null,null,null,0]
[{"$f":"'Labor Summary (Office)'!A285","v":0},{"$f":"'Labor Summary (Office)'!B285","v":0},null,null,null,null,null,null,0,null,null,null,0,null,null,null,null,null,0]
[{"$f":"'Labor Summary (Office)'!A286","v":0},{"$f":"'Labor Summary (Office)'!B286","v":0},null,null,null,null,null,null,0,null,null,null,0,null,null,null,null,null,0]
[{"$f":"'Labor Summary (Office)'!A287","v":0},{"$f":"'Labor Summary (Office)'!B287","v":0},null,null,null,null,null,null,0,null,null,null,0,null,null,null,null,null,0]
[{"$f":"'Labor Summary (Office)'!A288","v":0},{"$f":"'Labor Summary (Office)'!B288","v":0},null,null,null,null,null,null,0,null,null,null,0,null,null,null,null,null,0]
[{"$f":"'Labor Summary (Office)'!A289","v":0},{"$f":"'Labor Summary (Office)'!B289","v":0},null,null,null,null,null,null,0,null,null,null,0,null,null,null,null,null,0]
[{"$f":"'Labor Summary (Office)'!A290","v":0},{"$f":"'Labor Summary (Office)'!B290","v":0},{"$f":"IF(A292=0,\"\",A292)","v":""},null,null,null,null,null,null,null,null,null,null,null,null,null,"Subtotal Line 9",null,{"$f":"ROUND(SUM(S262:S291),2)","v":0}]
[{"$f":"'Labor Summary (Office)'!A291","v":0},{"$f":"'Labor Summary (Office)'!B291","v":0},null,null,null,null,null,null,0,null,null,null,{"$f":"ROUND(L293*$M$9,2)","v":0},null,null,null,null,null,{"$f":"ROUND(F293+I293+K293+M293+N293+O293+P293+Q293+R293,2)","v":0}]
[{"$f":"'Labor Summary (Office)'!A292","v":0},{"$f":"'Labor Summary (Office)'!B292","v":0},null,null,null,null,null,null,0,null,null,null,{"$f":"ROUND(L294*$M$9,2)","v":0},null,null,null,null,null,{"$f":"ROUND(F294+I294+K294+M294+N294+O294+P294+Q294+R294,2)","v":0}]
[{"$f":"'Labor Summary (Office)'!A293","v":0},{"$f":"'Labor Summary (Office)'!B293","v":0},null,null,null,null,null,null,0,null,null,null,0,null,null,null,null,null,0]
[{"$f":"'Labor Summary (Office)'!A294","v":0},{"$f":"'Labor Summary (Office)'!B294","v":0},null,null,null,null,null,null,0,null,null,null,0,null,null,null,null,null,0]
[{"$f":"'Labor Summary (Office)'!A295","v":0},{"$f":"'Labor Summary (Office)'!B295","v":0},null,null,null,null,null,null,0,null,null,null,0,null,null,null,null,null,0]
[{"$f":"'Labor Summary (Office)'!A296","v":0},{"$f":"'Labor Summary (Office)'!B296","v":0},null,null,null,null,null,null,0,null,null,null,0,null,null,null,null,null,0]
[{"$f":"'Labor Summary (Office)'!A297","v":0},{"$f":"'Labor Summary (Office)'!B297","v":0},null,null,null,null,null,null,0,null,null,null,0,null,null,null,null,null,0]
[{"$f":"'Labor Summary (Office)'!A298","v":0},{"$f":"'Labor Summary (Office)'!B298","v":0},null,null,null,null,null,null,0,null,null,null,0,null,null,null,null,null,0]
[{"$f":"'Labor Summary (Office)'!A299","v":0},{"$f":"'Labor Summary (Office)'!B299","v":0},null,null,null,null,null,null,0,null,null,null,0,null,null,null,null,null,0]
[{"$f":"'Labor Summary (Office)'!A300","v":0},{"$f":"'Labor Summary (Office)'!B300","v":0},null,null,null,null,null,null,0,null,null,null,0,null,null,null,null,null,0]
[{"$f":"'Labor Summary (Office)'!A301","v":0},{"$f":"'Labor Summary (Office)'!B301","v":0},null,null,null,null,null,null,0,null,null,null,0,null,null,null,null,null,0]
[{"$f":"'Labor Summary (Office)'!A302","v":0},{"$f":"'Labor Summary (Office)'!B302","v":0},null,null,null,null,null,null,0,null,null,null,0,null,null,null,null,null,0]
[{"$f":"'Labor Summary (Office)'!A303","v":0},{"$f":"'Labor Summary (Office)'!B303","v":0},null,null,null,null,null,null,0,null,null,null,0,null,null,null,null,null,0]
[{"$f":"'Labor Summary (Office)'!A304","v":0},{"$f":"'Labor Summary (Office)'!B304","v":0},null,null,null,null,null,null,0,null,null,null,0,null,null,null,null,null,0]
[{"$f":"'Labor Summary (Office)'!A305","v":0},{"$f":"'Labor Summary (Office)'!B305","v":0},null,null,null,null,null,null,0,null,null,null,0,null,null,null,null,null,0]
[{"$f":"'Labor Summary (Office)'!A306","v":0},{"$f":"'Labor Summary (Office)'!B306","v":0},null,null,null,null,null,null,0,null,null,null,0,null,null,null,null,null,0]
[{"$f":"'Labor Summary (Office)'!A307","v":0},{"$f":"'Labor Summary (Office)'!B307","v":0},null,null,null,null,null,null,0,null,null,null,0,null,null,null,null,null,0]
[{"$f":"'Labor Summary (Office)'!A308","v":0},{"$f":"'Labor Summary (Office)'!B308","v":0},null,null,null,null,null,null,0,null,null,null,0,null,null,null,null,null,0]
[{"$f":"'Labor Summary (Office)'!A309","v":0},{"$f":"'Labor Summary (Office)'!B309","v":0},null,null,null,null,null,null,0,null,null,null,0,null,null,null,null,null,0]
[{"$f":"'Labor Summary (Office)'!A310","v":0},{"$f":"'Labor Summary (Office)'!B310","v":0},null,null,null,null,null,null,0,null,null,null,0,null,null,null,null,null,0]
[{"$f":"'Labor Summary (Office)'!A311","v":0},{"$f":"'Labor Summary (Office)'!B311","v":0},null,null,null,null,null,null,0,null,null,null,0,null,null,null,null,null,0]
[{"$f":"'Labor Summary (Office)'!A312","v":0},{"$f":"'Labor Summary (Office)'!B312","v":0},null,null,null,null,null,null,0,null,null,null,0,null,null,null,null,null,0]
[{"$f":"'Labor Summary (Office)'!A313","v":0},{"$f":"'Labor Summary (Office)'!B313","v":0},null,null,null,null,null,null,0,null,null,null,0,null,null,null,null,null,0]
[{"$f":"'Labor Summary (Office)'!A314","v":0},{"$f":"'Labor Summary (Office)'!B314","v":0},null,null,null,null,null,null,0,null,null,null,0,null,null,null,null,null,0]
[{"$f":"'Labor Summary (Office)'!A315","v":0},{"$f":"'Labor Summary (Office)'!B315","v":0},null,null,null,null,null,null,0,null,null,null,0,null,null,null,null,null,0]
[{"$f":"'Labor Summary (Office)'!A316","v":0},{"$f":"'Labor Summary (Office)'!B316","v":0},null,null,null,null,null,null,0,null,null,null,0,null,null,null,null,null,0]
[{"$f":"'Labor Summary (Office)'!A317","v":0},{"$f":"'Labor Summary (Office)'!B317","v":0},null,null,null,null,null,null,0,null,null,null,0,null,null,null,null,null,0]
[{"$f":"'Labor Summary (Office)'!A318","v":0},{"$f":"'Labor Summary (Office)'!B318","v":0},null,null,null,null,null,null,0,null,null,null,0,null,null,null,null,null,0]
[{"$f":"'Labor Summary (Office)'!A319","v":0},{"$f":"'Labor Summary (Office)'!B319","v":0},null,null,null,null,null,null,0,null,null,null,0,null,null,null,null,null,0]
[{"$f":"'Labor Summary (Office)'!A320","v":0},{"$f":"'Labor Summary (Office)'!B320","v":0},null,null,null,null,null,null,0,null,null,null,0,null,null,null,null,null,0]
[{"$f":"'Labor Summary (Office)'!A321","v":0},{"$f":"'Labor Summary (Office)'!B321","v":0},{"$f":"IF(A323=0,\"\",A323)","v":""},null,null,null,null,null,null,null,null,null,null,null,null,null,"Subtotal Line 10",null,{"$f":"ROUND(SUM(S293:S322),2)","v":0}]
[{"$f":"'Labor Summary (Office)'!A322","v":0},{"$f":"'Labor Summary (Office)'!B322","v":0},null,null,null,null,null,null,0,null,null,null,{"$f":"ROUND(L324*$M$9,2)","v":0},null,null,null,null,null,{"$f":"ROUND(F324+I324+K324+M324+N324+O324+P324+Q324+R324,2)","v":0}]
[{"$f":"'Labor Summary (Office)'!A323","v":0},{"$f":"'Labor Summary (Office)'!B323","v":0},null,null,null,null,null,null,0,null,null,null,{"$f":"ROUND(L325*$M$9,2)","v":0},null,null,null,null,null,{"$f":"ROUND(F325+I325+K325+M325+N325+O325+P325+Q325+R325,2)","v":0}]
[{"$f":"'Labor Summary (Office)'!A324","v":0},{"$f":"'Labor Summary (Office)'!B324","v":0},null,null,null,null,null,null,0,null,null,null,0,null,null,null,null,null,0]
[{"$f":"'Labor Summary (Office)'!A325","v":0},{"$f":"'Labor Summary (Office)'!B325","v":0},null,null,null,null,null,null,0,null,null,null,0,null,null,null,null,null,0]
[{"$f":"'Labor Summary (Office)'!A326","v":0},{"$f":"'Labor Summary (Office)'!B326","v":0},null,null,null,null,null,null,0,null,null,null,0,null,null,null,null,null,0]
[{"$f":"'Labor Summary (Office)'!A327","v":0},{"$f":"'Labor Summary (Office)'!B327","v":0},null,null,null,null,null,null,0,null,null,null,0,null,null,null,null,null,0]
[{"$f":"'Labor Summary (Office)'!A328","v":0},{"$f":"'Labor Summary (Office)'!B328","v":0},null,null,null,null,null,null,0,null,null,null,0,null,null,null,null,null,0]
[{"$f":"'Labor Summary (Office)'!A329","v":0},{"$f":"'Labor Summary (Office)'!B329","v":0},null,null,null,null,null,null,0,null,null,null,0,null,null,null,null,null,0]
[{"$f":"'Labor Summary (Office)'!A330","v":0},{"$f":"'Labor Summary (Office)'!B330","v":0},null,null,null,null,null,null,0,null,null,null,0,null,null,null,null,null,0]
[{"$f":"'Labor Summary (Office)'!A331","v":0},{"$f":"'Labor Summary (Office)'!B331","v":0},null,null,null,null,null,null,0,null,null,null,0,null,null,null,null,null,0]
[{"$f":"'Labor Summary (Office)'!A332","v":0},{"$f":"'Labor Summary (Office)'!B332","v":0},null,null,null,null,null,null,0,null,null,null,0,null,null,null,null,null,0]
[{"$f":"'Labor Summary (Office)'!A333","v":0},{"$f":"'Labor Summary (Office)'!B333","v":0},null,null,null,null,null,null,{"$f":"H335+G335","v":0},null,null,null,0,null,null,null,null,null,0]
[{"$f":"'Labor Summary (Office)'!A334","v":0},{"$f":"'Labor Summary (Office)'!B334","v":0},null,null,null,null,null,null,0,null,null,null,0,null,null,null,null,null,0]
[{"$f":"'Labor Summary (Office)'!A335","v":0},{"$f":"'Labor Summary (Office)'!B335","v":0},null,null,null,null,null,null,0,null,null,null,0,null,null,null,null,null,0]
[{"$f":"'Labor Summary (Office)'!A336","v":0},{"$f":"'Labor Summary (Office)'!B336","v":0},null,null,null,null,null,null,0,null,null,null,0,null,null,null,null,null,0]
[{"$f":"'Labor Summary (Office)'!A337","v":0},{"$f":"'Labor Summary (Office)'!B337","v":0},null,null,null,null,null,null,0,null,null,null,0,null,null,null,null,null,0]
[{"$f":"'Labor Summary (Office)'!A338","v":0},{"$f":"'Labor Summary (Office)'!B338","v":0},null,null,null,null,null,null,0,null,null,null,0,null,null,null,null,null,0]
[{"$f":"'Labor Summary (Office)'!A339","v":0},{"$f":"'Labor Summary (Office)'!B339","v":0},null,null,null,null,null,null,0,null,null,null,0,null,null,null,null,null,0]
[{"$f":"'Labor Summary (Office)'!A340","v":0},{"$f":"'Labor Summary (Office)'!B340","v":0},null,null,null,null,null,null,0,null,null,null,0,null,null,null,null,null,0]
[{"$f":"'Labor Summary (Office)'!A341","v":0},{"$f":"'Labor Summary (Office)'!B341","v":0},null,null,null,null,null,null,0,null,null,null,0,null,null,null,null,null,0]
[{"$f":"'Labor Summary (Office)'!A342","v":0},{"$f":"'Labor Summary (Office)'!B342","v":0},null,null,null,null,null,null,0,null,null,null,0,null,null,null,null,null,0]
[{"$f":"'Labor Summary (Office)'!A343","v":0},{"$f":"'Labor Summary (Office)'!B343","v":0},null,null,null,null,null,null,0,null,null,null,0,null,null,null,null,null,0]
[{"$f":"'Labor Summary (Office)'!A344","v":0},{"$f":"'Labor Summary (Office)'!B344","v":0},null,null,null,null,null,null,0,null,null,null,0,null,null,null,null,null,0]
[{"$f":"'Labor Summary (Office)'!A345","v":0},{"$f":"'Labor Summary (Office)'!B345","v":0},null,null,null,null,null,null,0,null,null,null,0,null,null,null,null,null,0]
[{"$f":"'Labor Summary (Office)'!A346","v":0},{"$f":"'Labor Summary (Office)'!B346","v":0},null,null,null,null,null,null,0,null,null,null,0,null,null,null,null,null,0]
[{"$f":"'Labor Summary (Office)'!A347","v":0},{"$f":"'Labor Summary (Office)'!B347","v":0},null,null,null,null,null,null,0,null,null,null,0,null,null,null,null,null,0]
[{"$f":"'Labor Summary (Office)'!A348","v":0},{"$f":"'Labor Summary (Office)'!B348","v":0},null,null,null,null,null,null,0,null,null,null,0,null,null,null,null,null,0]
[{"$f":"'Labor Summary (Office)'!A349","v":0},{"$f":"'Labor Summary (Office)'!B349","v":0},null,null,null,null,null,null,0,null,null,null,0,null,null,null,null,null,0]
[{"$f":"'Labor Summary (Office)'!A350","v":0},{"$f":"'Labor Summary (Office)'!B350","v":0},null,null,null,null,null,null,0,null,null,null,0,null,null,null,null,null,0]
[{"$f":"'Labor Summary (Office)'!A351","v":0},{"$f":"'Labor Summary (Office)'!B351","v":0},null,null,null,null,null,null,0,null,null,null,0,null,null,null,null,null,0]
[{"$f":"'Labor Summary (Office)'!A352","v":0},{"$f":"'Labor Summary (Office)'!B352","v":0},{"$f":"IF(A354=0,\"\",A354)","v":""},null,null,null,null,null,null,null,null,null,null,null,null,null,"Subtotal Line 11",null,{"$f":"ROUND(SUM(S324:S353),2)","v":0}]
[{"$f":"'Labor Summary (Office)'!A353","v":0},{"$f":"'Labor Summary (Office)'!B353","v":0},null,null,null,null,null,null,0,null,null,null,{"$f":"ROUND(L355*$M$9,2)","v":0},null,null,null,null,null,{"$f":"ROUND(F355+I355+K355+M355+N355+O355+P355+Q355+R355,2)","v":0}]
[{"$f":"'Labor Summary (Office)'!A354","v":0},{"$f":"'Labor Summary (Office)'!B354","v":0},null,null,null,null,null,null,0,null,null,null,{"$f":"ROUND(L356*$M$9,2)","v":0},null,null,null,null,null,{"$f":"ROUND(F356+I356+K356+M356+N356+O356+P356+Q356+R356,2)","v":0}]
[{"$f":"'Labor Summary (Office)'!A355","v":0},{"$f":"'Labor Summary (Office)'!B355","v":0},null,null,null,null,null,null,0,null,null,null,0,null,null,null,null,null,0]
[{"$f":"'Labor Summary (Office)'!A356","v":0},{"$f":"'Labor Summary (Office)'!B356","v":0},null,null,null,null,null,null,0,null,null,null,0,null,null,null,null,null,0]
[{"$f":"'Labor Summary (Office)'!A357","v":0},{"$f":"'Labor Summary (Office)'!B357","v":0},null,null,null,null,null,null,0,null,null,null,0,null,null,null,null,null,0]
[{"$f":"'Labor Summary (Office)'!A358","v":0},{"$f":"'Labor Summary (Office)'!B358","v":0},null,null,null,null,null,null,0,null,null,null,0,null,null,null,null,null,0]
[{"$f":"'Labor Summary (Office)'!A359","v":0},{"$f":"'Labor Summary (Office)'!B359","v":0},null,null,null,null,null,null,0,null,null,null,0,null,null,null,null,null,0]
[{"$f":"'Labor Summary (Office)'!A360","v":0},{"$f":"'Labor Summary (Office)'!B360","v":0},null,null,null,null,null,null,0,null,null,null,0,null,null,null,null,null,0]
[{"$f":"'Labor Summary (Office)'!A361","v":0},{"$f":"'Labor Summary (Office)'!B361","v":0},null,null,null,null,null,null,0,null,null,null,0,null,null,null,null,null,0]
[{"$f":"'Labor Summary (Office)'!A362","v":0},{"$f":"'Labor Summary (Office)'!B362","v":0},null,null,null,null,null,null,0,null,null,null,0,null,null,null,null,null,0]
[{"$f":"'Labor Summary (Office)'!A363","v":0},{"$f":"'Labor Summary (Office)'!B363","v":0},null,null,null,null,null,null,0,null,null,null,0,null,null,null,null,null,0]
[{"$f":"'Labor Summary (Office)'!A364","v":0},{"$f":"'Labor Summary (Office)'!B364","v":0},null,null,null,null,null,null,0,null,null,null,0,null,null,null,null,null,0]
[{"$f":"'Labor Summary (Office)'!A365","v":0},{"$f":"'Labor Summary (Office)'!B365","v":0},null,null,null,null,null,null,0,null,null,null,0,null,null,null,null,null,0]
[{"$f":"'Labor Summary (Office)'!A366","v":0},{"$f":"'Labor Summary (Office)'!B366","v":0},null,null,null,null,null,null,0,null,null,null,0,null,null,null,null,null,0]
[{"$f":"'Labor Summary (Office)'!A367","v":0},{"$f":"'Labor Summary (Office)'!B367","v":0},null,null,null,null,null,null,0,null,null,null,0,null,null,null,null,null,0]
[{"$f":"'Labor Summary (Office)'!A368","v":0},{"$f":"'Labor Summary (Office)'!B368","v":0},null,null,null,null,null,null,0,null,null,null,0,null,null,null,null,null,0]
[{"$f":"'Labor Summary (Office)'!A369","v":0},{"$f":"'Labor Summary (Office)'!B369","v":0},null,null,null,null,null,null,0,null,null,null,0,null,null,null,null,null,0]
[{"$f":"'Labor Summary (Office)'!A370","v":0},{"$f":"'Labor Summary (Office)'!B370","v":0},null,null,null,null,null,null,0,null,null,null,0,null,null,null,null,null,0]
[{"$f":"'Labor Summary (Office)'!A371","v":0},{"$f":"'Labor Summary (Office)'!B371","v":0},null,null,null,null,null,null,0,null,null,null,0,null,null,null,null,null,0]
[{"$f":"'Labor Summary (Office)'!A372","v":0},{"$f":"'Labor Summary (Office)'!B372","v":0},null,null,null,null,null,null,0,null,null,null,0,null,null,null,null,null,0]
[{"$f":"'Labor Summary (Office)'!A373","v":0},{"$f":"'Labor Summary (Office)'!B373","v":0},null,null,null,null,null,null,0,null,null,null,0,null,null,null,null,null,0]
[{"$f":"'Labor Summary (Office)'!A374","v":0},{"$f":"'Labor Summary (Office)'!B374","v":0},null,null,null,null,null,null,0,null,null,null,0,null,null,null,null,null,0]
[{"$f":"'Labor Summary (Office)'!A375","v":0},{"$f":"'Labor Summary (Office)'!B375","v":0},null,null,null,null,null,null,0,null,null,null,0,null,null,null,null,null,0]
[{"$f":"'Labor Summary (Office)'!A376","v":0},{"$f":"'Labor Summary (Office)'!B376","v":0},null,null,null,null,null,null,0,null,null,null,0,null,null,null,null,null,0]
[{"$f":"'Labor Summary (Office)'!A377","v":0},{"$f":"'Labor Summary (Office)'!B377","v":0},null,null,null,null,null,null,0,null,null,null,0,null,null,null,null,null,0]
[{"$f":"'Labor Summary (Office)'!A378","v":0},{"$f":"'Labor Summary (Office)'!B378","v":0},null,null,null,null,null,null,0,null,null,null,0,null,null,null,null,null,0]
[{"$f":"'Labor Summary (Office)'!A379","v":0},{"$f":"'Labor Summary (Office)'!B379","v":0},null,null,null,null,null,null,0,null,null,null,0,null,null,null,null,null,0]
[{"$f":"'Labor Summary (Office)'!A380","v":0},{"$f":"'Labor Summary (Office)'!B380","v":0},null,null,null,null,null,null,0,null,null,null,0,null,null,null,null,null,0]
[{"$f":"'Labor Summary (Office)'!A381","v":0},{"$f":"'Labor Summary (Office)'!B381","v":0},null,null,null,null,null,null,0,null,null,null,0,null,null,null,null,null,0]
[{"$f":"'Labor Summary (Office)'!A382","v":0},{"$f":"'Labor Summary (Office)'!B382","v":0},null,null,null,null,null,null,0,null,null,null,0,null,null,null,null,null,0]
[{"$f":"'Labor Summary (Office)'!A383","v":0},{"$f":"'Labor Summary (Office)'!B383","v":0},{"$f":"IF(A385=0,\"\",A385)","v":""},null,null,null,null,null,null,null,null,null,null,null,null,null,"Subtotal Line 12",null,{"$f":"ROUND(SUM(S355:S384),2)","v":0}]
[{"$f":"'Labor Summary (Office)'!A384","v":0},{"$f":"'Labor Summary (Office)'!B384","v":0},null,null,null,null,null,null,0,null,null,null,{"$f":"ROUND(L386*$M$9,2)","v":0},null,null,null,null,null,{"$f":"ROUND(F386+I386+K386+M386+N386+O386+P386+Q386+R386,2)","v":0}]
[{"$f":"'Labor Summary (Office)'!A385","v":0},{"$f":"'Labor Summary (Office)'!B385","v":0},null,null,null,null,null,null,0,null,null,null,{"$f":"ROUND(L387*$M$9,2)","v":0},null,null,null,null,null,{"$f":"ROUND(F387+I387+K387+M387+N387+O387+P387+Q387+R387,2)","v":0}]
[{"$f":"'Labor Summary (Office)'!A386","v":0},{"$f":"'Labor Summary (Office)'!B386","v":0},null,null,null,null,null,null,0,null,null,null,0,null,null,null,null,null,0]
[{"$f":"'Labor Summary (Office)'!A387","v":0},{"$f":"'Labor Summary (Office)'!B387","v":0},null,null,null,null,null,null,0,null,null,null,0,null,null,null,null,null,0]
[{"$f":"'Labor Summary (Office)'!A388","v":0},{"$f":"'Labor Summary (Office)'!B388","v":0},null,null,null,null,null,null,0,null,null,null,0,null,null,null,null,null,0]
[{"$f":"'Labor Summary (Office)'!A389","v":0},{"$f":"'Labor Summary (Office)'!B389","v":0},null,null,null,null,null,null,0,null,null,null,0,null,null,null,null,null,0]
[{"$f":"'Labor Summary (Office)'!A390","v":0},{"$f":"'Labor Summary (Office)'!B390","v":0},null,null,null,null,null,null,0,null,null,null,0,null,null,null,null,null,0]
[{"$f":"'Labor Summary (Office)'!A391","v":0},{"$f":"'Labor Summary (Office)'!B391","v":0},null,null,null,null,null,null,0,null,null,null,0,null,null,null,null,null,0]
[{"$f":"'Labor Summary (Office)'!A392","v":0},{"$f":"'Labor Summary (Office)'!B392","v":0},null,null,null,null,null,null,0,null,null,null,0,null,null,null,null,null,0]
[{"$f":"'Labor Summary (Office)'!A393","v":0},{"$f":"'Labor Summary (Office)'!B393","v":0},null,null,null,null,null,null,0,null,null,null,0,null,null,null,null,null,0]
[{"$f":"'Labor Summary (Office)'!A394","v":0},{"$f":"'Labor Summary (Office)'!B394","v":0},null,null,null,null,null,null,0,null,null,null,0,null,null,null,null,null,0]
[{"$f":"'Labor Summary (Office)'!A395","v":0},{"$f":"'Labor Summary (Office)'!B395","v":0},null,null,null,null,null,null,0,null,null,null,0,null,null,null,null,null,0]
[{"$f":"'Labor Summary (Office)'!A396","v":0},{"$f":"'Labor Summary (Office)'!B396","v":0},null,null,null,null,null,null,0,null,null,null,0,null,null,null,null,null,0]
[{"$f":"'Labor Summary (Office)'!A397","v":0},{"$f":"'Labor Summary (Office)'!B397","v":0},null,null,null,null,null,null,{"$f":"H399+G399","v":0},null,null,null,0,null,null,null,null,null,0]
[{"$f":"'Labor Summary (Office)'!A398","v":0},{"$f":"'Labor Summary (Office)'!B398","v":0},null,null,null,null,null,null,0,null,null,null,0,null,null,null,null,null,0]
[{"$f":"'Labor Summary (Office)'!A399","v":0},{"$f":"'Labor Summary (Office)'!B399","v":0},null,null,null,null,null,null,0,null,null,null,0,null,null,null,null,null,0]
[{"$f":"'Labor Summary (Office)'!A400","v":0},{"$f":"'Labor Summary (Office)'!B400","v":0},null,null,null,null,null,null,0,null,null,null,0,null,null,null,null,null,0]
[{"$f":"'Labor Summary (Office)'!A401","v":0},{"$f":"'Labor Summary (Office)'!B401","v":0},null,null,null,null,null,null,0,null,null,null,0,null,null,null,null,null,0]
[{"$f":"'Labor Summary (Office)'!A402","v":0},{"$f":"'Labor Summary (Office)'!B402","v":0},null,null,null,null,null,null,0,null,null,null,0,null,null,null,null,null,0]
[{"$f":"'Labor Summary (Office)'!A403","v":0},{"$f":"'Labor Summary (Office)'!B403","v":0},null,null,null,null,null,null,0,null,null,null,0,null,null,null,null,null,0]
[{"$f":"'Labor Summary (Office)'!A404","v":0},{"$f":"'Labor Summary (Office)'!B404","v":0},null,null,null,null,null,null,0,null,null,null,0,null,null,null,null,null,0]
[{"$f":"'Labor Summary (Office)'!A405","v":0},{"$f":"'Labor Summary (Office)'!B405","v":0},null,null,null,null,null,null,0,null,null,null,0,null,null,null,null,null,0]
[{"$f":"'Labor Summary (Office)'!A406","v":0},{"$f":"'Labor Summary (Office)'!B406","v":0},null,null,null,null,null,null,0,null,null,null,0,null,null,null,null,null,0]
[{"$f":"'Labor Summary (Office)'!A407","v":0},{"$f":"'Labor Summary (Office)'!B407","v":0},null,null,null,null,null,null,0,null,null,null,0,null,null,null,null,null,0]
[{"$f":"'Labor Summary (Office)'!A408","v":0},{"$f":"'Labor Summary (Office)'!B408","v":0},null,null,null,null,null,null,0,null,null,null,0,null,null,null,null,null,0]
[{"$f":"'Labor Summary (Office)'!A409","v":0},{"$f":"'Labor Summary (Office)'!B409","v":0},null,null,null,null,null,null,0,null,null,null,0,null,null,null,null,null,0]
[{"$f":"'Labor Summary (Office)'!A410","v":0},{"$f":"'Labor Summary (Office)'!B410","v":0},null,null,null,null,null,null,0,null,null,null,0,null,null,null,null,null,0]
[{"$f":"'Labor Summary (Office)'!A411","v":0},{"$f":"'Labor Summary (Office)'!B411","v":0},null,null,null,null,null,null,0,null,null,null,0,null,null,null,null,null,0]
[{"$f":"'Labor Summary (Office)'!A412","v":0},{"$f":"'Labor Summary (Office)'!B412","v":0},null,null,null,null,null,null,0,null,null,null,0,null,null,null,null,null,0]
[{"$f":"'Labor Summary (Office)'!A413","v":0},{"$f":"'Labor Summary (Office)'!B413","v":0},null,null,null,null,null,null,0,null,null,null,0,null,null,null,null,null,0]
[{"$f":"'Labor Summary (Office)'!A414","v":0},{"$f":"'Labor Summary (Office)'!B414","v":0},{"$f":"IF(A416=0,\"\",A416)","v":""},null,null,null,null,null,null,null,null,null,null,null,null,null,"Subtotal Line 13",null,{"$f":"ROUND(SUM(S386:S415),2)","v":0}]
[{"$f":"'Labor Summary (Office)'!A415","v":0},{"$f":"'Labor Summary (Office)'!B415","v":0},null,null,null,null,null,null,0,null,null,null,{"$f":"ROUND(L417*$M$9,2)","v":0},null,null,null,null,null,{"$f":"ROUND(F417+I417+K417+M417+N417+O417+P417+Q417+R417,2)","v":0}]
[{"$f":"'Labor Summary (Office)'!A416","v":0},{"$f":"'Labor Summary (Office)'!B416","v":0},null,null,null,null,null,null,0,null,null,null,{"$f":"ROUND(L418*$M$9,2)","v":0},null,null,null,null,null,{"$f":"ROUND(F418+I418+K418+M418+N418+O418+P418+Q418+R418,2)","v":0}]
[{"$f":"'Labor Summary (Office)'!A417","v":0},{"$f":"'Labor Summary (Office)'!B417","v":0},null,null,null,null,null,null,0,null,null,null,0,null,null,null,null,null,0]
[{"$f":"'Labor Summary (Office)'!A418","v":0},{"$f":"'Labor Summary (Office)'!B418","v":0},null,null,null,null,null,null,0,null,null,null,0,null,null,null,null,null,0]
[{"$f":"'Labor Summary (Office)'!A419","v":0},{"$f":"'Labor Summary (Office)'!B419","v":0},null,null,null,null,null,null,0,null,null,null,0,null,null,null,null,null,0]
[{"$f":"'Labor Summary (Office)'!A420","v":0},{"$f":"'Labor Summary (Office)'!B420","v":0},null,null,null,null,null,null,0,null,null,null,0,null,null,null,null,null,0]
[{"$f":"'Labor Summary (Office)'!A421","v":0},{"$f":"'Labor Summary (Office)'!B421","v":0},null,null,null,null,null,null,0,null,null,null,0,null,null,null,null,null,0]
[{"$f":"'Labor Summary (Office)'!A422","v":0},{"$f":"'Labor Summary (Office)'!B422","v":0},null,null,null,null,null,null,0,null,null,null,0,null,null,null,null,null,0]
[{"$f":"'Labor Summary (Office)'!A423","v":0},{"$f":"'Labor Summary (Office)'!B423","v":0},null,null,null,null,null,null,0,null,null,null,0,null,null,null,null,null,0]
[{"$f":"'Labor Summary (Office)'!A424","v":0},{"$f":"'Labor Summary (Office)'!B424","v":0},null,null,null,null,null,null,0,null,null,null,0,null,null,null,null,null,0]
[{"$f":"'Labor Summary (Office)'!A425","v":0},{"$f":"'Labor Summary (Office)'!B425","v":0},null,null,null,null,null,null,0,null,null,null,0,null,null,null,null,null,0]
[{"$f":"'Labor Summary (Office)'!A426","v":0},{"$f":"'Labor Summary (Office)'!B426","v":0},null,null,null,null,null,null,0,null,null,null,0,null,null,null,null,null,0]
[{"$f":"'Labor Summary (Office)'!A427","v":0},{"$f":"'Labor Summary (Office)'!B427","v":0},null,null,null,null,null,null,0,null,null,null,0,null,null,null,null,null,0]
[{"$f":"'Labor Summary (Office)'!A428","v":0},{"$f":"'Labor Summary (Office)'!B428","v":0},null,null,null,null,null,null,0,null,null,null,0,null,null,null,null,null,0]
[{"$f":"'Labor Summary (Office)'!A429","v":0},{"$f":"'Labor Summary (Office)'!B429","v":0},null,null,null,null,null,null,0,null,null,null,0,null,null,null,null,null,0]
[{"$f":"'Labor Summary (Office)'!A430","v":0},{"$f":"'Labor Summary (Office)'!B430","v":0},null,null,null,null,null,null,0,null,null,null,0,null,null,null,null,null,0]
[{"$f":"'Labor Summary (Office)'!A431","v":0},{"$f":"'Labor Summary (Office)'!B431","v":0},null,null,null,null,null,null,0,null,null,null,0,null,null,null,null,null,0]
[{"$f":"'Labor Summary (Office)'!A432","v":0},{"$f":"'Labor Summary (Office)'!B432","v":0},null,null,null,null,null,null,0,null,null,null,0,null,null,null,null,null,0]
[{"$f":"'Labor Summary (Office)'!A433","v":0},{"$f":"'Labor Summary (Office)'!B433","v":0},null,null,null,null,null,null,0,null,null,null,0,null,null,null,null,null,0]
[{"$f":"'Labor Summary (Office)'!A434","v":0},{"$f":"'Labor Summary (Office)'!B434","v":0},null,null,null,null,null,null,0,null,null,null,0,null,null,null,null,null,0]
[{"$f":"'Labor Summary (Office)'!A435","v":0},{"$f":"'Labor Summary (Office)'!B435","v":0},null,null,null,null,null,null,0,null,null,null,0,null,null,null,null,null,0]
[{"$f":"'Labor Summary (Office)'!A436","v":0},{"$f":"'Labor Summary (Office)'!B436","v":0},null,null,null,null,null,null,0,null,null,null,0,null,null,null,null,null,0]
[{"$f":"'Labor Summary (Office)'!A437","v":0},{"$f":"'Labor Summary (Office)'!B437","v":0},null,null,null,null,null,null,0,null,null,null,0,null,null,null,null,null,0]
[{"$f":"'Labor Summary (Office)'!A438","v":0},{"$f":"'Labor Summary (Office)'!B438","v":0},null,null,null,null,null,null,0,null,null,null,0,null,null,null,null,null,0]
[{"$f":"'Labor Summary (Office)'!A439","v":0},{"$f":"'Labor Summary (Office)'!B439","v":0},null,null,null,null,null,null,0,null,null,null,0,null,null,null,null,null,0]
[{"$f":"'Labor Summary (Office)'!A440","v":0},{"$f":"'Labor Summary (Office)'!B440","v":0},null,null,null,null,null,null,0,null,null,null,0,null,null,null,null,null,0]
[{"$f":"'Labor Summary (Office)'!A441","v":0},{"$f":"'Labor Summary (Office)'!B441","v":0},null,null,null,null,null,null,0,null,null,null,0,null,null,null,null,null,0]
[{"$f":"'Labor Summary (Office)'!A442","v":0},{"$f":"'Labor Summary (Office)'!B442","v":0},null,null,null,null,null,null,0,null,null,null,0,null,null,null,null,null,0]
[{"$f":"'Labor Summary (Office)'!A443","v":0},{"$f":"'Labor Summary (Office)'!B443","v":0},null,null,null,null,null,null,0,null,null,null,0,null,null,null,null,null,0]
[{"$f":"'Labor Summary (Office)'!A444","v":0},{"$f":"'Labor Summary (Office)'!B444","v":0},null,null,null,null,null,null,0,null,null,null,0,null,null,null,null,null,0]
[{"$f":"'Labor Summary (Office)'!A445","v":0},{"$f":"'Labor Summary (Office)'!B445","v":0},{"$f":"IF(A447=0,\"\",A447)","v":""},null,null,null,null,null,null,null,null,null,null,null,null,null,"Subtotal Line 14",null,{"$f":"ROUND(SUM(S417:S446),2)","v":0}]
[{"$f":"'Labor Summary (Office)'!A446","v":0},{"$f":"'Labor Summary (Office)'!B446","v":0},null,null,null,null,null,null,0,null,null,null,{"$f":"ROUND(L448*$M$9,2)","v":0},null,null,null,null,null,{"$f":"ROUND(F448+I448+K448+M448+N448+O448+P448+Q448+R448,2)","v":0}]
[{"$f":"'Labor Summary (Office)'!A447","v":0},{"$f":"'Labor Summary (Office)'!B447","v":0},null,null,null,null,null,null,0,null,null,null,{"$f":"ROUND(L449*$M$9,2)","v":0},null,null,null,null,null,{"$f":"ROUND(F449+I449+K449+M449+N449+O449+P449+Q449+R449,2)","v":0}]
[{"$f":"'Labor Summary (Office)'!A448","v":0},{"$f":"'Labor Summary (Office)'!B448","v":0},null,null,null,null,null,null,0,null,null,null,0,null,null,null,null,null,0]
[{"$f":"'Labor Summary (Office)'!A449","v":0},{"$f":"'Labor Summary (Office)'!B449","v":0},null,null,null,null,null,null,0,null,null,null,0,null,null,null,null,null,0]
[{"$f":"'Labor Summary (Office)'!A450","v":0},{"$f":"'Labor Summary (Office)'!B450","v":0},null,null,null,null,null,null,0,null,null,null,0,null,null,null,null,null,0]
[{"$f":"'Labor Summary (Office)'!A451","v":0},{"$f":"'Labor Summary (Office)'!B451","v":0},null,null,null,null,null,null,0,null,null,null,0,null,null,null,null,null,0]
[{"$f":"'Labor Summary (Office)'!A452","v":0},{"$f":"'Labor Summary (Office)'!B452","v":0},null,null,null,null,null,null,0,null,null,null,0,null,null,null,null,null,0]
[{"$f":"'Labor Summary (Office)'!A453","v":0},{"$f":"'Labor Summary (Office)'!B453","v":0},null,null,null,null,null,null,0,null,null,null,0,null,null,null,null,null,0]
[{"$f":"'Labor Summary (Office)'!A454","v":0},{"$f":"'Labor Summary (Office)'!B454","v":0},null,null,null,null,null,null,0,null,null,null,0,null,null,null,null,null,0]
[{"$f":"'Labor Summary (Office)'!A455","v":0},{"$f":"'Labor Summary (Office)'!B455","v":0},null,null,null,null,null,null,0,null,null,null,0,null,null,null,null,null,0]
[{"$f":"'Labor Summary (Office)'!A456","v":0},{"$f":"'Labor Summary (Office)'!B456","v":0},null,null,null,null,null,null,0,null,null,null,0,null,null,null,null,null,0]
[{"$f":"'Labor Summary (Office)'!A457","v":0},{"$f":"'Labor Summary (Office)'!B457","v":0},null,null,null,null,null,null,0,null,null,null,0,null,null,null,null,null,0]
[{"$f":"'Labor Summary (Office)'!A458","v":0},{"$f":"'Labor Summary (Office)'!B458","v":0},null,null,null,null,null,null,0,null,null,null,0,null,null,null,null,null,0]
[{"$f":"'Labor Summary (Office)'!A459","v":0},{"$f":"'Labor Summary (Office)'!B459","v":0},null,null,null,null,null,null,0,null,null,null,0,null,null,null,null,null,0]
[{"$f":"'Labor Summary (Office)'!A460","v":0},{"$f":"'Labor Summary (Office)'!B460","v":0},null,null,null,null,null,null,0,null,null,null,0,null,null,null,null,null,0]
[{"$f":"'Labor Summary (Office)'!A461","v":0},{"$f":"'Labor Summary (Office)'!B461","v":0},null,null,null,null,null,null,{"$f":"H463+G463","v":0},null,null,null,0,null,null,null,null,null,0]
[{"$f":"'Labor Summary (Office)'!A462","v":0},{"$f":"'Labor Summary (Office)'!B462","v":0},null,null,null,null,null,null,0,null,null,null,0,null,null,null,null,null,0]
[{"$f":"'Labor Summary (Office)'!A463","v":0},{"$f":"'Labor Summary (Office)'!B463","v":0},null,null,null,null,null,null,0,null,null,null,0,null,null,null,null,null,0]
[{"$f":"'Labor Summary (Office)'!A464","v":0},{"$f":"'Labor Summary (Office)'!B464","v":0},null,null,null,null,null,null,0,null,null,null,0,null,null,null,null,null,0]
[{"$f":"'Labor Summary (Office)'!A465","v":0},{"$f":"'Labor Summary (Office)'!B465","v":0},null,null,null,null,null,null,0,null,null,null,0,null,null,null,null,null,0]
[{"$f":"'Labor Summary (Office)'!A466","v":0},{"$f":"'Labor Summary (Office)'!B466","v":0},null,null,null,null,null,null,0,null,null,null,0,null,null,null,null,null,0]
[{"$f":"'Labor Summary (Office)'!A467","v":0},{"$f":"'Labor Summary (Office)'!B467","v":0},null,null,null,null,null,null,0,null,null,null,0,null,null,null,null,null,0]
[{"$f":"'Labor Summary (Office)'!A468","v":0},{"$f":"'Labor Summary (Office)'!B468","v":0},null,null,null,null,null,null,0,null,null,null,0,null,null,null,null,null,0]
[{"$f":"'Labor Summary (Office)'!A469","v":0},{"$f":"'Labor Summary (Office)'!B469","v":0},null,null,null,null,null,null,0,null,null,null,0,null,null,null,null,null,0]
[{"$f":"'Labor Summary (Office)'!A470","v":0},{"$f":"'Labor Summary (Office)'!B470","v":0},null,null,null,null,null,null,0,null,null,null,0,null,null,null,null,null,0]
[{"$f":"'Labor Summary (Office)'!A471","v":0},{"$f":"'Labor Summary (Office)'!B471","v":0},null,null,null,null,null,null,0,null,null,null,0,null,null,null,null,null,0]
[{"$f":"'Labor Summary (Office)'!A472","v":0},{"$f":"'Labor Summary (Office)'!B472","v":0},null,null,null,null,null,null,0,null,null,null,0,null,null,null,null,null,0]
[{"$f":"'Labor Summary (Office)'!A473","v":0},{"$f":"'Labor Summary (Office)'!B473","v":0},null,null,null,null,null,null,0,null,null,null,0,null,null,null,null,null,0]
[{"$f":"'Labor Summary (Office)'!A474","v":0},{"$f":"'Labor Summary (Office)'!B474","v":0},null,null,null,null,null,null,0,null,null,null,0,null,null,null,null,null,0]
[{"$f":"'Labor Summary (Office)'!A475","v":0},{"$f":"'Labor Summary (Office)'!B475","v":0},null,null,null,null,null,null,0,null,null,null,0,null,null,null,null,null,0]
[{"$f":"'Labor Summary (Office)'!A476","v":0},{"$f":"'Labor Summary (Office)'!B476","v":0},{"$f":"IF(A478=0,\"\",A478)","v":""},null,null,null,null,null,null,null,null,null,null,null,null,null,"Subtotal Line 15",null,{"$f":"ROUND(SUM(S448:S477),2)","v":0}]
[{"$f":"'Labor Summary (Office)'!A477","v":0},{"$f":"'Labor Summary (Office)'!B477","v":0},null,null,null,null,null,null,0,null,null,null,{"$f":"ROUND(L479*$M$9,2)","v":0},null,null,null,null,null,{"$f":"ROUND(F479+I479+K479+M479+N479+O479+P479+Q479+R479,2)","v":0}]
[{"$f":"'Labor Summary (Office)'!A478","v":0},{"$f":"'Labor Summary (Office)'!B478","v":0},null,null,null,null,null,null,0,null,null,null,{"$f":"ROUND(L480*$M$9,2)","v":0},null,null,null,null,null,{"$f":"ROUND(F480+I480+K480+M480+N480+O480+P480+Q480+R480,2)","v":0}]
[{"$f":"'Labor Summary (Office)'!A479","v":0},{"$f":"'Labor Summary (Office)'!B479","v":0},null,null,null,null,null,null,0,null,null,null,0,null,null,null,null,null,0]
[{"$f":"'Labor Summary (Office)'!A480","v":0},{"$f":"'Labor Summary (Office)'!B480","v":0},null,null,null,null,null,null,0,null,null,null,0,null,null,null,null,null,0]
[{"$f":"'Labor Summary (Office)'!A481","v":0},{"$f":"'Labor Summary (Office)'!B481","v":0},null,null,null,null,null,null,0,null,null,null,0,null,null,null,null,null,0]
[{"$f":"'Labor Summary (Office)'!A482","v":0},{"$f":"'Labor Summary (Office)'!B482","v":0},null,null,null,null,null,null,0,null,null,null,0,null,null,null,null,null,0]
[{"$f":"'Labor Summary (Office)'!A483","v":0},{"$f":"'Labor Summary (Office)'!B483","v":0},null,null,null,null,null,null,0,null,null,null,0,null,null,null,null,null,0]
[{"$f":"'Labor Summary (Office)'!A484","v":0},{"$f":"'Labor Summary (Office)'!B484","v":0},null,null,null,null,null,null,0,null,null,null,0,null,null,null,null,null,0]
[{"$f":"'Labor Summary (Office)'!A485","v":0},{"$f":"'Labor Summary (Office)'!B485","v":0},null,null,null,null,null,null,0,null,null,null,0,null,null,null,null,null,0]
[{"$f":"'Labor Summary (Office)'!A486","v":0},{"$f":"'Labor Summary (Office)'!B486","v":0},null,null,null,null,null,null,0,null,null,null,0,null,null,null,null,null,0]
[{"$f":"'Labor Summary (Office)'!A487","v":0},{"$f":"'Labor Summary (Office)'!B487","v":0},null,null,null,null,null,null,0,null,null,null,0,null,null,null,null,null,0]
[{"$f":"'Labor Summary (Office)'!A488","v":0},{"$f":"'Labor Summary (Office)'!B488","v":0},null,null,null,null,null,null,0,null,null,null,0,null,null,null,null,null,0]
[{"$f":"'Labor Summary (Office)'!A489","v":0},{"$f":"'Labor Summary (Office)'!B489","v":0},null,null,null,null,null,null,0,null,null,null,0,null,null,null,null,null,0]
[{"$f":"'Labor Summary (Office)'!A490","v":0},{"$f":"'Labor Summary (Office)'!B490","v":0},null,null,null,null,null,null,0,null,null,null,0,null,null,null,null,null,0]
[{"$f":"'Labor Summary (Office)'!A491","v":0},{"$f":"'Labor Summary (Office)'!B491","v":0},null,null,null,null,null,null,0,null,null,null,0,null,null,null,null,null,0]
[{"$f":"'Labor Summary (Office)'!A492","v":0},{"$f":"'Labor Summary (Office)'!B492","v":0},null,null,null,null,null,null,0,null,null,null,0,null,null,null,null,null,0]
[{"$f":"'Labor Summary (Office)'!A493","v":0},{"$f":"'Labor Summary (Office)'!B493","v":0},null,null,null,null,null,null,0,null,null,null,0,null,null,null,null,null,0]
[{"$f":"'Labor Summary (Office)'!A494","v":0},{"$f":"'Labor Summary (Office)'!B494","v":0},null,null,null,null,null,null,0,null,null,null,0,null,null,null,null,null,0]
[{"$f":"'Labor Summary (Office)'!A495","v":0},{"$f":"'Labor Summary (Office)'!B495","v":0},null,null,null,null,null,null,0,null,null,null,0,null,null,null,null,null,0]
[{"$f":"'Labor Summary (Office)'!A496","v":0},{"$f":"'Labor Summary (Office)'!B496","v":0},null,null,null,null,null,null,0,null,null,null,0,null,null,null,null,null,0]
[{"$f":"'Labor Summary (Office)'!A497","v":0},{"$f":"'Labor Summary (Office)'!B497","v":0},null,null,null,null,null,null,0,null,null,null,0,null,null,null,null,null,0]
[{"$f":"'Labor Summary (Office)'!A498","v":0},{"$f":"'Labor Summary (Office)'!B498","v":0},null,null,null,null,null,null,0,null,null,null,0,null,null,null,null,null,0]
[{"$f":"'Labor Summary (Office)'!A499","v":0},{"$f":"'Labor Summary (Office)'!B499","v":0},null,null,null,null,null,null,0,null,null,null,0,null,null,null,null,null,0]
[{"$f":"'Labor Summary (Office)'!A500","v":0},{"$f":"'Labor Summary (Office)'!B500","v":0},null,null,null,null,null,null,0,null,null,null,0,null,null,null,null,null,0]
[{"$f":"'Labor Summary (Office)'!A501","v":0},{"$f":"'Labor Summary (Office)'!B501","v":0},null,null,null,null,null,null,0,null,null,null,0,null,null,null,null,null,0]
[{"$f":"'Labor Summary (Office)'!A502","v":0},{"$f":"'Labor Summary (Office)'!B502","v":0},null,null,null,null,null,null,0,null,null,null,0,null,null,null,null,null,0]
[{"$f":"'Labor Summary (Office)'!A503","v":0},{"$f":"'Labor Summary (Office)'!B503","v":0},null,null,null,null,null,null,0,null,null,null,0,null,null,null,null,null,0]
[{"$f":"'Labor Summary (Office)'!A504","v":0},{"$f":"'Labor Summary (Office)'!B504","v":0},null,null,null,null,null,null,0,null,null,null,0,null,null,null,null,null,0]
[{"$f":"'Labor Summary (Office)'!A505","v":0},{"$f":"'Labor Summary (Office)'!B505","v":0},null,null,null,null,null,null,0,null,null,null,0,null,null,null,null,null,0]
[{"$f":"'Labor Summary (Office)'!A506","v":0},{"$f":"'Labor Summary (Office)'!B506","v":0},null,null,null,null,null,null,0,null,null,null,0,null,null,null,null,null,0]
[{"$f":"'Labor Summary (Office)'!A507","v":0},{"$f":"'Labor Summary (Office)'!B507","v":0},{"$f":"IF(A509=0,\"\",A509)","v":""},null,null,null,null,null,null,null,null,null,null,null,null,null,"Subtotal Line 16",null,{"$f":"ROUND(SUM(S479:S508),2)","v":0}]
[{"$f":"'Labor Summary (Office)'!A508","v":0},{"$f":"'Labor Summary (Office)'!B508","v":0},null,null,null,null,null,null,0,null,null,null,{"$f":"ROUND(L510*$M$9,2)","v":0},null,null,null,null,null,{"$f":"ROUND(F510+I510+K510+M510+N510+O510+P510+Q510+R510,2)","v":0}]
[{"$f":"'Labor Summary (Office)'!A509","v":0},{"$f":"'Labor Summary (Office)'!B509","v":0},null,null,null,null,null,null,0,null,null,null,{"$f":"ROUND(L511*$M$9,2)","v":0},null,null,null,null,null,{"$f":"ROUND(F511+I511+K511+M511+N511+O511+P511+Q511+R511,2)","v":0}]
[{"$f":"'Labor Summary (Office)'!A510","v":0},{"$f":"'Labor Summary (Office)'!B510","v":0},null,null,null,null,null,null,0,null,null,null,0,null,null,null,null,null,0]
[{"$f":"'Labor Summary (Office)'!A511","v":0},{"$f":"'Labor Summary (Office)'!B511","v":0},null,null,null,null,null,null,0,null,null,null,0,null,null,null,null,null,0]
[{"$f":"'Labor Summary (Office)'!A512","v":0},{"$f":"'Labor Summary (Office)'!B512","v":0},null,null,null,null,null,null,0,null,null,null,0,null,null,null,null,null,0]
[{"$f":"'Labor Summary (Office)'!A513","v":0},{"$f":"'Labor Summary (Office)'!B513","v":0},null,null,null,null,null,null,0,null,null,null,0,null,null,null,null,null,0]
[{"$f":"'Labor Summary (Office)'!A514","v":0},{"$f":"'Labor Summary (Office)'!B514","v":0},null,null,null,null,null,null,0,null,null,null,0,null,null,null,null,null,0]
[{"$f":"'Labor Summary (Office)'!A515","v":0},{"$f":"'Labor Summary (Office)'!B515","v":0},null,null,null,null,null,null,0,null,null,null,0,null,null,null,null,null,0]
[{"$f":"'Labor Summary (Office)'!A516","v":0},{"$f":"'Labor Summary (Office)'!B516","v":0},null,null,null,null,null,null,0,null,null,null,0,null,null,null,null,null,0]
[{"$f":"'Labor Summary (Office)'!A517","v":0},{"$f":"'Labor Summary (Office)'!B517","v":0},null,null,null,null,null,null,0,null,null,null,0,null,null,null,null,null,0]
[{"$f":"'Labor Summary (Office)'!A518","v":0},{"$f":"'Labor Summary (Office)'!B518","v":0},null,null,null,null,null,null,0,null,null,null,0,null,null,null,null,null,0]
[{"$f":"'Labor Summary (Office)'!A519","v":0},{"$f":"'Labor Summary (Office)'!B519","v":0},null,null,null,null,null,null,0,null,null,null,0,null,null,null,null,null,0]
[{"$f":"'Labor Summary (Office)'!A520","v":0},{"$f":"'Labor Summary (Office)'!B520","v":0},null,null,null,null,null,null,0,null,null,null,0,null,null,null,null,null,0]
[{"$f":"'Labor Summary (Office)'!A521","v":0},{"$f":"'Labor Summary (Office)'!B521","v":0},null,null,null,null,null,null,0,null,null,null,0,null,null,null,null,null,0]
[{"$f":"'Labor Summary (Office)'!A522","v":0},{"$f":"'Labor Summary (Office)'!B522","v":0},null,null,null,null,null,null,0,null,null,null,0,null,null,null,null,null,0]
[{"$f":"'Labor Summary (Office)'!A523","v":0},{"$f":"'Labor Summary (Office)'!B523","v":0},null,null,null,null,null,null,0,null,null,null,0,null,null,null,null,null,0]
[{"$f":"'Labor Summary (Office)'!A524","v":0},{"$f":"'Labor Summary (Office)'!B524","v":0},null,null,null,null,null,null,0,null,null,null,0,null,null,null,null,null,0]
[{"$f":"'Labor Summary (Office)'!A525","v":0},{"$f":"'Labor Summary (Office)'!B525","v":0},null,null,null,null,null,null,{"$f":"H527+G527","v":0},null,null,null,0,null,null,null,null,null,0]
[{"$f":"'Labor Summary (Office)'!A526","v":0},{"$f":"'Labor Summary (Office)'!B526","v":0},null,null,null,null,null,null,0,null,null,null,0,null,null,null,null,null,0]
[{"$f":"'Labor Summary (Office)'!A527","v":0},{"$f":"'Labor Summary (Office)'!B527","v":0},null,null,null,null,null,null,0,null,null,null,0,null,null,null,null,null,0]
[{"$f":"'Labor Summary (Office)'!A528","v":0},{"$f":"'Labor Summary (Office)'!B528","v":0},null,null,null,null,null,null,0,null,null,null,0,null,null,null,null,null,0]
[{"$f":"'Labor Summary (Office)'!A529","v":0},{"$f":"'Labor Summary (Office)'!B529","v":0},null,null,null,null,null,null,0,null,null,null,0,null,null,null,null,null,0]
[{"$f":"'Labor Summary (Office)'!A530","v":0},{"$f":"'Labor Summary (Office)'!B530","v":0},null,null,null,null,null,null,0,null,null,null,0,null,null,null,null,null,0]
[{"$f":"'Labor Summary (Office)'!A531","v":0},{"$f":"'Labor Summary (Office)'!B531","v":0},null,null,null,null,null,null,0,null,null,null,0,null,null,null,null,null,0]
[{"$f":"'Labor Summary (Office)'!A532","v":0},{"$f":"'Labor Summary (Office)'!B532","v":0},null,null,null,null,null,null,0,null,null,null,0,null,null,null,null,null,0]
[{"$f":"'Labor Summary (Office)'!A533","v":0},{"$f":"'Labor Summary (Office)'!B533","v":0},null,null,null,null,null,null,0,null,null,null,0,null,null,null,null,null,0]
[{"$f":"'Labor Summary (Office)'!A534","v":0},{"$f":"'Labor Summary (Office)'!B534","v":0},null,null,null,null,null,null,0,null,null,null,0,null,null,null,null,null,0]
[{"$f":"'Labor Summary (Office)'!A535","v":0},{"$f":"'Labor Summary (Office)'!B535","v":0},null,null,null,null,null,null,0,null,null,null,0,null,null,null,null,null,0]
[{"$f":"'Labor Summary (Office)'!A536","v":0},{"$f":"'Labor Summary (Office)'!B536","v":0},null,null,null,null,null,null,0,null,null,null,0,null,null,null,null,null,0]
[{"$f":"'Labor Summary (Office)'!A537","v":0},{"$f":"'Labor Summary (Office)'!B537","v":0},null,null,null,null,null,null,0,null,null,null,0,null,null,null,null,null,0]
[{"$f":"'Labor Summary (Office)'!A538","v":0},{"$f":"'Labor Summary (Office)'!B538","v":0},{"$f":"IF(A540=0,\"\",A540)","v":""},null,null,null,null,null,null,null,null,null,null,null,null,null,"Subtotal Line 17",null,{"$f":"ROUND(SUM(S510:S539),2)","v":0}]
[{"$f":"'Labor Summary (Office)'!A539","v":0},{"$f":"'Labor Summary (Office)'!B539","v":0},null,null,null,null,null,null,0,null,null,null,{"$f":"ROUND(L541*$M$9,2)","v":0},null,null,null,null,null,{"$f":"ROUND(F541+I541+K541+M541+N541+O541+P541+Q541+R541,2)","v":0}]
[{"$f":"'Labor Summary (Office)'!A540","v":0},{"$f":"'Labor Summary (Office)'!B540","v":0},null,null,null,null,null,null,0,null,null,null,{"$f":"ROUND(L542*$M$9,2)","v":0},null,null,null,null,null,{"$f":"ROUND(F542+I542+K542+M542+N542+O542+P542+Q542+R542,2)","v":0}]
[{"$f":"'Labor Summary (Office)'!A541","v":0},{"$f":"'Labor Summary (Office)'!B541","v":0},null,null,null,null,null,null,0,null,null,null,0,null,null,null,null,null,0]
[{"$f":"'Labor Summary (Office)'!A542","v":0},{"$f":"'Labor Summary (Office)'!B542","v":0},null,null,null,null,null,null,0,null,null,null,0,null,null,null,null,null,0]
[{"$f":"'Labor Summary (Office)'!A543","v":0},{"$f":"'Labor Summary (Office)'!B543","v":0},null,null,null,null,null,null,0,null,null,null,0,null,null,null,null,null,0]
[{"$f":"'Labor Summary (Office)'!A544","v":0},{"$f":"'Labor Summary (Office)'!B544","v":0},null,null,null,null,null,null,0,null,null,null,0,null,null,null,null,null,0]
[{"$f":"'Labor Summary (Office)'!A545","v":0},{"$f":"'Labor Summary (Office)'!B545","v":0},null,null,null,null,null,null,0,null,null,null,0,null,null,null,null,null,0]
[{"$f":"'Labor Summary (Office)'!A546","v":0},{"$f":"'Labor Summary (Office)'!B546","v":0},null,null,null,null,null,null,0,null,null,null,0,null,null,null,null,null,0]
[{"$f":"'Labor Summary (Office)'!A547","v":0},{"$f":"'Labor Summary (Office)'!B547","v":0},null,null,null,null,null,null,0,null,null,null,0,null,null,null,null,null,0]
[{"$f":"'Labor Summary (Office)'!A548","v":0},{"$f":"'Labor Summary (Office)'!B548","v":0},null,null,null,null,null,null,0,null,null,null,0,null,null,null,null,null,0]
[{"$f":"'Labor Summary (Office)'!A549","v":0},{"$f":"'Labor Summary (Office)'!B549","v":0},null,null,null,null,null,null,0,null,null,null,0,null,null,null,null,null,0]
[{"$f":"'Labor Summary (Office)'!A550","v":0},{"$f":"'Labor Summary (Office)'!B550","v":0},null,null,null,null,null,null,0,null,null,null,0,null,null,null,null,null,0]
[{"$f":"'Labor Summary (Office)'!A551","v":0},{"$f":"'Labor Summary (Office)'!B551","v":0},null,null,null,null,null,null,0,null,null,null,0,null,null,null,null,null,0]
[{"$f":"'Labor Summary (Office)'!A552","v":0},{"$f":"'Labor Summary (Office)'!B552","v":0},null,null,null,null,null,null,0,null,null,null,0,null,null,null,null,null,0]
[{"$f":"'Labor Summary (Office)'!A553","v":0},{"$f":"'Labor Summary (Office)'!B553","v":0},null,null,null,null,null,null,0,null,null,null,0,null,null,null,null,null,0]
[{"$f":"'Labor Summary (Office)'!A554","v":0},{"$f":"'Labor Summary (Office)'!B554","v":0},null,null,null,null,null,null,0,null,null,null,0,null,null,null,null,null,0]
[{"$f":"'Labor Summary (Office)'!A555","v":0},{"$f":"'Labor Summary (Office)'!B555","v":0},null,null,null,null,null,null,0,null,null,null,0,null,null,null,null,null,0]
[{"$f":"'Labor Summary (Office)'!A556","v":0},{"$f":"'Labor Summary (Office)'!B556","v":0},null,null,null,null,null,null,0,null,null,null,0,null,null,null,null,null,0]
[{"$f":"'Labor Summary (Office)'!A557","v":0},{"$f":"'Labor Summary (Office)'!B557","v":0},null,null,null,null,null,null,0,null,null,null,0,null,null,null,null,null,0]
[{"$f":"'Labor Summary (Office)'!A558","v":0},{"$f":"'Labor Summary (Office)'!B558","v":0},null,null,null,null,null,null,0,null,null,null,0,null,null,null,null,null,0]
[{"$f":"'Labor Summary (Office)'!A559","v":0},{"$f":"'Labor Summary (Office)'!B559","v":0},null,null,null,null,null,null,0,null,null,null,0,null,null,null,null,null,0]
[{"$f":"'Labor Summary (Office)'!A560","v":0},{"$f":"'Labor Summary (Office)'!B560","v":0},null,null,null,null,null,null,0,null,null,null,0,null,null,null,null,null,0]
[{"$f":"'Labor Summary (Office)'!A561","v":0},{"$f":"'Labor Summary (Office)'!B561","v":0},null,null,null,null,null,null,0,null,null,null,0,null,null,null,null,null,0]
[{"$f":"'Labor Summary (Office)'!A562","v":0},{"$f":"'Labor Summary (Office)'!B562","v":0},null,null,null,null,null,null,0,null,null,null,0,null,null,null,null,null,0]
[{"$f":"'Labor Summary (Office)'!A563","v":0},{"$f":"'Labor Summary (Office)'!B563","v":0},null,null,null,null,null,null,0,null,null,null,0,null,null,null,null,null,0]
[{"$f":"'Labor Summary (Office)'!A564","v":0},{"$f":"'Labor Summary (Office)'!B564","v":0},null,null,null,null,null,null,0,null,null,null,0,null,null,null,null,null,0]
[{"$f":"'Labor Summary (Office)'!A565","v":0},{"$f":"'Labor Summary (Office)'!B565","v":0},null,null,null,null,null,null,0,null,null,null,0,null,null,null,null,null,0]
[{"$f":"'Labor Summary (Office)'!A566","v":0},{"$f":"'Labor Summary (Office)'!B566","v":0},null,null,null,null,null,null,0,null,null,null,0,null,null,null,null,null,0]
[{"$f":"'Labor Summary (Office)'!A567","v":0},{"$f":"'Labor Summary (Office)'!B567","v":0},null,null,null,null,null,null,0,null,null,null,0,null,null,null,null,null,0]
[{"$f":"'Labor Summary (Office)'!A568","v":0},{"$f":"'Labor Summary (Office)'!B568","v":0},null,null,null,null,null,null,0,null,null,null,0,null,null,null,null,null,0]
[{"$f":"'Labor Summary (Office)'!A569","v":0},{"$f":"'Labor Summary (Office)'!B569","v":0},{"$f":"IF(A571=0,\"\",A571)","v":""},null,null,null,null,null,null,null,null,null,null,null,null,null,"Subtotal Line 18",null,{"$f":"ROUND(SUM(S541:S570),2)","v":0}]
[{"$f":"'Labor Summary (Office)'!A570","v":0},{"$f":"'Labor Summary (Office)'!B570","v":0},null,null,null,null,null,null,0,null,null,null,{"$f":"ROUND(L572*$M$9,2)","v":0},null,null,null,null,null,{"$f":"ROUND(F572+I572+K572+M572+N572+O572+P572+Q572+R572,2)","v":0}]
[{"$f":"'Labor Summary (Office)'!A571","v":0},{"$f":"'Labor Summary (Office)'!B571","v":0},null,null,null,null,null,null,0,null,null,null,{"$f":"ROUND(L573*$M$9,2)","v":0},null,null,null,null,null,{"$f":"ROUND(F573+I573+K573+M573+N573+O573+P573+Q573+R573,2)","v":0}]
[{"$f":"'Labor Summary (Office)'!A572","v":0},{"$f":"'Labor Summary (Office)'!B572","v":0},null,null,null,null,null,null,0,null,null,null,0,null,null,null,null,null,0]
[{"$f":"'Labor Summary (Office)'!A573","v":0},{"$f":"'Labor Summary (Office)'!B573","v":0},null,null,null,null,null,null,0,null,null,null,0,null,null,null,null,null,0]
[{"$f":"'Labor Summary (Office)'!A574","v":0},{"$f":"'Labor Summary (Office)'!B574","v":0},null,null,null,null,null,null,0,null,null,null,0,null,null,null,null,null,0]
[{"$f":"'Labor Summary (Office)'!A575","v":0},{"$f":"'Labor Summary (Office)'!B575","v":0},null,null,null,null,null,null,0,null,null,null,0,null,null,null,null,null,0]
[{"$f":"'Labor Summary (Office)'!A576","v":0},{"$f":"'Labor Summary (Office)'!B576","v":0},null,null,null,null,null,null,0,null,null,null,0,null,null,null,null,null,0]
[{"$f":"'Labor Summary (Office)'!A577","v":0},{"$f":"'Labor Summary (Office)'!B577","v":0},null,null,null,null,null,null,0,null,null,null,0,null,null,null,null,null,0]
[{"$f":"'Labor Summary (Office)'!A578","v":0},{"$f":"'Labor Summary (Office)'!B578","v":0},null,null,null,null,null,null,0,null,null,null,0,null,null,null,null,null,0]
[{"$f":"'Labor Summary (Office)'!A579","v":0},{"$f":"'Labor Summary (Office)'!B579","v":0},null,null,null,null,null,null,0,null,null,null,0,null,null,null,null,null,0]
[{"$f":"'Labor Summary (Office)'!A580","v":0},{"$f":"'Labor Summary (Office)'!B580","v":0},null,null,null,null,null,null,0,null,null,null,0,null,null,null,null,null,0]
[{"$f":"'Labor Summary (Office)'!A581","v":0},{"$f":"'Labor Summary (Office)'!B581","v":0},null,null,null,null,null,null,0,null,null,null,0,null,null,null,null,null,0]
[{"$f":"'Labor Summary (Office)'!A582","v":0},{"$f":"'Labor Summary (Office)'!B582","v":0},null,null,null,null,null,null,0,null,null,null,0,null,null,null,null,null,0]
[{"$f":"'Labor Summary (Office)'!A583","v":0},{"$f":"'Labor Summary (Office)'!B583","v":0},null,null,null,null,null,null,0,null,null,null,0,null,null,null,null,null,0]
[{"$f":"'Labor Summary (Office)'!A584","v":0},{"$f":"'Labor Summary (Office)'!B584","v":0},null,null,null,null,null,null,0,null,null,null,0,null,null,null,null,null,0]
[{"$f":"'Labor Summary (Office)'!A585","v":0},{"$f":"'Labor Summary (Office)'!B585","v":0},null,null,null,null,null,null,0,null,null,null,0,null,null,null,null,null,0]
[{"$f":"'Labor Summary (Office)'!A586","v":0},{"$f":"'Labor Summary (Office)'!B586","v":0},null,null,null,null,null,null,0,null,null,null,0,null,null,null,null,null,0]
[{"$f":"'Labor Summary (Office)'!A587","v":0},{"$f":"'Labor Summary (Office)'!B587","v":0},null,null,null,null,null,null,0,null,null,null,0,null,null,null,null,null,0]
[{"$f":"'Labor Summary (Office)'!A588","v":0},{"$f":"'Labor Summary (Office)'!B588","v":0},null,null,null,null,null,null,0,null,null,null,0,null,null,null,null,null,0]
[{"$f":"'Labor Summary (Office)'!A589","v":0},{"$f":"'Labor Summary (Office)'!B589","v":0},null,null,null,null,null,null,{"$f":"H591+G591","v":0},null,null,null,0,null,null,null,null,null,0]
[{"$f":"'Labor Summary (Office)'!A590","v":0},{"$f":"'Labor Summary (Office)'!B590","v":0},null,null,null,null,null,null,0,null,null,null,0,null,null,null,null,null,0]
[{"$f":"'Labor Summary (Office)'!A591","v":0},{"$f":"'Labor Summary (Office)'!B591","v":0},null,null,null,null,null,null,0,null,null,null,0,null,null,null,null,null,0]
[{"$f":"'Labor Summary (Office)'!A592","v":0},{"$f":"'Labor Summary (Office)'!B592","v":0},null,null,null,null,null,null,0,null,null,null,0,null,null,null,null,null,0]
[{"$f":"'Labor Summary (Office)'!A593","v":0},{"$f":"'Labor Summary (Office)'!B593","v":0},null,null,null,null,null,null,0,null,null,null,0,null,null,null,null,null,0]
[{"$f":"'Labor Summary (Office)'!A594","v":0},{"$f":"'Labor Summary (Office)'!B594","v":0},null,null,null,null,null,null,0,null,null,null,0,null,null,null,null,null,0]
[{"$f":"'Labor Summary (Office)'!A595","v":0},{"$f":"'Labor Summary (Office)'!B595","v":0},null,null,null,null,null,null,0,null,null,null,0,null,null,null,null,null,0]
[{"$f":"'Labor Summary (Office)'!A596","v":0},{"$f":"'Labor Summary (Office)'!B596","v":0},null,null,null,null,null,null,0,null,null,null,0,null,null,null,null,null,0]
[{"$f":"'Labor Summary (Office)'!A597","v":0},{"$f":"'Labor Summary (Office)'!B597","v":0},null,null,null,null,null,null,0,null,null,null,0,null,null,null,null,null,0]
[{"$f":"'Labor Summary (Office)'!A598","v":0},{"$f":"'Labor Summary (Office)'!B598","v":0},null,null,null,null,null,null,0,null,null,null,0,null,null,null,null,null,0]
[{"$f":"'Labor Summary (Office)'!A599","v":0},{"$f":"'Labor Summary (Office)'!B599","v":0},null,null,null,null,null,null,0,null,null,null,0,null,null,null,null,null,0]
[{"$f":"'Labor Summary (Office)'!A600","v":0},{"$f":"'Labor Summary (Office)'!B600","v":0},{"$f":"IF(A602=0,\"\",A602)","v":""},null,null,null,null,null,null,null,null,null,null,null,null,null,"Subtotal Line 19",null,{"$f":"ROUND(SUM(S572:S601),2)","v":0}]
[{"$f":"'Labor Summary (Office)'!A601","v":0},{"$f":"'Labor Summary (Office)'!B601","v":0},null,null,null,null,null,null,0,null,null,null,{"$f":"ROUND(L603*$M$9,2)","v":0},null,null,null,null,null,{"$f":"ROUND(F603+I603+K603+M603+N603+O603+P603+Q603+R603,2)","v":0}]
[{"$f":"'Labor Summary (Office)'!A602","v":0},{"$f":"'Labor Summary (Office)'!B602","v":0},null,null,null,null,null,null,0,null,null,null,{"$f":"ROUND(L604*$M$9,2)","v":0},null,null,null,null,null,{"$f":"ROUND(F604+I604+K604+M604+N604+O604+P604+Q604+R604,2)","v":0}]
[{"$f":"'Labor Summary (Office)'!A603","v":0},{"$f":"'Labor Summary (Office)'!B603","v":0},null,null,null,null,null,null,0,null,null,null,0,null,null,null,null,null,0]
[{"$f":"'Labor Summary (Office)'!A604","v":0},{"$f":"'Labor Summary (Office)'!B604","v":0},null,null,null,null,null,null,0,null,null,null,0,null,null,null,null,null,0]
[{"$f":"'Labor Summary (Office)'!A605","v":0},{"$f":"'Labor Summary (Office)'!B605","v":0},null,null,null,null,null,null,0,null,null,null,0,null,null,null,null,null,0]
[{"$f":"'Labor Summary (Office)'!A606","v":0},{"$f":"'Labor Summary (Office)'!B606","v":0},null,null,null,null,null,null,0,null,null,null,0,null,null,null,null,null,0]
[{"$f":"'Labor Summary (Office)'!A607","v":0},{"$f":"'Labor Summary (Office)'!B607","v":0},null,null,null,null,null,null,0,null,null,null,0,null,null,null,null,null,0]
[{"$f":"'Labor Summary (Office)'!A608","v":0},{"$f":"'Labor Summary (Office)'!B608","v":0},null,null,null,null,null,null,0,null,null,null,0,null,null,null,null,null,0]
[{"$f":"'Labor Summary (Office)'!A609","v":0},{"$f":"'Labor Summary (Office)'!B609","v":0},null,null,null,null,null,null,0,null,null,null,0,null,null,null,null,null,0]
[{"$f":"'Labor Summary (Office)'!A610","v":0},{"$f":"'Labor Summary (Office)'!B610","v":0},null,null,null,null,null,null,0,null,null,null,0,null,null,null,null,null,0]
[{"$f":"'Labor Summary (Office)'!A611","v":0},{"$f":"'Labor Summary (Office)'!B611","v":0},null,null,null,null,null,null,0,null,null,null,0,null,null,null,null,null,0]
[{"$f":"'Labor Summary (Office)'!A612","v":0},{"$f":"'Labor Summary (Office)'!B612","v":0},null,null,null,null,null,null,0,null,null,null,0,null,null,null,null,null,0]
[{"$f":"'Labor Summary (Office)'!A613","v":0},{"$f":"'Labor Summary (Office)'!B613","v":0},null,null,null,null,null,null,0,null,null,null,0,null,null,null,null,null,0]
[{"$f":"'Labor Summary (Office)'!A614","v":0},{"$f":"'Labor Summary (Office)'!B614","v":0},null,null,null,null,null,null,0,null,null,null,0,null,null,null,null,null,0]
[{"$f":"'Labor Summary (Office)'!A615","v":0},{"$f":"'Labor Summary (Office)'!B615","v":0},null,null,null,null,null,null,0,null,null,null,0,null,null,null,null,null,0]
[{"$f":"'Labor Summary (Office)'!A616","v":0},{"$f":"'Labor Summary (Office)'!B616","v":0},null,null,null,null,null,null,0,null,null,null,0,null,null,null,null,null,0]
[{"$f":"'Labor Summary (Office)'!A617","v":0},{"$f":"'Labor Summary (Office)'!B617","v":0},null,null,null,null,null,null,0,null,null,null,0,null,null,null,null,null,0]
[{"$f":"'Labor Summary (Office)'!A618","v":0},{"$f":"'Labor Summary (Office)'!B618","v":0},null,null,null,null,null,null,0,null,null,null,0,null,null,null,null,null,0]
[{"$f":"'Labor Summary (Office)'!A619","v":0},{"$f":"'Labor Summary (Office)'!B619","v":0},null,null,null,null,null,null,0,null,null,null,0,null,null,null,null,null,0]
[{"$f":"'Labor Summary (Office)'!A620","v":0},{"$f":"'Labor Summary (Office)'!B620","v":0},null,null,null,null,null,null,0,null,null,null,0,null,null,null,null,null,0]
[{"$f":"'Labor Summary (Office)'!A621","v":0},{"$f":"'Labor Summary (Office)'!B621","v":0},null,null,null,null,null,null,0,null,null,null,0,null,null,null,null,null,0]
[{"$f":"'Labor Summary (Office)'!A622","v":0},{"$f":"'Labor Summary (Office)'!B622","v":0},null,null,null,null,null,null,0,null,null,null,0,null,null,null,null,null,0]
[{"$f":"'Labor Summary (Office)'!A623","v":0},{"$f":"'Labor Summary (Office)'!B623","v":0},null,null,null,null,null,null,0,null,null,null,0,null,null,null,null,null,0]
[{"$f":"'Labor Summary (Office)'!A624","v":0},{"$f":"'Labor Summary (Office)'!B624","v":0},null,null,null,null,null,null,0,null,null,null,0,null,null,null,null,null,0]
[{"$f":"'Labor Summary (Office)'!A625","v":0},{"$f":"'Labor Summary (Office)'!B625","v":0},null,null,null,null,null,null,0,null,null,null,0,null,null,null,null,null,0]
[{"$f":"'Labor Summary (Office)'!A626","v":0},{"$f":"'Labor Summary (Office)'!B626","v":0},null,null,null,null,null,null,0,null,null,null,0,null,null,null,null,null,0]
[{"$f":"'Labor Summary (Office)'!A627","v":0},{"$f":"'Labor Summary (Office)'!B627","v":0},null,null,null,null,null,null,0,null,null,null,0,null,null,null,null,null,0]
[{"$f":"'Labor Summary (Office)'!A628","v":0},{"$f":"'Labor Summary (Office)'!B628","v":0},null,null,null,null,null,null,0,null,null,null,0,null,null,null,null,null,0]
[{"$f":"'Labor Summary (Office)'!A629","v":0},{"$f":"'Labor Summary (Office)'!B629","v":0},null,null,null,null,null,null,0,null,null,null,0,null,null,null,null,null,0]
[{"$f":"'Labor Summary (Office)'!A630","v":0},{"$f":"'Labor Summary (Office)'!B630","v":0},null,null,null,null,null,null,0,null,null,null,0,null,null,null,null,null,0]
[{"$f":"'Labor Summary (Office)'!A631","v":0},{"$f":"'Labor Summary (Office)'!B631","v":0},{"$f":"IF(A633=0,\"\",A633)","v":""},null,null,null,null,null,null,null,null,null,null,null,null,null,"Subtotal Line 20",null,{"$f":"ROUND(SUM(S603:S632),2)","v":0}]
[{"$f":"'Labor Summary (Office)'!A632","v":0},{"$f":"'Labor Summary (Office)'!B632","v":0},null,null,null,null,null,null,0,null,null,null,{"$f":"ROUND(L634*$M$9,2)","v":0},null,null,null,null,null,{"$f":"ROUND(F634+I634+K634+M634+N634+O634+P634+Q634+R634,2)","v":0}]
[{"$f":"'Labor Summary (Office)'!A633","v":0},{"$f":"'Labor Summary (Office)'!B633","v":0},null,null,null,null,null,null,0,null,null,null,{"$f":"ROUND(L635*$M$9,2)","v":0},null,null,null,null,null,{"$f":"ROUND(F635+I635+K635+M635+N635+O635+P635+Q635+R635,2)","v":0}]
[{"$f":"'Labor Summary (Office)'!A634","v":0},{"$f":"'Labor Summary (Office)'!B634","v":0},null,null,null,null,null,null,0,null,null,null,0,null,null,null,null,null,0]
[{"$f":"'Labor Summary (Office)'!A635","v":0},{"$f":"'Labor Summary (Office)'!B635","v":0},null,null,null,null,null,null,0,null,null,null,0,null,null,null,null,null,0]
[{"$f":"'Labor Summary (Office)'!A636","v":0},{"$f":"'Labor Summary (Office)'!B636","v":0},null,null,null,null,null,null,0,null,null,null,0,null,null,null,null,null,0]
[{"$f":"'Labor Summary (Office)'!A637","v":0},{"$f":"'Labor Summary (Office)'!B637","v":0},null,null,null,null,null,null,0,null,null,null,0,null,null,null,null,null,0]
[{"$f":"'Labor Summary (Office)'!A638","v":0},{"$f":"'Labor Summary (Office)'!B638","v":0},null,null,null,null,null,null,0,null,null,null,0,null,null,null,null,null,0]
[{"$f":"'Labor Summary (Office)'!A639","v":0},{"$f":"'Labor Summary (Office)'!B639","v":0},null,null,null,null,null,null,0,null,null,null,0,null,null,null,null,null,0]
[{"$f":"'Labor Summary (Office)'!A640","v":0},{"$f":"'Labor Summary (Office)'!B640","v":0},null,null,null,null,null,null,0,null,null,null,0,null,null,null,null,null,0]
[{"$f":"'Labor Summary (Office)'!A641","v":0},{"$f":"'Labor Summary (Office)'!B641","v":0},null,null,null,null,null,null,0,null,null,null,0,null,null,null,null,null,0]
[{"$f":"'Labor Summary (Office)'!A642","v":0},{"$f":"'Labor Summary (Office)'!B642","v":0},null,null,null,null,null,null,0,null,null,null,0,null,null,null,null,null,0]
[{"$f":"'Labor Summary (Office)'!A643","v":0},{"$f":"'Labor Summary (Office)'!B643","v":0},null,null,null,null,null,null,0,null,null,null,0,null,null,null,null,null,0]
[{"$f":"'Labor Summary (Office)'!A644","v":0},{"$f":"'Labor Summary (Office)'!B644","v":0},null,null,null,null,null,null,0,null,null,null,0,null,null,null,null,null,0]
[{"$f":"'Labor Summary (Office)'!A645","v":0},{"$f":"'Labor Summary (Office)'!B645","v":0},null,null,null,null,null,null,0,null,null,null,0,null,null,null,null,null,0]
[{"$f":"'Labor Summary (Office)'!A646","v":0},{"$f":"'Labor Summary (Office)'!B646","v":0},null,null,null,null,null,null,0,null,null,null,0,null,null,null,null,null,0]
[{"$f":"'Labor Summary (Office)'!A647","v":0},{"$f":"'Labor Summary (Office)'!B647","v":0},null,null,null,null,null,null,0,null,null,null,0,null,null,null,null,null,0]
[{"$f":"'Labor Summary (Office)'!A648","v":0},{"$f":"'Labor Summary (Office)'!B648","v":0},null,null,null,null,null,null,0,null,null,null,0,null,null,null,null,null,0]
[{"$f":"'Labor Summary (Office)'!A649","v":0},{"$f":"'Labor Summary (Office)'!B649","v":0},null,null,null,null,null,null,0,null,null,null,0,null,null,null,null,null,0]
[{"$f":"'Labor Summary (Office)'!A650","v":0},{"$f":"'Labor Summary (Office)'!B650","v":0},null,null,null,null,null,null,0,null,null,null,0,null,null,null,null,null,0]
[{"$f":"'Labor Summary (Office)'!A651","v":0},{"$f":"'Labor Summary (Office)'!B651","v":0},null,null,null,null,null,null,0,null,null,null,0,null,null,null,null,null,0]
[{"$f":"'Labor Summary (Office)'!A652","v":0},{"$f":"'Labor Summary (Office)'!B652","v":0},null,null,null,null,null,null,0,null,null,null,0,null,null,null,null,null,0]
[{"$f":"'Labor Summary (Office)'!A653","v":0},{"$f":"'Labor Summary (Office)'!B653","v":0},null,null,null,null,null,null,{"$f":"H655+G655","v":0},null,null,null,0,null,null,null,null,null,0]
[{"$f":"'Labor Summary (Office)'!A654","v":0},{"$f":"'Labor Summary (Office)'!B654","v":0},null,null,null,null,null,null,0,null,null,null,0,null,null,null,null,null,0]
[{"$f":"'Labor Summary (Office)'!A655","v":0},{"$f":"'Labor Summary (Office)'!B655","v":0},null,null,null,null,null,null,0,null,null,null,0,null,null,null,null,null,0]
[{"$f":"'Labor Summary (Office)'!A656","v":0},{"$f":"'Labor Summary (Office)'!B656","v":0},null,null,null,null,null,null,0,null,null,null,0,null,null,null,null,null,0]
[{"$f":"'Labor Summary (Office)'!A657","v":0},{"$f":"'Labor Summary (Office)'!B657","v":0},null,null,null,null,null,null,0,null,null,null,0,null,null,null,null,null,0]
[{"$f":"'Labor Summary (Office)'!A658","v":0},{"$f":"'Labor Summary (Office)'!B658","v":0},null,null,null,null,null,null,0,null,null,null,0,null,null,null,null,null,0]
[{"$f":"'Labor Summary (Office)'!A659","v":0},{"$f":"'Labor Summary (Office)'!B659","v":0},null,null,null,null,null,null,0,null,null,null,0,null,null,null,null,null,0]
[{"$f":"'Labor Summary (Office)'!A660","v":0},{"$f":"'Labor Summary (Office)'!B660","v":0},null,null,null,null,null,null,0,null,null,null,0,null,null,null,null,null,0]
[{"$f":"'Labor Summary (Office)'!A661","v":0},{"$f":"'Labor Summary (Office)'!B661","v":0},null,null,null,null,null,null,0,null,null,null,0,null,null,null,null,null,0]
[{"$f":"'Labor Summary (Office)'!A662","v":0},{"$f":"'Labor Summary (Office)'!B662","v":0},{"$f":"IF(A664=0,\"\",A664)","v":""},null,null,null,null,null,null,null,null,null,null,null,null,null,"Subtotal Line 21",null,{"$f":"ROUND(SUM(S634:S663),2)","v":0}]
[{"$f":"'Labor Summary (Office)'!A663","v":0},{"$f":"'Labor Summary (Office)'!B663","v":0},null,null,null,null,null,null,0,null,null,null,{"$f":"ROUND(L665*$M$9,2)","v":0},null,null,null,null,null,{"$f":"ROUND(F665+I665+K665+M665+N665+O665+P665+Q665+R665,2)","v":0}]
[{"$f":"'Labor Summary (Office)'!A664","v":0},{"$f":"'Labor Summary (Office)'!B664","v":0},null,null,null,null,null,null,0,null,null,null,{"$f":"ROUND(L666*$M$9,2)","v":0},null,null,null,null,null,{"$f":"ROUND(F666+I666+K666+M666+N666+O666+P666+Q666+R666,2)","v":0}]
[{"$f":"'Labor Summary (Office)'!A665","v":0},{"$f":"'Labor Summary (Office)'!B665","v":0},null,null,null,null,null,null,0,null,null,null,0,null,null,null,null,null,0]
[{"$f":"'Labor Summary (Office)'!A666","v":0},{"$f":"'Labor Summary (Office)'!B666","v":0},null,null,null,null,null,null,0,null,null,null,0,null,null,null,null,null,0]
[{"$f":"'Labor Summary (Office)'!A667","v":0},{"$f":"'Labor Summary (Office)'!B667","v":0},null,null,null,null,null,null,0,null,null,null,0,null,null,null,null,null,0]
[{"$f":"'Labor Summary (Office)'!A668","v":0},{"$f":"'Labor Summary (Office)'!B668","v":0},null,null,null,null,null,null,0,null,null,null,0,null,null,null,null,null,0]
[{"$f":"'Labor Summary (Office)'!A669","v":0},{"$f":"'Labor Summary (Office)'!B669","v":0},null,null,null,null,null,null,0,null,null,null,0,null,null,null,null,null,0]
[{"$f":"'Labor Summary (Office)'!A670","v":0},{"$f":"'Labor Summary (Office)'!B670","v":0},null,null,null,null,null,null,0,null,null,null,0,null,null,null,null,null,0]
[{"$f":"'Labor Summary (Office)'!A671","v":0},{"$f":"'Labor Summary (Office)'!B671","v":0},null,null,null,null,null,null,0,null,null,null,0,null,null,null,null,null,0]
[{"$f":"'Labor Summary (Office)'!A672","v":0},{"$f":"'Labor Summary (Office)'!B672","v":0},null,null,null,null,null,null,0,null,null,null,0,null,null,null,null,null,0]
[{"$f":"'Labor Summary (Office)'!A673","v":0},{"$f":"'Labor Summary (Office)'!B673","v":0},null,null,null,null,null,null,0,null,null,null,0,null,null,null,null,null,0]
[{"$f":"'Labor Summary (Office)'!A674","v":0},{"$f":"'Labor Summary (Office)'!B674","v":0},null,null,null,null,null,null,0,null,null,null,0,null,null,null,null,null,0]
[{"$f":"'Labor Summary (Office)'!A675","v":0},{"$f":"'Labor Summary (Office)'!B675","v":0},null,null,null,null,null,null,0,null,null,null,0,null,null,null,null,null,0]
[{"$f":"'Labor Summary (Office)'!A676","v":0},{"$f":"'Labor Summary (Office)'!B676","v":0},null,null,null,null,null,null,0,null,null,null,0,null,null,null,null,null,0]
[{"$f":"'Labor Summary (Office)'!A677","v":0},{"$f":"'Labor Summary (Office)'!B677","v":0},null,null,null,null,null,null,0,null,null,null,0,null,null,null,null,null,0]
[{"$f":"'Labor Summary (Office)'!A678","v":0},{"$f":"'Labor Summary (Office)'!B678","v":0},null,null,null,null,null,null,0,null,null,null,0,null,null,null,null,null,0]
[{"$f":"'Labor Summary (Office)'!A679","v":0},{"$f":"'Labor Summary (Office)'!B679","v":0},null,null,null,null,null,null,0,null,null,null,0,null,null,null,null,null,0]
[{"$f":"'Labor Summary (Office)'!A680","v":0},{"$f":"'Labor Summary (Office)'!B680","v":0},null,null,null,null,null,null,0,null,null,null,0,null,null,null,null,null,0]
[{"$f":"'Labor Summary (Office)'!A681","v":0},{"$f":"'Labor Summary (Office)'!B681","v":0},null,null,null,null,null,null,0,null,null,null,0,null,null,null,null,null,0]
[{"$f":"'Labor Summary (Office)'!A682","v":0},{"$f":"'Labor Summary (Office)'!B682","v":0},null,null,null,null,null,null,0,null,null,null,0,null,null,null,null,null,0]
[{"$f":"'Labor Summary (Office)'!A683","v":0},{"$f":"'Labor Summary (Office)'!B683","v":0},null,null,null,null,null,null,0,null,null,null,0,null,null,null,null,null,0]
[{"$f":"'Labor Summary (Office)'!A684","v":0},{"$f":"'Labor Summary (Office)'!B684","v":0},null,null,null,null,null,null,0,null,null,null,0,null,null,null,null,null,0]
[{"$f":"'Labor Summary (Office)'!A685","v":0},{"$f":"'Labor Summary (Office)'!B685","v":0},null,null,null,null,null,null,0,null,null,null,0,null,null,null,null,null,0]
[{"$f":"'Labor Summary (Office)'!A686","v":0},{"$f":"'Labor Summary (Office)'!B686","v":0},null,null,null,null,null,null,0,null,null,null,0,null,null,null,null,null,0]
[{"$f":"'Labor Summary (Office)'!A687","v":0},{"$f":"'Labor Summary (Office)'!B687","v":0},null,null,null,null,null,null,0,null,null,null,0,null,null,null,null,null,0]
[{"$f":"'Labor Summary (Office)'!A688","v":0},{"$f":"'Labor Summary (Office)'!B688","v":0},null,null,null,null,null,null,0,null,null,null,0,null,null,null,null,null,0]
[{"$f":"'Labor Summary (Office)'!A689","v":0},{"$f":"'Labor Summary (Office)'!B689","v":0},null,null,null,null,null,null,0,null,null,null,0,null,null,null,null,null,0]
[{"$f":"'Labor Summary (Office)'!A690","v":0},{"$f":"'Labor Summary (Office)'!B690","v":0},null,null,null,null,null,null,0,null,null,null,0,null,null,null,null,null,0]
[{"$f":"'Labor Summary (Office)'!A691","v":0},{"$f":"'Labor Summary (Office)'!B691","v":0},null,null,null,null,null,null,0,null,null,null,0,null,null,null,null,null,0]
[{"$f":"'Labor Summary (Office)'!A692","v":0},{"$f":"'Labor Summary (Office)'!B692","v":0},null,null,null,null,null,null,0,null,null,null,0,null,null,null,null,null,0]
[{"$f":"'Labor Summary (Office)'!A693","v":0},{"$f":"'Labor Summary (Office)'!B693","v":0},{"$f":"IF(A695=0,\"\",A695)","v":""},null,null,null,null,null,null,null,null,null,null,null,null,null,"Subtotal Line 22",null,{"$f":"ROUND(SUM(S665:S694),2)","v":0}]
[{"$f":"'Labor Summary (Office)'!A694","v":0},{"$f":"'Labor Summary (Office)'!B694","v":0},null,null,null,null,null,null,0,null,null,null,{"$f":"ROUND(L696*$M$9,2)","v":0},null,null,null,null,null,{"$f":"ROUND(F696+I696+K696+M696+N696+O696+P696+Q696+R696,2)","v":0}]
[{"$f":"'Labor Summary (Office)'!A695","v":0},{"$f":"'Labor Summary (Office)'!B695","v":0},null,null,null,null,null,null,0,null,null,null,{"$f":"ROUND(L697*$M$9,2)","v":0},null,null,null,null,null,{"$f":"ROUND(F697+I697+K697+M697+N697+O697+P697+Q697+R697,2)","v":0}]
[{"$f":"'Labor Summary (Office)'!A696","v":0},{"$f":"'Labor Summary (Office)'!B696","v":0},null,null,null,null,null,null,0,null,null,null,0,null,null,null,null,null,0]
[{"$f":"'Labor Summary (Office)'!A697","v":0},{"$f":"'Labor Summary (Office)'!B697","v":0},null,null,null,null,null,null,0,null,null,null,0,null,null,null,null,null,0]
[{"$f":"'Labor Summary (Office)'!A698","v":0},{"$f":"'Labor Summary (Office)'!B698","v":0},null,null,null,null,null,null,0,null,null,null,0,null,null,null,null,null,0]
[{"$f":"'Labor Summary (Office)'!A699","v":0},{"$f":"'Labor Summary (Office)'!B699","v":0},null,null,null,null,null,null,0,null,null,null,0,null,null,null,null,null,0]
[{"$f":"'Labor Summary (Office)'!A700","v":0},{"$f":"'Labor Summary (Office)'!B700","v":0},null,null,null,null,null,null,0,null,null,null,0,null,null,null,null,null,0]
[{"$f":"'Labor Summary (Office)'!A701","v":0},{"$f":"'Labor Summary (Office)'!B701","v":0},null,null,null,null,null,null,0,null,null,null,0,null,null,null,null,null,0]
[{"$f":"'Labor Summary (Office)'!A702","v":0},{"$f":"'Labor Summary (Office)'!B702","v":0},null,null,null,null,null,null,0,null,null,null,0,null,null,null,null,null,0]
[{"$f":"'Labor Summary (Office)'!A703","v":0},{"$f":"'Labor Summary (Office)'!B703","v":0},null,null,null,null,null,null,0,null,null,null,0,null,null,null,null,null,0]
[{"$f":"'Labor Summary (Office)'!A704","v":0},{"$f":"'Labor Summary (Office)'!B704","v":0},null,null,null,null,null,null,0,null,null,null,0,null,null,null,null,null,0]
[{"$f":"'Labor Summary (Office)'!A705","v":0},{"$f":"'Labor Summary (Office)'!B705","v":0},null,null,null,null,null,null,0,null,null,null,0,null,null,null,null,null,0]
[{"$f":"'Labor Summary (Office)'!A706","v":0},{"$f":"'Labor Summary (Office)'!B706","v":0},null,null,null,null,null,null,0,null,null,null,0,null,null,null,null,null,0]
[{"$f":"'Labor Summary (Office)'!A707","v":0},{"$f":"'Labor Summary (Office)'!B707","v":0},null,null,null,null,null,null,0,null,null,null,0,null,null,null,null,null,0]
[{"$f":"'Labor Summary (Office)'!A708","v":0},{"$f":"'Labor Summary (Office)'!B708","v":0},null,null,null,null,null,null,0,null,null,null,0,null,null,null,null,null,0]
[{"$f":"'Labor Summary (Office)'!A709","v":0},{"$f":"'Labor Summary (Office)'!B709","v":0},null,null,null,null,null,null,0,null,null,null,0,null,null,null,null,null,0]
[{"$f":"'Labor Summary (Office)'!A710","v":0},{"$f":"'Labor Summary (Office)'!B710","v":0},null,null,null,null,null,null,0,null,null,null,0,null,null,null,null,null,0]
[{"$f":"'Labor Summary (Office)'!A711","v":0},{"$f":"'Labor Summary (Office)'!B711","v":0},null,null,null,null,null,null,0,null,null,null,0,null,null,null,null,null,0]
[{"$f":"'Labor Summary (Office)'!A712","v":0},{"$f":"'Labor Summary (Office)'!B712","v":0},null,null,null,null,null,null,0,null,null,null,0,null,null,null,null,null,0]
[{"$f":"'Labor Summary (Office)'!A713","v":0},{"$f":"'Labor Summary (Office)'!B713","v":0},null,null,null,null,null,null,0,null,null,null,0,null,null,null,null,null,0]
[{"$f":"'Labor Summary (Office)'!A714","v":0},{"$f":"'Labor Summary (Office)'!B714","v":0},null,null,null,null,null,null,0,null,null,null,0,null,null,null,null,null,0]
[{"$f":"'Labor Summary (Office)'!A715","v":0},{"$f":"'Labor Summary (Office)'!B715","v":0},null,null,null,null,null,null,0,null,null,null,0,null,null,null,null,null,0]
[{"$f":"'Labor Summary (Office)'!A716","v":0},{"$f":"'Labor Summary (Office)'!B716","v":0},null,null,null,null,null,null,0,null,null,null,0,null,null,null,null,null,0]
[{"$f":"'Labor Summary (Office)'!A717","v":0},{"$f":"'Labor Summary (Office)'!B717","v":0},null,null,null,null,null,null,{"$f":"H719+G719","v":0},null,null,null,0,null,null,null,null,null,0]
[{"$f":"'Labor Summary (Office)'!A718","v":0},{"$f":"'Labor Summary (Office)'!B718","v":0},null,null,null,null,null,null,0,null,null,null,0,null,null,null,null,null,0]
[{"$f":"'Labor Summary (Office)'!A719","v":0},{"$f":"'Labor Summary (Office)'!B719","v":0},null,null,null,null,null,null,0,null,null,null,0,null,null,null,null,null,0]
[{"$f":"'Labor Summary (Office)'!A720","v":0},{"$f":"'Labor Summary (Office)'!B720","v":0},null,null,null,null,null,null,0,null,null,null,0,null,null,null,null,null,0]
[{"$f":"'Labor Summary (Office)'!A721","v":0},{"$f":"'Labor Summary (Office)'!B721","v":0},null,null,null,null,null,null,0,null,null,null,0,null,null,null,null,null,0]
[{"$f":"'Labor Summary (Office)'!A722","v":0},{"$f":"'Labor Summary (Office)'!B722","v":0},null,null,null,null,null,null,0,null,null,null,0,null,null,null,null,null,0]
[{"$f":"'Labor Summary (Office)'!A723","v":0},{"$f":"'Labor Summary (Office)'!B723","v":0},null,null,null,null,null,null,0,null,null,null,0,null,null,null,null,null,0]
[{"$f":"'Labor Summary (Office)'!A724","v":0},{"$f":"'Labor Summary (Office)'!B724","v":0},{"$f":"IF(A726=0,\"\",A726)","v":""},null,null,null,null,null,null,null,null,null,null,null,null,null,"Subtotal Line 23",null,{"$f":"ROUND(SUM(S696:S725),2)","v":0}]
[{"$f":"'Labor Summary (Office)'!A725","v":0},{"$f":"'Labor Summary (Office)'!B725","v":0},null,null,null,null,null,null,0,null,null,null,{"$f":"ROUND(L727*$M$9,2)","v":0},null,null,null,null,null,{"$f":"ROUND(F727+I727+K727+M727+N727+O727+P727+Q727+R727,2)","v":0}]
[{"$f":"'Labor Summary (Office)'!A726","v":0},{"$f":"'Labor Summary (Office)'!B726","v":0},null,null,null,null,null,null,0,null,null,null,{"$f":"ROUND(L728*$M$9,2)","v":0},null,null,null,null,null,{"$f":"ROUND(F728+I728+K728+M728+N728+O728+P728+Q728+R728,2)","v":0}]
[{"$f":"'Labor Summary (Office)'!A727","v":0},{"$f":"'Labor Summary (Office)'!B727","v":0},null,null,null,null,null,null,0,null,null,null,0,null,null,null,null,null,0]
[{"$f":"'Labor Summary (Office)'!A728","v":0},{"$f":"'Labor Summary (Office)'!B728","v":0},null,null,null,null,null,null,0,null,null,null,0,null,null,null,null,null,0]
[{"$f":"'Labor Summary (Office)'!A729","v":0},{"$f":"'Labor Summary (Office)'!B729","v":0},null,null,null,null,null,null,0,null,null,null,0,null,null,null,null,null,0]
[{"$f":"'Labor Summary (Office)'!A730","v":0},{"$f":"'Labor Summary (Office)'!B730","v":0},null,null,null,null,null,null,0,null,null,null,0,null,null,null,null,null,0]
[{"$f":"'Labor Summary (Office)'!A731","v":0},{"$f":"'Labor Summary (Office)'!B731","v":0},null,null,null,null,null,null,0,null,null,null,0,null,null,null,null,null,0]
[{"$f":"'Labor Summary (Office)'!A732","v":0},{"$f":"'Labor Summary (Office)'!B732","v":0},null,null,null,null,null,null,0,null,null,null,0,null,null,null,null,null,0]
[{"$f":"'Labor Summary (Office)'!A733","v":0},{"$f":"'Labor Summary (Office)'!B733","v":0},null,null,null,null,null,null,0,null,null,null,0,null,null,null,null,null,0]
[{"$f":"'Labor Summary (Office)'!A734","v":0},{"$f":"'Labor Summary (Office)'!B734","v":0},null,null,null,null,null,null,0,null,null,null,0,null,null,null,null,null,0]
[{"$f":"'Labor Summary (Office)'!A735","v":0},{"$f":"'Labor Summary (Office)'!B735","v":0},null,null,null,null,null,null,0,null,null,null,0,null,null,null,null,null,0]
[{"$f":"'Labor Summary (Office)'!A736","v":0},{"$f":"'Labor Summary (Office)'!B736","v":0},null,null,null,null,null,null,0,null,null,null,0,null,null,null,null,null,0]
[{"$f":"'Labor Summary (Office)'!A737","v":0},{"$f":"'Labor Summary (Office)'!B737","v":0},null,null,null,null,null,null,0,null,null,null,0,null,null,null,null,null,0]
[{"$f":"'Labor Summary (Office)'!A738","v":0},{"$f":"'Labor Summary (Office)'!B738","v":0},null,null,null,null,null,null,0,null,null,null,0,null,null,null,null,null,0]
[{"$f":"'Labor Summary (Office)'!A739","v":0},{"$f":"'Labor Summary (Office)'!B739","v":0},null,null,null,null,null,null,0,null,null,null,0,null,null,null,null,null,0]
[{"$f":"'Labor Summary (Office)'!A740","v":0},{"$f":"'Labor Summary (Office)'!B740","v":0},null,null,null,null,null,null,0,null,null,null,0,null,null,null,null,null,0]
[{"$f":"'Labor Summary (Office)'!A741","v":0},{"$f":"'Labor Summary (Office)'!B741","v":0},null,null,null,null,null,null,0,null,null,null,0,null,null,null,null,null,0]
[{"$f":"'Labor Summary (Office)'!A742","v":0},{"$f":"'Labor Summary (Office)'!B742","v":0},null,null,null,null,null,null,0,null,null,null,0,null,null,null,null,null,0]
[{"$f":"'Labor Summary (Office)'!A743","v":0},{"$f":"'Labor Summary (Office)'!B743","v":0},null,null,null,null,null,null,0,null,null,null,0,null,null,null,null,null,0]
[{"$f":"'Labor Summary (Office)'!A744","v":0},{"$f":"'Labor Summary (Office)'!B744","v":0},null,null,null,null,null,null,0,null,null,null,0,null,null,null,null,null,0]
[{"$f":"'Labor Summary (Office)'!A745","v":0},{"$f":"'Labor Summary (Office)'!B745","v":0},null,null,null,null,null,null,0,null,null,null,0,null,null,null,null,null,0]
[{"$f":"'Labor Summary (Office)'!A746","v":0},{"$f":"'Labor Summary (Office)'!B746","v":0},null,null,null,null,null,null,0,null,null,null,0,null,null,null,null,null,0]
[{"$f":"'Labor Summary (Office)'!A747","v":0},{"$f":"'Labor Summary (Office)'!B747","v":0},null,null,null,null,null,null,0,null,null,null,0,null,null,null,null,null,0]
[{"$f":"'Labor Summary (Office)'!A748","v":0},{"$f":"'Labor Summary (Office)'!B748","v":0},null,null,null,null,null,null,0,null,null,null,0,null,null,null,null,null,0]
[{"$f":"'Labor Summary (Office)'!A749","v":0},{"$f":"'Labor Summary (Office)'!B749","v":0},null,null,null,null,null,null,0,null,null,null,0,null,null,null,null,null,0]
[{"$f":"'Labor Summary (Office)'!A750","v":0},{"$f":"'Labor Summary (Office)'!B750","v":0},null,null,null,null,null,null,0,null,null,null,0,null,null,null,null,null,0]
[{"$f":"'Labor Summary (Office)'!A751","v":0},{"$f":"'Labor Summary (Office)'!B751","v":0},null,null,null,null,null,null,0,null,null,null,0,null,null,null,null,null,0]
[{"$f":"'Labor Summary (Office)'!A752","v":0},{"$f":"'Labor Summary (Office)'!B752","v":0},null,null,null,null,null,null,0,null,null,null,0,null,null,null,null,null,0]
[{"$f":"'Labor Summary (Office)'!A753","v":0},{"$f":"'Labor Summary (Office)'!B753","v":0},null,null,null,null,null,null,0,null,null,null,0,null,null,null,null,null,0]
[{"$f":"'Labor Summary (Office)'!A754","v":0},{"$f":"'Labor Summary (Office)'!B754","v":0},null,null,null,null,null,null,0,null,null,null,0,null,null,null,null,null,0]
[{"$f":"'Labor Summary (Office)'!A755","v":0},{"$f":"'Labor Summary (Office)'!B755","v":0},{"$f":"IF(A757=0,\"\",A757)","v":""},null,null,null,null,null,null,null,null,null,null,null,null,null,"Subtotal Line 24",null,{"$f":"ROUND(SUM(S727:S756),2)","v":0}]
[{"$f":"'Labor Summary (Office)'!A756","v":0},{"$f":"'Labor Summary (Office)'!B756","v":0},null,null,null,null,null,null,0,null,null,null,{"$f":"ROUND(L758*$M$9,2)","v":0},null,null,null,null,null,{"$f":"ROUND(F758+I758+K758+M758+N758+O758+P758+Q758+R758,2)","v":0}]
[{"$f":"'Labor Summary (Office)'!A757","v":0},{"$f":"'Labor Summary (Office)'!B757","v":0},null,null,null,null,null,null,0,null,null,null,{"$f":"ROUND(L759*$M$9,2)","v":0},null,null,null,null,null,{"$f":"ROUND(F759+I759+K759+M759+N759+O759+P759+Q759+R759,2)","v":0}]
[{"$f":"'Labor Summary (Office)'!A758","v":0},{"$f":"'Labor Summary (Office)'!B758","v":0},null,null,null,null,null,null,0,null,null,null,0,null,null,null,null,null,0]
[{"$f":"'Labor Summary (Office)'!A759","v":0},{"$f":"'Labor Summary (Office)'!B759","v":0},null,null,null,null,null,null,0,null,null,null,0,null,null,null,null,null,0]
[{"$f":"'Labor Summary (Office)'!A760","v":0},{"$f":"'Labor Summary (Office)'!B760","v":0},null,null,null,null,null,null,0,null,null,null,0,null,null,null,null,null,0]
[{"$f":"'Labor Summary (Office)'!A761","v":0},{"$f":"'Labor Summary (Office)'!B761","v":0},null,null,null,null,null,null,0,null,null,null,0,null,null,null,null,null,0]
[{"$f":"'Labor Summary (Office)'!A762","v":0},{"$f":"'Labor Summary (Office)'!B762","v":0},null,null,null,null,null,null,0,null,null,null,0,null,null,null,null,null,0]
[{"$f":"'Labor Summary (Office)'!A763","v":0},{"$f":"'Labor Summary (Office)'!B763","v":0},null,null,null,null,null,null,0,null,null,null,0,null,null,null,null,null,0]
[{"$f":"'Labor Summary (Office)'!A764","v":0},{"$f":"'Labor Summary (Office)'!B764","v":0},null,null,null,null,null,null,0,null,null,null,0,null,null,null,null,null,0]
[{"$f":"'Labor Summary (Office)'!A765","v":0},{"$f":"'Labor Summary (Office)'!B765","v":0},null,null,null,null,null,null,0,null,null,null,0,null,null,null,null,null,0]
[{"$f":"'Labor Summary (Office)'!A766","v":0},{"$f":"'Labor Summary (Office)'!B766","v":0},null,null,null,null,null,null,0,null,null,null,0,null,null,null,null,null,0]
[{"$f":"'Labor Summary (Office)'!A767","v":0},{"$f":"'Labor Summary (Office)'!B767","v":0},null,null,null,null,null,null,0,null,null,null,0,null,null,null,null,null,0]
[{"$f":"'Labor Summary (Office)'!A768","v":0},{"$f":"'Labor Summary (Office)'!B768","v":0},null,null,null,null,null,null,0,null,null,null,0,null,null,null,null,null,0]
[{"$f":"'Labor Summary (Office)'!A769","v":0},{"$f":"'Labor Summary (Office)'!B769","v":0},null,null,null,null,null,null,0,null,null,null,0,null,null,null,null,null,0]
[{"$f":"'Labor Summary (Office)'!A770","v":0},{"$f":"'Labor Summary (Office)'!B770","v":0},null,null,null,null,null,null,0,null,null,null,0,null,null,null,null,null,0]
[{"$f":"'Labor Summary (Office)'!A771","v":0},{"$f":"'Labor Summary (Office)'!B771","v":0},null,null,null,null,null,null,0,null,null,null,0,null,null,null,null,null,0]
[{"$f":"'Labor Summary (Office)'!A772","v":0},{"$f":"'Labor Summary (Office)'!B772","v":0},null,null,null,null,null,null,0,null,null,null,0,null,null,null,null,null,0]
[{"$f":"'Labor Summary (Office)'!A773","v":0},{"$f":"'Labor Summary (Office)'!B773","v":0},null,null,null,null,null,null,0,null,null,null,0,null,null,null,null,null,0]
[{"$f":"'Labor Summary (Office)'!A774","v":0},{"$f":"'Labor Summary (Office)'!B774","v":0},null,null,null,null,null,null,0,null,null,null,0,null,null,null,null,null,0]
[{"$f":"'Labor Summary (Office)'!A775","v":0},{"$f":"'Labor Summary (Office)'!B775","v":0},null,null,null,null,null,null,0,null,null,null,0,null,null,null,null,null,0]
[{"$f":"'Labor Summary (Office)'!A776","v":0},{"$f":"'Labor Summary (Office)'!B776","v":0},null,null,null,null,null,null,0,null,null,null,0,null,null,null,null,null,0]
[{"$f":"'Labor Summary (Office)'!A777","v":0},{"$f":"'Labor Summary (Office)'!B777","v":0},null,null,null,null,null,null,0,null,null,null,0,null,null,null,null,null,0]
[{"$f":"'Labor Summary (Office)'!A778","v":0},{"$f":"'Labor Summary (Office)'!B778","v":0},null,null,null,null,null,null,0,null,null,null,0,null,null,null,null,null,0]
[{"$f":"'Labor Summary (Office)'!A779","v":0},{"$f":"'Labor Summary (Office)'!B779","v":0},null,null,null,null,null,null,0,null,null,null,0,null,null,null,null,null,0]
[{"$f":"'Labor Summary (Office)'!A780","v":0},{"$f":"'Labor Summary (Office)'!B780","v":0},null,null,null,null,null,null,0,null,null,null,0,null,null,null,null,null,0]
[{"$f":"'Labor Summary (Office)'!A781","v":0},{"$f":"'Labor Summary (Office)'!B781","v":0},null,null,null,null,null,null,{"$f":"H783+G783","v":0},null,null,null,0,null,null,null,null,null,0]
[{"$f":"'Labor Summary (Office)'!A782","v":0},{"$f":"'Labor Summary (Office)'!B782","v":0},null,null,null,null,null,null,0,null,null,null,0,null,null,null,null,null,0]
[{"$f":"'Labor Summary (Office)'!A783","v":0},{"$f":"'Labor Summary (Office)'!B783","v":0},null,null,null,null,null,null,0,null,null,null,0,null,null,null,null,null,0]
[{"$f":"'Labor Summary (Office)'!A784","v":0},{"$f":"'Labor Summary (Office)'!B784","v":0},null,null,null,null,null,null,0,null,null,null,0,null,null,null,null,null,0]
[{"$f":"'Labor Summary (Office)'!A785","v":0},{"$f":"'Labor Summary (Office)'!B785","v":0},null,null,null,null,null,null,0,null,null,null,0,null,null,null,null,null,0]
[{"$f":"'Labor Summary (Office)'!A786","v":0},{"$f":"'Labor Summary (Office)'!B786","v":0},{"$f":"IF(A788=0,\"\",A788)","v":""},null,null,null,null,null,null,null,null,null,null,null,null,null,"Subtotal Line 25",null,{"$f":"ROUND(SUM(S758:S787),2)","v":0}]
[{"$f":"'Labor Summary (Office)'!A787","v":0},{"$f":"'Labor Summary (Office)'!B787","v":0},null,null,null,null,null,null,0,null,null,null,{"$f":"ROUND(L789*$M$9,2)","v":0},null,null,null,null,null,{"$f":"ROUND(F789+I789+K789+M789+N789+O789+P789+Q789+R789,2)","v":0}]
[{"$f":"'Labor Summary (Office)'!A788","v":0},{"$f":"'Labor Summary (Office)'!B788","v":0},null,null,null,null,null,null,0,null,null,null,{"$f":"ROUND(L790*$M$9,2)","v":0},null,null,null,null,null,{"$f":"ROUND(F790+I790+K790+M790+N790+O790+P790+Q790+R790,2)","v":0}]
[{"$f":"'Labor Summary (Office)'!A789","v":0},{"$f":"'Labor Summary (Office)'!B789","v":0},null,null,null,null,null,null,0,null,null,null,0,null,null,null,null,null,0]
[{"$f":"'Labor Summary (Office)'!A790","v":0},{"$f":"'Labor Summary (Office)'!B790","v":0},null,null,null,null,null,null,0,null,null,null,0,null,null,null,null,null,0]
[{"$f":"'Labor Summary (Office)'!A791","v":0},{"$f":"'Labor Summary (Office)'!B791","v":0},null,null,null,null,null,null,0,null,null,null,0,null,null,null,null,null,0]
[{"$f":"'Labor Summary (Office)'!A792","v":0},{"$f":"'Labor Summary (Office)'!B792","v":0},null,null,null,null,null,null,0,null,null,null,0,null,null,null,null,null,0]
[{"$f":"'Labor Summary (Office)'!A793","v":0},{"$f":"'Labor Summary (Office)'!B793","v":0},null,null,null,null,null,null,0,null,null,null,0,null,null,null,null,null,0]
[{"$f":"'Labor Summary (Office)'!A794","v":0},{"$f":"'Labor Summary (Office)'!B794","v":0},null,null,null,null,null,null,0,null,null,null,0,null,null,null,null,null,0]
[{"$f":"'Labor Summary (Office)'!A795","v":0},{"$f":"'Labor Summary (Office)'!B795","v":0},null,null,null,null,null,null,0,null,null,null,0,null,null,null,null,null,0]
[{"$f":"'Labor Summary (Office)'!A796","v":0},{"$f":"'Labor Summary (Office)'!B796","v":0},null,null,null,null,null,null,0,null,null,null,0,null,null,null,null,null,0]
[{"$f":"'Labor Summary (Office)'!A797","v":0},{"$f":"'Labor Summary (Office)'!B797","v":0},null,null,null,null,null,null,0,null,null,null,0,null,null,null,null,null,0]
[{"$f":"'Labor Summary (Office)'!A798","v":0},{"$f":"'Labor Summary (Office)'!B798","v":0},null,null,null,null,null,null,0,null,null,null,0,null,null,null,null,null,0]
[{"$f":"'Labor Summary (Office)'!A799","v":0},{"$f":"'Labor Summary (Office)'!B799","v":0},null,null,null,null,null,null,0,null,null,null,0,null,null,null,null,null,0]
[{"$f":"'Labor Summary (Office)'!A800","v":0},{"$f":"'Labor Summary (Office)'!B800","v":0},null,null,null,null,null,null,0,null,null,null,0,null,null,null,null,null,0]
[{"$f":"'Labor Summary (Office)'!A801","v":0},{"$f":"'Labor Summary (Office)'!B801","v":0},null,null,null,null,null,null,0,null,null,null,0,null,null,null,null,null,0]
[{"$f":"'Labor Summary (Office)'!A802","v":0},{"$f":"'Labor Summary (Office)'!B802","v":0},null,null,null,null,null,null,0,null,null,null,0,null,null,null,null,null,0]
[{"$f":"'Labor Summary (Office)'!A803","v":0},{"$f":"'Labor Summary (Office)'!B803","v":0},null,null,null,null,null,null,0,null,null,null,0,null,null,null,null,null,0]
[{"$f":"'Labor Summary (Office)'!A804","v":0},{"$f":"'Labor Summary (Office)'!B804","v":0},null,null,null,null,null,null,0,null,null,null,0,null,null,null,null,null,0]
[{"$f":"'Labor Summary (Office)'!A805","v":0},{"$f":"'Labor Summary (Office)'!B805","v":0},null,null,null,null,null,null,0,null,null,null,0,null,null,null,null,null,0]
[{"$f":"'Labor Summary (Office)'!A806","v":0},{"$f":"'Labor Summary (Office)'!B806","v":0},null,null,null,null,null,null,0,null,null,null,0,null,null,null,null,null,0]
[{"$f":"'Labor Summary (Office)'!A807","v":0},{"$f":"'Labor Summary (Office)'!B807","v":0},null,null,null,null,null,null,0,null,null,null,0,null,null,null,null,null,0]
[{"$f":"'Labor Summary (Office)'!A808","v":0},{"$f":"'Labor Summary (Office)'!B808","v":0},null,null,null,null,null,null,0,null,null,null,0,null,null,null,null,null,0]
[{"$f":"'Labor Summary (Office)'!A809","v":0},{"$f":"'Labor Summary (Office)'!B809","v":0},null,null,null,null,null,null,0,null,null,null,0,null,null,null,null,null,0]
[{"$f":"'Labor Summary (Office)'!A810","v":0},{"$f":"'Labor Summary (Office)'!B810","v":0},null,null,null,null,null,null,0,null,null,null,0,null,null,null,null,null,0]
[{"$f":"'Labor Summary (Office)'!A811","v":0},{"$f":"'Labor Summary (Office)'!B811","v":0},null,null,null,null,null,null,0,null,null,null,0,null,null,null,null,null,0]
[{"$f":"'Labor Summary (Office)'!A812","v":0},{"$f":"'Labor Summary (Office)'!B812","v":0},null,null,null,null,null,null,0,null,null,null,0,null,null,null,null,null,0]
[{"$f":"'Labor Summary (Office)'!A813","v":0},{"$f":"'Labor Summary (Office)'!B813","v":0},null,null,null,null,null,null,0,null,null,null,0,null,null,null,null,null,0]
[{"$f":"'Labor Summary (Office)'!A814","v":0},{"$f":"'Labor Summary (Office)'!B814","v":0},null,null,null,null,null,null,0,null,null,null,0,null,null,null,null,null,0]
[{"$f":"'Labor Summary (Office)'!A815","v":0},{"$f":"'Labor Summary (Office)'!B815","v":0},null,null,null,null,null,null,0,null,null,null,0,null,null,null,null,null,0]
[{"$f":"'Labor Summary (Office)'!A816","v":0},{"$f":"'Labor Summary (Office)'!B816","v":0},null,null,null,null,null,null,0,null,null,null,0,null,null,null,null,null,0]
[{"$f":"'Labor Summary (Office)'!A817","v":0},{"$f":"'Labor Summary (Office)'!B817","v":0},{"$f":"IF(A819=0,\"\",A819)","v":""},null,null,null,null,null,null,null,null,null,null,null,null,null,"Subtotal Line 26",null,{"$f":"ROUND(SUM(S789:S818),2)","v":0}]
[{"$f":"'Labor Summary (Office)'!A818","v":0},{"$f":"'Labor Summary (Office)'!B818","v":0},null,null,null,null,null,null,0,null,null,null,{"$f":"ROUND(L820*$M$9,2)","v":0},null,null,null,null,null,{"$f":"ROUND(F820+I820+K820+M820+N820+O820+P820+Q820+R820,2)","v":0}]
[{"$f":"'Labor Summary (Office)'!A819","v":0},{"$f":"'Labor Summary (Office)'!B819","v":0},null,null,null,null,null,null,0,null,null,null,{"$f":"ROUND(L821*$M$9,2)","v":0},null,null,null,null,null,{"$f":"ROUND(F821+I821+K821+M821+N821+O821+P821+Q821+R821,2)","v":0}]
[{"$f":"'Labor Summary (Office)'!A820","v":0},{"$f":"'Labor Summary (Office)'!B820","v":0},null,null,null,null,null,null,0,null,null,null,0,null,null,null,null,null,0]
[{"$f":"'Labor Summary (Office)'!A821","v":0},{"$f":"'Labor Summary (Office)'!B821","v":0},null,null,null,null,null,null,0,null,null,null,0,null,null,null,null,null,0]
[{"$f":"'Labor Summary (Office)'!A822","v":0},{"$f":"'Labor Summary (Office)'!B822","v":0},null,null,null,null,null,null,0,null,null,null,0,null,null,null,null,null,0]
[{"$f":"'Labor Summary (Office)'!A823","v":0},{"$f":"'Labor Summary (Office)'!B823","v":0},null,null,null,null,null,null,0,null,null,null,0,null,null,null,null,null,0]
[{"$f":"'Labor Summary (Office)'!A824","v":0},{"$f":"'Labor Summary (Office)'!B824","v":0},null,null,null,null,null,null,0,null,null,null,0,null,null,null,null,null,0]
[{"$f":"'Labor Summary (Office)'!A825","v":0},{"$f":"'Labor Summary (Office)'!B825","v":0},null,null,null,null,null,null,0,null,null,null,0,null,null,null,null,null,0]
[{"$f":"'Labor Summary (Office)'!A826","v":0},{"$f":"'Labor Summary (Office)'!B826","v":0},null,null,null,null,null,null,0,null,null,null,0,null,null,null,null,null,0]
[{"$f":"'Labor Summary (Office)'!A827","v":0},{"$f":"'Labor Summary (Office)'!B827","v":0},null,null,null,null,null,null,0,null,null,null,0,null,null,null,null,null,0]
[{"$f":"'Labor Summary (Office)'!A828","v":0},{"$f":"'Labor Summary (Office)'!B828","v":0},null,null,null,null,null,null,0,null,null,null,0,null,null,null,null,null,0]
[{"$f":"'Labor Summary (Office)'!A829","v":0},{"$f":"'Labor Summary (Office)'!B829","v":0},null,null,null,null,null,null,0,null,null,null,0,null,null,null,null,null,0]
[{"$f":"'Labor Summary (Office)'!A830","v":0},{"$f":"'Labor Summary (Office)'!B830","v":0},null,null,null,null,null,null,0,null,null,null,0,null,null,null,null,null,0]
[{"$f":"'Labor Summary (Office)'!A831","v":0},{"$f":"'Labor Summary (Office)'!B831","v":0},null,null,null,null,null,null,0,null,null,null,0,null,null,null,null,null,0]
[{"$f":"'Labor Summary (Office)'!A832","v":0},{"$f":"'Labor Summary (Office)'!B832","v":0},null,null,null,null,null,null,0,null,null,null,0,null,null,null,null,null,0]
[{"$f":"'Labor Summary (Office)'!A833","v":0},{"$f":"'Labor Summary (Office)'!B833","v":0},null,null,null,null,null,null,0,null,null,null,0,null,null,null,null,null,0]
[{"$f":"'Labor Summary (Office)'!A834","v":0},{"$f":"'Labor Summary (Office)'!B834","v":0},null,null,null,null,null,null,0,null,null,null,0,null,null,null,null,null,0]
[{"$f":"'Labor Summary (Office)'!A835","v":0},{"$f":"'Labor Summary (Office)'!B835","v":0},null,null,null,null,null,null,0,null,null,null,0,null,null,null,null,null,0]
[{"$f":"'Labor Summary (Office)'!A836","v":0},{"$f":"'Labor Summary (Office)'!B836","v":0},null,null,null,null,null,null,0,null,null,null,0,null,null,null,null,null,0]
[{"$f":"'Labor Summary (Office)'!A837","v":0},{"$f":"'Labor Summary (Office)'!B837","v":0},null,null,null,null,null,null,0,null,null,null,0,null,null,null,null,null,0]
[{"$f":"'Labor Summary (Office)'!A838","v":0},{"$f":"'Labor Summary (Office)'!B838","v":0},null,null,null,null,null,null,0,null,null,null,0,null,null,null,null,null,0]
[{"$f":"'Labor Summary (Office)'!A839","v":0},{"$f":"'Labor Summary (Office)'!B839","v":0},null,null,null,null,null,null,0,null,null,null,0,null,null,null,null,null,0]
[{"$f":"'Labor Summary (Office)'!A840","v":0},{"$f":"'Labor Summary (Office)'!B840","v":0},null,null,null,null,null,null,0,null,null,null,0,null,null,null,null,null,0]
[{"$f":"'Labor Summary (Office)'!A841","v":0},{"$f":"'Labor Summary (Office)'!B841","v":0},null,null,null,null,null,null,0,null,null,null,0,null,null,null,null,null,0]
[{"$f":"'Labor Summary (Office)'!A842","v":0},{"$f":"'Labor Summary (Office)'!B842","v":0},null,null,null,null,null,null,0,null,null,null,0,null,null,null,null,null,0]
[{"$f":"'Labor Summary (Office)'!A843","v":0},{"$f":"'Labor Summary (Office)'!B843","v":0},null,null,null,null,null,null,0,null,null,null,0,null,null,null,null,null,0]
[{"$f":"'Labor Summary (Office)'!A844","v":0},{"$f":"'Labor Summary (Office)'!B844","v":0},null,null,null,null,null,null,0,null,null,null,0,null,null,null,null,null,0]
[{"$f":"'Labor Summary (Office)'!A845","v":0},{"$f":"'Labor Summary (Office)'!B845","v":0},null,null,null,null,null,null,{"$f":"H847+G847","v":0},null,null,null,0,null,null,null,null,null,0]
[{"$f":"'Labor Summary (Office)'!A846","v":0},{"$f":"'Labor Summary (Office)'!B846","v":0},null,null,null,null,null,null,0,null,null,null,0,null,null,null,null,null,0]
[{"$f":"'Labor Summary (Office)'!A847","v":0},{"$f":"'Labor Summary (Office)'!B847","v":0},null,null,null,null,null,null,0,null,null,null,0,null,null,null,null,null,0]
[{"$f":"'Labor Summary (Office)'!A848","v":0},{"$f":"'Labor Summary (Office)'!B848","v":0},{"$f":"IF(A850=0,\"\",A850)","v":""},null,null,null,null,null,null,null,null,null,null,null,null,null,"Subtotal Line 27",null,{"$f":"ROUND(SUM(S820:S849),2)","v":0}]
[{"$f":"'Labor Summary (Office)'!A849","v":0},{"$f":"'Labor Summary (Office)'!B849","v":0},null,null,null,null,null,null,0,null,null,null,{"$f":"ROUND(L851*$M$9,2)","v":0},null,null,null,null,null,{"$f":"ROUND(F851+I851+K851+M851+N851+O851+P851+Q851+R851,2)","v":0}]
[{"$f":"'Labor Summary (Office)'!A850","v":0},{"$f":"'Labor Summary (Office)'!B850","v":0},null,null,null,null,null,null,0,null,null,null,{"$f":"ROUND(L852*$M$9,2)","v":0},null,null,null,null,null,{"$f":"ROUND(F852+I852+K852+M852+N852+O852+P852+Q852+R852,2)","v":0}]
[{"$f":"'Labor Summary (Office)'!A851","v":0},{"$f":"'Labor Summary (Office)'!B851","v":0},null,null,null,null,null,null,0,null,null,null,0,null,null,null,null,null,0]
[{"$f":"'Labor Summary (Office)'!A852","v":0},{"$f":"'Labor Summary (Office)'!B852","v":0},null,null,null,null,null,null,0,null,null,null,0,null,null,null,null,null,0]
[{"$f":"'Labor Summary (Office)'!A853","v":0},{"$f":"'Labor Summary (Office)'!B853","v":0},null,null,null,null,null,null,0,null,null,null,0,null,null,null,null,null,0]
[{"$f":"'Labor Summary (Office)'!A854","v":0},{"$f":"'Labor Summary (Office)'!B854","v":0},null,null,null,null,null,null,0,null,null,null,0,null,null,null,null,null,0]
[{"$f":"'Labor Summary (Office)'!A855","v":0},{"$f":"'Labor Summary (Office)'!B855","v":0},null,null,null,null,null,null,0,null,null,null,0,null,null,null,null,null,0]
[{"$f":"'Labor Summary (Office)'!A856","v":0},{"$f":"'Labor Summary (Office)'!B856","v":0},null,null,null,null,null,null,0,null,null,null,0,null,null,null,null,null,0]
[{"$f":"'Labor Summary (Office)'!A857","v":0},{"$f":"'Labor Summary (Office)'!B857","v":0},null,null,null,null,null,null,0,null,null,null,0,null,null,null,null,null,0]
[{"$f":"'Labor Summary (Office)'!A858","v":0},{"$f":"'Labor Summary (Office)'!B858","v":0},null,null,null,null,null,null,0,null,null,null,0,null,null,null,null,null,0]
[{"$f":"'Labor Summary (Office)'!A859","v":0},{"$f":"'Labor Summary (Office)'!B859","v":0},null,null,null,null,null,null,0,null,null,null,0,null,null,null,null,null,0]
[{"$f":"'Labor Summary (Office)'!A860","v":0},{"$f":"'Labor Summary (Office)'!B860","v":0},null,null,null,null,null,null,0,null,null,null,0,null,null,null,null,null,0]
[{"$f":"'Labor Summary (Office)'!A861","v":0},{"$f":"'Labor Summary (Office)'!B861","v":0},null,null,null,null,null,null,0,null,null,null,0,null,null,null,null,null,0]
[{"$f":"'Labor Summary (Office)'!A862","v":0},{"$f":"'Labor Summary (Office)'!B862","v":0},null,null,null,null,null,null,0,null,null,null,0,null,null,null,null,null,0]
[{"$f":"'Labor Summary (Office)'!A863","v":0},{"$f":"'Labor Summary (Office)'!B863","v":0},null,null,null,null,null,null,0,null,null,null,0,null,null,null,null,null,0]
[{"$f":"'Labor Summary (Office)'!A864","v":0},{"$f":"'Labor Summary (Office)'!B864","v":0},null,null,null,null,null,null,0,null,null,null,0,null,null,null,null,null,0]
[{"$f":"'Labor Summary (Office)'!A865","v":0},{"$f":"'Labor Summary (Office)'!B865","v":0},null,null,null,null,null,null,0,null,null,null,0,null,null,null,null,null,0]
[{"$f":"'Labor Summary (Office)'!A866","v":0},{"$f":"'Labor Summary (Office)'!B866","v":0},null,null,null,null,null,null,0,null,null,null,0,null,null,null,null,null,0]
[{"$f":"'Labor Summary (Office)'!A867","v":0},{"$f":"'Labor Summary (Office)'!B867","v":0},null,null,null,null,null,null,0,null,null,null,0,null,null,null,null,null,0]
[{"$f":"'Labor Summary (Office)'!A868","v":0},{"$f":"'Labor Summary (Office)'!B868","v":0},null,null,null,null,null,null,0,null,null,null,0,null,null,null,null,null,0]
[{"$f":"'Labor Summary (Office)'!A869","v":0},{"$f":"'Labor Summary (Office)'!B869","v":0},null,null,null,null,null,null,0,null,null,null,0,null,null,null,null,null,0]
[{"$f":"'Labor Summary (Office)'!A870","v":0},{"$f":"'Labor Summary (Office)'!B870","v":0},null,null,null,null,null,null,0,null,null,null,0,null,null,null,null,null,0]
[{"$f":"'Labor Summary (Office)'!A871","v":0},{"$f":"'Labor Summary (Office)'!B871","v":0},null,null,null,null,null,null,0,null,null,null,0,null,null,null,null,null,0]
[{"$f":"'Labor Summary (Office)'!A872","v":0},{"$f":"'Labor Summary (Office)'!B872","v":0},null,null,null,null,null,null,0,null,null,null,0,null,null,null,null,null,0]
[{"$f":"'Labor Summary (Office)'!A873","v":0},{"$f":"'Labor Summary (Office)'!B873","v":0},null,null,null,null,null,null,0,null,null,null,0,null,null,null,null,null,0]
[{"$f":"'Labor Summary (Office)'!A874","v":0},{"$f":"'Labor Summary (Office)'!B874","v":0},null,null,null,null,null,null,0,null,null,null,0,null,null,null,null,null,0]
[{"$f":"'Labor Summary (Office)'!A875","v":0},{"$f":"'Labor Summary (Office)'!B875","v":0},null,null,null,null,null,null,0,null,null,null,0,null,null,null,null,null,0]
[{"$f":"'Labor Summary (Office)'!A876","v":0},{"$f":"'Labor Summary (Office)'!B876","v":0},null,null,null,null,null,null,0,null,null,null,0,null,null,null,null,null,0]
[{"$f":"'Labor Summary (Office)'!A877","v":0},{"$f":"'Labor Summary (Office)'!B877","v":0},null,null,null,null,null,null,0,null,null,null,0,null,null,null,null,null,0]
[{"$f":"'Labor Summary (Office)'!A878","v":0},{"$f":"'Labor Summary (Office)'!B878","v":0},null,null,null,null,null,null,0,null,null,null,0,null,null,null,null,null,0]
[{"$f":"'Labor Summary (Office)'!A879","v":0},{"$f":"'Labor Summary (Office)'!B879","v":0},{"$f":"IF(A881=0,\"\",A881)","v":""},null,null,null,null,null,null,null,null,null,null,null,null,null,"Subtotal Line 28",null,{"$f":"ROUND(SUM(S851:S880),2)","v":0}]
[{"$f":"'Labor Summary (Office)'!A880","v":0},{"$f":"'Labor Summary (Office)'!B880","v":0},null,null,null,null,null,null,0,null,null,null,{"$f":"ROUND(L882*$M$9,2)","v":0},null,null,null,null,null,{"$f":"ROUND(F882+I882+K882+M882+N882+O882+P882+Q882+R882,2)","v":0}]
[{"$f":"'Labor Summary (Office)'!A881","v":0},{"$f":"'Labor Summary (Office)'!B881","v":0},null,null,null,null,null,null,0,null,null,null,{"$f":"ROUND(L883*$M$9,2)","v":0},null,null,null,null,null,{"$f":"ROUND(F883+I883+K883+M883+N883+O883+P883+Q883+R883,2)","v":0}]
[{"$f":"'Labor Summary (Office)'!A882","v":0},{"$f":"'Labor Summary (Office)'!B882","v":0},null,null,null,null,null,null,0,null,null,null,0,null,null,null,null,null,0]
[{"$f":"'Labor Summary (Office)'!A883","v":0},{"$f":"'Labor Summary (Office)'!B883","v":0},null,null,null,null,null,null,0,null,null,null,0,null,null,null,null,null,0]
[{"$f":"'Labor Summary (Office)'!A884","v":0},{"$f":"'Labor Summary (Office)'!B884","v":0},null,null,null,null,null,null,0,null,null,null,0,null,null,null,null,null,0]
[{"$f":"'Labor Summary (Office)'!A885","v":0},{"$f":"'Labor Summary (Office)'!B885","v":0},null,null,null,null,null,null,0,null,null,null,0,null,null,null,null,null,0]
[{"$f":"'Labor Summary (Office)'!A886","v":0},{"$f":"'Labor Summary (Office)'!B886","v":0},null,null,null,null,null,null,0,null,null,null,0,null,null,null,null,null,0]
[{"$f":"'Labor Summary (Office)'!A887","v":0},{"$f":"'Labor Summary (Office)'!B887","v":0},null,null,null,null,null,null,0,null,null,null,0,null,null,null,null,null,0]
[{"$f":"'Labor Summary (Office)'!A888","v":0},{"$f":"'Labor Summary (Office)'!B888","v":0},null,null,null,null,null,null,0,null,null,null,0,null,null,null,null,null,0]
[{"$f":"'Labor Summary (Office)'!A889","v":0},{"$f":"'Labor Summary (Office)'!B889","v":0},null,null,null,null,null,null,0,null,null,null,0,null,null,null,null,null,0]
[{"$f":"'Labor Summary (Office)'!A890","v":0},{"$f":"'Labor Summary (Office)'!B890","v":0},null,null,null,null,null,null,0,null,null,null,0,null,null,null,null,null,0]
[{"$f":"'Labor Summary (Office)'!A891","v":0},{"$f":"'Labor Summary (Office)'!B891","v":0},null,null,null,null,null,null,0,null,null,null,0,null,null,null,null,null,0]
[{"$f":"'Labor Summary (Office)'!A892","v":0},{"$f":"'Labor Summary (Office)'!B892","v":0},null,null,null,null,null,null,0,null,null,null,0,null,null,null,null,null,0]
[{"$f":"'Labor Summary (Office)'!A893","v":0},{"$f":"'Labor Summary (Office)'!B893","v":0},null,null,null,null,null,null,0,null,null,null,0,null,null,null,null,null,0]
[{"$f":"'Labor Summary (Office)'!A894","v":0},{"$f":"'Labor Summary (Office)'!B894","v":0},null,null,null,null,null,null,0,null,null,null,0,null,null,null,null,null,0]
[{"$f":"'Labor Summary (Office)'!A895","v":0},{"$f":"'Labor Summary (Office)'!B895","v":0},null,null,null,null,null,null,0,null,null,null,0,null,null,null,null,null,0]
[{"$f":"'Labor Summary (Office)'!A896","v":0},{"$f":"'Labor Summary (Office)'!B896","v":0},null,null,null,null,null,null,0,null,null,null,0,null,null,null,null,null,0]
[{"$f":"'Labor Summary (Office)'!A897","v":0},{"$f":"'Labor Summary (Office)'!B897","v":0},null,null,null,null,null,null,0,null,null,null,0,null,null,null,null,null,0]
[{"$f":"'Labor Summary (Office)'!A898","v":0},{"$f":"'Labor Summary (Office)'!B898","v":0},null,null,null,null,null,null,0,null,null,null,0,null,null,null,null,null,0]
[{"$f":"'Labor Summary (Office)'!A899","v":0},{"$f":"'Labor Summary (Office)'!B899","v":0},null,null,null,null,null,null,0,null,null,null,0,null,null,null,null,null,0]
[{"$f":"'Labor Summary (Office)'!A900","v":0},{"$f":"'Labor Summary (Office)'!B900","v":0},null,null,null,null,null,null,0,null,null,null,0,null,null,null,null,null,0]
[{"$f":"'Labor Summary (Office)'!A901","v":0},{"$f":"'Labor Summary (Office)'!B901","v":0},null,null,null,null,null,null,0,null,null,null,0,null,null,null,null,null,0]
[{"$f":"'Labor Summary (Office)'!A902","v":0},{"$f":"'Labor Summary (Office)'!B902","v":0},null,null,null,null,null,null,0,null,null,null,0,null,null,null,null,null,0]
[{"$f":"'Labor Summary (Office)'!A903","v":0},{"$f":"'Labor Summary (Office)'!B903","v":0},null,null,null,null,null,null,0,null,null,null,0,null,null,null,null,null,0]
[{"$f":"'Labor Summary (Office)'!A904","v":0},{"$f":"'Labor Summary (Office)'!B904","v":0},null,null,null,null,null,null,0,null,null,null,0,null,null,null,null,null,0]
[{"$f":"'Labor Summary (Office)'!A905","v":0},{"$f":"'Labor Summary (Office)'!B905","v":0},null,null,null,null,null,null,0,null,null,null,0,null,null,null,null,null,0]
[{"$f":"'Labor Summary (Office)'!A906","v":0},{"$f":"'Labor Summary (Office)'!B906","v":0},null,null,null,null,null,null,0,null,null,null,0,null,null,null,null,null,0]
[{"$f":"'Labor Summary (Office)'!A907","v":0},{"$f":"'Labor Summary (Office)'!B907","v":0},null,null,null,null,null,null,0,null,null,null,0,null,null,null,null,null,0]
[{"$f":"'Labor Summary (Office)'!A908","v":0},{"$f":"'Labor Summary (Office)'!B908","v":0},null,null,null,null,null,null,0,null,null,null,0,null,null,null,null,null,0]
[{"$f":"'Labor Summary (Office)'!A909","v":0},{"$f":"'Labor Summary (Office)'!B909","v":0},null,null,null,null,null,null,{"$f":"H911+G911","v":0},null,null,null,0,null,null,null,null,null,0]
[{"$f":"'Labor Summary (Office)'!A910","v":0},{"$f":"'Labor Summary (Office)'!B910","v":0},{"$f":"IF(A912=0,\"\",A912)","v":""},null,null,null,null,null,null,null,null,null,null,null,null,null,"Subtotal Line 29",null,{"$f":"ROUND(SUM(S882:S911),2)","v":0}]
[{"$f":"'Labor Summary (Office)'!A911","v":0},{"$f":"'Labor Summary (Office)'!B911","v":0},null,null,null,null,null,null,0,null,null,null,{"$f":"ROUND(L913*$M$9,2)","v":0},null,null,null,null,null,{"$f":"ROUND(F913+I913+K913+M913+N913+O913+P913+Q913+R913,2)","v":0}]
[{"$f":"'Labor Summary (Office)'!A912","v":0},{"$f":"'Labor Summary (Office)'!B912","v":0},null,null,null,null,null,null,0,null,null,null,{"$f":"ROUND(L914*$M$9,2)","v":0},null,null,null,null,null,{"$f":"ROUND(F914+I914+K914+M914+N914+O914+P914+Q914+R914,2)","v":0}]
[{"$f":"'Labor Summary (Office)'!A913","v":0},{"$f":"'Labor Summary (Office)'!B913","v":0},null,null,null,null,null,null,0,null,null,null,0,null,null,null,null,null,0]
[{"$f":"'Labor Summary (Office)'!A914","v":0},{"$f":"'Labor Summary (Office)'!B914","v":0},null,null,null,null,null,null,0,null,null,null,0,null,null,null,null,null,0]
[{"$f":"'Labor Summary (Office)'!A915","v":0},{"$f":"'Labor Summary (Office)'!B915","v":0},null,null,null,null,null,null,0,null,null,null,0,null,null,null,null,null,0]
[{"$f":"'Labor Summary (Office)'!A916","v":0},{"$f":"'Labor Summary (Office)'!B916","v":0},null,null,null,null,null,null,0,null,null,null,0,null,null,null,null,null,0]
[{"$f":"'Labor Summary (Office)'!A917","v":0},{"$f":"'Labor Summary (Office)'!B917","v":0},null,null,null,null,null,null,0,null,null,null,0,null,null,null,null,null,0]
[{"$f":"'Labor Summary (Office)'!A918","v":0},{"$f":"'Labor Summary (Office)'!B918","v":0},null,null,null,null,null,null,0,null,null,null,0,null,null,null,null,null,0]
[{"$f":"'Labor Summary (Office)'!A919","v":0},{"$f":"'Labor Summary (Office)'!B919","v":0},null,null,null,null,null,null,0,null,null,null,0,null,null,null,null,null,0]
[{"$f":"'Labor Summary (Office)'!A920","v":0},{"$f":"'Labor Summary (Office)'!B920","v":0},null,null,null,null,null,null,0,null,null,null,0,null,null,null,null,null,0]
[{"$f":"'Labor Summary (Office)'!A921","v":0},{"$f":"'Labor Summary (Office)'!B921","v":0},null,null,null,null,null,null,0,null,null,null,0,null,null,null,null,null,0]
[{"$f":"'Labor Summary (Office)'!A922","v":0},{"$f":"'Labor Summary (Office)'!B922","v":0},null,null,null,null,null,null,0,null,null,null,0,null,null,null,null,null,0]
[{"$f":"'Labor Summary (Office)'!A923","v":0},{"$f":"'Labor Summary (Office)'!B923","v":0},null,null,null,null,null,null,0,null,null,null,0,null,null,null,null,null,0]
[{"$f":"'Labor Summary (Office)'!A924","v":0},{"$f":"'Labor Summary (Office)'!B924","v":0},null,null,null,null,null,null,0,null,null,null,0,null,null,null,null,null,0]
[{"$f":"'Labor Summary (Office)'!A925","v":0},{"$f":"'Labor Summary (Office)'!B925","v":0},null,null,null,null,null,null,0,null,null,null,0,null,null,null,null,null,0]
[{"$f":"'Labor Summary (Office)'!A926","v":0},{"$f":"'Labor Summary (Office)'!B926","v":0},null,null,null,null,null,null,0,null,null,null,0,null,null,null,null,null,0]
[{"$f":"'Labor Summary (Office)'!A927","v":0},{"$f":"'Labor Summary (Office)'!B927","v":0},null,null,null,null,null,null,0,null,null,null,0,null,null,null,null,null,0]
[{"$f":"'Labor Summary (Office)'!A928","v":0},{"$f":"'Labor Summary (Office)'!B928","v":0},null,null,null,null,null,null,0,null,null,null,0,null,null,null,null,null,0]
[{"$f":"'Labor Summary (Office)'!A929","v":0},{"$f":"'Labor Summary (Office)'!B929","v":0},null,null,null,null,null,null,0,null,null,null,0,null,null,null,null,null,0]
[{"$f":"'Labor Summary (Office)'!A930","v":0},{"$f":"'Labor Summary (Office)'!B930","v":0},null,null,null,null,null,null,0,null,null,null,0,null,null,null,null,null,0]
[{"$f":"'Labor Summary (Office)'!A931","v":0},{"$f":"'Labor Summary (Office)'!B931","v":0},null,null,null,null,null,null,0,null,null,null,0,null,null,null,null,null,0]
[{"$f":"'Labor Summary (Office)'!A932","v":0},{"$f":"'Labor Summary (Office)'!B932","v":0},null,null,null,null,null,null,0,null,null,null,0,null,null,null,null,null,0]
[{"$f":"'Labor Summary (Office)'!A933","v":0},{"$f":"'Labor Summary (Office)'!B933","v":0},null,null,null,null,null,null,0,null,null,null,0,null,null,null,null,null,0]
[{"$f":"'Labor Summary (Office)'!A934","v":0},{"$f":"'Labor Summary (Office)'!B934","v":0},null,null,null,null,null,null,0,null,null,null,0,null,null,null,null,null,0]
[{"$f":"'Labor Summary (Office)'!A935","v":0},{"$f":"'Labor Summary (Office)'!B935","v":0},null,null,null,null,null,null,0,null,null,null,0,null,null,null,null,null,0]
[{"$f":"'Labor Summary (Office)'!A936","v":0},{"$f":"'Labor Summary (Office)'!B936","v":0},null,null,null,null,null,null,0,null,null,null,0,null,null,null,null,null,0]
[{"$f":"'Labor Summary (Office)'!A937","v":0},{"$f":"'Labor Summary (Office)'!B937","v":0},null,null,null,null,null,null,0,null,null,null,0,null,null,null,null,null,0]
[{"$f":"'Labor Summary (Office)'!A938","v":0},{"$f":"'Labor Summary (Office)'!B938","v":0},null,null,null,null,null,null,0,null,null,null,0,null,null,null,null,null,0]
[{"$f":"'Labor Summary (Office)'!A939","v":0},{"$f":"'Labor Summary (Office)'!B939","v":0},null,null,null,null,null,null,0,null,null,null,0,null,null,null,null,null,0]
[{"$f":"'Labor Summary (Office)'!A940","v":0},{"$f":"'Labor Summary (Office)'!B940","v":0},null,null,null,null,null,null,0,null,null,null,0,null,null,null,null,null,0]
[{"$f":"'Labor Summary (Office)'!A941","v":0},{"$f":"'Labor Summary (Office)'!B941","v":0},{"$f":"IF(A943=0,\"\",A943)","v":""},null,null,null,null,null,null,null,null,null,null,null,null,null,"Subtotal Line 30",null,{"$f":"ROUND(SUM(S913:S942),2)","v":0}]
[{"$f":"'Labor Summary (Office)'!A942","v":0},{"$f":"'Labor Summary (Office)'!B942","v":0},null,null,null,null,null,null,0,null,null,null,{"$f":"ROUND(L944*$M$9,2)","v":0},null,null,null,null,null,{"$f":"ROUND(F944+I944+K944+M944+N944+O944+P944+Q944+R944,2)","v":0}]
[{"$f":"'Labor Summary (Office)'!A943","v":0},{"$f":"'Labor Summary (Office)'!B943","v":0},null,null,null,null,null,null,0,null,null,null,{"$f":"ROUND(L945*$M$9,2)","v":0},null,null,null,null,null,{"$f":"ROUND(F945+I945+K945+M945+N945+O945+P945+Q945+R945,2)","v":0}]
[{"$f":"'Labor Summary (Office)'!A944","v":0},{"$f":"'Labor Summary (Office)'!B944","v":0},null,null,null,null,null,null,0,null,null,null,0,null,null,null,null,null,0]
[{"$f":"'Labor Summary (Office)'!A945","v":0},{"$f":"'Labor Summary (Office)'!B945","v":0},null,null,null,null,null,null,0,null,null,null,0,null,null,null,null,null,0]
[{"$f":"'Labor Summary (Office)'!A946","v":0},{"$f":"'Labor Summary (Office)'!B946","v":0},null,null,null,null,null,null,0,null,null,null,0,null,null,null,null,null,0]
[{"$f":"'Labor Summary (Office)'!A947","v":0},{"$f":"'Labor Summary (Office)'!B947","v":0},null,null,null,null,null,null,0,null,null,null,0,null,null,null,null,null,0]
[{"$f":"'Labor Summary (Office)'!A948","v":0},{"$f":"'Labor Summary (Office)'!B948","v":0},null,null,null,null,null,null,0,null,null,null,0,null,null,null,null,null,0]
[{"$f":"'Labor Summary (Office)'!A949","v":0},{"$f":"'Labor Summary (Office)'!B949","v":0},null,null,null,null,null,null,0,null,null,null,0,null,null,null,null,null,0]
[{"$f":"'Labor Summary (Office)'!A950","v":0},{"$f":"'Labor Summary (Office)'!B950","v":0},null,null,null,null,null,null,0,null,null,null,0,null,null,null,null,null,0]
[{"$f":"'Labor Summary (Office)'!A951","v":0},{"$f":"'Labor Summary (Office)'!B951","v":0},null,null,null,null,null,null,0,null,null,null,0,null,null,null,null,null,0]
[{"$f":"'Labor Summary (Office)'!A952","v":0},{"$f":"'Labor Summary (Office)'!B952","v":0},null,null,null,null,null,null,0,null,null,null,0,null,null,null,null,null,0]
[{"$f":"'Labor Summary (Office)'!A953","v":0},{"$f":"'Labor Summary (Office)'!B953","v":0},null,null,null,null,null,null,0,null,null,null,0,null,null,null,null,null,0]
[{"$f":"'Labor Summary (Office)'!A954","v":0},{"$f":"'Labor Summary (Office)'!B954","v":0},null,null,null,null,null,null,0,null,null,null,0,null,null,null,null,null,0]
[{"$f":"'Labor Summary (Office)'!A955","v":0},{"$f":"'Labor Summary (Office)'!B955","v":0},null,null,null,null,null,null,0,null,null,null,0,null,null,null,null,null,0]
[{"$f":"'Labor Summary (Office)'!A956","v":0},{"$f":"'Labor Summary (Office)'!B956","v":0},null,null,null,null,null,null,0,null,null,null,0,null,null,null,null,null,0]
[{"$f":"'Labor Summary (Office)'!A957","v":0},{"$f":"'Labor Summary (Office)'!B957","v":0},null,null,null,null,null,null,0,null,null,null,0,null,null,null,null,null,0]
[{"$f":"'Labor Summary (Office)'!A958","v":0},{"$f":"'Labor Summary (Office)'!B958","v":0},null,null,null,null,null,null,0,null,null,null,0,null,null,null,null,null,0]
[{"$f":"'Labor Summary (Office)'!A959","v":0},{"$f":"'Labor Summary (Office)'!B959","v":0},null,null,null,null,null,null,0,null,null,null,0,null,null,null,null,null,0]
[{"$f":"'Labor Summary (Office)'!A960","v":0},{"$f":"'Labor Summary (Office)'!B960","v":0},null,null,null,null,null,null,0,null,null,null,0,null,null,null,null,null,0]
[{"$f":"'Labor Summary (Office)'!A961","v":0},{"$f":"'Labor Summary (Office)'!B961","v":0},null,null,null,null,null,null,0,null,null,null,0,null,null,null,null,null,0]
[{"$f":"'Labor Summary (Office)'!A962","v":0},{"$f":"'Labor Summary (Office)'!B962","v":0},null,null,null,null,null,null,0,null,null,null,0,null,null,null,null,null,0]
[{"$f":"'Labor Summary (Office)'!A963","v":0},{"$f":"'Labor Summary (Office)'!B963","v":0},null,null,null,null,null,null,0,null,null,null,0,null,null,null,null,null,0]
[{"$f":"'Labor Summary (Office)'!A964","v":0},{"$f":"'Labor Summary (Office)'!B964","v":0},null,null,null,null,null,null,0,null,null,null,0,null,null,null,null,null,0]
[{"$f":"'Labor Summary (Office)'!A965","v":0},{"$f":"'Labor Summary (Office)'!B965","v":0},null,null,null,null,null,null,0,null,null,null,0,null,null,null,null,null,0]
[{"$f":"'Labor Summary (Office)'!A966","v":0},{"$f":"'Labor Summary (Office)'!B966","v":0},null,null,null,null,null,null,0,null,null,null,0,null,null,null,null,null,0]
[{"$f":"'Labor Summary (Office)'!A967","v":0},{"$f":"'Labor Summary (Office)'!B967","v":0},null,null,null,null,null,null,0,null,null,null,0,null,null,null,null,null,0]
[{"$f":"'Labor Summary (Office)'!A968","v":0},{"$f":"'Labor Summary (Office)'!B968","v":0},null,null,null,null,null,null,0,null,null,null,0,null,null,null,null,null,0]
[{"$f":"'Labor Summary (Office)'!A969","v":0},{"$f":"'Labor Summary (Office)'!B969","v":0},null,null,null,null,null,null,0,null,null,null,0,null,null,null,null,null,0]
[{"$f":"'Labor Summary (Office)'!A970","v":0},{"$f":"'Labor Summary (Office)'!B970","v":0},null,null,null,null,null,null,0,null,null,null,0,null,null,null,null,null,0]
[{"$f":"'Labor Summary (Office)'!A971","v":0},{"$f":"'Labor Summary (Office)'!B971","v":0},null,null,null,null,null,null,0,null,null,null,0,null,null,null,null,null,0]
[{"$f":"'Labor Summary (Office)'!A972","v":0},{"$f":"'Labor Summary (Office)'!B972","v":0},{"$f":"IF(A974=0,\"\",A974)","v":""},null,null,null,null,null,null,null,null,null,null,null,null,null,"Subtotal Line 31",null,{"$f":"ROUND(SUM(S944:S973),2)","v":0}]
[{"$f":"'Labor Summary (Office)'!A973","v":0},{"$f":"'Labor Summary (Office)'!B973","v":0},null,null,null,null,null,null,{"$f":"H975+G975","v":0},null,null,null,{"$f":"ROUND(L975*$M$9,2)","v":0},null,null,null,null,null,{"$f":"ROUND(F975+I975+K975+M975+N975+O975+P975+Q975+R975,2)","v":0}]
[{"$f":"'Labor Summary (Office)'!A974","v":0},{"$f":"'Labor Summary (Office)'!B974","v":0},null,null,null,null,null,null,0,null,null,null,{"$f":"ROUND(L976*$M$9,2)","v":0},null,null,null,null,null,{"$f":"ROUND(F976+I976+K976+M976+N976+O976+P976+Q976+R976,2)","v":0}]
[{"$f":"'Labor Summary (Office)'!A975","v":0},{"$f":"'Labor Summary (Office)'!B975","v":0},null,null,null,null,null,null,0,null,null,null,0,null,null,null,null,null,0]
[{"$f":"'Labor Summary (Office)'!A976","v":0},{"$f":"'Labor Summary (Office)'!B976","v":0},null,null,null,null,null,null,0,null,null,null,0,null,null,null,null,null,0]
[{"$f":"'Labor Summary (Office)'!A977","v":0},{"$f":"'Labor Summary (Office)'!B977","v":0},null,null,null,null,null,null,0,null,null,null,0,null,null,null,null,null,0]
[{"$f":"'Labor Summary (Office)'!A978","v":0},{"$f":"'Labor Summary (Office)'!B978","v":0},null,null,null,null,null,null,0,null,null,null,0,null,null,null,null,null,0]
[{"$f":"'Labor Summary (Office)'!A979","v":0},{"$f":"'Labor Summary (Office)'!B979","v":0},null,null,null,null,null,null,0,null,null,null,0,null,null,null,null,null,0]
[{"$f":"'Labor Summary (Office)'!A980","v":0},{"$f":"'Labor Summary (Office)'!B980","v":0},null,null,null,null,null,null,0,null,null,null,0,null,null,null,null,null,0]
[{"$f":"'Labor Summary (Office)'!A981","v":0},{"$f":"'Labor Summary (Office)'!B981","v":0},null,null,null,null,null,null,0,null,null,null,0,null,null,null,null,null,0]
[{"$f":"'Labor Summary (Office)'!A982","v":0},{"$f":"'Labor Summary (Office)'!B982","v":0},null,null,null,null,null,null,0,null,null,null,0,null,null,null,null,null,0]
[{"$f":"'Labor Summary (Office)'!A983","v":0},{"$f":"'Labor Summary (Office)'!B983","v":0},null,null,null,null,null,null,0,null,null,null,0,null,null,null,null,null,0]
[{"$f":"'Labor Summary (Office)'!A984","v":0},{"$f":"'Labor Summary (Office)'!B984","v":0},null,null,null,null,null,null,0,null,null,null,0,null,null,null,null,null,0]
[{"$f":"'Labor Summary (Office)'!A985","v":0},{"$f":"'Labor Summary (Office)'!B985","v":0},null,null,null,null,null,null,0,null,null,null,0,null,null,null,null,null,0]
[{"$f":"'Labor Summary (Office)'!A986","v":0},{"$f":"'Labor Summary (Office)'!B986","v":0},null,null,null,null,null,null,0,null,null,null,0,null,null,null,null,null,0]
[{"$f":"'Labor Summary (Office)'!A987","v":0},{"$f":"'Labor Summary (Office)'!B987","v":0},null,null,null,null,null,null,0,null,null,null,0,null,null,null,null,null,0]
[{"$f":"'Labor Summary (Office)'!A988","v":0},{"$f":"'Labor Summary (Office)'!B988","v":0},null,null,null,null,null,null,0,null,null,null,0,null,null,null,null,null,0]
[{"$f":"'Labor Summary (Office)'!A989","v":0},{"$f":"'Labor Summary (Office)'!B989","v":0},null,null,null,null,null,null,0,null,null,null,0,null,null,null,null,null,0]
[{"$f":"'Labor Summary (Office)'!A990","v":0},{"$f":"'Labor Summary (Office)'!B990","v":0},null,null,null,null,null,null,0,null,null,null,0,null,null,null,null,null,0]
[{"$f":"'Labor Summary (Office)'!A991","v":0},{"$f":"'Labor Summary (Office)'!B991","v":0},null,null,null,null,null,null,0,null,null,null,0,null,null,null,null,null,0]
[{"$f":"'Labor Summary (Office)'!A992","v":0},{"$f":"'Labor Summary (Office)'!B992","v":0},null,null,null,null,null,null,0,null,null,null,0,null,null,null,null,null,0]
[{"$f":"'Labor Summary (Office)'!A993","v":0},{"$f":"'Labor Summary (Office)'!B993","v":0},null,null,null,null,null,null,0,null,null,null,0,null,null,null,null,null,0]
[{"$f":"'Labor Summary (Office)'!A994","v":0},{"$f":"'Labor Summary (Office)'!B994","v":0},null,null,null,null,null,null,0,null,null,null,0,null,null,null,null,null,0]
[{"$f":"'Labor Summary (Office)'!A995","v":0},{"$f":"'Labor Summary (Office)'!B995","v":0},null,null,null,null,null,null,0,null,null,null,0,null,null,null,null,null,0]
[{"$f":"'Labor Summary (Office)'!A996","v":0},{"$f":"'Labor Summary (Office)'!B996","v":0},null,null,null,null,null,null,0,null,null,null,0,null,null,null,null,null,0]
[{"$f":"'Labor Summary (Office)'!A997","v":0},{"$f":"'Labor Summary (Office)'!B997","v":0},null,null,null,null,null,null,0,null,null,null,0,null,null,null,null,null,0]
[{"$f":"'Labor Summary (Office)'!A998","v":0},{"$f":"'Labor Summary (Office)'!B998","v":0},null,null,null,null,null,null,0,null,null,null,0,null,null,null,null,null,0]
[{"$f":"'Labor Summary (Office)'!A999","v":0},{"$f":"'Labor Summary (Office)'!B999","v":0},null,null,null,null,null,null,0,null,null,null,0,null,null,null,null,null,0]
[{"$f":"'Labor Summary (Office)'!A1000","v":0},{"$f":"'Labor Summary (Office)'!B1000","v":0},null,null,null,null,null,null,0,null,null,null,0,null,null,null,null,null,0]
[{"$f":"'Labor Summary (Office)'!A1001","v":0},{"$f":"'Labor Summary (Office)'!B1001","v":0},null,null,null,null,null,null,0,null,null,null,0,null,null,null,null,null,0]
[{"$f":"'Labor Summary (Office)'!A1002","v":0},{"$f":"'Labor Summary (Office)'!B1002","v":0},null,null,null,null,null,null,0,null,null,null,0,null,null,null,null,null,0]
[{"$f":"'Labor Summary (Office)'!A1003","v":0},{"$f":"'Labor Summary (Office)'!B1003","v":0},{"$f":"IF(A1005=0,\"\",A1005)","v":""},null,null,null,null,null,null,null,null,null,null,null,null,null,"Subtotal Line 32",null,{"$f":"ROUND(SUM(S975:S1004),2)","v":0}]
[{"$f":"'Labor Summary (Office)'!A1004","v":0},{"$f":"'Labor Summary (Office)'!B1004","v":0},null,null,null,null,null,null,0,null,null,null,{"$f":"ROUND(L1006*$M$9,2)","v":0},null,null,null,null,null,{"$f":"ROUND(F1006+I1006+K1006+M1006+N1006+O1006+P1006+Q1006+R1006,2)","v":0}]
[{"$f":"'Labor Summary (Office)'!A1005","v":0},{"$f":"'Labor Summary (Office)'!B1005","v":0},null,null,null,null,null,null,0,null,null,null,{"$f":"ROUND(L1007*$M$9,2)","v":0},null,null,null,null,null,{"$f":"ROUND(F1007+I1007+K1007+M1007+N1007+O1007+P1007+Q1007+R1007,2)","v":0}]
[{"$f":"'Labor Summary (Office)'!A1006","v":0},{"$f":"'Labor Summary (Office)'!B1006","v":0},null,null,null,null,null,null,0,null,null,null,0,null,null,null,null,null,0]
[{"$f":"'Labor Summary (Office)'!A1007","v":0},{"$f":"'Labor Summary (Office)'!B1007","v":0},null,null,null,null,null,null,0,null,null,null,0,null,null,null,null,null,0]
[{"$f":"'Labor Summary (Office)'!A1008","v":0},{"$f":"'Labor Summary (Office)'!B1008","v":0},null,null,null,null,null,null,0,null,null,null,0,null,null,null,null,null,0]
[{"$f":"'Labor Summary (Office)'!A1009","v":0},{"$f":"'Labor Summary (Office)'!B1009","v":0},null,null,null,null,null,null,0,null,null,null,0,null,null,null,null,null,0]
[{"$f":"'Labor Summary (Office)'!A1010","v":0},{"$f":"'Labor Summary (Office)'!B1010","v":0},null,null,null,null,null,null,0,null,null,null,0,null,null,null,null,null,0]
[{"$f":"'Labor Summary (Office)'!A1011","v":0},{"$f":"'Labor Summary (Office)'!B1011","v":0},null,null,null,null,null,null,0,null,null,null,0,null,null,null,null,null,0]
[{"$f":"'Labor Summary (Office)'!A1012","v":0},{"$f":"'Labor Summary (Office)'!B1012","v":0},null,null,null,null,null,null,0,null,null,null,0,null,null,null,null,null,0]
[{"$f":"'Labor Summary (Office)'!A1013","v":0},{"$f":"'Labor Summary (Office)'!B1013","v":0},null,null,null,null,null,null,0,null,null,null,0,null,null,null,null,null,0]
[{"$f":"'Labor Summary (Office)'!A1014","v":0},{"$f":"'Labor Summary (Office)'!B1014","v":0},null,null,null,null,null,null,0,null,null,null,0,null,null,null,null,null,0]
[{"$f":"'Labor Summary (Office)'!A1015","v":0},{"$f":"'Labor Summary (Office)'!B1015","v":0},null,null,null,null,null,null,0,null,null,null,0,null,null,null,null,null,0]
[{"$f":"'Labor Summary (Office)'!A1016","v":0},{"$f":"'Labor Summary (Office)'!B1016","v":0},null,null,null,null,null,null,0,null,null,null,0,null,null,null,null,null,0]
[{"$f":"'Labor Summary (Office)'!A1017","v":0},{"$f":"'Labor Summary (Office)'!B1017","v":0},null,null,null,null,null,null,0,null,null,null,0,null,null,null,null,null,0]
[{"$f":"'Labor Summary (Office)'!A1018","v":0},{"$f":"'Labor Summary (Office)'!B1018","v":0},null,null,null,null,null,null,0,null,null,null,0,null,null,null,null,null,0]
[{"$f":"'Labor Summary (Office)'!A1019","v":0},{"$f":"'Labor Summary (Office)'!B1019","v":0},null,null,null,null,null,null,0,null,null,null,0,null,null,null,null,null,0]
[{"$f":"'Labor Summary (Office)'!A1020","v":0},{"$f":"'Labor Summary (Office)'!B1020","v":0},null,null,null,null,null,null,0,null,null,null,0,null,null,null,null,null,0]
[{"$f":"'Labor Summary (Office)'!A1021","v":0},{"$f":"'Labor Summary (Office)'!B1021","v":0},null,null,null,null,null,null,0,null,null,null,0,null,null,null,null,null,0]
[{"$f":"'Labor Summary (Office)'!A1022","v":0},{"$f":"'Labor Summary (Office)'!B1022","v":0},null,null,null,null,null,null,0,null,null,null,0,null,null,null,null,null,0]
[{"$f":"'Labor Summary (Office)'!A1023","v":0},{"$f":"'Labor Summary (Office)'!B1023","v":0},null,null,null,null,null,null,0,null,null,null,0,null,null,null,null,null,0]
[{"$f":"'Labor Summary (Office)'!A1024","v":0},{"$f":"'Labor Summary (Office)'!B1024","v":0},null,null,null,null,null,null,0,null,null,null,0,null,null,null,null,null,0]
[{"$f":"'Labor Summary (Office)'!A1025","v":0},{"$f":"'Labor Summary (Office)'!B1025","v":0},null,null,null,null,null,null,0,null,null,null,0,null,null,null,null,null,0]
[{"$f":"'Labor Summary (Office)'!A1026","v":0},{"$f":"'Labor Summary (Office)'!B1026","v":0},null,null,null,null,null,null,0,null,null,null,0,null,null,null,null,null,0]
[{"$f":"'Labor Summary (Office)'!A1027","v":0},{"$f":"'Labor Summary (Office)'!B1027","v":0},null,null,null,null,null,null,0,null,null,null,0,null,null,null,null,null,0]
[{"$f":"'Labor Summary (Office)'!A1028","v":0},{"$f":"'Labor Summary (Office)'!B1028","v":0},null,null,null,null,null,null,0,null,null,null,0,null,null,null,null,null,0]
[{"$f":"'Labor Summary (Office)'!A1029","v":0},{"$f":"'Labor Summary (Office)'!B1029","v":0},null,null,null,null,null,null,0,null,null,null,0,null,null,null,null,null,0]
[{"$f":"'Labor Summary (Office)'!A1030","v":0},{"$f":"'Labor Summary (Office)'!B1030","v":0},null,null,null,null,null,null,0,null,null,null,0,null,null,null,null,null,0]
[{"$f":"'Labor Summary (Office)'!A1031","v":0},{"$f":"'Labor Summary (Office)'!B1031","v":0},null,null,null,null,null,null,0,null,null,null,0,null,null,null,null,null,0]
[{"$f":"'Labor Summary (Office)'!A1032","v":0},{"$f":"'Labor Summary (Office)'!B1032","v":0},null,null,null,null,null,null,0,null,null,null,0,null,null,null,null,null,0]
[{"$f":"'Labor Summary (Office)'!A1033","v":0},{"$f":"'Labor Summary (Office)'!B1033","v":0},null,null,null,null,null,null,0,null,null,null,0,null,null,null,null,null,0]
[{"$f":"'Labor Summary (Office)'!A1034","v":0},{"$f":"'Labor Summary (Office)'!B1034","v":0},{"$f":"IF(A1036=0,\"\",A1036)","v":""},null,null,null,null,null,null,null,null,null,null,null,null,null,"Subtotal Line 33",null,{"$f":"ROUND(SUM(S1006:S1035),2)","v":0}]
[{"$f":"'Labor Summary (Office)'!A1035","v":0},{"$f":"'Labor Summary (Office)'!B1035","v":0},null,null,null,null,null,null,0,null,null,null,{"$f":"ROUND(L1037*$M$9,2)","v":0},null,null,null,null,null,{"$f":"ROUND(F1037+I1037+K1037+M1037+N1037+O1037+P1037+Q1037+R1037,2)","v":0}]
[{"$f":"'Labor Summary (Office)'!A1036","v":0},{"$f":"'Labor Summary (Office)'!B1036","v":0},null,null,null,null,null,null,0,null,null,null,{"$f":"ROUND(L1038*$M$9,2)","v":0},null,null,null,null,null,{"$f":"ROUND(F1038+I1038+K1038+M1038+N1038+O1038+P1038+Q1038+R1038,2)","v":0}]
[{"$f":"'Labor Summary (Office)'!A1037","v":0},{"$f":"'Labor Summary (Office)'!B1037","v":0},null,null,null,null,null,null,{"$f":"H1039+G1039","v":0},null,null,null,0,null,null,null,null,null,0]
[{"$f":"'Labor Summary (Office)'!A1038","v":0},{"$f":"'Labor Summary (Office)'!B1038","v":0},null,null,null,null,null,null,0,null,null,null,0,null,null,null,null,null,0]
[{"$f":"'Labor Summary (Office)'!A1039","v":0},{"$f":"'Labor Summary (Office)'!B1039","v":0},null,null,null,null,null,null,0,null,null,null,0,null,null,null,null,null,0]
[{"$f":"'Labor Summary (Office)'!A1040","v":0},{"$f":"'Labor Summary (Office)'!B1040","v":0},null,null,null,null,null,null,0,null,null,null,0,null,null,null,null,null,0]
[{"$f":"'Labor Summary (Office)'!A1041","v":0},{"$f":"'Labor Summary (Office)'!B1041","v":0},null,null,null,null,null,null,0,null,null,null,0,null,null,null,null,null,0]
[{"$f":"'Labor Summary (Office)'!A1042","v":0},{"$f":"'Labor Summary (Office)'!B1042","v":0},null,null,null,null,null,null,0,null,null,null,0,null,null,null,null,null,0]
[{"$f":"'Labor Summary (Office)'!A1043","v":0},{"$f":"'Labor Summary (Office)'!B1043","v":0},null,null,null,null,null,null,0,null,null,null,0,null,null,null,null,null,0]
[{"$f":"'Labor Summary (Office)'!A1044","v":0},{"$f":"'Labor Summary (Office)'!B1044","v":0},null,null,null,null,null,null,0,null,null,null,0,null,null,null,null,null,0]
[{"$f":"'Labor Summary (Office)'!A1045","v":0},{"$f":"'Labor Summary (Office)'!B1045","v":0},null,null,null,null,null,null,0,null,null,null,0,null,null,null,null,null,0]
[{"$f":"'Labor Summary (Office)'!A1046","v":0},{"$f":"'Labor Summary (Office)'!B1046","v":0},null,null,null,null,null,null,0,null,null,null,0,null,null,null,null,null,0]
[{"$f":"'Labor Summary (Office)'!A1047","v":0},{"$f":"'Labor Summary (Office)'!B1047","v":0},null,null,null,null,null,null,0,null,null,null,0,null,null,null,null,null,0]
[{"$f":"'Labor Summary (Office)'!A1048","v":0},{"$f":"'Labor Summary (Office)'!B1048","v":0},null,null,null,null,null,null,0,null,null,null,0,null,null,null,null,null,0]
[{"$f":"'Labor Summary (Office)'!A1049","v":0},{"$f":"'Labor Summary (Office)'!B1049","v":0},null,null,null,null,null,null,0,null,null,null,0,null,null,null,null,null,0]
[{"$f":"'Labor Summary (Office)'!A1050","v":0},{"$f":"'Labor Summary (Office)'!B1050","v":0},null,null,null,null,null,null,0,null,null,null,0,null,null,null,null,null,0]
[{"$f":"'Labor Summary (Office)'!A1051","v":0},{"$f":"'Labor Summary (Office)'!B1051","v":0},null,null,null,null,null,null,0,null,null,null,0,null,null,null,null,null,0]
[{"$f":"'Labor Summary (Office)'!A1052","v":0},{"$f":"'Labor Summary (Office)'!B1052","v":0},null,null,null,null,null,null,0,null,null,null,0,null,null,null,null,null,0]
[{"$f":"'Labor Summary (Office)'!A1053","v":0},{"$f":"'Labor Summary (Office)'!B1053","v":0},null,null,null,null,null,null,0,null,null,null,0,null,null,null,null,null,0]
[{"$f":"'Labor Summary (Office)'!A1054","v":0},{"$f":"'Labor Summary (Office)'!B1054","v":0},null,null,null,null,null,null,0,null,null,null,0,null,null,null,null,null,0]
[{"$f":"'Labor Summary (Office)'!A1055","v":0},{"$f":"'Labor Summary (Office)'!B1055","v":0},null,null,null,null,null,null,0,null,null,null,0,null,null,null,null,null,0]
[{"$f":"'Labor Summary (Office)'!A1056","v":0},{"$f":"'Labor Summary (Office)'!B1056","v":0},null,null,null,null,null,null,0,null,null,null,0,null,null,null,null,null,0]
[{"$f":"'Labor Summary (Office)'!A1057","v":0},{"$f":"'Labor Summary (Office)'!B1057","v":0},null,null,null,null,null,null,0,null,null,null,0,null,null,null,null,null,0]
[{"$f":"'Labor Summary (Office)'!A1058","v":0},{"$f":"'Labor Summary (Office)'!B1058","v":0},null,null,null,null,null,null,0,null,null,null,0,null,null,null,null,null,0]
[{"$f":"'Labor Summary (Office)'!A1059","v":0},{"$f":"'Labor Summary (Office)'!B1059","v":0},null,null,null,null,null,null,0,null,null,null,0,null,null,null,null,null,0]
[{"$f":"'Labor Summary (Office)'!A1060","v":0},{"$f":"'Labor Summary (Office)'!B1060","v":0},null,null,null,null,null,null,0,null,null,null,0,null,null,null,null,null,0]
[{"$f":"'Labor Summary (Office)'!A1061","v":0},{"$f":"'Labor Summary (Office)'!B1061","v":0},null,null,null,null,null,null,0,null,null,null,0,null,null,null,null,null,0]
[{"$f":"'Labor Summary (Office)'!A1062","v":0},{"$f":"'Labor Summary (Office)'!B1062","v":0},null,null,null,null,null,null,0,null,null,null,0,null,null,null,null,null,0]
[{"$f":"'Labor Summary (Office)'!A1063","v":0},{"$f":"'Labor Summary (Office)'!B1063","v":0},null,null,null,null,null,null,0,null,null,null,0,null,null,null,null,null,0]
[{"$f":"'Labor Summary (Office)'!A1064","v":0},{"$f":"'Labor Summary (Office)'!B1064","v":0},null,null,null,null,null,null,0,null,null,null,0,null,null,null,null,null,0]
[{"$f":"'Labor Summary (Office)'!A1065","v":0},{"$f":"'Labor Summary (Office)'!B1065","v":0},{"$f":"IF(A1067=0,\"\",A1067)","v":""},null,null,null,null,null,null,null,null,null,null,null,null,null,"Subtotal Line 34",null,{"$f":"ROUND(SUM(S1037:S1066),2)","v":0}]
[{"$f":"'Labor Summary (Office)'!A1066","v":0},{"$f":"'Labor Summary (Office)'!B1066","v":0},null,null,null,null,null,null,0,null,null,null,{"$f":"ROUND(L1068*$M$9,2)","v":0},null,null,null,null,null,{"$f":"ROUND(F1068+I1068+K1068+M1068+N1068+O1068+P1068+Q1068+R1068,2)","v":0}]
[{"$f":"'Labor Summary (Office)'!A1067","v":0},{"$f":"'Labor Summary (Office)'!B1067","v":0},null,null,null,null,null,null,0,null,null,null,{"$f":"ROUND(L1069*$M$9,2)","v":0},null,null,null,null,null,{"$f":"ROUND(F1069+I1069+K1069+M1069+N1069+O1069+P1069+Q1069+R1069,2)","v":0}]
[{"$f":"'Labor Summary (Office)'!A1068","v":0},{"$f":"'Labor Summary (Office)'!B1068","v":0},null,null,null,null,null,null,0,null,null,null,0,null,null,null,null,null,0]
[{"$f":"'Labor Summary (Office)'!A1069","v":0},{"$f":"'Labor Summary (Office)'!B1069","v":0},null,null,null,null,null,null,0,null,null,null,0,null,null,null,null,null,0]
[{"$f":"'Labor Summary (Office)'!A1070","v":0},{"$f":"'Labor Summary (Office)'!B1070","v":0},null,null,null,null,null,null,0,null,null,null,0,null,null,null,null,null,0]
[{"$f":"'Labor Summary (Office)'!A1071","v":0},{"$f":"'Labor Summary (Office)'!B1071","v":0},null,null,null,null,null,null,0,null,null,null,0,null,null,null,null,null,0]
[{"$f":"'Labor Summary (Office)'!A1072","v":0},{"$f":"'Labor Summary (Office)'!B1072","v":0},null,null,null,null,null,null,0,null,null,null,0,null,null,null,null,null,0]
[{"$f":"'Labor Summary (Office)'!A1073","v":0},{"$f":"'Labor Summary (Office)'!B1073","v":0},null,null,null,null,null,null,0,null,null,null,0,null,null,null,null,null,0]
[{"$f":"'Labor Summary (Office)'!A1074","v":0},{"$f":"'Labor Summary (Office)'!B1074","v":0},null,null,null,null,null,null,0,null,null,null,0,null,null,null,null,null,0]
[{"$f":"'Labor Summary (Office)'!A1075","v":0},{"$f":"'Labor Summary (Office)'!B1075","v":0},null,null,null,null,null,null,0,null,null,null,0,null,null,null,null,null,0]
[{"$f":"'Labor Summary (Office)'!A1076","v":0},{"$f":"'Labor Summary (Office)'!B1076","v":0},null,null,null,null,null,null,0,null,null,null,0,null,null,null,null,null,0]
[{"$f":"'Labor Summary (Office)'!A1077","v":0},{"$f":"'Labor Summary (Office)'!B1077","v":0},null,null,null,null,null,null,0,null,null,null,0,null,null,null,null,null,0]
[{"$f":"'Labor Summary (Office)'!A1078","v":0},{"$f":"'Labor Summary (Office)'!B1078","v":0},null,null,null,null,null,null,0,null,null,null,0,null,null,null,null,null,0]
[{"$f":"'Labor Summary (Office)'!A1079","v":0},{"$f":"'Labor Summary (Office)'!B1079","v":0},null,null,null,null,null,null,0,null,null,null,0,null,null,null,null,null,0]
[{"$f":"'Labor Summary (Office)'!A1080","v":0},{"$f":"'Labor Summary (Office)'!B1080","v":0},null,null,null,null,null,null,0,null,null,null,0,null,null,null,null,null,0]
[{"$f":"'Labor Summary (Office)'!A1081","v":0},{"$f":"'Labor Summary (Office)'!B1081","v":0},null,null,null,null,null,null,0,null,null,null,0,null,null,null,null,null,0]
[{"$f":"'Labor Summary (Office)'!A1082","v":0},{"$f":"'Labor Summary (Office)'!B1082","v":0},null,null,null,null,null,null,0,null,null,null,0,null,null,null,null,null,0]
[{"$f":"'Labor Summary (Office)'!A1083","v":0},{"$f":"'Labor Summary (Office)'!B1083","v":0},null,null,null,null,null,null,0,null,null,null,0,null,null,null,null,null,0]
[{"$f":"'Labor Summary (Office)'!A1084","v":0},{"$f":"'Labor Summary (Office)'!B1084","v":0},null,null,null,null,null,null,0,null,null,null,0,null,null,null,null,null,0]
[{"$f":"'Labor Summary (Office)'!A1085","v":0},{"$f":"'Labor Summary (Office)'!B1085","v":0},null,null,null,null,null,null,0,null,null,null,0,null,null,null,null,null,0]
[{"$f":"'Labor Summary (Office)'!A1086","v":0},{"$f":"'Labor Summary (Office)'!B1086","v":0},null,null,null,null,null,null,0,null,null,null,0,null,null,null,null,null,0]
[{"$f":"'Labor Summary (Office)'!A1087","v":0},{"$f":"'Labor Summary (Office)'!B1087","v":0},null,null,null,null,null,null,0,null,null,null,0,null,null,null,null,null,0]
[{"$f":"'Labor Summary (Office)'!A1088","v":0},{"$f":"'Labor Summary (Office)'!B1088","v":0},null,null,null,null,null,null,0,null,null,null,0,null,null,null,null,null,0]
[{"$f":"'Labor Summary (Office)'!A1089","v":0},{"$f":"'Labor Summary (Office)'!B1089","v":0},null,null,null,null,null,null,0,null,null,null,0,null,null,null,null,null,0]
[{"$f":"'Labor Summary (Office)'!A1090","v":0},{"$f":"'Labor Summary (Office)'!B1090","v":0},null,null,null,null,null,null,0,null,null,null,0,null,null,null,null,null,0]
[{"$f":"'Labor Summary (Office)'!A1091","v":0},{"$f":"'Labor Summary (Office)'!B1091","v":0},null,null,null,null,null,null,0,null,null,null,0,null,null,null,null,null,0]
[{"$f":"'Labor Summary (Office)'!A1092","v":0},{"$f":"'Labor Summary (Office)'!B1092","v":0},null,null,null,null,null,null,0,null,null,null,0,null,null,null,null,null,0]
[{"$f":"'Labor Summary (Office)'!A1093","v":0},{"$f":"'Labor Summary (Office)'!B1093","v":0},null,null,null,null,null,null,0,null,null,null,0,null,null,null,null,null,0]
[{"$f":"'Labor Summary (Office)'!A1094","v":0},{"$f":"'Labor Summary (Office)'!B1094","v":0},null,null,null,null,null,null,0,null,null,null,0,null,null,null,null,null,0]
[{"$f":"'Labor Summary (Office)'!A1095","v":0},{"$f":"'Labor Summary (Office)'!B1095","v":0},null,null,null,null,null,null,0,null,null,null,0,null,null,null,null,null,0]
[{"$f":"'Labor Summary (Office)'!A1096","v":0},{"$f":"'Labor Summary (Office)'!B1096","v":0},{"$f":"IF(A1098=0,\"\",A1098)","v":""},null,null,null,null,null,null,null,null,null,null,null,null,null,"Subtotal Line 35",null,{"$f":"ROUND(SUM(S1068:S1097),2)","v":0}]
[{"$f":"'Labor Summary (Office)'!A1097","v":0},{"$f":"'Labor Summary (Office)'!B1097","v":0},null,null,null,null,null,null,0,null,null,null,{"$f":"ROUND(L1099*$M$9,2)","v":0},null,null,null,null,null,{"$f":"ROUND(F1099+I1099+K1099+M1099+N1099+O1099+P1099+Q1099+R1099,2)","v":0}]
[{"$f":"'Labor Summary (Office)'!A1098","v":0},{"$f":"'Labor Summary (Office)'!B1098","v":0},null,null,null,null,null,null,0,null,null,null,{"$f":"ROUND(L1100*$M$9,2)","v":0},null,null,null,null,null,{"$f":"ROUND(F1100+I1100+K1100+M1100+N1100+O1100+P1100+Q1100+R1100,2)","v":0}]
[{"$f":"'Labor Summary (Office)'!A1099","v":0},{"$f":"'Labor Summary (Office)'!B1099","v":0},null,null,null,null,null,null,0,null,null,null,0,null,null,null,null,null,0]
[{"$f":"'Labor Summary (Office)'!A1100","v":0},{"$f":"'Labor Summary (Office)'!B1100","v":0},null,null,null,null,null,null,0,null,null,null,0,null,null,null,null,null,0]
[{"$f":"'Labor Summary (Office)'!A1101","v":0},{"$f":"'Labor Summary (Office)'!B1101","v":0},null,null,null,null,null,null,{"$f":"H1103+G1103","v":0},null,null,null,0,null,null,null,null,null,0]
[{"$f":"'Labor Summary (Office)'!A1102","v":0},{"$f":"'Labor Summary (Office)'!B1102","v":0},null,null,null,null,null,null,0,null,null,null,0,null,null,null,null,null,0]
[{"$f":"'Labor Summary (Office)'!A1103","v":0},{"$f":"'Labor Summary (Office)'!B1103","v":0},null,null,null,null,null,null,0,null,null,null,0,null,null,null,null,null,0]
[{"$f":"'Labor Summary (Office)'!A1104","v":0},{"$f":"'Labor Summary (Office)'!B1104","v":0},null,null,null,null,null,null,0,null,null,null,0,null,null,null,null,null,0]
[{"$f":"'Labor Summary (Office)'!A1105","v":0},{"$f":"'Labor Summary (Office)'!B1105","v":0},null,null,null,null,null,null,0,null,null,null,0,null,null,null,null,null,0]
[{"$f":"'Labor Summary (Office)'!A1106","v":0},{"$f":"'Labor Summary (Office)'!B1106","v":0},null,null,null,null,null,null,0,null,null,null,0,null,null,null,null,null,0]
[{"$f":"'Labor Summary (Office)'!A1107","v":0},{"$f":"'Labor Summary (Office)'!B1107","v":0},null,null,null,null,null,null,0,null,null,null,0,null,null,null,null,null,0]
[{"$f":"'Labor Summary (Office)'!A1108","v":0},{"$f":"'Labor Summary (Office)'!B1108","v":0},null,null,null,null,null,null,0,null,null,null,0,null,null,null,null,null,0]
[{"$f":"'Labor Summary (Office)'!A1109","v":0},{"$f":"'Labor Summary (Office)'!B1109","v":0},null,null,null,null,null,null,0,null,null,null,0,null,null,null,null,null,0]
[{"$f":"'Labor Summary (Office)'!A1110","v":0},{"$f":"'Labor Summary (Office)'!B1110","v":0},null,null,null,null,null,null,0,null,null,null,0,null,null,null,null,null,0]
[{"$f":"'Labor Summary (Office)'!A1111","v":0},{"$f":"'Labor Summary (Office)'!B1111","v":0},null,null,null,null,null,null,0,null,null,null,0,null,null,null,null,null,0]
[{"$f":"'Labor Summary (Office)'!A1112","v":0},{"$f":"'Labor Summary (Office)'!B1112","v":0},null,null,null,null,null,null,0,null,null,null,0,null,null,null,null,null,0]
[{"$f":"'Labor Summary (Office)'!A1113","v":0},{"$f":"'Labor Summary (Office)'!B1113","v":0},null,null,null,null,null,null,0,null,null,null,0,null,null,null,null,null,0]
[{"$f":"'Labor Summary (Office)'!A1114","v":0},{"$f":"'Labor Summary (Office)'!B1114","v":0},null,null,null,null,null,null,0,null,null,null,0,null,null,null,null,null,0]
[{"$f":"'Labor Summary (Office)'!A1115","v":0},{"$f":"'Labor Summary (Office)'!B1115","v":0},null,null,null,null,null,null,0,null,null,null,0,null,null,null,null,null,0]
[{"$f":"'Labor Summary (Office)'!A1116","v":0},{"$f":"'Labor Summary (Office)'!B1116","v":0},null,null,null,null,null,null,0,null,null,null,0,null,null,null,null,null,0]
[{"$f":"'Labor Summary (Office)'!A1117","v":0},{"$f":"'Labor Summary (Office)'!B1117","v":0},null,null,null,null,null,null,0,null,null,null,0,null,null,null,null,null,0]
[{"$f":"'Labor Summary (Office)'!A1118","v":0},{"$f":"'Labor Summary (Office)'!B1118","v":0},null,null,null,null,null,null,0,null,null,null,0,null,null,null,null,null,0]
[{"$f":"'Labor Summary (Office)'!A1119","v":0},{"$f":"'Labor Summary (Office)'!B1119","v":0},null,null,null,null,null,null,0,null,null,null,0,null,null,null,null,null,0]
[{"$f":"'Labor Summary (Office)'!A1120","v":0},{"$f":"'Labor Summary (Office)'!B1120","v":0},null,null,null,null,null,null,0,null,null,null,0,null,null,null,null,null,0]
[{"$f":"'Labor Summary (Office)'!A1121","v":0},{"$f":"'Labor Summary (Office)'!B1121","v":0},null,null,null,null,null,null,0,null,null,null,0,null,null,null,null,null,0]
[{"$f":"'Labor Summary (Office)'!A1122","v":0},{"$f":"'Labor Summary (Office)'!B1122","v":0},null,null,null,null,null,null,0,null,null,null,0,null,null,null,null,null,0]
[{"$f":"'Labor Summary (Office)'!A1123","v":0},{"$f":"'Labor Summary (Office)'!B1123","v":0},null,null,null,null,null,null,0,null,null,null,0,null,null,null,null,null,0]
[{"$f":"'Labor Summary (Office)'!A1124","v":0},{"$f":"'Labor Summary (Office)'!B1124","v":0},null,null,null,null,null,null,0,null,null,null,0,null,null,null,null,null,0]
[{"$f":"'Labor Summary (Office)'!A1125","v":0},{"$f":"'Labor Summary (Office)'!B1125","v":0},null,null,null,null,null,null,0,null,null,null,0,null,null,null,null,null,0]
[{"$f":"'Labor Summary (Office)'!A1126","v":0},{"$f":"'Labor Summary (Office)'!B1126","v":0},null,null,null,null,null,null,0,null,null,null,0,null,null,null,null,null,0]
[{"$f":"'Labor Summary (Office)'!A1127","v":0},{"$f":"'Labor Summary (Office)'!B1127","v":0},{"$f":"IF(A1129=0,\"\",A1129)","v":""},null,null,null,null,null,null,null,null,null,null,null,null,null,"Subtotal Line 36",null,{"$f":"ROUND(SUM(S1099:S1128),2)","v":0}]
[{"$f":"'Labor Summary (Office)'!A1128","v":0},{"$f":"'Labor Summary (Office)'!B1128","v":0},null,null,null,null,null,null,0,null,null,null,{"$f":"ROUND(L1130*$M$9,2)","v":0},null,null,null,null,null,{"$f":"ROUND(F1130+I1130+K1130+M1130+N1130+O1130+P1130+Q1130+R1130,2)","v":0}]
[{"$f":"'Labor Summary (Office)'!A1129","v":0},{"$f":"'Labor Summary (Office)'!B1129","v":0},null,null,null,null,null,null,0,null,null,null,{"$f":"ROUND(L1131*$M$9,2)","v":0},null,null,null,null,null,{"$f":"ROUND(F1131+I1131+K1131+M1131+N1131+O1131+P1131+Q1131+R1131,2)","v":0}]
[{"$f":"'Labor Summary (Office)'!A1130","v":0},{"$f":"'Labor Summary (Office)'!B1130","v":0},null,null,null,null,null,null,0,null,null,null,0,null,null,null,null,null,0]
[{"$f":"'Labor Summary (Office)'!A1131","v":0},{"$f":"'Labor Summary (Office)'!B1131","v":0},null,null,null,null,null,null,0,null,null,null,0,null,null,null,null,null,0]
[{"$f":"'Labor Summary (Office)'!A1132","v":0},{"$f":"'Labor Summary (Office)'!B1132","v":0},null,null,null,null,null,null,0,null,null,null,0,null,null,null,null,null,0]
[{"$f":"'Labor Summary (Office)'!A1133","v":0},{"$f":"'Labor Summary (Office)'!B1133","v":0},null,null,null,null,null,null,0,null,null,null,0,null,null,null,null,null,0]
[{"$f":"'Labor Summary (Office)'!A1134","v":0},{"$f":"'Labor Summary (Office)'!B1134","v":0},null,null,null,null,null,null,0,null,null,null,0,null,null,null,null,null,0]
[{"$f":"'Labor Summary (Office)'!A1135","v":0},{"$f":"'Labor Summary (Office)'!B1135","v":0},null,null,null,null,null,null,0,null,null,null,0,null,null,null,null,null,0]
[{"$f":"'Labor Summary (Office)'!A1136","v":0},{"$f":"'Labor Summary (Office)'!B1136","v":0},null,null,null,null,null,null,0,null,null,null,0,null,null,null,null,null,0]
[{"$f":"'Labor Summary (Office)'!A1137","v":0},{"$f":"'Labor Summary (Office)'!B1137","v":0},null,null,null,null,null,null,0,null,null,null,0,null,null,null,null,null,0]
[{"$f":"'Labor Summary (Office)'!A1138","v":0},{"$f":"'Labor Summary (Office)'!B1138","v":0},null,null,null,null,null,null,0,null,null,null,0,null,null,null,null,null,0]
[{"$f":"'Labor Summary (Office)'!A1139","v":0},{"$f":"'Labor Summary (Office)'!B1139","v":0},null,null,null,null,null,null,0,null,null,null,0,null,null,null,null,null,0]
[{"$f":"'Labor Summary (Office)'!A1140","v":0},{"$f":"'Labor Summary (Office)'!B1140","v":0},null,null,null,null,null,null,0,null,null,null,0,null,null,null,null,null,0]
[{"$f":"'Labor Summary (Office)'!A1141","v":0},{"$f":"'Labor Summary (Office)'!B1141","v":0},null,null,null,null,null,null,0,null,null,null,0,null,null,null,null,null,0]
[{"$f":"'Labor Summary (Office)'!A1142","v":0},{"$f":"'Labor Summary (Office)'!B1142","v":0},null,null,null,null,null,null,0,null,null,null,0,null,null,null,null,null,0]
[{"$f":"'Labor Summary (Office)'!A1143","v":0},{"$f":"'Labor Summary (Office)'!B1143","v":0},null,null,null,null,null,null,0,null,null,null,0,null,null,null,null,null,0]
[{"$f":"'Labor Summary (Office)'!A1144","v":0},{"$f":"'Labor Summary (Office)'!B1144","v":0},null,null,null,null,null,null,0,null,null,null,0,null,null,null,null,null,0]
[{"$f":"'Labor Summary (Office)'!A1145","v":0},{"$f":"'Labor Summary (Office)'!B1145","v":0},null,null,null,null,null,null,0,null,null,null,0,null,null,null,null,null,0]
[{"$f":"'Labor Summary (Office)'!A1146","v":0},{"$f":"'Labor Summary (Office)'!B1146","v":0},null,null,null,null,null,null,0,null,null,null,0,null,null,null,null,null,0]
[{"$f":"'Labor Summary (Office)'!A1147","v":0},{"$f":"'Labor Summary (Office)'!B1147","v":0},null,null,null,null,null,null,0,null,null,null,0,null,null,null,null,null,0]
[{"$f":"'Labor Summary (Office)'!A1148","v":0},{"$f":"'Labor Summary (Office)'!B1148","v":0},null,null,null,null,null,null,0,null,null,null,0,null,null,null,null,null,0]
[{"$f":"'Labor Summary (Office)'!A1149","v":0},{"$f":"'Labor Summary (Office)'!B1149","v":0},null,null,null,null,null,null,0,null,null,null,0,null,null,null,null,null,0]
[{"$f":"'Labor Summary (Office)'!A1150","v":0},{"$f":"'Labor Summary (Office)'!B1150","v":0},null,null,null,null,null,null,0,null,null,null,0,null,null,null,null,null,0]
[{"$f":"'Labor Summary (Office)'!A1151","v":0},{"$f":"'Labor Summary (Office)'!B1151","v":0},null,null,null,null,null,null,0,null,null,null,0,null,null,null,null,null,0]
[{"$f":"'Labor Summary (Office)'!A1152","v":0},{"$f":"'Labor Summary (Office)'!B1152","v":0},null,null,null,null,null,null,0,null,null,null,0,null,null,null,null,null,0]
[{"$f":"'Labor Summary (Office)'!A1153","v":0},{"$f":"'Labor Summary (Office)'!B1153","v":0},null,null,null,null,null,null,0,null,null,null,0,null,null,null,null,null,0]
[{"$f":"'Labor Summary (Office)'!A1154","v":0},{"$f":"'Labor Summary (Office)'!B1154","v":0},null,null,null,null,null,null,0,null,null,null,0,null,null,null,null,null,0]
[{"$f":"'Labor Summary (Office)'!A1155","v":0},{"$f":"'Labor Summary (Office)'!B1155","v":0},null,null,null,null,null,null,0,null,null,null,0,null,null,null,null,null,0]
[{"$f":"'Labor Summary (Office)'!A1156","v":0},{"$f":"'Labor Summary (Office)'!B1156","v":0},null,null,null,null,null,null,0,null,null,null,0,null,null,null,null,null,0]
[{"$f":"'Labor Summary (Office)'!A1157","v":0},{"$f":"'Labor Summary (Office)'!B1157","v":0},null,null,null,null,null,null,0,null,null,null,0,null,null,null,null,null,0]
[{"$f":"'Labor Summary (Office)'!A1158","v":0},{"$f":"'Labor Summary (Office)'!B1158","v":0},{"$f":"IF(A1160=0,\"\",A1160)","v":""},null,null,null,null,null,null,null,null,null,null,null,null,null,"Subtotal Line 37",null,{"$f":"ROUND(SUM(S1130:S1159),2)","v":0}]
[{"$f":"'Labor Summary (Office)'!A1159","v":0},{"$f":"'Labor Summary (Office)'!B1159","v":0},null,null,null,null,null,null,0,null,null,null,{"$f":"ROUND(L1161*$M$9,2)","v":0},null,null,null,null,null,{"$f":"ROUND(F1161+I1161+K1161+M1161+N1161+O1161+P1161+Q1161+R1161,2)","v":0}]
[{"$f":"'Labor Summary (Office)'!A1160","v":0},{"$f":"'Labor Summary (Office)'!B1160","v":0},null,null,null,null,null,null,0,null,null,null,{"$f":"ROUND(L1162*$M$9,2)","v":0},null,null,null,null,null,{"$f":"ROUND(F1162+I1162+K1162+M1162+N1162+O1162+P1162+Q1162+R1162,2)","v":0}]
[{"$f":"'Labor Summary (Office)'!A1161","v":0},{"$f":"'Labor Summary (Office)'!B1161","v":0},null,null,null,null,null,null,0,null,null,null,0,null,null,null,null,null,0]
[{"$f":"'Labor Summary (Office)'!A1162","v":0},{"$f":"'Labor Summary (Office)'!B1162","v":0},null,null,null,null,null,null,0,null,null,null,0,null,null,null,null,null,0]
[{"$f":"'Labor Summary (Office)'!A1163","v":0},{"$f":"'Labor Summary (Office)'!B1163","v":0},null,null,null,null,null,null,0,null,null,null,0,null,null,null,null,null,0]
[{"$f":"'Labor Summary (Office)'!A1164","v":0},{"$f":"'Labor Summary (Office)'!B1164","v":0},null,null,null,null,null,null,0,null,null,null,0,null,null,null,null,null,0]
[{"$f":"'Labor Summary (Office)'!A1165","v":0},{"$f":"'Labor Summary (Office)'!B1165","v":0},null,null,null,null,null,null,{"$f":"H1167+G1167","v":0},null,null,null,0,null,null,null,null,null,0]
[{"$f":"'Labor Summary (Office)'!A1166","v":0},{"$f":"'Labor Summary (Office)'!B1166","v":0},null,null,null,null,null,null,0,null,null,null,0,null,null,null,null,null,0]
[{"$f":"'Labor Summary (Office)'!A1167","v":0},{"$f":"'Labor Summary (Office)'!B1167","v":0},null,null,null,null,null,null,0,null,null,null,0,null,null,null,null,null,0]
[{"$f":"'Labor Summary (Office)'!A1168","v":0},{"$f":"'Labor Summary (Office)'!B1168","v":0},null,null,null,null,null,null,0,null,null,null,0,null,null,null,null,null,0]
[{"$f":"'Labor Summary (Office)'!A1169","v":0},{"$f":"'Labor Summary (Office)'!B1169","v":0},null,null,null,null,null,null,0,null,null,null,0,null,null,null,null,null,0]
[{"$f":"'Labor Summary (Office)'!A1170","v":0},{"$f":"'Labor Summary (Office)'!B1170","v":0},null,null,null,null,null,null,0,null,null,null,0,null,null,null,null,null,0]
[{"$f":"'Labor Summary (Office)'!A1171","v":0},{"$f":"'Labor Summary (Office)'!B1171","v":0},null,null,null,null,null,null,0,null,null,null,0,null,null,null,null,null,0]
[{"$f":"'Labor Summary (Office)'!A1172","v":0},{"$f":"'Labor Summary (Office)'!B1172","v":0},null,null,null,null,null,null,0,null,null,null,0,null,null,null,null,null,0]
[{"$f":"'Labor Summary (Office)'!A1173","v":0},{"$f":"'Labor Summary (Office)'!B1173","v":0},null,null,null,null,null,null,0,null,null,null,0,null,null,null,null,null,0]
[{"$f":"'Labor Summary (Office)'!A1174","v":0},{"$f":"'Labor Summary (Office)'!B1174","v":0},null,null,null,null,null,null,0,null,null,null,0,null,null,null,null,null,0]
[{"$f":"'Labor Summary (Office)'!A1175","v":0},{"$f":"'Labor Summary (Office)'!B1175","v":0},null,null,null,null,null,null,0,null,null,null,0,null,null,null,null,null,0]
[{"$f":"'Labor Summary (Office)'!A1176","v":0},{"$f":"'Labor Summary (Office)'!B1176","v":0},null,null,null,null,null,null,0,null,null,null,0,null,null,null,null,null,0]
[{"$f":"'Labor Summary (Office)'!A1177","v":0},{"$f":"'Labor Summary (Office)'!B1177","v":0},null,null,null,null,null,null,0,null,null,null,0,null,null,null,null,null,0]
[{"$f":"'Labor Summary (Office)'!A1178","v":0},{"$f":"'Labor Summary (Office)'!B1178","v":0},null,null,null,null,null,null,0,null,null,null,0,null,null,null,null,null,0]
[{"$f":"'Labor Summary (Office)'!A1179","v":0},{"$f":"'Labor Summary (Office)'!B1179","v":0},null,null,null,null,null,null,0,null,null,null,0,null,null,null,null,null,0]
[{"$f":"'Labor Summary (Office)'!A1180","v":0},{"$f":"'Labor Summary (Office)'!B1180","v":0},null,null,null,null,null,null,0,null,null,null,0,null,null,null,null,null,0]
[{"$f":"'Labor Summary (Office)'!A1181","v":0},{"$f":"'Labor Summary (Office)'!B1181","v":0},null,null,null,null,null,null,0,null,null,null,0,null,null,null,null,null,0]
[{"$f":"'Labor Summary (Office)'!A1182","v":0},{"$f":"'Labor Summary (Office)'!B1182","v":0},null,null,null,null,null,null,0,null,null,null,0,null,null,null,null,null,0]
[{"$f":"'Labor Summary (Office)'!A1183","v":0},{"$f":"'Labor Summary (Office)'!B1183","v":0},null,null,null,null,null,null,0,null,null,null,0,null,null,null,null,null,0]
[{"$f":"'Labor Summary (Office)'!A1184","v":0},{"$f":"'Labor Summary (Office)'!B1184","v":0},null,null,null,null,null,null,0,null,null,null,0,null,null,null,null,null,0]
[{"$f":"'Labor Summary (Office)'!A1185","v":0},{"$f":"'Labor Summary (Office)'!B1185","v":0},null,null,null,null,null,null,0,null,null,null,0,null,null,null,null,null,0]
[{"$f":"'Labor Summary (Office)'!A1186","v":0},{"$f":"'Labor Summary (Office)'!B1186","v":0},null,null,null,null,null,null,0,null,null,null,0,null,null,null,null,null,0]
[{"$f":"'Labor Summary (Office)'!A1187","v":0},{"$f":"'Labor Summary (Office)'!B1187","v":0},null,null,null,null,null,null,0,null,null,null,0,null,null,null,null,null,0]
[{"$f":"'Labor Summary (Office)'!A1188","v":0},{"$f":"'Labor Summary (Office)'!B1188","v":0},null,null,null,null,null,null,0,null,null,null,0,null,null,null,null,null,0]
[{"$f":"'Labor Summary (Office)'!A1189","v":0},{"$f":"'Labor Summary (Office)'!B1189","v":0},{"$f":"IF(A1191=0,\"\",A1191)","v":""},null,null,null,null,null,null,null,null,null,null,null,null,null,"Subtotal Line 38",null,{"$f":"ROUND(SUM(S1161:S1190),2)","v":0}]
[{"$f":"'Labor Summary (Office)'!A1190","v":0},{"$f":"'Labor Summary (Office)'!B1190","v":0},null,null,null,null,null,null,0,null,null,null,{"$f":"ROUND(L1192*$M$9,2)","v":0},null,null,null,null,null,{"$f":"ROUND(F1192+I1192+K1192+M1192+N1192+O1192+P1192+Q1192+R1192,2)","v":0}]
[{"$f":"'Labor Summary (Office)'!A1191","v":0},{"$f":"'Labor Summary (Office)'!B1191","v":0},null,null,null,null,null,null,0,null,null,null,{"$f":"ROUND(L1193*$M$9,2)","v":0},null,null,null,null,null,{"$f":"ROUND(F1193+I1193+K1193+M1193+N1193+O1193+P1193+Q1193+R1193,2)","v":0}]
[{"$f":"'Labor Summary (Office)'!A1192","v":0},{"$f":"'Labor Summary (Office)'!B1192","v":0},null,null,null,null,null,null,0,null,null,null,0,null,null,null,null,null,0]
[{"$f":"'Labor Summary (Office)'!A1193","v":0},{"$f":"'Labor Summary (Office)'!B1193","v":0},null,null,null,null,null,null,0,null,null,null,0,null,null,null,null,null,0]
[{"$f":"'Labor Summary (Office)'!A1194","v":0},{"$f":"'Labor Summary (Office)'!B1194","v":0},null,null,null,null,null,null,0,null,null,null,0,null,null,null,null,null,0]
[{"$f":"'Labor Summary (Office)'!A1195","v":0},{"$f":"'Labor Summary (Office)'!B1195","v":0},null,null,null,null,null,null,0,null,null,null,0,null,null,null,null,null,0]
[{"$f":"'Labor Summary (Office)'!A1196","v":0},{"$f":"'Labor Summary (Office)'!B1196","v":0},null,null,null,null,null,null,0,null,null,null,0,null,null,null,null,null,0]
[{"$f":"'Labor Summary (Office)'!A1197","v":0},{"$f":"'Labor Summary (Office)'!B1197","v":0},null,null,null,null,null,null,0,null,null,null,0,null,null,null,null,null,0]
[{"$f":"'Labor Summary (Office)'!A1198","v":0},{"$f":"'Labor Summary (Office)'!B1198","v":0},null,null,null,null,null,null,0,null,null,null,0,null,null,null,null,null,0]
[{"$f":"'Labor Summary (Office)'!A1199","v":0},{"$f":"'Labor Summary (Office)'!B1199","v":0},null,null,null,null,null,null,0,null,null,null,0,null,null,null,null,null,0]
[{"$f":"'Labor Summary (Office)'!A1200","v":0},{"$f":"'Labor Summary (Office)'!B1200","v":0},null,null,null,null,null,null,0,null,null,null,0,null,null,null,null,null,0]
[{"$f":"'Labor Summary (Office)'!A1201","v":0},{"$f":"'Labor Summary (Office)'!B1201","v":0},null,null,null,null,null,null,0,null,null,null,0,null,null,null,null,null,0]
[{"$f":"'Labor Summary (Office)'!A1202","v":0},{"$f":"'Labor Summary (Office)'!B1202","v":0},null,null,null,null,null,null,0,null,null,null,0,null,null,null,null,null,0]
[{"$f":"'Labor Summary (Office)'!A1203","v":0},{"$f":"'Labor Summary (Office)'!B1203","v":0},null,null,null,null,null,null,0,null,null,null,0,null,null,null,null,null,0]
[{"$f":"'Labor Summary (Office)'!A1204","v":0},{"$f":"'Labor Summary (Office)'!B1204","v":0},null,null,null,null,null,null,0,null,null,null,0,null,null,null,null,null,0]
[{"$f":"'Labor Summary (Office)'!A1205","v":0},{"$f":"'Labor Summary (Office)'!B1205","v":0},null,null,null,null,null,null,0,null,null,null,0,null,null,null,null,null,0]
[{"$f":"'Labor Summary (Office)'!A1206","v":0},{"$f":"'Labor Summary (Office)'!B1206","v":0},null,null,null,null,null,null,0,null,null,null,0,null,null,null,null,null,0]
[{"$f":"'Labor Summary (Office)'!A1207","v":0},{"$f":"'Labor Summary (Office)'!B1207","v":0},null,null,null,null,null,null,0,null,null,null,0,null,null,null,null,null,0]
[{"$f":"'Labor Summary (Office)'!A1208","v":0},{"$f":"'Labor Summary (Office)'!B1208","v":0},null,null,null,null,null,null,0,null,null,null,0,null,null,null,null,null,0]
[{"$f":"'Labor Summary (Office)'!A1209","v":0},{"$f":"'Labor Summary (Office)'!B1209","v":0},null,null,null,null,null,null,0,null,null,null,0,null,null,null,null,null,0]
[{"$f":"'Labor Summary (Office)'!A1210","v":0},{"$f":"'Labor Summary (Office)'!B1210","v":0},null,null,null,null,null,null,0,null,null,null,0,null,null,null,null,null,0]
[{"$f":"'Labor Summary (Office)'!A1211","v":0},{"$f":"'Labor Summary (Office)'!B1211","v":0},null,null,null,null,null,null,0,null,null,null,0,null,null,null,null,null,0]
[{"$f":"'Labor Summary (Office)'!A1212","v":0},{"$f":"'Labor Summary (Office)'!B1212","v":0},null,null,null,null,null,null,0,null,null,null,0,null,null,null,null,null,0]
[{"$f":"'Labor Summary (Office)'!A1213","v":0},{"$f":"'Labor Summary (Office)'!B1213","v":0},null,null,null,null,null,null,0,null,null,null,0,null,null,null,null,null,0]
[{"$f":"'Labor Summary (Office)'!A1214","v":0},{"$f":"'Labor Summary (Office)'!B1214","v":0},null,null,null,null,null,null,0,null,null,null,0,null,null,null,null,null,0]
[{"$f":"'Labor Summary (Office)'!A1215","v":0},{"$f":"'Labor Summary (Office)'!B1215","v":0},null,null,null,null,null,null,0,null,null,null,0,null,null,null,null,null,0]
[{"$f":"'Labor Summary (Office)'!A1216","v":0},{"$f":"'Labor Summary (Office)'!B1216","v":0},null,null,null,null,null,null,0,null,null,null,0,null,null,null,null,null,0]
[{"$f":"'Labor Summary (Office)'!A1217","v":0},{"$f":"'Labor Summary (Office)'!B1217","v":0},null,null,null,null,null,null,0,null,null,null,0,null,null,null,null,null,0]
[{"$f":"'Labor Summary (Office)'!A1218","v":0},{"$f":"'Labor Summary (Office)'!B1218","v":0},null,null,null,null,null,null,0,null,null,null,0,null,null,null,null,null,0]
[{"$f":"'Labor Summary (Office)'!A1219","v":0},{"$f":"'Labor Summary (Office)'!B1219","v":0},null,null,null,null,null,null,0,null,null,null,0,null,null,null,null,null,0]
[{"$f":"'Labor Summary (Office)'!A1220","v":0},{"$f":"'Labor Summary (Office)'!B1220","v":0},{"$f":"IF(A1222=0,\"\",A1222)","v":""},null,null,null,null,null,null,null,null,null,null,null,null,null,"Subtotal Line 39",null,{"$f":"ROUND(SUM(S1192:S1221),2)","v":0}]
[{"$f":"'Labor Summary (Office)'!A1221","v":0},{"$f":"'Labor Summary (Office)'!B1221","v":0},null,null,null,null,null,null,0,null,null,null,{"$f":"ROUND(L1223*$M$9,2)","v":0},null,null,null,null,null,{"$f":"ROUND(F1223+I1223+K1223+M1223+N1223+O1223+P1223+Q1223+R1223,2)","v":0}]
[{"$f":"'Labor Summary (Office)'!A1222","v":0},{"$f":"'Labor Summary (Office)'!B1222","v":0},null,null,null,null,null,null,0,null,null,null,{"$f":"ROUND(L1224*$M$9,2)","v":0},null,null,null,null,null,{"$f":"ROUND(F1224+I1224+K1224+M1224+N1224+O1224+P1224+Q1224+R1224,2)","v":0}]
[{"$f":"'Labor Summary (Office)'!A1223","v":0},{"$f":"'Labor Summary (Office)'!B1223","v":0},null,null,null,null,null,null,0,null,null,null,0,null,null,null,null,null,0]
[{"$f":"'Labor Summary (Office)'!A1224","v":0},{"$f":"'Labor Summary (Office)'!B1224","v":0},null,null,null,null,null,null,0,null,null,null,0,null,null,null,null,null,0]
[{"$f":"'Labor Summary (Office)'!A1225","v":0},{"$f":"'Labor Summary (Office)'!B1225","v":0},null,null,null,null,null,null,0,null,null,null,0,null,null,null,null,null,0]
[{"$f":"'Labor Summary (Office)'!A1226","v":0},{"$f":"'Labor Summary (Office)'!B1226","v":0},null,null,null,null,null,null,0,null,null,null,0,null,null,null,null,null,0]
[{"$f":"'Labor Summary (Office)'!A1227","v":0},{"$f":"'Labor Summary (Office)'!B1227","v":0},null,null,null,null,null,null,0,null,null,null,0,null,null,null,null,null,0]
[{"$f":"'Labor Summary (Office)'!A1228","v":0},{"$f":"'Labor Summary (Office)'!B1228","v":0},null,null,null,null,null,null,0,null,null,null,0,null,null,null,null,null,0]
[{"$f":"'Labor Summary (Office)'!A1229","v":0},{"$f":"'Labor Summary (Office)'!B1229","v":0},null,null,null,null,null,null,{"$f":"H1231+G1231","v":0},null,null,null,0,null,null,null,null,null,0]
[{"$f":"'Labor Summary (Office)'!A1230","v":0},{"$f":"'Labor Summary (Office)'!B1230","v":0},null,null,null,null,null,null,0,null,null,null,0,null,null,null,null,null,0]
[{"$f":"'Labor Summary (Office)'!A1231","v":0},{"$f":"'Labor Summary (Office)'!B1231","v":0},null,null,null,null,null,null,0,null,null,null,0,null,null,null,null,null,0]
[{"$f":"'Labor Summary (Office)'!A1232","v":0},{"$f":"'Labor Summary (Office)'!B1232","v":0},null,null,null,null,null,null,0,null,null,null,0,null,null,null,null,null,0]
[{"$f":"'Labor Summary (Office)'!A1233","v":0},{"$f":"'Labor Summary (Office)'!B1233","v":0},null,null,null,null,null,null,0,null,null,null,0,null,null,null,null,null,0]
[{"$f":"'Labor Summary (Office)'!A1234","v":0},{"$f":"'Labor Summary (Office)'!B1234","v":0},null,null,null,null,null,null,0,null,null,null,0,null,null,null,null,null,0]
[{"$f":"'Labor Summary (Office)'!A1235","v":0},{"$f":"'Labor Summary (Office)'!B1235","v":0},null,null,null,null,null,null,0,null,null,null,0,null,null,null,null,null,0]
[{"$f":"'Labor Summary (Office)'!A1236","v":0},{"$f":"'Labor Summary (Office)'!B1236","v":0},null,null,null,null,null,null,0,null,null,null,0,null,null,null,null,null,0]
[{"$f":"'Labor Summary (Office)'!A1237","v":0},{"$f":"'Labor Summary (Office)'!B1237","v":0},null,null,null,null,null,null,0,null,null,null,0,null,null,null,null,null,0]
[{"$f":"'Labor Summary (Office)'!A1238","v":0},{"$f":"'Labor Summary (Office)'!B1238","v":0},null,null,null,null,null,null,0,null,null,null,0,null,null,null,null,null,0]
[{"$f":"'Labor Summary (Office)'!A1239","v":0},{"$f":"'Labor Summary (Office)'!B1239","v":0},null,null,null,null,null,null,0,null,null,null,0,null,null,null,null,null,0]
[{"$f":"'Labor Summary (Office)'!A1240","v":0},{"$f":"'Labor Summary (Office)'!B1240","v":0},null,null,null,null,null,null,0,null,null,null,0,null,null,null,null,null,0]
[{"$f":"'Labor Summary (Office)'!A1241","v":0},{"$f":"'Labor Summary (Office)'!B1241","v":0},null,null,null,null,null,null,0,null,null,null,0,null,null,null,null,null,0]
[{"$f":"'Labor Summary (Office)'!A1242","v":0},{"$f":"'Labor Summary (Office)'!B1242","v":0},null,null,null,null,null,null,0,null,null,null,0,null,null,null,null,null,0]
[{"$f":"'Labor Summary (Office)'!A1243","v":0},{"$f":"'Labor Summary (Office)'!B1243","v":0},null,null,null,null,null,null,0,null,null,null,0,null,null,null,null,null,0]
[{"$f":"'Labor Summary (Office)'!A1244","v":0},{"$f":"'Labor Summary (Office)'!B1244","v":0},null,null,null,null,null,null,0,null,null,null,0,null,null,null,null,null,0]
[{"$f":"'Labor Summary (Office)'!A1245","v":0},{"$f":"'Labor Summary (Office)'!B1245","v":0},null,null,null,null,null,null,0,null,null,null,0,null,null,null,null,null,0]
[{"$f":"'Labor Summary (Office)'!A1246","v":0},{"$f":"'Labor Summary (Office)'!B1246","v":0},null,null,null,null,null,null,0,null,null,null,0,null,null,null,null,null,0]
[{"$f":"'Labor Summary (Office)'!A1247","v":0},{"$f":"'Labor Summary (Office)'!B1247","v":0},null,null,null,null,null,null,0,null,null,null,0,null,null,null,null,null,0]
[{"$f":"'Labor Summary (Office)'!A1248","v":0},{"$f":"'Labor Summary (Office)'!B1248","v":0},null,null,null,null,null,null,0,null,null,null,0,null,null,null,null,null,0]
[{"$f":"'Labor Summary (Office)'!A1249","v":0},{"$f":"'Labor Summary (Office)'!B1249","v":0},null,null,null,null,null,null,0,null,null,null,0,null,null,null,null,null,0]
[{"$f":"'Labor Summary (Office)'!A1250","v":0},{"$f":"'Labor Summary (Office)'!B1250","v":0},null,null,null,null,null,null,0,null,null,null,0,null,null,null,null,null,0]
[{"$f":"'Labor Summary (Office)'!A1251","v":0},{"$f":"'Labor Summary (Office)'!B1251","v":0},{"$f":"IF(A1253=0,\"\",A1253)","v":""},null,null,null,null,null,null,null,null,null,null,null,null,null,"Subtotal Line 40",null,{"$f":"ROUND(SUM(S1223:S1252),2)","v":0}]
[{"$f":"'Labor Summary (Office)'!A1252","v":0},{"$f":"'Labor Summary (Office)'!B1252","v":0},null,null,null,null,null,null,0,null,null,null,{"$f":"ROUND(L1254*$M$9,2)","v":0},null,null,null,null,null,{"$f":"ROUND(F1254+I1254+K1254+M1254+N1254+O1254+P1254+Q1254+R1254,2)","v":0}]
[{"$f":"'Labor Summary (Office)'!A1253","v":0},{"$f":"'Labor Summary (Office)'!B1253","v":0},null,null,null,null,null,null,0,null,null,null,{"$f":"ROUND(L1255*$M$9,2)","v":0},null,null,null,null,null,{"$f":"ROUND(F1255+I1255+K1255+M1255+N1255+O1255+P1255+Q1255+R1255,2)","v":0}]
[{"$f":"'Labor Summary (Office)'!A1254","v":0},{"$f":"'Labor Summary (Office)'!B1254","v":0},null,null,null,null,null,null,0,null,null,null,0,null,null,null,null,null,0]
[{"$f":"'Labor Summary (Office)'!A1255","v":0},{"$f":"'Labor Summary (Office)'!B1255","v":0},null,null,null,null,null,null,0,null,null,null,0,null,null,null,null,null,0]
[{"$f":"'Labor Summary (Office)'!A1256","v":0},{"$f":"'Labor Summary (Office)'!B1256","v":0},null,null,null,null,null,null,0,null,null,null,0,null,null,null,null,null,0]
[{"$f":"'Labor Summary (Office)'!A1257","v":0},{"$f":"'Labor Summary (Office)'!B1257","v":0},null,null,null,null,null,null,0,null,null,null,0,null,null,null,null,null,0]
[{"$f":"'Labor Summary (Office)'!A1258","v":0},{"$f":"'Labor Summary (Office)'!B1258","v":0},null,null,null,null,null,null,0,null,null,null,0,null,null,null,null,null,0]
[{"$f":"'Labor Summary (Office)'!A1259","v":0},{"$f":"'Labor Summary (Office)'!B1259","v":0},null,null,null,null,null,null,0,null,null,null,0,null,null,null,null,null,0]
[{"$f":"'Labor Summary (Office)'!A1260","v":0},{"$f":"'Labor Summary (Office)'!B1260","v":0},null,null,null,null,null,null,0,null,null,null,0,null,null,null,null,null,0]
[{"$f":"'Labor Summary (Office)'!A1261","v":0},{"$f":"'Labor Summary (Office)'!B1261","v":0},null,null,null,null,null,null,0,null,null,null,0,null,null,null,null,null,0]
[{"$f":"'Labor Summary (Office)'!A1262","v":0},{"$f":"'Labor Summary (Office)'!B1262","v":0},null,null,null,null,null,null,0,null,null,null,0,null,null,null,null,null,0]
[{"$f":"'Labor Summary (Office)'!A1263","v":0},{"$f":"'Labor Summary (Office)'!B1263","v":0},null,null,null,null,null,null,0,null,null,null,0,null,null,null,null,null,0]
[{"$f":"'Labor Summary (Office)'!A1264","v":0},{"$f":"'Labor Summary (Office)'!B1264","v":0},null,null,null,null,null,null,0,null,null,null,0,null,null,null,null,null,0]
[{"$f":"'Labor Summary (Office)'!A1265","v":0},{"$f":"'Labor Summary (Office)'!B1265","v":0},null,null,null,null,null,null,0,null,null,null,0,null,null,null,null,null,0]
[{"$f":"'Labor Summary (Office)'!A1266","v":0},{"$f":"'Labor Summary (Office)'!B1266","v":0},null,null,null,null,null,null,0,null,null,null,0,null,null,null,null,null,0]
[{"$f":"'Labor Summary (Office)'!A1267","v":0},{"$f":"'Labor Summary (Office)'!B1267","v":0},null,null,null,null,null,null,0,null,null,null,0,null,null,null,null,null,0]
[{"$f":"'Labor Summary (Office)'!A1268","v":0},{"$f":"'Labor Summary (Office)'!B1268","v":0},null,null,null,null,null,null,0,null,null,null,0,null,null,null,null,null,0]
[{"$f":"'Labor Summary (Office)'!A1269","v":0},{"$f":"'Labor Summary (Office)'!B1269","v":0},null,null,null,null,null,null,0,null,null,null,0,null,null,null,null,null,0]
[{"$f":"'Labor Summary (Office)'!A1270","v":0},{"$f":"'Labor Summary (Office)'!B1270","v":0},null,null,null,null,null,null,0,null,null,null,0,null,null,null,null,null,0]
[{"$f":"'Labor Summary (Office)'!A1271","v":0},{"$f":"'Labor Summary (Office)'!B1271","v":0},null,null,null,null,null,null,0,null,null,null,0,null,null,null,null,null,0]
[{"$f":"'Labor Summary (Office)'!A1272","v":0},{"$f":"'Labor Summary (Office)'!B1272","v":0},null,null,null,null,null,null,0,null,null,null,0,null,null,null,null,null,0]
[{"$f":"'Labor Summary (Office)'!A1273","v":0},{"$f":"'Labor Summary (Office)'!B1273","v":0},null,null,null,null,null,null,0,null,null,null,0,null,null,null,null,null,0]
[{"$f":"'Labor Summary (Office)'!A1274","v":0},{"$f":"'Labor Summary (Office)'!B1274","v":0},null,null,null,null,null,null,0,null,null,null,0,null,null,null,null,null,0]
[{"$f":"'Labor Summary (Office)'!A1275","v":0},{"$f":"'Labor Summary (Office)'!B1275","v":0},null,null,null,null,null,null,0,null,null,null,0,null,null,null,null,null,0]
[{"$f":"'Labor Summary (Office)'!A1276","v":0},{"$f":"'Labor Summary (Office)'!B1276","v":0},null,null,null,null,null,null,0,null,null,null,0,null,null,null,null,null,0]
[{"$f":"'Labor Summary (Office)'!A1277","v":0},{"$f":"'Labor Summary (Office)'!B1277","v":0},null,null,null,null,null,null,0,null,null,null,0,null,null,null,null,null,0]
[{"$f":"'Labor Summary (Office)'!A1278","v":0},{"$f":"'Labor Summary (Office)'!B1278","v":0},null,null,null,null,null,null,0,null,null,null,0,null,null,null,null,null,0]
[{"$f":"'Labor Summary (Office)'!A1279","v":0},{"$f":"'Labor Summary (Office)'!B1279","v":0},null,null,null,null,null,null,0,null,null,null,0,null,null,null,null,null,0]
[{"$f":"'Labor Summary (Office)'!A1280","v":0},{"$f":"'Labor Summary (Office)'!B1280","v":0},null,null,null,null,null,null,0,null,null,null,0,null,null,null,null,null,0]
[{"$f":"'Labor Summary (Office)'!A1281","v":0},{"$f":"'Labor Summary (Office)'!B1281","v":0},null,null,null,null,null,null,0,null,null,null,0,null,null,null,null,null,0]
[{"$f":"'Labor Summary (Office)'!A1282","v":0},{"$f":"'Labor Summary (Office)'!B1282","v":0},{"$f":"IF(A1284=0,\"\",A1284)","v":""},null,null,null,null,null,null,null,null,null,null,null,null,null,"Subtotal Line 41",null,{"$f":"ROUND(SUM(S1254:S1283),2)","v":0}]
[{"$f":"'Labor Summary (Office)'!A1283","v":0},{"$f":"'Labor Summary (Office)'!B1283","v":0},null,null,null,null,null,null,0,null,null,null,{"$f":"ROUND(L1285*$M$9,2)","v":0},null,null,null,null,null,{"$f":"ROUND(F1285+I1285+K1285+M1285+N1285+O1285+P1285+Q1285+R1285,2)","v":0}]
[{"$f":"'Labor Summary (Office)'!A1284","v":0},{"$f":"'Labor Summary (Office)'!B1284","v":0},null,null,null,null,null,null,0,null,null,null,{"$f":"ROUND(L1286*$M$9,2)","v":0},null,null,null,null,null,{"$f":"ROUND(F1286+I1286+K1286+M1286+N1286+O1286+P1286+Q1286+R1286,2)","v":0}]
[{"$f":"'Labor Summary (Office)'!A1285","v":0},{"$f":"'Labor Summary (Office)'!B1285","v":0},null,null,null,null,null,null,0,null,null,null,0,null,null,null,null,null,0]
[{"$f":"'Labor Summary (Office)'!A1286","v":0},{"$f":"'Labor Summary (Office)'!B1286","v":0},null,null,null,null,null,null,0,null,null,null,0,null,null,null,null,null,0]
[{"$f":"'Labor Summary (Office)'!A1287","v":0},{"$f":"'Labor Summary (Office)'!B1287","v":0},null,null,null,null,null,null,0,null,null,null,0,null,null,null,null,null,0]
[{"$f":"'Labor Summary (Office)'!A1288","v":0},{"$f":"'Labor Summary (Office)'!B1288","v":0},null,null,null,null,null,null,0,null,null,null,0,null,null,null,null,null,0]
[{"$f":"'Labor Summary (Office)'!A1289","v":0},{"$f":"'Labor Summary (Office)'!B1289","v":0},null,null,null,null,null,null,0,null,null,null,0,null,null,null,null,null,0]
[{"$f":"'Labor Summary (Office)'!A1290","v":0},{"$f":"'Labor Summary (Office)'!B1290","v":0},null,null,null,null,null,null,0,null,null,null,0,null,null,null,null,null,0]
[{"$f":"'Labor Summary (Office)'!A1291","v":0},{"$f":"'Labor Summary (Office)'!B1291","v":0},null,null,null,null,null,null,0,null,null,null,0,null,null,null,null,null,0]
[{"$f":"'Labor Summary (Office)'!A1292","v":0},{"$f":"'Labor Summary (Office)'!B1292","v":0},null,null,null,null,null,null,0,null,null,null,0,null,null,null,null,null,0]
[{"$f":"'Labor Summary (Office)'!A1293","v":0},{"$f":"'Labor Summary (Office)'!B1293","v":0},null,null,null,null,null,null,{"$f":"H1295+G1295","v":0},null,null,null,0,null,null,null,null,null,0]
[{"$f":"'Labor Summary (Office)'!A1294","v":0},{"$f":"'Labor Summary (Office)'!B1294","v":0},null,null,null,null,null,null,0,null,null,null,0,null,null,null,null,null,0]
[{"$f":"'Labor Summary (Office)'!A1295","v":0},{"$f":"'Labor Summary (Office)'!B1295","v":0},null,null,null,null,null,null,0,null,null,null,0,null,null,null,null,null,0]
[{"$f":"'Labor Summary (Office)'!A1296","v":0},{"$f":"'Labor Summary (Office)'!B1296","v":0},null,null,null,null,null,null,0,null,null,null,0,null,null,null,null,null,0]
[{"$f":"'Labor Summary (Office)'!A1297","v":0},{"$f":"'Labor Summary (Office)'!B1297","v":0},null,null,null,null,null,null,0,null,null,null,0,null,null,null,null,null,0]
[{"$f":"'Labor Summary (Office)'!A1298","v":0},{"$f":"'Labor Summary (Office)'!B1298","v":0},null,null,null,null,null,null,0,null,null,null,0,null,null,null,null,null,0]
[{"$f":"'Labor Summary (Office)'!A1299","v":0},{"$f":"'Labor Summary (Office)'!B1299","v":0},null,null,null,null,null,null,0,null,null,null,0,null,null,null,null,null,0]
[{"$f":"'Labor Summary (Office)'!A1300","v":0},{"$f":"'Labor Summary (Office)'!B1300","v":0},null,null,null,null,null,null,0,null,null,null,0,null,null,null,null,null,0]
[{"$f":"'Labor Summary (Office)'!A1301","v":0},{"$f":"'Labor Summary (Office)'!B1301","v":0},null,null,null,null,null,null,0,null,null,null,0,null,null,null,null,null,0]
[{"$f":"'Labor Summary (Office)'!A1302","v":0},{"$f":"'Labor Summary (Office)'!B1302","v":0},null,null,null,null,null,null,0,null,null,null,0,null,null,null,null,null,0]
[{"$f":"'Labor Summary (Office)'!A1303","v":0},{"$f":"'Labor Summary (Office)'!B1303","v":0},null,null,null,null,null,null,0,null,null,null,0,null,null,null,null,null,0]
[{"$f":"'Labor Summary (Office)'!A1304","v":0},{"$f":"'Labor Summary (Office)'!B1304","v":0},null,null,null,null,null,null,0,null,null,null,0,null,null,null,null,null,0]
[{"$f":"'Labor Summary (Office)'!A1305","v":0},{"$f":"'Labor Summary (Office)'!B1305","v":0},null,null,null,null,null,null,0,null,null,null,0,null,null,null,null,null,0]
[{"$f":"'Labor Summary (Office)'!A1306","v":0},{"$f":"'Labor Summary (Office)'!B1306","v":0},null,null,null,null,null,null,0,null,null,null,0,null,null,null,null,null,0]
[{"$f":"'Labor Summary (Office)'!A1307","v":0},{"$f":"'Labor Summary (Office)'!B1307","v":0},null,null,null,null,null,null,0,null,null,null,0,null,null,null,null,null,0]
[{"$f":"'Labor Summary (Office)'!A1308","v":0},{"$f":"'Labor Summary (Office)'!B1308","v":0},null,null,null,null,null,null,0,null,null,null,0,null,null,null,null,null,0]
[{"$f":"'Labor Summary (Office)'!A1309","v":0},{"$f":"'Labor Summary (Office)'!B1309","v":0},null,null,null,null,null,null,0,null,null,null,0,null,null,null,null,null,0]
[{"$f":"'Labor Summary (Office)'!A1310","v":0},{"$f":"'Labor Summary (Office)'!B1310","v":0},null,null,null,null,null,null,0,null,null,null,0,null,null,null,null,null,0]
[{"$f":"'Labor Summary (Office)'!A1311","v":0},{"$f":"'Labor Summary (Office)'!B1311","v":0},null,null,null,null,null,null,0,null,null,null,0,null,null,null,null,null,0]
[{"$f":"'Labor Summary (Office)'!A1312","v":0},{"$f":"'Labor Summary (Office)'!B1312","v":0},null,null,null,null,null,null,0,null,null,null,0,null,null,null,null,null,0]
[{"$f":"'Labor Summary (Office)'!A1313","v":0},{"$f":"'Labor Summary (Office)'!B1313","v":0},{"$f":"IF(A1315=0,\"\",A1315)","v":""},null,null,null,null,null,null,null,null,null,null,null,null,null,"Subtotal Line 42",null,{"$f":"ROUND(SUM(S1285:S1314),2)","v":0}]
[{"$f":"'Labor Summary (Office)'!A1314","v":0},{"$f":"'Labor Summary (Office)'!B1314","v":0},null,null,null,null,null,null,0,null,null,null,{"$f":"ROUND(L1316*$M$9,2)","v":0},null,null,null,null,null,{"$f":"ROUND(F1316+I1316+K1316+M1316+N1316+O1316+P1316+Q1316+R1316,2)","v":0}]
[{"$f":"'Labor Summary (Office)'!A1315","v":0},{"$f":"'Labor Summary (Office)'!B1315","v":0},null,null,null,null,null,null,0,null,null,null,{"$f":"ROUND(L1317*$M$9,2)","v":0},null,null,null,null,null,{"$f":"ROUND(F1317+I1317+K1317+M1317+N1317+O1317+P1317+Q1317+R1317,2)","v":0}]
[{"$f":"'Labor Summary (Office)'!A1316","v":0},{"$f":"'Labor Summary (Office)'!B1316","v":0},null,null,null,null,null,null,0,null,null,null,0,null,null,null,null,null,0]
[{"$f":"'Labor Summary (Office)'!A1317","v":0},{"$f":"'Labor Summary (Office)'!B1317","v":0},null,null,null,null,null,null,0,null,null,null,0,null,null,null,null,null,0]
[{"$f":"'Labor Summary (Office)'!A1318","v":0},{"$f":"'Labor Summary (Office)'!B1318","v":0},null,null,null,null,null,null,0,null,null,null,0,null,null,null,null,null,0]
[{"$f":"'Labor Summary (Office)'!A1319","v":0},{"$f":"'Labor Summary (Office)'!B1319","v":0},null,null,null,null,null,null,0,null,null,null,0,null,null,null,null,null,0]
[{"$f":"'Labor Summary (Office)'!A1320","v":0},{"$f":"'Labor Summary (Office)'!B1320","v":0},null,null,null,null,null,null,0,null,null,null,0,null,null,null,null,null,0]
[{"$f":"'Labor Summary (Office)'!A1321","v":0},{"$f":"'Labor Summary (Office)'!B1321","v":0},null,null,null,null,null,null,0,null,null,null,0,null,null,null,null,null,0]
[{"$f":"'Labor Summary (Office)'!A1322","v":0},{"$f":"'Labor Summary (Office)'!B1322","v":0},null,null,null,null,null,null,0,null,null,null,0,null,null,null,null,null,0]
[{"$f":"'Labor Summary (Office)'!A1323","v":0},{"$f":"'Labor Summary (Office)'!B1323","v":0},null,null,null,null,null,null,0,null,null,null,0,null,null,null,null,null,0]
[{"$f":"'Labor Summary (Office)'!A1324","v":0},{"$f":"'Labor Summary (Office)'!B1324","v":0},null,null,null,null,null,null,0,null,null,null,0,null,null,null,null,null,0]
[{"$f":"'Labor Summary (Office)'!A1325","v":0},{"$f":"'Labor Summary (Office)'!B1325","v":0},null,null,null,null,null,null,0,null,null,null,0,null,null,null,null,null,0]
[{"$f":"'Labor Summary (Office)'!A1326","v":0},{"$f":"'Labor Summary (Office)'!B1326","v":0},null,null,null,null,null,null,0,null,null,null,0,null,null,null,null,null,0]
[{"$f":"'Labor Summary (Office)'!A1327","v":0},{"$f":"'Labor Summary (Office)'!B1327","v":0},null,null,null,null,null,null,0,null,null,null,0,null,null,null,null,null,0]
[{"$f":"'Labor Summary (Office)'!A1328","v":0},{"$f":"'Labor Summary (Office)'!B1328","v":0},null,null,null,null,null,null,0,null,null,null,0,null,null,null,null,null,0]
[{"$f":"'Labor Summary (Office)'!A1329","v":0},{"$f":"'Labor Summary (Office)'!B1329","v":0},null,null,null,null,null,null,0,null,null,null,0,null,null,null,null,null,0]
[{"$f":"'Labor Summary (Office)'!A1330","v":0},{"$f":"'Labor Summary (Office)'!B1330","v":0},null,null,null,null,null,null,0,null,null,null,0,null,null,null,null,null,0]
[{"$f":"'Labor Summary (Office)'!A1331","v":0},{"$f":"'Labor Summary (Office)'!B1331","v":0},null,null,null,null,null,null,0,null,null,null,0,null,null,null,null,null,0]
[{"$f":"'Labor Summary (Office)'!A1332","v":0},{"$f":"'Labor Summary (Office)'!B1332","v":0},null,null,null,null,null,null,0,null,null,null,0,null,null,null,null,null,0]
[{"$f":"'Labor Summary (Office)'!A1333","v":0},{"$f":"'Labor Summary (Office)'!B1333","v":0},null,null,null,null,null,null,0,null,null,null,0,null,null,null,null,null,0]
[{"$f":"'Labor Summary (Office)'!A1334","v":0},{"$f":"'Labor Summary (Office)'!B1334","v":0},null,null,null,null,null,null,0,null,null,null,0,null,null,null,null,null,0]
[{"$f":"'Labor Summary (Office)'!A1335","v":0},{"$f":"'Labor Summary (Office)'!B1335","v":0},null,null,null,null,null,null,0,null,null,null,0,null,null,null,null,null,0]
[{"$f":"'Labor Summary (Office)'!A1336","v":0},{"$f":"'Labor Summary (Office)'!B1336","v":0},null,null,null,null,null,null,0,null,null,null,0,null,null,null,null,null,0]
[{"$f":"'Labor Summary (Office)'!A1337","v":0},{"$f":"'Labor Summary (Office)'!B1337","v":0},null,null,null,null,null,null,0,null,null,null,0,null,null,null,null,null,0]
[{"$f":"'Labor Summary (Office)'!A1338","v":0},{"$f":"'Labor Summary (Office)'!B1338","v":0},null,null,null,null,null,null,0,null,null,null,0,null,null,null,null,null,0]
[{"$f":"'Labor Summary (Office)'!A1339","v":0},{"$f":"'Labor Summary (Office)'!B1339","v":0},null,null,null,null,null,null,0,null,null,null,0,null,null,null,null,null,0]
[{"$f":"'Labor Summary (Office)'!A1340","v":0},{"$f":"'Labor Summary (Office)'!B1340","v":0},null,null,null,null,null,null,0,null,null,null,0,null,null,null,null,null,0]
[{"$f":"'Labor Summary (Office)'!A1341","v":0},{"$f":"'Labor Summary (Office)'!B1341","v":0},null,null,null,null,null,null,0,null,null,null,0,null,null,null,null,null,0]
[{"$f":"'Labor Summary (Office)'!A1342","v":0},{"$f":"'Labor Summary (Office)'!B1342","v":0},null,null,null,null,null,null,0,null,null,null,0,null,null,null,null,null,0]
[{"$f":"'Labor Summary (Office)'!A1343","v":0},{"$f":"'Labor Summary (Office)'!B1343","v":0},null,null,null,null,null,null,0,null,null,null,0,null,null,null,null,null,0]
[{"$f":"'Labor Summary (Office)'!A1344","v":0},{"$f":"'Labor Summary (Office)'!B1344","v":0},{"$f":"IF(A1346=0,\"\",A1346)","v":""},null,null,null,null,null,null,null,null,null,null,null,null,null,"Subtotal Line 43",null,{"$f":"ROUND(SUM(S1316:S1345),2)","v":0}]
[{"$f":"'Labor Summary (Office)'!A1345","v":0},{"$f":"'Labor Summary (Office)'!B1345","v":0},null,null,null,null,null,null,0,null,null,null,{"$f":"ROUND(L1347*$M$9,2)","v":0},null,null,null,null,null,{"$f":"ROUND(F1347+I1347+K1347+M1347+N1347+O1347+P1347+Q1347+R1347,2)","v":0}]
[{"$f":"'Labor Summary (Office)'!A1346","v":0},{"$f":"'Labor Summary (Office)'!B1346","v":0},null,null,null,null,null,null,0,null,null,null,{"$f":"ROUND(L1348*$M$9,2)","v":0},null,null,null,null,null,{"$f":"ROUND(F1348+I1348+K1348+M1348+N1348+O1348+P1348+Q1348+R1348,2)","v":0}]
[{"$f":"'Labor Summary (Office)'!A1347","v":0},{"$f":"'Labor Summary (Office)'!B1347","v":0},null,null,null,null,null,null,0,null,null,null,0,null,null,null,null,null,0]
[{"$f":"'Labor Summary (Office)'!A1348","v":0},{"$f":"'Labor Summary (Office)'!B1348","v":0},null,null,null,null,null,null,0,null,null,null,0,null,null,null,null,null,0]
[{"$f":"'Labor Summary (Office)'!A1349","v":0},{"$f":"'Labor Summary (Office)'!B1349","v":0},null,null,null,null,null,null,0,null,null,null,0,null,null,null,null,null,0]
[{"$f":"'Labor Summary (Office)'!A1350","v":0},{"$f":"'Labor Summary (Office)'!B1350","v":0},null,null,null,null,null,null,0,null,null,null,0,null,null,null,null,null,0]
[{"$f":"'Labor Summary (Office)'!A1351","v":0},{"$f":"'Labor Summary (Office)'!B1351","v":0},null,null,null,null,null,null,0,null,null,null,0,null,null,null,null,null,0]
[{"$f":"'Labor Summary (Office)'!A1352","v":0},{"$f":"'Labor Summary (Office)'!B1352","v":0},null,null,null,null,null,null,0,null,null,null,0,null,null,null,null,null,0]
[{"$f":"'Labor Summary (Office)'!A1353","v":0},{"$f":"'Labor Summary (Office)'!B1353","v":0},null,null,null,null,null,null,0,null,null,null,0,null,null,null,null,null,0]
[{"$f":"'Labor Summary (Office)'!A1354","v":0},{"$f":"'Labor Summary (Office)'!B1354","v":0},null,null,null,null,null,null,0,null,null,null,0,null,null,null,null,null,0]
[{"$f":"'Labor Summary (Office)'!A1355","v":0},{"$f":"'Labor Summary (Office)'!B1355","v":0},null,null,null,null,null,null,0,null,null,null,0,null,null,null,null,null,0]
[{"$f":"'Labor Summary (Office)'!A1356","v":0},{"$f":"'Labor Summary (Office)'!B1356","v":0},null,null,null,null,null,null,0,null,null,null,0,null,null,null,null,null,0]
[{"$f":"'Labor Summary (Office)'!A1357","v":0},{"$f":"'Labor Summary (Office)'!B1357","v":0},null,null,null,null,null,null,{"$f":"H1359+G1359","v":0},null,null,null,0,null,null,null,null,null,0]
[{"$f":"'Labor Summary (Office)'!A1358","v":0},{"$f":"'Labor Summary (Office)'!B1358","v":0},null,null,null,null,null,null,0,null,null,null,0,null,null,null,null,null,0]
[{"$f":"'Labor Summary (Office)'!A1359","v":0},{"$f":"'Labor Summary (Office)'!B1359","v":0},null,null,null,null,null,null,0,null,null,null,0,null,null,null,null,null,0]
[{"$f":"'Labor Summary (Office)'!A1360","v":0},{"$f":"'Labor Summary (Office)'!B1360","v":0},null,null,null,null,null,null,0,null,null,null,0,null,null,null,null,null,0]
[{"$f":"'Labor Summary (Office)'!A1361","v":0},{"$f":"'Labor Summary (Office)'!B1361","v":0},null,null,null,null,null,null,0,null,null,null,0,null,null,null,null,null,0]
[{"$f":"'Labor Summary (Office)'!A1362","v":0},{"$f":"'Labor Summary (Office)'!B1362","v":0},null,null,null,null,null,null,0,null,null,null,0,null,null,null,null,null,0]
[{"$f":"'Labor Summary (Office)'!A1363","v":0},{"$f":"'Labor Summary (Office)'!B1363","v":0},null,null,null,null,null,null,0,null,null,null,0,null,null,null,null,null,0]
[{"$f":"'Labor Summary (Office)'!A1364","v":0},{"$f":"'Labor Summary (Office)'!B1364","v":0},null,null,null,null,null,null,0,null,null,null,0,null,null,null,null,null,0]
[{"$f":"'Labor Summary (Office)'!A1365","v":0},{"$f":"'Labor Summary (Office)'!B1365","v":0},null,null,null,null,null,null,0,null,null,null,0,null,null,null,null,null,0]
[{"$f":"'Labor Summary (Office)'!A1366","v":0},{"$f":"'Labor Summary (Office)'!B1366","v":0},null,null,null,null,null,null,0,null,null,null,0,null,null,null,null,null,0]
[{"$f":"'Labor Summary (Office)'!A1367","v":0},{"$f":"'Labor Summary (Office)'!B1367","v":0},null,null,null,null,null,null,0,null,null,null,0,null,null,null,null,null,0]
[{"$f":"'Labor Summary (Office)'!A1368","v":0},{"$f":"'Labor Summary (Office)'!B1368","v":0},null,null,null,null,null,null,0,null,null,null,0,null,null,null,null,null,0]
[{"$f":"'Labor Summary (Office)'!A1369","v":0},{"$f":"'Labor Summary (Office)'!B1369","v":0},null,null,null,null,null,null,0,null,null,null,0,null,null,null,null,null,0]
[{"$f":"'Labor Summary (Office)'!A1370","v":0},{"$f":"'Labor Summary (Office)'!B1370","v":0},null,null,null,null,null,null,0,null,null,null,0,null,null,null,null,null,0]
[{"$f":"'Labor Summary (Office)'!A1371","v":0},{"$f":"'Labor Summary (Office)'!B1371","v":0},null,null,null,null,null,null,0,null,null,null,0,null,null,null,null,null,0]
[{"$f":"'Labor Summary (Office)'!A1372","v":0},{"$f":"'Labor Summary (Office)'!B1372","v":0},null,null,null,null,null,null,0,null,null,null,0,null,null,null,null,null,0]
[{"$f":"'Labor Summary (Office)'!A1373","v":0},{"$f":"'Labor Summary (Office)'!B1373","v":0},null,null,null,null,null,null,0,null,null,null,0,null,null,null,null,null,0]
[{"$f":"'Labor Summary (Office)'!A1374","v":0},{"$f":"'Labor Summary (Office)'!B1374","v":0},null,null,null,null,null,null,0,null,null,null,0,null,null,null,null,null,0]
[{"$f":"'Labor Summary (Office)'!A1375","v":0},{"$f":"'Labor Summary (Office)'!B1375","v":0},{"$f":"IF(A1377=0,\"\",A1377)","v":""},null,null,null,null,null,null,null,null,null,null,null,null,null,"Subtotal Line 44",null,{"$f":"ROUND(SUM(S1347:S1376),2)","v":0}]
[{"$f":"'Labor Summary (Office)'!A1376","v":0},{"$f":"'Labor Summary (Office)'!B1376","v":0},null,null,null,null,null,null,0,null,null,null,{"$f":"ROUND(L1378*$M$9,2)","v":0},null,null,null,null,null,{"$f":"ROUND(F1378+I1378+K1378+M1378+N1378+O1378+P1378+Q1378+R1378,2)","v":0}]
[{"$f":"'Labor Summary (Office)'!A1377","v":0},{"$f":"'Labor Summary (Office)'!B1377","v":0},null,null,null,null,null,null,0,null,null,null,{"$f":"ROUND(L1379*$M$9,2)","v":0},null,null,null,null,null,{"$f":"ROUND(F1379+I1379+K1379+M1379+N1379+O1379+P1379+Q1379+R1379,2)","v":0}]
[{"$f":"'Labor Summary (Office)'!A1378","v":0},{"$f":"'Labor Summary (Office)'!B1378","v":0},null,null,null,null,null,null,0,null,null,null,0,null,null,null,null,null,0]
[{"$f":"'Labor Summary (Office)'!A1379","v":0},{"$f":"'Labor Summary (Office)'!B1379","v":0},null,null,null,null,null,null,0,null,null,null,0,null,null,null,null,null,0]
[{"$f":"'Labor Summary (Office)'!A1380","v":0},{"$f":"'Labor Summary (Office)'!B1380","v":0},null,null,null,null,null,null,0,null,null,null,0,null,null,null,null,null,0]
[{"$f":"'Labor Summary (Office)'!A1381","v":0},{"$f":"'Labor Summary (Office)'!B1381","v":0},null,null,null,null,null,null,0,null,null,null,0,null,null,null,null,null,0]
[{"$f":"'Labor Summary (Office)'!A1382","v":0},{"$f":"'Labor Summary (Office)'!B1382","v":0},null,null,null,null,null,null,0,null,null,null,0,null,null,null,null,null,0]
[{"$f":"'Labor Summary (Office)'!A1383","v":0},{"$f":"'Labor Summary (Office)'!B1383","v":0},null,null,null,null,null,null,0,null,null,null,0,null,null,null,null,null,0]
[{"$f":"'Labor Summary (Office)'!A1384","v":0},{"$f":"'Labor Summary (Office)'!B1384","v":0},null,null,null,null,null,null,0,null,null,null,0,null,null,null,null,null,0]
[{"$f":"'Labor Summary (Office)'!A1385","v":0},{"$f":"'Labor Summary (Office)'!B1385","v":0},null,null,null,null,null,null,0,null,null,null,0,null,null,null,null,null,0]
[{"$f":"'Labor Summary (Office)'!A1386","v":0},{"$f":"'Labor Summary (Office)'!B1386","v":0},null,null,null,null,null,null,0,null,null,null,0,null,null,null,null,null,0]
[{"$f":"'Labor Summary (Office)'!A1387","v":0},{"$f":"'Labor Summary (Office)'!B1387","v":0},null,null,null,null,null,null,0,null,null,null,0,null,null,null,null,null,0]
[{"$f":"'Labor Summary (Office)'!A1388","v":0},{"$f":"'Labor Summary (Office)'!B1388","v":0},null,null,null,null,null,null,0,null,null,null,0,null,null,null,null,null,0]
[{"$f":"'Labor Summary (Office)'!A1389","v":0},{"$f":"'Labor Summary (Office)'!B1389","v":0},null,null,null,null,null,null,0,null,null,null,0,null,null,null,null,null,0]
[{"$f":"'Labor Summary (Office)'!A1390","v":0},{"$f":"'Labor Summary (Office)'!B1390","v":0},null,null,null,null,null,null,0,null,null,null,0,null,null,null,null,null,0]
[{"$f":"'Labor Summary (Office)'!A1391","v":0},{"$f":"'Labor Summary (Office)'!B1391","v":0},null,null,null,null,null,null,0,null,null,null,0,null,null,null,null,null,0]
[{"$f":"'Labor Summary (Office)'!A1392","v":0},{"$f":"'Labor Summary (Office)'!B1392","v":0},null,null,null,null,null,null,0,null,null,null,0,null,null,null,null,null,0]
[{"$f":"'Labor Summary (Office)'!A1393","v":0},{"$f":"'Labor Summary (Office)'!B1393","v":0},null,null,null,null,null,null,0,null,null,null,0,null,null,null,null,null,0]
[{"$f":"'Labor Summary (Office)'!A1394","v":0},{"$f":"'Labor Summary (Office)'!B1394","v":0},null,null,null,null,null,null,0,null,null,null,0,null,null,null,null,null,0]
[{"$f":"'Labor Summary (Office)'!A1395","v":0},{"$f":"'Labor Summary (Office)'!B1395","v":0},null,null,null,null,null,null,0,null,null,null,0,null,null,null,null,null,0]
[{"$f":"'Labor Summary (Office)'!A1396","v":0},{"$f":"'Labor Summary (Office)'!B1396","v":0},null,null,null,null,null,null,0,null,null,null,0,null,null,null,null,null,0]
[{"$f":"'Labor Summary (Office)'!A1397","v":0},{"$f":"'Labor Summary (Office)'!B1397","v":0},null,null,null,null,null,null,0,null,null,null,0,null,null,null,null,null,0]
[{"$f":"'Labor Summary (Office)'!A1398","v":0},{"$f":"'Labor Summary (Office)'!B1398","v":0},null,null,null,null,null,null,0,null,null,null,0,null,null,null,null,null,0]
[{"$f":"'Labor Summary (Office)'!A1399","v":0},{"$f":"'Labor Summary (Office)'!B1399","v":0},null,null,null,null,null,null,0,null,null,null,0,null,null,null,null,null,0]
[{"$f":"'Labor Summary (Office)'!A1400","v":0},{"$f":"'Labor Summary (Office)'!B1400","v":0},null,null,null,null,null,null,0,null,null,null,0,null,null,null,null,null,0]
[{"$f":"'Labor Summary (Office)'!A1401","v":0},{"$f":"'Labor Summary (Office)'!B1401","v":0},null,null,null,null,null,null,0,null,null,null,0,null,null,null,null,null,0]
[{"$f":"'Labor Summary (Office)'!A1402","v":0},{"$f":"'Labor Summary (Office)'!B1402","v":0},null,null,null,null,null,null,0,null,null,null,0,null,null,null,null,null,0]
[{"$f":"'Labor Summary (Office)'!A1403","v":0},{"$f":"'Labor Summary (Office)'!B1403","v":0},null,null,null,null,null,null,0,null,null,null,0,null,null,null,null,null,0]
[{"$f":"'Labor Summary (Office)'!A1404","v":0},{"$f":"'Labor Summary (Office)'!B1404","v":0},null,null,null,null,null,null,0,null,null,null,0,null,null,null,null,null,0]
[{"$f":"'Labor Summary (Office)'!A1405","v":0},{"$f":"'Labor Summary (Office)'!B1405","v":0},null,null,null,null,null,null,0,null,null,null,0,null,null,null,null,null,0]
[{"$f":"'Labor Summary (Office)'!A1406","v":0},{"$f":"'Labor Summary (Office)'!B1406","v":0},{"$f":"IF(A1408=0,\"\",A1408)","v":""},null,null,null,null,null,null,null,null,null,null,null,null,null,"Subtotal Line 45",null,{"$f":"ROUND(SUM(S1378:S1407),2)","v":0}]
[{"$f":"'Labor Summary (Office)'!A1407","v":0},{"$f":"'Labor Summary (Office)'!B1407","v":0},null,null,null,null,null,null,0,null,null,null,{"$f":"ROUND(L1409*$M$9,2)","v":0},null,null,null,null,null,{"$f":"ROUND(F1409+I1409+K1409+M1409+N1409+O1409+P1409+Q1409+R1409,2)","v":0}]
[{"$f":"'Labor Summary (Office)'!A1408","v":0},{"$f":"'Labor Summary (Office)'!B1408","v":0},null,null,null,null,null,null,0,null,null,null,{"$f":"ROUND(L1410*$M$9,2)","v":0},null,null,null,null,null,{"$f":"ROUND(F1410+I1410+K1410+M1410+N1410+O1410+P1410+Q1410+R1410,2)","v":0}]
[{"$f":"'Labor Summary (Office)'!A1409","v":0},{"$f":"'Labor Summary (Office)'!B1409","v":0},null,null,null,null,null,null,0,null,null,null,0,null,null,null,null,null,0]
[{"$f":"'Labor Summary (Office)'!A1410","v":0},{"$f":"'Labor Summary (Office)'!B1410","v":0},null,null,null,null,null,null,0,null,null,null,0,null,null,null,null,null,0]
[{"$f":"'Labor Summary (Office)'!A1411","v":0},{"$f":"'Labor Summary (Office)'!B1411","v":0},null,null,null,null,null,null,0,null,null,null,0,null,null,null,null,null,0]
[{"$f":"'Labor Summary (Office)'!A1412","v":0},{"$f":"'Labor Summary (Office)'!B1412","v":0},null,null,null,null,null,null,0,null,null,null,0,null,null,null,null,null,0]
[{"$f":"'Labor Summary (Office)'!A1413","v":0},{"$f":"'Labor Summary (Office)'!B1413","v":0},null,null,null,null,null,null,0,null,null,null,0,null,null,null,null,null,0]
[{"$f":"'Labor Summary (Office)'!A1414","v":0},{"$f":"'Labor Summary (Office)'!B1414","v":0},null,null,null,null,null,null,0,null,null,null,0,null,null,null,null,null,0]
[{"$f":"'Labor Summary (Office)'!A1415","v":0},{"$f":"'Labor Summary (Office)'!B1415","v":0},null,null,null,null,null,null,0,null,null,null,0,null,null,null,null,null,0]
[{"$f":"'Labor Summary (Office)'!A1416","v":0},{"$f":"'Labor Summary (Office)'!B1416","v":0},null,null,null,null,null,null,0,null,null,null,0,null,null,null,null,null,0]
[{"$f":"'Labor Summary (Office)'!A1417","v":0},{"$f":"'Labor Summary (Office)'!B1417","v":0},null,null,null,null,null,null,0,null,null,null,0,null,null,null,null,null,0]
[{"$f":"'Labor Summary (Office)'!A1418","v":0},{"$f":"'Labor Summary (Office)'!B1418","v":0},null,null,null,null,null,null,0,null,null,null,0,null,null,null,null,null,0]
[{"$f":"'Labor Summary (Office)'!A1419","v":0},{"$f":"'Labor Summary (Office)'!B1419","v":0},null,null,null,null,null,null,0,null,null,null,0,null,null,null,null,null,0]
[{"$f":"'Labor Summary (Office)'!A1420","v":0},{"$f":"'Labor Summary (Office)'!B1420","v":0},null,null,null,null,null,null,0,null,null,null,0,null,null,null,null,null,0]
[{"$f":"'Labor Summary (Office)'!A1421","v":0},{"$f":"'Labor Summary (Office)'!B1421","v":0},null,null,null,null,null,null,{"$f":"H1423+G1423","v":0},null,null,null,0,null,null,null,null,null,0]
[{"$f":"'Labor Summary (Office)'!A1422","v":0},{"$f":"'Labor Summary (Office)'!B1422","v":0},null,null,null,null,null,null,0,null,null,null,0,null,null,null,null,null,0]
[{"$f":"'Labor Summary (Office)'!A1423","v":0},{"$f":"'Labor Summary (Office)'!B1423","v":0},null,null,null,null,null,null,0,null,null,null,0,null,null,null,null,null,0]
[{"$f":"'Labor Summary (Office)'!A1424","v":0},{"$f":"'Labor Summary (Office)'!B1424","v":0},null,null,null,null,null,null,0,null,null,null,0,null,null,null,null,null,0]
[{"$f":"'Labor Summary (Office)'!A1425","v":0},{"$f":"'Labor Summary (Office)'!B1425","v":0},null,null,null,null,null,null,0,null,null,null,0,null,null,null,null,null,0]
[{"$f":"'Labor Summary (Office)'!A1426","v":0},{"$f":"'Labor Summary (Office)'!B1426","v":0},null,null,null,null,null,null,0,null,null,null,0,null,null,null,null,null,0]
[{"$f":"'Labor Summary (Office)'!A1427","v":0},{"$f":"'Labor Summary (Office)'!B1427","v":0},null,null,null,null,null,null,0,null,null,null,0,null,null,null,null,null,0]
[{"$f":"'Labor Summary (Office)'!A1428","v":0},{"$f":"'Labor Summary (Office)'!B1428","v":0},null,null,null,null,null,null,0,null,null,null,0,null,null,null,null,null,0]
[{"$f":"'Labor Summary (Office)'!A1429","v":0},{"$f":"'Labor Summary (Office)'!B1429","v":0},null,null,null,null,null,null,0,null,null,null,0,null,null,null,null,null,0]
[{"$f":"'Labor Summary (Office)'!A1430","v":0},{"$f":"'Labor Summary (Office)'!B1430","v":0},null,null,null,null,null,null,0,null,null,null,0,null,null,null,null,null,0]
[{"$f":"'Labor Summary (Office)'!A1431","v":0},{"$f":"'Labor Summary (Office)'!B1431","v":0},null,null,null,null,null,null,0,null,null,null,0,null,null,null,null,null,0]
[{"$f":"'Labor Summary (Office)'!A1432","v":0},{"$f":"'Labor Summary (Office)'!B1432","v":0},null,null,null,null,null,null,0,null,null,null,0,null,null,null,null,null,0]
[{"$f":"'Labor Summary (Office)'!A1433","v":0},{"$f":"'Labor Summary (Office)'!B1433","v":0},null,null,null,null,null,null,0,null,null,null,0,null,null,null,null,null,0]
[{"$f":"'Labor Summary (Office)'!A1434","v":0},{"$f":"'Labor Summary (Office)'!B1434","v":0},null,null,null,null,null,null,0,null,null,null,0,null,null,null,null,null,0]
[{"$f":"'Labor Summary (Office)'!A1435","v":0},{"$f":"'Labor Summary (Office)'!B1435","v":0},null,null,null,null,null,null,0,null,null,null,0,null,null,null,null,null,0]
[{"$f":"'Labor Summary (Office)'!A1436","v":0},{"$f":"'Labor Summary (Office)'!B1436","v":0},null,null,null,null,null,null,0,null,null,null,0,null,null,null,null,null,0]
[{"$f":"'Labor Summary (Office)'!A1437","v":0},{"$f":"'Labor Summary (Office)'!B1437","v":0},{"$f":"IF(A1439=0,\"\",A1439)","v":""},null,null,null,null,null,null,null,null,null,null,null,null,null,"Subtotal Line 46",null,{"$f":"ROUND(SUM(S1409:S1438),2)","v":0}]
[{"$f":"'Labor Summary (Office)'!A1438","v":0},{"$f":"'Labor Summary (Office)'!B1438","v":0},null,null,null,null,null,null,0,null,null,null,{"$f":"ROUND(L1440*$M$9,2)","v":0},null,null,null,null,null,{"$f":"ROUND(F1440+I1440+K1440+M1440+N1440+O1440+P1440+Q1440+R1440,2)","v":0}]
[{"$f":"'Labor Summary (Office)'!A1439","v":0},{"$f":"'Labor Summary (Office)'!B1439","v":0},null,null,null,null,null,null,0,null,null,null,{"$f":"ROUND(L1441*$M$9,2)","v":0},null,null,null,null,null,{"$f":"ROUND(F1441+I1441+K1441+M1441+N1441+O1441+P1441+Q1441+R1441,2)","v":0}]
[{"$f":"'Labor Summary (Office)'!A1440","v":0},{"$f":"'Labor Summary (Office)'!B1440","v":0},null,null,null,null,null,null,0,null,null,null,0,null,null,null,null,null,0]
[{"$f":"'Labor Summary (Office)'!A1441","v":0},{"$f":"'Labor Summary (Office)'!B1441","v":0},null,null,null,null,null,null,0,null,null,null,0,null,null,null,null,null,0]
[{"$f":"'Labor Summary (Office)'!A1442","v":0},{"$f":"'Labor Summary (Office)'!B1442","v":0},null,null,null,null,null,null,0,null,null,null,0,null,null,null,null,null,0]
[{"$f":"'Labor Summary (Office)'!A1443","v":0},{"$f":"'Labor Summary (Office)'!B1443","v":0},null,null,null,null,null,null,0,null,null,null,0,null,null,null,null,null,0]
[{"$f":"'Labor Summary (Office)'!A1444","v":0},{"$f":"'Labor Summary (Office)'!B1444","v":0},null,null,null,null,null,null,0,null,null,null,0,null,null,null,null,null,0]
[{"$f":"'Labor Summary (Office)'!A1445","v":0},{"$f":"'Labor Summary (Office)'!B1445","v":0},null,null,null,null,null,null,0,null,null,null,0,null,null,null,null,null,0]
[{"$f":"'Labor Summary (Office)'!A1446","v":0},{"$f":"'Labor Summary (Office)'!B1446","v":0},null,null,null,null,null,null,0,null,null,null,0,null,null,null,null,null,0]
[{"$f":"'Labor Summary (Office)'!A1447","v":0},{"$f":"'Labor Summary (Office)'!B1447","v":0},null,null,null,null,null,null,0,null,null,null,0,null,null,null,null,null,0]
[{"$f":"'Labor Summary (Office)'!A1448","v":0},{"$f":"'Labor Summary (Office)'!B1448","v":0},null,null,null,null,null,null,0,null,null,null,0,null,null,null,null,null,0]
[{"$f":"'Labor Summary (Office)'!A1449","v":0},{"$f":"'Labor Summary (Office)'!B1449","v":0},null,null,null,null,null,null,0,null,null,null,0,null,null,null,null,null,0]
[{"$f":"'Labor Summary (Office)'!A1450","v":0},{"$f":"'Labor Summary (Office)'!B1450","v":0},null,null,null,null,null,null,0,null,null,null,0,null,null,null,null,null,0]
[{"$f":"'Labor Summary (Office)'!A1451","v":0},{"$f":"'Labor Summary (Office)'!B1451","v":0},null,null,null,null,null,null,0,null,null,null,0,null,null,null,null,null,0]
[{"$f":"'Labor Summary (Office)'!A1452","v":0},{"$f":"'Labor Summary (Office)'!B1452","v":0},null,null,null,null,null,null,0,null,null,null,0,null,null,null,null,null,0]
[{"$f":"'Labor Summary (Office)'!A1453","v":0},{"$f":"'Labor Summary (Office)'!B1453","v":0},null,null,null,null,null,null,0,null,null,null,0,null,null,null,null,null,0]
[{"$f":"'Labor Summary (Office)'!A1454","v":0},{"$f":"'Labor Summary (Office)'!B1454","v":0},null,null,null,null,null,null,0,null,null,null,0,null,null,null,null,null,0]
[{"$f":"'Labor Summary (Office)'!A1455","v":0},{"$f":"'Labor Summary (Office)'!B1455","v":0},null,null,null,null,null,null,0,null,null,null,0,null,null,null,null,null,0]
[{"$f":"'Labor Summary (Office)'!A1456","v":0},{"$f":"'Labor Summary (Office)'!B1456","v":0},null,null,null,null,null,null,0,null,null,null,0,null,null,null,null,null,0]
[{"$f":"'Labor Summary (Office)'!A1457","v":0},{"$f":"'Labor Summary (Office)'!B1457","v":0},null,null,null,null,null,null,0,null,null,null,0,null,null,null,null,null,0]
[{"$f":"'Labor Summary (Office)'!A1458","v":0},{"$f":"'Labor Summary (Office)'!B1458","v":0},null,null,null,null,null,null,0,null,null,null,0,null,null,null,null,null,0]
[{"$f":"'Labor Summary (Office)'!A1459","v":0},{"$f":"'Labor Summary (Office)'!B1459","v":0},null,null,null,null,null,null,0,null,null,null,0,null,null,null,null,null,0]
[{"$f":"'Labor Summary (Office)'!A1460","v":0},{"$f":"'Labor Summary (Office)'!B1460","v":0},null,null,null,null,null,null,0,null,null,null,0,null,null,null,null,null,0]
[{"$f":"'Labor Summary (Office)'!A1461","v":0},{"$f":"'Labor Summary (Office)'!B1461","v":0},null,null,null,null,null,null,0,null,null,null,0,null,null,null,null,null,0]
[{"$f":"'Labor Summary (Office)'!A1462","v":0},{"$f":"'Labor Summary (Office)'!B1462","v":0},null,null,null,null,null,null,0,null,null,null,0,null,null,null,null,null,0]
[{"$f":"'Labor Summary (Office)'!A1463","v":0},{"$f":"'Labor Summary (Office)'!B1463","v":0},null,null,null,null,null,null,0,null,null,null,0,null,null,null,null,null,0]
[{"$f":"'Labor Summary (Office)'!A1464","v":0},{"$f":"'Labor Summary (Office)'!B1464","v":0},null,null,null,null,null,null,0,null,null,null,0,null,null,null,null,null,0]
[{"$f":"'Labor Summary (Office)'!A1465","v":0},{"$f":"'Labor Summary (Office)'!B1465","v":0},null,null,null,null,null,null,0,null,null,null,0,null,null,null,null,null,0]
[{"$f":"'Labor Summary (Office)'!A1466","v":0},{"$f":"'Labor Summary (Office)'!B1466","v":0},null,null,null,null,null,null,0,null,null,null,0,null,null,null,null,null,0]
[{"$f":"'Labor Summary (Office)'!A1467","v":0},{"$f":"'Labor Summary (Office)'!B1467","v":0},null,null,null,null,null,null,0,null,null,null,0,null,null,null,null,null,0]
[{"$f":"'Labor Summary (Office)'!A1468","v":0},{"$f":"'Labor Summary (Office)'!B1468","v":0},{"$f":"IF(A1470=0,\"\",A1470)","v":""},null,null,null,null,null,null,null,null,null,null,null,null,null,"Subtotal Line 47",null,{"$f":"ROUND(SUM(S1440:S1469),2)","v":0}]
[{"$f":"'Labor Summary (Office)'!A1469","v":0},{"$f":"'Labor Summary (Office)'!B1469","v":0},null,null,null,null,null,null,0,null,null,null,{"$f":"ROUND(L1471*$M$9,2)","v":0},null,null,null,null,null,{"$f":"ROUND(F1471+I1471+K1471+M1471+N1471+O1471+P1471+Q1471+R1471,2)","v":0}]
[{"$f":"'Labor Summary (Office)'!A1470","v":0},{"$f":"'Labor Summary (Office)'!B1470","v":0},null,null,null,null,null,null,0,null,null,null,{"$f":"ROUND(L1472*$M$9,2)","v":0},null,null,null,null,null,{"$f":"ROUND(F1472+I1472+K1472+M1472+N1472+O1472+P1472+Q1472+R1472,2)","v":0}]
[{"$f":"'Labor Summary (Office)'!A1471","v":0},{"$f":"'Labor Summary (Office)'!B1471","v":0},null,null,null,null,null,null,0,null,null,null,0,null,null,null,null,null,0]
[{"$f":"'Labor Summary (Office)'!A1472","v":0},{"$f":"'Labor Summary (Office)'!B1472","v":0},null,null,null,null,null,null,0,null,null,null,0,null,null,null,null,null,0]
[{"$f":"'Labor Summary (Office)'!A1473","v":0},{"$f":"'Labor Summary (Office)'!B1473","v":0},null,null,null,null,null,null,0,null,null,null,0,null,null,null,null,null,0]
[{"$f":"'Labor Summary (Office)'!A1474","v":0},{"$f":"'Labor Summary (Office)'!B1474","v":0},null,null,null,null,null,null,0,null,null,null,0,null,null,null,null,null,0]
[{"$f":"'Labor Summary (Office)'!A1475","v":0},{"$f":"'Labor Summary (Office)'!B1475","v":0},null,null,null,null,null,null,0,null,null,null,0,null,null,null,null,null,0]
[{"$f":"'Labor Summary (Office)'!A1476","v":0},{"$f":"'Labor Summary (Office)'!B1476","v":0},null,null,null,null,null,null,0,null,null,null,0,null,null,null,null,null,0]
[{"$f":"'Labor Summary (Office)'!A1477","v":0},{"$f":"'Labor Summary (Office)'!B1477","v":0},null,null,null,null,null,null,0,null,null,null,0,null,null,null,null,null,0]
[{"$f":"'Labor Summary (Office)'!A1478","v":0},{"$f":"'Labor Summary (Office)'!B1478","v":0},null,null,null,null,null,null,0,null,null,null,0,null,null,null,null,null,0]
[{"$f":"'Labor Summary (Office)'!A1479","v":0},{"$f":"'Labor Summary (Office)'!B1479","v":0},null,null,null,null,null,null,0,null,null,null,0,null,null,null,null,null,0]
[{"$f":"'Labor Summary (Office)'!A1480","v":0},{"$f":"'Labor Summary (Office)'!B1480","v":0},null,null,null,null,null,null,0,null,null,null,0,null,null,null,null,null,0]
[{"$f":"'Labor Summary (Office)'!A1481","v":0},{"$f":"'Labor Summary (Office)'!B1481","v":0},null,null,null,null,null,null,0,null,null,null,0,null,null,null,null,null,0]
[{"$f":"'Labor Summary (Office)'!A1482","v":0},{"$f":"'Labor Summary (Office)'!B1482","v":0},null,null,null,null,null,null,0,null,null,null,0,null,null,null,null,null,0]
[{"$f":"'Labor Summary (Office)'!A1483","v":0},{"$f":"'Labor Summary (Office)'!B1483","v":0},null,null,null,null,null,null,0,null,null,null,0,null,null,null,null,null,0]
[{"$f":"'Labor Summary (Office)'!A1484","v":0},{"$f":"'Labor Summary (Office)'!B1484","v":0},null,null,null,null,null,null,0,null,null,null,0,null,null,null,null,null,0]
[{"$f":"'Labor Summary (Office)'!A1485","v":0},{"$f":"'Labor Summary (Office)'!B1485","v":0},null,null,null,null,null,null,{"$f":"H1487+G1487","v":0},null,null,null,0,null,null,null,null,null,0]
[{"$f":"'Labor Summary (Office)'!A1486","v":0},{"$f":"'Labor Summary (Office)'!B1486","v":0},null,null,null,null,null,null,0,null,null,null,0,null,null,null,null,null,0]
[{"$f":"'Labor Summary (Office)'!A1487","v":0},{"$f":"'Labor Summary (Office)'!B1487","v":0},null,null,null,null,null,null,0,null,null,null,0,null,null,null,null,null,0]
[{"$f":"'Labor Summary (Office)'!A1488","v":0},{"$f":"'Labor Summary (Office)'!B1488","v":0},null,null,null,null,null,null,0,null,null,null,0,null,null,null,null,null,0]
[{"$f":"'Labor Summary (Office)'!A1489","v":0},{"$f":"'Labor Summary (Office)'!B1489","v":0},null,null,null,null,null,null,0,null,null,null,0,null,null,null,null,null,0]
[{"$f":"'Labor Summary (Office)'!A1490","v":0},{"$f":"'Labor Summary (Office)'!B1490","v":0},null,null,null,null,null,null,0,null,null,null,0,null,null,null,null,null,0]
[{"$f":"'Labor Summary (Office)'!A1491","v":0},{"$f":"'Labor Summary (Office)'!B1491","v":0},null,null,null,null,null,null,0,null,null,null,0,null,null,null,null,null,0]
[{"$f":"'Labor Summary (Office)'!A1492","v":0},{"$f":"'Labor Summary (Office)'!B1492","v":0},null,null,null,null,null,null,0,null,null,null,0,null,null,null,null,null,0]
[{"$f":"'Labor Summary (Office)'!A1493","v":0},{"$f":"'Labor Summary (Office)'!B1493","v":0},null,null,null,null,null,null,0,null,null,null,0,null,null,null,null,null,0]
[{"$f":"'Labor Summary (Office)'!A1494","v":0},{"$f":"'Labor Summary (Office)'!B1494","v":0},null,null,null,null,null,null,0,null,null,null,0,null,null,null,null,null,0]
[{"$f":"'Labor Summary (Office)'!A1495","v":0},{"$f":"'Labor Summary (Office)'!B1495","v":0},null,null,null,null,null,null,0,null,null,null,0,null,null,null,null,null,0]
[{"$f":"'Labor Summary (Office)'!A1496","v":0},{"$f":"'Labor Summary (Office)'!B1496","v":0},null,null,null,null,null,null,0,null,null,null,0,null,null,null,null,null,0]
[{"$f":"'Labor Summary (Office)'!A1497","v":0},{"$f":"'Labor Summary (Office)'!B1497","v":0},null,null,null,null,null,null,0,null,null,null,0,null,null,null,null,null,0]
[{"$f":"'Labor Summary (Office)'!A1498","v":0},{"$f":"'Labor Summary (Office)'!B1498","v":0},null,null,null,null,null,null,0,null,null,null,0,null,null,null,null,null,0]
[{"$f":"'Labor Summary (Office)'!A1499","v":0},{"$f":"'Labor Summary (Office)'!B1499","v":0},{"$f":"IF(A1501=0,\"\",A1501)","v":""},null,null,null,null,null,null,null,null,null,null,null,null,null,"Subtotal Line 48",null,{"$f":"ROUND(SUM(S1471:S1500),2)","v":0}]
[{"$f":"'Labor Summary (Office)'!A1500","v":0},{"$f":"'Labor Summary (Office)'!B1500","v":0},null,null,null,null,null,null,0,null,null,null,{"$f":"ROUND(L1502*$M$9,2)","v":0},null,null,null,null,null,{"$f":"ROUND(F1502+I1502+K1502+M1502+N1502+O1502+P1502+Q1502+R1502,2)","v":0}]
[{"$f":"'Labor Summary (Office)'!A1501","v":0},{"$f":"'Labor Summary (Office)'!B1501","v":0},null,null,null,null,null,null,0,null,null,null,{"$f":"ROUND(L1503*$M$9,2)","v":0},null,null,null,null,null,{"$f":"ROUND(F1503+I1503+K1503+M1503+N1503+O1503+P1503+Q1503+R1503,2)","v":0}]
[{"$f":"'Labor Summary (Office)'!A1502","v":0},{"$f":"'Labor Summary (Office)'!B1502","v":0},null,null,null,null,null,null,0,null,null,null,0,null,null,null,null,null,0]
[{"$f":"'Labor Summary (Office)'!A1503","v":0},{"$f":"'Labor Summary (Office)'!B1503","v":0},null,null,null,null,null,null,0,null,null,null,0,null,null,null,null,null,0]
[{"$f":"'Labor Summary (Office)'!A1504","v":0},{"$f":"'Labor Summary (Office)'!B1504","v":0},null,null,null,null,null,null,0,null,null,null,0,null,null,null,null,null,0]
[{"$f":"'Labor Summary (Office)'!A1505","v":0},{"$f":"'Labor Summary (Office)'!B1505","v":0},null,null,null,null,null,null,0,null,null,null,0,null,null,null,null,null,0]
[{"$f":"'Labor Summary (Office)'!A1506","v":0},{"$f":"'Labor Summary (Office)'!B1506","v":0},null,null,null,null,null,null,0,null,null,null,0,null,null,null,null,null,0]
[{"$f":"'Labor Summary (Office)'!A1507","v":0},{"$f":"'Labor Summary (Office)'!B1507","v":0},null,null,null,null,null,null,0,null,null,null,0,null,null,null,null,null,0]
[{"$f":"'Labor Summary (Office)'!A1508","v":0},{"$f":"'Labor Summary (Office)'!B1508","v":0},null,null,null,null,null,null,0,null,null,null,0,null,null,null,null,null,0]
[{"$f":"'Labor Summary (Office)'!A1509","v":0},{"$f":"'Labor Summary (Office)'!B1509","v":0},null,null,null,null,null,null,0,null,null,null,0,null,null,null,null,null,0]
[{"$f":"'Labor Summary (Office)'!A1510","v":0},{"$f":"'Labor Summary (Office)'!B1510","v":0},null,null,null,null,null,null,0,null,null,null,0,null,null,null,null,null,0]
[{"$f":"'Labor Summary (Office)'!A1511","v":0},{"$f":"'Labor Summary (Office)'!B1511","v":0},null,null,null,null,null,null,0,null,null,null,0,null,null,null,null,null,0]
[{"$f":"'Labor Summary (Office)'!A1512","v":0},{"$f":"'Labor Summary (Office)'!B1512","v":0},null,null,null,null,null,null,0,null,null,null,0,null,null,null,null,null,0]
[{"$f":"'Labor Summary (Office)'!A1513","v":0},{"$f":"'Labor Summary (Office)'!B1513","v":0},null,null,null,null,null,null,0,null,null,null,0,null,null,null,null,null,0]
[{"$f":"'Labor Summary (Office)'!A1514","v":0},{"$f":"'Labor Summary (Office)'!B1514","v":0},null,null,null,null,null,null,0,null,null,null,0,null,null,null,null,null,0]
[{"$f":"'Labor Summary (Office)'!A1515","v":0},{"$f":"'Labor Summary (Office)'!B1515","v":0},null,null,null,null,null,null,0,null,null,null,0,null,null,null,null,null,0]
[{"$f":"'Labor Summary (Office)'!A1516","v":0},{"$f":"'Labor Summary (Office)'!B1516","v":0},null,null,null,null,null,null,0,null,null,null,0,null,null,null,null,null,0]
[{"$f":"'Labor Summary (Office)'!A1517","v":0},{"$f":"'Labor Summary (Office)'!B1517","v":0},null,null,null,null,null,null,0,null,null,null,0,null,null,null,null,null,0]
[{"$f":"'Labor Summary (Office)'!A1518","v":0},{"$f":"'Labor Summary (Office)'!B1518","v":0},null,null,null,null,null,null,0,null,null,null,0,null,null,null,null,null,0]
[{"$f":"'Labor Summary (Office)'!A1519","v":0},{"$f":"'Labor Summary (Office)'!B1519","v":0},null,null,null,null,null,null,0,null,null,null,0,null,null,null,null,null,0]
[{"$f":"'Labor Summary (Office)'!A1520","v":0},{"$f":"'Labor Summary (Office)'!B1520","v":0},null,null,null,null,null,null,0,null,null,null,0,null,null,null,null,null,0]
[{"$f":"'Labor Summary (Office)'!A1521","v":0},{"$f":"'Labor Summary (Office)'!B1521","v":0},null,null,null,null,null,null,0,null,null,null,0,null,null,null,null,null,0]
[{"$f":"'Labor Summary (Office)'!A1522","v":0},{"$f":"'Labor Summary (Office)'!B1522","v":0},null,null,null,null,null,null,0,null,null,null,0,null,null,null,null,null,0]
[{"$f":"'Labor Summary (Office)'!A1523","v":0},{"$f":"'Labor Summary (Office)'!B1523","v":0},null,null,null,null,null,null,0,null,null,null,0,null,null,null,null,null,0]
[{"$f":"'Labor Summary (Office)'!A1524","v":0},{"$f":"'Labor Summary (Office)'!B1524","v":0},null,null,null,null,null,null,0,null,null,null,0,null,null,null,null,null,0]
[{"$f":"'Labor Summary (Office)'!A1525","v":0},{"$f":"'Labor Summary (Office)'!B1525","v":0},null,null,null,null,null,null,0,null,null,null,0,null,null,null,null,null,0]
[{"$f":"'Labor Summary (Office)'!A1526","v":0},{"$f":"'Labor Summary (Office)'!B1526","v":0},null,null,null,null,null,null,0,null,null,null,0,null,null,null,null,null,0]
[{"$f":"'Labor Summary (Office)'!A1527","v":0},{"$f":"'Labor Summary (Office)'!B1527","v":0},null,null,null,null,null,null,0,null,null,null,0,null,null,null,null,null,0]
[{"$f":"'Labor Summary (Office)'!A1528","v":0},{"$f":"'Labor Summary (Office)'!B1528","v":0},null,null,null,null,null,null,0,null,null,null,0,null,null,null,null,null,0]
[{"$f":"'Labor Summary (Office)'!A1529","v":0},{"$f":"'Labor Summary (Office)'!B1529","v":0},null,null,null,null,null,null,0,null,null,null,0,null,null,null,null,null,0]
[{"$f":"'Labor Summary (Office)'!A1530","v":0},{"$f":"'Labor Summary (Office)'!B1530","v":0},{"$f":"IF(A1532=0,\"\",A1532)","v":""},null,null,null,null,null,null,null,null,null,null,null,null,null,"Subtotal Line 49",null,{"$f":"ROUND(SUM(S1502:S1531),2)","v":0}]
[{"$f":"'Labor Summary (Office)'!A1531","v":0},{"$f":"'Labor Summary (Office)'!B1531","v":0},null,null,null,null,null,null,0,null,null,null,{"$f":"ROUND(L1533*$M$9,2)","v":0},null,null,null,null,null,{"$f":"ROUND(F1533+I1533+K1533+M1533+N1533+O1533+P1533+Q1533+R1533,2)","v":0}]
[{"$f":"'Labor Summary (Office)'!A1532","v":0},{"$f":"'Labor Summary (Office)'!B1532","v":0},null,null,null,null,null,null,0,null,null,null,{"$f":"ROUND(L1534*$M$9,2)","v":0},null,null,null,null,null,{"$f":"ROUND(F1534+I1534+K1534+M1534+N1534+O1534+P1534+Q1534+R1534,2)","v":0}]
[{"$f":"'Labor Summary (Office)'!A1533","v":0},{"$f":"'Labor Summary (Office)'!B1533","v":0},null,null,null,null,null,null,0,null,null,null,0,null,null,null,null,null,0]
[{"$f":"'Labor Summary (Office)'!A1534","v":0},{"$f":"'Labor Summary (Office)'!B1534","v":0},null,null,null,null,null,null,0,null,null,null,0,null,null,null,null,null,0]
[{"$f":"'Labor Summary (Office)'!A1535","v":0},{"$f":"'Labor Summary (Office)'!B1535","v":0},null,null,null,null,null,null,0,null,null,null,0,null,null,null,null,null,0]
[{"$f":"'Labor Summary (Office)'!A1536","v":0},{"$f":"'Labor Summary (Office)'!B1536","v":0},null,null,null,null,null,null,0,null,null,null,0,null,null,null,null,null,0]
[{"$f":"'Labor Summary (Office)'!A1537","v":0},{"$f":"'Labor Summary (Office)'!B1537","v":0},null,null,null,null,null,null,0,null,null,null,0,null,null,null,null,null,0]
[{"$f":"'Labor Summary (Office)'!A1538","v":0},{"$f":"'Labor Summary (Office)'!B1538","v":0},null,null,null,null,null,null,0,null,null,null,0,null,null,null,null,null,0]
[{"$f":"'Labor Summary (Office)'!A1539","v":0},{"$f":"'Labor Summary (Office)'!B1539","v":0},null,null,null,null,null,null,0,null,null,null,0,null,null,null,null,null,0]
[{"$f":"'Labor Summary (Office)'!A1540","v":0},{"$f":"'Labor Summary (Office)'!B1540","v":0},null,null,null,null,null,null,0,null,null,null,0,null,null,null,null,null,0]
[{"$f":"'Labor Summary (Office)'!A1541","v":0},{"$f":"'Labor Summary (Office)'!B1541","v":0},null,null,null,null,null,null,0,null,null,null,0,null,null,null,null,null,0]
[{"$f":"'Labor Summary (Office)'!A1542","v":0},{"$f":"'Labor Summary (Office)'!B1542","v":0},null,null,null,null,null,null,0,null,null,null,0,null,null,null,null,null,0]
[{"$f":"'Labor Summary (Office)'!A1543","v":0},{"$f":"'Labor Summary (Office)'!B1543","v":0},null,null,null,null,null,null,0,null,null,null,0,null,null,null,null,null,0]
[{"$f":"'Labor Summary (Office)'!A1544","v":0},{"$f":"'Labor Summary (Office)'!B1544","v":0},null,null,null,null,null,null,0,null,null,null,0,null,null,null,null,null,0]
[{"$f":"'Labor Summary (Office)'!A1545","v":0},{"$f":"'Labor Summary (Office)'!B1545","v":0},null,null,null,null,null,null,0,null,null,null,0,null,null,null,null,null,0]
[{"$f":"'Labor Summary (Office)'!A1546","v":0},{"$f":"'Labor Summary (Office)'!B1546","v":0},null,null,null,null,null,null,0,null,null,null,0,null,null,null,null,null,0]
[{"$f":"'Labor Summary (Office)'!A1547","v":0},{"$f":"'Labor Summary (Office)'!B1547","v":0},null,null,null,null,null,null,0,null,null,null,0,null,null,null,null,null,0]
[{"$f":"'Labor Summary (Office)'!A1548","v":0},{"$f":"'Labor Summary (Office)'!B1548","v":0},null,null,null,null,null,null,0,null,null,null,0,null,null,null,null,null,0]
[{"$f":"'Labor Summary (Office)'!A1549","v":0},{"$f":"'Labor Summary (Office)'!B1549","v":0},null,null,null,null,null,null,{"$f":"H1551+G1551","v":0},null,null,null,0,null,null,null,null,null,0]
[{"$f":"'Labor Summary (Office)'!A1550","v":0},{"$f":"'Labor Summary (Office)'!B1550","v":0},null,null,null,null,null,null,0,null,null,null,0,null,null,null,null,null,0]
[{"$f":"'Labor Summary (Office)'!A1551","v":0},{"$f":"'Labor Summary (Office)'!B1551","v":0},null,null,null,null,null,null,0,null,null,null,0,null,null,null,null,null,0]
[{"$f":"'Labor Summary (Office)'!A1552","v":0},{"$f":"'Labor Summary (Office)'!B1552","v":0},null,null,null,null,null,null,0,null,null,null,0,null,null,null,null,null,0]
[{"$f":"'Labor Summary (Office)'!A1553","v":0},{"$f":"'Labor Summary (Office)'!B1553","v":0},null,null,null,null,null,null,0,null,null,null,0,null,null,null,null,null,0]
[{"$f":"'Labor Summary (Office)'!A1554","v":0},{"$f":"'Labor Summary (Office)'!B1554","v":0},null,null,null,null,null,null,0,null,null,null,0,null,null,null,null,null,0]
[{"$f":"'Labor Summary (Office)'!A1555","v":0},{"$f":"'Labor Summary (Office)'!B1555","v":0},null,null,null,null,null,null,0,null,null,null,0,null,null,null,null,null,0]
[{"$f":"'Labor Summary (Office)'!A1556","v":0},{"$f":"'Labor Summary (Office)'!B1556","v":0},null,null,null,null,null,null,0,null,null,null,0,null,null,null,null,null,0]
[{"$f":"'Labor Summary (Office)'!A1557","v":0},{"$f":"'Labor Summary (Office)'!B1557","v":0},null,null,null,null,null,null,0,null,null,null,0,null,null,null,null,null,0]
[{"$f":"'Labor Summary (Office)'!A1558","v":0},{"$f":"'Labor Summary (Office)'!B1558","v":0},null,null,null,null,null,null,0,null,null,null,0,null,null,null,null,null,0]
[{"$f":"'Labor Summary (Office)'!A1559","v":0},{"$f":"'Labor Summary (Office)'!B1559","v":0},null,null,null,null,null,null,0,null,null,null,0,null,null,null,null,null,0]
[{"$f":"'Labor Summary (Office)'!A1560","v":0},{"$f":"'Labor Summary (Office)'!B1560","v":0},null,null,null,null,null,null,0,null,null,null,0,null,null,null,null,null,0]
[{"$f":"'Labor Summary (Office)'!A1561","v":0},{"$f":"'Labor Summary (Office)'!B1561","v":0},{"$f":"IF(A1563=0,\"\",A1563)","v":""},{"$f":"IF(A1563=0,\"\",A1563)","v":""},null,null,null,null,null,null,null,null,null,null,null,null,"Subtotal Line 50",null,{"$f":"ROUND(SUM(S1533:S1562),2)","v":0}]
[null,null,"Total",null,null,null,null,null,null,null,null,null,null,null,null,null,"TE Summary Total",null,{"$f":"ROUND(SUM(S1532+S1563+S1501+S1470+S1439+S1408+S1377+S1346+S1315+S1284+S1253+S1222+S1191+S1160+S1129+S1098+S1067+S1036+S1005+S974+S943+S912+S881+S850+S819+S788+S757+S726+S695+S664+S633+S602+S571+S540+S509+S478+S447+S416+S385+S354+S323+S292+S261+S230+S199+S168+S137+S106+S75+S44),2)","v":0}]
[null,null,null,"tout"]
[null,null,null,"tout"]
[null,null,null,"tout"]
[null,null,null,"tout"]
[]
[]
[]
[]
[]
[]
[]
[]
[]
[]
[]
[]
[]
[]
[]
[]
[]
[]
[]
[]
[]
[]
[]
[]
[]
[]
[]
[]
[]
[]
[]
[]
[]
[]
[]
[]
[]
[]
[]
[]
[]
[]
[]
[]
[]
[]
[]
[]
[]
[]
[]
[]
[]
[]
[]
[]
[]
[]
[]
[]
[]
[]
[]
[]
[]
[]
[]
[]
[]
[]
[]
[]
[]
[]
[]
[]
[]
[]
[]
[]
[]
[]
[]
[]
[]
[]
[]
[]
[]
[]
[]
[]
[]
[]
[]
[]
[]
[]
[]
[]
[]
[]
[]
[]
[]
[]
[]
[]
[]
[]
[]
[]
[]
[]
[]
[]
[]
[]
[]
[]
[]
[]
[]
[]
[]
[]
[]
[]
[]
[]
[]
[]
[]
[]
[]
[]
[]
[]
[]
[]
[]
[]
[]
[]
[]
[]
[]
[]
[]
[]
[]
[]
[]
[]
[]
[]
[]
[]
[]
[]
[]
[]
[]
[]
[]
[]
[]
[]
[]
[]
[]
[]
[]
[]
[]
[]
[]
[]
[]
[]
[]
[]
[]
[]
[{"$f":"'WA Financial Status Summary'!D23","v":0}]